{"text_format":"1","workbook":"xlsx","n_sheets":12,"sheets":["Instructions","Process PMs","Outcome PMs","Report","Attendance","Parent Survey","Youth Survey","Parent Fidelity","Youth Fidelity","Family Fidelity","Facilitator Ratings","LISTS"],"not_rendered":{"charts":0,"images":0,"macros":1,"external_links":0,"defined_names":29,"comments":3,"pivot_tables":0},"unopened":[],"bounds":{"document_bytes":16777216,"sheet_cells":100000,"rows_first":2000,"rows_last":500,"rows_between":2000,"halvings":0,"cell_chars":16384,"cell_head_chars":4096},"cells_cut":0,"cells_raw":0,"read":"whole","date_system":"1900"}

{"sheet":"Instructions","index":0,"n_rows":107,"n_cols":1,"rows_kept":107,"cut":false,"hidden":false,"merged":[[50,0,50,16383],[47,0,47,1],[48,0,48,1],[106,0,106,1],[52,0,52,1],[43,0,43,1],[44,0,44,1],[45,0,45,1],[33,0,33,1],[34,0,34,1],[36,0,36,1],[39,0,39,1],[40,0,40,1],[38,0,38,1],[46,0,46,1],[49,0,49,1],[32,0,32,1],[16,0,16,1],[18,0,18,1],[20,0,20,1],[22,0,22,1],[24,0,24,1],[25,0,25,1],[26,0,26,1],[27,0,27,1],[28,0,28,1],[30,0,30,1],[31,0,31,1],[41,0,41,1],[42,0,42,1],[14,0,14,1],[0,0,0,1],[1,0,1,1],[2,0,2,1],[3,0,3,1],[4,0,4,1],[5,0,5,1],[6,0,6,1],[7,0,7,1],[8,0,8,1],[10,0,10,1],[12,0,12,1]]}
["Instructions for Completing Performance Measures for Familias Fuertes"]
["Ver. 1.1 (1-6-2016)"]
["These spreadsheets are designed to help you complete your performance measures for Familias Fuertes. To orient you to this workbook below is a list of the spreadsheets included here and instructions on how to use them."]
[]
["This workbook contains the following spreadsheets (tabs):"]
[]
["1.    Process Performance Measures (PMs): Cells where you will enter data are highlighted in yellow.  Please enter the grant start date in cell F4.  This information will be used to fill in the appropriate quarters in row 6.  Then complete the other program information rows 2-5. This tab contains four yellow cells B26-29 for including your comments by each quarter of reporting. Include challenges in data entry or analysis, or issues that impact data analysis."]
[]
["2.    Outcome PMs: The PMs in this tab are calculated for you using the data you enter in the other tabs (see below). You do not need to enter any information in this tab. The spreadsheet will automatically calculate the percent of participants who improved on each PM, by quarter, and cumulatively."]
[]
["3.    Report: This tab contains an additional summary report of information on a per delivery basis rather than quarterly as in the Process and Outcomes PM tabs.  Before printing, you may add a custom title in cell C3 if you like."]
[]
["4.    Attendance: There is a section for each program delivery. Throughout program delivery, you should use this tab to track your attendance. Please enter delivery start date, end date, location and number of families registered at the top of each delivery section. When all seven sessions of program delivery are completed, choose the appropriate quarter completed, based on the date of the last session, from the drop-down menu in the yellow cell at the top, this will populate the data from this delivery to the appropriate quarter in the process and outcomes tabs. You may enter initials or participant code for each participant (caregivers and youth) these intials will populate to other data tabs to aid data entry."]
[]
["5.    Parent-Caregiver Survey: There is a section for each program delivery. Please enter data from the Parent-Caregiver Survey for all parents that completed the program in the appropriate delivery section. You will notice that the initials or participant codes you entered in the attendance tab are listed across the top. Please match the data accordingly so that the participant codes match the data you are entering. Each column represents data from one parent. Pre-test at the top rows 7-37 and post-test towards the bottom rows 39-73."]
[]
["6.    Youth Survey: There is a section for each program delivery. Please enter data from the Youth Survey for all youth that completed the program in the appropriate delivery section. You will notice that the initials or participant codes you entered in the attendance tab are listed across the top. Please match the data accordingly so that the participant codes match the data you are entering. Each column represents data from one youth. Pre-test at the top rows 7-38 and post-test towards the bottom rows 40-75."]
[]
["7.    Parent Fidelity: There is a section for each program delivery. Please enter data from the Parent Fidelity Observation Forms in the appropriate delivery section. Please choose the Parent Session observed from the drop-down menu, then enter the summary fidelity data in the cells highlighted in yellow."]
[]
["8.    Youth Fidelity: There is a section for each program delivery. Please enter data from the Youth Fidelity Observation Forms in the appropriate delivery section. Please choose the Youth Session observed from the drop-down menu, then enter the summary fidelity data in the cells highlighted in yellow."]
[]
["9.    Family Fidelity: There is a section for each program delivery. Please enter data from the Family Fidelity Observation Forms in the appropriate delivery section. Please choose the Family Session observed from the drop-down menu, then enter the summary fidelity data in the cells highlighted in yellow."]
[]
["10.   Facilitator Ratings: There is a section for each delivery. Please enter the facilitator's names in the cells highlighted in yellow. Cells will populate with ratings entered on the youth and parent survey tabs.  The tool calculates: the average rating of a facilitation team by each participant, the average rating of each facilitator by all youth or parent participants, and a count of the number of youth or parent participants rating each facilitator a 4.0 or higher."]
[]
["Some general characteristics of the spreadsheets tabs include:"]
[]
["1.    The spreadsheet is locked, so you will only be able to enter information into the appropriate cells.  Most data is entered in cells highlighted in yellow, with the exception of Pre and Post Survey sections, these are shaded alternating white and grey but are unlocked for data entry."]
[]
["2.    Certain cells will only accept certain values. If you enter a value out of the accepted range, you will receive an error message that tells you the range of values that can be entered. Also, if you click on one of these cells, an explanation of the accepted response options will appear in a tan box."]
[]
["3.    When information is entered into the tabs that follow the Outcomes PM tab, the PMs are automatically calculated for you in the Outcomes PM tab.  THE OUTCOMES PM TAB IS A SUMMARY OF THE IMPACT SEEN ON THE PARTICIPANT SURVEYS.  IT IS THIS DATA THAT CAN BE USED TO REPORT TO YOUR COLLABORATIVE BOARD AND STAKEHOLDERS."]
[]
["4.    Throughout the tool some cells may turn pink in the process of data entry.  To make sure that the information entered is consistent, we have placed rules on some cells. When a rule is broken the cell turns pink.  Cells may turn pink as you are entering information, this is not a problem.  If they remain pink after you have entered all of the information for the quarters reporting and you believe your data to be complete and accurate, please contact your technical assistance representative for guidance."]
[]
["5. You will notice \"Navigate\" buttons placed throughout the tool. Clicking on this button brings up a list of all tabs in the data tool. Click on the location you would like to go to, then click the blue \"Jump to it\" button. This will take you to the tab you selected."]
[]
["6. Use Clear Contents to delete errors in data entry.  Do not use delete, cut, copy, paste, or auto fill features.  Using these features may delete or change important formatting in cells."]
["To report on your performance measures to PCCD, you will submit parts of this Excel spreadsheet as an attachment in E-grants.  Before submitting your Performance Measures in Egrants, you will need to  complete the following steps:"]
[]
["1.    After you have entered all of the information for current quarters reporting please review all tabs for completeness and accuracy. If you encounter pink cells indicating a possible data entry problem and you believe your data to be complete and accurate, please contact your technical assistance representative for guidance."]
[]
["2. Once you have verified that your data are accurate and complete, click on the green button below. This button will run a macro (i.e., an automated series of steps) that saves your current work and creates a new file with appropriate naming convention to be uploaded to Egrants."]
[]
["3. Once the macro is finished running, a message box will appear that shows where Excel has saved a copy of this new file. The new file will save as EBP-Grant Year-Grant#-County_Date, for example: EBP-FF-12345-Centre_03-20-2012. Your original file will be unchanged and closed, and the new file will be open in Excel. You may choose to use the \"Save As\" feature of Excel to save the new file into a different location, such as your \"For Egrants\" folder. "]
["4. Upload this new file to Egrants each quarter."]
[]
[]
["Please Share Any Feedback or Questions\nThe development of the TF-CBT data collection and analysis process would not be possible without support and feedback from providers.  Please click on the link below to provide your suggestions for improving any aspect of the TF-CBT data collection process.  Please also use this link to tell us about any errors, bugs, or inconveniences you discover while using this tool!"]
["Click Here to Report Issues or Provide Suggestions."]
[]
["If you have any questions, please contact your EPISCenter TA Provider at 814-863-2568"]
[]
[]
[]
[]
[]
[]
[]
[]
[]
[]
[]
[]
[]
[]
[]
[]
[]
[]
[]
[]
[]
[]
[]
[]
[]
[]
[]
[]
[]
[]
[]
[]
[]
[]
[]
[]
[]
[]
[]
[]
[]
[]
[]
[]
[]
[]
[]
[]
[]
[]
[]
[]
[]
["Adapted from the SFP 10-14 Data Tool version 3."]

{"sheet":"Process PMs","index":1,"n_rows":30,"n_cols":16,"rows_kept":30,"cut":false,"hidden":false,"merged":[[0,1,0,6],[27,1,27,6],[28,1,28,6],[1,1,1,3],[2,1,2,3],[3,1,3,3],[4,1,4,3],[24,0,24,5],[25,1,25,6],[26,1,26,6]]}
[null,"Familias Fuertes -  Process Performance Measures"]
["Agency:","Insert Agency Name Here",null,null,"Grant Number:","Insert Grant Number"]
["Contact :","Insert Contact Name Here",null,null,"County:","Insert Grant County"]
["Email:","Email of grant Contact",null,null,"Grant Start Date:","1999-09-09"]
["Phone:","Phone Number of Grant Contact",null,null,"Year of Grant:","Insert Grant Year"]
[{"$f":"IF(MONTH(F4)=10,\"Quarter 1\",IF(MONTH(F4)=7,\"Quarter 2\",IF(MONTH(F4)=4,\"Quarter 3\",IF(MONTH(F4)=1,\"Quarter 4\",\"Quarter\"))))","v":"Quarter"},{"$f":"IF(MONTH(F4)=10,\"Quarter 2\",IF(MONTH(F4)=7,\"Quarter 3\",IF(MONTH(F4)=4,\"Quarter 4\",IF(MONTH(F4)=1,\"Quarter 1\",\"Quarter\"))))","v":"Quarter"},{"$f":"IF(MONTH(F4)=10,\"Quarter 3\",IF(MONTH(F4)=7,\"Quarter 4\",IF(MONTH(F4)=4,\"Quarter 1\",IF(MONTH(F4)=1,\"Quarter 2\",\"Quarter\"))))","v":"Quarter"},{"$f":"IF(MONTH(F4)=10,\"Quarter 4\",IF(MONTH(F4)=7,\"Quarter 1\",IF(MONTH(F4)=4,\"Quarter 2\",IF(MONTH(F4)=1,\"Quarter 3\",\"Quarter\"))))","v":"Quarter"}]
["Oct-Dec","Jan-Mar","Apr-Jun","Jul-Sep","Cumulative","Performance Measure","PM #"]
[null,null,null,null,{"$f":"SUM(A8:D8)","v":0},"(1) Number of 7-week FF Programs Completed: Number of 7-week FF programs completed during this reporting period.","P1"]
[null,null,null,null,0,"(2) Number of New Facilitators Formally Trained & Certified: Total number of new facilitators trained and certified to deliver the FF Program during this reporting period.","P2"]
[null,null,null,null,{"$f":"SUM(A10:D10)","v":0},"(14) Number of New Agency Trainers: Number of newly certified facilitators completing the Training of Facilitators (TOF) and approved by Iowa State as an Agency Trainer. \nPlease enter their contact information in row 29 below.","P14",null,null,null,null,null,null,null,null,"January"]
[null,null,null,null,{"$f":"SUM(A11:D11)","v":0},"(3) Number of Reports to the Collaborative Board: Number of data/outcome reports presented to the collaborative board that supported the project and/or number of written or oral presentations made during this reporting period to the collaborative board that supported the project.","P3",null,null,null,null,null,null,null,null,"April"]
["This sheet is automatically fed by survey data entered on the other tabs.  Summary data is calculated for the site.",null,null,null,null,null,null,null,null,null,null,null,null,null,null,"July"]
[{"$f":"Attendance!$C$262","v":0},{"$f":"Attendance!$C$263","v":0},{"$f":"Attendance!$C$264","v":0},{"$f":"Attendance!$C$265","v":0},{"$f":"SUM(A13:D13)","v":0},"(4) Number of Adults that Participated in the FF Program: Number of adults enrolled in the FF program that attended at least one session.","P4",null,null,null,null,null,null,{"$f":"Attendance!H262","v":0},null,"October"]
[{"$f":"Attendance!$E$262","v":0},{"$f":"Attendance!$E$263","v":0},{"$f":"Attendance!$E$264","v":0},{"$f":"Attendance!$E$265","v":0},{"$f":"SUM(A14:D14)","v":0},"(5) Number of Adults that Completed the FF Program: Number of adults that attended at least 5 of the 7 weekly sessions of the FF program.","P5",null,null,null,null,null,null,{"$f":"Attendance!H263","v":0}]
[{"$f":"Attendance!$D$262","v":0},{"$f":"Attendance!$D$263","v":0},{"$f":"Attendance!$D$264","v":0},{"$f":"Attendance!$D$265","v":0},{"$f":"SUM(A15:D15)","v":0},"(6) Number of Youth that Participated in the FF Program: Number of youth enrolled in the FF program that attended at least one session.","P6",null,null,null,null,null,null,{"$f":"Attendance!H264","v":0}]
[{"$f":"Attendance!$F$262","v":0},{"$f":"Attendance!$F$263","v":0},{"$f":"Attendance!$F$264","v":0},{"$f":"Attendance!$F$265","v":0},{"$f":"SUM(A16:D16)","v":0},"(7) Number of Youth that Completed the FF Program: Number of youth that attended at least 5 of the 7 weekly sessions of the FF program.","P7",null,null,null,null,null,null,{"$f":"Attendance!H265","v":0}]
[{"$f":"Attendance!$G$262","v":0},{"$f":"Attendance!$G$263","v":0},{"$f":"Attendance!$G$264","v":0},{"$f":"Attendance!$G$265","v":0},0,"(8) Number of Families that Participated in the FF Program: Number of families enrolled in the FF program that attended at least one session.","P8"]
[{"$f":"Attendance!$H$262","v":0},{"$f":"Attendance!$H$263","v":0},{"$f":"Attendance!$H$264","v":0},{"$f":"Attendance!$H$265","v":0},0,"(15) Number of Families that Completed the FF Program: Number of families where at least one adult and one youth both attended 5 or more sessions.","P15"]
[{"$f":"COUNTIF('Parent Survey'!$D$103:$LF$103,\"=1\")","v":0},{"$f":"COUNTIF('Parent Survey'!$D$103:$LF$103,\"=2\")","v":0},{"$f":"COUNTIF('Parent Survey'!$D$103:$LF$103,\"=3\")","v":0},{"$f":"COUNTIF('Parent Survey'!$D$103:$LF$103,\"=4\")","v":0},0,"(9) Number of FF Program Adults with Completed and Analyzed Pre and Post Surveys","P9"]
[{"$f":"COUNTIF('Youth Survey'!$D$108:$LF$108,\"=1\")","v":0},{"$f":"COUNTIF('Youth Survey'!$D$108:$LF$108,\"=2\")","v":0},{"$f":"COUNTIF('Youth Survey'!$D$108:$LF$108,\"=3\")","v":0},{"$f":"COUNTIF('Youth Survey'!$D$108:$LF$108,\"=4\")","v":0},{"$f":"SUM(A20:D20)","v":0},"(10) Number of FF Program Youth with Completed and Analyzed Pre and Post Surveys","P10"]
[{"$f":"COUNTIF('Parent Survey'!$D147:$LF147,\"=1\")","v":0},{"$f":"COUNTIF('Parent Survey'!$D147:$LF147,\"=2\")","v":0},{"$f":"COUNTIF('Parent Survey'!$D147:$LF147,\"=3\")","v":0},{"$f":"COUNTIF('Parent Survey'!$D147:$LF147,\"=4\")","v":0},{"$f":"SUM(A21:D21)","v":0},"(11) Number of FF Program Family Units with Completed and Analyzed Pre and Post Surveys","P11"]
[{"$f":"SUM('Parent Fidelity'!B$60,'Youth Fidelity'!B$60,'Family Fidelity'!B$60)","v":0},{"$f":"SUM('Parent Fidelity'!B$61,'Youth Fidelity'!B$61,'Family Fidelity'!B$61)","v":0},{"$f":"SUM('Parent Fidelity'!B$62,'Youth Fidelity'!B$62,'Family Fidelity'!B$62)","v":0},{"$f":"SUM('Parent Fidelity'!B$63,'Youth Fidelity'!B$63,'Family Fidelity'!B$63)","v":0},{"$f":"SUM(A22:D22)","v":0},"(12) Number of FF Program Session Components Observed by an observer trained in the FF program.\n**THIS IS ONLY REFELCTIVE OF OBSERVATIONS FOR SESSIONS 2-6**","P12"]
[{"$f":"SUM('Parent Fidelity'!D$60,'Youth Fidelity'!D$60,'Family Fidelity'!D$60)","v":0},{"$f":"SUM('Parent Fidelity'!D$61,'Youth Fidelity'!D$61,'Family Fidelity'!D$61)","v":0},{"$f":"SUM('Parent Fidelity'!D$62,'Youth Fidelity'!D$62,'Family Fidelity'!D$62)","v":0},{"$f":"SUM('Parent Fidelity'!D$63,'Youth Fidelity'!D$63,'Family Fidelity'!D$63)","v":0},0,"(13) Number of Observed FF Session Components that Met Minimum Fidelity rating of 75%.\n**THIS IS ONLY REFELCTIVE OF OBSERVATIONS FOR SESSIONS 2-6**","P13"]
[]
["Please enter comments on any challenges you had in collecting or entering data.  \nPlease explain any factors that may impact data analysis."]
["Oct-Dec"]
["Jan-Mar"]
["Apr-Jun"]
["Jul-Sep"]
[{"$f":"Instructions!A2","v":"Ver. 1.1 (1-6-2016)"}]

{"sheet":"Outcome PMs","index":2,"n_rows":24,"n_cols":12,"rows_kept":24,"cut":false,"hidden":false,"merged":[[0,8,1,8],[23,0,23,1],[0,0,0,6],[1,0,1,6],[2,0,2,1],[2,2,2,3],[2,4,2,5],[2,6,2,7]]}
["Agency ",null,null,null,null,null,null,null,"Familias Fuertes","Contact:",{"$f":"'Process PMs'!$B$3","v":"Insert Contact Name Here"}]
[{"$f":"'Process PMs'!$B$2","v":"Insert Agency Name Here"},null,null,null,null,null,null,null,null,"Email:",{"$f":"'Process PMs'!$B$4","v":"Email of grant Contact"}]
[{"$f":"'Process PMs'!A6","v":"Quarter"},null,{"$f":"'Process PMs'!B6","v":"Quarter"},null,{"$f":"'Process PMs'!C6","v":"Quarter"},null,{"$f":"'Process PMs'!D6","v":"Quarter"}]
["Oct-Dec"," %","Jan-Mar","%","Apr-Jun","%","Jul-Sep","%","Cumulative","Percentage","Performance Measure","PM #"]
["This sheet is automatically fed by survey data entered on the other tabs.  Summary data is calculated for the site."]
[{"$f":"COUNTIF('Parent Survey'!$D105:$LF105,\"=1\")","v":0},{"$f":"IF('Process PMs'!A19>0,A6/'Process PMs'!A19,0)","v":0},{"$f":"COUNTIF('Parent Survey'!$D105:$LF105,\"=2\")","v":0},{"$f":"IF('Process PMs'!B19>0,C6/'Process PMs'!B19,0)","v":0},{"$f":"COUNTIF('Parent Survey'!$D105:$LF105,\"=3\")","v":0},{"$f":"IF('Process PMs'!C19>0,E6/'Process PMs'!C19,0)","v":0},{"$f":"COUNTIF('Parent Survey'!$D105:$LF105,\"=4\")","v":0},{"$f":"IF('Process PMs'!D19>0,G6/'Process PMs'!D19,0)","v":0},{"$f":"SUM(A6,C6,E6,G6)","v":0},{"$f":"IF('Process PMs'!$E$19>0,I6/'Process PMs'!$E$19,0)","v":0},"(1) Number of Parents/Caregivers with Increased Substance Use Rules & Expectations For Their Youth","O1"]
[{"$f":"COUNTIF('Parent Survey'!$D106:$LF106,\"=1\")","v":0},{"$f":"IF('Process PMs'!A19>0,A7/'Process PMs'!A19,0)","v":0},{"$f":"COUNTIF('Parent Survey'!$D106:$LF106,\"=2\")","v":0},{"$f":"IF('Process PMs'!B19>0,C7/'Process PMs'!B19,0)","v":0},{"$f":"COUNTIF('Parent Survey'!$D106:$LF106,\"=3\")","v":0},{"$f":"IF('Process PMs'!C19>0,E7/'Process PMs'!C19,0)","v":0},{"$f":"COUNTIF('Parent Survey'!$D106:$LF106,\"=4\")","v":0},{"$f":"IF('Process PMs'!D19>0,G7/'Process PMs'!D19,0)","v":0},0,{"$f":"IF('Process PMs'!$E$19>0,I7/'Process PMs'!$E$19,0)","v":0},"(2) Number of Parents/Caregivers with Increased Parental Monitoring","O2"]
[{"$f":"COUNTIF('Parent Survey'!$D107:$LF107,\"=1\")","v":0},{"$f":"IF('Process PMs'!A19>0,A8/'Process PMs'!A19,0)","v":0},{"$f":"COUNTIF('Parent Survey'!$D107:$LF107,\"=2\")","v":0},{"$f":"IF('Process PMs'!B19>0,C8/'Process PMs'!B19,0)","v":0},{"$f":"COUNTIF('Parent Survey'!$D107:$LF107,\"=3\")","v":0},{"$f":"IF('Process PMs'!C19>0,E8/'Process PMs'!C19,0)","v":0},{"$f":"COUNTIF('Parent Survey'!$D107:$LF107,\"=4\")","v":0},{"$f":"IF('Process PMs'!D19>0,G8/'Process PMs'!D19,0)","v":0},0,{"$f":"IF('Process PMs'!$E$19>0,I8/'Process PMs'!$E$19,0)","v":0},"(3) Number of Parents/Caregivers with Improved Parental Expectations","O3"]
[{"$f":"COUNTIF('Parent Survey'!$D108:$LF108,\"=1\")","v":0},{"$f":"IF('Process PMs'!A19>0,A9/'Process PMs'!A19,0)","v":0},{"$f":"COUNTIF('Parent Survey'!$D108:$LF108,\"=2\")","v":0},{"$f":"IF('Process PMs'!B19>0,C9/'Process PMs'!B19,0)","v":0},{"$f":"COUNTIF('Parent Survey'!$D108:$LF108,\"=3\")","v":0},{"$f":"IF('Process PMs'!C19>0,E9/'Process PMs'!C19,0)","v":0},{"$f":"COUNTIF('Parent Survey'!$D108:$LF108,\"=4\")","v":0},{"$f":"IF('Process PMs'!D19>0,G9/'Process PMs'!D19,0)","v":0},0,{"$f":"IF('Process PMs'!$E$19>0,I9/'Process PMs'!$E$19,0)","v":0},"(4) Number of Parents/Caregivers that Reported Improved Parent-Youth Relationship Quality","O4"]
[{"$f":"COUNTIF('Parent Survey'!$D109:$LF109,\"=1\")","v":0},{"$f":"IF('Process PMs'!A19>0,A10/'Process PMs'!A19,0)","v":0},{"$f":"COUNTIF('Parent Survey'!$D109:$LF109,\"=2\")","v":0},{"$f":"IF('Process PMs'!B19>0,C10/'Process PMs'!B19,0)","v":0},{"$f":"COUNTIF('Parent Survey'!$D109:$LF109,\"=3\")","v":0},{"$f":"IF('Process PMs'!C19>0,E10/'Process PMs'!C19,0)","v":0},{"$f":"COUNTIF('Parent Survey'!$D109:$LF109,\"=4\")","v":0},{"$f":"IF('Process PMs'!D19>0,G10/'Process PMs'!D19,0)","v":0},0,{"$f":"IF('Process PMs'!$E$19>0,I10/'Process PMs'!$E$19,0)","v":0},"(5) Number of Parents/Caregivers that Reported Improved Family Problem Solving","O5"]
[{"$f":"COUNTIF('Parent Survey'!$D110:$LF110,\"=1\")","v":0},{"$f":"IF('Process PMs'!A19>0,A11/'Process PMs'!A19,0)","v":0},{"$f":"COUNTIF('Parent Survey'!$D110:$LF110,\"=2\")","v":0},{"$f":"IF('Process PMs'!B19>0,C11/'Process PMs'!B19,0)","v":0},{"$f":"COUNTIF('Parent Survey'!$D110:$LF110,\"=3\")","v":0},{"$f":"IF('Process PMs'!C19>0,E11/'Process PMs'!C19,0)","v":0},{"$f":"COUNTIF('Parent Survey'!$D110:$LF110,\"=4\")","v":0},{"$f":"IF('Process PMs'!D19>0,G11/'Process PMs'!D19,0)","v":0},0,{"$f":"IF('Process PMs'!$E$19>0,I11/'Process PMs'!$E$19,0)","v":0},"(6) Number of Parents/Caregivers with Increased Positive Parenting Behaviors","O6"]
[{"$f":"COUNTIF('Parent Survey'!$D111:$LF111,\"=1\")","v":0},{"$f":"IF('Process PMs'!A19>0,A12/'Process PMs'!A19,0)","v":0},{"$f":"COUNTIF('Parent Survey'!$D111:$LF111,\"=2\")","v":0},{"$f":"IF('Process PMs'!B19>0,C12/'Process PMs'!B19,0)","v":0},{"$f":"COUNTIF('Parent Survey'!$D111:$LF111,\"=3\")","v":0},{"$f":"IF('Process PMs'!C19>0,E12/'Process PMs'!C19,0)","v":0},{"$f":"COUNTIF('Parent Survey'!$D111:$LF111,\"=4\")","v":0},{"$f":"IF('Process PMs'!D19>0,G12/'Process PMs'!D19,0)","v":0},0,{"$f":"IF('Process PMs'!$E$19>0,I12/'Process PMs'!$E$19,0)","v":0},"(7) Number of Parents/Caregivers with Increased Goals Communication","O7"]
[{"$f":"COUNTIF('Youth Survey'!$D110:$LF110,\"=1\")","v":0},{"$f":"IF('Process PMs'!A20>0,A13/'Process PMs'!A20,0)","v":0},{"$f":"COUNTIF('Youth Survey'!$D110:$LF110,\"=2\")","v":0},{"$f":"IF('Process PMs'!B20>0,C13/'Process PMs'!B20,0)","v":0},{"$f":"COUNTIF('Youth Survey'!$D110:$LF110,\"=3\")","v":0},{"$f":"IF('Process PMs'!C20>0,E13/'Process PMs'!C20,0)","v":0},{"$f":"COUNTIF('Youth Survey'!$D110:$LF110,\"=4\")","v":0},{"$f":"IF('Process PMs'!D20>0,G13/'Process PMs'!D20,0)","v":0},0,{"$f":"IF('Process PMs'!$E$20>0,I13/'Process PMs'!$E$20,0)","v":0},"(8) Number of Youth that Reported Increased Parent Expectations","O8"]
[{"$f":"COUNTIF('Youth Survey'!$D111:$LF111,\"=1\")","v":0},{"$f":"IF('Process PMs'!A20>0,A14/'Process PMs'!A20,0)","v":0},{"$f":"COUNTIF('Youth Survey'!$D111:$LF111,\"=2\")","v":0},{"$f":"IF('Process PMs'!B20>0,C14/'Process PMs'!B20,0)","v":0},{"$f":"COUNTIF('Youth Survey'!$D111:$LF111,\"=3\")","v":0},{"$f":"IF('Process PMs'!C20>0,E14/'Process PMs'!C20,0)","v":0},{"$f":"COUNTIF('Youth Survey'!$D111:$LF111,\"=4\")","v":0},{"$f":"IF('Process PMs'!D20>0,G14/'Process PMs'!D20,0)","v":0},0,{"$f":"IF('Process PMs'!$E$20>0,I14/'Process PMs'!$E$20,0)","v":0},"(9) Number of Youth that Reported Improved Parent-Youth Relationship Quality","O9"]
[{"$f":"COUNTIF('Youth Survey'!$D112:$LF112,\"=1\")","v":0},{"$f":"IF('Process PMs'!A20>0,A15/'Process PMs'!A20,0)","v":0},{"$f":"COUNTIF('Youth Survey'!$D112:$LF112,\"=2\")","v":0},{"$f":"IF('Process PMs'!B20>0,C15/'Process PMs'!B20,0)","v":0},{"$f":"COUNTIF('Youth Survey'!$D112:$LF112,\"=3\")","v":0},{"$f":"IF('Process PMs'!C20>0,E15/'Process PMs'!C20,0)","v":0},{"$f":"COUNTIF('Youth Survey'!$D112:$LF112,\"=4\")","v":0},{"$f":"IF('Process PMs'!D20>0,G15/'Process PMs'!D20,0)","v":0},0,{"$f":"IF('Process PMs'!$E$20>0,I15/'Process PMs'!$E$20,0)","v":0},"(10) Number of Youth that Reported Improved Family Problem Solving","O10"]
[{"$f":"COUNTIF('Youth Survey'!$D113:$LF113,\"=1\")","v":0},{"$f":"IF('Process PMs'!A20>0,A16/'Process PMs'!A20,0)","v":0},{"$f":"COUNTIF('Youth Survey'!$D113:$LF113,\"=2\")","v":0},{"$f":"IF('Process PMs'!B20>0,C16/'Process PMs'!B20,0)","v":0},{"$f":"COUNTIF('Youth Survey'!$D113:$LF113,\"=3\")","v":0},{"$f":"IF('Process PMs'!C20>0,E16/'Process PMs'!C20,0)","v":0},{"$f":"COUNTIF('Youth Survey'!$D113:$LF113,\"=4\")","v":0},{"$f":"IF('Process PMs'!D20>0,G16/'Process PMs'!D20,0)","v":0},0,{"$f":"IF('Process PMs'!$E$20>0,I16/'Process PMs'!$E$20,0)","v":0},"(11) Number of Youth with Improved Stress Coping Skills","O11"]
[{"$f":"COUNTIF('Youth Survey'!$D114:$LF114,\"=1\")","v":0},{"$f":"IF('Process PMs'!A20>0,A17/'Process PMs'!A20,0)","v":0},{"$f":"COUNTIF('Youth Survey'!$D114:$LF114,\"=2\")","v":0},{"$f":"IF('Process PMs'!B20>0,C17/'Process PMs'!B20,0)","v":0},{"$f":"COUNTIF('Youth Survey'!$D114:$LF114,\"=3\")","v":0},{"$f":"IF('Process PMs'!C20>0,E17/'Process PMs'!C20,0)","v":0},{"$f":"COUNTIF('Youth Survey'!$D114:$LF114,\"=4\")","v":0},{"$f":"IF('Process PMs'!D20>0,G17/'Process PMs'!D20,0)","v":0},0,{"$f":"IF('Process PMs'!$E$20>0,I17/'Process PMs'!$E$20,0)","v":0},"(12) Number of Youth that Reported Improved Family Communication","O12"]
[{"$f":"COUNTIF('Youth Survey'!$D115:$LF115,\"=1\")","v":0},{"$f":"IF('Process PMs'!A20>0,A18/'Process PMs'!A20,0)","v":0},{"$f":"COUNTIF('Youth Survey'!$D115:$LF115,\"=2\")","v":0},{"$f":"IF('Process PMs'!B20>0,C18/'Process PMs'!B20,0)","v":0},{"$f":"COUNTIF('Youth Survey'!$D115:$LF115,\"=3\")","v":0},{"$f":"IF('Process PMs'!C20>0,E18/'Process PMs'!C20,0)","v":0},{"$f":"COUNTIF('Youth Survey'!$D115:$LF115,\"=4\")","v":0},{"$f":"IF('Process PMs'!D20>0,G18/'Process PMs'!D20,0)","v":0},0,{"$f":"IF('Process PMs'!$E$20>0,I18/'Process PMs'!$E$20,0)","v":0},"(13) Number of Youth with Increased Future Orientation","O13"]
[{"$f":"COUNTIF('Youth Survey'!$D116:$LF116,\"=1\")","v":0},{"$f":"IF('Process PMs'!A20>0,A19/'Process PMs'!A20,0)","v":0},{"$f":"COUNTIF('Youth Survey'!$D116:$LF116,\"=2\")","v":0},{"$f":"IF('Process PMs'!B20>0,C19/'Process PMs'!B20,0)","v":0},{"$f":"COUNTIF('Youth Survey'!$D116:$LF116,\"=3\")","v":0},{"$f":"IF('Process PMs'!C20>0,E19/'Process PMs'!C20,0)","v":0},{"$f":"COUNTIF('Youth Survey'!$D116:$LF116,\"=4\")","v":0},{"$f":"IF('Process PMs'!D20>0,G19/'Process PMs'!D20,0)","v":0},0,{"$f":"IF('Process PMs'!$E$20>0,I19/'Process PMs'!$E$20,0)","v":0},"(14) Number of Youth with Improved Peer Pressure Refusal Skills","O14"]
[{"$f":"COUNTIF('Youth Survey'!$D117:$LF117,\"=1\")","v":0},{"$f":"IF('Process PMs'!A20>0,A20/'Process PMs'!A20,0)","v":0},{"$f":"COUNTIF('Youth Survey'!$D117:$LF117,\"=2\")","v":0},{"$f":"IF('Process PMs'!B20>0,C20/'Process PMs'!B20,0)","v":0},{"$f":"COUNTIF('Youth Survey'!$D117:$LF117,\"=3\")","v":0},{"$f":"IF('Process PMs'!C20>0,E20/'Process PMs'!C20,0)","v":0},{"$f":"COUNTIF('Youth Survey'!$D117:$LF117,\"=4\")","v":0},{"$f":"IF('Process PMs'!D20>0,G20/'Process PMs'!D20,0)","v":0},{"$f":"SUM(A20,C20,E20,G20)","v":0},{"$f":"IF('Process PMs'!$E$20>0,I20/'Process PMs'!$E$20,0)","v":0},"(18) Number of Youth Reporting Improved Substance Abuse Rules and Expectations","O18"]
[{"$f":"COUNTIF('Parent Survey'!$D150:$LF150,\"=1\")","v":0},{"$f":"IF('Process PMs'!A21>0,A21/'Process PMs'!A21,0)","v":0},{"$f":"COUNTIF('Parent Survey'!$D150:$LF150,\"=2\")","v":0},{"$f":"IF('Process PMs'!B21>0,C21/'Process PMs'!B21,0)","v":0},{"$f":"COUNTIF('Parent Survey'!$D150:$LF150,\"=3\")","v":0},{"$f":"IF('Process PMs'!C21>0,E21/'Process PMs'!C21,0)","v":0},{"$f":"COUNTIF('Parent Survey'!$D150:$LF150,\"=4\")","v":0},{"$f":"IF('Process PMs'!D21>0,G21/'Process PMs'!D21,0)","v":0},0,{"$f":"IF('Process PMs'!$E$21>0,I21/'Process PMs'!$E$21,0)","v":0},"(15) Number of Families Reporting Improved Parent-Youth  Relationship Quality","O15"]
[{"$f":"COUNTIF('Parent Survey'!$D151:$LF151,\"=1\")","v":0},{"$f":"IF('Process PMs'!A21>0,A22/'Process PMs'!A21,0)","v":0},{"$f":"COUNTIF('Parent Survey'!$D151:$LF151,\"=2\")","v":0},{"$f":"IF('Process PMs'!B21>0,C22/'Process PMs'!B21,0)","v":0},{"$f":"COUNTIF('Parent Survey'!$D151:$LF151,\"=3\")","v":0},{"$f":"IF('Process PMs'!C21>0,E22/'Process PMs'!C21,0)","v":0},{"$f":"COUNTIF('Parent Survey'!$D151:$LF151,\"=4\")","v":0},{"$f":"IF('Process PMs'!D21>0,G22/'Process PMs'!D21,0)","v":0},0,{"$f":"IF('Process PMs'!$E$21>0,I22/'Process PMs'!$E$21,0)","v":0},"(16) Number of Families Reporting Improved Family Problem Solving","O16"]
[{"$f":"COUNTIF('Parent Survey'!$D152:$LF152,\"=1\")","v":0},{"$f":"IF('Process PMs'!A21>0,A23/'Process PMs'!A21,0)","v":0},{"$f":"COUNTIF('Parent Survey'!$D152:$LF152,\"=2\")","v":0},{"$f":"IF('Process PMs'!B21>0,C23/'Process PMs'!B21,0)","v":0},{"$f":"COUNTIF('Parent Survey'!$D152:$LF152,\"=3\")","v":0},{"$f":"IF('Process PMs'!C21>0,E23/'Process PMs'!C21,0)","v":0},{"$f":"COUNTIF('Parent Survey'!$D152:$LF152,\"=4\")","v":0},{"$f":"IF('Process PMs'!D21>0,G23/'Process PMs'!D21,0)","v":0},{"$f":"SUM(A23,C23,E23,G23)","v":0},{"$f":"IF('Process PMs'!$E$21>0,I23/'Process PMs'!$E$21,0)","v":0},"(17) Number of Families Reporting Improved Positive Parenting Behaviors","O17"]
[{"$f":"Instructions!A2","v":"Ver. 1.1 (1-6-2016)"}]

{"sheet":"Report","index":3,"n_rows":61,"n_cols":19,"rows_kept":61,"cut":false,"hidden":false,"merged":[[1,0,1,2],[2,0,2,1],[2,3,2,4],[0,2,0,18],[2,5,2,6],[2,7,2,8],[2,9,2,10],[2,11,2,12],[2,13,2,14],[2,15,2,16],[2,17,2,18]]}
["STRENGTHENING FAMILIES PROGRAM: FOR PARENTS AND YOUTH 10-14 SUMMARY REPORT",null,"FAMILIAS FUERTES: SUMMARY REPORT"]
[{"$f":"'Process PMs'!$B$2","v":"Insert Agency Name Here"}]
["Report Date & \nTimeframe Summarized:",null,null,"Report Date & \nTimeframe Summarized:",null,"Delivery 1",null,"Delivery 2",null,"Delivery 3",null,"Delivery 4",null,"Delivery 5",null,"Delivery 6",null,"Delivery 7"]
["Cumulative Count","Percentage","Performance Measure","Cumulative Count","Percentage Overall","#","%","#","%","#","%","#","%","#","%","#","%","#","%"]
[null,null,"POPULATION SERVED"]
[{"$f":"'Process PMs'!E9","v":0},"NA","Number of New Facilitators Formally Trained & Certified: Total number of new facilitators trained and certified to deliver the FF Program during this reporting period.",0,"NA"]
[{"$f":"'Process PMs'!E10","v":0},"NA","Number of New Agency Trainers: Number of newly certified facilitators completing the Training of Facilitators (TOF) and approved by Iowa State as an Agency Trainer. ",0,"NA"]
[{"$f":"'Process PMs'!E8","v":0},"NA","Number of 7-week FF Programs Completed: Number of 7-week FF programs completed during this reporting period.",0,"NA"]
[{"$f":"'Process PMs'!E13","v":0},"NA","Number of Adults that Participated in the FF Program: Number of adults enrolled in the FF program that attended at least one session.",{"$f":"SUM(F9,H9,J9,L9,N9,P9,R9)","v":0},"-",{"$f":"Attendance!$C$237","v":0},"-",{"$f":"Attendance!$I$237","v":0},"-",{"$f":"Attendance!$O$237","v":0},"-",{"$f":"Attendance!$U$237","v":0},"-",{"$f":"Attendance!$AA$237","v":0},"-",{"$f":"Attendance!$AG$237","v":0},"-",{"$f":"Attendance!$AM$237","v":0},"-"]
[{"$f":"'Process PMs'!E14","v":0},"NA","Number of Adults that Completed the FF Program: Number of adults that attended at least 5 of the 7 weekly sessions of the FF program.",{"$f":"SUM(F10,H10,J10,L10,N10,P10,R10)","v":0},{"$f":"IFERROR(D10/D9,\"\")","v":""},{"$f":"Attendance!$E$237","v":0},{"$f":"IFERROR(F10/F9,\"\")","v":""},{"$f":"Attendance!$K$237","v":0},{"$f":"IFERROR(H10/H9,\"\")","v":""},{"$f":"Attendance!$Q$237","v":0},{"$f":"IFERROR(J10/J9,\"\")","v":""},{"$f":"Attendance!$W$237","v":0},{"$f":"IFERROR(L10/L9,\"\")","v":""},{"$f":"Attendance!$AC$237","v":0},{"$f":"IFERROR(N10/N9,\"\")","v":""},{"$f":"Attendance!$AI$237","v":0},{"$f":"IFERROR(P10/P9,\"\")","v":""},{"$f":"Attendance!$AO$237","v":0},{"$f":"IFERROR(R10/R9,\"\")","v":""}]
[{"$f":"'Process PMs'!E15","v":0},"NA","Number of Youth that Participated in the FF Program: Number of youth enrolled in the FF program that attended at least one session.",{"$f":"SUM(F11,H11,J11,L11,N11,P11,R11)","v":0},"-",{"$f":"Attendance!$D$237","v":0},"-",{"$f":"Attendance!$J$237","v":0},"-",{"$f":"Attendance!$P$237","v":0},"-",{"$f":"Attendance!$V$237","v":0},"-",{"$f":"Attendance!$AB$237","v":0},"-",{"$f":"Attendance!$AH$237","v":0},"-",{"$f":"Attendance!$AN$237","v":0},"-"]
[{"$f":"'Process PMs'!E16","v":0},"NA","Number of Youth that Completed the FF Program: Number of youth that attended at least 5 of the 7 weekly sessions of the FF program.",0,{"$f":"IFERROR(D12/D11,\"\")","v":""},{"$f":"Attendance!$F$237","v":0},{"$f":"IFERROR(F12/F11,\"\")","v":""},{"$f":"Attendance!$L$237","v":0},{"$f":"IFERROR(H12/H11,\"\")","v":""},{"$f":"Attendance!$R$237","v":0},{"$f":"IFERROR(J12/J11,\"\")","v":""},{"$f":"Attendance!$X$237","v":0},{"$f":"IFERROR(L12/L11,\"\")","v":""},{"$f":"Attendance!$AD$237","v":0},{"$f":"IFERROR(N12/N11,\"\")","v":""},{"$f":"Attendance!$AJ$237","v":0},{"$f":"IFERROR(P12/P11,\"\")","v":""},{"$f":"Attendance!$AP$237","v":0},{"$f":"IFERROR(R12/R11,\"\")","v":""}]
[{"$f":"'Process PMs'!E17","v":0},"NA","Number of Families that Participated in the FF Program: Number of families enrolled in the FF program that attended at least one session.",0,"-",{"$f":"Attendance!$G$237","v":0},"-",{"$f":"Attendance!$M$237","v":0},"-",{"$f":"Attendance!$S$237","v":0},"-",{"$f":"Attendance!$Y$237","v":0},"-",{"$f":"Attendance!$AE$237","v":0},"-",{"$f":"Attendance!$AK$237","v":0},"-",{"$f":"Attendance!$AQ$237","v":0},"-"]
[{"$f":"'Process PMs'!E18","v":0},"NA","Number of Families that Completed the FF Program: Number of families where at least one adult and one youth both attended 5 or more sessions.",0,{"$f":"IFERROR(D14/D13,\"\")","v":""},{"$f":"Attendance!$H$237","v":0},{"$f":"IFERROR(F14/F13,\"\")","v":""},{"$f":"Attendance!$N$237","v":0},{"$f":"IFERROR(H14/H13,\"\")","v":""},{"$f":"Attendance!$T$237","v":0},{"$f":"IFERROR(J14/J13,\"\")","v":""},{"$f":"Attendance!$Z$237","v":0},{"$f":"IFERROR(L14/L13,\"\")","v":""},{"$f":"Attendance!$AF$237","v":0},{"$f":"IFERROR(N14/N13,\"\")","v":""},{"$f":"Attendance!$AL$237","v":0},{"$f":"IFERROR(P14/P13,\"\")","v":""},{"$f":"Attendance!$AR$237","v":0},{"$f":"IFERROR(R14/R13,\"\")","v":""}]
[null,null,"PROGRAM IMPACT"]
[{"$f":"'Process PMs'!E19","v":0},"NA","Number of FF Program Adults with Completed and Analyzed Pre and Post Surveys: Number of adults in the FF program with completed and analyzed pre and post surveys.",{"$f":"SUM(F16,H16,J16,L16,N16,P16,R16)","v":0},{"$f":"IFERROR(D16/D9,\"\")","v":""},{"$f":"COUNTIF('Parent Survey'!D103:AV103,\">0\")","v":0},{"$f":"IFERROR(F16/F9,\"\")","v":""},{"$f":"COUNTIF('Parent Survey'!AW103:CO103,\">0\")","v":0},{"$f":"IFERROR(H16/H9,\"\")","v":""},{"$f":"COUNTIF('Parent Survey'!CP103:EH103,\">0\")","v":0},{"$f":"IFERROR(J16/J9,\"\")","v":""},{"$f":"COUNTIF('Parent Survey'!EI103:GA103,\">0\")","v":0},{"$f":"IFERROR(L16/L9,\"\")","v":""},{"$f":"COUNTIF('Parent Survey'!GB103:HT103,\">0\")","v":0},{"$f":"IFERROR(N16/N9,\"\")","v":""},{"$f":"COUNTIF('Parent Survey'!HU103:JM103,\">0\")","v":0},{"$f":"IFERROR(P16/P9,\"\")","v":""},{"$f":"COUNTIF('Parent Survey'!JN103:LF103,\">0\")","v":0},{"$f":"IFERROR(R16/R9,\"\")","v":""}]
[{"$f":"'Outcome PMs'!I6","v":0},{"$f":"'Outcome PMs'!J6","v":0},"Number of Parents/Caregivers with Increased Substance Use Rules & Expectations For Their Youth: Number of parents/caregivers with increased substance use rules and expectations for their youth.",{"$f":"SUM(F17,H17,J17,L17,N17,P17,R17)","v":0},{"$f":"IFERROR(D17/D$16,\"\")","v":""},{"$f":"COUNTIF('Parent Survey'!D105:AV105,\">0\")","v":0},{"$f":"IFERROR(F17/F$16,\"\")","v":""},{"$f":"COUNTIF('Parent Survey'!AW105:CO105,\">0\")","v":0},{"$f":"IFERROR(H17/H$16,\"\")","v":""},{"$f":"COUNTIF('Parent Survey'!CP105:EH105,\">0\")","v":0},{"$f":"IFERROR(J17/J$16,\"\")","v":""},{"$f":"COUNTIF('Parent Survey'!EI105:GA105,\">0\")","v":0},{"$f":"IFERROR(L17/L$16,\"\")","v":""},{"$f":"COUNTIF('Parent Survey'!GB105:HT105,\">0\")","v":0},{"$f":"IFERROR(N17/N$16,\"\")","v":""},{"$f":"COUNTIF('Parent Survey'!HU105:JM105,\">0\")","v":0},{"$f":"IFERROR(P17/P$16,\"\")","v":""},{"$f":"COUNTIF('Parent Survey'!JN105:LF105,\">0\")","v":0},{"$f":"IFERROR(R17/R$16,\"\")","v":""}]
[{"$f":"'Outcome PMs'!I7","v":0},{"$f":"'Outcome PMs'!J7","v":0},"Number of Parents/Caregivers with Increased Youth Monitoring: Number of parents/caregivers with increased youth monitoring.",{"$f":"SUM(F18,H18,J18,L18,N18,P18,R18)","v":0},{"$f":"IFERROR(D18/D$16,\"\")","v":""},{"$f":"COUNTIF('Parent Survey'!D106:AV106,\">0\")","v":0},{"$f":"IFERROR(F18/F$16,\"\")","v":""},{"$f":"COUNTIF('Parent Survey'!AW106:CO106,\">0\")","v":0},{"$f":"IFERROR(H18/H$16,\"\")","v":""},{"$f":"COUNTIF('Parent Survey'!CP106:EH106,\">0\")","v":0},{"$f":"IFERROR(J18/J$16,\"\")","v":""},{"$f":"COUNTIF('Parent Survey'!EI106:GA106,\">0\")","v":0},{"$f":"IFERROR(L18/L$16,\"\")","v":""},{"$f":"COUNTIF('Parent Survey'!GB106:HT106,\">0\")","v":0},{"$f":"IFERROR(N18/N$16,\"\")","v":""},{"$f":"COUNTIF('Parent Survey'!HU106:JM106,\">0\")","v":0},{"$f":"IFERROR(P18/P$16,\"\")","v":""},{"$f":"COUNTIF('Parent Survey'!JN106:LF106,\">0\")","v":0},{"$f":"IFERROR(R18/R$16,\"\")","v":""}]
[{"$f":"'Outcome PMs'!I8","v":0},{"$f":"'Outcome PMs'!J8","v":0},"Number of Parents/Caregivers with Improved Standard Setting: Number of parents/caregivers with improved standard setting.",0,{"$f":"IFERROR(D19/D$16,\"\")","v":""},{"$f":"COUNTIF('Parent Survey'!D107:AV107,\">0\")","v":0},{"$f":"IFERROR(F19/F$16,\"\")","v":""},{"$f":"COUNTIF('Parent Survey'!AW107:CO107,\">0\")","v":0},"",{"$f":"COUNTIF('Parent Survey'!CP107:EH107,\">0\")","v":0},{"$f":"IFERROR(J19/J$16,\"\")","v":""},{"$f":"COUNTIF('Parent Survey'!EI107:GA107,\">0\")","v":0},{"$f":"IFERROR(L19/L$16,\"\")","v":""},{"$f":"COUNTIF('Parent Survey'!GB107:HT107,\">0\")","v":0},{"$f":"IFERROR(N19/N$16,\"\")","v":""},{"$f":"COUNTIF('Parent Survey'!HU107:JM107,\">0\")","v":0},{"$f":"IFERROR(P19/P$16,\"\")","v":""},{"$f":"COUNTIF('Parent Survey'!JN107:LF107,\">0\")","v":0},{"$f":"IFERROR(R19/R$16,\"\")","v":""}]
[{"$f":"'Outcome PMs'!I9","v":0},{"$f":"'Outcome PMs'!J9","v":0},"Number of Parents/Caregivers that Reported Improved Parent-Youth Relationship Quality: Number of parents/caregivers that reported improved parent-youth relationship quality.",0,"",{"$f":"COUNTIF('Parent Survey'!D108:AV108,\">0\")","v":0},"",{"$f":"COUNTIF('Parent Survey'!AW108:CO108,\">0\")","v":0},"",{"$f":"COUNTIF('Parent Survey'!CP108:EH108,\">0\")","v":0},{"$f":"IFERROR(J20/J$16,\"\")","v":""},{"$f":"COUNTIF('Parent Survey'!EI108:GA108,\">0\")","v":0},{"$f":"IFERROR(L20/L$16,\"\")","v":""},{"$f":"COUNTIF('Parent Survey'!GB108:HT108,\">0\")","v":0},{"$f":"IFERROR(N20/N$16,\"\")","v":""},{"$f":"COUNTIF('Parent Survey'!HU108:JM108,\">0\")","v":0},{"$f":"IFERROR(P20/P$16,\"\")","v":""},{"$f":"COUNTIF('Parent Survey'!JN108:LF108,\">0\")","v":0},{"$f":"IFERROR(R20/R$16,\"\")","v":""}]
[{"$f":"'Outcome PMs'!I10","v":0},{"$f":"'Outcome PMs'!J10","v":0},"Number of Parents/Caregivers that Reported Improved Family Cooperation & Problem Solving: Number of parents/caregivers that reported improved family cooperation and problem solving.",0,"",{"$f":"COUNTIF('Parent Survey'!D109:AV109,\">0\")","v":0},"",{"$f":"COUNTIF('Parent Survey'!AW109:CO109,\">0\")","v":0},"",{"$f":"COUNTIF('Parent Survey'!CP109:EH109,\">0\")","v":0},{"$f":"IFERROR(J21/J$16,\"\")","v":""},{"$f":"COUNTIF('Parent Survey'!EI109:GA109,\">0\")","v":0},{"$f":"IFERROR(L21/L$16,\"\")","v":""},{"$f":"COUNTIF('Parent Survey'!GB109:HT109,\">0\")","v":0},{"$f":"IFERROR(N21/N$16,\"\")","v":""},{"$f":"COUNTIF('Parent Survey'!HU109:JM109,\">0\")","v":0},{"$f":"IFERROR(P21/P$16,\"\")","v":""},{"$f":"COUNTIF('Parent Survey'!JN109:LF109,\">0\")","v":0},{"$f":"IFERROR(R21/R$16,\"\")","v":""}]
[{"$f":"'Outcome PMs'!I11","v":0},{"$f":"'Outcome PMs'!J11","v":0},"Number of Parents/Caregivers with Increased Parental Supportiveness: Number of parents/caregivers with increased parental supportiveness.",0,"",{"$f":"COUNTIF('Parent Survey'!D110:AV110,\">0\")","v":0},"",{"$f":"COUNTIF('Parent Survey'!AW110:CO110,\">0\")","v":0},"",{"$f":"COUNTIF('Parent Survey'!CP110:EH110,\">0\")","v":0},{"$f":"IFERROR(J22/J$16,\"\")","v":""},{"$f":"COUNTIF('Parent Survey'!EI110:GA110,\">0\")","v":0},{"$f":"IFERROR(L22/L$16,\"\")","v":""},{"$f":"COUNTIF('Parent Survey'!GB110:HT110,\">0\")","v":0},{"$f":"IFERROR(N22/N$16,\"\")","v":""},{"$f":"COUNTIF('Parent Survey'!HU110:JM110,\">0\")","v":0},{"$f":"IFERROR(P22/P$16,\"\")","v":""},{"$f":"COUNTIF('Parent Survey'!JN110:LF110,\">0\")","v":0},{"$f":"IFERROR(R22/R$16,\"\")","v":""}]
[{"$f":"'Outcome PMs'!I12","v":0},{"$f":"'Outcome PMs'!J12","v":0},"Number of Parents/Caregivers with Increased Values & Goals Communication: Number of parents/caregivers with increased values and goals communication.",0,"",{"$f":"COUNTIF('Parent Survey'!D111:AV111,\">0\")","v":0},{"$f":"IFERROR(F23/F$16,\"\")","v":""},{"$f":"COUNTIF('Parent Survey'!AW111:CO111,\">0\")","v":0},{"$f":"IFERROR(H23/H$16,\"\")","v":""},{"$f":"COUNTIF('Parent Survey'!CP111:EH111,\">0\")","v":0},{"$f":"IFERROR(J23/J$16,\"\")","v":""},{"$f":"COUNTIF('Parent Survey'!EI111:GA111,\">0\")","v":0},{"$f":"IFERROR(L23/L$16,\"\")","v":""},{"$f":"COUNTIF('Parent Survey'!GB111:HT111,\">0\")","v":0},{"$f":"IFERROR(N23/N$16,\"\")","v":""},{"$f":"COUNTIF('Parent Survey'!HU111:JM111,\">0\")","v":0},{"$f":"IFERROR(P23/P$16,\"\")","v":""},{"$f":"COUNTIF('Parent Survey'!JN111:LF111,\">0\")","v":0},{"$f":"IFERROR(R23/R$16,\"\")","v":""}]
[{"$f":"'Process PMs'!E20","v":0},"NA","Number of FF Program Youth with Completed and Analyzed Pre and Post Surveys: Number of youth in the FF program with completed and analyzed pre and post surveys.",0,{"$f":"IFERROR(D24/D11,\"\")","v":""},{"$f":"COUNTIF('Youth Survey'!D108:AV108,\">0\")","v":0},{"$f":"IFERROR(F24/F11,\"\")","v":""},{"$f":"COUNTIF('Youth Survey'!AW108:CO108,\">0\")","v":0},{"$f":"IFERROR(H24/H11,\"\")","v":""},{"$f":"COUNTIF('Youth Survey'!CP108:EH108,\">0\")","v":0},{"$f":"IFERROR(J24/J11,\"\")","v":""},{"$f":"COUNTIF('Youth Survey'!EI108:GA108,\">0\")","v":0},{"$f":"IFERROR(L24/L12,\"\")","v":""},{"$f":"COUNTIF('Youth Survey'!GB108:HT108,\">0\")","v":0},{"$f":"IFERROR(N24/N11,\"\")","v":""},{"$f":"COUNTIF('Youth Survey'!HU108:JM108,\">0\")","v":0},{"$f":"IFERROR(P24/P11,\"\")","v":""},{"$f":"COUNTIF('Youth Survey'!JN108:LF108,\">0\")","v":0},{"$f":"IFERROR(R24/R11,\"\")","v":""}]
[{"$f":"'Outcome PMs'!I13","v":0},{"$f":"'Outcome PMs'!J13","v":0},"Number of Youth that Reported Increased Consistent Discipline: Number of youth that reported increased consistent discipline.",0,{"$f":"IFERROR(D25/D$24,\"\")","v":""},{"$f":"COUNTIF('Youth Survey'!D110:AV110,\">0\")","v":0},{"$f":"IFERROR(F25/F$24,\"\")","v":""},{"$f":"COUNTIF('Youth Survey'!AW110:CO110,\">0\")","v":0},{"$f":"IFERROR(H25/H$24,\"\")","v":""},{"$f":"COUNTIF('Youth Survey'!CP110:EH110,\">0\")","v":0},{"$f":"IFERROR(J25/J$24,\"\")","v":""},{"$f":"COUNTIF('Youth Survey'!EI110:GA110,\">0\")","v":0},{"$f":"IFERROR(L25/L$24,\"\")","v":""},{"$f":"COUNTIF('Youth Survey'!GB110:HT110,\">0\")","v":0},{"$f":"IFERROR(N25/N$24,\"\")","v":""},{"$f":"COUNTIF('Youth Survey'!HU110:JM110,\">0\")","v":0},{"$f":"IFERROR(P25/P$24,\"\")","v":""},{"$f":"COUNTIF('Youth Survey'!JN110:LF110,\">0\")","v":0},{"$f":"IFERROR(R25/R$24,\"\")","v":""}]
[{"$f":"'Outcome PMs'!I14","v":0},{"$f":"'Outcome PMs'!J14","v":0},"Number of Youth that Reported Improved Parent-Youth Relationship Quality: Number of youth that reported improved parent-youth relationship quality.",0,{"$f":"IFERROR(D26/D$24,\"\")","v":""},{"$f":"COUNTIF('Youth Survey'!D111:AV111,\">0\")","v":0},{"$f":"IFERROR(F26/F$24,\"\")","v":""},{"$f":"COUNTIF('Youth Survey'!AW111:CO111,\">0\")","v":0},{"$f":"IFERROR(H26/H$24,\"\")","v":""},{"$f":"COUNTIF('Youth Survey'!CP111:EH111,\">0\")","v":0},{"$f":"IFERROR(J26/J$24,\"\")","v":""},{"$f":"COUNTIF('Youth Survey'!EI111:GA111,\">0\")","v":0},{"$f":"IFERROR(L26/L$24,\"\")","v":""},{"$f":"COUNTIF('Youth Survey'!GB111:HT111,\">0\")","v":0},{"$f":"IFERROR(N26/N$24,\"\")","v":""},{"$f":"COUNTIF('Youth Survey'!HU111:JM111,\">0\")","v":0},{"$f":"IFERROR(P26/P$24,\"\")","v":""},{"$f":"COUNTIF('Youth Survey'!JN111:LF111,\">0\")","v":0},{"$f":"IFERROR(R26/R$24,\"\")","v":""}]
[{"$f":"'Outcome PMs'!I15","v":0},{"$f":"'Outcome PMs'!J15","v":0},"Number of Youth that Reported Improved Family Cooperation & Problem Solving: Number of youth that reported improved family cooperation and problem solving.",0,{"$f":"IFERROR(D27/D$24,\"\")","v":""},{"$f":"COUNTIF('Youth Survey'!D112:AV112,\">0\")","v":0},{"$f":"IFERROR(F27/F$24,\"\")","v":""},{"$f":"COUNTIF('Youth Survey'!AW112:CO112,\">0\")","v":0},"",{"$f":"COUNTIF('Youth Survey'!CP112:EH112,\">0\")","v":0},{"$f":"IFERROR(J27/J$24,\"\")","v":""},{"$f":"COUNTIF('Youth Survey'!EI112:GA112,\">0\")","v":0},{"$f":"IFERROR(L27/L$24,\"\")","v":""},{"$f":"COUNTIF('Youth Survey'!GB112:HT112,\">0\")","v":0},{"$f":"IFERROR(N27/N$24,\"\")","v":""},{"$f":"COUNTIF('Youth Survey'!HU112:JM112,\">0\")","v":0},{"$f":"IFERROR(P27/P$24,\"\")","v":""},{"$f":"COUNTIF('Youth Survey'!JN112:LF112,\">0\")","v":0},{"$f":"IFERROR(R27/R$24,\"\")","v":""}]
[{"$f":"'Outcome PMs'!I16","v":0},{"$f":"'Outcome PMs'!J16","v":0},"Number of Youth with Improved Stress Coping Skills: Number of youth with improved stress coping skills.",0,"",{"$f":"COUNTIF('Youth Survey'!D113:AV113,\">0\")","v":0},"",{"$f":"COUNTIF('Youth Survey'!AW113:CO113,\">0\")","v":0},"",{"$f":"COUNTIF('Youth Survey'!CP113:EH113,\">0\")","v":0},{"$f":"IFERROR(J28/J$24,\"\")","v":""},{"$f":"COUNTIF('Youth Survey'!EI113:GA113,\">0\")","v":0},{"$f":"IFERROR(L28/L$24,\"\")","v":""},{"$f":"COUNTIF('Youth Survey'!GB113:HT113,\">0\")","v":0},{"$f":"IFERROR(N28/N$24,\"\")","v":""},{"$f":"COUNTIF('Youth Survey'!HU113:JM113,\">0\")","v":0},{"$f":"IFERROR(P28/P$24,\"\")","v":""},{"$f":"COUNTIF('Youth Survey'!JN113:LF113,\">0\")","v":0},{"$f":"IFERROR(R28/R$24,\"\")","v":""}]
[{"$f":"'Outcome PMs'!I17","v":0},{"$f":"'Outcome PMs'!J17","v":0},"Number of Youth that Reported Improved Family Communication: Number of youth that reported improved family communication.",0,"",{"$f":"COUNTIF('Youth Survey'!D114:AV114,\">0\")","v":0},"",{"$f":"COUNTIF('Youth Survey'!AW114:CO114,\">0\")","v":0},"",{"$f":"COUNTIF('Youth Survey'!CP114:EH114,\">0\")","v":0},{"$f":"IFERROR(J29/J$24,\"\")","v":""},{"$f":"COUNTIF('Youth Survey'!EI114:GA114,\">0\")","v":0},{"$f":"IFERROR(L29/L$24,\"\")","v":""},{"$f":"COUNTIF('Youth Survey'!GB114:HT114,\">0\")","v":0},{"$f":"IFERROR(N29/N$24,\"\")","v":""},{"$f":"COUNTIF('Youth Survey'!HU114:JM114,\">0\")","v":0},{"$f":"IFERROR(P29/P$24,\"\")","v":""},{"$f":"COUNTIF('Youth Survey'!JN114:LF114,\">0\")","v":0},{"$f":"IFERROR(R29/R$24,\"\")","v":""}]
[{"$f":"'Outcome PMs'!I18","v":0},{"$f":"'Outcome PMs'!J18","v":0},"Number of Youth with Increased Future Orientation: Number of youth with increased future orientation.",0,"",{"$f":"COUNTIF('Youth Survey'!D115:AV115,\">0\")","v":0},"",{"$f":"COUNTIF('Youth Survey'!AW115:CO115,\">0\")","v":0},"",{"$f":"COUNTIF('Youth Survey'!CP115:EH115,\">0\")","v":0},{"$f":"IFERROR(J30/J$24,\"\")","v":""},{"$f":"COUNTIF('Youth Survey'!EI115:GA115,\">0\")","v":0},{"$f":"IFERROR(L30/L$24,\"\")","v":""},{"$f":"COUNTIF('Youth Survey'!GB115:HT115,\">0\")","v":0},{"$f":"IFERROR(N30/N$24,\"\")","v":""},{"$f":"COUNTIF('Youth Survey'!HU115:JM115,\">0\")","v":0},{"$f":"IFERROR(P30/P$24,\"\")","v":""},{"$f":"COUNTIF('Youth Survey'!JN115:LF115,\">0\")","v":0},{"$f":"IFERROR(R30/R$24,\"\")","v":""}]
[{"$f":"'Outcome PMs'!I19","v":0},{"$f":"'Outcome PMs'!J19","v":0},"Number of Youth with Improved Peer Pressure Refusal Skills: Number of youth with improved peer pressure refusal skills.",0,"",{"$f":"COUNTIF('Youth Survey'!D116:AV116,\">0\")","v":0},"",{"$f":"COUNTIF('Youth Survey'!AW116:CO116,\">0\")","v":0},"",{"$f":"COUNTIF('Youth Survey'!CP116:EH116,\">0\")","v":0},"",{"$f":"COUNTIF('Youth Survey'!EI116:GA116,\">0\")","v":0},"",{"$f":"COUNTIF('Youth Survey'!GB116:HT116,\">0\")","v":0},"",{"$f":"COUNTIF('Youth Survey'!HU116:JM116,\">0\")","v":0},"",{"$f":"COUNTIF('Youth Survey'!JN116:LF116,\">0\")","v":0},""]
[{"$f":"'Process PMs'!E21","v":0},"NA","Number of Youth Reporting Improved Substance Abuse Rules and Expectations: Number of families reporting improved substance abuse rules and expectations.",0,"",{"$f":"COUNTIF('Youth Survey'!D117:AV117,\">0\")","v":0},"",{"$f":"COUNTIF('Youth Survey'!AW117:CO117,\">0\")","v":0},"",{"$f":"COUNTIF('Youth Survey'!CP117:EH117,\">0\")","v":0},"",{"$f":"COUNTIF('Youth Survey'!EI117:GA117,\">0\")","v":0},"",{"$f":"COUNTIF('Youth Survey'!GB117:HT117,\">0\")","v":0},"",{"$f":"COUNTIF('Youth Survey'!HU117:JM117,\">0\")","v":0},"",{"$f":"COUNTIF('Youth Survey'!JN117:LF117,\">0\")","v":0},""]
[{"$f":"'Outcome PMs'!I21","v":0},{"$f":"'Outcome PMs'!J21","v":0},"Number of FF Program Family Units with Completed and Analyzed Pre and Post Surveys: Number of family units in the FF program with completed and analyzed pre and post surveys.",0,{"$f":"IFERROR($D$33/$D$13,\"\")","v":""},{"$f":"COUNTIF('Parent Survey'!$D$147:$AV$147,\">0\")","v":0},{"$f":"IFERROR(F$33/F$13,\"\")","v":""},{"$f":"COUNTIF('Parent Survey'!$AW$147:$CO$147,\">0\")","v":0},{"$f":"IFERROR(H$33/H$13,\"\")","v":""},{"$f":"COUNTIF('Parent Survey'!$CP$147:$EH$147,\">0\")","v":0},{"$f":"IFERROR(J$33/J$13,\"\")","v":""},{"$f":"COUNTIF('Parent Survey'!$EI$147:$GA$147,\">0\")","v":0},{"$f":"IFERROR(L$33/L$13,\"\")","v":""},{"$f":"COUNTIF('Parent Survey'!$GB$147:$HT$147,\">0\")","v":0},{"$f":"IFERROR(N$33/N$13,\"\")","v":""},{"$f":"COUNTIF('Parent Survey'!$HU$147:$JM$147,\">0\")","v":0},{"$f":"IFERROR(P$33/P$13,\"\")","v":""},{"$f":"COUNTIF('Parent Survey'!$JN$147:$LF$147,\">0\")","v":0},{"$f":"IFERROR(R$33/R$13,\"\")","v":""}]
[{"$f":"'Outcome PMs'!I22","v":0},{"$f":"'Outcome PMs'!J22","v":0},"Number of Families that Reported Improved Parent-Youth Relationship Quality: Number of families that reported improved parent-child relationship quality.",0,{"$f":"IFERROR(D34/D$33,\"\")","v":""},{"$f":"COUNTIF('Parent Survey'!$D$150:$AV$150,\">0\")","v":0},{"$f":"IFERROR(F34/F$33,\"\")","v":""},{"$f":"COUNTIF('Parent Survey'!$AW$150:$CO$150,\">0\")","v":0},{"$f":"IFERROR(H34/H$33,\"\")","v":""},{"$f":"COUNTIF('Parent Survey'!$CP$150:$EH$150,\">0\")","v":0},{"$f":"IFERROR(J34/J$33,\"\")","v":""},{"$f":"COUNTIF('Parent Survey'!$EI$150:$GA$150,\">0\")","v":0},{"$f":"IFERROR(L34/L$33,\"\")","v":""},{"$f":"COUNTIF('Parent Survey'!$GB$150:$HT$150,\">0\")","v":0},{"$f":"IFERROR(N34/N$33,\"\")","v":""},{"$f":"COUNTIF('Parent Survey'!$HU$150:$JM$150,\">0\")","v":0},{"$f":"IFERROR(P34/P$33,\"\")","v":""},{"$f":"COUNTIF('Parent Survey'!$JN$150:$LF$150,\">0\")","v":0},{"$f":"IFERROR(R34/R$33,\"\")","v":""}]
[{"$f":"'Outcome PMs'!#REF!","v":{"$error":"#REF!"}},{"$f":"'Outcome PMs'!#REF!","v":{"$error":"#REF!"}},"Number of Families that Reported Improved Family Cooperation & Problem Solving: Number of families that reported improved family cooperation and problem solving.",0,{"$f":"IFERROR(D35/D$33,\"\")","v":""},{"$f":"COUNTIF('Parent Survey'!$D$151:$AV$151,\">0\")","v":0},{"$f":"IFERROR(F35/F$33,\"\")","v":""},{"$f":"COUNTIF('Parent Survey'!$AW$151:$CO$151,\">0\")","v":0},{"$f":"IFERROR(H35/H$33,\"\")","v":""},{"$f":"COUNTIF('Parent Survey'!$CP$151:$EH$151,\">0\")","v":0},{"$f":"IFERROR(J35/J$33,\"\")","v":""},{"$f":"COUNTIF('Parent Survey'!$EI$151:$GA$151,\">0\")","v":0},{"$f":"IFERROR(L35/L$33,\"\")","v":""},{"$f":"COUNTIF('Parent Survey'!$GB$151:$HT$151,\">0\")","v":0},{"$f":"IFERROR(N35/N$33,\"\")","v":""},{"$f":"COUNTIF('Parent Survey'!$HU$151:$JM$151,\">0\")","v":0},{"$f":"IFERROR(P35/P$33,\"\")","v":""},{"$f":"COUNTIF('Parent Survey'!$JN$151:$LF$151,\">0\")","v":0},{"$f":"IFERROR(R35/R$33,\"\")","v":""}]
[null,null,"Number of Families with Increased Positive Rule Enforcement: Number of  families with increased positive rule enforcement.",{"$f":"SUM($F36,$H36,$J36,$L36,$N36,$P36,$R36)","v":0},{"$f":"IFERROR(D36/D$33,\"\")","v":""},{"$f":"COUNTIF('Parent Survey'!$D$152:$AV$152,\">0\")","v":0},{"$f":"IFERROR(F36/F$33,\"\")","v":""},{"$f":"COUNTIF('Parent Survey'!$AW$152:$CO$152,\">0\")","v":0},{"$f":"IFERROR(H36/H$33,\"\")","v":""},{"$f":"COUNTIF('Parent Survey'!$CP$152:$EH$152,\">0\")","v":0},{"$f":"IFERROR(J36/J$33,\"\")","v":""},{"$f":"COUNTIF('Parent Survey'!$EI$152:$GA$152,\">0\")","v":0},{"$f":"IFERROR(L36/L$33,\"\")","v":""},{"$f":"COUNTIF('Parent Survey'!$GB$152:$HT$152,\">0\")","v":0},{"$f":"IFERROR(N36/N$33,\"\")","v":""},{"$f":"COUNTIF('Parent Survey'!$HU$152:$JM$152,\">0\")","v":0},{"$f":"IFERROR(P36/P$33,\"\")","v":""},{"$f":"COUNTIF('Parent Survey'!$JN$152:$LF$152,\">0\")","v":0},{"$f":"IFERROR(R36/R$33,\"\")","v":""}]
[null,null,"IMPLEMENTATION QUALITY"]
[{"$f":"'Process PMs'!E22","v":0},"NA","Number of FF Program Session Components Observed: Number of the FF Program session components (parent, youth, or family) observed during this reporting period by an observer trained in the FF program.",{"$f":"SUM(F38,H38,J38,L38,N38,P38,R38)","v":0},"-",{"$f":"SUM('Parent Fidelity'!B54,'Youth Fidelity'!B54,'Family Fidelity'!B54)","v":0},"-",{"$f":"SUM('Parent Fidelity'!F54,'Youth Fidelity'!F54,'Family Fidelity'!F54)","v":0},"-",{"$f":"SUM('Parent Fidelity'!J54,'Youth Fidelity'!J54,'Family Fidelity'!J54)","v":0},"-",{"$f":"SUM('Parent Fidelity'!N54,'Youth Fidelity'!N54,'Family Fidelity'!N54)","v":0},"-",{"$f":"SUM('Parent Fidelity'!R54,'Youth Fidelity'!R54,'Family Fidelity'!R54)","v":0},"-",{"$f":"SUM('Parent Fidelity'!V54,'Youth Fidelity'!V54,'Family Fidelity'!V54)","v":0},"-",{"$f":"SUM('Parent Fidelity'!Z54,'Youth Fidelity'!Z54,'Family Fidelity'!Z54)","v":0},"-"]
[{"$f":"'Process PMs'!E23","v":0},{"$f":"IF(ISERROR(A39/A38),\" \",A39/A38)","v":" "},"Number of Observed FF Session Components that Met Minimum Fidelity: The number of FF session components observed during this reporting period that were delivered with a minimum fidelity rating of 75%.",{"$f":"SUM(F39,H39,J39,L39,N39,P39,R39)","v":0},{"$f":"IFERROR(D39/D38,\"\")","v":""},{"$f":"SUM('Parent Fidelity'!D54,'Youth Fidelity'!D54,'Family Fidelity'!D54)","v":0},{"$f":"IFERROR(F39/F38,\"\")","v":""},{"$f":"SUM('Parent Fidelity'!H54,'Youth Fidelity'!H54,'Family Fidelity'!H54)","v":0},{"$f":"IFERROR(H39/H38,\"\")","v":""},{"$f":"SUM('Parent Fidelity'!L54,'Youth Fidelity'!L54,'Family Fidelity'!L54)","v":0},{"$f":"IFERROR(J39/J38,\"\")","v":""},{"$f":"SUM('Parent Fidelity'!P54,'Youth Fidelity'!P54,'Family Fidelity'!P54)","v":0},{"$f":"IFERROR(L39/L38,\"\")","v":""},{"$f":"SUM('Parent Fidelity'!T54,'Youth Fidelity'!T54,'Family Fidelity'!T54)","v":0},{"$f":"IFERROR(N39/N38,\"\")","v":""},{"$f":"SUM('Parent Fidelity'!X54,'Youth Fidelity'!X54,'Family Fidelity'!X54)","v":0},{"$f":"IFERROR(P39/P38,\"\")","v":""},{"$f":"SUM('Parent Fidelity'!AB54,'Youth Fidelity'!AB54,'Family Fidelity'!AB54)","v":0},{"$f":"IFERROR(R39/R38,\"\")","v":""}]
["NA",{"$f":"IF(ISERROR(SUM('Parent Fidelity'!B61,#REF!,#REF!,#REF!)/#REF!),\" \",(SUM('Parent Fidelity'!B61,#REF!,#REF!,#REF!)/#REF!))","v":" "},"Average Percentage of Fidelity for the Observed Parent Sessions (Curriculum & Delivery Adherence Only)","NA",0]
["NA",{"$f":"IF(ISERROR(SUM(#REF!,#REF!,#REF!,#REF!)/#REF!),\" \",(SUM(#REF!,#REF!,#REF!,#REF!)/#REF!))","v":" "},"Average Percentage of Fidelity for the Observed Youth Sessions (Curriculum & Delivery Adherence Only)","NA",0]
["NA",{"$f":"IF(ISERROR(SUM(#REF!,#REF!,#REF!,#REF!)/#REF!), \" \", (SUM(#REF!,#REF!,#REF!,#REF!)/#REF!))","v":" "},"Average Percentage of Fidelity for the Observed Family Sessions (Curriculum Delivery & Adherence Only)","NA",0]
[null,null,"Parent Session Fidelity"]
[null,null,"Section 1 - Room/Equipment",{"$f":"SUM(F44,H44,J44,L44,N44,P44,R44)","v":0},{"$f":"IFERROR(AVERAGE(G44,I44,K44,M44,O44,Q44,S44),\"\")","v":""},{"$f":"'Parent Fidelity'!B72","v":""},{"$f":"'Parent Fidelity'!D41","v":""},{"$f":"'Parent Fidelity'!F72","v":""},{"$f":"'Parent Fidelity'!H41","v":""},{"$f":"'Parent Fidelity'!J72","v":""},{"$f":"'Parent Fidelity'!L41","v":""},{"$f":"'Parent Fidelity'!N72","v":""},{"$f":"'Parent Fidelity'!P41","v":""},{"$f":"'Parent Fidelity'!R72","v":""},{"$f":"'Parent Fidelity'!T41","v":""},{"$f":"'Parent Fidelity'!V72","v":""},{"$f":"'Parent Fidelity'!X41","v":""},{"$f":"'Parent Fidelity'!Z72","v":""},{"$f":"'Parent Fidelity'!AB41","v":""}]
[null,null,"Section 2 – Curriculum Adherence",{"$f":"SUM(F45,H45,J45,L45,N45,P45,R45)","v":0},{"$f":"IFERROR(AVERAGE(G45,I45,K45,M45,O45,Q45,S45),\"\")","v":""},{"$f":"'Parent Fidelity'!B73","v":""},{"$f":"'Parent Fidelity'!D42","v":""},{"$f":"'Parent Fidelity'!F73","v":""},{"$f":"'Parent Fidelity'!H42","v":""},{"$f":"'Parent Fidelity'!J73","v":""},{"$f":"'Parent Fidelity'!L42","v":""},{"$f":"'Parent Fidelity'!N73","v":""},{"$f":"'Parent Fidelity'!P42","v":""},{"$f":"'Parent Fidelity'!R73","v":""},{"$f":"'Parent Fidelity'!T42","v":""},{"$f":"'Parent Fidelity'!V73","v":""},{"$f":"'Parent Fidelity'!X42","v":""},{"$f":"'Parent Fidelity'!Z73","v":""},{"$f":"'Parent Fidelity'!AB42","v":""}]
[null,null,"Section 3 – Facilitator’s Delivery",{"$f":"SUM(F46,H46,J46,L46,N46,P46,R46)","v":0},{"$f":"IFERROR(AVERAGE(G46,I46,K46,M46,O46,Q46,S46),\"\")","v":""},{"$f":"'Parent Fidelity'!B74","v":""},{"$f":"'Parent Fidelity'!D43","v":""},{"$f":"'Parent Fidelity'!F74","v":""},{"$f":"'Parent Fidelity'!H43","v":""},{"$f":"'Parent Fidelity'!J74","v":""},{"$f":"'Parent Fidelity'!L43","v":""},{"$f":"'Parent Fidelity'!N74","v":""},{"$f":"'Parent Fidelity'!P43","v":""},{"$f":"'Parent Fidelity'!R74","v":""},{"$f":"'Parent Fidelity'!T43","v":""},{"$f":"'Parent Fidelity'!V74","v":""},{"$f":"'Parent Fidelity'!X43","v":""},{"$f":"'Parent Fidelity'!Z74","v":""},{"$f":"'Parent Fidelity'!AB43","v":""}]
[null,null,"Section 4 – Group Participation",{"$f":"SUM(F47,H47,J47,L47,N47,P47,R47)","v":0},{"$f":"IFERROR(AVERAGE(G47,I47,K47,M47,O47,Q47,S47),\"\")","v":""},{"$f":"'Parent Fidelity'!B75","v":""},{"$f":"'Parent Fidelity'!D44","v":""},{"$f":"'Parent Fidelity'!F75","v":""},{"$f":"'Parent Fidelity'!H44","v":""},{"$f":"'Parent Fidelity'!J75","v":""},{"$f":"'Parent Fidelity'!L44","v":""},{"$f":"'Parent Fidelity'!N75","v":""},{"$f":"'Parent Fidelity'!P44","v":""},{"$f":"'Parent Fidelity'!R75","v":""},{"$f":"'Parent Fidelity'!T44","v":""},{"$f":"'Parent Fidelity'!V75","v":""},{"$f":"'Parent Fidelity'!X44","v":""},{"$f":"'Parent Fidelity'!Z75","v":""},{"$f":"'Parent Fidelity'!AB44","v":""}]
[null,null,"Youth Session Fidelity"]
[null,null,"Section 1 - Room/Equipment",{"$f":"SUM(F49,H49,J49,L49,N49,P49,R49)","v":0},{"$f":"IFERROR(AVERAGE(G49,I49,K49,M49,O49,Q49,S49),\"\")","v":""},{"$f":"'Youth Fidelity'!B72","v":""},{"$f":"'Youth Fidelity'!D44","v":""},{"$f":"'Youth Fidelity'!F72","v":""},{"$f":"'Youth Fidelity'!H44","v":""},{"$f":"'Youth Fidelity'!J72","v":""},{"$f":"'Youth Fidelity'!L44","v":""},{"$f":"'Youth Fidelity'!N72","v":""},{"$f":"'Youth Fidelity'!P44","v":""},{"$f":"'Youth Fidelity'!R72","v":""},{"$f":"'Youth Fidelity'!T44","v":""},{"$f":"'Youth Fidelity'!V72","v":""},{"$f":"'Youth Fidelity'!X44","v":""},{"$f":"'Youth Fidelity'!Z72","v":""},{"$f":"'Youth Fidelity'!AB44","v":""}]
[null,null,"Section 2 – Curriculum Adherence",{"$f":"SUM(F50,H50,J50,L50,N50,P50,R50)","v":0},{"$f":"IFERROR(AVERAGE(G50,I50,K50,M50,O50,Q50,S50),\"\")","v":""},{"$f":"'Youth Fidelity'!B73","v":""},{"$f":"'Youth Fidelity'!D45","v":""},{"$f":"'Youth Fidelity'!F73","v":""},{"$f":"'Youth Fidelity'!H45","v":""},{"$f":"'Youth Fidelity'!J73","v":""},{"$f":"'Youth Fidelity'!L45","v":""},{"$f":"'Youth Fidelity'!N73","v":""},{"$f":"'Youth Fidelity'!P45","v":""},{"$f":"'Youth Fidelity'!R73","v":""},{"$f":"'Youth Fidelity'!T45","v":""},{"$f":"'Youth Fidelity'!V73","v":""},{"$f":"'Youth Fidelity'!X45","v":""},{"$f":"'Youth Fidelity'!Z73","v":""},{"$f":"'Youth Fidelity'!AB45","v":""}]
[null,null,"Section 3 – Youth Facilitator 1's Delivery",{"$f":"SUM(F51,H51,J51,L51,N51,P51,R51)","v":0},{"$f":"IFERROR(AVERAGE(G51,I51,K51,M51,O51,Q51,S51),\"\")","v":""},{"$f":"'Youth Fidelity'!B74","v":""},{"$f":"'Youth Fidelity'!D46","v":""},{"$f":"'Youth Fidelity'!F74","v":""},{"$f":"'Youth Fidelity'!H46","v":""},{"$f":"'Youth Fidelity'!J74","v":""},{"$f":"'Youth Fidelity'!L46","v":""},{"$f":"'Youth Fidelity'!N74","v":""},{"$f":"'Youth Fidelity'!P46","v":""},{"$f":"'Youth Fidelity'!R74","v":""},{"$f":"'Youth Fidelity'!T46","v":""},{"$f":"'Youth Fidelity'!V74","v":""},{"$f":"'Youth Fidelity'!X46","v":""},{"$f":"'Youth Fidelity'!Z74","v":""},{"$f":"'Youth Fidelity'!AB46","v":""}]
[null,null,"Section 4 – Youth Facilitator 2's Delivery",{"$f":"SUM(F52,H52,J52,L52,N52,P52,R52)","v":0},{"$f":"IFERROR(AVERAGE(G52,I52,K52,M52,O52,Q52,S52),\"\")","v":""},{"$f":"'Youth Fidelity'!B75","v":""},{"$f":"'Youth Fidelity'!D47","v":""},{"$f":"'Youth Fidelity'!F75","v":""},{"$f":"'Youth Fidelity'!H47","v":""},{"$f":"'Youth Fidelity'!J75","v":""},{"$f":"'Youth Fidelity'!L47","v":""},{"$f":"'Youth Fidelity'!N75","v":""},{"$f":"'Youth Fidelity'!P47","v":""},{"$f":"'Youth Fidelity'!R75","v":""},{"$f":"'Youth Fidelity'!T47","v":""},{"$f":"'Youth Fidelity'!V75","v":""},{"$f":"'Youth Fidelity'!X47","v":""},{"$f":"'Youth Fidelity'!Z75","v":""},{"$f":"'Youth Fidelity'!AB47","v":""}]
[null,null,"Section 5 – Group Participation",{"$f":"SUM(F53,H53,J53,L53,N53,P53,R53)","v":0},{"$f":"IFERROR(AVERAGE(G53,I53,K53,M53,O53,Q53,S53),\"\")","v":""},{"$f":"'Youth Fidelity'!B76","v":""},{"$f":"'Youth Fidelity'!D48","v":""},{"$f":"'Youth Fidelity'!F76","v":""},{"$f":"'Youth Fidelity'!H48","v":""},{"$f":"'Youth Fidelity'!J76","v":""},{"$f":"'Youth Fidelity'!L48","v":""},{"$f":"'Youth Fidelity'!N76","v":""},{"$f":"'Youth Fidelity'!P48","v":""},{"$f":"'Youth Fidelity'!R76","v":""},{"$f":"'Youth Fidelity'!T48","v":""},{"$f":"'Youth Fidelity'!V76","v":""},{"$f":"'Youth Fidelity'!X48","v":""},{"$f":"'Youth Fidelity'!Z76","v":""},{"$f":"'Youth Fidelity'!AB48","v":""}]
[null,null,"Family Session Fidelity"]
[null,null,"Section 1 - Room/Equipment",{"$f":"SUM(F55,H55,J55,L55,N55,P55,R55)","v":0},{"$f":"IFERROR(AVERAGE(G55,I55,K55,M55,O55,Q55,S55),\"\")","v":""},{"$f":"'Family Fidelity'!B72","v":""},{"$f":"'Family Fidelity'!D47","v":""},{"$f":"'Family Fidelity'!F72","v":""},{"$f":"'Family Fidelity'!H47","v":""},{"$f":"'Family Fidelity'!J72","v":""},{"$f":"'Family Fidelity'!L47","v":""},{"$f":"'Family Fidelity'!N72","v":""},{"$f":"'Family Fidelity'!P47","v":""},{"$f":"'Family Fidelity'!R72","v":""},{"$f":"'Family Fidelity'!T47","v":""},{"$f":"'Family Fidelity'!V72","v":""},{"$f":"'Family Fidelity'!X47","v":""},{"$f":"'Family Fidelity'!Z72","v":""},{"$f":"'Family Fidelity'!AB47","v":""}]
[null,null,"Section 2 – Curriculum Adherence",0,"",{"$f":"'Family Fidelity'!B73","v":""},{"$f":"'Family Fidelity'!D48","v":""},{"$f":"'Family Fidelity'!F73","v":""},{"$f":"'Family Fidelity'!H48","v":""},{"$f":"'Family Fidelity'!J73","v":""},{"$f":"'Family Fidelity'!L48","v":""},{"$f":"'Family Fidelity'!N73","v":""},{"$f":"'Family Fidelity'!P48","v":""},{"$f":"'Family Fidelity'!R73","v":""},{"$f":"'Family Fidelity'!T48","v":""},{"$f":"'Family Fidelity'!V73","v":""},{"$f":"'Family Fidelity'!X48","v":""},{"$f":"'Family Fidelity'!Z73","v":""},{"$f":"'Family Fidelity'!AB48","v":""}]
[null,null,"Section 3 - Parent Facilitator's Delivery",0,"",{"$f":"'Family Fidelity'!B74","v":""},{"$f":"'Family Fidelity'!D49","v":""},{"$f":"'Family Fidelity'!F74","v":""},{"$f":"'Family Fidelity'!H49","v":""},{"$f":"'Family Fidelity'!J74","v":""},{"$f":"'Family Fidelity'!L49","v":""},{"$f":"'Family Fidelity'!N74","v":""},{"$f":"'Family Fidelity'!P49","v":""},{"$f":"'Family Fidelity'!R74","v":""},{"$f":"'Family Fidelity'!T49","v":""},{"$f":"'Family Fidelity'!V74","v":""},{"$f":"'Family Fidelity'!X49","v":""},{"$f":"'Family Fidelity'!Z74","v":""},{"$f":"'Family Fidelity'!AB49","v":""}]
[null,null,"Section 4 – Youth Facilitator 1's Delivery",0,"",{"$f":"'Family Fidelity'!B75","v":""},{"$f":"'Family Fidelity'!D50","v":""},{"$f":"'Family Fidelity'!F75","v":""},{"$f":"'Family Fidelity'!H50","v":""},{"$f":"'Family Fidelity'!J75","v":""},{"$f":"'Family Fidelity'!L50","v":""},{"$f":"'Family Fidelity'!N75","v":""},{"$f":"'Family Fidelity'!P50","v":""},{"$f":"'Family Fidelity'!R75","v":""},{"$f":"'Family Fidelity'!T50","v":""},{"$f":"'Family Fidelity'!V75","v":""},{"$f":"'Family Fidelity'!X50","v":""},{"$f":"'Family Fidelity'!Z75","v":""},{"$f":"'Family Fidelity'!AB50","v":""}]
[null,null,"Section 5 – Youth Facilitator 2's Delivery",0,"",{"$f":"'Family Fidelity'!B76","v":""},{"$f":"'Family Fidelity'!D51","v":""},{"$f":"'Family Fidelity'!F76","v":""},{"$f":"'Family Fidelity'!H51","v":""},{"$f":"'Family Fidelity'!J76","v":""},{"$f":"'Family Fidelity'!L51","v":""},{"$f":"'Family Fidelity'!N76","v":""},{"$f":"'Family Fidelity'!P51","v":""},{"$f":"'Family Fidelity'!R76","v":""},{"$f":"'Family Fidelity'!T51","v":""},{"$f":"'Family Fidelity'!V76","v":""},{"$f":"'Family Fidelity'!X51","v":""},{"$f":"'Family Fidelity'!Z76","v":""},{"$f":"'Family Fidelity'!AB51","v":""}]
[null,null,"Section 6 – Group Participation",0,"",{"$f":"'Family Fidelity'!B77","v":""},{"$f":"'Family Fidelity'!D52","v":""},{"$f":"'Family Fidelity'!F77","v":""},{"$f":"'Family Fidelity'!H52","v":""},{"$f":"'Family Fidelity'!J77","v":""},{"$f":"'Family Fidelity'!L52","v":""},{"$f":"'Family Fidelity'!N77","v":""},{"$f":"'Family Fidelity'!P52","v":""},{"$f":"'Family Fidelity'!R77","v":""},{"$f":"'Family Fidelity'!T52","v":""},{"$f":"'Family Fidelity'!V77","v":""},{"$f":"'Family Fidelity'!X52","v":""},{"$f":"'Family Fidelity'!Z77","v":""},{"$f":"'Family Fidelity'!AB52","v":""}]
[{"$f":"Instructions!A2","v":"Ver. 1.1 (1-6-2016)"}]

{"sheet":"Attendance","index":4,"n_rows":265,"n_cols":44,"rows_kept":265,"cut":false,"hidden":false,"merged":[]}
["Attendance Record and Survey Identifiers"]
[null,null,null,"1st Delivery",null,null,null,null,null,"2nd Delivery",null,null,null,null,null,"3rd Delivery",null,null,null,null,null,"4th Delivery",null,null,null,null,null,"5th Delivery",null,null,null,null,null,"6th Delivery",null,null,null,null,null,"7th Delivery"]
[null,null,"Quarter completed?",null,null,null,null,null,"Quarter completed?",null,null,null,null,null,"Quarter completed?",null,null,null,null,null,"Quarter completed?",null,null,null,null,null,"Quarter completed?",null,null,null,null,null,"Quarter completed?",null,null,null,null,null,"Quarter completed?"]
[null,null,"Date Prog. Start",null,"Families Registered",null,"# Pre Tests Entered?",{"$f":"COUNTIF('Parent Survey'!D84:AV84,\"Complete\")+COUNTIF('Youth Survey'!D88:AV88,\"Complete\")","v":0},"Date Prog. Start",null,"Families Registered",null,"# Pre Tests Entered?",{"$f":"COUNTIF('Parent Survey'!AW84:CO84,\"Complete\")+COUNTIF('Youth Survey'!AW88:CO88,\"Complete\")","v":0},"Date Prog. Start",null,"Families Registered",null,"# Pre Tests Entered?",{"$f":"COUNTIF('Parent Survey'!CP84:EH84,\"Complete\")+COUNTIF('Youth Survey'!CP88:EH88,\"Complete\")","v":0},"Date Prog. Start",null,"Families Registered",null,"# Pre Tests Entered?",{"$f":"COUNTIF('Parent Survey'!EI84:GA84,\"Complete\")+COUNTIF('Youth Survey'!EI88:GA88,\"Complete\")","v":0},"Date Prog. Start",null,"Families Registered",null,"# Pre Tests Entered?",{"$f":"COUNTIF('Parent Survey'!GB84:HT84,\"Complete\")+COUNTIF('Youth Survey'!GB88:HT88,\"Complete\")","v":0},"Date Prog. Start",null,"Families Registered",null,"# Pre Tests Entered?",{"$f":"COUNTIF('Parent Survey'!HU84:JM84,\"Complete\")+COUNTIF('Youth Survey'!HU88:JM88,\"Complete\")","v":0},"Date Prog. Start",null,"Families Registered",null,"# Pre Tests Entered?",{"$f":"COUNTIF('Parent Survey'!JN84:LF84,\"Complete\")+COUNTIF('Youth Survey'!JN88:LF88,\"Complete\")","v":0}]
[null,null,"Date Prog. End",null,"Families Attended",{"$f":"G237","v":0},"# Post Tests Entered?",{"$f":"COUNTIF('Parent Survey'!D93:AV93,\"Complete\")+COUNTIF('Youth Survey'!D98:AV98,\"Complete\")","v":0},"Date Prog. End",null,"Families Attended",{"$f":"M237","v":0},"# Post Tests Entered?",{"$f":"COUNTIF('Parent Survey'!AW93:CO93,\"Complete\")+COUNTIF('Youth Survey'!AW98:CO98,\"Complete\")","v":0},"Date Prog. End",null,"Families Attended",{"$f":"S237","v":0},"# Post Tests Entered?",{"$f":"COUNTIF('Parent Survey'!CP93:EH93,\"Complete\")+COUNTIF('Youth Survey'!CP98:EH98,\"Complete\")","v":0},"Date Prog. End",null,"Families Attended",{"$f":"Y237","v":0},"# Post Tests Entered?",{"$f":"COUNTIF('Parent Survey'!EI93:GA93,\"Complete\")+COUNTIF('Youth Survey'!EI98:GA98,\"Complete\")","v":0},"Date Prog. End",null,"Families Attended",{"$f":"AE237","v":0},"# Post Tests Entered?",{"$f":"COUNTIF('Parent Survey'!GB93:HT93,\"Complete\")+COUNTIF('Youth Survey'!GB98:HT98,\"Complete\")","v":0},"Date Prog. End",null,"Families Attended",{"$f":"AK237","v":0},"# Post Tests Entered?",{"$f":"COUNTIF('Parent Survey'!HU93:JM93,\"Complete\")+COUNTIF('Youth Survey'!HU98:JM98,\"Complete\")","v":0},"Date Prog. End",null,"Families Attended",{"$f":"AQ237","v":0},"# Post Tests Entered?",{"$f":"COUNTIF('Parent Survey'!JN93:LF93,\"Complete\")+COUNTIF('Youth Survey'!JN98:LF98,\"Complete\")","v":0}]
[null,null,"Prog. Location",null,"Families Completed",{"$f":"H237","v":0},"No Show Rate",{"$f":"IF(F4>0,(F4-F5)/F4,\"\")","v":""},"Prog. Location",null,"Families Completed",{"$f":"N237","v":0},"No Show Rate",{"$f":"IF(L4>0,(L4-L5)/L4,\"\")","v":""},"Prog. Location",null,"Families Completed",{"$f":"T237","v":0},"No Show Rate",{"$f":"IF(R4>0,(R4-R5)/R4,\"\")","v":""},"Prog. Location",null,"Families Completed",{"$f":"Z237","v":0},"No Show Rate",{"$f":"IF(X4>0,(X4-X5)/X4,\"\")","v":""},"Prog. Location",null,"Families Completed",{"$f":"AF237","v":0},"No Show Rate",{"$f":"IF(AD4>0,(AD4-AD5)/AD4,\"\")","v":""},"Prog. Location",null,"Families Completed",{"$f":"AL237","v":0},"No Show Rate",{"$f":"IF(AJ4>0,(AJ4-AJ5)/AJ4,\"\")","v":""},"Prog. Location",null,"Families Completed",{"$f":"AR237","v":0},"No Show Rate",{"$f":"IF(AP4>0,(AP4-AP5)/AP4,\"\")","v":""}]
[null,null,"Family 1","Family 1","Family 1","Family 1","Family 1","Family 1","Family 1","Family 1","Family 1","Family 1","Family 1","Family 1","Family 1","Family 1","Family 1","Family 1","Family 1","Family 1","Family 1","Family 1","Family 1","Family 1","Family 1","Family 1","Family 1","Family 1","Family 1","Family 1","Family 1","Family 1","Family 1","Family 1","Family 1","Family 1","Family 1","Family 1","Family 1","Family 1","Family 1","Family 1","Family 1","Family 1"]
[null,null,"1A","1B","1C","1D","1E","1F","1A","1B","1C","1D","1E","1F","1A","1B","1C","1D","1E","1F","1A","1B","1C","1D","1E","1F","1A","1B","1C","1D","1E","1F","1A","1B","1C","1D","1E","1F","1A","1B","1C","1D","1E","1F"]
["Family 1"]
["Relationship",null,"Caregiver 1"," Caregiver 2","Youth 1","Youth 2","Youth 3","Other Adult","Caregiver 1"," Caregiver 2","Youth 1","Youth 2","Youth 3","Other Adult","Caregiver 1"," Caregiver 2","Youth 1","Youth 2","Youth 3","Other Adult","Caregiver 1"," Caregiver 2","Youth 1","Youth 2","Youth 3","Other Adult","Caregiver 1"," Caregiver 2","Youth 1","Youth 2","Youth 3","Other Adult","Caregiver 1"," Caregiver 2","Youth 1","Youth 2","Youth 3","Other Adult","Caregiver 1"," Caregiver 2","Youth 1","Youth 2","Youth 3","Other Adult"]
["Enter Initials (to aid data entry if needed)"]
["Attended Session 1"]
["Attended Session 2"]
["Attended Session 3"]
["Attended Session 4"]
["Attended Session 5"]
["Attended Session 6"]
["Attended Session 7"]
["Coded Pre-Test Entered?",null,{"$f":"HLOOKUP(C8,PComDel1,10,FALSE)","v":""},{"$f":"HLOOKUP(D8,PComDel1,10,FALSE)","v":""},{"$f":"HLOOKUP(E8,YComDel1,12,FALSE)","v":""},{"$f":"HLOOKUP(F8,YComDel1,12,FALSE)","v":""},{"$f":"HLOOKUP(G8,YComDel1,12,FALSE)","v":""},{"$f":"HLOOKUP(H8,PComDel1,10,FALSE)","v":""},{"$f":"HLOOKUP(I8,PComDel2,10,FALSE)","v":""},{"$f":"HLOOKUP(J8,PComDel2,10,FALSE)","v":""},{"$f":"HLOOKUP(K8,YComDel2,12,FALSE)","v":""},{"$f":"HLOOKUP(L8,YComDel2,12,FALSE)","v":""},{"$f":"HLOOKUP(M8,YComDel2,12,FALSE)","v":""},{"$f":"HLOOKUP(N8,PComDel2,10,FALSE)","v":""},{"$f":"HLOOKUP(O8,PComDel3,10,FALSE)","v":""},{"$f":"HLOOKUP(P8,PComDel3,10,FALSE)","v":""},{"$f":"HLOOKUP(Q8,YComDel3,12,FALSE)","v":""},{"$f":"HLOOKUP(R8,YComDel3,12,FALSE)","v":""},{"$f":"HLOOKUP(S8,YComDel3,12,FALSE)","v":""},{"$f":"HLOOKUP(T8,PComDel3,10,FALSE)","v":""},{"$f":"HLOOKUP(U8,PComDel4,10,FALSE)","v":""},{"$f":"HLOOKUP(V8,PComDel4,10,FALSE)","v":""},{"$f":"HLOOKUP(W8,YComDel4,12,FALSE)","v":""},{"$f":"HLOOKUP(X8,YComDel4,12,FALSE)","v":""},{"$f":"HLOOKUP(Y8,YComDel4,12,FALSE)","v":""},{"$f":"HLOOKUP(Z8,PComDel4,10,FALSE)","v":""},{"$f":"HLOOKUP(AA8,PComDel5,10,FALSE)","v":""},{"$f":"HLOOKUP(AB8,PComDel5,10,FALSE)","v":""},{"$f":"HLOOKUP(AC8,YComDel5,12,FALSE)","v":""},{"$f":"HLOOKUP(AD8,YComDel5,12,FALSE)","v":""},{"$f":"HLOOKUP(AE8,YComDel5,12,FALSE)","v":""},{"$f":"HLOOKUP(AF8,PComDel5,10,FALSE)","v":""},{"$f":"HLOOKUP(AG8,PComDel6,10,FALSE)","v":""},{"$f":"HLOOKUP(AH8,PComDel6,10,FALSE)","v":""},{"$f":"HLOOKUP(AI8,YComDel6,12,FALSE)","v":""},{"$f":"HLOOKUP(AJ8,YComDel6,12,FALSE)","v":""},{"$f":"HLOOKUP(AK8,YComDel6,12,FALSE)","v":""},{"$f":"HLOOKUP(AL8,PComDel6,10,FALSE)","v":""},{"$f":"HLOOKUP(AM8,PComDel7,10,FALSE)","v":""},{"$f":"HLOOKUP(AN8,PComDel7,10,FALSE)","v":""},{"$f":"HLOOKUP(AO8,YComDel7,12,FALSE)","v":""},{"$f":"HLOOKUP(AP8,YComDel7,12,FALSE)","v":""},{"$f":"HLOOKUP(AQ8,YComDel7,12,FALSE)","v":""},{"$f":"HLOOKUP(AR8,PComDel7,10,FALSE)","v":""}]
["Coded Post-Test Entered?",null,{"$f":"HLOOKUP(C8,PComDel1,19,FALSE)","v":""},{"$f":"HLOOKUP(D8,PComDel1,19,FALSE)","v":""},{"$f":"HLOOKUP(E8,YComDel1,22,FALSE)","v":""},{"$f":"HLOOKUP(F8,YComDel1,22,FALSE)","v":""},{"$f":"HLOOKUP(G8,YComDel1,22,FALSE)","v":""},{"$f":"HLOOKUP(H8,PComDel1,19,FALSE)","v":""},{"$f":"HLOOKUP(I8,PComDel2,19,FALSE)","v":""},{"$f":"HLOOKUP(J8,PComDel2,19,FALSE)","v":""},{"$f":"HLOOKUP(K8,YComDel2,22,FALSE)","v":""},{"$f":"HLOOKUP(L8,YComDel2,22,FALSE)","v":""},{"$f":"HLOOKUP(M8,YComDel2,22,FALSE)","v":""},{"$f":"HLOOKUP(N8,PComDel2,19,FALSE)","v":""},{"$f":"HLOOKUP(O8,PComDel3,19,FALSE)","v":""},{"$f":"HLOOKUP(P8,PComDel3,19,FALSE)","v":""},{"$f":"HLOOKUP(Q8,YComDel3,22,FALSE)","v":""},{"$f":"HLOOKUP(R8,YComDel3,22,FALSE)","v":""},{"$f":"HLOOKUP(S8,YComDel3,22,FALSE)","v":""},{"$f":"HLOOKUP(T8,PComDel3,19,FALSE)","v":""},{"$f":"HLOOKUP(U8,PComDel4,19,FALSE)","v":""},{"$f":"HLOOKUP(V8,PComDel4,19,FALSE)","v":""},{"$f":"HLOOKUP(W8,YComDel4,22,FALSE)","v":""},{"$f":"HLOOKUP(X8,YComDel4,22,FALSE)","v":""},{"$f":"HLOOKUP(Y8,YComDel4,22,FALSE)","v":""},{"$f":"HLOOKUP(Z8,PComDel4,19,FALSE)","v":""},{"$f":"HLOOKUP(AA8,PComDel5,19,FALSE)","v":""},{"$f":"HLOOKUP(AB8,PComDel5,19,FALSE)","v":""},{"$f":"HLOOKUP(AC8,YComDel5,22,FALSE)","v":""},{"$f":"HLOOKUP(AD8,YComDel5,22,FALSE)","v":""},{"$f":"HLOOKUP(AE8,YComDel5,22,FALSE)","v":""},{"$f":"HLOOKUP(AF8,PComDel5,19,FALSE)","v":""},{"$f":"HLOOKUP(AG8,PComDel6,19,FALSE)","v":""},{"$f":"HLOOKUP(AH8,PComDel6,19,FALSE)","v":""},{"$f":"HLOOKUP(AI8,YComDel6,22,FALSE)","v":""},{"$f":"HLOOKUP(AJ8,YComDel6,22,FALSE)","v":""},{"$f":"HLOOKUP(AK8,YComDel6,22,FALSE)","v":""},{"$f":"HLOOKUP(AL8,PComDel6,19,FALSE)","v":""},{"$f":"HLOOKUP(AM8,PComDel7,19,FALSE)","v":""},{"$f":"HLOOKUP(AN8,PComDel7,19,FALSE)","v":""},{"$f":"HLOOKUP(AO8,YComDel7,22,FALSE)","v":""},{"$f":"HLOOKUP(AP8,YComDel7,22,FALSE)","v":""},{"$f":"HLOOKUP(AQ8,YComDel7,22,FALSE)","v":""},{"$f":"HLOOKUP(AR8,PComDel7,19,FALSE)","v":""}]
[null,null,"Family 2","Family 2","Family 2","Family 2","Family 2","Family 2","Family 2","Family 2","Family 2","Family 2","Family 2","Family 2","Family 2","Family 2","Family 2","Family 2","Family 2","Family 2","Family 2","Family 2","Family 2","Family 2","Family 2","Family 2","Family 2","Family 2","Family 2","Family 2","Family 2","Family 2","Family 2","Family 2","Family 2","Family 2","Family 2","Family 2","Family 2","Family 2","Family 2","Family 2","Family 2","Family 2"]
[null,null,"2A","2B","2C","2D","2E","2F","2A","2B","2C","2D","2E","2F","2A","2B","2C","2D","2E","2F","2A","2B","2C","2D","2E","2F","2A","2B","2C","2D","2E","2F","2A","2B","2C","2D","2E","2F","2A","2B","2C","2D","2E","2F"]
["Family 2"]
["Relationship",null,"Caregiver 1"," Caregiver 2","Youth 1","Youth 2","Youth 3","Other Adult","Caregiver 1"," Caregiver 2","Youth 1","Youth 2","Youth 3","Other Adult","Caregiver 1"," Caregiver 2","Youth 1","Youth 2","Youth 3","Other Adult","Caregiver 1"," Caregiver 2","Youth 1","Youth 2","Youth 3","Other Adult","Caregiver 1"," Caregiver 2","Youth 1","Youth 2","Youth 3","Other Adult","Caregiver 1"," Caregiver 2","Youth 1","Youth 2","Youth 3","Other Adult","Caregiver 1"," Caregiver 2","Youth 1","Youth 2","Youth 3","Other Adult"]
["Enter Initials (to aid data entry if needed)"]
["Attended Session 1"]
["Attended Session 2"]
["Attended Session 3"]
["Attended Session 4"]
["Attended Session 5"]
["Attended Session 6"]
["Attended Session 7"]
["Coded Pre-Test Entered?",null,{"$f":"HLOOKUP(C22,PComDel1,10,FALSE)","v":""},{"$f":"HLOOKUP(D22,PComDel1,10,FALSE)","v":""},{"$f":"HLOOKUP(E22,YComDel1,12,FALSE)","v":""},{"$f":"HLOOKUP(F22,YComDel1,12,FALSE)","v":""},{"$f":"HLOOKUP(G22,YComDel1,12,FALSE)","v":""},{"$f":"HLOOKUP(H22,PComDel1,10,FALSE)","v":""},{"$f":"HLOOKUP(I22,PComDel2,10,FALSE)","v":""},{"$f":"HLOOKUP(J22,PComDel2,10,FALSE)","v":""},{"$f":"HLOOKUP(K22,YComDel2,12,FALSE)","v":""},{"$f":"HLOOKUP(L22,YComDel2,12,FALSE)","v":""},{"$f":"HLOOKUP(M22,YComDel2,12,FALSE)","v":""},{"$f":"HLOOKUP(N22,PComDel2,10,FALSE)","v":""},{"$f":"HLOOKUP(O22,PComDel3,10,FALSE)","v":""},{"$f":"HLOOKUP(P22,PComDel3,10,FALSE)","v":""},{"$f":"HLOOKUP(Q22,YComDel3,12,FALSE)","v":""},{"$f":"HLOOKUP(R22,YComDel3,12,FALSE)","v":""},{"$f":"HLOOKUP(S22,YComDel3,12,FALSE)","v":""},{"$f":"HLOOKUP(T22,PComDel3,10,FALSE)","v":""},{"$f":"HLOOKUP(U22,PComDel4,10,FALSE)","v":""},{"$f":"HLOOKUP(V22,PComDel4,10,FALSE)","v":""},{"$f":"HLOOKUP(W22,YComDel4,12,FALSE)","v":""},{"$f":"HLOOKUP(X22,YComDel4,12,FALSE)","v":""},{"$f":"HLOOKUP(Y22,YComDel4,12,FALSE)","v":""},{"$f":"HLOOKUP(Z22,PComDel4,10,FALSE)","v":""},{"$f":"HLOOKUP(AA22,PComDel5,10,FALSE)","v":""},{"$f":"HLOOKUP(AB22,PComDel5,10,FALSE)","v":""},{"$f":"HLOOKUP(AC22,YComDel5,12,FALSE)","v":""},{"$f":"HLOOKUP(AD22,YComDel5,12,FALSE)","v":""},{"$f":"HLOOKUP(AE22,YComDel5,12,FALSE)","v":""},{"$f":"HLOOKUP(AF22,PComDel5,10,FALSE)","v":""},{"$f":"HLOOKUP(AG22,PComDel6,10,FALSE)","v":""},{"$f":"HLOOKUP(AH22,PComDel6,10,FALSE)","v":""},{"$f":"HLOOKUP(AI22,YComDel6,12,FALSE)","v":""},{"$f":"HLOOKUP(AJ22,YComDel6,12,FALSE)","v":""},{"$f":"HLOOKUP(AK22,YComDel6,12,FALSE)","v":""},{"$f":"HLOOKUP(AL22,PComDel6,10,FALSE)","v":""},{"$f":"HLOOKUP(AM22,PComDel7,10,FALSE)","v":""},{"$f":"HLOOKUP(AN22,PComDel7,10,FALSE)","v":""},{"$f":"HLOOKUP(AO22,YComDel7,12,FALSE)","v":""},{"$f":"HLOOKUP(AP22,YComDel7,12,FALSE)","v":""},{"$f":"HLOOKUP(AQ22,YComDel7,12,FALSE)","v":""},{"$f":"HLOOKUP(AR22,PComDel7,10,FALSE)","v":""}]
["Coded Post-Test Entered?",null,{"$f":"HLOOKUP(C22,PComDel1,19,FALSE)","v":""},{"$f":"HLOOKUP(D22,PComDel1,19,FALSE)","v":""},{"$f":"HLOOKUP(E22,YComDel1,22,FALSE)","v":""},{"$f":"HLOOKUP(F22,YComDel1,22,FALSE)","v":""},{"$f":"HLOOKUP(G22,YComDel1,22,FALSE)","v":""},{"$f":"HLOOKUP(H22,PComDel1,19,FALSE)","v":""},{"$f":"HLOOKUP(I22,PComDel2,19,FALSE)","v":""},{"$f":"HLOOKUP(J22,PComDel2,19,FALSE)","v":""},{"$f":"HLOOKUP(K22,YComDel2,22,FALSE)","v":""},{"$f":"HLOOKUP(L22,YComDel2,22,FALSE)","v":""},{"$f":"HLOOKUP(M22,YComDel2,22,FALSE)","v":""},{"$f":"HLOOKUP(N22,PComDel2,19,FALSE)","v":""},{"$f":"HLOOKUP(O22,PComDel3,19,FALSE)","v":""},{"$f":"HLOOKUP(P22,PComDel3,19,FALSE)","v":""},{"$f":"HLOOKUP(Q22,YComDel3,22,FALSE)","v":""},{"$f":"HLOOKUP(R22,YComDel3,22,FALSE)","v":""},{"$f":"HLOOKUP(S22,YComDel3,22,FALSE)","v":""},{"$f":"HLOOKUP(T22,PComDel3,19,FALSE)","v":""},{"$f":"HLOOKUP(U22,PComDel4,19,FALSE)","v":""},{"$f":"HLOOKUP(V22,PComDel4,19,FALSE)","v":""},{"$f":"HLOOKUP(W22,YComDel4,22,FALSE)","v":""},{"$f":"HLOOKUP(X22,YComDel4,22,FALSE)","v":""},{"$f":"HLOOKUP(Y22,YComDel4,22,FALSE)","v":""},{"$f":"HLOOKUP(Z22,PComDel4,19,FALSE)","v":""},{"$f":"HLOOKUP(AA22,PComDel5,19,FALSE)","v":""},{"$f":"HLOOKUP(AB22,PComDel5,19,FALSE)","v":""},{"$f":"HLOOKUP(AC22,YComDel5,22,FALSE)","v":""},{"$f":"HLOOKUP(AD22,YComDel5,22,FALSE)","v":""},{"$f":"HLOOKUP(AE22,YComDel5,22,FALSE)","v":""},{"$f":"HLOOKUP(AF22,PComDel5,19,FALSE)","v":""},{"$f":"HLOOKUP(AG22,PComDel6,19,FALSE)","v":""},{"$f":"HLOOKUP(AH22,PComDel6,19,FALSE)","v":""},{"$f":"HLOOKUP(AI22,YComDel6,22,FALSE)","v":""},{"$f":"HLOOKUP(AJ22,YComDel6,22,FALSE)","v":""},{"$f":"HLOOKUP(AK22,YComDel6,22,FALSE)","v":""},{"$f":"HLOOKUP(AL22,PComDel6,19,FALSE)","v":""},{"$f":"HLOOKUP(AM22,PComDel7,19,FALSE)","v":""},{"$f":"HLOOKUP(AN22,PComDel7,19,FALSE)","v":""},{"$f":"HLOOKUP(AO22,YComDel7,22,FALSE)","v":""},{"$f":"HLOOKUP(AP22,YComDel7,22,FALSE)","v":""},{"$f":"HLOOKUP(AQ22,YComDel7,22,FALSE)","v":""},{"$f":"HLOOKUP(AR22,PComDel7,19,FALSE)","v":""}]
[null,null,"Family 3","Family 3","Family 3","Family 3","Family 3","Family 3","Family 3","Family 3","Family 3","Family 3","Family 3","Family 3","Family 3","Family 3","Family 3","Family 3","Family 3","Family 3","Family 3","Family 3","Family 3","Family 3","Family 3","Family 3","Family 3","Family 3","Family 3","Family 3","Family 3","Family 3","Family 3","Family 3","Family 3","Family 3","Family 3","Family 3","Family 3","Family 3","Family 3","Family 3","Family 3","Family 3"]
[null,null,"3A","3B","3C","3D","3E","3F","3A","3B","3C","3D","3E","3F","3A","3B","3C","3D","3E","3F","3A","3B","3C","3D","3E","3F","3A","3B","3C","3D","3E","3F","3A","3B","3C","3D","3E","3F","3A","3B","3C","3D","3E","3F"]
["Family 3"]
["Relationship",null,"Caregiver 1"," Caregiver 2","Youth 1","Youth 2","Youth 3","Other Adult","Caregiver 1"," Caregiver 2","Youth 1","Youth 2","Youth 3","Other Adult","Caregiver 1"," Caregiver 2","Youth 1","Youth 2","Youth 3","Other Adult","Caregiver 1"," Caregiver 2","Youth 1","Youth 2","Youth 3","Other Adult","Caregiver 1"," Caregiver 2","Youth 1","Youth 2","Youth 3","Other Adult","Caregiver 1"," Caregiver 2","Youth 1","Youth 2","Youth 3","Other Adult","Caregiver 1"," Caregiver 2","Youth 1","Youth 2","Youth 3","Other Adult"]
["Enter Initials (to aid data entry if needed)"]
["Attended Session 1"]
["Attended Session 2"]
["Attended Session 3"]
["Attended Session 4"]
["Attended Session 5"]
["Attended Session 6"]
["Attended Session 7"]
["Coded Pre-Test Entered?",null,{"$f":"HLOOKUP(C36,PComDel1,10,FALSE)","v":""},{"$f":"HLOOKUP(D36,PComDel1,10,FALSE)","v":""},{"$f":"HLOOKUP(E36,YComDel1,12,FALSE)","v":""},{"$f":"HLOOKUP(F36,YComDel1,12,FALSE)","v":""},{"$f":"HLOOKUP(G36,YComDel1,12,FALSE)","v":""},{"$f":"HLOOKUP(H36,PComDel1,10,FALSE)","v":""},{"$f":"HLOOKUP(I36,PComDel2,10,FALSE)","v":""},{"$f":"HLOOKUP(J36,PComDel2,10,FALSE)","v":""},{"$f":"HLOOKUP(K36,YComDel2,12,FALSE)","v":""},{"$f":"HLOOKUP(L36,YComDel2,12,FALSE)","v":""},{"$f":"HLOOKUP(M36,YComDel2,12,FALSE)","v":""},{"$f":"HLOOKUP(N36,PComDel2,10,FALSE)","v":""},{"$f":"HLOOKUP(O36,PComDel3,10,FALSE)","v":""},{"$f":"HLOOKUP(P36,PComDel3,10,FALSE)","v":""},{"$f":"HLOOKUP(Q36,YComDel3,12,FALSE)","v":""},{"$f":"HLOOKUP(R36,YComDel3,12,FALSE)","v":""},{"$f":"HLOOKUP(S36,YComDel3,12,FALSE)","v":""},{"$f":"HLOOKUP(T36,PComDel3,10,FALSE)","v":""},{"$f":"HLOOKUP(U36,PComDel4,10,FALSE)","v":""},{"$f":"HLOOKUP(V36,PComDel4,10,FALSE)","v":""},{"$f":"HLOOKUP(W36,YComDel4,12,FALSE)","v":""},{"$f":"HLOOKUP(X36,YComDel4,12,FALSE)","v":""},{"$f":"HLOOKUP(Y36,YComDel4,12,FALSE)","v":""},{"$f":"HLOOKUP(Z36,PComDel4,10,FALSE)","v":""},{"$f":"HLOOKUP(AA36,PComDel5,10,FALSE)","v":""},{"$f":"HLOOKUP(AB36,PComDel5,10,FALSE)","v":""},{"$f":"HLOOKUP(AC36,YComDel5,12,FALSE)","v":""},{"$f":"HLOOKUP(AD36,YComDel5,12,FALSE)","v":""},{"$f":"HLOOKUP(AE36,YComDel5,12,FALSE)","v":""},{"$f":"HLOOKUP(AF36,PComDel5,10,FALSE)","v":""},{"$f":"HLOOKUP(AG36,PComDel6,10,FALSE)","v":""},{"$f":"HLOOKUP(AH36,PComDel6,10,FALSE)","v":""},{"$f":"HLOOKUP(AI36,YComDel6,12,FALSE)","v":""},{"$f":"HLOOKUP(AJ36,YComDel6,12,FALSE)","v":""},{"$f":"HLOOKUP(AK36,YComDel6,12,FALSE)","v":""},{"$f":"HLOOKUP(AL36,PComDel6,10,FALSE)","v":""},{"$f":"HLOOKUP(AM36,PComDel7,10,FALSE)","v":""},{"$f":"HLOOKUP(AN36,PComDel7,10,FALSE)","v":""},{"$f":"HLOOKUP(AO36,YComDel7,12,FALSE)","v":""},{"$f":"HLOOKUP(AP36,YComDel7,12,FALSE)","v":""},{"$f":"HLOOKUP(AQ36,YComDel7,12,FALSE)","v":""},{"$f":"HLOOKUP(AR36,PComDel7,10,FALSE)","v":""}]
["Coded Post-Test Entered?",null,{"$f":"HLOOKUP(C36,PComDel1,19,FALSE)","v":""},{"$f":"HLOOKUP(D36,PComDel1,19,FALSE)","v":""},{"$f":"HLOOKUP(E36,YComDel1,22,FALSE)","v":""},{"$f":"HLOOKUP(F36,YComDel1,22,FALSE)","v":""},{"$f":"HLOOKUP(G36,YComDel1,22,FALSE)","v":""},{"$f":"HLOOKUP(H36,PComDel1,19,FALSE)","v":""},{"$f":"HLOOKUP(I36,PComDel2,19,FALSE)","v":""},{"$f":"HLOOKUP(J36,PComDel2,19,FALSE)","v":""},{"$f":"HLOOKUP(K36,YComDel2,22,FALSE)","v":""},{"$f":"HLOOKUP(L36,YComDel2,22,FALSE)","v":""},{"$f":"HLOOKUP(M36,YComDel2,22,FALSE)","v":""},{"$f":"HLOOKUP(N36,PComDel2,19,FALSE)","v":""},{"$f":"HLOOKUP(O36,PComDel3,19,FALSE)","v":""},{"$f":"HLOOKUP(P36,PComDel3,19,FALSE)","v":""},{"$f":"HLOOKUP(Q36,YComDel3,22,FALSE)","v":""},{"$f":"HLOOKUP(R36,YComDel3,22,FALSE)","v":""},{"$f":"HLOOKUP(S36,YComDel3,22,FALSE)","v":""},{"$f":"HLOOKUP(T36,PComDel3,19,FALSE)","v":""},{"$f":"HLOOKUP(U36,PComDel4,19,FALSE)","v":""},{"$f":"HLOOKUP(V36,PComDel4,19,FALSE)","v":""},{"$f":"HLOOKUP(W36,YComDel4,22,FALSE)","v":""},{"$f":"HLOOKUP(X36,YComDel4,22,FALSE)","v":""},{"$f":"HLOOKUP(Y36,YComDel4,22,FALSE)","v":""},{"$f":"HLOOKUP(Z36,PComDel4,19,FALSE)","v":""},{"$f":"HLOOKUP(AA36,PComDel5,19,FALSE)","v":""},{"$f":"HLOOKUP(AB36,PComDel5,19,FALSE)","v":""},{"$f":"HLOOKUP(AC36,YComDel5,22,FALSE)","v":""},{"$f":"HLOOKUP(AD36,YComDel5,22,FALSE)","v":""},{"$f":"HLOOKUP(AE36,YComDel5,22,FALSE)","v":""},{"$f":"HLOOKUP(AF36,PComDel5,19,FALSE)","v":""},{"$f":"HLOOKUP(AG36,PComDel6,19,FALSE)","v":""},{"$f":"HLOOKUP(AH36,PComDel6,19,FALSE)","v":""},{"$f":"HLOOKUP(AI36,YComDel6,22,FALSE)","v":""},{"$f":"HLOOKUP(AJ36,YComDel6,22,FALSE)","v":""},{"$f":"HLOOKUP(AK36,YComDel6,22,FALSE)","v":""},{"$f":"HLOOKUP(AL36,PComDel6,19,FALSE)","v":""},{"$f":"HLOOKUP(AM36,PComDel7,19,FALSE)","v":""},{"$f":"HLOOKUP(AN36,PComDel7,19,FALSE)","v":""},{"$f":"HLOOKUP(AO36,YComDel7,22,FALSE)","v":""},{"$f":"HLOOKUP(AP36,YComDel7,22,FALSE)","v":""},{"$f":"HLOOKUP(AQ36,YComDel7,22,FALSE)","v":""},{"$f":"HLOOKUP(AR36,PComDel7,19,FALSE)","v":""}]
[null,null,"Family 4","Family 4","Family 4","Family 4","Family 4","Family 4","Family 4","Family 4","Family 4","Family 4","Family 4","Family 4","Family 4","Family 4","Family 4","Family 4","Family 4","Family 4","Family 4","Family 4","Family 4","Family 4","Family 4","Family 4","Family 4","Family 4","Family 4","Family 4","Family 4","Family 4","Family 4","Family 4","Family 4","Family 4","Family 4","Family 4","Family 4","Family 4","Family 4","Family 4","Family 4","Family 4"]
[null,null,"4A","4B","4C","4D","4E","4F","4A","4B","4C","4D","4E","4F","4A","4B","4C","4D","4E","4F","4A","4B","4C","4D","4E","4F","4A","4B","4C","4D","4E","4F","4A","4B","4C","4D","4E","4F","4A","4B","4C","4D","4E","4F"]
["Family 4"]
["Relationship",null,"Caregiver 1"," Caregiver 2","Youth 1","Youth 2","Youth 3","Other Adult","Caregiver 1"," Caregiver 2","Youth 1","Youth 2","Youth 3","Other Adult","Caregiver 1"," Caregiver 2","Youth 1","Youth 2","Youth 3","Other Adult","Caregiver 1"," Caregiver 2","Youth 1","Youth 2","Youth 3","Other Adult","Caregiver 1"," Caregiver 2","Youth 1","Youth 2","Youth 3","Other Adult","Caregiver 1"," Caregiver 2","Youth 1","Youth 2","Youth 3","Other Adult","Caregiver 1"," Caregiver 2","Youth 1","Youth 2","Youth 3","Other Adult"]
["Enter Initials (to aid data entry if needed)"]
["Attended Session 1"]
["Attended Session 2"]
["Attended Session 3"]
["Attended Session 4"]
["Attended Session 5"]
["Attended Session 6"]
["Attended Session 7"]
["Coded Pre-Test Entered?",null,{"$f":"HLOOKUP(C50,PComDel1,10,FALSE)","v":""},{"$f":"HLOOKUP(D50,PComDel1,10,FALSE)","v":""},{"$f":"HLOOKUP(E50,YComDel1,12,FALSE)","v":""},{"$f":"HLOOKUP(F50,YComDel1,12,FALSE)","v":""},{"$f":"HLOOKUP(G50,YComDel1,12,FALSE)","v":""},{"$f":"HLOOKUP(H50,PComDel1,10,FALSE)","v":""},{"$f":"HLOOKUP(I50,PComDel2,10,FALSE)","v":""},{"$f":"HLOOKUP(J50,PComDel2,10,FALSE)","v":""},{"$f":"HLOOKUP(K50,YComDel2,12,FALSE)","v":""},{"$f":"HLOOKUP(L50,YComDel2,12,FALSE)","v":""},{"$f":"HLOOKUP(M50,YComDel2,12,FALSE)","v":""},{"$f":"HLOOKUP(N50,PComDel2,10,FALSE)","v":""},{"$f":"HLOOKUP(O50,PComDel3,10,FALSE)","v":""},{"$f":"HLOOKUP(P50,PComDel3,10,FALSE)","v":""},{"$f":"HLOOKUP(Q50,YComDel3,12,FALSE)","v":""},{"$f":"HLOOKUP(R50,YComDel3,12,FALSE)","v":""},{"$f":"HLOOKUP(S50,YComDel3,12,FALSE)","v":""},{"$f":"HLOOKUP(T50,PComDel3,10,FALSE)","v":""},{"$f":"HLOOKUP(U50,PComDel4,10,FALSE)","v":""},{"$f":"HLOOKUP(V50,PComDel4,10,FALSE)","v":""},{"$f":"HLOOKUP(W50,YComDel4,12,FALSE)","v":""},{"$f":"HLOOKUP(X50,YComDel4,12,FALSE)","v":""},{"$f":"HLOOKUP(Y50,YComDel4,12,FALSE)","v":""},{"$f":"HLOOKUP(Z50,PComDel4,10,FALSE)","v":""},{"$f":"HLOOKUP(AA50,PComDel5,10,FALSE)","v":""},{"$f":"HLOOKUP(AB50,PComDel5,10,FALSE)","v":""},{"$f":"HLOOKUP(AC50,YComDel5,12,FALSE)","v":""},{"$f":"HLOOKUP(AD50,YComDel5,12,FALSE)","v":""},{"$f":"HLOOKUP(AE50,YComDel5,12,FALSE)","v":""},{"$f":"HLOOKUP(AF50,PComDel5,10,FALSE)","v":""},{"$f":"HLOOKUP(AG50,PComDel6,10,FALSE)","v":""},{"$f":"HLOOKUP(AH50,PComDel6,10,FALSE)","v":""},{"$f":"HLOOKUP(AI50,YComDel6,12,FALSE)","v":""},{"$f":"HLOOKUP(AJ50,YComDel6,12,FALSE)","v":""},{"$f":"HLOOKUP(AK50,YComDel6,12,FALSE)","v":""},{"$f":"HLOOKUP(AL50,PComDel6,10,FALSE)","v":""},{"$f":"HLOOKUP(AM50,PComDel7,10,FALSE)","v":""},{"$f":"HLOOKUP(AN50,PComDel7,10,FALSE)","v":""},{"$f":"HLOOKUP(AO50,YComDel7,12,FALSE)","v":""},{"$f":"HLOOKUP(AP50,YComDel7,12,FALSE)","v":""},{"$f":"HLOOKUP(AQ50,YComDel7,12,FALSE)","v":""},{"$f":"HLOOKUP(AR50,PComDel7,10,FALSE)","v":""}]
["Coded Post-Test Entered?",null,{"$f":"HLOOKUP(C50,PComDel1,19,FALSE)","v":""},{"$f":"HLOOKUP(D50,PComDel1,19,FALSE)","v":""},{"$f":"HLOOKUP(E50,YComDel1,22,FALSE)","v":""},{"$f":"HLOOKUP(F50,YComDel1,22,FALSE)","v":""},{"$f":"HLOOKUP(G50,YComDel1,22,FALSE)","v":""},{"$f":"HLOOKUP(H50,PComDel1,19,FALSE)","v":""},{"$f":"HLOOKUP(I50,PComDel2,19,FALSE)","v":""},{"$f":"HLOOKUP(J50,PComDel2,19,FALSE)","v":""},{"$f":"HLOOKUP(K50,YComDel2,22,FALSE)","v":""},{"$f":"HLOOKUP(L50,YComDel2,22,FALSE)","v":""},{"$f":"HLOOKUP(M50,YComDel2,22,FALSE)","v":""},{"$f":"HLOOKUP(N50,PComDel2,19,FALSE)","v":""},{"$f":"HLOOKUP(O50,PComDel3,19,FALSE)","v":""},{"$f":"HLOOKUP(P50,PComDel3,19,FALSE)","v":""},{"$f":"HLOOKUP(Q50,YComDel3,22,FALSE)","v":""},{"$f":"HLOOKUP(R50,YComDel3,22,FALSE)","v":""},{"$f":"HLOOKUP(S50,YComDel3,22,FALSE)","v":""},{"$f":"HLOOKUP(T50,PComDel3,19,FALSE)","v":""},{"$f":"HLOOKUP(U50,PComDel4,19,FALSE)","v":""},{"$f":"HLOOKUP(V50,PComDel4,19,FALSE)","v":""},{"$f":"HLOOKUP(W50,YComDel4,22,FALSE)","v":""},{"$f":"HLOOKUP(X50,YComDel4,22,FALSE)","v":""},{"$f":"HLOOKUP(Y50,YComDel4,22,FALSE)","v":""},{"$f":"HLOOKUP(Z50,PComDel4,19,FALSE)","v":""},{"$f":"HLOOKUP(AA50,PComDel5,19,FALSE)","v":""},{"$f":"HLOOKUP(AB50,PComDel5,19,FALSE)","v":""},{"$f":"HLOOKUP(AC50,YComDel5,22,FALSE)","v":""},{"$f":"HLOOKUP(AD50,YComDel5,22,FALSE)","v":""},{"$f":"HLOOKUP(AE50,YComDel5,22,FALSE)","v":""},{"$f":"HLOOKUP(AF50,PComDel5,19,FALSE)","v":""},{"$f":"HLOOKUP(AG50,PComDel6,19,FALSE)","v":""},{"$f":"HLOOKUP(AH50,PComDel6,19,FALSE)","v":""},{"$f":"HLOOKUP(AI50,YComDel6,22,FALSE)","v":""},{"$f":"HLOOKUP(AJ50,YComDel6,22,FALSE)","v":""},{"$f":"HLOOKUP(AK50,YComDel6,22,FALSE)","v":""},{"$f":"HLOOKUP(AL50,PComDel6,19,FALSE)","v":""},{"$f":"HLOOKUP(AM50,PComDel7,19,FALSE)","v":""},{"$f":"HLOOKUP(AN50,PComDel7,19,FALSE)","v":""},{"$f":"HLOOKUP(AO50,YComDel7,22,FALSE)","v":""},{"$f":"HLOOKUP(AP50,YComDel7,22,FALSE)","v":""},{"$f":"HLOOKUP(AQ50,YComDel7,22,FALSE)","v":""},{"$f":"HLOOKUP(AR50,PComDel7,19,FALSE)","v":""}]
[null,null,"Family 5","Family 5","Family 5","Family 5","Family 5","Family 5","Family 5","Family 5","Family 5","Family 5","Family 5","Family 5","Family 5","Family 5","Family 5","Family 5","Family 5","Family 5","Family 5","Family 5","Family 5","Family 5","Family 5","Family 5","Family 5","Family 5","Family 5","Family 5","Family 5","Family 5","Family 5","Family 5","Family 5","Family 5","Family 5","Family 5","Family 5","Family 5","Family 5","Family 5","Family 5","Family 5"]
[null,null,"5A","5B","5C","5D","5E","5F","5A","5B","5C","5D","5E","5F","5A","5B","5C","5D","5E","5F","5A","5B","5C","5D","5E","5F","5A","5B","5C","5D","5E","5F","5A","5B","5C","5D","5E","5F","5A","5B","5C","5D","5E","5F"]
["Family 5"]
["Relationship",null,"Caregiver 1"," Caregiver 2","Youth 1","Youth 2","Youth 3","Other Adult","Caregiver 1"," Caregiver 2","Youth 1","Youth 2","Youth 3","Other Adult","Caregiver 1"," Caregiver 2","Youth 1","Youth 2","Youth 3","Other Adult","Caregiver 1"," Caregiver 2","Youth 1","Youth 2","Youth 3","Other Adult","Caregiver 1"," Caregiver 2","Youth 1","Youth 2","Youth 3","Other Adult","Caregiver 1"," Caregiver 2","Youth 1","Youth 2","Youth 3","Other Adult","Caregiver 1"," Caregiver 2","Youth 1","Youth 2","Youth 3","Other Adult"]
["Enter Initials (to aid data entry if needed)"]
["Attended Session 1"]
["Attended Session 2"]
["Attended Session 3"]
["Attended Session 4"]
["Attended Session 5"]
["Attended Session 6"]
["Attended Session 7"]
["Coded Pre-Test Entered?",null,{"$f":"HLOOKUP(C64,PComDel1,10,FALSE)","v":""},{"$f":"HLOOKUP(D64,PComDel1,10,FALSE)","v":""},{"$f":"HLOOKUP(E64,YComDel1,12,FALSE)","v":""},{"$f":"HLOOKUP(F64,YComDel1,12,FALSE)","v":""},{"$f":"HLOOKUP(G64,YComDel1,12,FALSE)","v":""},{"$f":"HLOOKUP(H64,PComDel1,10,FALSE)","v":""},{"$f":"HLOOKUP(I64,PComDel2,10,FALSE)","v":""},{"$f":"HLOOKUP(J64,PComDel2,10,FALSE)","v":""},{"$f":"HLOOKUP(K64,YComDel2,12,FALSE)","v":""},{"$f":"HLOOKUP(L64,YComDel2,12,FALSE)","v":""},{"$f":"HLOOKUP(M64,YComDel2,12,FALSE)","v":""},{"$f":"HLOOKUP(N64,PComDel2,10,FALSE)","v":""},{"$f":"HLOOKUP(O64,PComDel3,10,FALSE)","v":""},{"$f":"HLOOKUP(P64,PComDel3,10,FALSE)","v":""},{"$f":"HLOOKUP(Q64,YComDel3,12,FALSE)","v":""},{"$f":"HLOOKUP(R64,YComDel3,12,FALSE)","v":""},{"$f":"HLOOKUP(S64,YComDel3,12,FALSE)","v":""},{"$f":"HLOOKUP(T64,PComDel3,10,FALSE)","v":""},{"$f":"HLOOKUP(U64,PComDel4,10,FALSE)","v":""},{"$f":"HLOOKUP(V64,PComDel4,10,FALSE)","v":""},{"$f":"HLOOKUP(W64,YComDel4,12,FALSE)","v":""},{"$f":"HLOOKUP(X64,YComDel4,12,FALSE)","v":""},{"$f":"HLOOKUP(Y64,YComDel4,12,FALSE)","v":""},{"$f":"HLOOKUP(Z64,PComDel4,10,FALSE)","v":""},{"$f":"HLOOKUP(AA64,PComDel5,10,FALSE)","v":""},{"$f":"HLOOKUP(AB64,PComDel5,10,FALSE)","v":""},{"$f":"HLOOKUP(AC64,YComDel5,12,FALSE)","v":""},{"$f":"HLOOKUP(AD64,YComDel5,12,FALSE)","v":""},{"$f":"HLOOKUP(AE64,YComDel5,12,FALSE)","v":""},{"$f":"HLOOKUP(AF64,PComDel5,10,FALSE)","v":""},{"$f":"HLOOKUP(AG64,PComDel6,10,FALSE)","v":""},{"$f":"HLOOKUP(AH64,PComDel6,10,FALSE)","v":""},{"$f":"HLOOKUP(AI64,YComDel6,12,FALSE)","v":""},{"$f":"HLOOKUP(AJ64,YComDel6,12,FALSE)","v":""},{"$f":"HLOOKUP(AK64,YComDel6,12,FALSE)","v":""},{"$f":"HLOOKUP(AL64,PComDel6,10,FALSE)","v":""},{"$f":"HLOOKUP(AM64,PComDel7,10,FALSE)","v":""},{"$f":"HLOOKUP(AN64,PComDel7,10,FALSE)","v":""},{"$f":"HLOOKUP(AO64,YComDel7,12,FALSE)","v":""},{"$f":"HLOOKUP(AP64,YComDel7,12,FALSE)","v":""},{"$f":"HLOOKUP(AQ64,YComDel7,12,FALSE)","v":""},{"$f":"HLOOKUP(AR64,PComDel7,10,FALSE)","v":""}]
["Coded Post-Test Entered?",null,{"$f":"HLOOKUP(C64,PComDel1,19,FALSE)","v":""},{"$f":"HLOOKUP(D64,PComDel1,19,FALSE)","v":""},{"$f":"HLOOKUP(E64,YComDel1,22,FALSE)","v":""},{"$f":"HLOOKUP(F64,YComDel1,22,FALSE)","v":""},{"$f":"HLOOKUP(G64,YComDel1,22,FALSE)","v":""},{"$f":"HLOOKUP(H64,PComDel1,19,FALSE)","v":""},{"$f":"HLOOKUP(I64,PComDel2,19,FALSE)","v":""},{"$f":"HLOOKUP(J64,PComDel2,19,FALSE)","v":""},{"$f":"HLOOKUP(K64,YComDel2,22,FALSE)","v":""},{"$f":"HLOOKUP(L64,YComDel2,22,FALSE)","v":""},{"$f":"HLOOKUP(M64,YComDel2,22,FALSE)","v":""},{"$f":"HLOOKUP(N64,PComDel2,19,FALSE)","v":""},{"$f":"HLOOKUP(O64,PComDel3,19,FALSE)","v":""},{"$f":"HLOOKUP(P64,PComDel3,19,FALSE)","v":""},{"$f":"HLOOKUP(Q64,YComDel3,22,FALSE)","v":""},{"$f":"HLOOKUP(R64,YComDel3,22,FALSE)","v":""},{"$f":"HLOOKUP(S64,YComDel3,22,FALSE)","v":""},{"$f":"HLOOKUP(T64,PComDel3,19,FALSE)","v":""},{"$f":"HLOOKUP(U64,PComDel4,19,FALSE)","v":""},{"$f":"HLOOKUP(V64,PComDel4,19,FALSE)","v":""},{"$f":"HLOOKUP(W64,YComDel4,22,FALSE)","v":""},{"$f":"HLOOKUP(X64,YComDel4,22,FALSE)","v":""},{"$f":"HLOOKUP(Y64,YComDel4,22,FALSE)","v":""},{"$f":"HLOOKUP(Z64,PComDel4,19,FALSE)","v":""},{"$f":"HLOOKUP(AA64,PComDel5,19,FALSE)","v":""},{"$f":"HLOOKUP(AB64,PComDel5,19,FALSE)","v":""},{"$f":"HLOOKUP(AC64,YComDel5,22,FALSE)","v":""},{"$f":"HLOOKUP(AD64,YComDel5,22,FALSE)","v":""},{"$f":"HLOOKUP(AE64,YComDel5,22,FALSE)","v":""},{"$f":"HLOOKUP(AF64,PComDel5,19,FALSE)","v":""},{"$f":"HLOOKUP(AG64,PComDel6,19,FALSE)","v":""},{"$f":"HLOOKUP(AH64,PComDel6,19,FALSE)","v":""},{"$f":"HLOOKUP(AI64,YComDel6,22,FALSE)","v":""},{"$f":"HLOOKUP(AJ64,YComDel6,22,FALSE)","v":""},{"$f":"HLOOKUP(AK64,YComDel6,22,FALSE)","v":""},{"$f":"HLOOKUP(AL64,PComDel6,19,FALSE)","v":""},{"$f":"HLOOKUP(AM64,PComDel7,19,FALSE)","v":""},{"$f":"HLOOKUP(AN64,PComDel7,19,FALSE)","v":""},{"$f":"HLOOKUP(AO64,YComDel7,22,FALSE)","v":""},{"$f":"HLOOKUP(AP64,YComDel7,22,FALSE)","v":""},{"$f":"HLOOKUP(AQ64,YComDel7,22,FALSE)","v":""},{"$f":"HLOOKUP(AR64,PComDel7,19,FALSE)","v":""}]
[null,null,"Family 6","Family 6","Family 6","Family 6","Family 6","Family 6","Family 6","Family 6","Family 6","Family 6","Family 6","Family 6","Family 6","Family 6","Family 6","Family 6","Family 6","Family 6","Family 6","Family 6","Family 6","Family 6","Family 6","Family 6","Family 6","Family 6","Family 6","Family 6","Family 6","Family 6","Family 6","Family 6","Family 6","Family 6","Family 6","Family 6","Family 6","Family 6","Family 6","Family 6","Family 6","Family 6"]
[null,null,"6A","6B","6C","6D","6E","6F","6A","6B","6C","6D","6E","6F","6A","6B","6C","6D","6E","6F","6A","6B","6C","6D","6E","6F","6A","6B","6C","6D","6E","6F","6A","6B","6C","6D","6E","6F","6A","6B","6C","6D","6E","6F"]
["Family 6"]
["Relationship",null,"Caregiver 1"," Caregiver 2","Youth 1","Youth 2","Youth 3","Other Adult","Caregiver 1"," Caregiver 2","Youth 1","Youth 2","Youth 3","Other Adult","Caregiver 1"," Caregiver 2","Youth 1","Youth 2","Youth 3","Other Adult","Caregiver 1"," Caregiver 2","Youth 1","Youth 2","Youth 3","Other Adult","Caregiver 1"," Caregiver 2","Youth 1","Youth 2","Youth 3","Other Adult","Caregiver 1"," Caregiver 2","Youth 1","Youth 2","Youth 3","Other Adult","Caregiver 1"," Caregiver 2","Youth 1","Youth 2","Youth 3","Other Adult"]
["Enter Initials (to aid data entry if needed)"]
["Attended Session 1"]
["Attended Session 2"]
["Attended Session 3"]
["Attended Session 4"]
["Attended Session 5"]
["Attended Session 6"]
["Attended Session 7"]
["Coded Pre-Test Entered?",null,{"$f":"HLOOKUP(C78,PComDel1,10,FALSE)","v":""},{"$f":"HLOOKUP(D78,PComDel1,10,FALSE)","v":""},{"$f":"HLOOKUP(E78,YComDel1,12,FALSE)","v":""},{"$f":"HLOOKUP(F78,YComDel1,12,FALSE)","v":""},{"$f":"HLOOKUP(G78,YComDel1,12,FALSE)","v":""},{"$f":"HLOOKUP(H78,PComDel1,10,FALSE)","v":""},{"$f":"HLOOKUP(I78,PComDel2,10,FALSE)","v":""},{"$f":"HLOOKUP(J78,PComDel2,10,FALSE)","v":""},{"$f":"HLOOKUP(K78,YComDel2,12,FALSE)","v":""},{"$f":"HLOOKUP(L78,YComDel2,12,FALSE)","v":""},{"$f":"HLOOKUP(M78,YComDel2,12,FALSE)","v":""},{"$f":"HLOOKUP(N78,PComDel2,10,FALSE)","v":""},{"$f":"HLOOKUP(O78,PComDel3,10,FALSE)","v":""},{"$f":"HLOOKUP(P78,PComDel3,10,FALSE)","v":""},{"$f":"HLOOKUP(Q78,YComDel3,12,FALSE)","v":""},{"$f":"HLOOKUP(R78,YComDel3,12,FALSE)","v":""},{"$f":"HLOOKUP(S78,YComDel3,12,FALSE)","v":""},{"$f":"HLOOKUP(T78,PComDel3,10,FALSE)","v":""},{"$f":"HLOOKUP(U78,PComDel4,10,FALSE)","v":""},{"$f":"HLOOKUP(V78,PComDel4,10,FALSE)","v":""},{"$f":"HLOOKUP(W78,YComDel4,12,FALSE)","v":""},{"$f":"HLOOKUP(X78,YComDel4,12,FALSE)","v":""},{"$f":"HLOOKUP(Y78,YComDel4,12,FALSE)","v":""},{"$f":"HLOOKUP(Z78,PComDel4,10,FALSE)","v":""},{"$f":"HLOOKUP(AA78,PComDel5,10,FALSE)","v":""},{"$f":"HLOOKUP(AB78,PComDel5,10,FALSE)","v":""},{"$f":"HLOOKUP(AC78,YComDel5,12,FALSE)","v":""},{"$f":"HLOOKUP(AD78,YComDel5,12,FALSE)","v":""},{"$f":"HLOOKUP(AE78,YComDel5,12,FALSE)","v":""},{"$f":"HLOOKUP(AF78,PComDel5,10,FALSE)","v":""},{"$f":"HLOOKUP(AG78,PComDel6,10,FALSE)","v":""},{"$f":"HLOOKUP(AH78,PComDel6,10,FALSE)","v":""},{"$f":"HLOOKUP(AI78,YComDel6,12,FALSE)","v":""},{"$f":"HLOOKUP(AJ78,YComDel6,12,FALSE)","v":""},{"$f":"HLOOKUP(AK78,YComDel6,12,FALSE)","v":""},{"$f":"HLOOKUP(AL78,PComDel6,10,FALSE)","v":""},{"$f":"HLOOKUP(AM78,PComDel7,10,FALSE)","v":""},{"$f":"HLOOKUP(AN78,PComDel7,10,FALSE)","v":""},{"$f":"HLOOKUP(AO78,YComDel7,12,FALSE)","v":""},{"$f":"HLOOKUP(AP78,YComDel7,12,FALSE)","v":""},{"$f":"HLOOKUP(AQ78,YComDel7,12,FALSE)","v":""},{"$f":"HLOOKUP(AR78,PComDel7,10,FALSE)","v":""}]
["Coded Post-Test Entered?",null,{"$f":"HLOOKUP(C78,PComDel1,19,FALSE)","v":""},{"$f":"HLOOKUP(D78,PComDel1,19,FALSE)","v":""},{"$f":"HLOOKUP(E78,YComDel1,22,FALSE)","v":""},{"$f":"HLOOKUP(F78,YComDel1,22,FALSE)","v":""},{"$f":"HLOOKUP(G78,YComDel1,22,FALSE)","v":""},{"$f":"HLOOKUP(H78,PComDel1,19,FALSE)","v":""},{"$f":"HLOOKUP(I78,PComDel2,19,FALSE)","v":""},{"$f":"HLOOKUP(J78,PComDel2,19,FALSE)","v":""},{"$f":"HLOOKUP(K78,YComDel2,22,FALSE)","v":""},{"$f":"HLOOKUP(L78,YComDel2,22,FALSE)","v":""},{"$f":"HLOOKUP(M78,YComDel2,22,FALSE)","v":""},{"$f":"HLOOKUP(N78,PComDel2,19,FALSE)","v":""},{"$f":"HLOOKUP(O78,PComDel3,19,FALSE)","v":""},{"$f":"HLOOKUP(P78,PComDel3,19,FALSE)","v":""},{"$f":"HLOOKUP(Q78,YComDel3,22,FALSE)","v":""},{"$f":"HLOOKUP(R78,YComDel3,22,FALSE)","v":""},{"$f":"HLOOKUP(S78,YComDel3,22,FALSE)","v":""},{"$f":"HLOOKUP(T78,PComDel3,19,FALSE)","v":""},{"$f":"HLOOKUP(U78,PComDel4,19,FALSE)","v":""},{"$f":"HLOOKUP(V78,PComDel4,19,FALSE)","v":""},{"$f":"HLOOKUP(W78,YComDel4,22,FALSE)","v":""},{"$f":"HLOOKUP(X78,YComDel4,22,FALSE)","v":""},{"$f":"HLOOKUP(Y78,YComDel4,22,FALSE)","v":""},{"$f":"HLOOKUP(Z78,PComDel4,19,FALSE)","v":""},{"$f":"HLOOKUP(AA78,PComDel5,19,FALSE)","v":""},{"$f":"HLOOKUP(AB78,PComDel5,19,FALSE)","v":""},{"$f":"HLOOKUP(AC78,YComDel5,22,FALSE)","v":""},{"$f":"HLOOKUP(AD78,YComDel5,22,FALSE)","v":""},{"$f":"HLOOKUP(AE78,YComDel5,22,FALSE)","v":""},{"$f":"HLOOKUP(AF78,PComDel5,19,FALSE)","v":""},{"$f":"HLOOKUP(AG78,PComDel6,19,FALSE)","v":""},{"$f":"HLOOKUP(AH78,PComDel6,19,FALSE)","v":""},{"$f":"HLOOKUP(AI78,YComDel6,22,FALSE)","v":""},{"$f":"HLOOKUP(AJ78,YComDel6,22,FALSE)","v":""},{"$f":"HLOOKUP(AK78,YComDel6,22,FALSE)","v":""},{"$f":"HLOOKUP(AL78,PComDel6,19,FALSE)","v":""},{"$f":"HLOOKUP(AM78,PComDel7,19,FALSE)","v":""},{"$f":"HLOOKUP(AN78,PComDel7,19,FALSE)","v":""},{"$f":"HLOOKUP(AO78,YComDel7,22,FALSE)","v":""},{"$f":"HLOOKUP(AP78,YComDel7,22,FALSE)","v":""},{"$f":"HLOOKUP(AQ78,YComDel7,22,FALSE)","v":""},{"$f":"HLOOKUP(AR78,PComDel7,19,FALSE)","v":""}]
[null,null,"Family 7","Family 7","Family 7","Family 7","Family 7","Family 7","Family 7","Family 7","Family 7","Family 7","Family 7","Family 7","Family 7","Family 7","Family 7","Family 7","Family 7","Family 7","Family 7","Family 7","Family 7","Family 7","Family 7","Family 7","Family 7","Family 7","Family 7","Family 7","Family 7","Family 7","Family 7","Family 7","Family 7","Family 7","Family 7","Family 7","Family 7","Family 7","Family 7","Family 7","Family 7","Family 7"]
[null,null,"7A","7B","7C","7D","7E","7F","7A","7B","7C","7D","7E","7F","7A","7B","7C","7D","7E","7F","7A","7B","7C","7D","7E","7F","7A","7B","7C","7D","7E","7F","7A","7B","7C","7D","7E","7F","7A","7B","7C","7D","7E","7F"]
["Family 7"]
["Relationship",null,"Caregiver 1"," Caregiver 2","Youth 1","Youth 2","Youth 3","Other Adult","Caregiver 1"," Caregiver 2","Youth 1","Youth 2","Youth 3","Other Adult","Caregiver 1"," Caregiver 2","Youth 1","Youth 2","Youth 3","Other Adult","Caregiver 1"," Caregiver 2","Youth 1","Youth 2","Youth 3","Other Adult","Caregiver 1"," Caregiver 2","Youth 1","Youth 2","Youth 3","Other Adult","Caregiver 1"," Caregiver 2","Youth 1","Youth 2","Youth 3","Other Adult","Caregiver 1"," Caregiver 2","Youth 1","Youth 2","Youth 3","Other Adult"]
["Enter Initials (to aid data entry if needed)"]
["Attended Session 1"]
["Attended Session 2"]
["Attended Session 3"]
["Attended Session 4"]
["Attended Session 5"]
["Attended Session 6"]
["Attended Session 7"]
["Coded Pre-Test Entered?",null,{"$f":"HLOOKUP(C92,PComDel1,10,FALSE)","v":""},{"$f":"HLOOKUP(D92,PComDel1,10,FALSE)","v":""},{"$f":"HLOOKUP(E92,YComDel1,12,FALSE)","v":""},{"$f":"HLOOKUP(F92,YComDel1,12,FALSE)","v":""},{"$f":"HLOOKUP(G92,YComDel1,12,FALSE)","v":""},{"$f":"HLOOKUP(H92,PComDel1,10,FALSE)","v":""},{"$f":"HLOOKUP(I92,PComDel2,10,FALSE)","v":""},{"$f":"HLOOKUP(J92,PComDel2,10,FALSE)","v":""},{"$f":"HLOOKUP(K92,YComDel2,12,FALSE)","v":""},{"$f":"HLOOKUP(L92,YComDel2,12,FALSE)","v":""},{"$f":"HLOOKUP(M92,YComDel2,12,FALSE)","v":""},{"$f":"HLOOKUP(N92,PComDel2,10,FALSE)","v":""},{"$f":"HLOOKUP(O92,PComDel3,10,FALSE)","v":""},{"$f":"HLOOKUP(P92,PComDel3,10,FALSE)","v":""},{"$f":"HLOOKUP(Q92,YComDel3,12,FALSE)","v":""},{"$f":"HLOOKUP(R92,YComDel3,12,FALSE)","v":""},{"$f":"HLOOKUP(S92,YComDel3,12,FALSE)","v":""},{"$f":"HLOOKUP(T92,PComDel3,10,FALSE)","v":""},{"$f":"HLOOKUP(U92,PComDel4,10,FALSE)","v":""},{"$f":"HLOOKUP(V92,PComDel4,10,FALSE)","v":""},{"$f":"HLOOKUP(W92,YComDel4,12,FALSE)","v":""},{"$f":"HLOOKUP(X92,YComDel4,12,FALSE)","v":""},{"$f":"HLOOKUP(Y92,YComDel4,12,FALSE)","v":""},{"$f":"HLOOKUP(Z92,PComDel4,10,FALSE)","v":""},{"$f":"HLOOKUP(AA92,PComDel5,10,FALSE)","v":""},{"$f":"HLOOKUP(AB92,PComDel5,10,FALSE)","v":""},{"$f":"HLOOKUP(AC92,YComDel5,12,FALSE)","v":""},{"$f":"HLOOKUP(AD92,YComDel5,12,FALSE)","v":""},{"$f":"HLOOKUP(AE92,YComDel5,12,FALSE)","v":""},{"$f":"HLOOKUP(AF92,PComDel5,10,FALSE)","v":""},{"$f":"HLOOKUP(AG92,PComDel6,10,FALSE)","v":""},{"$f":"HLOOKUP(AH92,PComDel6,10,FALSE)","v":""},{"$f":"HLOOKUP(AI92,YComDel6,12,FALSE)","v":""},{"$f":"HLOOKUP(AJ92,YComDel6,12,FALSE)","v":""},{"$f":"HLOOKUP(AK92,YComDel6,12,FALSE)","v":""},{"$f":"HLOOKUP(AL92,PComDel6,10,FALSE)","v":""},{"$f":"HLOOKUP(AM92,PComDel7,10,FALSE)","v":""},{"$f":"HLOOKUP(AN92,PComDel7,10,FALSE)","v":""},{"$f":"HLOOKUP(AO92,YComDel7,12,FALSE)","v":""},{"$f":"HLOOKUP(AP92,YComDel7,12,FALSE)","v":""},{"$f":"HLOOKUP(AQ92,YComDel7,12,FALSE)","v":""},{"$f":"HLOOKUP(AR92,PComDel7,10,FALSE)","v":""}]
["Coded Post-Test Entered?",null,{"$f":"HLOOKUP(C92,PComDel1,19,FALSE)","v":""},{"$f":"HLOOKUP(D92,PComDel1,19,FALSE)","v":""},{"$f":"HLOOKUP(E92,YComDel1,22,FALSE)","v":""},{"$f":"HLOOKUP(F92,YComDel1,22,FALSE)","v":""},{"$f":"HLOOKUP(G92,YComDel1,22,FALSE)","v":""},{"$f":"HLOOKUP(H92,PComDel1,19,FALSE)","v":""},{"$f":"HLOOKUP(I92,PComDel2,19,FALSE)","v":""},{"$f":"HLOOKUP(J92,PComDel2,19,FALSE)","v":""},{"$f":"HLOOKUP(K92,YComDel2,22,FALSE)","v":""},{"$f":"HLOOKUP(L92,YComDel2,22,FALSE)","v":""},{"$f":"HLOOKUP(M92,YComDel2,22,FALSE)","v":""},{"$f":"HLOOKUP(N92,PComDel2,19,FALSE)","v":""},{"$f":"HLOOKUP(O92,PComDel3,19,FALSE)","v":""},{"$f":"HLOOKUP(P92,PComDel3,19,FALSE)","v":""},{"$f":"HLOOKUP(Q92,YComDel3,22,FALSE)","v":""},{"$f":"HLOOKUP(R92,YComDel3,22,FALSE)","v":""},{"$f":"HLOOKUP(S92,YComDel3,22,FALSE)","v":""},{"$f":"HLOOKUP(T92,PComDel3,19,FALSE)","v":""},{"$f":"HLOOKUP(U92,PComDel4,19,FALSE)","v":""},{"$f":"HLOOKUP(V92,PComDel4,19,FALSE)","v":""},{"$f":"HLOOKUP(W92,YComDel4,22,FALSE)","v":""},{"$f":"HLOOKUP(X92,YComDel4,22,FALSE)","v":""},{"$f":"HLOOKUP(Y92,YComDel4,22,FALSE)","v":""},{"$f":"HLOOKUP(Z92,PComDel4,19,FALSE)","v":""},{"$f":"HLOOKUP(AA92,PComDel5,19,FALSE)","v":""},{"$f":"HLOOKUP(AB92,PComDel5,19,FALSE)","v":""},{"$f":"HLOOKUP(AC92,YComDel5,22,FALSE)","v":""},{"$f":"HLOOKUP(AD92,YComDel5,22,FALSE)","v":""},{"$f":"HLOOKUP(AE92,YComDel5,22,FALSE)","v":""},{"$f":"HLOOKUP(AF92,PComDel5,19,FALSE)","v":""},{"$f":"HLOOKUP(AG92,PComDel6,19,FALSE)","v":""},{"$f":"HLOOKUP(AH92,PComDel6,19,FALSE)","v":""},{"$f":"HLOOKUP(AI92,YComDel6,22,FALSE)","v":""},{"$f":"HLOOKUP(AJ92,YComDel6,22,FALSE)","v":""},{"$f":"HLOOKUP(AK92,YComDel6,22,FALSE)","v":""},{"$f":"HLOOKUP(AL92,PComDel6,19,FALSE)","v":""},{"$f":"HLOOKUP(AM92,PComDel7,19,FALSE)","v":""},{"$f":"HLOOKUP(AN92,PComDel7,19,FALSE)","v":""},{"$f":"HLOOKUP(AO92,YComDel7,22,FALSE)","v":""},{"$f":"HLOOKUP(AP92,YComDel7,22,FALSE)","v":""},{"$f":"HLOOKUP(AQ92,YComDel7,22,FALSE)","v":""},{"$f":"HLOOKUP(AR92,PComDel7,19,FALSE)","v":""}]
[null,null,"Family 8","Family 8","Family 8","Family 8","Family 8","Family 8","Family 8","Family 8","Family 8","Family 8","Family 8","Family 8","Family 8","Family 8","Family 8","Family 8","Family 8","Family 8","Family 8","Family 8","Family 8","Family 8","Family 8","Family 8","Family 8","Family 8","Family 8","Family 8","Family 8","Family 8","Family 8","Family 8","Family 8","Family 8","Family 8","Family 8","Family 8","Family 8","Family 8","Family 8","Family 8","Family 8"]
[null,null,"8A","8B","8C","8D","8E","8F","8A","8B","8C","8D","8E","8F","8A","8B","8C","8D","8E","8F","8A","8B","8C","8D","8E","8F","8A","8B","8C","8D","8E","8F","8A","8B","8C","8D","8E","8F","8A","8B","8C","8D","8E","8F"]
["Family 8"]
["Relationship",null,"Caregiver 1"," Caregiver 2","Youth 1","Youth 2","Youth 3","Other Adult","Caregiver 1"," Caregiver 2","Youth 1","Youth 2","Youth 3","Other Adult","Caregiver 1"," Caregiver 2","Youth 1","Youth 2","Youth 3","Other Adult","Caregiver 1"," Caregiver 2","Youth 1","Youth 2","Youth 3","Other Adult","Caregiver 1"," Caregiver 2","Youth 1","Youth 2","Youth 3","Other Adult","Caregiver 1"," Caregiver 2","Youth 1","Youth 2","Youth 3","Other Adult","Caregiver 1"," Caregiver 2","Youth 1","Youth 2","Youth 3","Other Adult"]
["Enter Initials (to aid data entry if needed)"]
["Attended Session 1"]
["Attended Session 2"]
["Attended Session 3"]
["Attended Session 4"]
["Attended Session 5"]
["Attended Session 6"]
["Attended Session 7"]
["Coded Pre-Test Entered?",null,{"$f":"HLOOKUP(C106,PComDel1,10,FALSE)","v":""},{"$f":"HLOOKUP(D106,PComDel1,10,FALSE)","v":""},{"$f":"HLOOKUP(E106,YComDel1,12,FALSE)","v":""},{"$f":"HLOOKUP(F106,YComDel1,12,FALSE)","v":""},{"$f":"HLOOKUP(G106,YComDel1,12,FALSE)","v":""},{"$f":"HLOOKUP(H106,PComDel1,10,FALSE)","v":""},{"$f":"HLOOKUP(I106,PComDel2,10,FALSE)","v":""},{"$f":"HLOOKUP(J106,PComDel2,10,FALSE)","v":""},{"$f":"HLOOKUP(K106,YComDel2,12,FALSE)","v":""},{"$f":"HLOOKUP(L106,YComDel2,12,FALSE)","v":""},{"$f":"HLOOKUP(M106,YComDel2,12,FALSE)","v":""},{"$f":"HLOOKUP(N106,PComDel2,10,FALSE)","v":""},{"$f":"HLOOKUP(O106,PComDel3,10,FALSE)","v":""},{"$f":"HLOOKUP(P106,PComDel3,10,FALSE)","v":""},{"$f":"HLOOKUP(Q106,YComDel3,12,FALSE)","v":""},{"$f":"HLOOKUP(R106,YComDel3,12,FALSE)","v":""},{"$f":"HLOOKUP(S106,YComDel3,12,FALSE)","v":""},{"$f":"HLOOKUP(T106,PComDel3,10,FALSE)","v":""},{"$f":"HLOOKUP(U106,PComDel4,10,FALSE)","v":""},{"$f":"HLOOKUP(V106,PComDel4,10,FALSE)","v":""},{"$f":"HLOOKUP(W106,YComDel4,12,FALSE)","v":""},{"$f":"HLOOKUP(X106,YComDel4,12,FALSE)","v":""},{"$f":"HLOOKUP(Y106,YComDel4,12,FALSE)","v":""},{"$f":"HLOOKUP(Z106,PComDel4,10,FALSE)","v":""},{"$f":"HLOOKUP(AA106,PComDel5,10,FALSE)","v":""},{"$f":"HLOOKUP(AB106,PComDel5,10,FALSE)","v":""},{"$f":"HLOOKUP(AC106,YComDel5,12,FALSE)","v":""},{"$f":"HLOOKUP(AD106,YComDel5,12,FALSE)","v":""},{"$f":"HLOOKUP(AE106,YComDel5,12,FALSE)","v":""},{"$f":"HLOOKUP(AF106,PComDel5,10,FALSE)","v":""},{"$f":"HLOOKUP(AG106,PComDel6,10,FALSE)","v":""},{"$f":"HLOOKUP(AH106,PComDel6,10,FALSE)","v":""},{"$f":"HLOOKUP(AI106,YComDel6,12,FALSE)","v":""},{"$f":"HLOOKUP(AJ106,YComDel6,12,FALSE)","v":""},{"$f":"HLOOKUP(AK106,YComDel6,12,FALSE)","v":""},{"$f":"HLOOKUP(AL106,PComDel6,10,FALSE)","v":""},{"$f":"HLOOKUP(AM106,PComDel7,10,FALSE)","v":""},{"$f":"HLOOKUP(AN106,PComDel7,10,FALSE)","v":""},{"$f":"HLOOKUP(AO106,YComDel7,12,FALSE)","v":""},{"$f":"HLOOKUP(AP106,YComDel7,12,FALSE)","v":""},{"$f":"HLOOKUP(AQ106,YComDel7,12,FALSE)","v":""},{"$f":"HLOOKUP(AR106,PComDel7,10,FALSE)","v":""}]
["Coded Post-Test Entered?",null,{"$f":"HLOOKUP(C106,PComDel1,19,FALSE)","v":""},{"$f":"HLOOKUP(D106,PComDel1,19,FALSE)","v":""},{"$f":"HLOOKUP(E106,YComDel1,22,FALSE)","v":""},{"$f":"HLOOKUP(F106,YComDel1,22,FALSE)","v":""},{"$f":"HLOOKUP(G106,YComDel1,22,FALSE)","v":""},{"$f":"HLOOKUP(H106,PComDel1,19,FALSE)","v":""},{"$f":"HLOOKUP(I106,PComDel2,19,FALSE)","v":""},{"$f":"HLOOKUP(J106,PComDel2,19,FALSE)","v":""},{"$f":"HLOOKUP(K106,YComDel2,22,FALSE)","v":""},{"$f":"HLOOKUP(L106,YComDel2,22,FALSE)","v":""},{"$f":"HLOOKUP(M106,YComDel2,22,FALSE)","v":""},{"$f":"HLOOKUP(N106,PComDel2,19,FALSE)","v":""},{"$f":"HLOOKUP(O106,PComDel3,19,FALSE)","v":""},{"$f":"HLOOKUP(P106,PComDel3,19,FALSE)","v":""},{"$f":"HLOOKUP(Q106,YComDel3,22,FALSE)","v":""},{"$f":"HLOOKUP(R106,YComDel3,22,FALSE)","v":""},{"$f":"HLOOKUP(S106,YComDel3,22,FALSE)","v":""},{"$f":"HLOOKUP(T106,PComDel3,19,FALSE)","v":""},{"$f":"HLOOKUP(U106,PComDel4,19,FALSE)","v":""},{"$f":"HLOOKUP(V106,PComDel4,19,FALSE)","v":""},{"$f":"HLOOKUP(W106,YComDel4,22,FALSE)","v":""},{"$f":"HLOOKUP(X106,YComDel4,22,FALSE)","v":""},{"$f":"HLOOKUP(Y106,YComDel4,22,FALSE)","v":""},{"$f":"HLOOKUP(Z106,PComDel4,19,FALSE)","v":""},{"$f":"HLOOKUP(AA106,PComDel5,19,FALSE)","v":""},{"$f":"HLOOKUP(AB106,PComDel5,19,FALSE)","v":""},{"$f":"HLOOKUP(AC106,YComDel5,22,FALSE)","v":""},{"$f":"HLOOKUP(AD106,YComDel5,22,FALSE)","v":""},{"$f":"HLOOKUP(AE106,YComDel5,22,FALSE)","v":""},{"$f":"HLOOKUP(AF106,PComDel5,19,FALSE)","v":""},{"$f":"HLOOKUP(AG106,PComDel6,19,FALSE)","v":""},{"$f":"HLOOKUP(AH106,PComDel6,19,FALSE)","v":""},{"$f":"HLOOKUP(AI106,YComDel6,22,FALSE)","v":""},{"$f":"HLOOKUP(AJ106,YComDel6,22,FALSE)","v":""},{"$f":"HLOOKUP(AK106,YComDel6,22,FALSE)","v":""},{"$f":"HLOOKUP(AL106,PComDel6,19,FALSE)","v":""},{"$f":"HLOOKUP(AM106,PComDel7,19,FALSE)","v":""},{"$f":"HLOOKUP(AN106,PComDel7,19,FALSE)","v":""},{"$f":"HLOOKUP(AO106,YComDel7,22,FALSE)","v":""},{"$f":"HLOOKUP(AP106,YComDel7,22,FALSE)","v":""},{"$f":"HLOOKUP(AQ106,YComDel7,22,FALSE)","v":""},{"$f":"HLOOKUP(AR106,PComDel7,19,FALSE)","v":""}]
[null,null,"Family 9","Family 9","Family 9","Family 9","Family 9","Family 9","Family 9","Family 9","Family 9","Family 9","Family 9","Family 9","Family 9","Family 9","Family 9","Family 9","Family 9","Family 9","Family 9","Family 9","Family 9","Family 9","Family 9","Family 9","Family 9","Family 9","Family 9","Family 9","Family 9","Family 9","Family 9","Family 9","Family 9","Family 9","Family 9","Family 9","Family 9","Family 9","Family 9","Family 9","Family 9","Family 9"]
[null,null,"9A","9B","9C","9D","9E","9F","9A","9B","9C","9D","9E","9F","9A","9B","9C","9D","9E","9F","9A","9B","9C","9D","9E","9F","9A","9B","9C","9D","9E","9F","9A","9B","9C","9D","9E","9F","9A","9B","9C","9D","9E","9F"]
["Family 9"]
["Relationship",null,"Caregiver 1"," Caregiver 2","Youth 1","Youth 2","Youth 3","Other Adult","Caregiver 1"," Caregiver 2","Youth 1","Youth 2","Youth 3","Other Adult","Caregiver 1"," Caregiver 2","Youth 1","Youth 2","Youth 3","Other Adult","Caregiver 1"," Caregiver 2","Youth 1","Youth 2","Youth 3","Other Adult","Caregiver 1"," Caregiver 2","Youth 1","Youth 2","Youth 3","Other Adult","Caregiver 1"," Caregiver 2","Youth 1","Youth 2","Youth 3","Other Adult","Caregiver 1"," Caregiver 2","Youth 1","Youth 2","Youth 3","Other Adult"]
["Enter Initials (to aid data entry if needed)"]
["Attended Session 1"]
["Attended Session 2"]
["Attended Session 3"]
["Attended Session 4"]
["Attended Session 5"]
["Attended Session 6"]
["Attended Session 7"]
["Coded Pre-Test Entered?",null,{"$f":"HLOOKUP(C120,PComDel1,10,FALSE)","v":""},{"$f":"HLOOKUP(D120,PComDel1,10,FALSE)","v":""},{"$f":"HLOOKUP(E120,YComDel1,12,FALSE)","v":""},{"$f":"HLOOKUP(F120,YComDel1,12,FALSE)","v":""},{"$f":"HLOOKUP(G120,YComDel1,12,FALSE)","v":""},{"$f":"HLOOKUP(H120,PComDel1,10,FALSE)","v":""},{"$f":"HLOOKUP(I120,PComDel2,10,FALSE)","v":""},{"$f":"HLOOKUP(J120,PComDel2,10,FALSE)","v":""},{"$f":"HLOOKUP(K120,YComDel2,12,FALSE)","v":""},{"$f":"HLOOKUP(L120,YComDel2,12,FALSE)","v":""},{"$f":"HLOOKUP(M120,YComDel2,12,FALSE)","v":""},{"$f":"HLOOKUP(N120,PComDel2,10,FALSE)","v":""},{"$f":"HLOOKUP(O120,PComDel3,10,FALSE)","v":""},{"$f":"HLOOKUP(P120,PComDel3,10,FALSE)","v":""},{"$f":"HLOOKUP(Q120,YComDel3,12,FALSE)","v":""},{"$f":"HLOOKUP(R120,YComDel3,12,FALSE)","v":""},{"$f":"HLOOKUP(S120,YComDel3,12,FALSE)","v":""},{"$f":"HLOOKUP(T120,PComDel3,10,FALSE)","v":""},{"$f":"HLOOKUP(U120,PComDel4,10,FALSE)","v":""},{"$f":"HLOOKUP(V120,PComDel4,10,FALSE)","v":""},{"$f":"HLOOKUP(W120,YComDel4,12,FALSE)","v":""},{"$f":"HLOOKUP(X120,YComDel4,12,FALSE)","v":""},{"$f":"HLOOKUP(Y120,YComDel4,12,FALSE)","v":""},{"$f":"HLOOKUP(Z120,PComDel4,10,FALSE)","v":""},{"$f":"HLOOKUP(AA120,PComDel5,10,FALSE)","v":""},{"$f":"HLOOKUP(AB120,PComDel5,10,FALSE)","v":""},{"$f":"HLOOKUP(AC120,YComDel5,12,FALSE)","v":""},{"$f":"HLOOKUP(AD120,YComDel5,12,FALSE)","v":""},{"$f":"HLOOKUP(AE120,YComDel5,12,FALSE)","v":""},{"$f":"HLOOKUP(AF120,PComDel5,10,FALSE)","v":""},{"$f":"HLOOKUP(AG120,PComDel6,10,FALSE)","v":""},{"$f":"HLOOKUP(AH120,PComDel6,10,FALSE)","v":""},{"$f":"HLOOKUP(AI120,YComDel6,12,FALSE)","v":""},{"$f":"HLOOKUP(AJ120,YComDel6,12,FALSE)","v":""},{"$f":"HLOOKUP(AK120,YComDel6,12,FALSE)","v":""},{"$f":"HLOOKUP(AL120,PComDel6,10,FALSE)","v":""},{"$f":"HLOOKUP(AM120,PComDel7,10,FALSE)","v":""},{"$f":"HLOOKUP(AN120,PComDel7,10,FALSE)","v":""},{"$f":"HLOOKUP(AO120,YComDel7,12,FALSE)","v":""},{"$f":"HLOOKUP(AP120,YComDel7,12,FALSE)","v":""},{"$f":"HLOOKUP(AQ120,YComDel7,12,FALSE)","v":""},{"$f":"HLOOKUP(AR120,PComDel7,10,FALSE)","v":""}]
["Coded Post-Test Entered?",null,{"$f":"HLOOKUP(C120,PComDel1,19,FALSE)","v":""},{"$f":"HLOOKUP(D120,PComDel1,19,FALSE)","v":""},{"$f":"HLOOKUP(E120,YComDel1,22,FALSE)","v":""},{"$f":"HLOOKUP(F120,YComDel1,22,FALSE)","v":""},{"$f":"HLOOKUP(G120,YComDel1,22,FALSE)","v":""},{"$f":"HLOOKUP(H120,PComDel1,19,FALSE)","v":""},{"$f":"HLOOKUP(I120,PComDel2,19,FALSE)","v":""},{"$f":"HLOOKUP(J120,PComDel2,19,FALSE)","v":""},{"$f":"HLOOKUP(K120,YComDel2,22,FALSE)","v":""},{"$f":"HLOOKUP(L120,YComDel2,22,FALSE)","v":""},{"$f":"HLOOKUP(M120,YComDel2,22,FALSE)","v":""},{"$f":"HLOOKUP(N120,PComDel2,19,FALSE)","v":""},{"$f":"HLOOKUP(O120,PComDel3,19,FALSE)","v":""},{"$f":"HLOOKUP(P120,PComDel3,19,FALSE)","v":""},{"$f":"HLOOKUP(Q120,YComDel3,22,FALSE)","v":""},{"$f":"HLOOKUP(R120,YComDel3,22,FALSE)","v":""},{"$f":"HLOOKUP(S120,YComDel3,22,FALSE)","v":""},{"$f":"HLOOKUP(T120,PComDel3,19,FALSE)","v":""},{"$f":"HLOOKUP(U120,PComDel4,19,FALSE)","v":""},{"$f":"HLOOKUP(V120,PComDel4,19,FALSE)","v":""},{"$f":"HLOOKUP(W120,YComDel4,22,FALSE)","v":""},{"$f":"HLOOKUP(X120,YComDel4,22,FALSE)","v":""},{"$f":"HLOOKUP(Y120,YComDel4,22,FALSE)","v":""},{"$f":"HLOOKUP(Z120,PComDel4,19,FALSE)","v":""},{"$f":"HLOOKUP(AA120,PComDel5,19,FALSE)","v":""},{"$f":"HLOOKUP(AB120,PComDel5,19,FALSE)","v":""},{"$f":"HLOOKUP(AC120,YComDel5,22,FALSE)","v":""},{"$f":"HLOOKUP(AD120,YComDel5,22,FALSE)","v":""},{"$f":"HLOOKUP(AE120,YComDel5,22,FALSE)","v":""},{"$f":"HLOOKUP(AF120,PComDel5,19,FALSE)","v":""},{"$f":"HLOOKUP(AG120,PComDel6,19,FALSE)","v":""},{"$f":"HLOOKUP(AH120,PComDel6,19,FALSE)","v":""},{"$f":"HLOOKUP(AI120,YComDel6,22,FALSE)","v":""},{"$f":"HLOOKUP(AJ120,YComDel6,22,FALSE)","v":""},{"$f":"HLOOKUP(AK120,YComDel6,22,FALSE)","v":""},{"$f":"HLOOKUP(AL120,PComDel6,19,FALSE)","v":""},{"$f":"HLOOKUP(AM120,PComDel7,19,FALSE)","v":""},{"$f":"HLOOKUP(AN120,PComDel7,19,FALSE)","v":""},{"$f":"HLOOKUP(AO120,YComDel7,22,FALSE)","v":""},{"$f":"HLOOKUP(AP120,YComDel7,22,FALSE)","v":""},{"$f":"HLOOKUP(AQ120,YComDel7,22,FALSE)","v":""},{"$f":"HLOOKUP(AR120,PComDel7,19,FALSE)","v":""}]
[null,null,"Family 10","Family 10","Family 10","Family 10","Family 10","Family 10","Family 10","Family 10","Family 10","Family 10","Family 10","Family 10","Family 10","Family 10","Family 10","Family 10","Family 10","Family 10","Family 10","Family 10","Family 10","Family 10","Family 10","Family 10","Family 10","Family 10","Family 10","Family 10","Family 10","Family 10","Family 10","Family 10","Family 10","Family 10","Family 10","Family 10","Family 10","Family 10","Family 10","Family 10","Family 10","Family 10"]
[null,null,"10A","10B","10C","10D","10E","10F","10A","10B","10C","10D","10E","10F","10A","10B","10C","10D","10E","10F","10A","10B","10C","10D","10E","10F","10A","10B","10C","10D","10E","10F","10A","10B","10C","10D","10E","10F","10A","10B","10C","10D","10E","10F"]
["Family 10"]
["Relationship",null,"Caregiver 1"," Caregiver 2","Youth 1","Youth 2","Youth 3","Other Adult","Caregiver 1"," Caregiver 2","Youth 1","Youth 2","Youth 3","Other Adult","Caregiver 1"," Caregiver 2","Youth 1","Youth 2","Youth 3","Other Adult","Caregiver 1"," Caregiver 2","Youth 1","Youth 2","Youth 3","Other Adult","Caregiver 1"," Caregiver 2","Youth 1","Youth 2","Youth 3","Other Adult","Caregiver 1"," Caregiver 2","Youth 1","Youth 2","Youth 3","Other Adult","Caregiver 1"," Caregiver 2","Youth 1","Youth 2","Youth 3","Other Adult"]
["Enter Initials (to aid data entry if needed)"]
["Attended Session 1"]
["Attended Session 2"]
["Attended Session 3"]
["Attended Session 4"]
["Attended Session 5"]
["Attended Session 6"]
["Attended Session 7"]
["Coded Pre-Test Entered?",null,{"$f":"HLOOKUP(C134,PComDel1,10,FALSE)","v":""},{"$f":"HLOOKUP(D134,PComDel1,10,FALSE)","v":""},{"$f":"HLOOKUP(E134,YComDel1,12,FALSE)","v":""},{"$f":"HLOOKUP(F134,YComDel1,12,FALSE)","v":""},{"$f":"HLOOKUP(G134,YComDel1,12,FALSE)","v":""},{"$f":"HLOOKUP(H134,PComDel1,10,FALSE)","v":""},{"$f":"HLOOKUP(I134,PComDel2,10,FALSE)","v":""},{"$f":"HLOOKUP(J134,PComDel2,10,FALSE)","v":""},{"$f":"HLOOKUP(K134,YComDel2,12,FALSE)","v":""},{"$f":"HLOOKUP(L134,YComDel2,12,FALSE)","v":""},{"$f":"HLOOKUP(M134,YComDel2,12,FALSE)","v":""},{"$f":"HLOOKUP(N134,PComDel2,10,FALSE)","v":""},{"$f":"HLOOKUP(O134,PComDel3,10,FALSE)","v":""},{"$f":"HLOOKUP(P134,PComDel3,10,FALSE)","v":""},{"$f":"HLOOKUP(Q134,YComDel3,12,FALSE)","v":""},{"$f":"HLOOKUP(R134,YComDel3,12,FALSE)","v":""},{"$f":"HLOOKUP(S134,YComDel3,12,FALSE)","v":""},{"$f":"HLOOKUP(T134,PComDel3,10,FALSE)","v":""},{"$f":"HLOOKUP(U134,PComDel4,10,FALSE)","v":""},{"$f":"HLOOKUP(V134,PComDel4,10,FALSE)","v":""},{"$f":"HLOOKUP(W134,YComDel4,12,FALSE)","v":""},{"$f":"HLOOKUP(X134,YComDel4,12,FALSE)","v":""},{"$f":"HLOOKUP(Y134,YComDel4,12,FALSE)","v":""},{"$f":"HLOOKUP(Z134,PComDel4,10,FALSE)","v":""},{"$f":"HLOOKUP(AA134,PComDel5,10,FALSE)","v":""},{"$f":"HLOOKUP(AB134,PComDel5,10,FALSE)","v":""},{"$f":"HLOOKUP(AC134,YComDel5,12,FALSE)","v":""},{"$f":"HLOOKUP(AD134,YComDel5,12,FALSE)","v":""},{"$f":"HLOOKUP(AE134,YComDel5,12,FALSE)","v":""},{"$f":"HLOOKUP(AF134,PComDel5,10,FALSE)","v":""},{"$f":"HLOOKUP(AG134,PComDel6,10,FALSE)","v":""},{"$f":"HLOOKUP(AH134,PComDel6,10,FALSE)","v":""},{"$f":"HLOOKUP(AI134,YComDel6,12,FALSE)","v":""},{"$f":"HLOOKUP(AJ134,YComDel6,12,FALSE)","v":""},{"$f":"HLOOKUP(AK134,YComDel6,12,FALSE)","v":""},{"$f":"HLOOKUP(AL134,PComDel6,10,FALSE)","v":""},{"$f":"HLOOKUP(AM134,PComDel7,10,FALSE)","v":""},{"$f":"HLOOKUP(AN134,PComDel7,10,FALSE)","v":""},{"$f":"HLOOKUP(AO134,YComDel7,12,FALSE)","v":""},{"$f":"HLOOKUP(AP134,YComDel7,12,FALSE)","v":""},{"$f":"HLOOKUP(AQ134,YComDel7,12,FALSE)","v":""},{"$f":"HLOOKUP(AR134,PComDel7,10,FALSE)","v":""}]
["Coded Post-Test Entered?",null,{"$f":"HLOOKUP(C134,PComDel1,19,FALSE)","v":""},{"$f":"HLOOKUP(D134,PComDel1,19,FALSE)","v":""},{"$f":"HLOOKUP(E134,YComDel1,22,FALSE)","v":""},{"$f":"HLOOKUP(F134,YComDel1,22,FALSE)","v":""},{"$f":"HLOOKUP(G134,YComDel1,22,FALSE)","v":""},{"$f":"HLOOKUP(H134,PComDel1,19,FALSE)","v":""},{"$f":"HLOOKUP(I134,PComDel2,19,FALSE)","v":""},{"$f":"HLOOKUP(J134,PComDel2,19,FALSE)","v":""},{"$f":"HLOOKUP(K134,YComDel2,22,FALSE)","v":""},{"$f":"HLOOKUP(L134,YComDel2,22,FALSE)","v":""},{"$f":"HLOOKUP(M134,YComDel2,22,FALSE)","v":""},{"$f":"HLOOKUP(N134,PComDel2,19,FALSE)","v":""},{"$f":"HLOOKUP(O134,PComDel3,19,FALSE)","v":""},{"$f":"HLOOKUP(P134,PComDel3,19,FALSE)","v":""},{"$f":"HLOOKUP(Q134,YComDel3,22,FALSE)","v":""},{"$f":"HLOOKUP(R134,YComDel3,22,FALSE)","v":""},{"$f":"HLOOKUP(S134,YComDel3,22,FALSE)","v":""},{"$f":"HLOOKUP(T134,PComDel3,19,FALSE)","v":""},{"$f":"HLOOKUP(U134,PComDel4,19,FALSE)","v":""},{"$f":"HLOOKUP(V134,PComDel4,19,FALSE)","v":""},{"$f":"HLOOKUP(W134,YComDel4,22,FALSE)","v":""},{"$f":"HLOOKUP(X134,YComDel4,22,FALSE)","v":""},{"$f":"HLOOKUP(Y134,YComDel4,22,FALSE)","v":""},{"$f":"HLOOKUP(Z134,PComDel4,19,FALSE)","v":""},{"$f":"HLOOKUP(AA134,PComDel5,19,FALSE)","v":""},{"$f":"HLOOKUP(AB134,PComDel5,19,FALSE)","v":""},{"$f":"HLOOKUP(AC134,YComDel5,22,FALSE)","v":""},{"$f":"HLOOKUP(AD134,YComDel5,22,FALSE)","v":""},{"$f":"HLOOKUP(AE134,YComDel5,22,FALSE)","v":""},{"$f":"HLOOKUP(AF134,PComDel5,19,FALSE)","v":""},{"$f":"HLOOKUP(AG134,PComDel6,19,FALSE)","v":""},{"$f":"HLOOKUP(AH134,PComDel6,19,FALSE)","v":""},{"$f":"HLOOKUP(AI134,YComDel6,22,FALSE)","v":""},{"$f":"HLOOKUP(AJ134,YComDel6,22,FALSE)","v":""},{"$f":"HLOOKUP(AK134,YComDel6,22,FALSE)","v":""},{"$f":"HLOOKUP(AL134,PComDel6,19,FALSE)","v":""},{"$f":"HLOOKUP(AM134,PComDel7,19,FALSE)","v":""},{"$f":"HLOOKUP(AN134,PComDel7,19,FALSE)","v":""},{"$f":"HLOOKUP(AO134,YComDel7,22,FALSE)","v":""},{"$f":"HLOOKUP(AP134,YComDel7,22,FALSE)","v":""},{"$f":"HLOOKUP(AQ134,YComDel7,22,FALSE)","v":""},{"$f":"HLOOKUP(AR134,PComDel7,19,FALSE)","v":""}]
[null,null,"Family 11","Family 11","Family 11","Family 11","Family 11","Family 11","Family 11","Family 11","Family 11","Family 11","Family 11","Family 11","Family 11","Family 11","Family 11","Family 11","Family 11","Family 11","Family 11","Family 11","Family 11","Family 11","Family 11","Family 11","Family 11","Family 11","Family 11","Family 11","Family 11","Family 11","Family 11","Family 11","Family 11","Family 11","Family 11","Family 11","Family 11","Family 11","Family 11","Family 11","Family 11","Family 11"]
[null,null,"11A","11B","11C","11D","11E","11F","11A","11B","11C","11D","11E","11F","11A","11B","11C","11D","11E","11F","11A","11B","11C","11D","11E","11F","11A","11B","11C","11D","11E","11F","11A","11B","11C","11D","11E","11F","11A","11B","11C","11D","11E","11F"]
["Family 11"]
["Relationship",null,"Caregiver 1"," Caregiver 2","Youth 1","Youth 2","Youth 3","Other Adult","Caregiver 1"," Caregiver 2","Youth 1","Youth 2","Youth 3","Other Adult","Caregiver 1"," Caregiver 2","Youth 1","Youth 2","Youth 3","Other Adult","Caregiver 1"," Caregiver 2","Youth 1","Youth 2","Youth 3","Other Adult","Caregiver 1"," Caregiver 2","Youth 1","Youth 2","Youth 3","Other Adult","Caregiver 1"," Caregiver 2","Youth 1","Youth 2","Youth 3","Other Adult","Caregiver 1"," Caregiver 2","Youth 1","Youth 2","Youth 3","Other Adult"]
["Enter Initials (to aid data entry if needed)"]
["Attended Session 1"]
["Attended Session 2"]
["Attended Session 3"]
["Attended Session 4"]
["Attended Session 5"]
["Attended Session 6"]
["Attended Session 7"]
["Coded Pre-Test Entered?",null,{"$f":"HLOOKUP(C148,PComDel1,10,FALSE)","v":""},{"$f":"HLOOKUP(D148,PComDel1,10,FALSE)","v":""},{"$f":"HLOOKUP(E148,YComDel1,12,FALSE)","v":""},{"$f":"HLOOKUP(F148,YComDel1,12,FALSE)","v":""},{"$f":"HLOOKUP(G148,YComDel1,12,FALSE)","v":""},{"$f":"HLOOKUP(H148,PComDel1,10,FALSE)","v":""},{"$f":"HLOOKUP(I148,PComDel2,10,FALSE)","v":""},{"$f":"HLOOKUP(J148,PComDel2,10,FALSE)","v":""},{"$f":"HLOOKUP(K148,YComDel2,12,FALSE)","v":""},{"$f":"HLOOKUP(L148,YComDel2,12,FALSE)","v":""},{"$f":"HLOOKUP(M148,YComDel2,12,FALSE)","v":""},{"$f":"HLOOKUP(N148,PComDel2,10,FALSE)","v":""},{"$f":"HLOOKUP(O148,PComDel3,10,FALSE)","v":""},{"$f":"HLOOKUP(P148,PComDel3,10,FALSE)","v":""},{"$f":"HLOOKUP(Q148,YComDel3,12,FALSE)","v":""},{"$f":"HLOOKUP(R148,YComDel3,12,FALSE)","v":""},{"$f":"HLOOKUP(S148,YComDel3,12,FALSE)","v":""},{"$f":"HLOOKUP(T148,PComDel3,10,FALSE)","v":""},{"$f":"HLOOKUP(U148,PComDel4,10,FALSE)","v":""},{"$f":"HLOOKUP(V148,PComDel4,10,FALSE)","v":""},{"$f":"HLOOKUP(W148,YComDel4,12,FALSE)","v":""},{"$f":"HLOOKUP(X148,YComDel4,12,FALSE)","v":""},{"$f":"HLOOKUP(Y148,YComDel4,12,FALSE)","v":""},{"$f":"HLOOKUP(Z148,PComDel4,10,FALSE)","v":""},{"$f":"HLOOKUP(AA148,PComDel5,10,FALSE)","v":""},{"$f":"HLOOKUP(AB148,PComDel5,10,FALSE)","v":""},{"$f":"HLOOKUP(AC148,YComDel5,12,FALSE)","v":""},{"$f":"HLOOKUP(AD148,YComDel5,12,FALSE)","v":""},{"$f":"HLOOKUP(AE148,YComDel5,12,FALSE)","v":""},{"$f":"HLOOKUP(AF148,PComDel5,10,FALSE)","v":""},{"$f":"HLOOKUP(AG148,PComDel6,10,FALSE)","v":""},{"$f":"HLOOKUP(AH148,PComDel6,10,FALSE)","v":""},{"$f":"HLOOKUP(AI148,YComDel6,12,FALSE)","v":""},{"$f":"HLOOKUP(AJ148,YComDel6,12,FALSE)","v":""},{"$f":"HLOOKUP(AK148,YComDel6,12,FALSE)","v":""},{"$f":"HLOOKUP(AL148,PComDel6,10,FALSE)","v":""},{"$f":"HLOOKUP(AM148,PComDel7,10,FALSE)","v":""},{"$f":"HLOOKUP(AN148,PComDel7,10,FALSE)","v":""},{"$f":"HLOOKUP(AO148,YComDel7,12,FALSE)","v":""},{"$f":"HLOOKUP(AP148,YComDel7,12,FALSE)","v":""},{"$f":"HLOOKUP(AQ148,YComDel7,12,FALSE)","v":""},{"$f":"HLOOKUP(AR148,PComDel7,10,FALSE)","v":""}]
["Coded Post-Test Entered?",null,{"$f":"HLOOKUP(C148,PComDel1,19,FALSE)","v":""},{"$f":"HLOOKUP(D148,PComDel1,19,FALSE)","v":""},{"$f":"HLOOKUP(E148,YComDel1,22,FALSE)","v":""},{"$f":"HLOOKUP(F148,YComDel1,22,FALSE)","v":""},{"$f":"HLOOKUP(G148,YComDel1,22,FALSE)","v":""},{"$f":"HLOOKUP(H148,PComDel1,19,FALSE)","v":""},{"$f":"HLOOKUP(I148,PComDel2,19,FALSE)","v":""},{"$f":"HLOOKUP(J148,PComDel2,19,FALSE)","v":""},{"$f":"HLOOKUP(K148,YComDel2,22,FALSE)","v":""},{"$f":"HLOOKUP(L148,YComDel2,22,FALSE)","v":""},{"$f":"HLOOKUP(M148,YComDel2,22,FALSE)","v":""},{"$f":"HLOOKUP(N148,PComDel2,19,FALSE)","v":""},{"$f":"HLOOKUP(O148,PComDel3,19,FALSE)","v":""},{"$f":"HLOOKUP(P148,PComDel3,19,FALSE)","v":""},{"$f":"HLOOKUP(Q148,YComDel3,22,FALSE)","v":""},{"$f":"HLOOKUP(R148,YComDel3,22,FALSE)","v":""},{"$f":"HLOOKUP(S148,YComDel3,22,FALSE)","v":""},{"$f":"HLOOKUP(T148,PComDel3,19,FALSE)","v":""},{"$f":"HLOOKUP(U148,PComDel4,19,FALSE)","v":""},{"$f":"HLOOKUP(V148,PComDel4,19,FALSE)","v":""},{"$f":"HLOOKUP(W148,YComDel4,22,FALSE)","v":""},{"$f":"HLOOKUP(X148,YComDel4,22,FALSE)","v":""},{"$f":"HLOOKUP(Y148,YComDel4,22,FALSE)","v":""},{"$f":"HLOOKUP(Z148,PComDel4,19,FALSE)","v":""},{"$f":"HLOOKUP(AA148,PComDel5,19,FALSE)","v":""},{"$f":"HLOOKUP(AB148,PComDel5,19,FALSE)","v":""},{"$f":"HLOOKUP(AC148,YComDel5,22,FALSE)","v":""},{"$f":"HLOOKUP(AD148,YComDel5,22,FALSE)","v":""},{"$f":"HLOOKUP(AE148,YComDel5,22,FALSE)","v":""},{"$f":"HLOOKUP(AF148,PComDel5,19,FALSE)","v":""},{"$f":"HLOOKUP(AG148,PComDel6,19,FALSE)","v":""},{"$f":"HLOOKUP(AH148,PComDel6,19,FALSE)","v":""},{"$f":"HLOOKUP(AI148,YComDel6,22,FALSE)","v":""},{"$f":"HLOOKUP(AJ148,YComDel6,22,FALSE)","v":""},{"$f":"HLOOKUP(AK148,YComDel6,22,FALSE)","v":""},{"$f":"HLOOKUP(AL148,PComDel6,19,FALSE)","v":""},{"$f":"HLOOKUP(AM148,PComDel7,19,FALSE)","v":""},{"$f":"HLOOKUP(AN148,PComDel7,19,FALSE)","v":""},{"$f":"HLOOKUP(AO148,YComDel7,22,FALSE)","v":""},{"$f":"HLOOKUP(AP148,YComDel7,22,FALSE)","v":""},{"$f":"HLOOKUP(AQ148,YComDel7,22,FALSE)","v":""},{"$f":"HLOOKUP(AR148,PComDel7,19,FALSE)","v":""}]
[null,null,"Family 12","Family 12","Family 12","Family 12","Family 12","Family 12","Family 12","Family 12","Family 12","Family 12","Family 12","Family 12","Family 12","Family 12","Family 12","Family 12","Family 12","Family 12","Family 12","Family 12","Family 12","Family 12","Family 12","Family 12","Family 12","Family 12","Family 12","Family 12","Family 12","Family 12","Family 12","Family 12","Family 12","Family 12","Family 12","Family 12","Family 12","Family 12","Family 12","Family 12","Family 12","Family 12"]
[null,null,"12A","12B","12C","12D","12E","12F","12A","12B","12C","12D","12E","12F","12A","12B","12C","12D","12E","12F","12A","12B","12C","12D","12E","12F","12A","12B","12C","12D","12E","12F","12A","12B","12C","12D","12E","12F","12A","12B","12C","12D","12E","12F"]
["Family 12"]
["Relationship",null,"Caregiver 1"," Caregiver 2","Youth 1","Youth 2","Youth 3","Other Adult","Caregiver 1"," Caregiver 2","Youth 1","Youth 2","Youth 3","Other Adult","Caregiver 1"," Caregiver 2","Youth 1","Youth 2","Youth 3","Other Adult","Caregiver 1"," Caregiver 2","Youth 1","Youth 2","Youth 3","Other Adult","Caregiver 1"," Caregiver 2","Youth 1","Youth 2","Youth 3","Other Adult","Caregiver 1"," Caregiver 2","Youth 1","Youth 2","Youth 3","Other Adult","Caregiver 1"," Caregiver 2","Youth 1","Youth 2","Youth 3","Other Adult"]
["Enter Initials (to aid data entry if needed)"]
["Attended Session 1"]
["Attended Session 2"]
["Attended Session 3"]
["Attended Session 4"]
["Attended Session 5"]
["Attended Session 6"]
["Attended Session 7"]
["Coded Pre-Test Entered?",null,{"$f":"HLOOKUP(C162,PComDel1,10,FALSE)","v":""},{"$f":"HLOOKUP(D162,PComDel1,10,FALSE)","v":""},{"$f":"HLOOKUP(E162,YComDel1,12,FALSE)","v":""},{"$f":"HLOOKUP(F162,YComDel1,12,FALSE)","v":""},{"$f":"HLOOKUP(G162,YComDel1,12,FALSE)","v":""},{"$f":"HLOOKUP(H162,PComDel1,10,FALSE)","v":""},{"$f":"HLOOKUP(I162,PComDel2,10,FALSE)","v":""},{"$f":"HLOOKUP(J162,PComDel2,10,FALSE)","v":""},{"$f":"HLOOKUP(K162,YComDel2,12,FALSE)","v":""},{"$f":"HLOOKUP(L162,YComDel2,12,FALSE)","v":""},{"$f":"HLOOKUP(M162,YComDel2,12,FALSE)","v":""},{"$f":"HLOOKUP(N162,PComDel2,10,FALSE)","v":""},{"$f":"HLOOKUP(O162,PComDel3,10,FALSE)","v":""},{"$f":"HLOOKUP(P162,PComDel3,10,FALSE)","v":""},{"$f":"HLOOKUP(Q162,YComDel3,12,FALSE)","v":""},{"$f":"HLOOKUP(R162,YComDel3,12,FALSE)","v":""},{"$f":"HLOOKUP(S162,YComDel3,12,FALSE)","v":""},{"$f":"HLOOKUP(T162,PComDel3,10,FALSE)","v":""},{"$f":"HLOOKUP(U162,PComDel4,10,FALSE)","v":""},{"$f":"HLOOKUP(V162,PComDel4,10,FALSE)","v":""},{"$f":"HLOOKUP(W162,YComDel4,12,FALSE)","v":""},{"$f":"HLOOKUP(X162,YComDel4,12,FALSE)","v":""},{"$f":"HLOOKUP(Y162,YComDel4,12,FALSE)","v":""},{"$f":"HLOOKUP(Z162,PComDel4,10,FALSE)","v":""},{"$f":"HLOOKUP(AA162,PComDel5,10,FALSE)","v":""},{"$f":"HLOOKUP(AB162,PComDel5,10,FALSE)","v":""},{"$f":"HLOOKUP(AC162,YComDel5,12,FALSE)","v":""},{"$f":"HLOOKUP(AD162,YComDel5,12,FALSE)","v":""},{"$f":"HLOOKUP(AE162,YComDel5,12,FALSE)","v":""},{"$f":"HLOOKUP(AF162,PComDel5,10,FALSE)","v":""},{"$f":"HLOOKUP(AG162,PComDel6,10,FALSE)","v":""},{"$f":"HLOOKUP(AH162,PComDel6,10,FALSE)","v":""},{"$f":"HLOOKUP(AI162,YComDel6,12,FALSE)","v":""},{"$f":"HLOOKUP(AJ162,YComDel6,12,FALSE)","v":""},{"$f":"HLOOKUP(AK162,YComDel6,12,FALSE)","v":""},{"$f":"HLOOKUP(AL162,PComDel6,10,FALSE)","v":""},{"$f":"HLOOKUP(AM162,PComDel7,10,FALSE)","v":""},{"$f":"HLOOKUP(AN162,PComDel7,10,FALSE)","v":""},{"$f":"HLOOKUP(AO162,YComDel7,12,FALSE)","v":""},{"$f":"HLOOKUP(AP162,YComDel7,12,FALSE)","v":""},{"$f":"HLOOKUP(AQ162,YComDel7,12,FALSE)","v":""},{"$f":"HLOOKUP(AR162,PComDel7,10,FALSE)","v":""}]
["Coded Post-Test Entered?",null,{"$f":"HLOOKUP(C162,PComDel1,19,FALSE)","v":""},{"$f":"HLOOKUP(D162,PComDel1,19,FALSE)","v":""},{"$f":"HLOOKUP(E162,YComDel1,22,FALSE)","v":""},{"$f":"HLOOKUP(F162,YComDel1,22,FALSE)","v":""},{"$f":"HLOOKUP(G162,YComDel1,22,FALSE)","v":""},{"$f":"HLOOKUP(H162,PComDel1,19,FALSE)","v":""},{"$f":"HLOOKUP(I162,PComDel2,19,FALSE)","v":""},{"$f":"HLOOKUP(J162,PComDel2,19,FALSE)","v":""},{"$f":"HLOOKUP(K162,YComDel2,22,FALSE)","v":""},{"$f":"HLOOKUP(L162,YComDel2,22,FALSE)","v":""},{"$f":"HLOOKUP(M162,YComDel2,22,FALSE)","v":""},{"$f":"HLOOKUP(N162,PComDel2,19,FALSE)","v":""},{"$f":"HLOOKUP(O162,PComDel3,19,FALSE)","v":""},{"$f":"HLOOKUP(P162,PComDel3,19,FALSE)","v":""},{"$f":"HLOOKUP(Q162,YComDel3,22,FALSE)","v":""},{"$f":"HLOOKUP(R162,YComDel3,22,FALSE)","v":""},{"$f":"HLOOKUP(S162,YComDel3,22,FALSE)","v":""},{"$f":"HLOOKUP(T162,PComDel3,19,FALSE)","v":""},{"$f":"HLOOKUP(U162,PComDel4,19,FALSE)","v":""},{"$f":"HLOOKUP(V162,PComDel4,19,FALSE)","v":""},{"$f":"HLOOKUP(W162,YComDel4,22,FALSE)","v":""},{"$f":"HLOOKUP(X162,YComDel4,22,FALSE)","v":""},{"$f":"HLOOKUP(Y162,YComDel4,22,FALSE)","v":""},{"$f":"HLOOKUP(Z162,PComDel4,19,FALSE)","v":""},{"$f":"HLOOKUP(AA162,PComDel5,19,FALSE)","v":""},{"$f":"HLOOKUP(AB162,PComDel5,19,FALSE)","v":""},{"$f":"HLOOKUP(AC162,YComDel5,22,FALSE)","v":""},{"$f":"HLOOKUP(AD162,YComDel5,22,FALSE)","v":""},{"$f":"HLOOKUP(AE162,YComDel5,22,FALSE)","v":""},{"$f":"HLOOKUP(AF162,PComDel5,19,FALSE)","v":""},{"$f":"HLOOKUP(AG162,PComDel6,19,FALSE)","v":""},{"$f":"HLOOKUP(AH162,PComDel6,19,FALSE)","v":""},{"$f":"HLOOKUP(AI162,YComDel6,22,FALSE)","v":""},{"$f":"HLOOKUP(AJ162,YComDel6,22,FALSE)","v":""},{"$f":"HLOOKUP(AK162,YComDel6,22,FALSE)","v":""},{"$f":"HLOOKUP(AL162,PComDel6,19,FALSE)","v":""},{"$f":"HLOOKUP(AM162,PComDel7,19,FALSE)","v":""},{"$f":"HLOOKUP(AN162,PComDel7,19,FALSE)","v":""},{"$f":"HLOOKUP(AO162,YComDel7,22,FALSE)","v":""},{"$f":"HLOOKUP(AP162,YComDel7,22,FALSE)","v":""},{"$f":"HLOOKUP(AQ162,YComDel7,22,FALSE)","v":""},{"$f":"HLOOKUP(AR162,PComDel7,19,FALSE)","v":""}]
[null,null,"Family 13","Family 13","Family 13","Family 13","Family 13","Family 13","Family 13","Family 13","Family 13","Family 13","Family 13","Family 13","Family 13","Family 13","Family 13","Family 13","Family 13","Family 13","Family 13","Family 13","Family 13","Family 13","Family 13","Family 13","Family 13","Family 13","Family 13","Family 13","Family 13","Family 13","Family 13","Family 13","Family 13","Family 13","Family 13","Family 13","Family 13","Family 13","Family 13","Family 13","Family 13","Family 13"]
[null,null,"13A","13B","13C","13D","13E","13F","13A","13B","13C","13D","13E","13F","13A","13B","13C","13D","13E","13F","13A","13B","13C","13D","13E","13F","13A","13B","13C","13D","13E","13F","13A","13B","13C","13D","13E","13F","13A","13B","13C","13D","13E","13F"]
["Family 13"]
["Relationship",null,"Caregiver 1"," Caregiver 2","Youth 1","Youth 2","Youth 3","Other Adult","Caregiver 1"," Caregiver 2","Youth 1","Youth 2","Youth 3","Other Adult","Caregiver 1"," Caregiver 2","Youth 1","Youth 2","Youth 3","Other Adult","Caregiver 1"," Caregiver 2","Youth 1","Youth 2","Youth 3","Other Adult","Caregiver 1"," Caregiver 2","Youth 1","Youth 2","Youth 3","Other Adult","Caregiver 1"," Caregiver 2","Youth 1","Youth 2","Youth 3","Other Adult","Caregiver 1"," Caregiver 2","Youth 1","Youth 2","Youth 3","Other Adult"]
["Enter Initials (to aid data entry if needed)"]
["Attended Session 1"]
["Attended Session 2"]
["Attended Session 3"]
["Attended Session 4"]
["Attended Session 5"]
["Attended Session 6"]
["Attended Session 7"]
["Coded Pre-Test Entered?",null,{"$f":"HLOOKUP(C176,PComDel1,10,FALSE)","v":""},{"$f":"HLOOKUP(D176,PComDel1,10,FALSE)","v":""},{"$f":"HLOOKUP(E176,YComDel1,12,FALSE)","v":""},{"$f":"HLOOKUP(F176,YComDel1,12,FALSE)","v":""},{"$f":"HLOOKUP(G176,YComDel1,12,FALSE)","v":""},{"$f":"HLOOKUP(H176,PComDel1,10,FALSE)","v":""},{"$f":"HLOOKUP(I176,PComDel2,10,FALSE)","v":""},{"$f":"HLOOKUP(J176,PComDel2,10,FALSE)","v":""},{"$f":"HLOOKUP(K176,YComDel2,12,FALSE)","v":""},{"$f":"HLOOKUP(L176,YComDel2,12,FALSE)","v":""},{"$f":"HLOOKUP(M176,YComDel2,12,FALSE)","v":""},{"$f":"HLOOKUP(N176,PComDel2,10,FALSE)","v":""},{"$f":"HLOOKUP(O176,PComDel3,10,FALSE)","v":""},{"$f":"HLOOKUP(P176,PComDel3,10,FALSE)","v":""},{"$f":"HLOOKUP(Q176,YComDel3,12,FALSE)","v":""},{"$f":"HLOOKUP(R176,YComDel3,12,FALSE)","v":""},{"$f":"HLOOKUP(S176,YComDel3,12,FALSE)","v":""},{"$f":"HLOOKUP(T176,PComDel3,10,FALSE)","v":""},{"$f":"HLOOKUP(U176,PComDel4,10,FALSE)","v":""},{"$f":"HLOOKUP(V176,PComDel4,10,FALSE)","v":""},{"$f":"HLOOKUP(W176,YComDel4,12,FALSE)","v":""},{"$f":"HLOOKUP(X176,YComDel4,12,FALSE)","v":""},{"$f":"HLOOKUP(Y176,YComDel4,12,FALSE)","v":""},{"$f":"HLOOKUP(Z176,PComDel4,10,FALSE)","v":""},{"$f":"HLOOKUP(AA176,PComDel5,10,FALSE)","v":""},{"$f":"HLOOKUP(AB176,PComDel5,10,FALSE)","v":""},{"$f":"HLOOKUP(AC176,YComDel5,12,FALSE)","v":""},{"$f":"HLOOKUP(AD176,YComDel5,12,FALSE)","v":""},{"$f":"HLOOKUP(AE176,YComDel5,12,FALSE)","v":""},{"$f":"HLOOKUP(AF176,PComDel5,10,FALSE)","v":""},{"$f":"HLOOKUP(AG176,PComDel6,10,FALSE)","v":""},{"$f":"HLOOKUP(AH176,PComDel6,10,FALSE)","v":""},{"$f":"HLOOKUP(AI176,YComDel6,12,FALSE)","v":""},{"$f":"HLOOKUP(AJ176,YComDel6,12,FALSE)","v":""},{"$f":"HLOOKUP(AK176,YComDel6,12,FALSE)","v":""},{"$f":"HLOOKUP(AL176,PComDel6,10,FALSE)","v":""},{"$f":"HLOOKUP(AM176,PComDel7,10,FALSE)","v":""},{"$f":"HLOOKUP(AN176,PComDel7,10,FALSE)","v":""},{"$f":"HLOOKUP(AO176,YComDel7,12,FALSE)","v":""},{"$f":"HLOOKUP(AP176,YComDel7,12,FALSE)","v":""},{"$f":"HLOOKUP(AQ176,YComDel7,12,FALSE)","v":""},{"$f":"HLOOKUP(AR176,PComDel7,10,FALSE)","v":""}]
["Coded Post-Test Entered?",null,{"$f":"HLOOKUP(C176,PComDel1,19,FALSE)","v":""},{"$f":"HLOOKUP(D176,PComDel1,19,FALSE)","v":""},{"$f":"HLOOKUP(E176,YComDel1,22,FALSE)","v":""},{"$f":"HLOOKUP(F176,YComDel1,22,FALSE)","v":""},{"$f":"HLOOKUP(G176,YComDel1,22,FALSE)","v":""},{"$f":"HLOOKUP(H176,PComDel1,19,FALSE)","v":""},{"$f":"HLOOKUP(I176,PComDel2,19,FALSE)","v":""},{"$f":"HLOOKUP(J176,PComDel2,19,FALSE)","v":""},{"$f":"HLOOKUP(K176,YComDel2,22,FALSE)","v":""},{"$f":"HLOOKUP(L176,YComDel2,22,FALSE)","v":""},{"$f":"HLOOKUP(M176,YComDel2,22,FALSE)","v":""},{"$f":"HLOOKUP(N176,PComDel2,19,FALSE)","v":""},{"$f":"HLOOKUP(O176,PComDel3,19,FALSE)","v":""},{"$f":"HLOOKUP(P176,PComDel3,19,FALSE)","v":""},{"$f":"HLOOKUP(Q176,YComDel3,22,FALSE)","v":""},{"$f":"HLOOKUP(R176,YComDel3,22,FALSE)","v":""},{"$f":"HLOOKUP(S176,YComDel3,22,FALSE)","v":""},{"$f":"HLOOKUP(T176,PComDel3,19,FALSE)","v":""},{"$f":"HLOOKUP(U176,PComDel4,19,FALSE)","v":""},{"$f":"HLOOKUP(V176,PComDel4,19,FALSE)","v":""},{"$f":"HLOOKUP(W176,YComDel4,22,FALSE)","v":""},{"$f":"HLOOKUP(X176,YComDel4,22,FALSE)","v":""},{"$f":"HLOOKUP(Y176,YComDel4,22,FALSE)","v":""},{"$f":"HLOOKUP(Z176,PComDel4,19,FALSE)","v":""},{"$f":"HLOOKUP(AA176,PComDel5,19,FALSE)","v":""},{"$f":"HLOOKUP(AB176,PComDel5,19,FALSE)","v":""},{"$f":"HLOOKUP(AC176,YComDel5,22,FALSE)","v":""},{"$f":"HLOOKUP(AD176,YComDel5,22,FALSE)","v":""},{"$f":"HLOOKUP(AE176,YComDel5,22,FALSE)","v":""},{"$f":"HLOOKUP(AF176,PComDel5,19,FALSE)","v":""},{"$f":"HLOOKUP(AG176,PComDel6,19,FALSE)","v":""},{"$f":"HLOOKUP(AH176,PComDel6,19,FALSE)","v":""},{"$f":"HLOOKUP(AI176,YComDel6,22,FALSE)","v":""},{"$f":"HLOOKUP(AJ176,YComDel6,22,FALSE)","v":""},{"$f":"HLOOKUP(AK176,YComDel6,22,FALSE)","v":""},{"$f":"HLOOKUP(AL176,PComDel6,19,FALSE)","v":""},{"$f":"HLOOKUP(AM176,PComDel7,19,FALSE)","v":""},{"$f":"HLOOKUP(AN176,PComDel7,19,FALSE)","v":""},{"$f":"HLOOKUP(AO176,YComDel7,22,FALSE)","v":""},{"$f":"HLOOKUP(AP176,YComDel7,22,FALSE)","v":""},{"$f":"HLOOKUP(AQ176,YComDel7,22,FALSE)","v":""},{"$f":"HLOOKUP(AR176,PComDel7,19,FALSE)","v":""}]
[null,null,"Family 14","Family 14","Family 14","Family 14","Family 14","Family 14","Family 14","Family 14","Family 14","Family 14","Family 14","Family 14","Family 14","Family 14","Family 14","Family 14","Family 14","Family 14","Family 14","Family 14","Family 14","Family 14","Family 14","Family 14","Family 14","Family 14","Family 14","Family 14","Family 14","Family 14","Family 14","Family 14","Family 14","Family 14","Family 14","Family 14","Family 14","Family 14","Family 14","Family 14","Family 14","Family 14"]
[null,null,"14A","14B","14C","14D","14E","14F","14A","14B","14C","14D","14E","14F","14A","14B","14C","14D","14E","14F","14A","14B","14C","14D","14E","14F","14A","14B","14C","14D","14E","14F","14A","14B","14C","14D","14E","14F","14A","14B","14C","14D","14E","14F"]
["Family 14"]
["Relationship",null,"Caregiver 1"," Caregiver 2","Youth 1","Youth 2","Youth 3","Other Adult","Caregiver 1"," Caregiver 2","Youth 1","Youth 2","Youth 3","Other Adult","Caregiver 1"," Caregiver 2","Youth 1","Youth 2","Youth 3","Other Adult","Caregiver 1"," Caregiver 2","Youth 1","Youth 2","Youth 3","Other Adult","Caregiver 1"," Caregiver 2","Youth 1","Youth 2","Youth 3","Other Adult","Caregiver 1"," Caregiver 2","Youth 1","Youth 2","Youth 3","Other Adult","Caregiver 1"," Caregiver 2","Youth 1","Youth 2","Youth 3","Other Adult"]
["Enter Initials (to aid data entry if needed)"]
["Attended Session 1"]
["Attended Session 2"]
["Attended Session 3"]
["Attended Session 4"]
["Attended Session 5"]
["Attended Session 6"]
["Attended Session 7"]
["Coded Pre-Test Entered?",null,{"$f":"HLOOKUP(C190,PComDel1,10,FALSE)","v":""},{"$f":"HLOOKUP(D190,PComDel1,10,FALSE)","v":""},{"$f":"HLOOKUP(E190,YComDel1,12,FALSE)","v":""},{"$f":"HLOOKUP(F190,YComDel1,12,FALSE)","v":""},{"$f":"HLOOKUP(G190,YComDel1,12,FALSE)","v":""},{"$f":"HLOOKUP(H190,PComDel1,10,FALSE)","v":""},{"$f":"HLOOKUP(I190,PComDel2,10,FALSE)","v":""},{"$f":"HLOOKUP(J190,PComDel2,10,FALSE)","v":""},{"$f":"HLOOKUP(K190,YComDel2,12,FALSE)","v":""},{"$f":"HLOOKUP(L190,YComDel2,12,FALSE)","v":""},{"$f":"HLOOKUP(M190,YComDel2,12,FALSE)","v":""},{"$f":"HLOOKUP(N190,PComDel2,10,FALSE)","v":""},{"$f":"HLOOKUP(O190,PComDel3,10,FALSE)","v":""},{"$f":"HLOOKUP(P190,PComDel3,10,FALSE)","v":""},{"$f":"HLOOKUP(Q190,YComDel3,12,FALSE)","v":""},{"$f":"HLOOKUP(R190,YComDel3,12,FALSE)","v":""},{"$f":"HLOOKUP(S190,YComDel3,12,FALSE)","v":""},{"$f":"HLOOKUP(T190,PComDel3,10,FALSE)","v":""},{"$f":"HLOOKUP(U190,PComDel4,10,FALSE)","v":""},{"$f":"HLOOKUP(V190,PComDel4,10,FALSE)","v":""},{"$f":"HLOOKUP(W190,YComDel4,12,FALSE)","v":""},{"$f":"HLOOKUP(X190,YComDel4,12,FALSE)","v":""},{"$f":"HLOOKUP(Y190,YComDel4,12,FALSE)","v":""},{"$f":"HLOOKUP(Z190,PComDel4,10,FALSE)","v":""},{"$f":"HLOOKUP(AA190,PComDel5,10,FALSE)","v":""},{"$f":"HLOOKUP(AB190,PComDel5,10,FALSE)","v":""},{"$f":"HLOOKUP(AC190,YComDel5,12,FALSE)","v":""},{"$f":"HLOOKUP(AD190,YComDel5,12,FALSE)","v":""},{"$f":"HLOOKUP(AE190,YComDel5,12,FALSE)","v":""},{"$f":"HLOOKUP(AF190,PComDel5,10,FALSE)","v":""},{"$f":"HLOOKUP(AG190,PComDel6,10,FALSE)","v":""},{"$f":"HLOOKUP(AH190,PComDel6,10,FALSE)","v":""},{"$f":"HLOOKUP(AI190,YComDel6,12,FALSE)","v":""},{"$f":"HLOOKUP(AJ190,YComDel6,12,FALSE)","v":""},{"$f":"HLOOKUP(AK190,YComDel6,12,FALSE)","v":""},{"$f":"HLOOKUP(AL190,PComDel6,10,FALSE)","v":""},{"$f":"HLOOKUP(AM190,PComDel7,10,FALSE)","v":""},{"$f":"HLOOKUP(AN190,PComDel7,10,FALSE)","v":""},{"$f":"HLOOKUP(AO190,YComDel7,12,FALSE)","v":""},{"$f":"HLOOKUP(AP190,YComDel7,12,FALSE)","v":""},{"$f":"HLOOKUP(AQ190,YComDel7,12,FALSE)","v":""},{"$f":"HLOOKUP(AR190,PComDel7,10,FALSE)","v":""}]
["Coded Post-Test Entered?",null,{"$f":"HLOOKUP(C190,PComDel1,19,FALSE)","v":""},{"$f":"HLOOKUP(D190,PComDel1,19,FALSE)","v":""},{"$f":"HLOOKUP(E190,YComDel1,22,FALSE)","v":""},{"$f":"HLOOKUP(F190,YComDel1,22,FALSE)","v":""},{"$f":"HLOOKUP(G190,YComDel1,22,FALSE)","v":""},{"$f":"HLOOKUP(H190,PComDel1,19,FALSE)","v":""},{"$f":"HLOOKUP(I190,PComDel2,19,FALSE)","v":""},{"$f":"HLOOKUP(J190,PComDel2,19,FALSE)","v":""},{"$f":"HLOOKUP(K190,YComDel2,22,FALSE)","v":""},{"$f":"HLOOKUP(L190,YComDel2,22,FALSE)","v":""},{"$f":"HLOOKUP(M190,YComDel2,22,FALSE)","v":""},{"$f":"HLOOKUP(N190,PComDel2,19,FALSE)","v":""},{"$f":"HLOOKUP(O190,PComDel3,19,FALSE)","v":""},{"$f":"HLOOKUP(P190,PComDel3,19,FALSE)","v":""},{"$f":"HLOOKUP(Q190,YComDel3,22,FALSE)","v":""},{"$f":"HLOOKUP(R190,YComDel3,22,FALSE)","v":""},{"$f":"HLOOKUP(S190,YComDel3,22,FALSE)","v":""},{"$f":"HLOOKUP(T190,PComDel3,19,FALSE)","v":""},{"$f":"HLOOKUP(U190,PComDel4,19,FALSE)","v":""},{"$f":"HLOOKUP(V190,PComDel4,19,FALSE)","v":""},{"$f":"HLOOKUP(W190,YComDel4,22,FALSE)","v":""},{"$f":"HLOOKUP(X190,YComDel4,22,FALSE)","v":""},{"$f":"HLOOKUP(Y190,YComDel4,22,FALSE)","v":""},{"$f":"HLOOKUP(Z190,PComDel4,19,FALSE)","v":""},{"$f":"HLOOKUP(AA190,PComDel5,19,FALSE)","v":""},{"$f":"HLOOKUP(AB190,PComDel5,19,FALSE)","v":""},{"$f":"HLOOKUP(AC190,YComDel5,22,FALSE)","v":""},{"$f":"HLOOKUP(AD190,YComDel5,22,FALSE)","v":""},{"$f":"HLOOKUP(AE190,YComDel5,22,FALSE)","v":""},{"$f":"HLOOKUP(AF190,PComDel5,19,FALSE)","v":""},{"$f":"HLOOKUP(AG190,PComDel6,19,FALSE)","v":""},{"$f":"HLOOKUP(AH190,PComDel6,19,FALSE)","v":""},{"$f":"HLOOKUP(AI190,YComDel6,22,FALSE)","v":""},{"$f":"HLOOKUP(AJ190,YComDel6,22,FALSE)","v":""},{"$f":"HLOOKUP(AK190,YComDel6,22,FALSE)","v":""},{"$f":"HLOOKUP(AL190,PComDel6,19,FALSE)","v":""},{"$f":"HLOOKUP(AM190,PComDel7,19,FALSE)","v":""},{"$f":"HLOOKUP(AN190,PComDel7,19,FALSE)","v":""},{"$f":"HLOOKUP(AO190,YComDel7,22,FALSE)","v":""},{"$f":"HLOOKUP(AP190,YComDel7,22,FALSE)","v":""},{"$f":"HLOOKUP(AQ190,YComDel7,22,FALSE)","v":""},{"$f":"HLOOKUP(AR190,PComDel7,19,FALSE)","v":""}]
[null,null,"Family 15","Family 15","Family 15","Family 15","Family 15","Family 15","Family 15","Family 15","Family 15","Family 15","Family 15","Family 15","Family 15","Family 15","Family 15","Family 15","Family 15","Family 15","Family 15","Family 15","Family 15","Family 15","Family 15","Family 15","Family 15","Family 15","Family 15","Family 15","Family 15","Family 15","Family 15","Family 15","Family 15","Family 15","Family 15","Family 15","Family 15","Family 15","Family 15","Family 15","Family 15","Family 15"]
[null,null,"15A","15B","15C","15D","15E","15F","15A","15B","15C","15D","15E","15F","15A","15B","15C","15D","15E","15F","15A","15B","15C","15D","15E","15F","15A","15B","15C","15D","15E","15F","15A","15B","15C","15D","15E","15F","15A","15B","15C","15D","15E","15F"]
["Family 15"]
["Relationship",null,"Caregiver 1"," Caregiver 2","Youth 1","Youth 2","Youth 3","Other Adult","Caregiver 1"," Caregiver 2","Youth 1","Youth 2","Youth 3","Other Adult","Caregiver 1"," Caregiver 2","Youth 1","Youth 2","Youth 3","Other Adult","Caregiver 1"," Caregiver 2","Youth 1","Youth 2","Youth 3","Other Adult","Caregiver 1"," Caregiver 2","Youth 1","Youth 2","Youth 3","Other Adult","Caregiver 1"," Caregiver 2","Youth 1","Youth 2","Youth 3","Other Adult","Caregiver 1"," Caregiver 2","Youth 1","Youth 2","Youth 3","Other Adult"]
["Enter Initials (to aid data entry if needed)"]
["Attended Session 1"]
["Attended Session 2"]
["Attended Session 3"]
["Attended Session 4"]
["Attended Session 5"]
["Attended Session 6"]
["Attended Session 7"]
["Coded Pre-Test Entered?",null,{"$f":"HLOOKUP(C204,PComDel1,10,FALSE)","v":""},{"$f":"HLOOKUP(D204,PComDel1,10,FALSE)","v":""},{"$f":"HLOOKUP(E204,YComDel1,12,FALSE)","v":""},{"$f":"HLOOKUP(F204,YComDel1,12,FALSE)","v":""},{"$f":"HLOOKUP(G204,YComDel1,12,FALSE)","v":""},{"$f":"HLOOKUP(H204,PComDel1,10,FALSE)","v":""},{"$f":"HLOOKUP(I204,PComDel2,10,FALSE)","v":""},{"$f":"HLOOKUP(J204,PComDel2,10,FALSE)","v":""},{"$f":"HLOOKUP(K204,YComDel2,12,FALSE)","v":""},{"$f":"HLOOKUP(L204,YComDel2,12,FALSE)","v":""},{"$f":"HLOOKUP(M204,YComDel2,12,FALSE)","v":""},{"$f":"HLOOKUP(N204,PComDel2,10,FALSE)","v":""},{"$f":"HLOOKUP(O204,PComDel3,10,FALSE)","v":""},{"$f":"HLOOKUP(P204,PComDel3,10,FALSE)","v":""},{"$f":"HLOOKUP(Q204,YComDel3,12,FALSE)","v":""},{"$f":"HLOOKUP(R204,YComDel3,12,FALSE)","v":""},{"$f":"HLOOKUP(S204,YComDel3,12,FALSE)","v":""},{"$f":"HLOOKUP(T204,PComDel3,10,FALSE)","v":""},{"$f":"HLOOKUP(U204,PComDel4,10,FALSE)","v":""},{"$f":"HLOOKUP(V204,PComDel4,10,FALSE)","v":""},{"$f":"HLOOKUP(W204,YComDel4,12,FALSE)","v":""},{"$f":"HLOOKUP(X204,YComDel4,12,FALSE)","v":""},{"$f":"HLOOKUP(Y204,YComDel4,12,FALSE)","v":""},{"$f":"HLOOKUP(Z204,PComDel4,10,FALSE)","v":""},{"$f":"HLOOKUP(AA204,PComDel5,10,FALSE)","v":""},{"$f":"HLOOKUP(AB204,PComDel5,10,FALSE)","v":""},{"$f":"HLOOKUP(AC204,YComDel5,12,FALSE)","v":""},{"$f":"HLOOKUP(AD204,YComDel5,12,FALSE)","v":""},{"$f":"HLOOKUP(AE204,YComDel5,12,FALSE)","v":""},{"$f":"HLOOKUP(AF204,PComDel5,10,FALSE)","v":""},{"$f":"HLOOKUP(AG204,PComDel6,10,FALSE)","v":""},{"$f":"HLOOKUP(AH204,PComDel6,10,FALSE)","v":""},{"$f":"HLOOKUP(AI204,YComDel6,12,FALSE)","v":""},{"$f":"HLOOKUP(AJ204,YComDel6,12,FALSE)","v":""},{"$f":"HLOOKUP(AK204,YComDel6,12,FALSE)","v":""},{"$f":"HLOOKUP(AL204,PComDel6,10,FALSE)","v":""},{"$f":"HLOOKUP(AM204,PComDel7,10,FALSE)","v":""},{"$f":"HLOOKUP(AN204,PComDel7,10,FALSE)","v":""},{"$f":"HLOOKUP(AO204,YComDel7,12,FALSE)","v":""},{"$f":"HLOOKUP(AP204,YComDel7,12,FALSE)","v":""},{"$f":"HLOOKUP(AQ204,YComDel7,12,FALSE)","v":""},{"$f":"HLOOKUP(AR204,PComDel7,10,FALSE)","v":""}]
["Coded Post-Test Entered?",null,{"$f":"HLOOKUP(C204,PComDel1,19,FALSE)","v":""},{"$f":"HLOOKUP(D204,PComDel1,19,FALSE)","v":""},{"$f":"HLOOKUP(E204,YComDel1,22,FALSE)","v":""},{"$f":"HLOOKUP(F204,YComDel1,22,FALSE)","v":""},{"$f":"HLOOKUP(G204,YComDel1,22,FALSE)","v":""},{"$f":"HLOOKUP(H204,PComDel1,19,FALSE)","v":""},{"$f":"HLOOKUP(I204,PComDel2,19,FALSE)","v":""},{"$f":"HLOOKUP(J204,PComDel2,19,FALSE)","v":""},{"$f":"HLOOKUP(K204,YComDel2,22,FALSE)","v":""},{"$f":"HLOOKUP(L204,YComDel2,22,FALSE)","v":""},{"$f":"HLOOKUP(M204,YComDel2,22,FALSE)","v":""},{"$f":"HLOOKUP(N204,PComDel2,19,FALSE)","v":""},{"$f":"HLOOKUP(O204,PComDel3,19,FALSE)","v":""},{"$f":"HLOOKUP(P204,PComDel3,19,FALSE)","v":""},{"$f":"HLOOKUP(Q204,YComDel3,22,FALSE)","v":""},{"$f":"HLOOKUP(R204,YComDel3,22,FALSE)","v":""},{"$f":"HLOOKUP(S204,YComDel3,22,FALSE)","v":""},{"$f":"HLOOKUP(T204,PComDel3,19,FALSE)","v":""},{"$f":"HLOOKUP(U204,PComDel4,19,FALSE)","v":""},{"$f":"HLOOKUP(V204,PComDel4,19,FALSE)","v":""},{"$f":"HLOOKUP(W204,YComDel4,22,FALSE)","v":""},{"$f":"HLOOKUP(X204,YComDel4,22,FALSE)","v":""},{"$f":"HLOOKUP(Y204,YComDel4,22,FALSE)","v":""},{"$f":"HLOOKUP(Z204,PComDel4,19,FALSE)","v":""},{"$f":"HLOOKUP(AA204,PComDel5,19,FALSE)","v":""},{"$f":"HLOOKUP(AB204,PComDel5,19,FALSE)","v":""},{"$f":"HLOOKUP(AC204,YComDel5,22,FALSE)","v":""},{"$f":"HLOOKUP(AD204,YComDel5,22,FALSE)","v":""},{"$f":"HLOOKUP(AE204,YComDel5,22,FALSE)","v":""},{"$f":"HLOOKUP(AF204,PComDel5,19,FALSE)","v":""},{"$f":"HLOOKUP(AG204,PComDel6,19,FALSE)","v":""},{"$f":"HLOOKUP(AH204,PComDel6,19,FALSE)","v":""},{"$f":"HLOOKUP(AI204,YComDel6,22,FALSE)","v":""},{"$f":"HLOOKUP(AJ204,YComDel6,22,FALSE)","v":""},{"$f":"HLOOKUP(AK204,YComDel6,22,FALSE)","v":""},{"$f":"HLOOKUP(AL204,PComDel6,19,FALSE)","v":""},{"$f":"HLOOKUP(AM204,PComDel7,19,FALSE)","v":""},{"$f":"HLOOKUP(AN204,PComDel7,19,FALSE)","v":""},{"$f":"HLOOKUP(AO204,YComDel7,22,FALSE)","v":""},{"$f":"HLOOKUP(AP204,YComDel7,22,FALSE)","v":""},{"$f":"HLOOKUP(AQ204,YComDel7,22,FALSE)","v":""},{"$f":"HLOOKUP(AR204,PComDel7,19,FALSE)","v":""}]
[{"$f":"Instructions!A2","v":"Ver. 1.1 (1-6-2016)"}]
[]
["Attendance Family 1",null,{"$f":"SUM(C12:C18)","v":0},0,0,0,0,0,0,0,0,0,0,0,0,0,0,0,0,0,0,0,0,0,0,0,0,0,0,0,0,0,0,0,0,0,0,0,0,0,0,0,0,0]
["Attendance Family 2",null,{"$f":"SUM(C26:C32)","v":0},0,0,0,0,0,0,0,0,0,0,0,0,0,0,0,0,0,0,0,0,0,0,0,0,0,0,0,0,0,0,0,0,0,0,0,0,0,0,0,0,0]
["Attendance Family 3",null,{"$f":"SUM(C40:C46)","v":0},0,0,0,0,0,0,0,0,0,0,0,0,0,0,0,0,0,0,0,0,0,0,0,0,0,0,0,0,0,0,0,0,0,0,0,0,0,0,0,0,0]
["Attendance Family 4",null,{"$f":"SUM(C54:C60)","v":0},0,0,0,0,0,0,0,0,0,0,0,0,0,0,0,0,0,0,0,0,0,0,0,0,0,0,0,0,0,0,0,0,0,0,0,0,0,0,0,0,0]
["Attendance Family 5",null,{"$f":"SUM(C68:C74)","v":0},0,0,0,0,0,0,0,0,0,0,0,0,0,0,0,0,0,0,0,0,0,0,0,0,0,0,0,0,0,0,0,0,0,0,0,0,0,0,0,0,0]
["Attendance Family 6",null,{"$f":"SUM(C82:C88)","v":0},0,0,0,0,0,0,0,0,0,0,0,0,0,0,0,0,0,0,0,0,0,0,0,0,0,0,0,0,0,0,0,0,0,0,0,0,0,0,0,0,0]
["Attendance Family 7",null,{"$f":"SUM(C96:C102)","v":0},0,0,0,0,0,0,0,0,0,0,0,0,0,0,0,0,0,0,0,0,0,0,0,0,0,0,0,0,0,0,0,0,0,0,0,0,0,0,0,0,0]
["Attendance Family 8",null,{"$f":"SUM(C110:C116)","v":0},0,0,0,0,0,0,0,0,0,0,0,0,0,0,0,0,0,0,0,0,0,0,0,0,0,0,0,0,0,0,0,0,0,0,0,0,0,0,0,0,0]
["Attendance Family 9",null,{"$f":"SUM(C124:C130)","v":0},0,0,0,0,0,0,0,0,0,0,0,0,0,0,0,0,0,0,0,0,0,0,0,0,0,0,0,0,0,0,0,0,0,0,0,0,0,0,0,0,0]
["Attendance Family 10",null,{"$f":"SUM(C138:C144)","v":0},0,0,0,0,0,0,0,0,0,0,0,0,0,0,0,0,0,0,0,0,0,0,0,0,0,0,0,0,0,0,0,0,0,0,0,0,0,0,0,0,0]
["Attendance Family 11",null,{"$f":"SUM(C152:C158)","v":0},0,0,0,0,0,0,0,0,0,0,0,0,0,0,0,0,0,0,0,0,0,0,0,0,0,0,0,0,0,0,0,0,0,0,0,0,0,0,0,0,0]
["Attendance Family 12",null,{"$f":"SUM(C166:C172)","v":0},0,0,0,0,0,0,0,0,0,0,0,0,0,0,0,0,0,0,0,0,0,0,0,0,0,0,0,0,0,0,0,0,0,0,0,0,0,0,0,0,0]
["Attendance Family 13",null,{"$f":"SUM(C180:C186)","v":0},0,0,0,0,0,0,0,0,0,0,0,0,0,0,0,0,0,0,0,0,0,0,0,0,0,0,0,0,0,0,0,0,0,0,0,0,0,0,0,0,0]
["Attendance Family 14",null,{"$f":"SUM(C194:C200)","v":0},0,0,0,0,0,0,0,0,0,0,0,0,0,0,0,0,0,0,0,0,0,0,0,0,0,0,0,0,0,0,0,0,0,0,0,0,0,0,0,0,0]
["Attendance Family 15",null,{"$f":"SUM(C208:C214)","v":0},{"$f":"SUM(D208:D214)","v":0},0,0,0,0,{"$f":"SUM(I208:I214)","v":0},0,0,0,0,0,0,0,0,0,0,0,0,0,0,0,0,0,0,0,0,0,0,0,0,0,0,0,0,0,0,0,0,0,0,0]
[]
[]
[null,null,"Adults Participated","Youth Participated","Adults Complete","Youth Complete","Families Attn","Families Compltd","Adults Participated","Youth Participated","Adults Complete","Youth Complete","Families Attn","Families Compltd","Adults Participated","Youth Participated","Adults Complete","Youth Complete","Families Attn","Families Compltd","Adults Participated","Youth Participated","Adults Complete","Youth Complete","Families Attn","Families Compltd","Adults Participated","Youth Participated","Adults Complete","Youth Complete","Families Attn","Families Compltd","Adults Participated","Youth Participated","Adults Complete","Youth Complete","Families Attn","Families Compltd","Adults Participated","Youth Participated","Adults Complete","Youth Complete","Families Attn","Families Compltd"]
["TOTALS",null,{"$f":"COUNTIF(C219:D233,\">0\")+COUNTIF(H219:H233,\">0\")","v":0},{"$f":"COUNTIF(E219:G233,\">0\")","v":0},{"$f":"COUNTIF(C219:D233,\">=5\")+COUNTIF(H219:H233,\">=5\")","v":0},{"$f":"COUNTIF(E219:G233,\">=5\")","v":0},{"$f":"SUM(G238:G252)","v":0},{"$f":"SUM(H238:H252)","v":0},{"$f":"COUNTIF(I219:J233,\">0\")+COUNTIF(N219:N233,\">0\")","v":0},{"$f":"COUNTIF(K219:M233,\">0\")","v":0},{"$f":"COUNTIF(I219:J233,\">=5\")+COUNTIF(N219:N233,\">=5\")","v":0},{"$f":"COUNTIF(K219:M233,\">=5\")","v":0},{"$f":"SUM(M238:M252)","v":0},{"$f":"SUM(N238:N252)","v":0},{"$f":"COUNTIF(O219:P233,\">0\")+COUNTIF(T219:T233,\">0\")","v":0},{"$f":"COUNTIF(Q219:S233,\">0\")","v":0},{"$f":"COUNTIF(O219:P233,\">=5\")+COUNTIF(T219:T233,\">=5\")","v":0},{"$f":"COUNTIF(Q219:S233,\">=5\")","v":0},{"$f":"SUM(S238:S252)","v":0},0,{"$f":"COUNTIF(U219:V233,\">0\")+COUNTIF(Z219:Z233,\">0\")","v":0},{"$f":"COUNTIF(W219:Y233,\">0\")","v":0},{"$f":"COUNTIF(U219:V233,\">=5\")+COUNTIF(Z219:Z233,\">=5\")","v":0},{"$f":"COUNTIF(W219:Y233,\">=5\")","v":0},{"$f":"SUM(Y238:Y252)","v":0},0,{"$f":"COUNTIF(AA219:AB233,\">0\")+COUNTIF(AF219:AF233,\">0\")","v":0},{"$f":"COUNTIF(AC219:AE233,\">0\")","v":0},{"$f":"COUNTIF(AA219:AB233,\">=5\")+COUNTIF(AF219:AF233,\">=5\")","v":0},{"$f":"COUNTIF(AC219:AE233,\">=5\")","v":0},{"$f":"SUM(AE238:AE252)","v":0},0,{"$f":"COUNTIF(AG219:AH233,\">0\")+COUNTIF(AL219:AL233,\">0\")","v":0},{"$f":"COUNTIF(AI219:AK233,\">0\")","v":0},{"$f":"COUNTIF(AG219:AH233,\">=5\")+COUNTIF(AL219:AL233,\">=5\")","v":0},{"$f":"COUNTIF(AI219:AK233,\">=5\")","v":0},{"$f":"SUM(AK238:AK252)","v":0},0,{"$f":"COUNTIF(AM219:AN233,\">0\")+COUNTIF(AR219:AR233,\">0\")","v":0},{"$f":"COUNTIF(AO219:AQ233,\">0\")","v":0},{"$f":"COUNTIF(AM219:AN233,\">=5\")+COUNTIF(AR219:AR233,\">=5\")","v":0},{"$f":"COUNTIF(AO219:AQ233,\">=5\")","v":0},{"$f":"SUM(AQ238:AQ252)","v":0},0]
["Participation Family 1",null,{"$f":"COUNTIF(C219:D219,\">0\")+COUNTIF(H219,\">0\")","v":0},{"$f":"COUNTIF(E219:G219,\">0\")","v":0},{"$f":"COUNTIF(C219:D219,\">=5\")+COUNTIF(H219,\">=5\")","v":0},{"$f":"COUNTIF(E219:G219,\">=5\")","v":0},{"$f":"IF(AND(C238>0,D238>0),1,0)","v":0},{"$f":"IF(AND(E238>0,F238>0),1,0)","v":0},{"$f":"COUNTIF(I219:J219,\">0\")+COUNTIF(N219,\">0\")","v":0},{"$f":"COUNTIF(K219:M219,\">0\")","v":0},{"$f":"COUNTIF(I219:J219,\">=5\")+COUNTIF(N219,\">=5\")","v":0},{"$f":"COUNTIF(K219:M219,\">=5\")","v":0},{"$f":"IF(AND(I238>0,J238>0),1,0)","v":0},{"$f":"IF(AND(K238>0,L238>0),1,0)","v":0},{"$f":"COUNTIF(O219:P219,\">0\")+COUNTIF(T219,\">0\")","v":0},{"$f":"COUNTIF(Q219:S219,\">0\")","v":0},{"$f":"COUNTIF(O219:P219,\">=5\")+COUNTIF(T219,\">=5\")","v":0},{"$f":"COUNTIF(Q219:S219,\">=5\")","v":0},{"$f":"IF(AND(O238>0,P238>0),1,0)","v":0},{"$f":"IF(AND(Q238>0,R238>0),1,0)","v":0},{"$f":"COUNTIF(U219:V219,\">0\")+COUNTIF(Z219,\">0\")","v":0},{"$f":"COUNTIF(W219:Y219,\">0\")","v":0},{"$f":"COUNTIF(U219:V219,\">=5\")+COUNTIF(Z219,\">=5\")","v":0},{"$f":"COUNTIF(W219:Y219,\">=5\")","v":0},{"$f":"IF(AND(U238>0,V238>0),1,0)","v":0},{"$f":"IF(AND(W238>0,X238>0),1,0)","v":0},{"$f":"COUNTIF(AA219:AB219,\">0\")+COUNTIF(AF219,\">0\")","v":0},{"$f":"COUNTIF(AC219:AE219,\">0\")","v":0},{"$f":"COUNTIF(AA219:AB219,\">=5\")+COUNTIF(AF219,\">=5\")","v":0},{"$f":"COUNTIF(AC219:AE219,\">=5\")","v":0},{"$f":"IF(AND(AA238>0,AB238>0),1,0)","v":0},{"$f":"IF(AND(AC238>0,AD238>0),1,0)","v":0},{"$f":"COUNTIF(AG219:AH219,\">0\")+COUNTIF(AL219,\">0\")","v":0},{"$f":"COUNTIF(AI219:AK219,\">0\")","v":0},{"$f":"COUNTIF(AG219:AH219,\">=5\")+COUNTIF(AL219,\">=5\")","v":0},{"$f":"COUNTIF(AI219:AK219,\">=5\")","v":0},{"$f":"IF(AND(AG238>0,AH238>0),1,0)","v":0},{"$f":"IF(AND(AI238>0,AJ238>0),1,0)","v":0},{"$f":"COUNTIF(AM219:AN219,\">0\")+COUNTIF(AR219,\">0\")","v":0},{"$f":"COUNTIF(AO219:AQ219,\">0\")","v":0},{"$f":"COUNTIF(AM219:AN219,\">=5\")+COUNTIF(AR219,\">=5\")","v":0},{"$f":"COUNTIF(AO219:AQ219,\">=5\")","v":0},{"$f":"IF(AND(AM238>0,AN238>0),1,0)","v":0},{"$f":"IF(AND(AO238>0,AP238>0),1,0)","v":0}]
["Participation Family 2",null,{"$f":"COUNTIF(C220:D220,\">0\")+COUNTIF(H220,\">0\")","v":0},{"$f":"COUNTIF(E220:G220,\">0\")","v":0},{"$f":"COUNTIF(C220:D220,\">=5\")+COUNTIF(H220,\">=5\")","v":0},{"$f":"COUNTIF(E220:G220,\">=5\")","v":0},{"$f":"IF(AND(C239>0,D239>0),1,0)","v":0},{"$f":"IF(AND(E239>0,F239>0),1,0)","v":0},0,0,0,0,0,0,0,0,0,0,0,0,0,0,0,0,0,0,0,0,0,0,0,0,0,0,0,0,0,0,0,0,0,0,0,0]
["Participation Family 3",null,0,0,0,0,0,0,0,0,0,0,0,0,0,0,0,0,0,0,0,0,0,0,0,0,0,0,0,0,0,0,0,0,0,0,0,0,0,0,0,0,0,0]
["Participation Family 4",null,0,0,0,0,0,0,0,0,0,0,0,0,0,0,0,0,0,0,0,0,0,0,0,0,0,0,0,0,0,0,0,0,0,0,0,0,0,0,0,0,0,0]
["Participation Family 5",null,0,0,0,0,0,0,0,0,0,0,0,0,0,0,0,0,0,0,0,0,0,0,0,0,0,0,0,0,0,0,0,0,0,0,0,0,0,0,0,0,0,0]
["Participation Family 6",null,0,0,0,0,0,0,0,0,0,0,0,0,0,0,0,0,0,0,0,0,0,0,0,0,0,0,0,0,0,0,0,0,0,0,0,0,0,0,0,0,0,0]
["Participation Family 7",null,0,0,0,0,0,0,0,0,0,0,0,0,0,0,0,0,0,0,0,0,0,0,0,0,0,0,0,0,0,0,0,0,0,0,0,0,0,0,0,0,0,0]
["Participation Family 8",null,0,0,0,0,0,0,0,0,0,0,0,0,0,0,0,0,0,0,0,0,0,0,0,0,0,0,0,0,0,0,0,0,0,0,0,0,0,0,0,0,0,0]
["Participation Family 9",null,0,0,0,0,0,0,0,0,0,0,0,0,0,0,0,0,0,0,0,0,0,0,0,0,0,0,0,0,0,0,0,0,0,0,0,0,0,0,0,0,0,0]
["Participation Family 10",null,0,0,0,0,0,0,0,0,0,0,0,0,0,0,0,0,0,0,0,0,0,0,0,0,0,0,0,0,0,0,0,0,0,0,0,0,0,0,0,0,0,0]
["Participation Family 11",null,0,0,0,0,0,0,0,0,0,0,0,0,0,0,0,0,0,0,0,0,0,0,0,0,0,0,0,0,0,0,0,0,0,0,0,0,0,0,0,0,0,0]
["Participation Family 12",null,0,0,0,0,0,0,0,0,0,0,0,0,0,0,0,0,0,0,0,0,0,0,0,0,0,0,0,0,0,0,0,0,0,0,0,0,0,0,0,0,0,0]
["Participation Family 13",null,0,0,0,0,0,0,0,0,0,0,0,0,0,0,0,0,0,0,0,0,0,0,0,0,0,0,0,0,0,0,0,0,0,0,0,0,0,0,0,0,0,0]
["Participation Family 14",null,0,0,0,0,0,0,0,0,0,0,0,0,0,0,0,0,0,0,0,0,0,0,0,0,0,0,0,0,0,0,0,0,0,0,0,0,0,0,0,0,0,0]
["Participation Family 15",null,0,0,0,0,0,0,0,0,0,0,0,0,0,0,0,0,0,0,0,0,0,0,0,0,0,0,0,0,0,0,0,0,0,0,0,0,0,0,0,0,0,0]
[]
[null,null,{"$f":"E3","v":0},{"$f":"E3","v":0},{"$f":"E3","v":0},{"$f":"E3","v":0},{"$f":"E3","v":0},{"$f":"E3","v":0},{"$f":"K3","v":0},{"$f":"K3","v":0},{"$f":"K3","v":0},{"$f":"K3","v":0},{"$f":"K3","v":0},{"$f":"K3","v":0},{"$f":"Q3","v":0},{"$f":"Q3","v":0},{"$f":"Q3","v":0},{"$f":"Q3","v":0},{"$f":"Q3","v":0},{"$f":"Q3","v":0},{"$f":"W3","v":0},{"$f":"W3","v":0},{"$f":"W3","v":0},{"$f":"W3","v":0},{"$f":"W3","v":0},{"$f":"W3","v":0},{"$f":"AC3","v":0},{"$f":"AC3","v":0},{"$f":"AC3","v":0},{"$f":"AC3","v":0},{"$f":"AC3","v":0},{"$f":"AC3","v":0},{"$f":"AI3","v":0},{"$f":"AI3","v":0},{"$f":"AI3","v":0},{"$f":"AI3","v":0},{"$f":"AI3","v":0},{"$f":"AI3","v":0},{"$f":"AO3","v":0},{"$f":"AO3","v":0},{"$f":"AO3","v":0},{"$f":"AO3","v":0},{"$f":"AO3","v":0},{"$f":"AO3","v":0}]
["Oct-Dec",null,{"$f":"IF(C$254=$A255,C$237,\"\")","v":""},"","","","","","","","","",{"$f":"IF(M$254=$A255,M$237,\"\")","v":""},"","","","","","","","","",{"$f":"IF(W$254=$A255,W$237,\"\")","v":""},"","","","","","","","","",{"$f":"IF(AG$254=$A255,AG$237,\"\")","v":""},"","","","","","","","","","",""]
["Jan-Mar",null,"","","","","","","","","","","","","","","","","","","","","","","","","","","","","","","","","","","","","","","","","",""]
["Apr-Jun",null,"","","","","","","","","","","","","","","","","","","","","","","","","","","","","","","","","","","","","","","","","",""]
["Jul-Sep",null,"","","","","","","","","","","","","","","","","","","","","","","","","","","","","","","","","","","","","","","","","",""]
[]
[null,null,"Adults Participated","Youth Participated","Adults Complete","Youth Complete","Families Attn","Families Compltd"]
["TOTALS",null,{"$f":"SUM(C262:C265)","v":0},{"$f":"SUM(D262:D265)","v":0},0,0,0,0]
["Oct-Dec",null,{"$f":"SUM(C255,I255,O255,U255,AA255,AG255,AM255)","v":0},{"$f":"SUM(D255,J255,P255,V255,AB255,AH255,AN255)","v":0},0,0,0,0]
["Jan-Mar",null,{"$f":"SUM(C256,I256,O256,U256,AA256,AG256,AM256)","v":0},0,0,0,0,0]
["Apr-Jun",null,0,0,0,0,0,0]
["Jul-Sep",null,0,0,0,0,0,0]

{"sheet":"Parent Survey","index":5,"n_rows":152,"n_cols":318,"rows_kept":152,"cut":false,"hidden":false,"merged":[]}
[null,null,null,"1st Delivery",null,null,null,null,null,null,null,null,null,null,null,null,null,null,null,null,null,null,null,null,null,null,null,null,null,null,null,null,null,null,null,null,null,null,null,null,null,null,null,null,null,null,null,null,"2ND Delivery",null,null,null,null,null,null,null,null,null,null,null,null,null,null,null,null,null,null,null,null,null,null,null,null,null,null,null,null,null,null,null,null,null,null,null,null,null,null,null,null,null,null,null,null,"3RD Delivery",null,null,null,null,null,null,null,null,null,null,null,null,null,null,null,null,null,null,null,null,null,null,null,null,null,null,null,null,null,null,null,null,null,null,null,null,null,null,null,null,null,null,null,null,"4th Delivery",null,null,null,null,null,null,null,null,null,null,null,null,null,null,null,null,null,null,null,null,null,null,null,null,null,null,null,null,null,null,null,null,null,null,null,null,null,null,null,null,null,null,null,null,"5th Delivery",null,null,null,null,null,null,null,null,null,null,null,null,null,null,null,null,null,null,null,null,null,null,null,null,null,null,null,null,null,null,null,null,null,null,null,null,null,null,null,null,null,null,null,null,"6th Delivery",null,null,null,null,null,null,null,null,null,null,null,null,null,null,null,null,null,null,null,null,null,null,null,null,null,null,null,null,null,null,null,null,null,null,null,null,null,null,null,null,null,null,null,null,"7th Delivery"]
[null,null,"PARENT-CAREGIVER SURVEY","Quarter Completed",null,null,null,{"$f":"Attendance!$E$3","v":0},null,null,null,null,null,null,null,null,null,null,null,null,null,null,null,null,null,null,null,null,null,null,null,null,null,null,null,null,null,null,null,null,null,null,null,null,null,null,null,null,"Quarter Completed",null,null,null,{"$f":"Attendance!$K$3","v":0},null,null,null,null,null,null,null,null,null,null,null,null,null,null,null,null,null,null,null,null,null,null,null,null,null,null,null,null,null,null,null,null,null,null,null,null,null,null,null,null,"Quarter Completed",null,null,null,{"$f":"Attendance!$Q$3","v":0},null,null,null,null,null,null,null,null,null,null,null,null,null,null,null,null,null,null,null,null,null,null,null,null,null,null,null,null,null,null,null,null,null,null,null,null,null,null,null,null,"Quarter Completed",null,null,null,{"$f":"Attendance!$W$3","v":0},null,null,null,null,null,null,null,null,null,null,null,null,null,null,null,null,null,null,null,null,null,null,null,null,null,null,null,null,null,null,null,null,null,null,null,null,null,null,null,null,"Quarter Completed",null,null,null,{"$f":"Attendance!$AC$3","v":0},null,null,null,null,null,null,null,null,null,null,null,null,null,null,null,null,null,null,null,null,null,null,null,null,null,null,null,null,null,null,null,null,null,null,null,null,null,null,null,null,"Quarter Completed",null,null,null,{"$f":"Attendance!$AI$3","v":0},null,null,null,null,null,null,null,null,null,null,null,null,null,null,null,null,null,null,null,null,null,null,null,null,null,null,null,null,null,null,null,null,null,null,null,null,null,null,null,null,"Quarter Completed",null,null,null,{"$f":"Attendance!$AO$3","v":0}]
[null,null,"Workshop Location",{"$f":"Attendance!$D$6","v":0},null,null,null,null,null,null,null,null,null,null,null,null,null,null,null,null,null,null,null,null,null,null,null,null,null,null,null,null,null,null,null,null,null,null,null,null,null,null,null,null,null,null,null,null,{"$f":"Attendance!$J$6","v":0}]
[null,null,"Initials",{"$f":"IF(Attendance!$C$11>0,Attendance!$C$11,\"\")","v":""},{"$f":"IF(Attendance!$D$11>0,Attendance!$D$11,\"\")","v":""},{"$f":"IF(Attendance!$H$11>0,Attendance!$H$11,\"\")","v":""},{"$f":"IF(Attendance!$C$25>0,Attendance!$C$25,\"\")","v":""},{"$f":"IF(Attendance!$D$25>0,Attendance!$D$25,\"\")","v":""},{"$f":"IF(Attendance!$H$25>0,Attendance!$H$25,\"\")","v":""},{"$f":"IF(Attendance!$C$39>0,Attendance!$C$39,\"\")","v":""},{"$f":"IF(Attendance!$D$39>0,Attendance!$D$39,\"\")","v":""},{"$f":"IF(Attendance!$H$39>0,Attendance!$H$39,\"\")","v":""},{"$f":"IF(Attendance!$C$53>0,Attendance!$C$53,\"\")","v":""},{"$f":"IF(Attendance!$D$53>0,Attendance!$D$53,\"\")","v":""},{"$f":"IF(Attendance!$H$53>0,Attendance!$H$53,\"\")","v":""},{"$f":"IF(Attendance!$C$67>0,Attendance!$C$67,\"\")","v":""},{"$f":"IF(Attendance!$D$67>0,Attendance!$D$67,\"\")","v":""},{"$f":"IF(Attendance!$H$67>0,Attendance!$H$67,\"\")","v":""},{"$f":"IF(Attendance!$C$81>0,Attendance!$C$81,\"\")","v":""},{"$f":"IF(Attendance!$D$81>0,Attendance!$D$81,\"\")","v":""},{"$f":"IF(Attendance!$H$81>0,Attendance!$H$81,\"\")","v":""},{"$f":"IF(Attendance!$C$95>0,Attendance!$C$95,\"\")","v":""},{"$f":"IF(Attendance!$D$95>0,Attendance!$D$95,\"\")","v":""},{"$f":"IF(Attendance!$H$95>0,Attendance!$H$95,\"\")","v":""},{"$f":"IF(Attendance!$C$109>0,Attendance!$C$109,\"\")","v":""},{"$f":"IF(Attendance!$D$109>0,Attendance!$D$109,\"\")","v":""},{"$f":"IF(Attendance!$H$109>0,Attendance!$H$109,\"\")","v":""},{"$f":"IF(Attendance!$C$123>0,Attendance!$C$123,\"\")","v":""},{"$f":"IF(Attendance!$D$123>0,Attendance!$D$123,\"\")","v":""},{"$f":"IF(Attendance!$H$123>0,Attendance!$H$123,\"\")","v":""},{"$f":"IF(Attendance!$C$137>0,Attendance!$C$137,\"\")","v":""},{"$f":"IF(Attendance!$D$137>0,Attendance!$D$137,\"\")","v":""},{"$f":"IF(Attendance!$H$137>0,Attendance!$H$137,\"\")","v":""},{"$f":"IF(Attendance!$C$151>0,Attendance!$C$151,\"\")","v":""},{"$f":"IF(Attendance!$D$151>0,Attendance!$D$151,\"\")","v":""},{"$f":"IF(Attendance!$H$151>0,Attendance!$H$151,\"\")","v":""},{"$f":"IF(Attendance!$C$165>0,Attendance!$C$165,\"\")","v":""},{"$f":"IF(Attendance!$D$165>0,Attendance!$D$165,\"\")","v":""},{"$f":"IF(Attendance!$H$165>0,Attendance!$H$165,\"\")","v":""},{"$f":"IF(Attendance!$C$179>0,Attendance!$C$179,\"\")","v":""},{"$f":"IF(Attendance!$D$179>0,Attendance!$D$179,\"\")","v":""},{"$f":"IF(Attendance!$H$179>0,Attendance!$H$179,\"\")","v":""},{"$f":"IF(Attendance!$C$193>0,Attendance!$C$193,\"\")","v":""},{"$f":"IF(Attendance!$D$193>0,Attendance!$D$193,\"\")","v":""},{"$f":"IF(Attendance!$H$193>0,Attendance!$H$193,\"\")","v":""},{"$f":"IF(Attendance!$C$207>0,Attendance!$C$207,\"\")","v":""},{"$f":"IF(Attendance!$D$207>0,Attendance!$D$207,\"\")","v":""},{"$f":"IF(Attendance!$H$207>0,Attendance!$H$207,\"\")","v":""},{"$f":"IF(Attendance!$I$11>0,Attendance!$I$11,\"\")","v":""},{"$f":"IF(Attendance!$J$11>0,Attendance!$J$11,\"\")","v":""},{"$f":"IF(Attendance!$N$11>0,Attendance!$N$11,\"\")","v":""},{"$f":"IF(Attendance!$I$25>0,Attendance!$I$25,\"\")","v":""},{"$f":"IF(Attendance!$J$25>0,Attendance!$J$25,\"\")","v":""},{"$f":"IF(Attendance!$N$25>0,Attendance!$N$25,\"\")","v":""},{"$f":"IF(Attendance!$I$39>0,Attendance!$I$39,\"\")","v":""},{"$f":"IF(Attendance!$J$39>0,Attendance!$J$39,\"\")","v":""},{"$f":"IF(Attendance!$N$39>0,Attendance!$N$39,\"\")","v":""},{"$f":"IF(Attendance!$I$53>0,Attendance!$I$53,\"\")","v":""},{"$f":"IF(Attendance!$J$53>0,Attendance!$J$53,\"\")","v":""},{"$f":"IF(Attendance!$N$53>0,Attendance!$N$53,\"\")","v":""},{"$f":"IF(Attendance!$I$67>0,Attendance!$I$67,\"\")","v":""},{"$f":"IF(Attendance!$J$67>0,Attendance!$J$67,\"\")","v":""},{"$f":"IF(Attendance!$N$67>0,Attendance!$N$67,\"\")","v":""},{"$f":"IF(Attendance!$I$81>0,Attendance!$I$81,\"\")","v":""},{"$f":"IF(Attendance!$J$81>0,Attendance!$J$81,\"\")","v":""},{"$f":"IF(Attendance!$N$81>0,Attendance!$N$81,\"\")","v":""},{"$f":"IF(Attendance!$I$95>0,Attendance!$I$95,\"\")","v":""},{"$f":"IF(Attendance!$J$95>0,Attendance!$J$95,\"\")","v":""},{"$f":"IF(Attendance!$N$95>0,Attendance!$N$95,\"\")","v":""},{"$f":"IF(Attendance!$I$109>0,Attendance!$I$109,\"\")","v":""},{"$f":"IF(Attendance!$J$109>0,Attendance!$J$109,\"\")","v":""},{"$f":"IF(Attendance!$N$109>0,Attendance!$N$109,\"\")","v":""},{"$f":"IF(Attendance!$I$123>0,Attendance!$I$123,\"\")","v":""},{"$f":"IF(Attendance!$J$123>0,Attendance!$J$123,\"\")","v":""},{"$f":"IF(Attendance!$N$123>0,Attendance!$N$123,\"\")","v":""},{"$f":"IF(Attendance!$I$137>0,Attendance!$I$137,\"\")","v":""},{"$f":"IF(Attendance!$J$137>0,Attendance!$J$137,\"\")","v":""},{"$f":"IF(Attendance!$N$137>0,Attendance!$N$137,\"\")","v":""},{"$f":"IF(Attendance!$I$151>0,Attendance!$I$151,\"\")","v":""},{"$f":"IF(Attendance!$J$151>0,Attendance!$J$151,\"\")","v":""},{"$f":"IF(Attendance!$N$151>0,Attendance!$N$151,\"\")","v":""},{"$f":"IF(Attendance!$I$165>0,Attendance!$I$165,\"\")","v":""},{"$f":"IF(Attendance!$J$165>0,Attendance!$J$165,\"\")","v":""},{"$f":"IF(Attendance!$N$165>0,Attendance!$N$165,\"\")","v":""},{"$f":"IF(Attendance!$I$179>0,Attendance!$I$179,\"\")","v":""},{"$f":"IF(Attendance!$J$179>0,Attendance!$J$179,\"\")","v":""},{"$f":"IF(Attendance!$N$179>0,Attendance!$N$179,\"\")","v":""},{"$f":"IF(Attendance!$I$193>0,Attendance!$I$193,\"\")","v":""},{"$f":"IF(Attendance!$J$193>0,Attendance!$J$193,\"\")","v":""},{"$f":"IF(Attendance!$N$193>0,Attendance!$N$193,\"\")","v":""},{"$f":"IF(Attendance!$I$207>0,Attendance!$I$207,\"\")","v":""},{"$f":"IF(Attendance!$J$207>0,Attendance!$J$207,\"\")","v":""},{"$f":"IF(Attendance!$N$207>0,Attendance!$N$207,\"\")","v":""},{"$f":"IF(Attendance!$O$11>0,Attendance!$O$11,\"\")","v":""},{"$f":"IF(Attendance!$P$11>0,Attendance!$P$11,\"\")","v":""},{"$f":"IF(Attendance!$T$11>0,Attendance!$T$11,\"\")","v":""},{"$f":"IF(Attendance!$O$25>0,Attendance!$O$25,\"\")","v":""},{"$f":"IF(Attendance!$P$25>0,Attendance!$P$25,\"\")","v":""},{"$f":"IF(Attendance!$T$25>0,Attendance!$T$25,\"\")","v":""},{"$f":"IF(Attendance!$O$39>0,Attendance!$O$39,\"\")","v":""},{"$f":"IF(Attendance!$P$39>0,Attendance!$P$39,\"\")","v":""},{"$f":"IF(Attendance!$T$39>0,Attendance!$T$39,\"\")","v":""},{"$f":"IF(Attendance!$O$53>0,Attendance!$O$53,\"\")","v":""},{"$f":"IF(Attendance!$P$53>0,Attendance!$P$53,\"\")","v":""},{"$f":"IF(Attendance!$T$53>0,Attendance!$T$53,\"\")","v":""},{"$f":"IF(Attendance!$O$67>0,Attendance!$O$67,\"\")","v":""},{"$f":"IF(Attendance!$P$67>0,Attendance!$P$67,\"\")","v":""},{"$f":"IF(Attendance!$T$67>0,Attendance!$T$67,\"\")","v":""},{"$f":"IF(Attendance!$O$81>0,Attendance!$O$81,\"\")","v":""},{"$f":"IF(Attendance!$P$81>0,Attendance!$P$81,\"\")","v":""},{"$f":"IF(Attendance!$T$81>0,Attendance!$T$81,\"\")","v":""},{"$f":"IF(Attendance!$O$95>0,Attendance!$O$95,\"\")","v":""},{"$f":"IF(Attendance!$P$95>0,Attendance!$P$95,\"\")","v":""},{"$f":"IF(Attendance!$T$95>0,Attendance!$T$95,\"\")","v":""},{"$f":"IF(Attendance!$O$109>0,Attendance!$O$109,\"\")","v":""},{"$f":"IF(Attendance!$P$109>0,Attendance!$P$109,\"\")","v":""},{"$f":"IF(Attendance!$T$109>0,Attendance!$T$109,\"\")","v":""},{"$f":"IF(Attendance!$O$123>0,Attendance!$O$123,\"\")","v":""},{"$f":"IF(Attendance!$P$123>0,Attendance!$P$123,\"\")","v":""},{"$f":"IF(Attendance!$T$123>0,Attendance!$T$123,\"\")","v":""},{"$f":"IF(Attendance!$O$137>0,Attendance!$O$137,\"\")","v":""},{"$f":"IF(Attendance!$P$137>0,Attendance!$P$137,\"\")","v":""},{"$f":"IF(Attendance!$T$137>0,Attendance!$T$137,\"\")","v":""},{"$f":"IF(Attendance!$O$151>0,Attendance!$O$151,\"\")","v":""},{"$f":"IF(Attendance!$P$151>0,Attendance!$P$151,\"\")","v":""},{"$f":"IF(Attendance!$T$151>0,Attendance!$T$151,\"\")","v":""},{"$f":"IF(Attendance!$O$165>0,Attendance!$O$165,\"\")","v":""},{"$f":"IF(Attendance!$P$165>0,Attendance!$P$165,\"\")","v":""},{"$f":"IF(Attendance!$T$165>0,Attendance!$T$165,\"\")","v":""},{"$f":"IF(Attendance!$O$179>0,Attendance!$O$179,\"\")","v":""},{"$f":"IF(Attendance!$P$179>0,Attendance!$P$179,\"\")","v":""},{"$f":"IF(Attendance!$T$179>0,Attendance!$T$179,\"\")","v":""},{"$f":"IF(Attendance!$O$193>0,Attendance!$O$193,\"\")","v":""},{"$f":"IF(Attendance!$P$193>0,Attendance!$P$193,\"\")","v":""},{"$f":"IF(Attendance!$T$193>0,Attendance!$T$193,\"\")","v":""},{"$f":"IF(Attendance!$O$207>0,Attendance!$O$207,\"\")","v":""},{"$f":"IF(Attendance!$P$207>0,Attendance!$P$207,\"\")","v":""},{"$f":"IF(Attendance!$T$207>0,Attendance!$T$207,\"\")","v":""},{"$f":"IF(Attendance!$U$11>0,Attendance!$U$11,\"\")","v":""},{"$f":"IF(Attendance!$V$11>0,Attendance!$V$11,\"\")","v":""},{"$f":"IF(Attendance!$Z$11>0,Attendance!$Z$11,\"\")","v":""},{"$f":"IF(Attendance!$U$25>0,Attendance!$U$25,\"\")","v":""},{"$f":"IF(Attendance!$V$25>0,Attendance!$V$25,\"\")","v":""},{"$f":"IF(Attendance!$Z$25>0,Attendance!$Z$25,\"\")","v":""},{"$f":"IF(Attendance!$U$39>0,Attendance!$U$39,\"\")","v":""},{"$f":"IF(Attendance!$V$39>0,Attendance!$V$39,\"\")","v":""},{"$f":"IF(Attendance!$Z$39>0,Attendance!$Z$39,\"\")","v":""},{"$f":"IF(Attendance!$U$53>0,Attendance!$U$53,\"\")","v":""},{"$f":"IF(Attendance!$V$53>0,Attendance!$V$53,\"\")","v":""},{"$f":"IF(Attendance!$Z$53>0,Attendance!$Z$53,\"\")","v":""},{"$f":"IF(Attendance!$U$67>0,Attendance!$U$67,\"\")","v":""},{"$f":"IF(Attendance!$V$67>0,Attendance!$V$67,\"\")","v":""},{"$f":"IF(Attendance!$Z$67>0,Attendance!$Z$67,\"\")","v":""},{"$f":"IF(Attendance!$U$81>0,Attendance!$U$81,\"\")","v":""},{"$f":"IF(Attendance!$V$81>0,Attendance!$V$81,\"\")","v":""},{"$f":"IF(Attendance!$Z$81>0,Attendance!$Z$81,\"\")","v":""},{"$f":"IF(Attendance!$U$95>0,Attendance!$U$95,\"\")","v":""},{"$f":"IF(Attendance!$V$95>0,Attendance!$V$95,\"\")","v":""},{"$f":"IF(Attendance!$Z$95>0,Attendance!$Z$95,\"\")","v":""},{"$f":"IF(Attendance!$U$109>0,Attendance!$U$109,\"\")","v":""},{"$f":"IF(Attendance!$V$109>0,Attendance!$V$109,\"\")","v":""},{"$f":"IF(Attendance!$Z$109>0,Attendance!$Z$109,\"\")","v":""},{"$f":"IF(Attendance!$U$123>0,Attendance!$U$123,\"\")","v":""},{"$f":"IF(Attendance!$V$123>0,Attendance!$V$123,\"\")","v":""},{"$f":"IF(Attendance!$Z$123>0,Attendance!$Z$123,\"\")","v":""},{"$f":"IF(Attendance!$U$137>0,Attendance!$U$137,\"\")","v":""},{"$f":"IF(Attendance!$V$137>0,Attendance!$V$137,\"\")","v":""},{"$f":"IF(Attendance!$Z$137>0,Attendance!$Z$137,\"\")","v":""},{"$f":"IF(Attendance!$U$151>0,Attendance!$U$151,\"\")","v":""},{"$f":"IF(Attendance!$V$151>0,Attendance!$V$151,\"\")","v":""},{"$f":"IF(Attendance!$Z$151>0,Attendance!$Z$151,\"\")","v":""},{"$f":"IF(Attendance!$U$165>0,Attendance!$U$165,\"\")","v":""},{"$f":"IF(Attendance!$V$165>0,Attendance!$V$165,\"\")","v":""},{"$f":"IF(Attendance!$Z$165>0,Attendance!$Z$165,\"\")","v":""},{"$f":"IF(Attendance!$U$179>0,Attendance!$U$179,\"\")","v":""},{"$f":"IF(Attendance!$V$179>0,Attendance!$V$179,\"\")","v":""},{"$f":"IF(Attendance!$Z$179>0,Attendance!$Z$179,\"\")","v":""},{"$f":"IF(Attendance!$U$193>0,Attendance!$U$193,\"\")","v":""},{"$f":"IF(Attendance!$V$193>0,Attendance!$V$193,\"\")","v":""},{"$f":"IF(Attendance!$Z$193>0,Attendance!$Z$193,\"\")","v":""},{"$f":"IF(Attendance!$U$207>0,Attendance!$U$207,\"\")","v":""},{"$f":"IF(Attendance!$V$207>0,Attendance!$V$207,\"\")","v":""},{"$f":"IF(Attendance!$Z$207>0,Attendance!$Z$207,\"\")","v":""},{"$f":"IF(Attendance!$AA$11>0,Attendance!$AA$11,\"\")","v":""},{"$f":"IF(Attendance!$AB$11>0,Attendance!$AB$11,\"\")","v":""},{"$f":"IF(Attendance!$AF$11>0,Attendance!$AF$11,\"\")","v":""},{"$f":"IF(Attendance!$AA$25>0,Attendance!$AA$25,\"\")","v":""},{"$f":"IF(Attendance!$AB$25>0,Attendance!$AB$25,\"\")","v":""},{"$f":"IF(Attendance!$AF$25>0,Attendance!$AF$25,\"\")","v":""},{"$f":"IF(Attendance!$AA$39>0,Attendance!$AA$39,\"\")","v":""},{"$f":"IF(Attendance!$AB$39>0,Attendance!$AB$39,\"\")","v":""},{"$f":"IF(Attendance!$AF$39>0,Attendance!$AF$39,\"\")","v":""},{"$f":"IF(Attendance!$AA$53>0,Attendance!$AA$53,\"\")","v":""},{"$f":"IF(Attendance!$AB$53>0,Attendance!$AB$53,\"\")","v":""},{"$f":"IF(Attendance!$AF$53>0,Attendance!$AF$53,\"\")","v":""},{"$f":"IF(Attendance!$AA$67>0,Attendance!$AA$67,\"\")","v":""},{"$f":"IF(Attendance!$AB$67>0,Attendance!$AB$67,\"\")","v":""},{"$f":"IF(Attendance!$AF$67>0,Attendance!$AF$67,\"\")","v":""},{"$f":"IF(Attendance!$AA$81>0,Attendance!$AA$81,\"\")","v":""},{"$f":"IF(Attendance!$AB$81>0,Attendance!$AB$81,\"\")","v":""},{"$f":"IF(Attendance!$AF$81>0,Attendance!$AF$81,\"\")","v":""},{"$f":"IF(Attendance!$AA$95>0,Attendance!$AA$95,\"\")","v":""},{"$f":"IF(Attendance!$AB$95>0,Attendance!$AB$95,\"\")","v":""},{"$f":"IF(Attendance!$AF$95>0,Attendance!$AF$95,\"\")","v":""},{"$f":"IF(Attendance!$AA$109>0,Attendance!$AA$109,\"\")","v":""},{"$f":"IF(Attendance!$AB$109>0,Attendance!$AB$109,\"\")","v":""},{"$f":"IF(Attendance!$AF$109>0,Attendance!$AF$109,\"\")","v":""},{"$f":"IF(Attendance!$AA$123>0,Attendance!$AA$123,\"\")","v":""},{"$f":"IF(Attendance!$AB$123>0,Attendance!$AB$123,\"\")","v":""},{"$f":"IF(Attendance!$AF$123>0,Attendance!$AF$123,\"\")","v":""},{"$f":"IF(Attendance!$AA$137>0,Attendance!$AA$137,\"\")","v":""},{"$f":"IF(Attendance!$AB$137>0,Attendance!$AB$137,\"\")","v":""},{"$f":"IF(Attendance!$AF$137>0,Attendance!$AF$137,\"\")","v":""},{"$f":"IF(Attendance!$AA$151>0,Attendance!$AA$151,\"\")","v":""},{"$f":"IF(Attendance!$AB$151>0,Attendance!$AB$151,\"\")","v":""},{"$f":"IF(Attendance!$AF$151>0,Attendance!$AF$151,\"\")","v":""},{"$f":"IF(Attendance!$AA$165>0,Attendance!$AA$165,\"\")","v":""},{"$f":"IF(Attendance!$AB$165>0,Attendance!$AB$165,\"\")","v":""},{"$f":"IF(Attendance!$AF$165>0,Attendance!$AF$165,\"\")","v":""},{"$f":"IF(Attendance!$AA$179>0,Attendance!$AA$179,\"\")","v":""},{"$f":"IF(Attendance!$AB$179>0,Attendance!$AB$179,\"\")","v":""},{"$f":"IF(Attendance!$AF$179>0,Attendance!$AF$179,\"\")","v":""},{"$f":"IF(Attendance!$AA$193>0,Attendance!$AA$193,\"\")","v":""},{"$f":"IF(Attendance!$AB$193>0,Attendance!$AB$193,\"\")","v":""},{"$f":"IF(Attendance!$AF$193>0,Attendance!$AF$193,\"\")","v":""},{"$f":"IF(Attendance!$AA$207>0,Attendance!$AA$207,\"\")","v":""},{"$f":"IF(Attendance!$AB$207>0,Attendance!$AB$207,\"\")","v":""},{"$f":"IF(Attendance!$AF$207>0,Attendance!$AF$207,\"\")","v":""},{"$f":"IF(Attendance!$AG$11>0,Attendance!$AG$11,\"\")","v":""},{"$f":"IF(Attendance!$AH$11>0,Attendance!$AH$11,\"\")","v":""},{"$f":"IF(Attendance!$AL$11>0,Attendance!$AL$11,\"\")","v":""},{"$f":"IF(Attendance!$AG$25>0,Attendance!$AG$25,\"\")","v":""},{"$f":"IF(Attendance!$AH$25>0,Attendance!$AH$25,\"\")","v":""},{"$f":"IF(Attendance!$AL$25>0,Attendance!$AL$25,\"\")","v":""},{"$f":"IF(Attendance!$AG$39>0,Attendance!$AG$39,\"\")","v":""},{"$f":"IF(Attendance!$AH$39>0,Attendance!$AH$39,\"\")","v":""},{"$f":"IF(Attendance!$AL$39>0,Attendance!$AL$39,\"\")","v":""},{"$f":"IF(Attendance!$AG$53>0,Attendance!$AG$53,\"\")","v":""},{"$f":"IF(Attendance!$AH$53>0,Attendance!$AH$53,\"\")","v":""},{"$f":"IF(Attendance!$AL$53>0,Attendance!$AL$53,\"\")","v":""},{"$f":"IF(Attendance!$AG$67>0,Attendance!$AG$67,\"\")","v":""},{"$f":"IF(Attendance!$AH$67>0,Attendance!$AH$67,\"\")","v":""},{"$f":"IF(Attendance!$AL$67>0,Attendance!$AL$67,\"\")","v":""},{"$f":"IF(Attendance!$AG$81>0,Attendance!$AG$81,\"\")","v":""},{"$f":"IF(Attendance!$AH$81>0,Attendance!$AH$81,\"\")","v":""},{"$f":"IF(Attendance!$AL$81>0,Attendance!$AL$81,\"\")","v":""},{"$f":"IF(Attendance!$AG$95>0,Attendance!$AG$95,\"\")","v":""},{"$f":"IF(Attendance!$AH$95>0,Attendance!$AH$95,\"\")","v":""},{"$f":"IF(Attendance!$AL$95>0,Attendance!$AL$95,\"\")","v":""},{"$f":"IF(Attendance!$AG$109>0,Attendance!$AG$109,\"\")","v":""},{"$f":"IF(Attendance!$AH$109>0,Attendance!$AH$109,\"\")","v":""},{"$f":"IF(Attendance!$AL$109>0,Attendance!$AL$109,\"\")","v":""},{"$f":"IF(Attendance!$AG$123>0,Attendance!$AG$123,\"\")","v":""},{"$f":"IF(Attendance!$AH$123>0,Attendance!$AH$123,\"\")","v":""},{"$f":"IF(Attendance!$AL$123>0,Attendance!$AL$123,\"\")","v":""},{"$f":"IF(Attendance!$AG$137>0,Attendance!$AG$137,\"\")","v":""},{"$f":"IF(Attendance!$AH$137>0,Attendance!$AH$137,\"\")","v":""},{"$f":"IF(Attendance!$AL$137>0,Attendance!$AL$137,\"\")","v":""},{"$f":"IF(Attendance!$AG$151>0,Attendance!$AG$151,\"\")","v":""},{"$f":"IF(Attendance!$AH$151>0,Attendance!$AH$151,\"\")","v":""},{"$f":"IF(Attendance!$AL$151>0,Attendance!$AL$151,\"\")","v":""},{"$f":"IF(Attendance!$AG$165>0,Attendance!$AG$165,\"\")","v":""},{"$f":"IF(Attendance!$AH$165>0,Attendance!$AH$165,\"\")","v":""},{"$f":"IF(Attendance!$AL$165>0,Attendance!$AL$165,\"\")","v":""},{"$f":"IF(Attendance!$AG$179>0,Attendance!$AG$179,\"\")","v":""},{"$f":"IF(Attendance!$AH$179>0,Attendance!$AH$179,\"\")","v":""},{"$f":"IF(Attendance!$AL$179>0,Attendance!$AL$179,\"\")","v":""},{"$f":"IF(Attendance!$AG$193>0,Attendance!$AG$193,\"\")","v":""},{"$f":"IF(Attendance!$AH$193>0,Attendance!$AH$193,\"\")","v":""},{"$f":"IF(Attendance!$AL$193>0,Attendance!$AL$193,\"\")","v":""},{"$f":"IF(Attendance!$AG$207>0,Attendance!$AG$207,\"\")","v":""},{"$f":"IF(Attendance!$AH$207>0,Attendance!$AH$207,\"\")","v":""},{"$f":"IF(Attendance!$AL$207>0,Attendance!$AL$207,\"\")","v":""},{"$f":"IF(Attendance!$AM$11>0,Attendance!$AM$11,\"\")","v":""},{"$f":"IF(Attendance!$AN$11>0,Attendance!$AN$11,\"\")","v":""},{"$f":"IF(Attendance!$AR$11>0,Attendance!$AR$11,\"\")","v":""},{"$f":"IF(Attendance!$AM$25>0,Attendance!$AM$25,\"\")","v":""},{"$f":"IF(Attendance!$AN$25>0,Attendance!$AN$25,\"\")","v":""},{"$f":"IF(Attendance!$AR$25>0,Attendance!$AR$25,\"\")","v":""},{"$f":"IF(Attendance!$AM$39>0,Attendance!$AM$39,\"\")","v":""},{"$f":"IF(Attendance!$AN$39>0,Attendance!$AN$39,\"\")","v":""},{"$f":"IF(Attendance!$AR$39>0,Attendance!$AR$39,\"\")","v":""},{"$f":"IF(Attendance!$AM$53>0,Attendance!$AM$53,\"\")","v":""},{"$f":"IF(Attendance!$AN$53>0,Attendance!$AN$53,\"\")","v":""},{"$f":"IF(Attendance!$AR$53>0,Attendance!$AR$53,\"\")","v":""},{"$f":"IF(Attendance!$AM$67>0,Attendance!$AM$67,\"\")","v":""},{"$f":"IF(Attendance!$AN$67>0,Attendance!$AN$67,\"\")","v":""},{"$f":"IF(Attendance!$AR$67>0,Attendance!$AR$67,\"\")","v":""},{"$f":"IF(Attendance!$AM$81>0,Attendance!$AM$81,\"\")","v":""},{"$f":"IF(Attendance!$AN$81>0,Attendance!$AN$81,\"\")","v":""},{"$f":"IF(Attendance!$AR$81>0,Attendance!$AR$81,\"\")","v":""},{"$f":"IF(Attendance!$AM$95>0,Attendance!$AM$95,\"\")","v":""},{"$f":"IF(Attendance!$AN$95>0,Attendance!$AN$95,\"\")","v":""},{"$f":"IF(Attendance!$AR$95>0,Attendance!$AR$95,\"\")","v":""},{"$f":"IF(Attendance!$AM$109>0,Attendance!$AM$109,\"\")","v":""},{"$f":"IF(Attendance!$AN$109>0,Attendance!$AN$109,\"\")","v":""},{"$f":"IF(Attendance!$AR$109>0,Attendance!$AR$109,\"\")","v":""},{"$f":"IF(Attendance!$AM$123>0,Attendance!$AM$123,\"\")","v":""},{"$f":"IF(Attendance!$AN$123>0,Attendance!$AN$123,\"\")","v":""},{"$f":"IF(Attendance!$AR$123>0,Attendance!$AR$123,\"\")","v":""},{"$f":"IF(Attendance!$AM$137>0,Attendance!$AM$137,\"\")","v":""},{"$f":"IF(Attendance!$AN$137>0,Attendance!$AN$137,\"\")","v":""},{"$f":"IF(Attendance!$AR$137>0,Attendance!$AR$137,\"\")","v":""},{"$f":"IF(Attendance!$AM$151>0,Attendance!$AM$151,\"\")","v":""},{"$f":"IF(Attendance!$AN$151>0,Attendance!$AN$151,\"\")","v":""},{"$f":"IF(Attendance!$AR$151>0,Attendance!$AR$151,\"\")","v":""},{"$f":"IF(Attendance!$AM$165>0,Attendance!$AM$165,\"\")","v":""},{"$f":"IF(Attendance!$AN$165>0,Attendance!$AN$165,\"\")","v":""},{"$f":"IF(Attendance!$AR$165>0,Attendance!$AR$165,\"\")","v":""},{"$f":"IF(Attendance!$AM$179>0,Attendance!$AM$179,\"\")","v":""},{"$f":"IF(Attendance!$AN$179>0,Attendance!$AN$179,\"\")","v":""},{"$f":"IF(Attendance!$AR$179>0,Attendance!$AR$179,\"\")","v":""},{"$f":"IF(Attendance!$AM$193>0,Attendance!$AM$193,\"\")","v":""},{"$f":"IF(Attendance!$AN$193>0,Attendance!$AN$193,\"\")","v":""},{"$f":"IF(Attendance!$AR$193>0,Attendance!$AR$193,\"\")","v":""},{"$f":"IF(Attendance!$AM$207>0,Attendance!$AM$207,\"\")","v":""},{"$f":"IF(Attendance!$AN$207>0,Attendance!$AN$207,\"\")","v":""},{"$f":"IF(Attendance!$AR$207>0,Attendance!$AR$207,\"\")","v":""}]
["PM #","Q #",null,"1A","1B","1F","2A","2B","2F","3A","3B","3F","4A","4B","4F","5A","5B","5F","6A","6B","6F","7A","7B","7F","8A","8B","8F","9A","9B","9F","10A","10B","10F","11A","11B","11F","12A","12B","12F","13A","13B","13F","14A","14B","14F","15A","15B","15F","1A","1B","1F","2A","2B","2F","3A","3B","3F","4A","4B","4F","5A","5B","5F","6A","6B","6F","7A","7B","7F","8A","8B","8F","9A","9B","9F","10A","10B","10F","11A","11B","11F","12A","12B","12F","13A","13B","13F","14A","14B","14F","15A","15B","15F","1A","1B","1F","2A","2B","2F","3A","3B","3F","4A","4B","4F","5A","5B","5F","6A","6B","6F","7A","7B","7F","8A","8B","8F","9A","9B","9F","10A","10B","10F","11A","11B","11F","12A","12B","12F","13A","13B","13F","14A","14B","14F","15A","15B","15F","1A","1B","1F","2A","2B","2F","3A","3B","3F","4A","4B","4F","5A","5B","5F","6A","6B","6F","7A","7B","7F","8A","8B","8F","9A","9B","9F","10A","10B","10F","11A","11B","11F","12A","12B","12F","13A","13B","13F","14A","14B","14F","15A","15B","15F","1A","1B","1F","2A","2B","2F","3A","3B","3F","4A","4B","4F","5A","5B","5F","6A","6B","6F","7A","7B","7F","8A","8B","8F","9A","9B","9F","10A","10B","10F","11A","11B","11F","12A","12B","12F","13A","13B","13F","14A","14B","14F","15A","15B","15F","1A","1B","1F","2A","2B","2F","3A","3B","3F","4A","4B","4F","5A","5B","5F","6A","6B","6F","7A","7B","7F","8A","8B","8F","9A","9B","9F","10A","10B","10F","11A","11B","11F","12A","12B","12F","13A","13B","13F","14A","14B","14F","15A","15B","15F","1A","1B","1F","2A","2B","2F","3A","3B","3F","4A","4B","4F","5A","5B","5F","6A","6B","6F","7A","7B","7F","8A","8B","8F","9A","9B","9F","10A","10B","10F","11A","11B","11F","12A","12B","12F","13A","13B","13F","14A","14B","14F","15A","15B","15F"]
[null,null,"PRE-TEST",{"$f":"\"Pre-test is counted as complete if \"&LISTS!$B$11&\" or more of the questions are answered.\"","v":"Pre-test is counted as complete if 25 or more of the questions are answered."}]
[2,1,"How often do you know who your youth is with when he/she is away from home?"]
[1,2,"I clearly communicate my expectations about alcohol, tobacco, and drug use to my youth."]
[6,3,"When my youth follows rules or fulfills responsibilities, I give him/her encouragement and praise."]
["None",4,"I ask my youth to consider how others feel when he/she misbehaves?"]
[7,5,"I discuss my youth’s goals and dreams with him/her."]
[3,6,"I explain the reasons for family and house rules so my youth understands them."]
[4,7,"We spend fun time together as a family."]
[6,8,"I show and tell my youth that I love and respect them."]
[6,9,"I reward my youth with compliments and privileges when he/she learns to follow a rule or fulfill a responsibility."]
[1,10,"I explain the consequences of not following my rules concerning alcohol, tobacco and drug use to my youth."]
[2,11,"How often do you make an effort to meet or introduce yourself to your youth’s friends and their parent(s)/caregiver(s)?"]
[2,12,"I check to see that my youth fulfills responsibilities, such as finishing homework, completing chores, or going to bed at the designated time."]
[6,13,"I let my youth know I care about him/her while setting limits."]
[5,14,"Before reacting, how often do you stop and think about your youth’s perspective and how your youth might be feeling?"]
[7,15,"I express my hopes and dreams for my youth’s future to him/her."]
["None",16,"When my youth tells me something important, I let him/her know that I am trying to understand what he/she is feeling."]
[3,17,"I give my child household responsibilities."]
[4,18,"I find ways to include my youth in family decisions about fun and work activities, in a manner appropriate to his/her age."]
[1,19,"I talk with my youth about ways to resist peer pressure."]
[2,20,"In the course of a day, how often do you know where your youth is?"]
[6,21,"When my youth has a problem or is unhappy, I listen and try to be supportive."]
[5,22,"When my youth misbehaves, I enforce consequences without yelling, blaming, or criticizing."]
[3,23,"I discuss our family’s values with my youth."]
[3,24,"I set rules for my youth to follow."]
[3,25,"I let my youth know what my rules are and the consequences for breaking them."]
[4,26,"I spend special one-on-one time with my youth talking or having fun"]
[5,27,"When our family has a problem, everyone in the family has input into the solution."]
[5,28,"I ask my youth what he/she thinks before making decisions that affect him/her."]
[5,29,"I work together with my youth to solve problems that come up at home."]
[7,30,"I tell my youth how I feel when he or she misbehaves."]
[5,31,"I try to see things from my youth’s point of view."]
[null,null,"POST-TEST",{"$f":"\"Post-test is counted as complete if \"&LISTS!$B$11&\" or more of the questions are answered.\"","v":"Post-test is counted as complete if 25 or more of the questions are answered."}]
[2,1,"How often do you know who your youth is with when he/she is away from home?"]
[1,2,"I clearly communicate my expectations about alcohol, tobacco, and drug use to my youth."]
[6,3,"When my youth follows rules or fulfills responsibilities, I give him/her encouragement and praise."]
[7,4,"I ask my youth to consider how others feel when he/she misbehaves?"]
[7,5,"I discuss my youth’s goals and dreams with him/her."]
[3,6,"I explain the reasons for family and house rules so my youth understands them."]
[4,7,"We spend fun time together as a family."]
[6,8,"I show and tell my youth that I love and respect them."]
[6,9,"I reward my youth with compliments and privileges when he/she learns to follow a rule or fulfill a responsibility."]
[1,10,"I explain the consequences of not following my rules concerning alcohol, tobacco and drug use to my youth."]
[2,11,"How often do you make an effort to meet or introduce yourself to your youth’s friends and their parent(s)/caregiver(s)?"]
[2,12,"I check to see that my youth fulfills responsibilities, such as finishing homework, completing chores, or going to bed at the designated time."]
[6,13,"I let my youth know I care about him/her while setting limits."]
[5,14,"Before reacting, how often do you stop and think about your youth’s perspective and how your youth might be feeling?"]
[7,15,"I express my hopes and dreams for my youth’s future to him/her."]
[7,16,"When my youth tells me something important, I let him/her know that I am trying to understand what he/she is feeling."]
[3,17,"I give my child household responsibilities."]
[4,18,"I find ways to include my youth in family decisions about fun and work activities, in a manner appropriate to his/her age."]
[1,19,"I talk with my youth about ways to resist peer pressure."]
[2,20,"In the course of a day, how often do you know where your youth is?"]
[6,21,"When my youth has a problem or is unhappy, I listen and try to be supportive."]
[5,22,"When my youth misbehaves, I enforce consequences without yelling, blaming, or criticizing."]
[3,23,"I discuss our family’s values with my youth."]
[3,24,"I set rules for my youth to follow."]
[3,25,"I let my youth know what my rules are and the consequences for breaking them."]
[4,26,"I spend special one-on-one time with my youth talking or having fun"]
[5,27,"When our family has a problem, everyone in the family has input into the solution."]
[5,28,"I ask my youth what he/she thinks before making decisions that affect him/her."]
[5,29,"I work together with my youth to solve problems that come up at home."]
["None",30,"I tell my youth how I feel when he or she misbehaves."]
[5,31,"I try to see things from my youth’s point of view."]
[null,"Please","Please enter the participants' post-survey ratings of each facilitator"]
[null,null,"Parent & Family Facilitator"]
[null,null,"Youth & Family Facilitator 1"]
[null,null,"Youth & Family Facilitator 2"]
[null,null,{"$f":"Instructions!A2","v":"Ver. 1.1 (1-6-2016)"}]
[null,null,{"$f":"LISTS!$B$11","v":25},"1A","1B","1F","2A","2B","2F","3A","3B","3F","4A","4B","4F","5A","5B","5F","6A","6B","6F","7A","7B","7F","8A","8B","8F","9A","9B","9F","10A","10B","10F","11A","11B","11F","12A","12B","12F","13A","13B","13F","14A","14B","14F","15A","15B","15F","1A","1B","1F","2A","2B","2F","3A","3B","3F","4A","4B","4F","5A","5B","5F","6A","6B","6F","7A","7B","7F","8A","8B","8F","9A","9B","9F","10A","10B","10F","11A","11B","11F","12A","12B","12F","13A","13B","13F","14A","14B","14F","15A","15B","15F","1A","1B","1F","2A","2B","2F","3A","3B","3F","4A","4B","4F","5A","5B","5F","6A","6B","6F","7A","7B","7F","8A","8B","8F","9A","9B","9F","10A","10B","10F","11A","11B","11F","12A","12B","12F","13A","13B","13F","14A","14B","14F","15A","15B","15F","1A","1B","1F","2A","2B","2F","3A","3B","3F","4A","4B","4F","5A","5B","5F","6A","6B","6F","7A","7B","7F","8A","8B","8F","9A","9B","9F","10A","10B","10F","11A","11B","11F","12A","12B","12F","13A","13B","13F","14A","14B","14F","15A","15B","15F","1A","1B","1F","2A","2B","2F","3A","3B","3F","4A","4B","4F","5A","5B","5F","6A","6B","6F","7A","7B","7F","8A","8B","8F","9A","9B","9F","10A","10B","10F","11A","11B","11F","12A","12B","12F","13A","13B","13F","14A","14B","14F","15A","15B","15F","1A","1B","1F","2A","2B","2F","3A","3B","3F","4A","4B","4F","5A","5B","5F","6A","6B","6F","7A","7B","7F","8A","8B","8F","9A","9B","9F","10A","10B","10F","11A","11B","11F","12A","12B","12F","13A","13B","13F","14A","14B","14F","15A","15B","15F","1A","1B","1F","2A","2B","2F","3A","3B","3F","4A","4B","4F","5A","5B","5F","6A","6B","6F","7A","7B","7F","8A","8B","8F","9A","9B","9F","10A","10B","10F","11A","11B","11F","12A","12B","12F","13A","13B","13F","14A","14B","14F","15A","15B","15F"]
[null,null,"Quarter (Column)",{"$f":"INDEX(DlvQtr,1)","v":""},"","","","","","","","","","","","","","","","","","","","","","","","","","","","","","","","","","","","","","","","","","","","",{"$f":"INDEX(DlvQtr,2)","v":""},"","","","","","","","","","","","","","","","","","","","","","","","","","","","","","","","","","","","","","","","","","","","",{"$f":"INDEX(DlvQtr,3)","v":""},"","","","","","","","","","","","","","","","","","","","","","","","","","","","","","","","","","","","","","","","","","","","",{"$f":"INDEX(DlvQtr,4)","v":""},"","","","","","","","","","","","","","","","","","","","","","","","","","","","","","","","","","","","","","","","","","","","",{"$f":"INDEX(DlvQtr,5)","v":""},"","","","","","","","","","","","","","","","","","","","","","","","","","","","","","","","","","","","","","","","","","","","",{"$f":"INDEX(DlvQtr,6)","v":""},"","","","","","","","","","","","","","","","","","","","","","","","","","","","","","","","","","","","","","","","","","","","",{"$f":"INDEX(DlvQtr,7)","v":""},"","","","","","","","","","","","","","","","","","","","","","","","","","","","","","","","","","","","","","","","","","","",""]
["Pre","O1",null,{"$f":"IFERROR(AVERAGE(D8,D16,D25),\"\")","v":""},"","","","","","","","","","","","","","","","","","","","","","","","","","","","","","","","","","","","","","","","","","","","","","","","","","","","","","","","","","","","","","","",{"$f":"IFERROR(AVERAGE(BP8,BP16,BP25),\"\")","v":""},"","","","","","","","","","","","","","","","","","","","","","","","","","","","","","","","","","","","","","","","","","","","","","","","","","","","","","","","","","","","","","","",{"$f":"IFERROR(AVERAGE(EB8,EB16,EB25),\"\")","v":""},"","","","","","","","","","","","","","","","","","","","","","","","","","","","","","","","","","","","","","","","","","","","","","","","","","","","","","","","","","","","","","","",{"$f":"IFERROR(AVERAGE(GN8,GN16,GN25),\"\")","v":""},"","","","","","","","","","","","","","","","","","","","","","","","","","","","","","","","","","","","","","","","","","","","","","","","","","","","","","","","","","","","","","","",{"$f":"IFERROR(AVERAGE(IZ8,IZ16,IZ25),\"\")","v":""},"","","","","","","","","","","","","","","","","","","","","","","","","","","","","","","","","","","","","","","","","","","","","","","","","","","","","","","","","",""]
["Pre","O2",null,{"$f":"IFERROR(AVERAGE(D7,D17,D18,D26),\"\")","v":""},"","","","","","","","","","","","","","","","","","","","","","","","","","","","","","","","","","","","","","","","","","","","","","","","","","","","","","","","","","","","","","","",{"$f":"IFERROR(AVERAGE(BP7,BP17,BP18,BP26),\"\")","v":""},"","","","","","","","","","","","","","","","","","","","","","","","","","","","","","","","","","","","","","","","","","","","","","","","","","","","","","","","","","","","","","","",{"$f":"IFERROR(AVERAGE(EB7,EB17,EB18,EB26),\"\")","v":""},"","","","","","","","","","","","","","","","","","","","","","","","","","","","","","","","","","","","","","","","","","","","","","","","","","","","","","","","","","","","","","","",{"$f":"IFERROR(AVERAGE(GN7,GN17,GN18,GN26),\"\")","v":""},"","","","","","","","","","","","","","","","","","","","","","","","","","","","","","","","","","","","","","","","","","","","","","","","","","","","","","","","","","","","","","","",{"$f":"IFERROR(AVERAGE(IZ7,IZ17,IZ18,IZ26),\"\")","v":""},"","","","","","","","","","","","","","","","","","","","","","","","","","","","","","","","","","","","","","","","","","","","","","","","","","","","","","","","","",""]
["Pre","O3",null,{"$f":"IFERROR(AVERAGE(D12,D23,D29,D30,D31),\"\")","v":""},"","","","","","","","","","","","","","","","","","","","","","","","","","","","","","","","","","","","","","","","","","","","","","","","","","","","","","","","","","","","","","","",{"$f":"IFERROR(AVERAGE(BP12,BP23,BP29,BP30,BP31),\"\")","v":""},"","","","","","","","","","","","","","","","","","","","","","","","","","","","","","","","","","","","","","","","","","","","","","","","","","","","","","","","","","","","","","","",{"$f":"IFERROR(AVERAGE(EB12,EB23,EB29,EB30,EB31),\"\")","v":""},"","","","","","","","","","","","","","","","","","","","","","","","","","","","","","","","","","","","","","","","","","","","","","","","","","","","","","","","","","","","","","","",{"$f":"IFERROR(AVERAGE(GN12,GN23,GN29,GN30,GN31),\"\")","v":""},"","","","","","","","","","","","","","","","","","","","","","","","","","","","","","","","","","","","","","","","","","","","","","","","","","","","","","","","","","","","","","","",{"$f":"IFERROR(AVERAGE(IZ12,IZ23,IZ29,IZ30,IZ31),\"\")","v":""},"","","","","","","","","","","","","","","","","","","","","","","","","","","","","","","","","","","","","","","","","","","","","","","","","","","","","","","","","",""]
["Pre","O4",null,{"$f":"IFERROR(AVERAGE(D13,D24,D32),\"\")","v":""},"","","","","","","","","","","","","","","","","","","","","","","","","","","","","","","","","","","","","","","","","","","","","","","","","","","","","","","","","","","","","","","",{"$f":"IFERROR(AVERAGE(BP13,BP24,BP32),\"\")","v":""},"","","","","","","","","","","","","","","","","","","","","","","","","","","","","","","","","","","","","","","","","","","","","","","","","","","","","","","","","","","","","","","",{"$f":"IFERROR(AVERAGE(EB13,EB24,EB32),\"\")","v":""},"","","","","","","","","","","","","","","","","","","","","","","","","","","","","","","","","","","","","","","","","","","","","","","","","","","","","","","","","","","","","","","",{"$f":"IFERROR(AVERAGE(GN13,GN24,GN32),\"\")","v":""},"","","","","","","","","","","","","","","","","","","","","","","","","","","","","","","","","","","","","","","","","","","","","","","","","","","","","","","","","","","","","","","",{"$f":"IFERROR(AVERAGE(IZ13,IZ24,IZ32),\"\")","v":""},"","","","","","","","","","","","","","","","","","","","","","","","","","","","","","","","","","","","","","","","","","","","","","","","","","","","","","","","","",""]
["Pre","O5",null,{"$f":"IFERROR(AVERAGE(D20,D28,D33,D34,D35,D37),\"\")","v":""},"","","","","","","","","","","","","","","","","","","","","","","","","","","","","","","","","","","","","","","","","","","","","","","","","","","","","","","","","","","","","","","",{"$f":"IFERROR(AVERAGE(BP20,BP28,BP33,BP34,BP35,BP37),\"\")","v":""},"","","","","","","","","","","","","","","","","","","","","","","","","","","","","","","","","","","","","","","","","","","","","","","","","","","","","","","","","","","","","","","",{"$f":"IFERROR(AVERAGE(EB20,EB28,EB33,EB34,EB35,EB37),\"\")","v":""},"","","","","","","","","","","","","","","","","","","","","","","","","","","","","","","","","","","","","","","","","","","","","","","","","","","","","","","","","","","","","","","",{"$f":"IFERROR(AVERAGE(GN20,GN28,GN33,GN34,GN35,GN37),\"\")","v":""},"","","","","","","","","","","","","","","","","","","","","","","","","","","","","","","","","","","","","","","","","","","","","","","","","","","","","","","","","","","","","","","",{"$f":"IFERROR(AVERAGE(IZ20,IZ28,IZ33,IZ34,IZ35,IZ37),\"\")","v":""},"","","","","","","","","","","","","","","","","","","","","","","","","","","","","","","","","","","","","","","","","","","","","","","","","","","","","","","","","",""]
["Pre","O6",null,{"$f":"IFERROR(AVERAGE(D9,D14,D15,D19,D27),\"\")","v":""},"","","","","","","","","","","","","","","","","","","","","","","","","","","","","","","","","","","","","","","","","","","","","","","","","","","","","","","","","","","","","","","",{"$f":"IFERROR(AVERAGE(BP9,BP14,BP15,BP19,BP27),\"\")","v":""},"","","","","","","","","","","","","","","","","","","","","","","","","","","","","","","","","","","","","","","","","","","","","","","","","","","","","","","","","","","","","","","",{"$f":"IFERROR(AVERAGE(EB9,EB14,EB15,EB19,EB27),\"\")","v":""},"","","","","","","","","","","","","","","","","","","","","","","","","","","","","","","","","","","","","","","","","","","","","","","","","","","","","","","","","","","","","","","",{"$f":"IFERROR(AVERAGE(GN9,GN14,GN15,GN19,GN27),\"\")","v":""},"","","","","","","","","","","","","","","","","","","","","","","","","","","","","","","","","","","","","","","","","","","","","","","","","","","","","","","","","","","","","","","",{"$f":"IFERROR(AVERAGE(IZ9,IZ14,IZ15,IZ19,IZ27),\"\")","v":""},"","","","","","","","","","","","","","","","","","","","","","","","","","","","","","","","","","","","","","","","","","","","","","","","","","","","","","","","","",""]
["Pre","O7",null,{"$f":"IFERROR(AVERAGE(D11,D21),\"\")","v":""},"","","","","","","","","","","","","","","","","","","","","","","","","","","","","","","","","","","","","","","","","","","","","","","","","","","","","","","","","","","","","","","",{"$f":"IFERROR(AVERAGE(BP11,BP21),\"\")","v":""},"","","","","","","","","","","","","","","","","","","","","","","","","","","","","","","","","","","","","","","","","","","","","","","","","","","","","","","","","","","","","","","",{"$f":"IFERROR(AVERAGE(EB11,EB21),\"\")","v":""},"","","","","","","","","","","","","","","","","","","","","","","","","","","","","","","","","","","","","","","","","","","","","","","","","","","","","","","","","","","","","","","",{"$f":"IFERROR(AVERAGE(GN11,GN21),\"\")","v":""},"","","","","","","","","","","","","","","","","","","","","","","","","","","","","","","","","","","","","","","","","","","","","","","","","","","","","","","","","","","","","","","",{"$f":"IFERROR(AVERAGE(IZ11,IZ21),\"\")","v":""},"","","","","","","","","","","","","","","","","","","","","","","","","","","","","","","","","","","","","","","","","","","","","","","","","","","","","","","","","",""]
["Pre","Comlete? (2=Complete, 1=Partial, 0=Not Started)",null,{"$f":"IF(COUNTIF(D7:D37,\">0\")>=LISTS!$B$11,\"Complete\",IF(COUNTIF(D7:D37,\">0\")>0,\"Partial\",\"\"))","v":""},{"$f":"IF(COUNTIF(E7:E37,\">0\")>=LISTS!$B$11,\"Complete\",IF(COUNTIF(E7:E37,\">0\")>0,\"Partial\",\"\"))","v":""},{"$f":"IF(COUNTIF(F7:F37,\">0\")>=LISTS!$B$11,\"Complete\",IF(COUNTIF(F7:F37,\">0\")>0,\"Partial\",\"\"))","v":""},{"$f":"IF(COUNTIF(G7:G37,\">0\")>=LISTS!$B$11,\"Complete\",IF(COUNTIF(G7:G37,\">0\")>0,\"Partial\",\"\"))","v":""},{"$f":"IF(COUNTIF(H7:H37,\">0\")>=LISTS!$B$11,\"Complete\",IF(COUNTIF(H7:H37,\">0\")>0,\"Partial\",\"\"))","v":""},{"$f":"IF(COUNTIF(I7:I37,\">0\")>=LISTS!$B$11,\"Complete\",IF(COUNTIF(I7:I37,\">0\")>0,\"Partial\",\"\"))","v":""},{"$f":"IF(COUNTIF(J7:J37,\">0\")>=LISTS!$B$11,\"Complete\",IF(COUNTIF(J7:J37,\">0\")>0,\"Partial\",\"\"))","v":""},{"$f":"IF(COUNTIF(K7:K37,\">0\")>=LISTS!$B$11,\"Complete\",IF(COUNTIF(K7:K37,\">0\")>0,\"Partial\",\"\"))","v":""},{"$f":"IF(COUNTIF(L7:L37,\">0\")>=LISTS!$B$11,\"Complete\",IF(COUNTIF(L7:L37,\">0\")>0,\"Partial\",\"\"))","v":""},{"$f":"IF(COUNTIF(M7:M37,\">0\")>=LISTS!$B$11,\"Complete\",IF(COUNTIF(M7:M37,\">0\")>0,\"Partial\",\"\"))","v":""},{"$f":"IF(COUNTIF(N7:N37,\">0\")>=LISTS!$B$11,\"Complete\",IF(COUNTIF(N7:N37,\">0\")>0,\"Partial\",\"\"))","v":""},{"$f":"IF(COUNTIF(O7:O37,\">0\")>=LISTS!$B$11,\"Complete\",IF(COUNTIF(O7:O37,\">0\")>0,\"Partial\",\"\"))","v":""},{"$f":"IF(COUNTIF(P7:P37,\">0\")>=LISTS!$B$11,\"Complete\",IF(COUNTIF(P7:P37,\">0\")>0,\"Partial\",\"\"))","v":""},{"$f":"IF(COUNTIF(Q7:Q37,\">0\")>=LISTS!$B$11,\"Complete\",IF(COUNTIF(Q7:Q37,\">0\")>0,\"Partial\",\"\"))","v":""},{"$f":"IF(COUNTIF(R7:R37,\">0\")>=LISTS!$B$11,\"Complete\",IF(COUNTIF(R7:R37,\">0\")>0,\"Partial\",\"\"))","v":""},{"$f":"IF(COUNTIF(S7:S37,\">0\")>=LISTS!$B$11,\"Complete\",IF(COUNTIF(S7:S37,\">0\")>0,\"Partial\",\"\"))","v":""},{"$f":"IF(COUNTIF(T7:T37,\">0\")>=LISTS!$B$11,\"Complete\",IF(COUNTIF(T7:T37,\">0\")>0,\"Partial\",\"\"))","v":""},{"$f":"IF(COUNTIF(U7:U37,\">0\")>=LISTS!$B$11,\"Complete\",IF(COUNTIF(U7:U37,\">0\")>0,\"Partial\",\"\"))","v":""},{"$f":"IF(COUNTIF(V7:V37,\">0\")>=LISTS!$B$11,\"Complete\",IF(COUNTIF(V7:V37,\">0\")>0,\"Partial\",\"\"))","v":""},{"$f":"IF(COUNTIF(W7:W37,\">0\")>=LISTS!$B$11,\"Complete\",IF(COUNTIF(W7:W37,\">0\")>0,\"Partial\",\"\"))","v":""},{"$f":"IF(COUNTIF(X7:X37,\">0\")>=LISTS!$B$11,\"Complete\",IF(COUNTIF(X7:X37,\">0\")>0,\"Partial\",\"\"))","v":""},{"$f":"IF(COUNTIF(Y7:Y37,\">0\")>=LISTS!$B$11,\"Complete\",IF(COUNTIF(Y7:Y37,\">0\")>0,\"Partial\",\"\"))","v":""},{"$f":"IF(COUNTIF(Z7:Z37,\">0\")>=LISTS!$B$11,\"Complete\",IF(COUNTIF(Z7:Z37,\">0\")>0,\"Partial\",\"\"))","v":""},{"$f":"IF(COUNTIF(AA7:AA37,\">0\")>=LISTS!$B$11,\"Complete\",IF(COUNTIF(AA7:AA37,\">0\")>0,\"Partial\",\"\"))","v":""},{"$f":"IF(COUNTIF(AB7:AB37,\">0\")>=LISTS!$B$11,\"Complete\",IF(COUNTIF(AB7:AB37,\">0\")>0,\"Partial\",\"\"))","v":""},{"$f":"IF(COUNTIF(AC7:AC37,\">0\")>=LISTS!$B$11,\"Complete\",IF(COUNTIF(AC7:AC37,\">0\")>0,\"Partial\",\"\"))","v":""},{"$f":"IF(COUNTIF(AD7:AD37,\">0\")>=LISTS!$B$11,\"Complete\",IF(COUNTIF(AD7:AD37,\">0\")>0,\"Partial\",\"\"))","v":""},{"$f":"IF(COUNTIF(AE7:AE37,\">0\")>=LISTS!$B$11,\"Complete\",IF(COUNTIF(AE7:AE37,\">0\")>0,\"Partial\",\"\"))","v":""},{"$f":"IF(COUNTIF(AF7:AF37,\">0\")>=LISTS!$B$11,\"Complete\",IF(COUNTIF(AF7:AF37,\">0\")>0,\"Partial\",\"\"))","v":""},{"$f":"IF(COUNTIF(AG7:AG37,\">0\")>=LISTS!$B$11,\"Complete\",IF(COUNTIF(AG7:AG37,\">0\")>0,\"Partial\",\"\"))","v":""},{"$f":"IF(COUNTIF(AH7:AH37,\">0\")>=LISTS!$B$11,\"Complete\",IF(COUNTIF(AH7:AH37,\">0\")>0,\"Partial\",\"\"))","v":""},{"$f":"IF(COUNTIF(AI7:AI37,\">0\")>=LISTS!$B$11,\"Complete\",IF(COUNTIF(AI7:AI37,\">0\")>0,\"Partial\",\"\"))","v":""},{"$f":"IF(COUNTIF(AJ7:AJ37,\">0\")>=LISTS!$B$11,\"Complete\",IF(COUNTIF(AJ7:AJ37,\">0\")>0,\"Partial\",\"\"))","v":""},{"$f":"IF(COUNTIF(AK7:AK37,\">0\")>=LISTS!$B$11,\"Complete\",IF(COUNTIF(AK7:AK37,\">0\")>0,\"Partial\",\"\"))","v":""},{"$f":"IF(COUNTIF(AL7:AL37,\">0\")>=LISTS!$B$11,\"Complete\",IF(COUNTIF(AL7:AL37,\">0\")>0,\"Partial\",\"\"))","v":""},{"$f":"IF(COUNTIF(AM7:AM37,\">0\")>=LISTS!$B$11,\"Complete\",IF(COUNTIF(AM7:AM37,\">0\")>0,\"Partial\",\"\"))","v":""},{"$f":"IF(COUNTIF(AN7:AN37,\">0\")>=LISTS!$B$11,\"Complete\",IF(COUNTIF(AN7:AN37,\">0\")>0,\"Partial\",\"\"))","v":""},{"$f":"IF(COUNTIF(AO7:AO37,\">0\")>=LISTS!$B$11,\"Complete\",IF(COUNTIF(AO7:AO37,\">0\")>0,\"Partial\",\"\"))","v":""},{"$f":"IF(COUNTIF(AP7:AP37,\">0\")>=LISTS!$B$11,\"Complete\",IF(COUNTIF(AP7:AP37,\">0\")>0,\"Partial\",\"\"))","v":""},{"$f":"IF(COUNTIF(AQ7:AQ37,\">0\")>=LISTS!$B$11,\"Complete\",IF(COUNTIF(AQ7:AQ37,\">0\")>0,\"Partial\",\"\"))","v":""},{"$f":"IF(COUNTIF(AR7:AR37,\">0\")>=LISTS!$B$11,\"Complete\",IF(COUNTIF(AR7:AR37,\">0\")>0,\"Partial\",\"\"))","v":""},{"$f":"IF(COUNTIF(AS7:AS37,\">0\")>=LISTS!$B$11,\"Complete\",IF(COUNTIF(AS7:AS37,\">0\")>0,\"Partial\",\"\"))","v":""},{"$f":"IF(COUNTIF(AT7:AT37,\">0\")>=LISTS!$B$11,\"Complete\",IF(COUNTIF(AT7:AT37,\">0\")>0,\"Partial\",\"\"))","v":""},{"$f":"IF(COUNTIF(AU7:AU37,\">0\")>=LISTS!$B$11,\"Complete\",IF(COUNTIF(AU7:AU37,\">0\")>0,\"Partial\",\"\"))","v":""},{"$f":"IF(COUNTIF(AV7:AV37,\">0\")>=LISTS!$B$11,\"Complete\",IF(COUNTIF(AV7:AV37,\">0\")>0,\"Partial\",\"\"))","v":""},{"$f":"IF(COUNTIF(AW7:AW37,\">0\")>=LISTS!$B$11,\"Complete\",IF(COUNTIF(AW7:AW37,\">0\")>0,\"Partial\",\"\"))","v":""},{"$f":"IF(COUNTIF(AX7:AX37,\">0\")>=LISTS!$B$11,\"Complete\",IF(COUNTIF(AX7:AX37,\">0\")>0,\"Partial\",\"\"))","v":""},{"$f":"IF(COUNTIF(AY7:AY37,\">0\")>=LISTS!$B$11,\"Complete\",IF(COUNTIF(AY7:AY37,\">0\")>0,\"Partial\",\"\"))","v":""},{"$f":"IF(COUNTIF(AZ7:AZ37,\">0\")>=LISTS!$B$11,\"Complete\",IF(COUNTIF(AZ7:AZ37,\">0\")>0,\"Partial\",\"\"))","v":""},{"$f":"IF(COUNTIF(BA7:BA37,\">0\")>=LISTS!$B$11,\"Complete\",IF(COUNTIF(BA7:BA37,\">0\")>0,\"Partial\",\"\"))","v":""},{"$f":"IF(COUNTIF(BB7:BB37,\">0\")>=LISTS!$B$11,\"Complete\",IF(COUNTIF(BB7:BB37,\">0\")>0,\"Partial\",\"\"))","v":""},{"$f":"IF(COUNTIF(BC7:BC37,\">0\")>=LISTS!$B$11,\"Complete\",IF(COUNTIF(BC7:BC37,\">0\")>0,\"Partial\",\"\"))","v":""},{"$f":"IF(COUNTIF(BD7:BD37,\">0\")>=LISTS!$B$11,\"Complete\",IF(COUNTIF(BD7:BD37,\">0\")>0,\"Partial\",\"\"))","v":""},{"$f":"IF(COUNTIF(BE7:BE37,\">0\")>=LISTS!$B$11,\"Complete\",IF(COUNTIF(BE7:BE37,\">0\")>0,\"Partial\",\"\"))","v":""},{"$f":"IF(COUNTIF(BF7:BF37,\">0\")>=LISTS!$B$11,\"Complete\",IF(COUNTIF(BF7:BF37,\">0\")>0,\"Partial\",\"\"))","v":""},{"$f":"IF(COUNTIF(BG7:BG37,\">0\")>=LISTS!$B$11,\"Complete\",IF(COUNTIF(BG7:BG37,\">0\")>0,\"Partial\",\"\"))","v":""},{"$f":"IF(COUNTIF(BH7:BH37,\">0\")>=LISTS!$B$11,\"Complete\",IF(COUNTIF(BH7:BH37,\">0\")>0,\"Partial\",\"\"))","v":""},{"$f":"IF(COUNTIF(BI7:BI37,\">0\")>=LISTS!$B$11,\"Complete\",IF(COUNTIF(BI7:BI37,\">0\")>0,\"Partial\",\"\"))","v":""},{"$f":"IF(COUNTIF(BJ7:BJ37,\">0\")>=LISTS!$B$11,\"Complete\",IF(COUNTIF(BJ7:BJ37,\">0\")>0,\"Partial\",\"\"))","v":""},{"$f":"IF(COUNTIF(BK7:BK37,\">0\")>=LISTS!$B$11,\"Complete\",IF(COUNTIF(BK7:BK37,\">0\")>0,\"Partial\",\"\"))","v":""},{"$f":"IF(COUNTIF(BL7:BL37,\">0\")>=LISTS!$B$11,\"Complete\",IF(COUNTIF(BL7:BL37,\">0\")>0,\"Partial\",\"\"))","v":""},{"$f":"IF(COUNTIF(BM7:BM37,\">0\")>=LISTS!$B$11,\"Complete\",IF(COUNTIF(BM7:BM37,\">0\")>0,\"Partial\",\"\"))","v":""},{"$f":"IF(COUNTIF(BN7:BN37,\">0\")>=LISTS!$B$11,\"Complete\",IF(COUNTIF(BN7:BN37,\">0\")>0,\"Partial\",\"\"))","v":""},{"$f":"IF(COUNTIF(BO7:BO37,\">0\")>=LISTS!$B$11,\"Complete\",IF(COUNTIF(BO7:BO37,\">0\")>0,\"Partial\",\"\"))","v":""},{"$f":"IF(COUNTIF(BP7:BP37,\">0\")>=LISTS!$B$11,\"Complete\",IF(COUNTIF(BP7:BP37,\">0\")>0,\"Partial\",\"\"))","v":""},{"$f":"IF(COUNTIF(BQ7:BQ37,\">0\")>=LISTS!$B$11,\"Complete\",IF(COUNTIF(BQ7:BQ37,\">0\")>0,\"Partial\",\"\"))","v":""},{"$f":"IF(COUNTIF(BR7:BR37,\">0\")>=LISTS!$B$11,\"Complete\",IF(COUNTIF(BR7:BR37,\">0\")>0,\"Partial\",\"\"))","v":""},{"$f":"IF(COUNTIF(BS7:BS37,\">0\")>=LISTS!$B$11,\"Complete\",IF(COUNTIF(BS7:BS37,\">0\")>0,\"Partial\",\"\"))","v":""},{"$f":"IF(COUNTIF(BT7:BT37,\">0\")>=LISTS!$B$11,\"Complete\",IF(COUNTIF(BT7:BT37,\">0\")>0,\"Partial\",\"\"))","v":""},{"$f":"IF(COUNTIF(BU7:BU37,\">0\")>=LISTS!$B$11,\"Complete\",IF(COUNTIF(BU7:BU37,\">0\")>0,\"Partial\",\"\"))","v":""},{"$f":"IF(COUNTIF(BV7:BV37,\">0\")>=LISTS!$B$11,\"Complete\",IF(COUNTIF(BV7:BV37,\">0\")>0,\"Partial\",\"\"))","v":""},{"$f":"IF(COUNTIF(BW7:BW37,\">0\")>=LISTS!$B$11,\"Complete\",IF(COUNTIF(BW7:BW37,\">0\")>0,\"Partial\",\"\"))","v":""},{"$f":"IF(COUNTIF(BX7:BX37,\">0\")>=LISTS!$B$11,\"Complete\",IF(COUNTIF(BX7:BX37,\">0\")>0,\"Partial\",\"\"))","v":""},{"$f":"IF(COUNTIF(BY7:BY37,\">0\")>=LISTS!$B$11,\"Complete\",IF(COUNTIF(BY7:BY37,\">0\")>0,\"Partial\",\"\"))","v":""},{"$f":"IF(COUNTIF(BZ7:BZ37,\">0\")>=LISTS!$B$11,\"Complete\",IF(COUNTIF(BZ7:BZ37,\">0\")>0,\"Partial\",\"\"))","v":""},{"$f":"IF(COUNTIF(CA7:CA37,\">0\")>=LISTS!$B$11,\"Complete\",IF(COUNTIF(CA7:CA37,\">0\")>0,\"Partial\",\"\"))","v":""},{"$f":"IF(COUNTIF(CB7:CB37,\">0\")>=LISTS!$B$11,\"Complete\",IF(COUNTIF(CB7:CB37,\">0\")>0,\"Partial\",\"\"))","v":""},{"$f":"IF(COUNTIF(CC7:CC37,\">0\")>=LISTS!$B$11,\"Complete\",IF(COUNTIF(CC7:CC37,\">0\")>0,\"Partial\",\"\"))","v":""},{"$f":"IF(COUNTIF(CD7:CD37,\">0\")>=LISTS!$B$11,\"Complete\",IF(COUNTIF(CD7:CD37,\">0\")>0,\"Partial\",\"\"))","v":""},{"$f":"IF(COUNTIF(CE7:CE37,\">0\")>=LISTS!$B$11,\"Complete\",IF(COUNTIF(CE7:CE37,\">0\")>0,\"Partial\",\"\"))","v":""},{"$f":"IF(COUNTIF(CF7:CF37,\">0\")>=LISTS!$B$11,\"Complete\",IF(COUNTIF(CF7:CF37,\">0\")>0,\"Partial\",\"\"))","v":""},{"$f":"IF(COUNTIF(CG7:CG37,\">0\")>=LISTS!$B$11,\"Complete\",IF(COUNTIF(CG7:CG37,\">0\")>0,\"Partial\",\"\"))","v":""},{"$f":"IF(COUNTIF(CH7:CH37,\">0\")>=LISTS!$B$11,\"Complete\",IF(COUNTIF(CH7:CH37,\">0\")>0,\"Partial\",\"\"))","v":""},{"$f":"IF(COUNTIF(CI7:CI37,\">0\")>=LISTS!$B$11,\"Complete\",IF(COUNTIF(CI7:CI37,\">0\")>0,\"Partial\",\"\"))","v":""},{"$f":"IF(COUNTIF(CJ7:CJ37,\">0\")>=LISTS!$B$11,\"Complete\",IF(COUNTIF(CJ7:CJ37,\">0\")>0,\"Partial\",\"\"))","v":""},{"$f":"IF(COUNTIF(CK7:CK37,\">0\")>=LISTS!$B$11,\"Complete\",IF(COUNTIF(CK7:CK37,\">0\")>0,\"Partial\",\"\"))","v":""},{"$f":"IF(COUNTIF(CL7:CL37,\">0\")>=LISTS!$B$11,\"Complete\",IF(COUNTIF(CL7:CL37,\">0\")>0,\"Partial\",\"\"))","v":""},{"$f":"IF(COUNTIF(CM7:CM37,\">0\")>=LISTS!$B$11,\"Complete\",IF(COUNTIF(CM7:CM37,\">0\")>0,\"Partial\",\"\"))","v":""},{"$f":"IF(COUNTIF(CN7:CN37,\">0\")>=LISTS!$B$11,\"Complete\",IF(COUNTIF(CN7:CN37,\">0\")>0,\"Partial\",\"\"))","v":""},{"$f":"IF(COUNTIF(CO7:CO37,\">0\")>=LISTS!$B$11,\"Complete\",IF(COUNTIF(CO7:CO37,\">0\")>0,\"Partial\",\"\"))","v":""},{"$f":"IF(COUNTIF(CP7:CP37,\">0\")>=LISTS!$B$11,\"Complete\",IF(COUNTIF(CP7:CP37,\">0\")>0,\"Partial\",\"\"))","v":""},{"$f":"IF(COUNTIF(CQ7:CQ37,\">0\")>=LISTS!$B$11,\"Complete\",IF(COUNTIF(CQ7:CQ37,\">0\")>0,\"Partial\",\"\"))","v":""},{"$f":"IF(COUNTIF(CR7:CR37,\">0\")>=LISTS!$B$11,\"Complete\",IF(COUNTIF(CR7:CR37,\">0\")>0,\"Partial\",\"\"))","v":""},{"$f":"IF(COUNTIF(CS7:CS37,\">0\")>=LISTS!$B$11,\"Complete\",IF(COUNTIF(CS7:CS37,\">0\")>0,\"Partial\",\"\"))","v":""},{"$f":"IF(COUNTIF(CT7:CT37,\">0\")>=LISTS!$B$11,\"Complete\",IF(COUNTIF(CT7:CT37,\">0\")>0,\"Partial\",\"\"))","v":""},{"$f":"IF(COUNTIF(CU7:CU37,\">0\")>=LISTS!$B$11,\"Complete\",IF(COUNTIF(CU7:CU37,\">0\")>0,\"Partial\",\"\"))","v":""},{"$f":"IF(COUNTIF(CV7:CV37,\">0\")>=LISTS!$B$11,\"Complete\",IF(COUNTIF(CV7:CV37,\">0\")>0,\"Partial\",\"\"))","v":""},{"$f":"IF(COUNTIF(CW7:CW37,\">0\")>=LISTS!$B$11,\"Complete\",IF(COUNTIF(CW7:CW37,\">0\")>0,\"Partial\",\"\"))","v":""},{"$f":"IF(COUNTIF(CX7:CX37,\">0\")>=LISTS!$B$11,\"Complete\",IF(COUNTIF(CX7:CX37,\">0\")>0,\"Partial\",\"\"))","v":""},{"$f":"IF(COUNTIF(CY7:CY37,\">0\")>=LISTS!$B$11,\"Complete\",IF(COUNTIF(CY7:CY37,\">0\")>0,\"Partial\",\"\"))","v":""},{"$f":"IF(COUNTIF(CZ7:CZ37,\">0\")>=LISTS!$B$11,\"Complete\",IF(COUNTIF(CZ7:CZ37,\">0\")>0,\"Partial\",\"\"))","v":""},{"$f":"IF(COUNTIF(DA7:DA37,\">0\")>=LISTS!$B$11,\"Complete\",IF(COUNTIF(DA7:DA37,\">0\")>0,\"Partial\",\"\"))","v":""},{"$f":"IF(COUNTIF(DB7:DB37,\">0\")>=LISTS!$B$11,\"Complete\",IF(COUNTIF(DB7:DB37,\">0\")>0,\"Partial\",\"\"))","v":""},{"$f":"IF(COUNTIF(DC7:DC37,\">0\")>=LISTS!$B$11,\"Complete\",IF(COUNTIF(DC7:DC37,\">0\")>0,\"Partial\",\"\"))","v":""},{"$f":"IF(COUNTIF(DD7:DD37,\">0\")>=LISTS!$B$11,\"Complete\",IF(COUNTIF(DD7:DD37,\">0\")>0,\"Partial\",\"\"))","v":""},{"$f":"IF(COUNTIF(DE7:DE37,\">0\")>=LISTS!$B$11,\"Complete\",IF(COUNTIF(DE7:DE37,\">0\")>0,\"Partial\",\"\"))","v":""},{"$f":"IF(COUNTIF(DF7:DF37,\">0\")>=LISTS!$B$11,\"Complete\",IF(COUNTIF(DF7:DF37,\">0\")>0,\"Partial\",\"\"))","v":""},{"$f":"IF(COUNTIF(DG7:DG37,\">0\")>=LISTS!$B$11,\"Complete\",IF(COUNTIF(DG7:DG37,\">0\")>0,\"Partial\",\"\"))","v":""},{"$f":"IF(COUNTIF(DH7:DH37,\">0\")>=LISTS!$B$11,\"Complete\",IF(COUNTIF(DH7:DH37,\">0\")>0,\"Partial\",\"\"))","v":""},{"$f":"IF(COUNTIF(DI7:DI37,\">0\")>=LISTS!$B$11,\"Complete\",IF(COUNTIF(DI7:DI37,\">0\")>0,\"Partial\",\"\"))","v":""},{"$f":"IF(COUNTIF(DJ7:DJ37,\">0\")>=LISTS!$B$11,\"Complete\",IF(COUNTIF(DJ7:DJ37,\">0\")>0,\"Partial\",\"\"))","v":""},{"$f":"IF(COUNTIF(DK7:DK37,\">0\")>=LISTS!$B$11,\"Complete\",IF(COUNTIF(DK7:DK37,\">0\")>0,\"Partial\",\"\"))","v":""},{"$f":"IF(COUNTIF(DL7:DL37,\">0\")>=LISTS!$B$11,\"Complete\",IF(COUNTIF(DL7:DL37,\">0\")>0,\"Partial\",\"\"))","v":""},{"$f":"IF(COUNTIF(DM7:DM37,\">0\")>=LISTS!$B$11,\"Complete\",IF(COUNTIF(DM7:DM37,\">0\")>0,\"Partial\",\"\"))","v":""},{"$f":"IF(COUNTIF(DN7:DN37,\">0\")>=LISTS!$B$11,\"Complete\",IF(COUNTIF(DN7:DN37,\">0\")>0,\"Partial\",\"\"))","v":""},{"$f":"IF(COUNTIF(DO7:DO37,\">0\")>=LISTS!$B$11,\"Complete\",IF(COUNTIF(DO7:DO37,\">0\")>0,\"Partial\",\"\"))","v":""},{"$f":"IF(COUNTIF(DP7:DP37,\">0\")>=LISTS!$B$11,\"Complete\",IF(COUNTIF(DP7:DP37,\">0\")>0,\"Partial\",\"\"))","v":""},{"$f":"IF(COUNTIF(DQ7:DQ37,\">0\")>=LISTS!$B$11,\"Complete\",IF(COUNTIF(DQ7:DQ37,\">0\")>0,\"Partial\",\"\"))","v":""},{"$f":"IF(COUNTIF(DR7:DR37,\">0\")>=LISTS!$B$11,\"Complete\",IF(COUNTIF(DR7:DR37,\">0\")>0,\"Partial\",\"\"))","v":""},{"$f":"IF(COUNTIF(DS7:DS37,\">0\")>=LISTS!$B$11,\"Complete\",IF(COUNTIF(DS7:DS37,\">0\")>0,\"Partial\",\"\"))","v":""},{"$f":"IF(COUNTIF(DT7:DT37,\">0\")>=LISTS!$B$11,\"Complete\",IF(COUNTIF(DT7:DT37,\">0\")>0,\"Partial\",\"\"))","v":""},{"$f":"IF(COUNTIF(DU7:DU37,\">0\")>=LISTS!$B$11,\"Complete\",IF(COUNTIF(DU7:DU37,\">0\")>0,\"Partial\",\"\"))","v":""},{"$f":"IF(COUNTIF(DV7:DV37,\">0\")>=LISTS!$B$11,\"Complete\",IF(COUNTIF(DV7:DV37,\">0\")>0,\"Partial\",\"\"))","v":""},{"$f":"IF(COUNTIF(DW7:DW37,\">0\")>=LISTS!$B$11,\"Complete\",IF(COUNTIF(DW7:DW37,\">0\")>0,\"Partial\",\"\"))","v":""},{"$f":"IF(COUNTIF(DX7:DX37,\">0\")>=LISTS!$B$11,\"Complete\",IF(COUNTIF(DX7:DX37,\">0\")>0,\"Partial\",\"\"))","v":""},{"$f":"IF(COUNTIF(DY7:DY37,\">0\")>=LISTS!$B$11,\"Complete\",IF(COUNTIF(DY7:DY37,\">0\")>0,\"Partial\",\"\"))","v":""},{"$f":"IF(COUNTIF(DZ7:DZ37,\">0\")>=LISTS!$B$11,\"Complete\",IF(COUNTIF(DZ7:DZ37,\">0\")>0,\"Partial\",\"\"))","v":""},{"$f":"IF(COUNTIF(EA7:EA37,\">0\")>=LISTS!$B$11,\"Complete\",IF(COUNTIF(EA7:EA37,\">0\")>0,\"Partial\",\"\"))","v":""},{"$f":"IF(COUNTIF(EB7:EB37,\">0\")>=LISTS!$B$11,\"Complete\",IF(COUNTIF(EB7:EB37,\">0\")>0,\"Partial\",\"\"))","v":""},{"$f":"IF(COUNTIF(EC7:EC37,\">0\")>=LISTS!$B$11,\"Complete\",IF(COUNTIF(EC7:EC37,\">0\")>0,\"Partial\",\"\"))","v":""},{"$f":"IF(COUNTIF(ED7:ED37,\">0\")>=LISTS!$B$11,\"Complete\",IF(COUNTIF(ED7:ED37,\">0\")>0,\"Partial\",\"\"))","v":""},{"$f":"IF(COUNTIF(EE7:EE37,\">0\")>=LISTS!$B$11,\"Complete\",IF(COUNTIF(EE7:EE37,\">0\")>0,\"Partial\",\"\"))","v":""},{"$f":"IF(COUNTIF(EF7:EF37,\">0\")>=LISTS!$B$11,\"Complete\",IF(COUNTIF(EF7:EF37,\">0\")>0,\"Partial\",\"\"))","v":""},{"$f":"IF(COUNTIF(EG7:EG37,\">0\")>=LISTS!$B$11,\"Complete\",IF(COUNTIF(EG7:EG37,\">0\")>0,\"Partial\",\"\"))","v":""},{"$f":"IF(COUNTIF(EH7:EH37,\">0\")>=LISTS!$B$11,\"Complete\",IF(COUNTIF(EH7:EH37,\">0\")>0,\"Partial\",\"\"))","v":""},{"$f":"IF(COUNTIF(EI7:EI37,\">0\")>=LISTS!$B$11,\"Complete\",IF(COUNTIF(EI7:EI37,\">0\")>0,\"Partial\",\"\"))","v":""},{"$f":"IF(COUNTIF(EJ7:EJ37,\">0\")>=LISTS!$B$11,\"Complete\",IF(COUNTIF(EJ7:EJ37,\">0\")>0,\"Partial\",\"\"))","v":""},{"$f":"IF(COUNTIF(EK7:EK37,\">0\")>=LISTS!$B$11,\"Complete\",IF(COUNTIF(EK7:EK37,\">0\")>0,\"Partial\",\"\"))","v":""},{"$f":"IF(COUNTIF(EL7:EL37,\">0\")>=LISTS!$B$11,\"Complete\",IF(COUNTIF(EL7:EL37,\">0\")>0,\"Partial\",\"\"))","v":""},{"$f":"IF(COUNTIF(EM7:EM37,\">0\")>=LISTS!$B$11,\"Complete\",IF(COUNTIF(EM7:EM37,\">0\")>0,\"Partial\",\"\"))","v":""},{"$f":"IF(COUNTIF(EN7:EN37,\">0\")>=LISTS!$B$11,\"Complete\",IF(COUNTIF(EN7:EN37,\">0\")>0,\"Partial\",\"\"))","v":""},{"$f":"IF(COUNTIF(EO7:EO37,\">0\")>=LISTS!$B$11,\"Complete\",IF(COUNTIF(EO7:EO37,\">0\")>0,\"Partial\",\"\"))","v":""},{"$f":"IF(COUNTIF(EP7:EP37,\">0\")>=LISTS!$B$11,\"Complete\",IF(COUNTIF(EP7:EP37,\">0\")>0,\"Partial\",\"\"))","v":""},{"$f":"IF(COUNTIF(EQ7:EQ37,\">0\")>=LISTS!$B$11,\"Complete\",IF(COUNTIF(EQ7:EQ37,\">0\")>0,\"Partial\",\"\"))","v":""},{"$f":"IF(COUNTIF(ER7:ER37,\">0\")>=LISTS!$B$11,\"Complete\",IF(COUNTIF(ER7:ER37,\">0\")>0,\"Partial\",\"\"))","v":""},{"$f":"IF(COUNTIF(ES7:ES37,\">0\")>=LISTS!$B$11,\"Complete\",IF(COUNTIF(ES7:ES37,\">0\")>0,\"Partial\",\"\"))","v":""},{"$f":"IF(COUNTIF(ET7:ET37,\">0\")>=LISTS!$B$11,\"Complete\",IF(COUNTIF(ET7:ET37,\">0\")>0,\"Partial\",\"\"))","v":""},{"$f":"IF(COUNTIF(EU7:EU37,\">0\")>=LISTS!$B$11,\"Complete\",IF(COUNTIF(EU7:EU37,\">0\")>0,\"Partial\",\"\"))","v":""},{"$f":"IF(COUNTIF(EV7:EV37,\">0\")>=LISTS!$B$11,\"Complete\",IF(COUNTIF(EV7:EV37,\">0\")>0,\"Partial\",\"\"))","v":""},{"$f":"IF(COUNTIF(EW7:EW37,\">0\")>=LISTS!$B$11,\"Complete\",IF(COUNTIF(EW7:EW37,\">0\")>0,\"Partial\",\"\"))","v":""},{"$f":"IF(COUNTIF(EX7:EX37,\">0\")>=LISTS!$B$11,\"Complete\",IF(COUNTIF(EX7:EX37,\">0\")>0,\"Partial\",\"\"))","v":""},{"$f":"IF(COUNTIF(EY7:EY37,\">0\")>=LISTS!$B$11,\"Complete\",IF(COUNTIF(EY7:EY37,\">0\")>0,\"Partial\",\"\"))","v":""},{"$f":"IF(COUNTIF(EZ7:EZ37,\">0\")>=LISTS!$B$11,\"Complete\",IF(COUNTIF(EZ7:EZ37,\">0\")>0,\"Partial\",\"\"))","v":""},{"$f":"IF(COUNTIF(FA7:FA37,\">0\")>=LISTS!$B$11,\"Complete\",IF(COUNTIF(FA7:FA37,\">0\")>0,\"Partial\",\"\"))","v":""},{"$f":"IF(COUNTIF(FB7:FB37,\">0\")>=LISTS!$B$11,\"Complete\",IF(COUNTIF(FB7:FB37,\">0\")>0,\"Partial\",\"\"))","v":""},{"$f":"IF(COUNTIF(FC7:FC37,\">0\")>=LISTS!$B$11,\"Complete\",IF(COUNTIF(FC7:FC37,\">0\")>0,\"Partial\",\"\"))","v":""},{"$f":"IF(COUNTIF(FD7:FD37,\">0\")>=LISTS!$B$11,\"Complete\",IF(COUNTIF(FD7:FD37,\">0\")>0,\"Partial\",\"\"))","v":""},{"$f":"IF(COUNTIF(FE7:FE37,\">0\")>=LISTS!$B$11,\"Complete\",IF(COUNTIF(FE7:FE37,\">0\")>0,\"Partial\",\"\"))","v":""},{"$f":"IF(COUNTIF(FF7:FF37,\">0\")>=LISTS!$B$11,\"Complete\",IF(COUNTIF(FF7:FF37,\">0\")>0,\"Partial\",\"\"))","v":""},{"$f":"IF(COUNTIF(FG7:FG37,\">0\")>=LISTS!$B$11,\"Complete\",IF(COUNTIF(FG7:FG37,\">0\")>0,\"Partial\",\"\"))","v":""},{"$f":"IF(COUNTIF(FH7:FH37,\">0\")>=LISTS!$B$11,\"Complete\",IF(COUNTIF(FH7:FH37,\">0\")>0,\"Partial\",\"\"))","v":""},{"$f":"IF(COUNTIF(FI7:FI37,\">0\")>=LISTS!$B$11,\"Complete\",IF(COUNTIF(FI7:FI37,\">0\")>0,\"Partial\",\"\"))","v":""},{"$f":"IF(COUNTIF(FJ7:FJ37,\">0\")>=LISTS!$B$11,\"Complete\",IF(COUNTIF(FJ7:FJ37,\">0\")>0,\"Partial\",\"\"))","v":""},{"$f":"IF(COUNTIF(FK7:FK37,\">0\")>=LISTS!$B$11,\"Complete\",IF(COUNTIF(FK7:FK37,\">0\")>0,\"Partial\",\"\"))","v":""},{"$f":"IF(COUNTIF(FL7:FL37,\">0\")>=LISTS!$B$11,\"Complete\",IF(COUNTIF(FL7:FL37,\">0\")>0,\"Partial\",\"\"))","v":""},{"$f":"IF(COUNTIF(FM7:FM37,\">0\")>=LISTS!$B$11,\"Complete\",IF(COUNTIF(FM7:FM37,\">0\")>0,\"Partial\",\"\"))","v":""},{"$f":"IF(COUNTIF(FN7:FN37,\">0\")>=LISTS!$B$11,\"Complete\",IF(COUNTIF(FN7:FN37,\">0\")>0,\"Partial\",\"\"))","v":""},{"$f":"IF(COUNTIF(FO7:FO37,\">0\")>=LISTS!$B$11,\"Complete\",IF(COUNTIF(FO7:FO37,\">0\")>0,\"Partial\",\"\"))","v":""},{"$f":"IF(COUNTIF(FP7:FP37,\">0\")>=LISTS!$B$11,\"Complete\",IF(COUNTIF(FP7:FP37,\">0\")>0,\"Partial\",\"\"))","v":""},{"$f":"IF(COUNTIF(FQ7:FQ37,\">0\")>=LISTS!$B$11,\"Complete\",IF(COUNTIF(FQ7:FQ37,\">0\")>0,\"Partial\",\"\"))","v":""},{"$f":"IF(COUNTIF(FR7:FR37,\">0\")>=LISTS!$B$11,\"Complete\",IF(COUNTIF(FR7:FR37,\">0\")>0,\"Partial\",\"\"))","v":""},{"$f":"IF(COUNTIF(FS7:FS37,\">0\")>=LISTS!$B$11,\"Complete\",IF(COUNTIF(FS7:FS37,\">0\")>0,\"Partial\",\"\"))","v":""},{"$f":"IF(COUNTIF(FT7:FT37,\">0\")>=LISTS!$B$11,\"Complete\",IF(COUNTIF(FT7:FT37,\">0\")>0,\"Partial\",\"\"))","v":""},{"$f":"IF(COUNTIF(FU7:FU37,\">0\")>=LISTS!$B$11,\"Complete\",IF(COUNTIF(FU7:FU37,\">0\")>0,\"Partial\",\"\"))","v":""},{"$f":"IF(COUNTIF(FV7:FV37,\">0\")>=LISTS!$B$11,\"Complete\",IF(COUNTIF(FV7:FV37,\">0\")>0,\"Partial\",\"\"))","v":""},{"$f":"IF(COUNTIF(FW7:FW37,\">0\")>=LISTS!$B$11,\"Complete\",IF(COUNTIF(FW7:FW37,\">0\")>0,\"Partial\",\"\"))","v":""},{"$f":"IF(COUNTIF(FX7:FX37,\">0\")>=LISTS!$B$11,\"Complete\",IF(COUNTIF(FX7:FX37,\">0\")>0,\"Partial\",\"\"))","v":""},{"$f":"IF(COUNTIF(FY7:FY37,\">0\")>=LISTS!$B$11,\"Complete\",IF(COUNTIF(FY7:FY37,\">0\")>0,\"Partial\",\"\"))","v":""},{"$f":"IF(COUNTIF(FZ7:FZ37,\">0\")>=LISTS!$B$11,\"Complete\",IF(COUNTIF(FZ7:FZ37,\">0\")>0,\"Partial\",\"\"))","v":""},{"$f":"IF(COUNTIF(GA7:GA37,\">0\")>=LISTS!$B$11,\"Complete\",IF(COUNTIF(GA7:GA37,\">0\")>0,\"Partial\",\"\"))","v":""},{"$f":"IF(COUNTIF(GB7:GB37,\">0\")>=LISTS!$B$11,\"Complete\",IF(COUNTIF(GB7:GB37,\">0\")>0,\"Partial\",\"\"))","v":""},{"$f":"IF(COUNTIF(GC7:GC37,\">0\")>=LISTS!$B$11,\"Complete\",IF(COUNTIF(GC7:GC37,\">0\")>0,\"Partial\",\"\"))","v":""},{"$f":"IF(COUNTIF(GD7:GD37,\">0\")>=LISTS!$B$11,\"Complete\",IF(COUNTIF(GD7:GD37,\">0\")>0,\"Partial\",\"\"))","v":""},{"$f":"IF(COUNTIF(GE7:GE37,\">0\")>=LISTS!$B$11,\"Complete\",IF(COUNTIF(GE7:GE37,\">0\")>0,\"Partial\",\"\"))","v":""},{"$f":"IF(COUNTIF(GF7:GF37,\">0\")>=LISTS!$B$11,\"Complete\",IF(COUNTIF(GF7:GF37,\">0\")>0,\"Partial\",\"\"))","v":""},{"$f":"IF(COUNTIF(GG7:GG37,\">0\")>=LISTS!$B$11,\"Complete\",IF(COUNTIF(GG7:GG37,\">0\")>0,\"Partial\",\"\"))","v":""},{"$f":"IF(COUNTIF(GH7:GH37,\">0\")>=LISTS!$B$11,\"Complete\",IF(COUNTIF(GH7:GH37,\">0\")>0,\"Partial\",\"\"))","v":""},{"$f":"IF(COUNTIF(GI7:GI37,\">0\")>=LISTS!$B$11,\"Complete\",IF(COUNTIF(GI7:GI37,\">0\")>0,\"Partial\",\"\"))","v":""},{"$f":"IF(COUNTIF(GJ7:GJ37,\">0\")>=LISTS!$B$11,\"Complete\",IF(COUNTIF(GJ7:GJ37,\">0\")>0,\"Partial\",\"\"))","v":""},{"$f":"IF(COUNTIF(GK7:GK37,\">0\")>=LISTS!$B$11,\"Complete\",IF(COUNTIF(GK7:GK37,\">0\")>0,\"Partial\",\"\"))","v":""},{"$f":"IF(COUNTIF(GL7:GL37,\">0\")>=LISTS!$B$11,\"Complete\",IF(COUNTIF(GL7:GL37,\">0\")>0,\"Partial\",\"\"))","v":""},{"$f":"IF(COUNTIF(GM7:GM37,\">0\")>=LISTS!$B$11,\"Complete\",IF(COUNTIF(GM7:GM37,\">0\")>0,\"Partial\",\"\"))","v":""},{"$f":"IF(COUNTIF(GN7:GN37,\">0\")>=LISTS!$B$11,\"Complete\",IF(COUNTIF(GN7:GN37,\">0\")>0,\"Partial\",\"\"))","v":""},{"$f":"IF(COUNTIF(GO7:GO37,\">0\")>=LISTS!$B$11,\"Complete\",IF(COUNTIF(GO7:GO37,\">0\")>0,\"Partial\",\"\"))","v":""},{"$f":"IF(COUNTIF(GP7:GP37,\">0\")>=LISTS!$B$11,\"Complete\",IF(COUNTIF(GP7:GP37,\">0\")>0,\"Partial\",\"\"))","v":""},{"$f":"IF(COUNTIF(GQ7:GQ37,\">0\")>=LISTS!$B$11,\"Complete\",IF(COUNTIF(GQ7:GQ37,\">0\")>0,\"Partial\",\"\"))","v":""},{"$f":"IF(COUNTIF(GR7:GR37,\">0\")>=LISTS!$B$11,\"Complete\",IF(COUNTIF(GR7:GR37,\">0\")>0,\"Partial\",\"\"))","v":""},{"$f":"IF(COUNTIF(GS7:GS37,\">0\")>=LISTS!$B$11,\"Complete\",IF(COUNTIF(GS7:GS37,\">0\")>0,\"Partial\",\"\"))","v":""},{"$f":"IF(COUNTIF(GT7:GT37,\">0\")>=LISTS!$B$11,\"Complete\",IF(COUNTIF(GT7:GT37,\">0\")>0,\"Partial\",\"\"))","v":""},{"$f":"IF(COUNTIF(GU7:GU37,\">0\")>=LISTS!$B$11,\"Complete\",IF(COUNTIF(GU7:GU37,\">0\")>0,\"Partial\",\"\"))","v":""},{"$f":"IF(COUNTIF(GV7:GV37,\">0\")>=LISTS!$B$11,\"Complete\",IF(COUNTIF(GV7:GV37,\">0\")>0,\"Partial\",\"\"))","v":""},{"$f":"IF(COUNTIF(GW7:GW37,\">0\")>=LISTS!$B$11,\"Complete\",IF(COUNTIF(GW7:GW37,\">0\")>0,\"Partial\",\"\"))","v":""},{"$f":"IF(COUNTIF(GX7:GX37,\">0\")>=LISTS!$B$11,\"Complete\",IF(COUNTIF(GX7:GX37,\">0\")>0,\"Partial\",\"\"))","v":""},{"$f":"IF(COUNTIF(GY7:GY37,\">0\")>=LISTS!$B$11,\"Complete\",IF(COUNTIF(GY7:GY37,\">0\")>0,\"Partial\",\"\"))","v":""},{"$f":"IF(COUNTIF(GZ7:GZ37,\">0\")>=LISTS!$B$11,\"Complete\",IF(COUNTIF(GZ7:GZ37,\">0\")>0,\"Partial\",\"\"))","v":""},{"$f":"IF(COUNTIF(HA7:HA37,\">0\")>=LISTS!$B$11,\"Complete\",IF(COUNTIF(HA7:HA37,\">0\")>0,\"Partial\",\"\"))","v":""},{"$f":"IF(COUNTIF(HB7:HB37,\">0\")>=LISTS!$B$11,\"Complete\",IF(COUNTIF(HB7:HB37,\">0\")>0,\"Partial\",\"\"))","v":""},{"$f":"IF(COUNTIF(HC7:HC37,\">0\")>=LISTS!$B$11,\"Complete\",IF(COUNTIF(HC7:HC37,\">0\")>0,\"Partial\",\"\"))","v":""},{"$f":"IF(COUNTIF(HD7:HD37,\">0\")>=LISTS!$B$11,\"Complete\",IF(COUNTIF(HD7:HD37,\">0\")>0,\"Partial\",\"\"))","v":""},{"$f":"IF(COUNTIF(HE7:HE37,\">0\")>=LISTS!$B$11,\"Complete\",IF(COUNTIF(HE7:HE37,\">0\")>0,\"Partial\",\"\"))","v":""},{"$f":"IF(COUNTIF(HF7:HF37,\">0\")>=LISTS!$B$11,\"Complete\",IF(COUNTIF(HF7:HF37,\">0\")>0,\"Partial\",\"\"))","v":""},{"$f":"IF(COUNTIF(HG7:HG37,\">0\")>=LISTS!$B$11,\"Complete\",IF(COUNTIF(HG7:HG37,\">0\")>0,\"Partial\",\"\"))","v":""},{"$f":"IF(COUNTIF(HH7:HH37,\">0\")>=LISTS!$B$11,\"Complete\",IF(COUNTIF(HH7:HH37,\">0\")>0,\"Partial\",\"\"))","v":""},{"$f":"IF(COUNTIF(HI7:HI37,\">0\")>=LISTS!$B$11,\"Complete\",IF(COUNTIF(HI7:HI37,\">0\")>0,\"Partial\",\"\"))","v":""},{"$f":"IF(COUNTIF(HJ7:HJ37,\">0\")>=LISTS!$B$11,\"Complete\",IF(COUNTIF(HJ7:HJ37,\">0\")>0,\"Partial\",\"\"))","v":""},{"$f":"IF(COUNTIF(HK7:HK37,\">0\")>=LISTS!$B$11,\"Complete\",IF(COUNTIF(HK7:HK37,\">0\")>0,\"Partial\",\"\"))","v":""},{"$f":"IF(COUNTIF(HL7:HL37,\">0\")>=LISTS!$B$11,\"Complete\",IF(COUNTIF(HL7:HL37,\">0\")>0,\"Partial\",\"\"))","v":""},{"$f":"IF(COUNTIF(HM7:HM37,\">0\")>=LISTS!$B$11,\"Complete\",IF(COUNTIF(HM7:HM37,\">0\")>0,\"Partial\",\"\"))","v":""},{"$f":"IF(COUNTIF(HN7:HN37,\">0\")>=LISTS!$B$11,\"Complete\",IF(COUNTIF(HN7:HN37,\">0\")>0,\"Partial\",\"\"))","v":""},{"$f":"IF(COUNTIF(HO7:HO37,\">0\")>=LISTS!$B$11,\"Complete\",IF(COUNTIF(HO7:HO37,\">0\")>0,\"Partial\",\"\"))","v":""},{"$f":"IF(COUNTIF(HP7:HP37,\">0\")>=LISTS!$B$11,\"Complete\",IF(COUNTIF(HP7:HP37,\">0\")>0,\"Partial\",\"\"))","v":""},{"$f":"IF(COUNTIF(HQ7:HQ37,\">0\")>=LISTS!$B$11,\"Complete\",IF(COUNTIF(HQ7:HQ37,\">0\")>0,\"Partial\",\"\"))","v":""},{"$f":"IF(COUNTIF(HR7:HR37,\">0\")>=LISTS!$B$11,\"Complete\",IF(COUNTIF(HR7:HR37,\">0\")>0,\"Partial\",\"\"))","v":""},{"$f":"IF(COUNTIF(HS7:HS37,\">0\")>=LISTS!$B$11,\"Complete\",IF(COUNTIF(HS7:HS37,\">0\")>0,\"Partial\",\"\"))","v":""},{"$f":"IF(COUNTIF(HT7:HT37,\">0\")>=LISTS!$B$11,\"Complete\",IF(COUNTIF(HT7:HT37,\">0\")>0,\"Partial\",\"\"))","v":""},{"$f":"IF(COUNTIF(HU7:HU37,\">0\")>=LISTS!$B$11,\"Complete\",IF(COUNTIF(HU7:HU37,\">0\")>0,\"Partial\",\"\"))","v":""},{"$f":"IF(COUNTIF(HV7:HV37,\">0\")>=LISTS!$B$11,\"Complete\",IF(COUNTIF(HV7:HV37,\">0\")>0,\"Partial\",\"\"))","v":""},{"$f":"IF(COUNTIF(HW7:HW37,\">0\")>=LISTS!$B$11,\"Complete\",IF(COUNTIF(HW7:HW37,\">0\")>0,\"Partial\",\"\"))","v":""},{"$f":"IF(COUNTIF(HX7:HX37,\">0\")>=LISTS!$B$11,\"Complete\",IF(COUNTIF(HX7:HX37,\">0\")>0,\"Partial\",\"\"))","v":""},{"$f":"IF(COUNTIF(HY7:HY37,\">0\")>=LISTS!$B$11,\"Complete\",IF(COUNTIF(HY7:HY37,\">0\")>0,\"Partial\",\"\"))","v":""},{"$f":"IF(COUNTIF(HZ7:HZ37,\">0\")>=LISTS!$B$11,\"Complete\",IF(COUNTIF(HZ7:HZ37,\">0\")>0,\"Partial\",\"\"))","v":""},{"$f":"IF(COUNTIF(IA7:IA37,\">0\")>=LISTS!$B$11,\"Complete\",IF(COUNTIF(IA7:IA37,\">0\")>0,\"Partial\",\"\"))","v":""},{"$f":"IF(COUNTIF(IB7:IB37,\">0\")>=LISTS!$B$11,\"Complete\",IF(COUNTIF(IB7:IB37,\">0\")>0,\"Partial\",\"\"))","v":""},{"$f":"IF(COUNTIF(IC7:IC37,\">0\")>=LISTS!$B$11,\"Complete\",IF(COUNTIF(IC7:IC37,\">0\")>0,\"Partial\",\"\"))","v":""},{"$f":"IF(COUNTIF(ID7:ID37,\">0\")>=LISTS!$B$11,\"Complete\",IF(COUNTIF(ID7:ID37,\">0\")>0,\"Partial\",\"\"))","v":""},{"$f":"IF(COUNTIF(IE7:IE37,\">0\")>=LISTS!$B$11,\"Complete\",IF(COUNTIF(IE7:IE37,\">0\")>0,\"Partial\",\"\"))","v":""},{"$f":"IF(COUNTIF(IF7:IF37,\">0\")>=LISTS!$B$11,\"Complete\",IF(COUNTIF(IF7:IF37,\">0\")>0,\"Partial\",\"\"))","v":""},{"$f":"IF(COUNTIF(IG7:IG37,\">0\")>=LISTS!$B$11,\"Complete\",IF(COUNTIF(IG7:IG37,\">0\")>0,\"Partial\",\"\"))","v":""},{"$f":"IF(COUNTIF(IH7:IH37,\">0\")>=LISTS!$B$11,\"Complete\",IF(COUNTIF(IH7:IH37,\">0\")>0,\"Partial\",\"\"))","v":""},{"$f":"IF(COUNTIF(II7:II37,\">0\")>=LISTS!$B$11,\"Complete\",IF(COUNTIF(II7:II37,\">0\")>0,\"Partial\",\"\"))","v":""},{"$f":"IF(COUNTIF(IJ7:IJ37,\">0\")>=LISTS!$B$11,\"Complete\",IF(COUNTIF(IJ7:IJ37,\">0\")>0,\"Partial\",\"\"))","v":""},{"$f":"IF(COUNTIF(IK7:IK37,\">0\")>=LISTS!$B$11,\"Complete\",IF(COUNTIF(IK7:IK37,\">0\")>0,\"Partial\",\"\"))","v":""},{"$f":"IF(COUNTIF(IL7:IL37,\">0\")>=LISTS!$B$11,\"Complete\",IF(COUNTIF(IL7:IL37,\">0\")>0,\"Partial\",\"\"))","v":""},{"$f":"IF(COUNTIF(IM7:IM37,\">0\")>=LISTS!$B$11,\"Complete\",IF(COUNTIF(IM7:IM37,\">0\")>0,\"Partial\",\"\"))","v":""},{"$f":"IF(COUNTIF(IN7:IN37,\">0\")>=LISTS!$B$11,\"Complete\",IF(COUNTIF(IN7:IN37,\">0\")>0,\"Partial\",\"\"))","v":""},{"$f":"IF(COUNTIF(IO7:IO37,\">0\")>=LISTS!$B$11,\"Complete\",IF(COUNTIF(IO7:IO37,\">0\")>0,\"Partial\",\"\"))","v":""},{"$f":"IF(COUNTIF(IP7:IP37,\">0\")>=LISTS!$B$11,\"Complete\",IF(COUNTIF(IP7:IP37,\">0\")>0,\"Partial\",\"\"))","v":""},{"$f":"IF(COUNTIF(IQ7:IQ37,\">0\")>=LISTS!$B$11,\"Complete\",IF(COUNTIF(IQ7:IQ37,\">0\")>0,\"Partial\",\"\"))","v":""},{"$f":"IF(COUNTIF(IR7:IR37,\">0\")>=LISTS!$B$11,\"Complete\",IF(COUNTIF(IR7:IR37,\">0\")>0,\"Partial\",\"\"))","v":""},{"$f":"IF(COUNTIF(IS7:IS37,\">0\")>=LISTS!$B$11,\"Complete\",IF(COUNTIF(IS7:IS37,\">0\")>0,\"Partial\",\"\"))","v":""},{"$f":"IF(COUNTIF(IT7:IT37,\">0\")>=LISTS!$B$11,\"Complete\",IF(COUNTIF(IT7:IT37,\">0\")>0,\"Partial\",\"\"))","v":""},{"$f":"IF(COUNTIF(IU7:IU37,\">0\")>=LISTS!$B$11,\"Complete\",IF(COUNTIF(IU7:IU37,\">0\")>0,\"Partial\",\"\"))","v":""},{"$f":"IF(COUNTIF(IV7:IV37,\">0\")>=LISTS!$B$11,\"Complete\",IF(COUNTIF(IV7:IV37,\">0\")>0,\"Partial\",\"\"))","v":""},{"$f":"IF(COUNTIF(IW7:IW37,\">0\")>=LISTS!$B$11,\"Complete\",IF(COUNTIF(IW7:IW37,\">0\")>0,\"Partial\",\"\"))","v":""},{"$f":"IF(COUNTIF(IX7:IX37,\">0\")>=LISTS!$B$11,\"Complete\",IF(COUNTIF(IX7:IX37,\">0\")>0,\"Partial\",\"\"))","v":""},{"$f":"IF(COUNTIF(IY7:IY37,\">0\")>=LISTS!$B$11,\"Complete\",IF(COUNTIF(IY7:IY37,\">0\")>0,\"Partial\",\"\"))","v":""},{"$f":"IF(COUNTIF(IZ7:IZ37,\">0\")>=LISTS!$B$11,\"Complete\",IF(COUNTIF(IZ7:IZ37,\">0\")>0,\"Partial\",\"\"))","v":""},{"$f":"IF(COUNTIF(JA7:JA37,\">0\")>=LISTS!$B$11,\"Complete\",IF(COUNTIF(JA7:JA37,\">0\")>0,\"Partial\",\"\"))","v":""},{"$f":"IF(COUNTIF(JB7:JB37,\">0\")>=LISTS!$B$11,\"Complete\",IF(COUNTIF(JB7:JB37,\">0\")>0,\"Partial\",\"\"))","v":""},{"$f":"IF(COUNTIF(JC7:JC37,\">0\")>=LISTS!$B$11,\"Complete\",IF(COUNTIF(JC7:JC37,\">0\")>0,\"Partial\",\"\"))","v":""},{"$f":"IF(COUNTIF(JD7:JD37,\">0\")>=LISTS!$B$11,\"Complete\",IF(COUNTIF(JD7:JD37,\">0\")>0,\"Partial\",\"\"))","v":""},{"$f":"IF(COUNTIF(JE7:JE37,\">0\")>=LISTS!$B$11,\"Complete\",IF(COUNTIF(JE7:JE37,\">0\")>0,\"Partial\",\"\"))","v":""},{"$f":"IF(COUNTIF(JF7:JF37,\">0\")>=LISTS!$B$11,\"Complete\",IF(COUNTIF(JF7:JF37,\">0\")>0,\"Partial\",\"\"))","v":""},{"$f":"IF(COUNTIF(JG7:JG37,\">0\")>=LISTS!$B$11,\"Complete\",IF(COUNTIF(JG7:JG37,\">0\")>0,\"Partial\",\"\"))","v":""},{"$f":"IF(COUNTIF(JH7:JH37,\">0\")>=LISTS!$B$11,\"Complete\",IF(COUNTIF(JH7:JH37,\">0\")>0,\"Partial\",\"\"))","v":""},{"$f":"IF(COUNTIF(JI7:JI37,\">0\")>=LISTS!$B$11,\"Complete\",IF(COUNTIF(JI7:JI37,\">0\")>0,\"Partial\",\"\"))","v":""},{"$f":"IF(COUNTIF(JJ7:JJ37,\">0\")>=LISTS!$B$11,\"Complete\",IF(COUNTIF(JJ7:JJ37,\">0\")>0,\"Partial\",\"\"))","v":""},{"$f":"IF(COUNTIF(JK7:JK37,\">0\")>=LISTS!$B$11,\"Complete\",IF(COUNTIF(JK7:JK37,\">0\")>0,\"Partial\",\"\"))","v":""},{"$f":"IF(COUNTIF(JL7:JL37,\">0\")>=LISTS!$B$11,\"Complete\",IF(COUNTIF(JL7:JL37,\">0\")>0,\"Partial\",\"\"))","v":""},{"$f":"IF(COUNTIF(JM7:JM37,\">0\")>=LISTS!$B$11,\"Complete\",IF(COUNTIF(JM7:JM37,\">0\")>0,\"Partial\",\"\"))","v":""},{"$f":"IF(COUNTIF(JN7:JN37,\">0\")>=LISTS!$B$11,\"Complete\",IF(COUNTIF(JN7:JN37,\">0\")>0,\"Partial\",\"\"))","v":""},{"$f":"IF(COUNTIF(JO7:JO37,\">0\")>=LISTS!$B$11,\"Complete\",IF(COUNTIF(JO7:JO37,\">0\")>0,\"Partial\",\"\"))","v":""},{"$f":"IF(COUNTIF(JP7:JP37,\">0\")>=LISTS!$B$11,\"Complete\",IF(COUNTIF(JP7:JP37,\">0\")>0,\"Partial\",\"\"))","v":""},{"$f":"IF(COUNTIF(JQ7:JQ37,\">0\")>=LISTS!$B$11,\"Complete\",IF(COUNTIF(JQ7:JQ37,\">0\")>0,\"Partial\",\"\"))","v":""},{"$f":"IF(COUNTIF(JR7:JR37,\">0\")>=LISTS!$B$11,\"Complete\",IF(COUNTIF(JR7:JR37,\">0\")>0,\"Partial\",\"\"))","v":""},{"$f":"IF(COUNTIF(JS7:JS37,\">0\")>=LISTS!$B$11,\"Complete\",IF(COUNTIF(JS7:JS37,\">0\")>0,\"Partial\",\"\"))","v":""},{"$f":"IF(COUNTIF(JT7:JT37,\">0\")>=LISTS!$B$11,\"Complete\",IF(COUNTIF(JT7:JT37,\">0\")>0,\"Partial\",\"\"))","v":""},{"$f":"IF(COUNTIF(JU7:JU37,\">0\")>=LISTS!$B$11,\"Complete\",IF(COUNTIF(JU7:JU37,\">0\")>0,\"Partial\",\"\"))","v":""},{"$f":"IF(COUNTIF(JV7:JV37,\">0\")>=LISTS!$B$11,\"Complete\",IF(COUNTIF(JV7:JV37,\">0\")>0,\"Partial\",\"\"))","v":""},{"$f":"IF(COUNTIF(JW7:JW37,\">0\")>=LISTS!$B$11,\"Complete\",IF(COUNTIF(JW7:JW37,\">0\")>0,\"Partial\",\"\"))","v":""},{"$f":"IF(COUNTIF(JX7:JX37,\">0\")>=LISTS!$B$11,\"Complete\",IF(COUNTIF(JX7:JX37,\">0\")>0,\"Partial\",\"\"))","v":""},{"$f":"IF(COUNTIF(JY7:JY37,\">0\")>=LISTS!$B$11,\"Complete\",IF(COUNTIF(JY7:JY37,\">0\")>0,\"Partial\",\"\"))","v":""},{"$f":"IF(COUNTIF(JZ7:JZ37,\">0\")>=LISTS!$B$11,\"Complete\",IF(COUNTIF(JZ7:JZ37,\">0\")>0,\"Partial\",\"\"))","v":""},{"$f":"IF(COUNTIF(KA7:KA37,\">0\")>=LISTS!$B$11,\"Complete\",IF(COUNTIF(KA7:KA37,\">0\")>0,\"Partial\",\"\"))","v":""},{"$f":"IF(COUNTIF(KB7:KB37,\">0\")>=LISTS!$B$11,\"Complete\",IF(COUNTIF(KB7:KB37,\">0\")>0,\"Partial\",\"\"))","v":""},{"$f":"IF(COUNTIF(KC7:KC37,\">0\")>=LISTS!$B$11,\"Complete\",IF(COUNTIF(KC7:KC37,\">0\")>0,\"Partial\",\"\"))","v":""},{"$f":"IF(COUNTIF(KD7:KD37,\">0\")>=LISTS!$B$11,\"Complete\",IF(COUNTIF(KD7:KD37,\">0\")>0,\"Partial\",\"\"))","v":""},{"$f":"IF(COUNTIF(KE7:KE37,\">0\")>=LISTS!$B$11,\"Complete\",IF(COUNTIF(KE7:KE37,\">0\")>0,\"Partial\",\"\"))","v":""},{"$f":"IF(COUNTIF(KF7:KF37,\">0\")>=LISTS!$B$11,\"Complete\",IF(COUNTIF(KF7:KF37,\">0\")>0,\"Partial\",\"\"))","v":""},{"$f":"IF(COUNTIF(KG7:KG37,\">0\")>=LISTS!$B$11,\"Complete\",IF(COUNTIF(KG7:KG37,\">0\")>0,\"Partial\",\"\"))","v":""},{"$f":"IF(COUNTIF(KH7:KH37,\">0\")>=LISTS!$B$11,\"Complete\",IF(COUNTIF(KH7:KH37,\">0\")>0,\"Partial\",\"\"))","v":""},{"$f":"IF(COUNTIF(KI7:KI37,\">0\")>=LISTS!$B$11,\"Complete\",IF(COUNTIF(KI7:KI37,\">0\")>0,\"Partial\",\"\"))","v":""},{"$f":"IF(COUNTIF(KJ7:KJ37,\">0\")>=LISTS!$B$11,\"Complete\",IF(COUNTIF(KJ7:KJ37,\">0\")>0,\"Partial\",\"\"))","v":""},{"$f":"IF(COUNTIF(KK7:KK37,\">0\")>=LISTS!$B$11,\"Complete\",IF(COUNTIF(KK7:KK37,\">0\")>0,\"Partial\",\"\"))","v":""},{"$f":"IF(COUNTIF(KL7:KL37,\">0\")>=LISTS!$B$11,\"Complete\",IF(COUNTIF(KL7:KL37,\">0\")>0,\"Partial\",\"\"))","v":""},{"$f":"IF(COUNTIF(KM7:KM37,\">0\")>=LISTS!$B$11,\"Complete\",IF(COUNTIF(KM7:KM37,\">0\")>0,\"Partial\",\"\"))","v":""},{"$f":"IF(COUNTIF(KN7:KN37,\">0\")>=LISTS!$B$11,\"Complete\",IF(COUNTIF(KN7:KN37,\">0\")>0,\"Partial\",\"\"))","v":""},{"$f":"IF(COUNTIF(KO7:KO37,\">0\")>=LISTS!$B$11,\"Complete\",IF(COUNTIF(KO7:KO37,\">0\")>0,\"Partial\",\"\"))","v":""},{"$f":"IF(COUNTIF(KP7:KP37,\">0\")>=LISTS!$B$11,\"Complete\",IF(COUNTIF(KP7:KP37,\">0\")>0,\"Partial\",\"\"))","v":""},{"$f":"IF(COUNTIF(KQ7:KQ37,\">0\")>=LISTS!$B$11,\"Complete\",IF(COUNTIF(KQ7:KQ37,\">0\")>0,\"Partial\",\"\"))","v":""},{"$f":"IF(COUNTIF(KR7:KR37,\">0\")>=LISTS!$B$11,\"Complete\",IF(COUNTIF(KR7:KR37,\">0\")>0,\"Partial\",\"\"))","v":""},{"$f":"IF(COUNTIF(KS7:KS37,\">0\")>=LISTS!$B$11,\"Complete\",IF(COUNTIF(KS7:KS37,\">0\")>0,\"Partial\",\"\"))","v":""},{"$f":"IF(COUNTIF(KT7:KT37,\">0\")>=LISTS!$B$11,\"Complete\",IF(COUNTIF(KT7:KT37,\">0\")>0,\"Partial\",\"\"))","v":""},{"$f":"IF(COUNTIF(KU7:KU37,\">0\")>=LISTS!$B$11,\"Complete\",IF(COUNTIF(KU7:KU37,\">0\")>0,\"Partial\",\"\"))","v":""},{"$f":"IF(COUNTIF(KV7:KV37,\">0\")>=LISTS!$B$11,\"Complete\",IF(COUNTIF(KV7:KV37,\">0\")>0,\"Partial\",\"\"))","v":""},{"$f":"IF(COUNTIF(KW7:KW37,\">0\")>=LISTS!$B$11,\"Complete\",IF(COUNTIF(KW7:KW37,\">0\")>0,\"Partial\",\"\"))","v":""},{"$f":"IF(COUNTIF(KX7:KX37,\">0\")>=LISTS!$B$11,\"Complete\",IF(COUNTIF(KX7:KX37,\">0\")>0,\"Partial\",\"\"))","v":""},{"$f":"IF(COUNTIF(KY7:KY37,\">0\")>=LISTS!$B$11,\"Complete\",IF(COUNTIF(KY7:KY37,\">0\")>0,\"Partial\",\"\"))","v":""},{"$f":"IF(COUNTIF(KZ7:KZ37,\">0\")>=LISTS!$B$11,\"Complete\",IF(COUNTIF(KZ7:KZ37,\">0\")>0,\"Partial\",\"\"))","v":""},{"$f":"IF(COUNTIF(LA7:LA37,\">0\")>=LISTS!$B$11,\"Complete\",IF(COUNTIF(LA7:LA37,\">0\")>0,\"Partial\",\"\"))","v":""},{"$f":"IF(COUNTIF(LB7:LB37,\">0\")>=LISTS!$B$11,\"Complete\",IF(COUNTIF(LB7:LB37,\">0\")>0,\"Partial\",\"\"))","v":""},{"$f":"IF(COUNTIF(LC7:LC37,\">0\")>=LISTS!$B$11,\"Complete\",IF(COUNTIF(LC7:LC37,\">0\")>0,\"Partial\",\"\"))","v":""},{"$f":"IF(COUNTIF(LD7:LD37,\">0\")>=LISTS!$B$11,\"Complete\",IF(COUNTIF(LD7:LD37,\">0\")>0,\"Partial\",\"\"))","v":""},{"$f":"IF(COUNTIF(LE7:LE37,\">0\")>=LISTS!$B$11,\"Complete\",IF(COUNTIF(LE7:LE37,\">0\")>0,\"Partial\",\"\"))","v":""},{"$f":"IF(COUNTIF(LF7:LF37,\">0\")>=LISTS!$B$11,\"Complete\",IF(COUNTIF(LF7:LF37,\">0\")>0,\"Partial\",\"\"))","v":""}]
[]
["Post","O1",null,{"$f":"IFERROR(AVERAGE(D40,D48,D57),\"\")","v":""},"","","","","","","","","","","","","","","","","","","","","","","","","","","","","","","","","","","","","","","","","","","","","","","","","","","","","","","","","","","","","","","",{"$f":"IFERROR(AVERAGE(BP40,BP48,BP57),\"\")","v":""},"","","","","","","","","","","","","","","","","","","","","","","","","","","","","","","","","","","","","","","","","","","","","","","","","","","","","","","","","","","","","","","",{"$f":"IFERROR(AVERAGE(EB40,EB48,EB57),\"\")","v":""},"","","","","","","","","","","","","","","","","","","","","","","","","","","","","","","","","","","","","","","","","","","","","","","","","","","","","","","","","","","","","","","",{"$f":"IFERROR(AVERAGE(GN40,GN48,GN57),\"\")","v":""},"","","","","","","","","","","","","","","","","","","","","","","","","","","","","","","","","","","","","","","","","","","","","","","","","","","","","","","","","","","","","","","",{"$f":"IFERROR(AVERAGE(IZ40,IZ48,IZ57),\"\")","v":""},"","","","","","","","","","","","","","","","","","","","","","","","","","","","","","","","","","","","","","","","","","","","","","","","","","","","","","","","","",""]
["Post","O2",null,{"$f":"IFERROR(AVERAGE(D39,D49,D50,D58),\"\")","v":""},"","","","","","","","","","","","","","","","","","","","","","","","","","","","","","","","","","","","","","","","","","","","","","","","","","","","","","","","","","","","","","","",{"$f":"IFERROR(AVERAGE(BP39,BP49,BP50,BP58),\"\")","v":""},"","","","","","","","","","","","","","","","","","","","","","","","","","","","","","","","","","","","","","","","","","","","","","","","","","","","","","","","","","","","","","","",{"$f":"IFERROR(AVERAGE(EB39,EB49,EB50,EB58),\"\")","v":""},"","","","","","","","","","","","","","","","","","","","","","","","","","","","","","","","","","","","","","","","","","","","","","","","","","","","","","","","","","","","","","","",{"$f":"IFERROR(AVERAGE(GN39,GN49,GN50,GN58),\"\")","v":""},"","","","","","","","","","","","","","","","","","","","","","","","","","","","","","","","","","","","","","","","","","","","","","","","","","","","","","","","","","","","","","","",{"$f":"IFERROR(AVERAGE(IZ39,IZ49,IZ50,IZ58),\"\")","v":""},"","","","","","","","","","","","","","","","","","","","","","","","","","","","","","","","","","","","","","","","","","","","","","","","","","","","","","","","","",""]
["Post","O3",null,{"$f":"IFERROR(AVERAGE(D44,D55,D61,D62,D63),\"\")","v":""},"","","","","","","","","","","","","","","","","","","","","","","","","","","","","","","","","","","","","","","","","","","","","","","","","","","","","","","","","","","","","","","",{"$f":"IFERROR(AVERAGE(BP44,BP55,BP61,BP62,BP63),\"\")","v":""},"","","","","","","","","","","","","","","","","","","","","","","","","","","","","","","","","","","","","","","","","","","","","","","","","","","","","","","","","","","","","","","",{"$f":"IFERROR(AVERAGE(EB44,EB55,EB61,EB62,EB63),\"\")","v":""},"","","","","","","","","","","","","","","","","","","","","","","","","","","","","","","","","","","","","","","","","","","","","","","","","","","","","","","","","","","","","","","",{"$f":"IFERROR(AVERAGE(GN44,GN55,GN61,GN62,GN63),\"\")","v":""},"","","","","","","","","","","","","","","","","","","","","","","","","","","","","","","","","","","","","","","","","","","","","","","","","","","","","","","","","","","","","","","",{"$f":"IFERROR(AVERAGE(IZ44,IZ55,IZ61,IZ62,IZ63),\"\")","v":""},"","","","","","","","","","","","","","","","","","","","","","","","","","","","","","","","","","","","","","","","","","","","","","","","","","","","","","","","","",""]
["Post","O4",null,{"$f":"IFERROR(AVERAGE(D45,D56,D64),\"\")","v":""},"","","","","","","","","","","","","","","","","","","","","","","","","","","","","","","","","","","","","","","","","","","","","","","","","","","","","","","","","","","","","","","",{"$f":"IFERROR(AVERAGE(BP45,BP56,BP64),\"\")","v":""},"","","","","","","","","","","","","","","","","","","","","","","","","","","","","","","","","","","","","","","","","","","","","","","","","","","","","","","","","","","","","","","",{"$f":"IFERROR(AVERAGE(EB45,EB56,EB64),\"\")","v":""},"","","","","","","","","","","","","","","","","","","","","","","","","","","","","","","","","","","","","","","","","","","","","","","","","","","","","","","","","","","","","","","",{"$f":"IFERROR(AVERAGE(GN45,GN56,GN64),\"\")","v":""},"","","","","","","","","","","","","","","","","","","","","","","","","","","","","","","","","","","","","","","","","","","","","","","","","","","","","","","","","","","","","","","",{"$f":"IFERROR(AVERAGE(IZ45,IZ56,IZ64),\"\")","v":""},"","","","","","","","","","","","","","","","","","","","","","","","","","","","","","","","","","","","","","","","","","","","","","","","","","","","","","","","","",""]
["Post","O5",null,{"$f":"IFERROR(AVERAGE(D52,D60,D65,D66,D67,D69),\"\")","v":""},"","","","","","","","","","","","","","","","","","","","","","","","","","","","","","","","","","","","","","","","","","","","","","","","","","","","","","","","","","","","","","","",{"$f":"IFERROR(AVERAGE(BP52,BP60,BP65,BP66,BP67,BP69),\"\")","v":""},"","","","","","","","","","","","","","","","","","","","","","","","","","","","","","","","","","","","","","","","","","","","","","","","","","","","","","","","","","","","","","","",{"$f":"IFERROR(AVERAGE(EB52,EB60,EB65,EB66,EB67,EB69),\"\")","v":""},"","","","","","","","","","","","","","","","","","","","","","","","","","","","","","","","","","","","","","","","","","","","","","","","","","","","","","","","","","","","","","","",{"$f":"IFERROR(AVERAGE(GN52,GN60,GN65,GN66,GN67,GN69),\"\")","v":""},"","","","","","","","","","","","","","","","","","","","","","","","","","","","","","","","","","","","","","","","","","","","","","","","","","","","","","","","","","","","","","","",{"$f":"IFERROR(AVERAGE(IZ52,IZ60,IZ65,IZ66,IZ67,IZ69),\"\")","v":""},"","","","","","","","","","","","","","","","","","","","","","","","","","","","","","","","","","","","","","","","","","","","","","","","","","","","","","","","","",""]
["Post","O6",null,{"$f":"IFERROR(AVERAGE(D41,D46,D47,D51,D59),\"\")","v":""},"","","","","","","","","","","","","","","","","","","","","","","","","","","","","","","","","","","","","","","","","","","","","","","","","","","","","","","","","","","","","","","",{"$f":"IFERROR(AVERAGE(BP41,BP46,BP47,BP51,BP59),\"\")","v":""},"","","","","","","","","","","","","","","","","","","","","","","","","","","","","","","","","","","","","","","","","","","","","","","","","","","","","","","","","","","","","","","",{"$f":"IFERROR(AVERAGE(EB41,EB46,EB47,EB51,EB59),\"\")","v":""},"","","","","","","","","","","","","","","","","","","","","","","","","","","","","","","","","","","","","","","","","","","","","","","","","","","","","","","","","","","","","","","",{"$f":"IFERROR(AVERAGE(GN41,GN46,GN47,GN51,GN59),\"\")","v":""},"","","","","","","","","","","","","","","","","","","","","","","","","","","","","","","","","","","","","","","","","","","","","","","","","","","","","","","","","","","","","","","",{"$f":"IFERROR(AVERAGE(IZ41,IZ46,IZ47,IZ51,IZ59),\"\")","v":""},"","","","","","","","","","","","","","","","","","","","","","","","","","","","","","","","","","","","","","","","","","","","","","","","","","","","","","","","","",""]
["Post","O7",null,{"$f":"IFERROR(AVERAGE(D43,D53),\"\")","v":""},"","","","","","","","","","","","","","","","","","","","","","","","","","","","","","","","","","","","","","","","","","","","","","","","","","","","","","","","","","","","","","","",{"$f":"IFERROR(AVERAGE(BP43,BP53),\"\")","v":""},"","","","","","","","","","","","","","","","","","","","","","","","","","","","","","","","","","","","","","","","","","","","","","","","","","","","","","","","","","","","","","","",{"$f":"IFERROR(AVERAGE(EB43,EB53),\"\")","v":""},"","","","","","","","","","","","","","","","","","","","","","","","","","","","","","","","","","","","","","","","","","","","","","","","","","","","","","","","","","","","","","","",{"$f":"IFERROR(AVERAGE(GN43,GN53),\"\")","v":""},"","","","","","","","","","","","","","","","","","","","","","","","","","","","","","","","","","","","","","","","","","","","","","","","","","","","","","","","","","","","","","","",{"$f":"IFERROR(AVERAGE(IZ43,IZ53),\"\")","v":""},"","","","","","","","","","","","","","","","","","","","","","","","","","","","","","","","","","","","","","","","","","","","","","","","","","","","","","","","","",""]
["Post","Comlete? (2=Complete, 1=Partial, 0=Not Started)",null,{"$f":"IF(COUNTIF(D39:D69,\">0\")>=LISTS!$B$11,\"Complete\",IF(COUNTIF(D39:D69,\">0\")>0,\"Partial\",\"\"))","v":""},{"$f":"IF(COUNTIF(E39:E69,\">0\")>=LISTS!$B$11,\"Complete\",IF(COUNTIF(E39:E69,\">0\")>0,\"Partial\",\"\"))","v":""},{"$f":"IF(COUNTIF(F39:F69,\">0\")>=LISTS!$B$11,\"Complete\",IF(COUNTIF(F39:F69,\">0\")>0,\"Partial\",\"\"))","v":""},{"$f":"IF(COUNTIF(G39:G69,\">0\")>=LISTS!$B$11,\"Complete\",IF(COUNTIF(G39:G69,\">0\")>0,\"Partial\",\"\"))","v":""},{"$f":"IF(COUNTIF(H39:H69,\">0\")>=LISTS!$B$11,\"Complete\",IF(COUNTIF(H39:H69,\">0\")>0,\"Partial\",\"\"))","v":""},{"$f":"IF(COUNTIF(I39:I69,\">0\")>=LISTS!$B$11,\"Complete\",IF(COUNTIF(I39:I69,\">0\")>0,\"Partial\",\"\"))","v":""},{"$f":"IF(COUNTIF(J39:J69,\">0\")>=LISTS!$B$11,\"Complete\",IF(COUNTIF(J39:J69,\">0\")>0,\"Partial\",\"\"))","v":""},{"$f":"IF(COUNTIF(K39:K69,\">0\")>=LISTS!$B$11,\"Complete\",IF(COUNTIF(K39:K69,\">0\")>0,\"Partial\",\"\"))","v":""},{"$f":"IF(COUNTIF(L39:L69,\">0\")>=LISTS!$B$11,\"Complete\",IF(COUNTIF(L39:L69,\">0\")>0,\"Partial\",\"\"))","v":""},{"$f":"IF(COUNTIF(M39:M69,\">0\")>=LISTS!$B$11,\"Complete\",IF(COUNTIF(M39:M69,\">0\")>0,\"Partial\",\"\"))","v":""},{"$f":"IF(COUNTIF(N39:N69,\">0\")>=LISTS!$B$11,\"Complete\",IF(COUNTIF(N39:N69,\">0\")>0,\"Partial\",\"\"))","v":""},{"$f":"IF(COUNTIF(O39:O69,\">0\")>=LISTS!$B$11,\"Complete\",IF(COUNTIF(O39:O69,\">0\")>0,\"Partial\",\"\"))","v":""},{"$f":"IF(COUNTIF(P39:P69,\">0\")>=LISTS!$B$11,\"Complete\",IF(COUNTIF(P39:P69,\">0\")>0,\"Partial\",\"\"))","v":""},{"$f":"IF(COUNTIF(Q39:Q69,\">0\")>=LISTS!$B$11,\"Complete\",IF(COUNTIF(Q39:Q69,\">0\")>0,\"Partial\",\"\"))","v":""},{"$f":"IF(COUNTIF(R39:R69,\">0\")>=LISTS!$B$11,\"Complete\",IF(COUNTIF(R39:R69,\">0\")>0,\"Partial\",\"\"))","v":""},{"$f":"IF(COUNTIF(S39:S69,\">0\")>=LISTS!$B$11,\"Complete\",IF(COUNTIF(S39:S69,\">0\")>0,\"Partial\",\"\"))","v":""},{"$f":"IF(COUNTIF(T39:T69,\">0\")>=LISTS!$B$11,\"Complete\",IF(COUNTIF(T39:T69,\">0\")>0,\"Partial\",\"\"))","v":""},{"$f":"IF(COUNTIF(U39:U69,\">0\")>=LISTS!$B$11,\"Complete\",IF(COUNTIF(U39:U69,\">0\")>0,\"Partial\",\"\"))","v":""},{"$f":"IF(COUNTIF(V39:V69,\">0\")>=LISTS!$B$11,\"Complete\",IF(COUNTIF(V39:V69,\">0\")>0,\"Partial\",\"\"))","v":""},{"$f":"IF(COUNTIF(W39:W69,\">0\")>=LISTS!$B$11,\"Complete\",IF(COUNTIF(W39:W69,\">0\")>0,\"Partial\",\"\"))","v":""},{"$f":"IF(COUNTIF(X39:X69,\">0\")>=LISTS!$B$11,\"Complete\",IF(COUNTIF(X39:X69,\">0\")>0,\"Partial\",\"\"))","v":""},{"$f":"IF(COUNTIF(Y39:Y69,\">0\")>=LISTS!$B$11,\"Complete\",IF(COUNTIF(Y39:Y69,\">0\")>0,\"Partial\",\"\"))","v":""},{"$f":"IF(COUNTIF(Z39:Z69,\">0\")>=LISTS!$B$11,\"Complete\",IF(COUNTIF(Z39:Z69,\">0\")>0,\"Partial\",\"\"))","v":""},{"$f":"IF(COUNTIF(AA39:AA69,\">0\")>=LISTS!$B$11,\"Complete\",IF(COUNTIF(AA39:AA69,\">0\")>0,\"Partial\",\"\"))","v":""},{"$f":"IF(COUNTIF(AB39:AB69,\">0\")>=LISTS!$B$11,\"Complete\",IF(COUNTIF(AB39:AB69,\">0\")>0,\"Partial\",\"\"))","v":""},{"$f":"IF(COUNTIF(AC39:AC69,\">0\")>=LISTS!$B$11,\"Complete\",IF(COUNTIF(AC39:AC69,\">0\")>0,\"Partial\",\"\"))","v":""},{"$f":"IF(COUNTIF(AD39:AD69,\">0\")>=LISTS!$B$11,\"Complete\",IF(COUNTIF(AD39:AD69,\">0\")>0,\"Partial\",\"\"))","v":""},{"$f":"IF(COUNTIF(AE39:AE69,\">0\")>=LISTS!$B$11,\"Complete\",IF(COUNTIF(AE39:AE69,\">0\")>0,\"Partial\",\"\"))","v":""},{"$f":"IF(COUNTIF(AF39:AF69,\">0\")>=LISTS!$B$11,\"Complete\",IF(COUNTIF(AF39:AF69,\">0\")>0,\"Partial\",\"\"))","v":""},{"$f":"IF(COUNTIF(AG39:AG69,\">0\")>=LISTS!$B$11,\"Complete\",IF(COUNTIF(AG39:AG69,\">0\")>0,\"Partial\",\"\"))","v":""},{"$f":"IF(COUNTIF(AH39:AH69,\">0\")>=LISTS!$B$11,\"Complete\",IF(COUNTIF(AH39:AH69,\">0\")>0,\"Partial\",\"\"))","v":""},{"$f":"IF(COUNTIF(AI39:AI69,\">0\")>=LISTS!$B$11,\"Complete\",IF(COUNTIF(AI39:AI69,\">0\")>0,\"Partial\",\"\"))","v":""},{"$f":"IF(COUNTIF(AJ39:AJ69,\">0\")>=LISTS!$B$11,\"Complete\",IF(COUNTIF(AJ39:AJ69,\">0\")>0,\"Partial\",\"\"))","v":""},{"$f":"IF(COUNTIF(AK39:AK69,\">0\")>=LISTS!$B$11,\"Complete\",IF(COUNTIF(AK39:AK69,\">0\")>0,\"Partial\",\"\"))","v":""},{"$f":"IF(COUNTIF(AL39:AL69,\">0\")>=LISTS!$B$11,\"Complete\",IF(COUNTIF(AL39:AL69,\">0\")>0,\"Partial\",\"\"))","v":""},{"$f":"IF(COUNTIF(AM39:AM69,\">0\")>=LISTS!$B$11,\"Complete\",IF(COUNTIF(AM39:AM69,\">0\")>0,\"Partial\",\"\"))","v":""},{"$f":"IF(COUNTIF(AN39:AN69,\">0\")>=LISTS!$B$11,\"Complete\",IF(COUNTIF(AN39:AN69,\">0\")>0,\"Partial\",\"\"))","v":""},{"$f":"IF(COUNTIF(AO39:AO69,\">0\")>=LISTS!$B$11,\"Complete\",IF(COUNTIF(AO39:AO69,\">0\")>0,\"Partial\",\"\"))","v":""},{"$f":"IF(COUNTIF(AP39:AP69,\">0\")>=LISTS!$B$11,\"Complete\",IF(COUNTIF(AP39:AP69,\">0\")>0,\"Partial\",\"\"))","v":""},{"$f":"IF(COUNTIF(AQ39:AQ69,\">0\")>=LISTS!$B$11,\"Complete\",IF(COUNTIF(AQ39:AQ69,\">0\")>0,\"Partial\",\"\"))","v":""},{"$f":"IF(COUNTIF(AR39:AR69,\">0\")>=LISTS!$B$11,\"Complete\",IF(COUNTIF(AR39:AR69,\">0\")>0,\"Partial\",\"\"))","v":""},{"$f":"IF(COUNTIF(AS39:AS69,\">0\")>=LISTS!$B$11,\"Complete\",IF(COUNTIF(AS39:AS69,\">0\")>0,\"Partial\",\"\"))","v":""},{"$f":"IF(COUNTIF(AT39:AT69,\">0\")>=LISTS!$B$11,\"Complete\",IF(COUNTIF(AT39:AT69,\">0\")>0,\"Partial\",\"\"))","v":""},{"$f":"IF(COUNTIF(AU39:AU69,\">0\")>=LISTS!$B$11,\"Complete\",IF(COUNTIF(AU39:AU69,\">0\")>0,\"Partial\",\"\"))","v":""},{"$f":"IF(COUNTIF(AV39:AV69,\">0\")>=LISTS!$B$11,\"Complete\",IF(COUNTIF(AV39:AV69,\">0\")>0,\"Partial\",\"\"))","v":""},{"$f":"IF(COUNTIF(AW39:AW69,\">0\")>=LISTS!$B$11,\"Complete\",IF(COUNTIF(AW39:AW69,\">0\")>0,\"Partial\",\"\"))","v":""},{"$f":"IF(COUNTIF(AX39:AX69,\">0\")>=LISTS!$B$11,\"Complete\",IF(COUNTIF(AX39:AX69,\">0\")>0,\"Partial\",\"\"))","v":""},{"$f":"IF(COUNTIF(AY39:AY69,\">0\")>=LISTS!$B$11,\"Complete\",IF(COUNTIF(AY39:AY69,\">0\")>0,\"Partial\",\"\"))","v":""},{"$f":"IF(COUNTIF(AZ39:AZ69,\">0\")>=LISTS!$B$11,\"Complete\",IF(COUNTIF(AZ39:AZ69,\">0\")>0,\"Partial\",\"\"))","v":""},{"$f":"IF(COUNTIF(BA39:BA69,\">0\")>=LISTS!$B$11,\"Complete\",IF(COUNTIF(BA39:BA69,\">0\")>0,\"Partial\",\"\"))","v":""},{"$f":"IF(COUNTIF(BB39:BB69,\">0\")>=LISTS!$B$11,\"Complete\",IF(COUNTIF(BB39:BB69,\">0\")>0,\"Partial\",\"\"))","v":""},{"$f":"IF(COUNTIF(BC39:BC69,\">0\")>=LISTS!$B$11,\"Complete\",IF(COUNTIF(BC39:BC69,\">0\")>0,\"Partial\",\"\"))","v":""},{"$f":"IF(COUNTIF(BD39:BD69,\">0\")>=LISTS!$B$11,\"Complete\",IF(COUNTIF(BD39:BD69,\">0\")>0,\"Partial\",\"\"))","v":""},{"$f":"IF(COUNTIF(BE39:BE69,\">0\")>=LISTS!$B$11,\"Complete\",IF(COUNTIF(BE39:BE69,\">0\")>0,\"Partial\",\"\"))","v":""},{"$f":"IF(COUNTIF(BF39:BF69,\">0\")>=LISTS!$B$11,\"Complete\",IF(COUNTIF(BF39:BF69,\">0\")>0,\"Partial\",\"\"))","v":""},{"$f":"IF(COUNTIF(BG39:BG69,\">0\")>=LISTS!$B$11,\"Complete\",IF(COUNTIF(BG39:BG69,\">0\")>0,\"Partial\",\"\"))","v":""},{"$f":"IF(COUNTIF(BH39:BH69,\">0\")>=LISTS!$B$11,\"Complete\",IF(COUNTIF(BH39:BH69,\">0\")>0,\"Partial\",\"\"))","v":""},{"$f":"IF(COUNTIF(BI39:BI69,\">0\")>=LISTS!$B$11,\"Complete\",IF(COUNTIF(BI39:BI69,\">0\")>0,\"Partial\",\"\"))","v":""},{"$f":"IF(COUNTIF(BJ39:BJ69,\">0\")>=LISTS!$B$11,\"Complete\",IF(COUNTIF(BJ39:BJ69,\">0\")>0,\"Partial\",\"\"))","v":""},{"$f":"IF(COUNTIF(BK39:BK69,\">0\")>=LISTS!$B$11,\"Complete\",IF(COUNTIF(BK39:BK69,\">0\")>0,\"Partial\",\"\"))","v":""},{"$f":"IF(COUNTIF(BL39:BL69,\">0\")>=LISTS!$B$11,\"Complete\",IF(COUNTIF(BL39:BL69,\">0\")>0,\"Partial\",\"\"))","v":""},{"$f":"IF(COUNTIF(BM39:BM69,\">0\")>=LISTS!$B$11,\"Complete\",IF(COUNTIF(BM39:BM69,\">0\")>0,\"Partial\",\"\"))","v":""},{"$f":"IF(COUNTIF(BN39:BN69,\">0\")>=LISTS!$B$11,\"Complete\",IF(COUNTIF(BN39:BN69,\">0\")>0,\"Partial\",\"\"))","v":""},{"$f":"IF(COUNTIF(BO39:BO69,\">0\")>=LISTS!$B$11,\"Complete\",IF(COUNTIF(BO39:BO69,\">0\")>0,\"Partial\",\"\"))","v":""},{"$f":"IF(COUNTIF(BP39:BP69,\">0\")>=LISTS!$B$11,\"Complete\",IF(COUNTIF(BP39:BP69,\">0\")>0,\"Partial\",\"\"))","v":""},{"$f":"IF(COUNTIF(BQ39:BQ69,\">0\")>=LISTS!$B$11,\"Complete\",IF(COUNTIF(BQ39:BQ69,\">0\")>0,\"Partial\",\"\"))","v":""},{"$f":"IF(COUNTIF(BR39:BR69,\">0\")>=LISTS!$B$11,\"Complete\",IF(COUNTIF(BR39:BR69,\">0\")>0,\"Partial\",\"\"))","v":""},{"$f":"IF(COUNTIF(BS39:BS69,\">0\")>=LISTS!$B$11,\"Complete\",IF(COUNTIF(BS39:BS69,\">0\")>0,\"Partial\",\"\"))","v":""},{"$f":"IF(COUNTIF(BT39:BT69,\">0\")>=LISTS!$B$11,\"Complete\",IF(COUNTIF(BT39:BT69,\">0\")>0,\"Partial\",\"\"))","v":""},{"$f":"IF(COUNTIF(BU39:BU69,\">0\")>=LISTS!$B$11,\"Complete\",IF(COUNTIF(BU39:BU69,\">0\")>0,\"Partial\",\"\"))","v":""},{"$f":"IF(COUNTIF(BV39:BV69,\">0\")>=LISTS!$B$11,\"Complete\",IF(COUNTIF(BV39:BV69,\">0\")>0,\"Partial\",\"\"))","v":""},{"$f":"IF(COUNTIF(BW39:BW69,\">0\")>=LISTS!$B$11,\"Complete\",IF(COUNTIF(BW39:BW69,\">0\")>0,\"Partial\",\"\"))","v":""},{"$f":"IF(COUNTIF(BX39:BX69,\">0\")>=LISTS!$B$11,\"Complete\",IF(COUNTIF(BX39:BX69,\">0\")>0,\"Partial\",\"\"))","v":""},{"$f":"IF(COUNTIF(BY39:BY69,\">0\")>=LISTS!$B$11,\"Complete\",IF(COUNTIF(BY39:BY69,\">0\")>0,\"Partial\",\"\"))","v":""},{"$f":"IF(COUNTIF(BZ39:BZ69,\">0\")>=LISTS!$B$11,\"Complete\",IF(COUNTIF(BZ39:BZ69,\">0\")>0,\"Partial\",\"\"))","v":""},{"$f":"IF(COUNTIF(CA39:CA69,\">0\")>=LISTS!$B$11,\"Complete\",IF(COUNTIF(CA39:CA69,\">0\")>0,\"Partial\",\"\"))","v":""},{"$f":"IF(COUNTIF(CB39:CB69,\">0\")>=LISTS!$B$11,\"Complete\",IF(COUNTIF(CB39:CB69,\">0\")>0,\"Partial\",\"\"))","v":""},{"$f":"IF(COUNTIF(CC39:CC69,\">0\")>=LISTS!$B$11,\"Complete\",IF(COUNTIF(CC39:CC69,\">0\")>0,\"Partial\",\"\"))","v":""},{"$f":"IF(COUNTIF(CD39:CD69,\">0\")>=LISTS!$B$11,\"Complete\",IF(COUNTIF(CD39:CD69,\">0\")>0,\"Partial\",\"\"))","v":""},{"$f":"IF(COUNTIF(CE39:CE69,\">0\")>=LISTS!$B$11,\"Complete\",IF(COUNTIF(CE39:CE69,\">0\")>0,\"Partial\",\"\"))","v":""},{"$f":"IF(COUNTIF(CF39:CF69,\">0\")>=LISTS!$B$11,\"Complete\",IF(COUNTIF(CF39:CF69,\">0\")>0,\"Partial\",\"\"))","v":""},{"$f":"IF(COUNTIF(CG39:CG69,\">0\")>=LISTS!$B$11,\"Complete\",IF(COUNTIF(CG39:CG69,\">0\")>0,\"Partial\",\"\"))","v":""},{"$f":"IF(COUNTIF(CH39:CH69,\">0\")>=LISTS!$B$11,\"Complete\",IF(COUNTIF(CH39:CH69,\">0\")>0,\"Partial\",\"\"))","v":""},{"$f":"IF(COUNTIF(CI39:CI69,\">0\")>=LISTS!$B$11,\"Complete\",IF(COUNTIF(CI39:CI69,\">0\")>0,\"Partial\",\"\"))","v":""},{"$f":"IF(COUNTIF(CJ39:CJ69,\">0\")>=LISTS!$B$11,\"Complete\",IF(COUNTIF(CJ39:CJ69,\">0\")>0,\"Partial\",\"\"))","v":""},{"$f":"IF(COUNTIF(CK39:CK69,\">0\")>=LISTS!$B$11,\"Complete\",IF(COUNTIF(CK39:CK69,\">0\")>0,\"Partial\",\"\"))","v":""},{"$f":"IF(COUNTIF(CL39:CL69,\">0\")>=LISTS!$B$11,\"Complete\",IF(COUNTIF(CL39:CL69,\">0\")>0,\"Partial\",\"\"))","v":""},{"$f":"IF(COUNTIF(CM39:CM69,\">0\")>=LISTS!$B$11,\"Complete\",IF(COUNTIF(CM39:CM69,\">0\")>0,\"Partial\",\"\"))","v":""},{"$f":"IF(COUNTIF(CN39:CN69,\">0\")>=LISTS!$B$11,\"Complete\",IF(COUNTIF(CN39:CN69,\">0\")>0,\"Partial\",\"\"))","v":""},{"$f":"IF(COUNTIF(CO39:CO69,\">0\")>=LISTS!$B$11,\"Complete\",IF(COUNTIF(CO39:CO69,\">0\")>0,\"Partial\",\"\"))","v":""},{"$f":"IF(COUNTIF(CP39:CP69,\">0\")>=LISTS!$B$11,\"Complete\",IF(COUNTIF(CP39:CP69,\">0\")>0,\"Partial\",\"\"))","v":""},{"$f":"IF(COUNTIF(CQ39:CQ69,\">0\")>=LISTS!$B$11,\"Complete\",IF(COUNTIF(CQ39:CQ69,\">0\")>0,\"Partial\",\"\"))","v":""},{"$f":"IF(COUNTIF(CR39:CR69,\">0\")>=LISTS!$B$11,\"Complete\",IF(COUNTIF(CR39:CR69,\">0\")>0,\"Partial\",\"\"))","v":""},{"$f":"IF(COUNTIF(CS39:CS69,\">0\")>=LISTS!$B$11,\"Complete\",IF(COUNTIF(CS39:CS69,\">0\")>0,\"Partial\",\"\"))","v":""},{"$f":"IF(COUNTIF(CT39:CT69,\">0\")>=LISTS!$B$11,\"Complete\",IF(COUNTIF(CT39:CT69,\">0\")>0,\"Partial\",\"\"))","v":""},{"$f":"IF(COUNTIF(CU39:CU69,\">0\")>=LISTS!$B$11,\"Complete\",IF(COUNTIF(CU39:CU69,\">0\")>0,\"Partial\",\"\"))","v":""},{"$f":"IF(COUNTIF(CV39:CV69,\">0\")>=LISTS!$B$11,\"Complete\",IF(COUNTIF(CV39:CV69,\">0\")>0,\"Partial\",\"\"))","v":""},{"$f":"IF(COUNTIF(CW39:CW69,\">0\")>=LISTS!$B$11,\"Complete\",IF(COUNTIF(CW39:CW69,\">0\")>0,\"Partial\",\"\"))","v":""},{"$f":"IF(COUNTIF(CX39:CX69,\">0\")>=LISTS!$B$11,\"Complete\",IF(COUNTIF(CX39:CX69,\">0\")>0,\"Partial\",\"\"))","v":""},{"$f":"IF(COUNTIF(CY39:CY69,\">0\")>=LISTS!$B$11,\"Complete\",IF(COUNTIF(CY39:CY69,\">0\")>0,\"Partial\",\"\"))","v":""},{"$f":"IF(COUNTIF(CZ39:CZ69,\">0\")>=LISTS!$B$11,\"Complete\",IF(COUNTIF(CZ39:CZ69,\">0\")>0,\"Partial\",\"\"))","v":""},{"$f":"IF(COUNTIF(DA39:DA69,\">0\")>=LISTS!$B$11,\"Complete\",IF(COUNTIF(DA39:DA69,\">0\")>0,\"Partial\",\"\"))","v":""},{"$f":"IF(COUNTIF(DB39:DB69,\">0\")>=LISTS!$B$11,\"Complete\",IF(COUNTIF(DB39:DB69,\">0\")>0,\"Partial\",\"\"))","v":""},{"$f":"IF(COUNTIF(DC39:DC69,\">0\")>=LISTS!$B$11,\"Complete\",IF(COUNTIF(DC39:DC69,\">0\")>0,\"Partial\",\"\"))","v":""},{"$f":"IF(COUNTIF(DD39:DD69,\">0\")>=LISTS!$B$11,\"Complete\",IF(COUNTIF(DD39:DD69,\">0\")>0,\"Partial\",\"\"))","v":""},{"$f":"IF(COUNTIF(DE39:DE69,\">0\")>=LISTS!$B$11,\"Complete\",IF(COUNTIF(DE39:DE69,\">0\")>0,\"Partial\",\"\"))","v":""},{"$f":"IF(COUNTIF(DF39:DF69,\">0\")>=LISTS!$B$11,\"Complete\",IF(COUNTIF(DF39:DF69,\">0\")>0,\"Partial\",\"\"))","v":""},{"$f":"IF(COUNTIF(DG39:DG69,\">0\")>=LISTS!$B$11,\"Complete\",IF(COUNTIF(DG39:DG69,\">0\")>0,\"Partial\",\"\"))","v":""},{"$f":"IF(COUNTIF(DH39:DH69,\">0\")>=LISTS!$B$11,\"Complete\",IF(COUNTIF(DH39:DH69,\">0\")>0,\"Partial\",\"\"))","v":""},{"$f":"IF(COUNTIF(DI39:DI69,\">0\")>=LISTS!$B$11,\"Complete\",IF(COUNTIF(DI39:DI69,\">0\")>0,\"Partial\",\"\"))","v":""},{"$f":"IF(COUNTIF(DJ39:DJ69,\">0\")>=LISTS!$B$11,\"Complete\",IF(COUNTIF(DJ39:DJ69,\">0\")>0,\"Partial\",\"\"))","v":""},{"$f":"IF(COUNTIF(DK39:DK69,\">0\")>=LISTS!$B$11,\"Complete\",IF(COUNTIF(DK39:DK69,\">0\")>0,\"Partial\",\"\"))","v":""},{"$f":"IF(COUNTIF(DL39:DL69,\">0\")>=LISTS!$B$11,\"Complete\",IF(COUNTIF(DL39:DL69,\">0\")>0,\"Partial\",\"\"))","v":""},{"$f":"IF(COUNTIF(DM39:DM69,\">0\")>=LISTS!$B$11,\"Complete\",IF(COUNTIF(DM39:DM69,\">0\")>0,\"Partial\",\"\"))","v":""},{"$f":"IF(COUNTIF(DN39:DN69,\">0\")>=LISTS!$B$11,\"Complete\",IF(COUNTIF(DN39:DN69,\">0\")>0,\"Partial\",\"\"))","v":""},{"$f":"IF(COUNTIF(DO39:DO69,\">0\")>=LISTS!$B$11,\"Complete\",IF(COUNTIF(DO39:DO69,\">0\")>0,\"Partial\",\"\"))","v":""},{"$f":"IF(COUNTIF(DP39:DP69,\">0\")>=LISTS!$B$11,\"Complete\",IF(COUNTIF(DP39:DP69,\">0\")>0,\"Partial\",\"\"))","v":""},{"$f":"IF(COUNTIF(DQ39:DQ69,\">0\")>=LISTS!$B$11,\"Complete\",IF(COUNTIF(DQ39:DQ69,\">0\")>0,\"Partial\",\"\"))","v":""},{"$f":"IF(COUNTIF(DR39:DR69,\">0\")>=LISTS!$B$11,\"Complete\",IF(COUNTIF(DR39:DR69,\">0\")>0,\"Partial\",\"\"))","v":""},{"$f":"IF(COUNTIF(DS39:DS69,\">0\")>=LISTS!$B$11,\"Complete\",IF(COUNTIF(DS39:DS69,\">0\")>0,\"Partial\",\"\"))","v":""},{"$f":"IF(COUNTIF(DT39:DT69,\">0\")>=LISTS!$B$11,\"Complete\",IF(COUNTIF(DT39:DT69,\">0\")>0,\"Partial\",\"\"))","v":""},{"$f":"IF(COUNTIF(DU39:DU69,\">0\")>=LISTS!$B$11,\"Complete\",IF(COUNTIF(DU39:DU69,\">0\")>0,\"Partial\",\"\"))","v":""},{"$f":"IF(COUNTIF(DV39:DV69,\">0\")>=LISTS!$B$11,\"Complete\",IF(COUNTIF(DV39:DV69,\">0\")>0,\"Partial\",\"\"))","v":""},{"$f":"IF(COUNTIF(DW39:DW69,\">0\")>=LISTS!$B$11,\"Complete\",IF(COUNTIF(DW39:DW69,\">0\")>0,\"Partial\",\"\"))","v":""},{"$f":"IF(COUNTIF(DX39:DX69,\">0\")>=LISTS!$B$11,\"Complete\",IF(COUNTIF(DX39:DX69,\">0\")>0,\"Partial\",\"\"))","v":""},{"$f":"IF(COUNTIF(DY39:DY69,\">0\")>=LISTS!$B$11,\"Complete\",IF(COUNTIF(DY39:DY69,\">0\")>0,\"Partial\",\"\"))","v":""},{"$f":"IF(COUNTIF(DZ39:DZ69,\">0\")>=LISTS!$B$11,\"Complete\",IF(COUNTIF(DZ39:DZ69,\">0\")>0,\"Partial\",\"\"))","v":""},{"$f":"IF(COUNTIF(EA39:EA69,\">0\")>=LISTS!$B$11,\"Complete\",IF(COUNTIF(EA39:EA69,\">0\")>0,\"Partial\",\"\"))","v":""},{"$f":"IF(COUNTIF(EB39:EB69,\">0\")>=LISTS!$B$11,\"Complete\",IF(COUNTIF(EB39:EB69,\">0\")>0,\"Partial\",\"\"))","v":""},{"$f":"IF(COUNTIF(EC39:EC69,\">0\")>=LISTS!$B$11,\"Complete\",IF(COUNTIF(EC39:EC69,\">0\")>0,\"Partial\",\"\"))","v":""},{"$f":"IF(COUNTIF(ED39:ED69,\">0\")>=LISTS!$B$11,\"Complete\",IF(COUNTIF(ED39:ED69,\">0\")>0,\"Partial\",\"\"))","v":""},{"$f":"IF(COUNTIF(EE39:EE69,\">0\")>=LISTS!$B$11,\"Complete\",IF(COUNTIF(EE39:EE69,\">0\")>0,\"Partial\",\"\"))","v":""},{"$f":"IF(COUNTIF(EF39:EF69,\">0\")>=LISTS!$B$11,\"Complete\",IF(COUNTIF(EF39:EF69,\">0\")>0,\"Partial\",\"\"))","v":""},{"$f":"IF(COUNTIF(EG39:EG69,\">0\")>=LISTS!$B$11,\"Complete\",IF(COUNTIF(EG39:EG69,\">0\")>0,\"Partial\",\"\"))","v":""},{"$f":"IF(COUNTIF(EH39:EH69,\">0\")>=LISTS!$B$11,\"Complete\",IF(COUNTIF(EH39:EH69,\">0\")>0,\"Partial\",\"\"))","v":""},{"$f":"IF(COUNTIF(EI39:EI69,\">0\")>=LISTS!$B$11,\"Complete\",IF(COUNTIF(EI39:EI69,\">0\")>0,\"Partial\",\"\"))","v":""},{"$f":"IF(COUNTIF(EJ39:EJ69,\">0\")>=LISTS!$B$11,\"Complete\",IF(COUNTIF(EJ39:EJ69,\">0\")>0,\"Partial\",\"\"))","v":""},{"$f":"IF(COUNTIF(EK39:EK69,\">0\")>=LISTS!$B$11,\"Complete\",IF(COUNTIF(EK39:EK69,\">0\")>0,\"Partial\",\"\"))","v":""},{"$f":"IF(COUNTIF(EL39:EL69,\">0\")>=LISTS!$B$11,\"Complete\",IF(COUNTIF(EL39:EL69,\">0\")>0,\"Partial\",\"\"))","v":""},{"$f":"IF(COUNTIF(EM39:EM69,\">0\")>=LISTS!$B$11,\"Complete\",IF(COUNTIF(EM39:EM69,\">0\")>0,\"Partial\",\"\"))","v":""},{"$f":"IF(COUNTIF(EN39:EN69,\">0\")>=LISTS!$B$11,\"Complete\",IF(COUNTIF(EN39:EN69,\">0\")>0,\"Partial\",\"\"))","v":""},{"$f":"IF(COUNTIF(EO39:EO69,\">0\")>=LISTS!$B$11,\"Complete\",IF(COUNTIF(EO39:EO69,\">0\")>0,\"Partial\",\"\"))","v":""},{"$f":"IF(COUNTIF(EP39:EP69,\">0\")>=LISTS!$B$11,\"Complete\",IF(COUNTIF(EP39:EP69,\">0\")>0,\"Partial\",\"\"))","v":""},{"$f":"IF(COUNTIF(EQ39:EQ69,\">0\")>=LISTS!$B$11,\"Complete\",IF(COUNTIF(EQ39:EQ69,\">0\")>0,\"Partial\",\"\"))","v":""},{"$f":"IF(COUNTIF(ER39:ER69,\">0\")>=LISTS!$B$11,\"Complete\",IF(COUNTIF(ER39:ER69,\">0\")>0,\"Partial\",\"\"))","v":""},{"$f":"IF(COUNTIF(ES39:ES69,\">0\")>=LISTS!$B$11,\"Complete\",IF(COUNTIF(ES39:ES69,\">0\")>0,\"Partial\",\"\"))","v":""},{"$f":"IF(COUNTIF(ET39:ET69,\">0\")>=LISTS!$B$11,\"Complete\",IF(COUNTIF(ET39:ET69,\">0\")>0,\"Partial\",\"\"))","v":""},{"$f":"IF(COUNTIF(EU39:EU69,\">0\")>=LISTS!$B$11,\"Complete\",IF(COUNTIF(EU39:EU69,\">0\")>0,\"Partial\",\"\"))","v":""},{"$f":"IF(COUNTIF(EV39:EV69,\">0\")>=LISTS!$B$11,\"Complete\",IF(COUNTIF(EV39:EV69,\">0\")>0,\"Partial\",\"\"))","v":""},{"$f":"IF(COUNTIF(EW39:EW69,\">0\")>=LISTS!$B$11,\"Complete\",IF(COUNTIF(EW39:EW69,\">0\")>0,\"Partial\",\"\"))","v":""},{"$f":"IF(COUNTIF(EX39:EX69,\">0\")>=LISTS!$B$11,\"Complete\",IF(COUNTIF(EX39:EX69,\">0\")>0,\"Partial\",\"\"))","v":""},{"$f":"IF(COUNTIF(EY39:EY69,\">0\")>=LISTS!$B$11,\"Complete\",IF(COUNTIF(EY39:EY69,\">0\")>0,\"Partial\",\"\"))","v":""},{"$f":"IF(COUNTIF(EZ39:EZ69,\">0\")>=LISTS!$B$11,\"Complete\",IF(COUNTIF(EZ39:EZ69,\">0\")>0,\"Partial\",\"\"))","v":""},{"$f":"IF(COUNTIF(FA39:FA69,\">0\")>=LISTS!$B$11,\"Complete\",IF(COUNTIF(FA39:FA69,\">0\")>0,\"Partial\",\"\"))","v":""},{"$f":"IF(COUNTIF(FB39:FB69,\">0\")>=LISTS!$B$11,\"Complete\",IF(COUNTIF(FB39:FB69,\">0\")>0,\"Partial\",\"\"))","v":""},{"$f":"IF(COUNTIF(FC39:FC69,\">0\")>=LISTS!$B$11,\"Complete\",IF(COUNTIF(FC39:FC69,\">0\")>0,\"Partial\",\"\"))","v":""},{"$f":"IF(COUNTIF(FD39:FD69,\">0\")>=LISTS!$B$11,\"Complete\",IF(COUNTIF(FD39:FD69,\">0\")>0,\"Partial\",\"\"))","v":""},{"$f":"IF(COUNTIF(FE39:FE69,\">0\")>=LISTS!$B$11,\"Complete\",IF(COUNTIF(FE39:FE69,\">0\")>0,\"Partial\",\"\"))","v":""},{"$f":"IF(COUNTIF(FF39:FF69,\">0\")>=LISTS!$B$11,\"Complete\",IF(COUNTIF(FF39:FF69,\">0\")>0,\"Partial\",\"\"))","v":""},{"$f":"IF(COUNTIF(FG39:FG69,\">0\")>=LISTS!$B$11,\"Complete\",IF(COUNTIF(FG39:FG69,\">0\")>0,\"Partial\",\"\"))","v":""},{"$f":"IF(COUNTIF(FH39:FH69,\">0\")>=LISTS!$B$11,\"Complete\",IF(COUNTIF(FH39:FH69,\">0\")>0,\"Partial\",\"\"))","v":""},{"$f":"IF(COUNTIF(FI39:FI69,\">0\")>=LISTS!$B$11,\"Complete\",IF(COUNTIF(FI39:FI69,\">0\")>0,\"Partial\",\"\"))","v":""},{"$f":"IF(COUNTIF(FJ39:FJ69,\">0\")>=LISTS!$B$11,\"Complete\",IF(COUNTIF(FJ39:FJ69,\">0\")>0,\"Partial\",\"\"))","v":""},{"$f":"IF(COUNTIF(FK39:FK69,\">0\")>=LISTS!$B$11,\"Complete\",IF(COUNTIF(FK39:FK69,\">0\")>0,\"Partial\",\"\"))","v":""},{"$f":"IF(COUNTIF(FL39:FL69,\">0\")>=LISTS!$B$11,\"Complete\",IF(COUNTIF(FL39:FL69,\">0\")>0,\"Partial\",\"\"))","v":""},{"$f":"IF(COUNTIF(FM39:FM69,\">0\")>=LISTS!$B$11,\"Complete\",IF(COUNTIF(FM39:FM69,\">0\")>0,\"Partial\",\"\"))","v":""},{"$f":"IF(COUNTIF(FN39:FN69,\">0\")>=LISTS!$B$11,\"Complete\",IF(COUNTIF(FN39:FN69,\">0\")>0,\"Partial\",\"\"))","v":""},{"$f":"IF(COUNTIF(FO39:FO69,\">0\")>=LISTS!$B$11,\"Complete\",IF(COUNTIF(FO39:FO69,\">0\")>0,\"Partial\",\"\"))","v":""},{"$f":"IF(COUNTIF(FP39:FP69,\">0\")>=LISTS!$B$11,\"Complete\",IF(COUNTIF(FP39:FP69,\">0\")>0,\"Partial\",\"\"))","v":""},{"$f":"IF(COUNTIF(FQ39:FQ69,\">0\")>=LISTS!$B$11,\"Complete\",IF(COUNTIF(FQ39:FQ69,\">0\")>0,\"Partial\",\"\"))","v":""},{"$f":"IF(COUNTIF(FR39:FR69,\">0\")>=LISTS!$B$11,\"Complete\",IF(COUNTIF(FR39:FR69,\">0\")>0,\"Partial\",\"\"))","v":""},{"$f":"IF(COUNTIF(FS39:FS69,\">0\")>=LISTS!$B$11,\"Complete\",IF(COUNTIF(FS39:FS69,\">0\")>0,\"Partial\",\"\"))","v":""},{"$f":"IF(COUNTIF(FT39:FT69,\">0\")>=LISTS!$B$11,\"Complete\",IF(COUNTIF(FT39:FT69,\">0\")>0,\"Partial\",\"\"))","v":""},{"$f":"IF(COUNTIF(FU39:FU69,\">0\")>=LISTS!$B$11,\"Complete\",IF(COUNTIF(FU39:FU69,\">0\")>0,\"Partial\",\"\"))","v":""},{"$f":"IF(COUNTIF(FV39:FV69,\">0\")>=LISTS!$B$11,\"Complete\",IF(COUNTIF(FV39:FV69,\">0\")>0,\"Partial\",\"\"))","v":""},{"$f":"IF(COUNTIF(FW39:FW69,\">0\")>=LISTS!$B$11,\"Complete\",IF(COUNTIF(FW39:FW69,\">0\")>0,\"Partial\",\"\"))","v":""},{"$f":"IF(COUNTIF(FX39:FX69,\">0\")>=LISTS!$B$11,\"Complete\",IF(COUNTIF(FX39:FX69,\">0\")>0,\"Partial\",\"\"))","v":""},{"$f":"IF(COUNTIF(FY39:FY69,\">0\")>=LISTS!$B$11,\"Complete\",IF(COUNTIF(FY39:FY69,\">0\")>0,\"Partial\",\"\"))","v":""},{"$f":"IF(COUNTIF(FZ39:FZ69,\">0\")>=LISTS!$B$11,\"Complete\",IF(COUNTIF(FZ39:FZ69,\">0\")>0,\"Partial\",\"\"))","v":""},{"$f":"IF(COUNTIF(GA39:GA69,\">0\")>=LISTS!$B$11,\"Complete\",IF(COUNTIF(GA39:GA69,\">0\")>0,\"Partial\",\"\"))","v":""},{"$f":"IF(COUNTIF(GB39:GB69,\">0\")>=LISTS!$B$11,\"Complete\",IF(COUNTIF(GB39:GB69,\">0\")>0,\"Partial\",\"\"))","v":""},{"$f":"IF(COUNTIF(GC39:GC69,\">0\")>=LISTS!$B$11,\"Complete\",IF(COUNTIF(GC39:GC69,\">0\")>0,\"Partial\",\"\"))","v":""},{"$f":"IF(COUNTIF(GD39:GD69,\">0\")>=LISTS!$B$11,\"Complete\",IF(COUNTIF(GD39:GD69,\">0\")>0,\"Partial\",\"\"))","v":""},{"$f":"IF(COUNTIF(GE39:GE69,\">0\")>=LISTS!$B$11,\"Complete\",IF(COUNTIF(GE39:GE69,\">0\")>0,\"Partial\",\"\"))","v":""},{"$f":"IF(COUNTIF(GF39:GF69,\">0\")>=LISTS!$B$11,\"Complete\",IF(COUNTIF(GF39:GF69,\">0\")>0,\"Partial\",\"\"))","v":""},{"$f":"IF(COUNTIF(GG39:GG69,\">0\")>=LISTS!$B$11,\"Complete\",IF(COUNTIF(GG39:GG69,\">0\")>0,\"Partial\",\"\"))","v":""},{"$f":"IF(COUNTIF(GH39:GH69,\">0\")>=LISTS!$B$11,\"Complete\",IF(COUNTIF(GH39:GH69,\">0\")>0,\"Partial\",\"\"))","v":""},{"$f":"IF(COUNTIF(GI39:GI69,\">0\")>=LISTS!$B$11,\"Complete\",IF(COUNTIF(GI39:GI69,\">0\")>0,\"Partial\",\"\"))","v":""},{"$f":"IF(COUNTIF(GJ39:GJ69,\">0\")>=LISTS!$B$11,\"Complete\",IF(COUNTIF(GJ39:GJ69,\">0\")>0,\"Partial\",\"\"))","v":""},{"$f":"IF(COUNTIF(GK39:GK69,\">0\")>=LISTS!$B$11,\"Complete\",IF(COUNTIF(GK39:GK69,\">0\")>0,\"Partial\",\"\"))","v":""},{"$f":"IF(COUNTIF(GL39:GL69,\">0\")>=LISTS!$B$11,\"Complete\",IF(COUNTIF(GL39:GL69,\">0\")>0,\"Partial\",\"\"))","v":""},{"$f":"IF(COUNTIF(GM39:GM69,\">0\")>=LISTS!$B$11,\"Complete\",IF(COUNTIF(GM39:GM69,\">0\")>0,\"Partial\",\"\"))","v":""},{"$f":"IF(COUNTIF(GN39:GN69,\">0\")>=LISTS!$B$11,\"Complete\",IF(COUNTIF(GN39:GN69,\">0\")>0,\"Partial\",\"\"))","v":""},{"$f":"IF(COUNTIF(GO39:GO69,\">0\")>=LISTS!$B$11,\"Complete\",IF(COUNTIF(GO39:GO69,\">0\")>0,\"Partial\",\"\"))","v":""},{"$f":"IF(COUNTIF(GP39:GP69,\">0\")>=LISTS!$B$11,\"Complete\",IF(COUNTIF(GP39:GP69,\">0\")>0,\"Partial\",\"\"))","v":""},{"$f":"IF(COUNTIF(GQ39:GQ69,\">0\")>=LISTS!$B$11,\"Complete\",IF(COUNTIF(GQ39:GQ69,\">0\")>0,\"Partial\",\"\"))","v":""},{"$f":"IF(COUNTIF(GR39:GR69,\">0\")>=LISTS!$B$11,\"Complete\",IF(COUNTIF(GR39:GR69,\">0\")>0,\"Partial\",\"\"))","v":""},{"$f":"IF(COUNTIF(GS39:GS69,\">0\")>=LISTS!$B$11,\"Complete\",IF(COUNTIF(GS39:GS69,\">0\")>0,\"Partial\",\"\"))","v":""},{"$f":"IF(COUNTIF(GT39:GT69,\">0\")>=LISTS!$B$11,\"Complete\",IF(COUNTIF(GT39:GT69,\">0\")>0,\"Partial\",\"\"))","v":""},{"$f":"IF(COUNTIF(GU39:GU69,\">0\")>=LISTS!$B$11,\"Complete\",IF(COUNTIF(GU39:GU69,\">0\")>0,\"Partial\",\"\"))","v":""},{"$f":"IF(COUNTIF(GV39:GV69,\">0\")>=LISTS!$B$11,\"Complete\",IF(COUNTIF(GV39:GV69,\">0\")>0,\"Partial\",\"\"))","v":""},{"$f":"IF(COUNTIF(GW39:GW69,\">0\")>=LISTS!$B$11,\"Complete\",IF(COUNTIF(GW39:GW69,\">0\")>0,\"Partial\",\"\"))","v":""},{"$f":"IF(COUNTIF(GX39:GX69,\">0\")>=LISTS!$B$11,\"Complete\",IF(COUNTIF(GX39:GX69,\">0\")>0,\"Partial\",\"\"))","v":""},{"$f":"IF(COUNTIF(GY39:GY69,\">0\")>=LISTS!$B$11,\"Complete\",IF(COUNTIF(GY39:GY69,\">0\")>0,\"Partial\",\"\"))","v":""},{"$f":"IF(COUNTIF(GZ39:GZ69,\">0\")>=LISTS!$B$11,\"Complete\",IF(COUNTIF(GZ39:GZ69,\">0\")>0,\"Partial\",\"\"))","v":""},{"$f":"IF(COUNTIF(HA39:HA69,\">0\")>=LISTS!$B$11,\"Complete\",IF(COUNTIF(HA39:HA69,\">0\")>0,\"Partial\",\"\"))","v":""},{"$f":"IF(COUNTIF(HB39:HB69,\">0\")>=LISTS!$B$11,\"Complete\",IF(COUNTIF(HB39:HB69,\">0\")>0,\"Partial\",\"\"))","v":""},{"$f":"IF(COUNTIF(HC39:HC69,\">0\")>=LISTS!$B$11,\"Complete\",IF(COUNTIF(HC39:HC69,\">0\")>0,\"Partial\",\"\"))","v":""},{"$f":"IF(COUNTIF(HD39:HD69,\">0\")>=LISTS!$B$11,\"Complete\",IF(COUNTIF(HD39:HD69,\">0\")>0,\"Partial\",\"\"))","v":""},{"$f":"IF(COUNTIF(HE39:HE69,\">0\")>=LISTS!$B$11,\"Complete\",IF(COUNTIF(HE39:HE69,\">0\")>0,\"Partial\",\"\"))","v":""},{"$f":"IF(COUNTIF(HF39:HF69,\">0\")>=LISTS!$B$11,\"Complete\",IF(COUNTIF(HF39:HF69,\">0\")>0,\"Partial\",\"\"))","v":""},{"$f":"IF(COUNTIF(HG39:HG69,\">0\")>=LISTS!$B$11,\"Complete\",IF(COUNTIF(HG39:HG69,\">0\")>0,\"Partial\",\"\"))","v":""},{"$f":"IF(COUNTIF(HH39:HH69,\">0\")>=LISTS!$B$11,\"Complete\",IF(COUNTIF(HH39:HH69,\">0\")>0,\"Partial\",\"\"))","v":""},{"$f":"IF(COUNTIF(HI39:HI69,\">0\")>=LISTS!$B$11,\"Complete\",IF(COUNTIF(HI39:HI69,\">0\")>0,\"Partial\",\"\"))","v":""},{"$f":"IF(COUNTIF(HJ39:HJ69,\">0\")>=LISTS!$B$11,\"Complete\",IF(COUNTIF(HJ39:HJ69,\">0\")>0,\"Partial\",\"\"))","v":""},{"$f":"IF(COUNTIF(HK39:HK69,\">0\")>=LISTS!$B$11,\"Complete\",IF(COUNTIF(HK39:HK69,\">0\")>0,\"Partial\",\"\"))","v":""},{"$f":"IF(COUNTIF(HL39:HL69,\">0\")>=LISTS!$B$11,\"Complete\",IF(COUNTIF(HL39:HL69,\">0\")>0,\"Partial\",\"\"))","v":""},{"$f":"IF(COUNTIF(HM39:HM69,\">0\")>=LISTS!$B$11,\"Complete\",IF(COUNTIF(HM39:HM69,\">0\")>0,\"Partial\",\"\"))","v":""},{"$f":"IF(COUNTIF(HN39:HN69,\">0\")>=LISTS!$B$11,\"Complete\",IF(COUNTIF(HN39:HN69,\">0\")>0,\"Partial\",\"\"))","v":""},{"$f":"IF(COUNTIF(HO39:HO69,\">0\")>=LISTS!$B$11,\"Complete\",IF(COUNTIF(HO39:HO69,\">0\")>0,\"Partial\",\"\"))","v":""},{"$f":"IF(COUNTIF(HP39:HP69,\">0\")>=LISTS!$B$11,\"Complete\",IF(COUNTIF(HP39:HP69,\">0\")>0,\"Partial\",\"\"))","v":""},{"$f":"IF(COUNTIF(HQ39:HQ69,\">0\")>=LISTS!$B$11,\"Complete\",IF(COUNTIF(HQ39:HQ69,\">0\")>0,\"Partial\",\"\"))","v":""},{"$f":"IF(COUNTIF(HR39:HR69,\">0\")>=LISTS!$B$11,\"Complete\",IF(COUNTIF(HR39:HR69,\">0\")>0,\"Partial\",\"\"))","v":""},{"$f":"IF(COUNTIF(HS39:HS69,\">0\")>=LISTS!$B$11,\"Complete\",IF(COUNTIF(HS39:HS69,\">0\")>0,\"Partial\",\"\"))","v":""},{"$f":"IF(COUNTIF(HT39:HT69,\">0\")>=LISTS!$B$11,\"Complete\",IF(COUNTIF(HT39:HT69,\">0\")>0,\"Partial\",\"\"))","v":""},{"$f":"IF(COUNTIF(HU39:HU69,\">0\")>=LISTS!$B$11,\"Complete\",IF(COUNTIF(HU39:HU69,\">0\")>0,\"Partial\",\"\"))","v":""},{"$f":"IF(COUNTIF(HV39:HV69,\">0\")>=LISTS!$B$11,\"Complete\",IF(COUNTIF(HV39:HV69,\">0\")>0,\"Partial\",\"\"))","v":""},{"$f":"IF(COUNTIF(HW39:HW69,\">0\")>=LISTS!$B$11,\"Complete\",IF(COUNTIF(HW39:HW69,\">0\")>0,\"Partial\",\"\"))","v":""},{"$f":"IF(COUNTIF(HX39:HX69,\">0\")>=LISTS!$B$11,\"Complete\",IF(COUNTIF(HX39:HX69,\">0\")>0,\"Partial\",\"\"))","v":""},{"$f":"IF(COUNTIF(HY39:HY69,\">0\")>=LISTS!$B$11,\"Complete\",IF(COUNTIF(HY39:HY69,\">0\")>0,\"Partial\",\"\"))","v":""},{"$f":"IF(COUNTIF(HZ39:HZ69,\">0\")>=LISTS!$B$11,\"Complete\",IF(COUNTIF(HZ39:HZ69,\">0\")>0,\"Partial\",\"\"))","v":""},{"$f":"IF(COUNTIF(IA39:IA69,\">0\")>=LISTS!$B$11,\"Complete\",IF(COUNTIF(IA39:IA69,\">0\")>0,\"Partial\",\"\"))","v":""},{"$f":"IF(COUNTIF(IB39:IB69,\">0\")>=LISTS!$B$11,\"Complete\",IF(COUNTIF(IB39:IB69,\">0\")>0,\"Partial\",\"\"))","v":""},{"$f":"IF(COUNTIF(IC39:IC69,\">0\")>=LISTS!$B$11,\"Complete\",IF(COUNTIF(IC39:IC69,\">0\")>0,\"Partial\",\"\"))","v":""},{"$f":"IF(COUNTIF(ID39:ID69,\">0\")>=LISTS!$B$11,\"Complete\",IF(COUNTIF(ID39:ID69,\">0\")>0,\"Partial\",\"\"))","v":""},{"$f":"IF(COUNTIF(IE39:IE69,\">0\")>=LISTS!$B$11,\"Complete\",IF(COUNTIF(IE39:IE69,\">0\")>0,\"Partial\",\"\"))","v":""},{"$f":"IF(COUNTIF(IF39:IF69,\">0\")>=LISTS!$B$11,\"Complete\",IF(COUNTIF(IF39:IF69,\">0\")>0,\"Partial\",\"\"))","v":""},{"$f":"IF(COUNTIF(IG39:IG69,\">0\")>=LISTS!$B$11,\"Complete\",IF(COUNTIF(IG39:IG69,\">0\")>0,\"Partial\",\"\"))","v":""},{"$f":"IF(COUNTIF(IH39:IH69,\">0\")>=LISTS!$B$11,\"Complete\",IF(COUNTIF(IH39:IH69,\">0\")>0,\"Partial\",\"\"))","v":""},{"$f":"IF(COUNTIF(II39:II69,\">0\")>=LISTS!$B$11,\"Complete\",IF(COUNTIF(II39:II69,\">0\")>0,\"Partial\",\"\"))","v":""},{"$f":"IF(COUNTIF(IJ39:IJ69,\">0\")>=LISTS!$B$11,\"Complete\",IF(COUNTIF(IJ39:IJ69,\">0\")>0,\"Partial\",\"\"))","v":""},{"$f":"IF(COUNTIF(IK39:IK69,\">0\")>=LISTS!$B$11,\"Complete\",IF(COUNTIF(IK39:IK69,\">0\")>0,\"Partial\",\"\"))","v":""},{"$f":"IF(COUNTIF(IL39:IL69,\">0\")>=LISTS!$B$11,\"Complete\",IF(COUNTIF(IL39:IL69,\">0\")>0,\"Partial\",\"\"))","v":""},{"$f":"IF(COUNTIF(IM39:IM69,\">0\")>=LISTS!$B$11,\"Complete\",IF(COUNTIF(IM39:IM69,\">0\")>0,\"Partial\",\"\"))","v":""},{"$f":"IF(COUNTIF(IN39:IN69,\">0\")>=LISTS!$B$11,\"Complete\",IF(COUNTIF(IN39:IN69,\">0\")>0,\"Partial\",\"\"))","v":""},{"$f":"IF(COUNTIF(IO39:IO69,\">0\")>=LISTS!$B$11,\"Complete\",IF(COUNTIF(IO39:IO69,\">0\")>0,\"Partial\",\"\"))","v":""},{"$f":"IF(COUNTIF(IP39:IP69,\">0\")>=LISTS!$B$11,\"Complete\",IF(COUNTIF(IP39:IP69,\">0\")>0,\"Partial\",\"\"))","v":""},{"$f":"IF(COUNTIF(IQ39:IQ69,\">0\")>=LISTS!$B$11,\"Complete\",IF(COUNTIF(IQ39:IQ69,\">0\")>0,\"Partial\",\"\"))","v":""},{"$f":"IF(COUNTIF(IR39:IR69,\">0\")>=LISTS!$B$11,\"Complete\",IF(COUNTIF(IR39:IR69,\">0\")>0,\"Partial\",\"\"))","v":""},{"$f":"IF(COUNTIF(IS39:IS69,\">0\")>=LISTS!$B$11,\"Complete\",IF(COUNTIF(IS39:IS69,\">0\")>0,\"Partial\",\"\"))","v":""},{"$f":"IF(COUNTIF(IT39:IT69,\">0\")>=LISTS!$B$11,\"Complete\",IF(COUNTIF(IT39:IT69,\">0\")>0,\"Partial\",\"\"))","v":""},{"$f":"IF(COUNTIF(IU39:IU69,\">0\")>=LISTS!$B$11,\"Complete\",IF(COUNTIF(IU39:IU69,\">0\")>0,\"Partial\",\"\"))","v":""},{"$f":"IF(COUNTIF(IV39:IV69,\">0\")>=LISTS!$B$11,\"Complete\",IF(COUNTIF(IV39:IV69,\">0\")>0,\"Partial\",\"\"))","v":""},{"$f":"IF(COUNTIF(IW39:IW69,\">0\")>=LISTS!$B$11,\"Complete\",IF(COUNTIF(IW39:IW69,\">0\")>0,\"Partial\",\"\"))","v":""},{"$f":"IF(COUNTIF(IX39:IX69,\">0\")>=LISTS!$B$11,\"Complete\",IF(COUNTIF(IX39:IX69,\">0\")>0,\"Partial\",\"\"))","v":""},{"$f":"IF(COUNTIF(IY39:IY69,\">0\")>=LISTS!$B$11,\"Complete\",IF(COUNTIF(IY39:IY69,\">0\")>0,\"Partial\",\"\"))","v":""},{"$f":"IF(COUNTIF(IZ39:IZ69,\">0\")>=LISTS!$B$11,\"Complete\",IF(COUNTIF(IZ39:IZ69,\">0\")>0,\"Partial\",\"\"))","v":""},{"$f":"IF(COUNTIF(JA39:JA69,\">0\")>=LISTS!$B$11,\"Complete\",IF(COUNTIF(JA39:JA69,\">0\")>0,\"Partial\",\"\"))","v":""},{"$f":"IF(COUNTIF(JB39:JB69,\">0\")>=LISTS!$B$11,\"Complete\",IF(COUNTIF(JB39:JB69,\">0\")>0,\"Partial\",\"\"))","v":""},{"$f":"IF(COUNTIF(JC39:JC69,\">0\")>=LISTS!$B$11,\"Complete\",IF(COUNTIF(JC39:JC69,\">0\")>0,\"Partial\",\"\"))","v":""},{"$f":"IF(COUNTIF(JD39:JD69,\">0\")>=LISTS!$B$11,\"Complete\",IF(COUNTIF(JD39:JD69,\">0\")>0,\"Partial\",\"\"))","v":""},{"$f":"IF(COUNTIF(JE39:JE69,\">0\")>=LISTS!$B$11,\"Complete\",IF(COUNTIF(JE39:JE69,\">0\")>0,\"Partial\",\"\"))","v":""},{"$f":"IF(COUNTIF(JF39:JF69,\">0\")>=LISTS!$B$11,\"Complete\",IF(COUNTIF(JF39:JF69,\">0\")>0,\"Partial\",\"\"))","v":""},{"$f":"IF(COUNTIF(JG39:JG69,\">0\")>=LISTS!$B$11,\"Complete\",IF(COUNTIF(JG39:JG69,\">0\")>0,\"Partial\",\"\"))","v":""},{"$f":"IF(COUNTIF(JH39:JH69,\">0\")>=LISTS!$B$11,\"Complete\",IF(COUNTIF(JH39:JH69,\">0\")>0,\"Partial\",\"\"))","v":""},{"$f":"IF(COUNTIF(JI39:JI69,\">0\")>=LISTS!$B$11,\"Complete\",IF(COUNTIF(JI39:JI69,\">0\")>0,\"Partial\",\"\"))","v":""},{"$f":"IF(COUNTIF(JJ39:JJ69,\">0\")>=LISTS!$B$11,\"Complete\",IF(COUNTIF(JJ39:JJ69,\">0\")>0,\"Partial\",\"\"))","v":""},{"$f":"IF(COUNTIF(JK39:JK69,\">0\")>=LISTS!$B$11,\"Complete\",IF(COUNTIF(JK39:JK69,\">0\")>0,\"Partial\",\"\"))","v":""},{"$f":"IF(COUNTIF(JL39:JL69,\">0\")>=LISTS!$B$11,\"Complete\",IF(COUNTIF(JL39:JL69,\">0\")>0,\"Partial\",\"\"))","v":""},{"$f":"IF(COUNTIF(JM39:JM69,\">0\")>=LISTS!$B$11,\"Complete\",IF(COUNTIF(JM39:JM69,\">0\")>0,\"Partial\",\"\"))","v":""},{"$f":"IF(COUNTIF(JN39:JN69,\">0\")>=LISTS!$B$11,\"Complete\",IF(COUNTIF(JN39:JN69,\">0\")>0,\"Partial\",\"\"))","v":""},{"$f":"IF(COUNTIF(JO39:JO69,\">0\")>=LISTS!$B$11,\"Complete\",IF(COUNTIF(JO39:JO69,\">0\")>0,\"Partial\",\"\"))","v":""},{"$f":"IF(COUNTIF(JP39:JP69,\">0\")>=LISTS!$B$11,\"Complete\",IF(COUNTIF(JP39:JP69,\">0\")>0,\"Partial\",\"\"))","v":""},{"$f":"IF(COUNTIF(JQ39:JQ69,\">0\")>=LISTS!$B$11,\"Complete\",IF(COUNTIF(JQ39:JQ69,\">0\")>0,\"Partial\",\"\"))","v":""},{"$f":"IF(COUNTIF(JR39:JR69,\">0\")>=LISTS!$B$11,\"Complete\",IF(COUNTIF(JR39:JR69,\">0\")>0,\"Partial\",\"\"))","v":""},{"$f":"IF(COUNTIF(JS39:JS69,\">0\")>=LISTS!$B$11,\"Complete\",IF(COUNTIF(JS39:JS69,\">0\")>0,\"Partial\",\"\"))","v":""},{"$f":"IF(COUNTIF(JT39:JT69,\">0\")>=LISTS!$B$11,\"Complete\",IF(COUNTIF(JT39:JT69,\">0\")>0,\"Partial\",\"\"))","v":""},{"$f":"IF(COUNTIF(JU39:JU69,\">0\")>=LISTS!$B$11,\"Complete\",IF(COUNTIF(JU39:JU69,\">0\")>0,\"Partial\",\"\"))","v":""},{"$f":"IF(COUNTIF(JV39:JV69,\">0\")>=LISTS!$B$11,\"Complete\",IF(COUNTIF(JV39:JV69,\">0\")>0,\"Partial\",\"\"))","v":""},{"$f":"IF(COUNTIF(JW39:JW69,\">0\")>=LISTS!$B$11,\"Complete\",IF(COUNTIF(JW39:JW69,\">0\")>0,\"Partial\",\"\"))","v":""},{"$f":"IF(COUNTIF(JX39:JX69,\">0\")>=LISTS!$B$11,\"Complete\",IF(COUNTIF(JX39:JX69,\">0\")>0,\"Partial\",\"\"))","v":""},{"$f":"IF(COUNTIF(JY39:JY69,\">0\")>=LISTS!$B$11,\"Complete\",IF(COUNTIF(JY39:JY69,\">0\")>0,\"Partial\",\"\"))","v":""},{"$f":"IF(COUNTIF(JZ39:JZ69,\">0\")>=LISTS!$B$11,\"Complete\",IF(COUNTIF(JZ39:JZ69,\">0\")>0,\"Partial\",\"\"))","v":""},{"$f":"IF(COUNTIF(KA39:KA69,\">0\")>=LISTS!$B$11,\"Complete\",IF(COUNTIF(KA39:KA69,\">0\")>0,\"Partial\",\"\"))","v":""},{"$f":"IF(COUNTIF(KB39:KB69,\">0\")>=LISTS!$B$11,\"Complete\",IF(COUNTIF(KB39:KB69,\">0\")>0,\"Partial\",\"\"))","v":""},{"$f":"IF(COUNTIF(KC39:KC69,\">0\")>=LISTS!$B$11,\"Complete\",IF(COUNTIF(KC39:KC69,\">0\")>0,\"Partial\",\"\"))","v":""},{"$f":"IF(COUNTIF(KD39:KD69,\">0\")>=LISTS!$B$11,\"Complete\",IF(COUNTIF(KD39:KD69,\">0\")>0,\"Partial\",\"\"))","v":""},{"$f":"IF(COUNTIF(KE39:KE69,\">0\")>=LISTS!$B$11,\"Complete\",IF(COUNTIF(KE39:KE69,\">0\")>0,\"Partial\",\"\"))","v":""},{"$f":"IF(COUNTIF(KF39:KF69,\">0\")>=LISTS!$B$11,\"Complete\",IF(COUNTIF(KF39:KF69,\">0\")>0,\"Partial\",\"\"))","v":""},{"$f":"IF(COUNTIF(KG39:KG69,\">0\")>=LISTS!$B$11,\"Complete\",IF(COUNTIF(KG39:KG69,\">0\")>0,\"Partial\",\"\"))","v":""},{"$f":"IF(COUNTIF(KH39:KH69,\">0\")>=LISTS!$B$11,\"Complete\",IF(COUNTIF(KH39:KH69,\">0\")>0,\"Partial\",\"\"))","v":""},{"$f":"IF(COUNTIF(KI39:KI69,\">0\")>=LISTS!$B$11,\"Complete\",IF(COUNTIF(KI39:KI69,\">0\")>0,\"Partial\",\"\"))","v":""},{"$f":"IF(COUNTIF(KJ39:KJ69,\">0\")>=LISTS!$B$11,\"Complete\",IF(COUNTIF(KJ39:KJ69,\">0\")>0,\"Partial\",\"\"))","v":""},{"$f":"IF(COUNTIF(KK39:KK69,\">0\")>=LISTS!$B$11,\"Complete\",IF(COUNTIF(KK39:KK69,\">0\")>0,\"Partial\",\"\"))","v":""},{"$f":"IF(COUNTIF(KL39:KL69,\">0\")>=LISTS!$B$11,\"Complete\",IF(COUNTIF(KL39:KL69,\">0\")>0,\"Partial\",\"\"))","v":""},{"$f":"IF(COUNTIF(KM39:KM69,\">0\")>=LISTS!$B$11,\"Complete\",IF(COUNTIF(KM39:KM69,\">0\")>0,\"Partial\",\"\"))","v":""},{"$f":"IF(COUNTIF(KN39:KN69,\">0\")>=LISTS!$B$11,\"Complete\",IF(COUNTIF(KN39:KN69,\">0\")>0,\"Partial\",\"\"))","v":""},{"$f":"IF(COUNTIF(KO39:KO69,\">0\")>=LISTS!$B$11,\"Complete\",IF(COUNTIF(KO39:KO69,\">0\")>0,\"Partial\",\"\"))","v":""},{"$f":"IF(COUNTIF(KP39:KP69,\">0\")>=LISTS!$B$11,\"Complete\",IF(COUNTIF(KP39:KP69,\">0\")>0,\"Partial\",\"\"))","v":""},{"$f":"IF(COUNTIF(KQ39:KQ69,\">0\")>=LISTS!$B$11,\"Complete\",IF(COUNTIF(KQ39:KQ69,\">0\")>0,\"Partial\",\"\"))","v":""},{"$f":"IF(COUNTIF(KR39:KR69,\">0\")>=LISTS!$B$11,\"Complete\",IF(COUNTIF(KR39:KR69,\">0\")>0,\"Partial\",\"\"))","v":""},{"$f":"IF(COUNTIF(KS39:KS69,\">0\")>=LISTS!$B$11,\"Complete\",IF(COUNTIF(KS39:KS69,\">0\")>0,\"Partial\",\"\"))","v":""},{"$f":"IF(COUNTIF(KT39:KT69,\">0\")>=LISTS!$B$11,\"Complete\",IF(COUNTIF(KT39:KT69,\">0\")>0,\"Partial\",\"\"))","v":""},{"$f":"IF(COUNTIF(KU39:KU69,\">0\")>=LISTS!$B$11,\"Complete\",IF(COUNTIF(KU39:KU69,\">0\")>0,\"Partial\",\"\"))","v":""},{"$f":"IF(COUNTIF(KV39:KV69,\">0\")>=LISTS!$B$11,\"Complete\",IF(COUNTIF(KV39:KV69,\">0\")>0,\"Partial\",\"\"))","v":""},{"$f":"IF(COUNTIF(KW39:KW69,\">0\")>=LISTS!$B$11,\"Complete\",IF(COUNTIF(KW39:KW69,\">0\")>0,\"Partial\",\"\"))","v":""},{"$f":"IF(COUNTIF(KX39:KX69,\">0\")>=LISTS!$B$11,\"Complete\",IF(COUNTIF(KX39:KX69,\">0\")>0,\"Partial\",\"\"))","v":""},{"$f":"IF(COUNTIF(KY39:KY69,\">0\")>=LISTS!$B$11,\"Complete\",IF(COUNTIF(KY39:KY69,\">0\")>0,\"Partial\",\"\"))","v":""},{"$f":"IF(COUNTIF(KZ39:KZ69,\">0\")>=LISTS!$B$11,\"Complete\",IF(COUNTIF(KZ39:KZ69,\">0\")>0,\"Partial\",\"\"))","v":""},{"$f":"IF(COUNTIF(LA39:LA69,\">0\")>=LISTS!$B$11,\"Complete\",IF(COUNTIF(LA39:LA69,\">0\")>0,\"Partial\",\"\"))","v":""},{"$f":"IF(COUNTIF(LB39:LB69,\">0\")>=LISTS!$B$11,\"Complete\",IF(COUNTIF(LB39:LB69,\">0\")>0,\"Partial\",\"\"))","v":""},{"$f":"IF(COUNTIF(LC39:LC69,\">0\")>=LISTS!$B$11,\"Complete\",IF(COUNTIF(LC39:LC69,\">0\")>0,\"Partial\",\"\"))","v":""},{"$f":"IF(COUNTIF(LD39:LD69,\">0\")>=LISTS!$B$11,\"Complete\",IF(COUNTIF(LD39:LD69,\">0\")>0,\"Partial\",\"\"))","v":""},{"$f":"IF(COUNTIF(LE39:LE69,\">0\")>=LISTS!$B$11,\"Complete\",IF(COUNTIF(LE39:LE69,\">0\")>0,\"Partial\",\"\"))","v":""},{"$f":"IF(COUNTIF(LF39:LF69,\">0\")>=LISTS!$B$11,\"Complete\",IF(COUNTIF(LF39:LF69,\">0\")>0,\"Partial\",\"\"))","v":""}]
[]
["Chg","O1",null,{"$f":"IFERROR(D86-D77,\"\")","v":""},{"$f":"IFERROR(E86-E77,\"\")","v":""},"","","","",{"$f":"IFERROR(J86-J77,\"\")","v":""},"","","","","","","","","","","","","","","","","","","","","","","","","","","","","","","","","","","","","","","","","","","","","","","","","","","","","","","","","","","","","","","",{"$f":"IFERROR(BV86-BV77,\"\")","v":""},"","","","","","","","","","","","","","","","","","","","","","","","","","","","","","","","","","","","","","","","","","","","","","","","","","","","","","","","","","","","","","","",{"$f":"IFERROR(EH86-EH77,\"\")","v":""},"","","","","","","","","","","","","","","","","","","","","","","","","","","","","","","","","","","","","","","","","","","","","","","","","","","","","","","","","","","","","","","",{"$f":"IFERROR(GT86-GT77,\"\")","v":""},"","","","","","","","","","","","","","","","","","","","","","","","","","","","","","","","","","","","","","","","","","","","","","","","","","","","","","","","","","","","","","","",{"$f":"IFERROR(JF86-JF77,\"\")","v":""},"","","","","","","","","","","","","","","","","","","","","","","","","","","","","","","","","","","","","","","","","","","","","","","","","","","",""]
["Chg","O2",null,"",{"$f":"IFERROR(E87-E78,\"\")","v":""},"","","","",{"$f":"IFERROR(J87-J78,\"\")","v":""},"","","","","","","","","","","","","","","","","","","","","","","","","","","","","","","","","","","","","","","","","","","","","","","","","","","","","","","","","","","","","","","",{"$f":"IFERROR(BV87-BV78,\"\")","v":""},"","","","","","","","","","","","","","","","","","","","","","","","","","","","","","","","","","","","","","","","","","","","","","","","","","","","","","","","","","","","","","","",{"$f":"IFERROR(EH87-EH78,\"\")","v":""},"","","","","","","","","","","","","","","","","","","","","","","","","","","","","","","","","","","","","","","","","","","","","","","","","","","","","","","","","","","","","","","",{"$f":"IFERROR(GT87-GT78,\"\")","v":""},"","","","","","","","","","","","","","","","","","","","","","","","","","","","","","","","","","","","","","","","","","","","","","","","","","","","","","","","","","","","","","","",{"$f":"IFERROR(JF87-JF78,\"\")","v":""},"","","","","","","","","","","","","","","","","","","","","","","","","","","","","","","","","","","","","","","","","","","","","","","","","","","",""]
["Chg","O3",null,"",{"$f":"IFERROR(E88-E79,\"\")","v":""},"","","","",{"$f":"IFERROR(J88-J79,\"\")","v":""},"","","","","","","","","","","","","","","","","","","","","","","","","","","","","","","","","","","","","","","","","","","","","","","","","","","","","","","","","","","","","","","",{"$f":"IFERROR(BV88-BV79,\"\")","v":""},"","","","","","","","","","","","","","","","","","","","","","","","","","","","","","","","","","","","","","","","","","","","","","","","","","","","","","","","","","","","","","","",{"$f":"IFERROR(EH88-EH79,\"\")","v":""},"","","","","","","","","","","","","","","","","","","","","","","","","","","","","","","","","","","","","","","","","","","","","","","","","","","","","","","","","","","","","","","",{"$f":"IFERROR(GT88-GT79,\"\")","v":""},"","","","","","","","","","","","","","","","","","","","","","","","","","","","","","","","","","","","","","","","","","","","","","","","","","","","","","","","","","","","","","","",{"$f":"IFERROR(JF88-JF79,\"\")","v":""},"","","","","","","","","","","","","","","","","","","","","","","","","","","","","","","","","","","","","","","","","","","","","","","","","","","",""]
["Chg","O4",null,"",{"$f":"IFERROR(E89-E80,\"\")","v":""},"","","","",{"$f":"IFERROR(J89-J80,\"\")","v":""},"","","","","","","","","","","","","","","","","","","","","","","","","","","","","","","","","","","","","","","","","","","","","","","","","","","","","","","","","","","","","","","",{"$f":"IFERROR(BV89-BV80,\"\")","v":""},"","","","","","","","","","","","","","","","","","","","","","","","","","","","","","","","","","","","","","","","","","","","","","","","","","","","","","","","","","","","","","","",{"$f":"IFERROR(EH89-EH80,\"\")","v":""},"","","","","","","","","","","","","","","","","","","","","","","","","","","","","","","","","","","","","","","","","","","","","","","","","","","","","","","","","","","","","","","",{"$f":"IFERROR(GT89-GT80,\"\")","v":""},"","","","","","","","","","","","","","","","","","","","","","","","","","","","","","","","","","","","","","","","","","","","","","","","","","","","","","","","","","","","","","","",{"$f":"IFERROR(JF89-JF80,\"\")","v":""},"","","","","","","","","","","","","","","","","","","","","","","","","","","","","","","","","","","","","","","","","","","","","","","","","","","",""]
["Chg","O5",null,"",{"$f":"IFERROR(E90-E81,\"\")","v":""},"","","","",{"$f":"IFERROR(J90-J81,\"\")","v":""},"","","","","","","","","","","","","","","","","","","","","","","","","","","","","","","","","","","","","","","","","","","","","","","","","","","","","","","","","","","","","","","",{"$f":"IFERROR(BV90-BV81,\"\")","v":""},"","","","","","","","","","","","","","","","","","","","","","","","","","","","","","","","","","","","","","","","","","","","","","","","","","","","","","","","","","","","","","","",{"$f":"IFERROR(EH90-EH81,\"\")","v":""},"","","","","","","","","","","","","","","","","","","","","","","","","","","","","","","","","","","","","","","","","","","","","","","","","","","","","","","","","","","","","","","",{"$f":"IFERROR(GT90-GT81,\"\")","v":""},"","","","","","","","","","","","","","","","","","","","","","","","","","","","","","","","","","","","","","","","","","","","","","","","","","","","","","","","","","","","","","","",{"$f":"IFERROR(JF90-JF81,\"\")","v":""},"","","","","","","","","","","","","","","","","","","","","","","","","","","","","","","","","","","","","","","","","","","","","","","","","","","",""]
["Chg","O6",null,"",{"$f":"IFERROR(E91-E82,\"\")","v":""},"","","","",{"$f":"IFERROR(J91-J82,\"\")","v":""},"","","","","","","","","","","","","","","","","","","","","","","","","","","","","","","","","","","","","","","","","","","","","","","","","","","","","","","","","","","","","","","",{"$f":"IFERROR(BV91-BV82,\"\")","v":""},"","","","","","","","","","","","","","","","","","","","","","","","","","","","","","","","","","","","","","","","","","","","","","","","","","","","","","","","","","","","","","","",{"$f":"IFERROR(EH91-EH82,\"\")","v":""},"","","","","","","","","","","","","","","","","","","","","","","","","","","","","","","","","","","","","","","","","","","","","","","","","","","","","","","","","","","","","","","",{"$f":"IFERROR(GT91-GT82,\"\")","v":""},"","","","","","","","","","","","","","","","","","","","","","","","","","","","","","","","","","","","","","","","","","","","","","","","","","","","","","","","","","","","","","","",{"$f":"IFERROR(JF91-JF82,\"\")","v":""},"","","","","","","","","","","","","","","","","","","","","","","","","","","","","","","","","","","","","","","","","","","","","","","","","","","",""]
["Chg","O7",null,"",{"$f":"IFERROR(E92-E83,\"\")","v":""},"","","","",{"$f":"IFERROR(J92-J83,\"\")","v":""},"","","","","","","","","","","","","","","","","","","","","","","","","","","","","","","","","","","","","","","","","","","","","","","","","","","","","","","","","","","","","","","",{"$f":"IFERROR(BV92-BV83,\"\")","v":""},"","","","","","","","","","","","","","","","","","","","","","","","","","","","","","","","","","","","","","","","","","","","","","","","","","","","","","","","","","","","","","","",{"$f":"IFERROR(EH92-EH83,\"\")","v":""},"","","","","","","","","","","","","","","","","","","","","","","","","","","","","","","","","","","","","","","","","","","","","","","","","","","","","","","","","","","","","","","",{"$f":"IFERROR(GT92-GT83,\"\")","v":""},"","","","","","","","","","","","","","","","","","","","","","","","","","","","","","","","","","","","","","","","","","","","","","","","","","","","","","","","","","","","","","","",{"$f":"IFERROR(JF92-JF83,\"\")","v":""},"","","","","","","","","","","","","","","","","","","","","","","","","","","","","","","","","","","","","","","","","","","","","","","","","","","",""]
[]
[null,null,"Pre/Post both Complete by Quarter #? (1,2,3,4=Yes, 0=No)",{"$f":"IF(AND(D84=\"Complete\",D93=\"Complete\"),D76,0)","v":0},{"$f":"IF(AND(E84=\"Complete\",E93=\"Complete\"),E76,0)","v":0},0,0,0,0,0,0,0,0,0,0,0,0,0,0,0,0,0,0,0,0,0,0,0,0,0,0,0,0,0,0,0,0,0,0,0,0,0,0,0,0,0,0,0,0,0,0,0,0,0,0,0,0,0,0,0,0,0,0,0,0,0,0,0,{"$f":"IF(AND(BQ84=\"Complete\",BQ93=\"Complete\"),BQ76,0)","v":0},0,0,0,0,0,0,0,0,0,0,0,0,0,0,0,0,0,0,0,0,0,0,0,0,0,0,0,0,0,0,0,0,0,0,0,0,0,0,0,0,0,0,0,0,0,0,0,0,0,0,0,0,0,0,0,0,0,0,0,0,0,0,0,{"$f":"IF(AND(EC84=\"Complete\",EC93=\"Complete\"),EC76,0)","v":0},0,0,0,0,0,0,0,0,0,0,0,0,0,0,0,0,0,0,0,0,0,0,0,0,0,0,0,0,0,0,0,0,0,0,0,0,0,0,0,0,0,0,0,0,0,0,0,0,0,0,0,0,0,0,0,0,0,0,0,0,0,0,0,{"$f":"IF(AND(GO84=\"Complete\",GO93=\"Complete\"),GO76,0)","v":0},0,0,0,0,0,0,0,0,0,0,0,0,0,0,0,0,0,0,0,0,0,0,0,0,0,0,0,0,0,0,0,0,0,0,0,0,0,0,0,0,0,0,0,0,0,0,0,0,0,0,0,0,0,0,0,0,0,0,0,0,0,0,0,{"$f":"IF(AND(JA84=\"Complete\",JA93=\"Complete\"),JA76,0)","v":0},0,0,0,0,0,0,0,0,0,0,0,0,0,0,0,0,0,0,0,0,0,0,0,0,0,0,0,0,0,0,0,0,0,0,0,0,0,0,0,0,0,0,0,0,0,0,0,0,0,0,0,0,0,0,0,0,0]
[]
[null,"O1","Positive Change by Quarter  (1,2,3,4=Yes, 0=No)",{"$f":"IF(AND(D95>0,D$103>0),D$103,0)","v":0},{"$f":"IF(AND(E95>0,E$103>0),E$103,0)","v":0},0,0,0,0,0,0,0,0,0,0,0,0,0,0,0,0,0,0,0,0,0,0,0,0,0,0,0,0,0,0,0,0,0,0,0,0,0,0,0,0,0,0,0,0,0,0,0,0,0,0,0,0,0,0,0,0,0,0,0,0,0,0,0,{"$f":"IF(AND(BQ95>0,BQ$103>0),BQ$103,0)","v":0},0,0,0,0,0,0,0,0,0,0,0,0,0,0,0,0,0,0,0,0,0,0,0,0,0,0,0,0,0,0,0,0,0,0,0,0,0,0,0,0,0,0,0,0,0,0,0,0,0,0,0,0,0,0,0,0,0,0,0,0,0,0,0,{"$f":"IF(AND(EC95>0,EC$103>0),EC$103,0)","v":0},0,0,0,0,0,0,0,0,0,0,0,0,0,0,0,0,0,0,0,0,0,0,0,0,0,0,0,0,0,0,0,0,0,0,0,0,0,0,0,0,0,0,0,0,0,0,0,0,0,0,0,0,0,0,0,0,0,0,0,0,0,0,0,{"$f":"IF(AND(GO95>0,GO$103>0),GO$103,0)","v":0},0,0,0,0,0,0,0,0,0,0,0,0,0,0,0,0,0,0,0,0,0,0,0,0,0,0,0,0,0,0,0,0,0,0,0,0,0,0,0,0,0,0,0,0,0,0,0,0,0,0,0,0,0,0,0,0,0,0,0,0,0,0,0,{"$f":"IF(AND(JA95>0,JA$103>0),JA$103,0)","v":0},0,0,0,0,0,0,0,0,0,0,0,0,0,0,0,0,0,0,0,0,0,0,0,0,0,0,0,0,0,0,0,0,0,0,0,0,0,0,0,0,0,0,0,0,0,0,0,0,0,0,0,0,0,0,0,0,0]
[null,"O2",null,{"$f":"IF(AND(D96>0,D$103>0),D$103,0)","v":0},0,0,0,0,0,0,0,0,0,0,0,0,0,0,0,0,0,0,0,0,0,0,0,0,0,0,0,0,0,0,0,0,0,0,0,0,0,0,0,0,0,0,0,0,0,0,0,0,0,0,0,0,0,0,0,0,0,0,0,0,0,0,0,0,0,0,0,0,0,0,0,0,0,0,0,0,0,0,0,0,0,0,0,0,0,0,0,0,0,0,0,0,0,0,0,0,0,0,0,0,0,0,0,0,0,0,0,0,0,0,0,0,0,0,0,0,0,0,0,0,0,0,0,0,0,0,0,0,0,0,0,0,0,0,0,0,0,0,0,0,0,0,0,0,0,0,0,0,0,0,0,0,0,0,0,0,0,0,0,0,0,0,0,0,0,0,0,0,0,0,0,0,0,0,0,0,0,0,0,0,0,0,0,0,0,0,0,0,0,0,0,0,0,0,0,0,0,0,0,0,0,0,0,0,0,0,0,0,0,0,0,0,0,0,0,0,0,0,0,0,0,0,0,0,0,0,0,0,0,0,0,0,0,0,0,0,0,0,0,0,0,0,0,0,0,0,0,0,0,0,0,0,0,0,0,0,0,0,0,0,0,0,0,0,0,0,0,0,0,0,0,0,0,0,0,0,0,0,0,0,0,0,0,0,0,0,0,0,0,0,0,0,0,0,0,0,0,0,0,0,0,0,0,0,0,0,0,0,0,0,0,0,0,0]
[null,"O3",null,0,0,0,0,0,0,0,0,0,0,0,0,0,0,0,0,0,0,0,0,0,0,0,0,0,0,0,0,0,0,0,0,0,0,0,0,0,0,0,0,0,0,0,0,0,0,0,0,0,0,0,0,0,0,0,0,0,0,0,0,0,0,0,0,0,0,0,0,0,0,0,0,0,0,0,0,0,0,0,0,0,0,0,0,0,0,0,0,0,0,0,0,0,0,0,0,0,0,0,0,0,0,0,0,0,0,0,0,0,0,0,0,0,0,0,0,0,0,0,0,0,0,0,0,0,0,0,0,0,0,0,0,0,0,0,0,0,0,0,0,0,0,0,0,0,0,0,0,0,0,0,0,0,0,0,0,0,0,0,0,0,0,0,0,0,0,0,0,0,0,0,0,0,0,0,0,0,0,0,0,0,0,0,0,0,0,0,0,0,0,0,0,0,0,0,0,0,0,0,0,0,0,0,0,0,0,0,0,0,0,0,0,0,0,0,0,0,0,0,0,0,0,0,0,0,0,0,0,0,0,0,0,0,0,0,0,0,0,0,0,0,0,0,0,0,0,0,0,0,0,0,0,0,0,0,0,0,0,0,0,0,0,0,0,0,0,0,0,0,0,0,0,0,0,0,0,0,0,0,0,0,0,0,0,0,0,0,0,0,0,0,0,0,0,0,0,0,0,0,0,0,0,0,0,0,0,0,0,0,0,0,0,0,0,0]
[null,"O4",null,0,0,0,0,0,0,0,0,0,0,0,0,0,0,0,0,0,0,0,0,0,0,0,0,0,0,0,0,0,0,0,0,0,0,0,0,0,0,0,0,0,0,0,0,0,0,0,0,0,0,0,0,0,0,0,0,0,0,0,0,0,0,0,0,0,0,0,0,0,0,0,0,0,0,0,0,0,0,0,0,0,0,0,0,0,0,0,0,0,0,0,0,0,0,0,0,0,0,0,0,0,0,0,0,0,0,0,0,0,0,0,0,0,0,0,0,0,0,0,0,0,0,0,0,0,0,0,0,{"$f":"IF(AND(EB98>0,EB$103>0),EB$103,0)","v":0},0,0,0,0,0,0,0,0,0,0,0,0,0,0,0,0,0,0,0,0,0,0,0,0,0,0,0,0,0,0,0,0,0,0,0,0,0,0,0,0,0,0,0,0,0,0,0,0,0,0,0,0,0,0,0,0,0,0,0,0,0,0,0,0,0,0,0,0,0,0,0,0,0,0,0,0,0,0,0,0,0,0,0,0,0,0,0,0,0,0,0,0,0,0,0,0,0,0,0,0,0,0,0,0,0,0,0,0,0,0,0,0,0,0,0,0,0,0,0,0,0,0,0,0,0,0,0,{"$f":"IF(AND(IZ98>0,IZ$103>0),IZ$103,0)","v":0},0,0,0,0,0,0,0,0,0,0,0,0,0,0,0,0,0,0,0,0,0,0,0,0,0,0,0,0,0,0,0,0,0,0,0,0,0,0,0,0,0,0,0,0,0,0,0,0,0,0,0,0,0,0,0,0,0,0]
[null,"O5",null,0,0,0,0,0,0,0,0,0,0,0,0,0,0,0,0,0,0,0,0,0,0,0,0,0,0,0,0,0,0,{"$f":"IF(AND(AH99>0,AH$103>0),AH$103,0)","v":0},0,0,0,0,0,0,0,0,0,0,0,0,0,0,0,0,0,0,0,0,0,0,0,0,0,0,0,0,0,0,0,0,0,0,0,0,0,0,0,0,0,0,0,0,0,0,0,0,0,0,0,0,0,0,0,0,0,0,0,0,0,0,0,{"$f":"IF(AND(CT99>0,CT$103>0),CT$103,0)","v":0},0,0,0,0,0,0,0,0,0,0,0,0,0,0,0,0,0,0,0,0,0,0,0,0,0,0,0,0,0,0,0,0,0,0,0,0,0,0,0,0,0,0,0,0,0,0,0,0,0,0,0,0,0,0,0,0,0,0,0,0,0,0,0,0,0,0,0,0,0,0,0,0,0,0,0,0,0,0,0,0,0,0,0,0,0,0,0,0,0,0,0,0,0,0,0,0,0,0,{"$f":"IF(AND(GO99>0,GO$103>0),GO$103,0)","v":0},0,0,0,0,0,0,0,0,0,0,0,0,0,0,0,0,0,0,0,0,0,0,0,0,0,0,0,0,0,0,0,0,0,0,0,0,0,0,0,0,0,0,0,0,0,0,0,0,0,0,0,0,0,0,0,0,0,0,0,0,0,0,0,0,0,0,0,0,0,0,0,0,0,0,0,0,0,0,0,0,0,0,0,0,0,0,0,0,0,0,0,0,0,0,0,0,0,0,0,0,0,0,0,0,0,0,0,0,0,0,0,0,0,0,0,0,0,0,0,0,0]
[null,"O6",null,0,0,0,0,0,0,0,0,0,0,0,0,0,0,0,0,{"$f":"IF(AND(T100>0,T$103>0),T$103,0)","v":0},0,0,0,0,0,0,0,0,0,0,0,0,0,0,0,0,0,0,0,0,0,0,0,0,0,0,0,0,0,0,0,0,0,0,0,0,0,0,0,0,0,0,0,0,0,0,0,0,0,0,0,0,0,0,0,0,0,0,0,0,0,0,0,0,0,0,0,0,0,0,0,0,0,0,0,0,0,0,0,0,0,0,0,0,0,0,0,0,0,0,0,0,0,0,0,0,0,0,0,0,0,0,0,0,0,0,0,0,0,0,0,0,0,0,0,0,0,0,0,0,0,0,0,0,0,0,0,0,0,0,0,0,0,0,0,0,0,0,0,0,0,0,0,0,0,0,0,0,0,0,0,0,0,0,0,0,0,0,0,0,0,0,0,0,0,0,0,0,0,0,0,0,0,0,0,0,0,0,0,0,0,0,0,0,0,0,0,0,0,0,0,0,0,0,0,0,0,0,0,0,0,0,0,0,0,0,0,0,0,0,0,0,0,0,0,0,0,0,0,0,0,0,0,0,0,0,0,0,0,0,0,0,0,0,0,0,0,0,0,0,0,0,0,0,0,0,0,0,0,0,0,0,0,0,0,0,0,0,0,0,0,0,0,0,0,0,0,0,0,0,0,0,0,0,0,0,0,0,0,0,0,0,0,0,0,0,0,0,0,0,0,0,0,0,0,0,0,0]
[null,"O7",null,0,0,0,0,0,0,0,0,0,0,0,0,0,0,0,0,0,0,0,0,0,0,0,0,0,0,0,0,0,0,0,0,0,0,0,0,0,0,0,0,0,0,0,0,0,0,0,0,0,0,0,0,0,0,0,0,0,0,0,0,0,0,0,0,0,0,0,0,0,0,0,0,0,0,0,0,0,0,0,0,0,0,0,0,0,0,0,0,0,0,0,0,0,0,0,0,0,0,0,0,0,0,0,0,0,0,0,0,0,0,0,0,0,0,0,0,0,0,0,0,0,0,0,0,0,0,0,0,0,0,0,0,0,0,0,0,0,0,0,0,0,0,0,0,0,0,0,0,0,0,0,0,0,0,0,0,0,0,0,0,0,0,0,0,0,0,0,0,0,0,0,0,0,0,0,0,0,0,0,0,0,0,0,0,0,0,0,0,0,0,0,0,0,0,0,0,0,0,0,0,0,0,0,0,0,0,0,0,0,0,0,0,0,0,0,0,0,0,0,0,0,0,0,0,0,0,0,0,0,0,0,0,0,0,0,0,0,0,0,0,0,0,0,0,0,0,0,0,0,0,0,0,0,0,0,0,0,0,0,0,0,0,0,0,0,0,0,0,0,0,0,0,0,0,0,0,0,0,0,0,0,0,0,0,0,0,0,0,0,0,0,0,0,0,0,0,0,0,0,0,0,0,0,0,0,0,0,0,0,0,0,0,0,0,0]
[]
["Family "]
[null,null,"Parent","1A","1B","1F","2A","2B","2F","3A","3B","3F","4A","4B","4F","5A","5B","5F","6A","6B","6F","7A","7B","7F","8A","8B","8F","9A","9B","9F","10A","10B","10F","11A","11B","11F","12A","12B","12F","13A","13B","13F","14A","14B","14F","15A","15B","15F","1A","1B","1F","2A","2B","2F","3A","3B","3F","4A","4B","4F","5A","5B","5F","6A","6B","6F","7A","7B","7F","8A","8B","8F","9A","9B","9F","10A","10B","10F","11A","11B","11F","12A","12B","12F","13A","13B","13F","14A","14B","14F","15A","15B","15F","1A","1B","1F","2A","2B","2F","3A","3B","3F","4A","4B","4F","5A","5B","5F","6A","6B","6F","7A","7B","7F","8A","8B","8F","9A","9B","9F","10A","10B","10F","11A","11B","11F","12A","12B","12F","13A","13B","13F","14A","14B","14F","15A","15B","15F","1A","1B","1F","2A","2B","2F","3A","3B","3F","4A","4B","4F","5A","5B","5F","6A","6B","6F","7A","7B","7F","8A","8B","8F","9A","9B","9F","10A","10B","10F","11A","11B","11F","12A","12B","12F","13A","13B","13F","14A","14B","14F","15A","15B","15F","1A","1B","1F","2A","2B","2F","3A","3B","3F","4A","4B","4F","5A","5B","5F","6A","6B","6F","7A","7B","7F","8A","8B","8F","9A","9B","9F","10A","10B","10F","11A","11B","11F","12A","12B","12F","13A","13B","13F","14A","14B","14F","15A","15B","15F","1A","1B","1F","2A","2B","2F","3A","3B","3F","4A","4B","4F","5A","5B","5F","6A","6B","6F","7A","7B","7F","8A","8B","8F","9A","9B","9F","10A","10B","10F","11A","11B","11F","12A","12B","12F","13A","13B","13F","14A","14B","14F","15A","15B","15F","1A","1B","1F","2A","2B","2F","3A","3B","3F","4A","4B","4F","5A","5B","5F","6A","6B","6F","7A","7B","7F","8A","8B","8F","9A","9B","9F","10A","10B","10F","11A","11B","11F","12A","12B","12F","13A","13B","13F","14A","14B","14F","15A","15B","15F"]
["Pre","O15",null,{"$f":"IFERROR(AVERAGE(D13,D24,D32),\"\")","v":""},"","","","","","","","","","","","","","","","","","","","","","","","","","","","","","","","","","","","","","","","","","","","","","","","","","","","","","","","","","","","","","","",{"$f":"IFERROR(AVERAGE(BP13,BP24,BP32),\"\")","v":""},"","","","","","","","","","","","","","","","","","","","","","","","","","","","","","","","","","","","","","","","","","","","","","","","","","","","","","","","","","","","","","","",{"$f":"IFERROR(AVERAGE(EB13,EB24,EB32),\"\")","v":""},"","","","","","","","","","","","","","","","","","","","","","","","","","","","","","","","","","","","","","","","","","","","","","","","","","","","","","","","","","","","","","","",{"$f":"IFERROR(AVERAGE(GN13,GN24,GN32),\"\")","v":""},"","","","","","","","","","","","","","","","","","","","","","","","","","","","","","","","","","","","","","","","","","","","","","","","","","","","","","","","","","","","","","","",{"$f":"IFERROR(AVERAGE(IZ13,IZ24,IZ32),\"\")","v":""},"","","","","","","","","","","","","","","","","","","","","","","","","","","","","","","","","","","","","","","","","","","","","","","","","","","","","","","","","",""]
["Pre","O16",null,{"$f":"IFERROR(AVERAGE(D20,D28,D33,D34,D35,D37),\"\")","v":""},"","","","","","","","","","","","","","","","","","","","","","","","","","","","","","","","","","","","","","","","","","","","","","","","","","","","","","","","","","","","","","","",{"$f":"IFERROR(AVERAGE(BP20,BP28,BP33,BP34,BP35,BP37),\"\")","v":""},"","","","","","","","","","","","","","","","","","","","","","","","","","","","","","","","","","","","","","","","","","","","","","","","","","","","","","","","","","","","","","","",{"$f":"IFERROR(AVERAGE(EB20,EB28,EB33,EB34,EB35,EB37),\"\")","v":""},"","","","","","","","","","","","","","","","","","","","","","","","","","","","","","","","","","","","","","","","","","","","","","","","","","","","","","","","","","","","","","","",{"$f":"IFERROR(AVERAGE(GN20,GN28,GN33,GN34,GN35,GN37),\"\")","v":""},"","","","","","","","","","","","","","","","","","","","","","","","","","","","","","","","","","","","","","","","","","","","","","","","","","","","","","","","","","","","","","","",{"$f":"IFERROR(AVERAGE(IZ20,IZ28,IZ33,IZ34,IZ35,IZ37),\"\")","v":""},"","","","","","","","","","","","","","","","","","","","","","","","","","","","","","","","","","","","","","","","","","","","","","","","","","","","","","","","","",""]
["Pre","O17",null,{"$f":"IFERROR(AVERAGE(D9,D14,D15,D19,D27),\"\")","v":""},"","","","","","","","","","","","","","","","","","","","","","","","","","","","","","","","","","","","","","","","","","","","","","","","","","","","","","","","","","","","","","","",{"$f":"IFERROR(AVERAGE(BP9,BP14,BP15,BP19,BP27),\"\")","v":""},"","","","","","","","","","","","","","","","","","","","","","","","","","","","","","","","","","","","","","","","","","","","","","","","","","","","","","","","","","","","","","","",{"$f":"IFERROR(AVERAGE(EB9,EB14,EB15,EB19,EB27),\"\")","v":""},"","","","","","","","","","","","","","","","","","","","","","","","","","","","","","","","","","","","","","","","","","","","","","","","","","","","","","","","","","","","","","","",{"$f":"IFERROR(AVERAGE(GN9,GN14,GN15,GN19,GN27),\"\")","v":""},"","","","","","","","","","","","","","","","","","","","","","","","","","","","","","","","","","","","","","","","","","","","","","","","","","","","","","","","","","","","","","","",{"$f":"IFERROR(AVERAGE(IZ9,IZ14,IZ15,IZ19,IZ27),\"\")","v":""},"","","","","","","","","","","","","","","","","","","","","","","","","","","","","","","","","","","","","","","","","","","","","","","","","","","","","","","","","",""]
[]
[]
[]
["Post","O15",null,{"$f":"IFERROR(AVERAGE(D45,D56,D64),\"\")","v":""},"","","","","","","","","","","","","","","","","","","","","","","","","","","","","","","","","","","","","","","","","","","","","","","","","","","","","","","","","","","","","","","",{"$f":"IFERROR(AVERAGE(BP45,BP56,BP64),\"\")","v":""},"","","","","","","","","","","","","","","","","","","","","","","","","","","","","","","","","","","","","","","","","","","","","","","","","","","","","","","","","","","","","","","",{"$f":"IFERROR(AVERAGE(EB45,EB56,EB64),\"\")","v":""},"","","","","","","","","","","","","","","","","","","","","","","","","","","","","","","","","","","","","","","","","","","","","","","","","","","","","","","","","","","","","","","",{"$f":"IFERROR(AVERAGE(GN45,GN56,GN64),\"\")","v":""},"","","","","","","","","","","","","","","","","","","","","","","","","","","","","","","","","","","","","","","","","","","","","","","","","","","","","","","","","","","","","","","",{"$f":"IFERROR(AVERAGE(IZ45,IZ56,IZ64),\"\")","v":""},"","","","","","","","","","","","","","","","","","","","","","","","","","","","","","","","","","","","","","","","","","","","","","","","","","","","","","","","","",""]
["Post","O16",null,{"$f":"IFERROR(AVERAGE(D52,D60,D65,D66,D67,D69),\"\")","v":""},"","","","","","","","","","","","","","","","","","","","","","","","","","","","","","","","","","","","","","","","","","","","","","","","","","","","","","","","","","","","","","","",{"$f":"IFERROR(AVERAGE(BP52,BP60,BP65,BP66,BP67,BP69),\"\")","v":""},"","","","","","","","","","","","","","","","","","","","","","","","","","","","","","","","","","","","","","","","","","","","","","","","","","","","","","","","","","","","","","","",{"$f":"IFERROR(AVERAGE(EB52,EB60,EB65,EB66,EB67,EB69),\"\")","v":""},"","","","","","","","","","","","","","","","","","","","","","","","","","","","","","","","","","","","","","","","","","","","","","","","","","","","","","","","","","","","","","","",{"$f":"IFERROR(AVERAGE(GN52,GN60,GN65,GN66,GN67,GN69),\"\")","v":""},"","","","","","","","","","","","","","","","","","","","","","","","","","","","","","","","","","","","","","","","","","","","","","","","","","","","","","","","","","","","","","","",{"$f":"IFERROR(AVERAGE(IZ52,IZ60,IZ65,IZ66,IZ67,IZ69),\"\")","v":""},"","","","","","","","","","","","","","","","","","","","","","","","","","","","","","","","","","","","","","","","","","","","","","","","","","","","","","","","","",""]
["Post","O17",null,{"$f":"IFERROR(AVERAGE(D41,D46,D47,D51,D59),\"\")","v":""},"","","","","","","","","","","","","","","","","","","","","","","","","","","","","","","","","","","","","","","","","","","","","","","","","","","","","","","","","","","","","","","",{"$f":"IFERROR(AVERAGE(BP41,BP46,BP47,BP51,BP59),\"\")","v":""},"","","","","","","","","","","","","","","","","","","","","","","","","","","","","","","","","","","","","","","","","","","","","","","","","","","","","","","","","","","","","","","",{"$f":"IFERROR(AVERAGE(EB41,EB46,EB47,EB51,EB59),\"\")","v":""},"","","","","","","","","","","","","","","","","","","","","","","","","","","","","","","","","","","","","","","","","","","","","","","","","","","","","","","","","","","","","","","",{"$f":"IFERROR(AVERAGE(GN41,GN46,GN47,GN51,GN59),\"\")","v":""},"","","","","","","","","","","","","","","","","","","","","","","","","","","","","","","","","","","","","","","","","","","","","","","","","","","","","","","","","","","","","","","",{"$f":"IFERROR(AVERAGE(IZ41,IZ46,IZ47,IZ51,IZ59),\"\")","v":""},"","","","","","","","","","","","","","","","","","","","","","","","","","","","","","","","","","","","","","","","","","","","","","","","","","","","","","","","","",""]
[]
["Parent Completed Pre/Post by Quarter #? (1,2,3,4=Yes, 0=No)",null,null,{"$f":"D103","v":0},{"$f":"E103","v":0},0,0,0,0,0,0,0,0,0,0,0,0,0,0,0,0,0,0,0,0,0,0,0,0,0,0,0,0,0,0,0,0,0,0,0,0,0,0,0,0,0,0,0,0,0,0,0,0,0,0,0,0,0,0,0,0,0,0,0,0,0,0,0,{"$f":"BQ103","v":0},0,0,0,0,0,0,0,0,0,0,0,0,0,0,0,0,0,0,0,0,0,0,0,0,0,0,0,0,0,0,0,0,0,0,0,0,0,0,0,0,0,0,0,0,0,0,0,0,0,0,0,0,0,0,0,0,0,0,0,0,0,0,0,{"$f":"EC103","v":0},0,0,0,0,0,0,0,0,0,0,0,0,0,0,0,0,0,0,0,0,0,0,0,0,0,0,0,0,0,0,0,0,0,0,0,0,0,0,0,0,0,0,0,0,0,0,0,0,0,0,0,0,0,0,0,0,0,0,0,0,0,0,0,{"$f":"GO103","v":0},0,0,0,0,0,0,0,0,0,0,0,0,0,0,0,0,0,0,0,0,0,0,0,0,0,0,0,0,0,0,0,0,0,0,0,0,0,0,0,0,0,0,0,0,0,0,0,0,0,0,0,0,0,0,0,0,0,0,0,0,0,0,0,{"$f":"JA103","v":0},0,0,0,0,0,0,0,0,0,0,0,0,0,0,0,0,0,0,0,0,0,0,0,0,0,0,0,0,0,0,0,0,0,0,0,0,0,0,0,0,0,0,0,0,0,0,0,0,0,0,0,0,0,0,0,0,0]
[]
["Chg","O15",null,{"$f":"IFERROR(D121-D115,\"\")","v":""},{"$f":"IFERROR(E121-E115,\"\")","v":""},"","","","","","","","","","","","","","","","","","","","","","","","","","","","","","","","","","","","","","","","","","","","","","","","","","","","","","","","","","","","","","","",{"$f":"IFERROR(BQ121-BQ115,\"\")","v":""},"","","","","","","","","","","","","","","","","","","","","","","","","","","","","","","","","","","","","","","","","","","","","","","","","","","","","","","","","","","","","","","",{"$f":"IFERROR(EC121-EC115,\"\")","v":""},"","","","","","","","","","","","","","","","","","","","","","","","","","","","","","","","","","","","","","","","","","","","","","","","","","","","","","","","","","","","","","","",{"$f":"IFERROR(GO121-GO115,\"\")","v":""},"","","","","","","","","","","","","","","","","","","","","","","","","","","","","","","","","","","","","","","","","","","","","","","","","","","","","","","","","","","","","","","",{"$f":"IFERROR(JA121-JA115,\"\")","v":""},"","","","","","","","","","","","","","","","","","","","","","","","","","","","","","","","","","","","","","","","","","","","","","","","","","","","","","","","",""]
["Chg","O16",null,{"$f":"IFERROR(D122-D116,\"\")","v":""},{"$f":"IFERROR(E122-E116,\"\")","v":""},"","","","","","","","","","","","","","","","","","","","","","","","","","","","","","","","","","","","","","","","","","","","","","","","","","","","","","","","","","","","","","","",{"$f":"IFERROR(BQ122-BQ116,\"\")","v":""},"","","","","","","","","","","","","","","","","","","","","","","","","","","","","","","","","","","","","","","","","","","","","","","","","","","","","","","","","","","","","","","",{"$f":"IFERROR(EC122-EC116,\"\")","v":""},"","","","","","","","","","","","","","","","","","","","","","","","","","","","","","","","","","","","","","","","","","","","","","","","","","","","","","","","","","","","","","","",{"$f":"IFERROR(GO122-GO116,\"\")","v":""},"","","","","","","","","","","","","","","","","","","","","","","","","","","","","","","","","","","","","","","","","","","","","","","","","","","","","","","","","","","","","","","",{"$f":"IFERROR(JA122-JA116,\"\")","v":""},"","","","","","","","","","","","","","","","","","","","","","","","","","","","","","","","","","","","","","","","","","","","","","","","","","","","","","","","",""]
["Chg","O17",null,{"$f":"IFERROR(D123-D117,\"\")","v":""},{"$f":"IFERROR(E123-E117,\"\")","v":""},"","","","","","","","","","","","","","","","","","","","","","","","","","","","","","","","","","","","","","","","","","","","","","","","","","","","","","","","","","","","","","","",{"$f":"IFERROR(BQ123-BQ117,\"\")","v":""},"","","","","","","","","","","","","","","","","","","","","","","","","","","","","","","","","","","","","","","","","","","","","","","","","","","","","","","","","","","","","","","",{"$f":"IFERROR(EC123-EC117,\"\")","v":""},"","","","","","","","","","","","","","","","","","","","","","","","","","","","","","","","","","","","","","","","","","","","","","","","","","","","","","","","","","","","","","","",{"$f":"IFERROR(GO123-GO117,\"\")","v":""},"","","","","","","","","","","","","","","","","","","","","","","","","","","","","","","","","","","","","","","","","","","","","","","","","","","","","","","","","","","","","","","",{"$f":"IFERROR(JA123-JA117,\"\")","v":""},"","","","","","","","","","","","","","","","","","","","","","","","","","","","","","","","","","","","","","","","","","","","","","","","","","","","","","","","",""]
[]
[null,null,"Youth","1C","1D","1E","2C","2D","2E","3C","3D","3E","4C","4D","4E","5C","5D","5E","6C","6D","6E","7C","7D","7E","8C","8D","8E","9C","9D","9E","10C","10D","10E","11C","11D","11E","12C","12D","12E","13C","13D","13E","14C","14D","14E","15C","15D","15E","1C","1D","1E","2C","2D","2E","3C","3D","3E","4C","4D","4E","5C","5D","5E","6C","6D","6E","7C","7D","7E","8C","8D","8E","9C","9D","9E","10C","10D","10E","11C","11D","11E","12C","12D","12E","13C","13D","13E","14C","14D","14E","15C","15D","15E","1C","1D","1E","2C","2D","2E","3C","3D","3E","4C","4D","4E","5C","5D","5E","6C","6D","6E","7C","7D","7E","8C","8D","8E","9C","9D","9E","10C","10D","10E","11C","11D","11E","12C","12D","12E","13C","13D","13E","14C","14D","14E","15C","15D","15E","1C","1D","1E","2C","2D","2E","3C","3D","3E","4C","4D","4E","5C","5D","5E","6C","6D","6E","7C","7D","7E","8C","8D","8E","9C","9D","9E","10C","10D","10E","11C","11D","11E","12C","12D","12E","13C","13D","13E","14C","14D","14E","15C","15D","15E","1C","1D","1E","2C","2D","2E","3C","3D","3E","4C","4D","4E","5C","5D","5E","6C","6D","6E","7C","7D","7E","8C","8D","8E","9C","9D","9E","10C","10D","10E","11C","11D","11E","12C","12D","12E","13C","13D","13E","14C","14D","14E","15C","15D","15E","1C","1D","1E","2C","2D","2E","3C","3D","3E","4C","4D","4E","5C","5D","5E","6C","6D","6E","7C","7D","7E","8C","8D","8E","9C","9D","9E","10C","10D","10E","11C","11D","11E","12C","12D","12E","13C","13D","13E","14C","14D","14E","15C","15D","15E","1C","1D","1E","2C","2D","2E","3C","3D","3E","4C","4D","4E","5C","5D","5E","6C","6D","6E","7C","7D","7E","8C","8D","8E","9C","9D","9E","10C","10D","10E","11C","11D","11E","12C","12D","12E","13C","13D","13E","14C","14D","14E","15C","15D","15E"]
["Pre","O15",null,{"$f":"IFERROR(AVERAGE('Youth Survey'!D7,'Youth Survey'!D14,'Youth Survey'!D21,'Youth Survey'!D24),\"\")","v":""},{"$f":"IFERROR(AVERAGE('Youth Survey'!E7,'Youth Survey'!E14,'Youth Survey'!E21,'Youth Survey'!E24),\"\")","v":""},{"$f":"IFERROR(AVERAGE('Youth Survey'!F7,'Youth Survey'!F14,'Youth Survey'!F21,'Youth Survey'!F24),\"\")","v":""},{"$f":"IFERROR(AVERAGE('Youth Survey'!G7,'Youth Survey'!G14,'Youth Survey'!G21,'Youth Survey'!G24),\"\")","v":""},{"$f":"IFERROR(AVERAGE('Youth Survey'!H7,'Youth Survey'!H14,'Youth Survey'!H21,'Youth Survey'!H24),\"\")","v":""},{"$f":"IFERROR(AVERAGE('Youth Survey'!I7,'Youth Survey'!I14,'Youth Survey'!I21,'Youth Survey'!I24),\"\")","v":""},{"$f":"IFERROR(AVERAGE('Youth Survey'!J7,'Youth Survey'!J14,'Youth Survey'!J21,'Youth Survey'!J24),\"\")","v":""},{"$f":"IFERROR(AVERAGE('Youth Survey'!K7,'Youth Survey'!K14,'Youth Survey'!K21,'Youth Survey'!K24),\"\")","v":""},{"$f":"IFERROR(AVERAGE('Youth Survey'!L7,'Youth Survey'!L14,'Youth Survey'!L21,'Youth Survey'!L24),\"\")","v":""},{"$f":"IFERROR(AVERAGE('Youth Survey'!M7,'Youth Survey'!M14,'Youth Survey'!M21,'Youth Survey'!M24),\"\")","v":""},{"$f":"IFERROR(AVERAGE('Youth Survey'!N7,'Youth Survey'!N14,'Youth Survey'!N21,'Youth Survey'!N24),\"\")","v":""},{"$f":"IFERROR(AVERAGE('Youth Survey'!O7,'Youth Survey'!O14,'Youth Survey'!O21,'Youth Survey'!O24),\"\")","v":""},{"$f":"IFERROR(AVERAGE('Youth Survey'!P7,'Youth Survey'!P14,'Youth Survey'!P21,'Youth Survey'!P24),\"\")","v":""},{"$f":"IFERROR(AVERAGE('Youth Survey'!Q7,'Youth Survey'!Q14,'Youth Survey'!Q21,'Youth Survey'!Q24),\"\")","v":""},{"$f":"IFERROR(AVERAGE('Youth Survey'!R7,'Youth Survey'!R14,'Youth Survey'!R21,'Youth Survey'!R24),\"\")","v":""},{"$f":"IFERROR(AVERAGE('Youth Survey'!S7,'Youth Survey'!S14,'Youth Survey'!S21,'Youth Survey'!S24),\"\")","v":""},{"$f":"IFERROR(AVERAGE('Youth Survey'!T7,'Youth Survey'!T14,'Youth Survey'!T21,'Youth Survey'!T24),\"\")","v":""},{"$f":"IFERROR(AVERAGE('Youth Survey'!U7,'Youth Survey'!U14,'Youth Survey'!U21,'Youth Survey'!U24),\"\")","v":""},{"$f":"IFERROR(AVERAGE('Youth Survey'!V7,'Youth Survey'!V14,'Youth Survey'!V21,'Youth Survey'!V24),\"\")","v":""},{"$f":"IFERROR(AVERAGE('Youth Survey'!W7,'Youth Survey'!W14,'Youth Survey'!W21,'Youth Survey'!W24),\"\")","v":""},{"$f":"IFERROR(AVERAGE('Youth Survey'!X7,'Youth Survey'!X14,'Youth Survey'!X21,'Youth Survey'!X24),\"\")","v":""},{"$f":"IFERROR(AVERAGE('Youth Survey'!Y7,'Youth Survey'!Y14,'Youth Survey'!Y21,'Youth Survey'!Y24),\"\")","v":""},{"$f":"IFERROR(AVERAGE('Youth Survey'!Z7,'Youth Survey'!Z14,'Youth Survey'!Z21,'Youth Survey'!Z24),\"\")","v":""},{"$f":"IFERROR(AVERAGE('Youth Survey'!AA7,'Youth Survey'!AA14,'Youth Survey'!AA21,'Youth Survey'!AA24),\"\")","v":""},{"$f":"IFERROR(AVERAGE('Youth Survey'!AB7,'Youth Survey'!AB14,'Youth Survey'!AB21,'Youth Survey'!AB24),\"\")","v":""},{"$f":"IFERROR(AVERAGE('Youth Survey'!AC7,'Youth Survey'!AC14,'Youth Survey'!AC21,'Youth Survey'!AC24),\"\")","v":""},{"$f":"IFERROR(AVERAGE('Youth Survey'!AD7,'Youth Survey'!AD14,'Youth Survey'!AD21,'Youth Survey'!AD24),\"\")","v":""},{"$f":"IFERROR(AVERAGE('Youth Survey'!AE7,'Youth Survey'!AE14,'Youth Survey'!AE21,'Youth Survey'!AE24),\"\")","v":""},{"$f":"IFERROR(AVERAGE('Youth Survey'!AF7,'Youth Survey'!AF14,'Youth Survey'!AF21,'Youth Survey'!AF24),\"\")","v":""},{"$f":"IFERROR(AVERAGE('Youth Survey'!AG7,'Youth Survey'!AG14,'Youth Survey'!AG21,'Youth Survey'!AG24),\"\")","v":""},{"$f":"IFERROR(AVERAGE('Youth Survey'!AH7,'Youth Survey'!AH14,'Youth Survey'!AH21,'Youth Survey'!AH24),\"\")","v":""},{"$f":"IFERROR(AVERAGE('Youth Survey'!AI7,'Youth Survey'!AI14,'Youth Survey'!AI21,'Youth Survey'!AI24),\"\")","v":""},{"$f":"IFERROR(AVERAGE('Youth Survey'!AJ7,'Youth Survey'!AJ14,'Youth Survey'!AJ21,'Youth Survey'!AJ24),\"\")","v":""},{"$f":"IFERROR(AVERAGE('Youth Survey'!AK7,'Youth Survey'!AK14,'Youth Survey'!AK21,'Youth Survey'!AK24),\"\")","v":""},{"$f":"IFERROR(AVERAGE('Youth Survey'!AL7,'Youth Survey'!AL14,'Youth Survey'!AL21,'Youth Survey'!AL24),\"\")","v":""},{"$f":"IFERROR(AVERAGE('Youth Survey'!AM7,'Youth Survey'!AM14,'Youth Survey'!AM21,'Youth Survey'!AM24),\"\")","v":""},{"$f":"IFERROR(AVERAGE('Youth Survey'!AN7,'Youth Survey'!AN14,'Youth Survey'!AN21,'Youth Survey'!AN24),\"\")","v":""},{"$f":"IFERROR(AVERAGE('Youth Survey'!AO7,'Youth Survey'!AO14,'Youth Survey'!AO21,'Youth Survey'!AO24),\"\")","v":""},{"$f":"IFERROR(AVERAGE('Youth Survey'!AP7,'Youth Survey'!AP14,'Youth Survey'!AP21,'Youth Survey'!AP24),\"\")","v":""},{"$f":"IFERROR(AVERAGE('Youth Survey'!AQ7,'Youth Survey'!AQ14,'Youth Survey'!AQ21,'Youth Survey'!AQ24),\"\")","v":""},{"$f":"IFERROR(AVERAGE('Youth Survey'!AR7,'Youth Survey'!AR14,'Youth Survey'!AR21,'Youth Survey'!AR24),\"\")","v":""},{"$f":"IFERROR(AVERAGE('Youth Survey'!AS7,'Youth Survey'!AS14,'Youth Survey'!AS21,'Youth Survey'!AS24),\"\")","v":""},{"$f":"IFERROR(AVERAGE('Youth Survey'!AT7,'Youth Survey'!AT14,'Youth Survey'!AT21,'Youth Survey'!AT24),\"\")","v":""},{"$f":"IFERROR(AVERAGE('Youth Survey'!AU7,'Youth Survey'!AU14,'Youth Survey'!AU21,'Youth Survey'!AU24),\"\")","v":""},{"$f":"IFERROR(AVERAGE('Youth Survey'!AV7,'Youth Survey'!AV14,'Youth Survey'!AV21,'Youth Survey'!AV24),\"\")","v":""},{"$f":"IFERROR(AVERAGE('Youth Survey'!AW7,'Youth Survey'!AW14,'Youth Survey'!AW21,'Youth Survey'!AW24),\"\")","v":""},{"$f":"IFERROR(AVERAGE('Youth Survey'!AX7,'Youth Survey'!AX14,'Youth Survey'!AX21,'Youth Survey'!AX24),\"\")","v":""},{"$f":"IFERROR(AVERAGE('Youth Survey'!AY7,'Youth Survey'!AY14,'Youth Survey'!AY21,'Youth Survey'!AY24),\"\")","v":""},{"$f":"IFERROR(AVERAGE('Youth Survey'!AZ7,'Youth Survey'!AZ14,'Youth Survey'!AZ21,'Youth Survey'!AZ24),\"\")","v":""},{"$f":"IFERROR(AVERAGE('Youth Survey'!BA7,'Youth Survey'!BA14,'Youth Survey'!BA21,'Youth Survey'!BA24),\"\")","v":""},{"$f":"IFERROR(AVERAGE('Youth Survey'!BB7,'Youth Survey'!BB14,'Youth Survey'!BB21,'Youth Survey'!BB24),\"\")","v":""},{"$f":"IFERROR(AVERAGE('Youth Survey'!BC7,'Youth Survey'!BC14,'Youth Survey'!BC21,'Youth Survey'!BC24),\"\")","v":""},{"$f":"IFERROR(AVERAGE('Youth Survey'!BD7,'Youth Survey'!BD14,'Youth Survey'!BD21,'Youth Survey'!BD24),\"\")","v":""},{"$f":"IFERROR(AVERAGE('Youth Survey'!BE7,'Youth Survey'!BE14,'Youth Survey'!BE21,'Youth Survey'!BE24),\"\")","v":""},{"$f":"IFERROR(AVERAGE('Youth Survey'!BF7,'Youth Survey'!BF14,'Youth Survey'!BF21,'Youth Survey'!BF24),\"\")","v":""},{"$f":"IFERROR(AVERAGE('Youth Survey'!BG7,'Youth Survey'!BG14,'Youth Survey'!BG21,'Youth Survey'!BG24),\"\")","v":""},{"$f":"IFERROR(AVERAGE('Youth Survey'!BH7,'Youth Survey'!BH14,'Youth Survey'!BH21,'Youth Survey'!BH24),\"\")","v":""},{"$f":"IFERROR(AVERAGE('Youth Survey'!BI7,'Youth Survey'!BI14,'Youth Survey'!BI21,'Youth Survey'!BI24),\"\")","v":""},{"$f":"IFERROR(AVERAGE('Youth Survey'!BJ7,'Youth Survey'!BJ14,'Youth Survey'!BJ21,'Youth Survey'!BJ24),\"\")","v":""},{"$f":"IFERROR(AVERAGE('Youth Survey'!BK7,'Youth Survey'!BK14,'Youth Survey'!BK21,'Youth Survey'!BK24),\"\")","v":""},{"$f":"IFERROR(AVERAGE('Youth Survey'!BL7,'Youth Survey'!BL14,'Youth Survey'!BL21,'Youth Survey'!BL24),\"\")","v":""},{"$f":"IFERROR(AVERAGE('Youth Survey'!BM7,'Youth Survey'!BM14,'Youth Survey'!BM21,'Youth Survey'!BM24),\"\")","v":""},{"$f":"IFERROR(AVERAGE('Youth Survey'!BN7,'Youth Survey'!BN14,'Youth Survey'!BN21,'Youth Survey'!BN24),\"\")","v":""},{"$f":"IFERROR(AVERAGE('Youth Survey'!BO7,'Youth Survey'!BO14,'Youth Survey'!BO21,'Youth Survey'!BO24),\"\")","v":""},{"$f":"IFERROR(AVERAGE('Youth Survey'!BP7,'Youth Survey'!BP14,'Youth Survey'!BP21,'Youth Survey'!BP24),\"\")","v":""},{"$f":"IFERROR(AVERAGE('Youth Survey'!BQ7,'Youth Survey'!BQ14,'Youth Survey'!BQ21,'Youth Survey'!BQ24),\"\")","v":""},{"$f":"IFERROR(AVERAGE('Youth Survey'!BR7,'Youth Survey'!BR14,'Youth Survey'!BR21,'Youth Survey'!BR24),\"\")","v":""},{"$f":"IFERROR(AVERAGE('Youth Survey'!BS7,'Youth Survey'!BS14,'Youth Survey'!BS21,'Youth Survey'!BS24),\"\")","v":""},{"$f":"IFERROR(AVERAGE('Youth Survey'!BT7,'Youth Survey'!BT14,'Youth Survey'!BT21,'Youth Survey'!BT24),\"\")","v":""},{"$f":"IFERROR(AVERAGE('Youth Survey'!BU7,'Youth Survey'!BU14,'Youth Survey'!BU21,'Youth Survey'!BU24),\"\")","v":""},{"$f":"IFERROR(AVERAGE('Youth Survey'!BV7,'Youth Survey'!BV14,'Youth Survey'!BV21,'Youth Survey'!BV24),\"\")","v":""},{"$f":"IFERROR(AVERAGE('Youth Survey'!BW7,'Youth Survey'!BW14,'Youth Survey'!BW21,'Youth Survey'!BW24),\"\")","v":""},{"$f":"IFERROR(AVERAGE('Youth Survey'!BX7,'Youth Survey'!BX14,'Youth Survey'!BX21,'Youth Survey'!BX24),\"\")","v":""},{"$f":"IFERROR(AVERAGE('Youth Survey'!BY7,'Youth Survey'!BY14,'Youth Survey'!BY21,'Youth Survey'!BY24),\"\")","v":""},{"$f":"IFERROR(AVERAGE('Youth Survey'!BZ7,'Youth Survey'!BZ14,'Youth Survey'!BZ21,'Youth Survey'!BZ24),\"\")","v":""},{"$f":"IFERROR(AVERAGE('Youth Survey'!CA7,'Youth Survey'!CA14,'Youth Survey'!CA21,'Youth Survey'!CA24),\"\")","v":""},{"$f":"IFERROR(AVERAGE('Youth Survey'!CB7,'Youth Survey'!CB14,'Youth Survey'!CB21,'Youth Survey'!CB24),\"\")","v":""},{"$f":"IFERROR(AVERAGE('Youth Survey'!CC7,'Youth Survey'!CC14,'Youth Survey'!CC21,'Youth Survey'!CC24),\"\")","v":""},{"$f":"IFERROR(AVERAGE('Youth Survey'!CD7,'Youth Survey'!CD14,'Youth Survey'!CD21,'Youth Survey'!CD24),\"\")","v":""},{"$f":"IFERROR(AVERAGE('Youth Survey'!CE7,'Youth Survey'!CE14,'Youth Survey'!CE21,'Youth Survey'!CE24),\"\")","v":""},{"$f":"IFERROR(AVERAGE('Youth Survey'!CF7,'Youth Survey'!CF14,'Youth Survey'!CF21,'Youth Survey'!CF24),\"\")","v":""},{"$f":"IFERROR(AVERAGE('Youth Survey'!CG7,'Youth Survey'!CG14,'Youth Survey'!CG21,'Youth Survey'!CG24),\"\")","v":""},{"$f":"IFERROR(AVERAGE('Youth Survey'!CH7,'Youth Survey'!CH14,'Youth Survey'!CH21,'Youth Survey'!CH24),\"\")","v":""},{"$f":"IFERROR(AVERAGE('Youth Survey'!CI7,'Youth Survey'!CI14,'Youth Survey'!CI21,'Youth Survey'!CI24),\"\")","v":""},{"$f":"IFERROR(AVERAGE('Youth Survey'!CJ7,'Youth Survey'!CJ14,'Youth Survey'!CJ21,'Youth Survey'!CJ24),\"\")","v":""},{"$f":"IFERROR(AVERAGE('Youth Survey'!CK7,'Youth Survey'!CK14,'Youth Survey'!CK21,'Youth Survey'!CK24),\"\")","v":""},{"$f":"IFERROR(AVERAGE('Youth Survey'!CL7,'Youth Survey'!CL14,'Youth Survey'!CL21,'Youth Survey'!CL24),\"\")","v":""},{"$f":"IFERROR(AVERAGE('Youth Survey'!CM7,'Youth Survey'!CM14,'Youth Survey'!CM21,'Youth Survey'!CM24),\"\")","v":""},{"$f":"IFERROR(AVERAGE('Youth Survey'!CN7,'Youth Survey'!CN14,'Youth Survey'!CN21,'Youth Survey'!CN24),\"\")","v":""},{"$f":"IFERROR(AVERAGE('Youth Survey'!CO7,'Youth Survey'!CO14,'Youth Survey'!CO21,'Youth Survey'!CO24),\"\")","v":""},{"$f":"IFERROR(AVERAGE('Youth Survey'!CP7,'Youth Survey'!CP14,'Youth Survey'!CP21,'Youth Survey'!CP24),\"\")","v":""},{"$f":"IFERROR(AVERAGE('Youth Survey'!CQ7,'Youth Survey'!CQ14,'Youth Survey'!CQ21,'Youth Survey'!CQ24),\"\")","v":""},{"$f":"IFERROR(AVERAGE('Youth Survey'!CR7,'Youth Survey'!CR14,'Youth Survey'!CR21,'Youth Survey'!CR24),\"\")","v":""},{"$f":"IFERROR(AVERAGE('Youth Survey'!CS7,'Youth Survey'!CS14,'Youth Survey'!CS21,'Youth Survey'!CS24),\"\")","v":""},{"$f":"IFERROR(AVERAGE('Youth Survey'!CT7,'Youth Survey'!CT14,'Youth Survey'!CT21,'Youth Survey'!CT24),\"\")","v":""},{"$f":"IFERROR(AVERAGE('Youth Survey'!CU7,'Youth Survey'!CU14,'Youth Survey'!CU21,'Youth Survey'!CU24),\"\")","v":""},{"$f":"IFERROR(AVERAGE('Youth Survey'!CV7,'Youth Survey'!CV14,'Youth Survey'!CV21,'Youth Survey'!CV24),\"\")","v":""},{"$f":"IFERROR(AVERAGE('Youth Survey'!CW7,'Youth Survey'!CW14,'Youth Survey'!CW21,'Youth Survey'!CW24),\"\")","v":""},{"$f":"IFERROR(AVERAGE('Youth Survey'!CX7,'Youth Survey'!CX14,'Youth Survey'!CX21,'Youth Survey'!CX24),\"\")","v":""},{"$f":"IFERROR(AVERAGE('Youth Survey'!CY7,'Youth Survey'!CY14,'Youth Survey'!CY21,'Youth Survey'!CY24),\"\")","v":""},{"$f":"IFERROR(AVERAGE('Youth Survey'!CZ7,'Youth Survey'!CZ14,'Youth Survey'!CZ21,'Youth Survey'!CZ24),\"\")","v":""},{"$f":"IFERROR(AVERAGE('Youth Survey'!DA7,'Youth Survey'!DA14,'Youth Survey'!DA21,'Youth Survey'!DA24),\"\")","v":""},{"$f":"IFERROR(AVERAGE('Youth Survey'!DB7,'Youth Survey'!DB14,'Youth Survey'!DB21,'Youth Survey'!DB24),\"\")","v":""},{"$f":"IFERROR(AVERAGE('Youth Survey'!DC7,'Youth Survey'!DC14,'Youth Survey'!DC21,'Youth Survey'!DC24),\"\")","v":""},{"$f":"IFERROR(AVERAGE('Youth Survey'!DD7,'Youth Survey'!DD14,'Youth Survey'!DD21,'Youth Survey'!DD24),\"\")","v":""},{"$f":"IFERROR(AVERAGE('Youth Survey'!DE7,'Youth Survey'!DE14,'Youth Survey'!DE21,'Youth Survey'!DE24),\"\")","v":""},{"$f":"IFERROR(AVERAGE('Youth Survey'!DF7,'Youth Survey'!DF14,'Youth Survey'!DF21,'Youth Survey'!DF24),\"\")","v":""},{"$f":"IFERROR(AVERAGE('Youth Survey'!DG7,'Youth Survey'!DG14,'Youth Survey'!DG21,'Youth Survey'!DG24),\"\")","v":""},{"$f":"IFERROR(AVERAGE('Youth Survey'!DH7,'Youth Survey'!DH14,'Youth Survey'!DH21,'Youth Survey'!DH24),\"\")","v":""},{"$f":"IFERROR(AVERAGE('Youth Survey'!DI7,'Youth Survey'!DI14,'Youth Survey'!DI21,'Youth Survey'!DI24),\"\")","v":""},{"$f":"IFERROR(AVERAGE('Youth Survey'!DJ7,'Youth Survey'!DJ14,'Youth Survey'!DJ21,'Youth Survey'!DJ24),\"\")","v":""},{"$f":"IFERROR(AVERAGE('Youth Survey'!DK7,'Youth Survey'!DK14,'Youth Survey'!DK21,'Youth Survey'!DK24),\"\")","v":""},{"$f":"IFERROR(AVERAGE('Youth Survey'!DL7,'Youth Survey'!DL14,'Youth Survey'!DL21,'Youth Survey'!DL24),\"\")","v":""},{"$f":"IFERROR(AVERAGE('Youth Survey'!DM7,'Youth Survey'!DM14,'Youth Survey'!DM21,'Youth Survey'!DM24),\"\")","v":""},{"$f":"IFERROR(AVERAGE('Youth Survey'!DN7,'Youth Survey'!DN14,'Youth Survey'!DN21,'Youth Survey'!DN24),\"\")","v":""},{"$f":"IFERROR(AVERAGE('Youth Survey'!DO7,'Youth Survey'!DO14,'Youth Survey'!DO21,'Youth Survey'!DO24),\"\")","v":""},{"$f":"IFERROR(AVERAGE('Youth Survey'!DP7,'Youth Survey'!DP14,'Youth Survey'!DP21,'Youth Survey'!DP24),\"\")","v":""},{"$f":"IFERROR(AVERAGE('Youth Survey'!DQ7,'Youth Survey'!DQ14,'Youth Survey'!DQ21,'Youth Survey'!DQ24),\"\")","v":""},{"$f":"IFERROR(AVERAGE('Youth Survey'!DR7,'Youth Survey'!DR14,'Youth Survey'!DR21,'Youth Survey'!DR24),\"\")","v":""},{"$f":"IFERROR(AVERAGE('Youth Survey'!DS7,'Youth Survey'!DS14,'Youth Survey'!DS21,'Youth Survey'!DS24),\"\")","v":""},{"$f":"IFERROR(AVERAGE('Youth Survey'!DT7,'Youth Survey'!DT14,'Youth Survey'!DT21,'Youth Survey'!DT24),\"\")","v":""},{"$f":"IFERROR(AVERAGE('Youth Survey'!DU7,'Youth Survey'!DU14,'Youth Survey'!DU21,'Youth Survey'!DU24),\"\")","v":""},{"$f":"IFERROR(AVERAGE('Youth Survey'!DV7,'Youth Survey'!DV14,'Youth Survey'!DV21,'Youth Survey'!DV24),\"\")","v":""},{"$f":"IFERROR(AVERAGE('Youth Survey'!DW7,'Youth Survey'!DW14,'Youth Survey'!DW21,'Youth Survey'!DW24),\"\")","v":""},{"$f":"IFERROR(AVERAGE('Youth Survey'!DX7,'Youth Survey'!DX14,'Youth Survey'!DX21,'Youth Survey'!DX24),\"\")","v":""},{"$f":"IFERROR(AVERAGE('Youth Survey'!DY7,'Youth Survey'!DY14,'Youth Survey'!DY21,'Youth Survey'!DY24),\"\")","v":""},{"$f":"IFERROR(AVERAGE('Youth Survey'!DZ7,'Youth Survey'!DZ14,'Youth Survey'!DZ21,'Youth Survey'!DZ24),\"\")","v":""},{"$f":"IFERROR(AVERAGE('Youth Survey'!EA7,'Youth Survey'!EA14,'Youth Survey'!EA21,'Youth Survey'!EA24),\"\")","v":""},{"$f":"IFERROR(AVERAGE('Youth Survey'!EB7,'Youth Survey'!EB14,'Youth Survey'!EB21,'Youth Survey'!EB24),\"\")","v":""},{"$f":"IFERROR(AVERAGE('Youth Survey'!EC7,'Youth Survey'!EC14,'Youth Survey'!EC21,'Youth Survey'!EC24),\"\")","v":""},{"$f":"IFERROR(AVERAGE('Youth Survey'!ED7,'Youth Survey'!ED14,'Youth Survey'!ED21,'Youth Survey'!ED24),\"\")","v":""},{"$f":"IFERROR(AVERAGE('Youth Survey'!EE7,'Youth Survey'!EE14,'Youth Survey'!EE21,'Youth Survey'!EE24),\"\")","v":""},{"$f":"IFERROR(AVERAGE('Youth Survey'!EF7,'Youth Survey'!EF14,'Youth Survey'!EF21,'Youth Survey'!EF24),\"\")","v":""},{"$f":"IFERROR(AVERAGE('Youth Survey'!EG7,'Youth Survey'!EG14,'Youth Survey'!EG21,'Youth Survey'!EG24),\"\")","v":""},{"$f":"IFERROR(AVERAGE('Youth Survey'!EH7,'Youth Survey'!EH14,'Youth Survey'!EH21,'Youth Survey'!EH24),\"\")","v":""},{"$f":"IFERROR(AVERAGE('Youth Survey'!EI7,'Youth Survey'!EI14,'Youth Survey'!EI21,'Youth Survey'!EI24),\"\")","v":""},{"$f":"IFERROR(AVERAGE('Youth Survey'!EJ7,'Youth Survey'!EJ14,'Youth Survey'!EJ21,'Youth Survey'!EJ24),\"\")","v":""},{"$f":"IFERROR(AVERAGE('Youth Survey'!EK7,'Youth Survey'!EK14,'Youth Survey'!EK21,'Youth Survey'!EK24),\"\")","v":""},{"$f":"IFERROR(AVERAGE('Youth Survey'!EL7,'Youth Survey'!EL14,'Youth Survey'!EL21,'Youth Survey'!EL24),\"\")","v":""},{"$f":"IFERROR(AVERAGE('Youth Survey'!EM7,'Youth Survey'!EM14,'Youth Survey'!EM21,'Youth Survey'!EM24),\"\")","v":""},{"$f":"IFERROR(AVERAGE('Youth Survey'!EN7,'Youth Survey'!EN14,'Youth Survey'!EN21,'Youth Survey'!EN24),\"\")","v":""},{"$f":"IFERROR(AVERAGE('Youth Survey'!EO7,'Youth Survey'!EO14,'Youth Survey'!EO21,'Youth Survey'!EO24),\"\")","v":""},{"$f":"IFERROR(AVERAGE('Youth Survey'!EP7,'Youth Survey'!EP14,'Youth Survey'!EP21,'Youth Survey'!EP24),\"\")","v":""},{"$f":"IFERROR(AVERAGE('Youth Survey'!EQ7,'Youth Survey'!EQ14,'Youth Survey'!EQ21,'Youth Survey'!EQ24),\"\")","v":""},{"$f":"IFERROR(AVERAGE('Youth Survey'!ER7,'Youth Survey'!ER14,'Youth Survey'!ER21,'Youth Survey'!ER24),\"\")","v":""},{"$f":"IFERROR(AVERAGE('Youth Survey'!ES7,'Youth Survey'!ES14,'Youth Survey'!ES21,'Youth Survey'!ES24),\"\")","v":""},{"$f":"IFERROR(AVERAGE('Youth Survey'!ET7,'Youth Survey'!ET14,'Youth Survey'!ET21,'Youth Survey'!ET24),\"\")","v":""},{"$f":"IFERROR(AVERAGE('Youth Survey'!EU7,'Youth Survey'!EU14,'Youth Survey'!EU21,'Youth Survey'!EU24),\"\")","v":""},{"$f":"IFERROR(AVERAGE('Youth Survey'!EV7,'Youth Survey'!EV14,'Youth Survey'!EV21,'Youth Survey'!EV24),\"\")","v":""},{"$f":"IFERROR(AVERAGE('Youth Survey'!EW7,'Youth Survey'!EW14,'Youth Survey'!EW21,'Youth Survey'!EW24),\"\")","v":""},{"$f":"IFERROR(AVERAGE('Youth Survey'!EX7,'Youth Survey'!EX14,'Youth Survey'!EX21,'Youth Survey'!EX24),\"\")","v":""},{"$f":"IFERROR(AVERAGE('Youth Survey'!EY7,'Youth Survey'!EY14,'Youth Survey'!EY21,'Youth Survey'!EY24),\"\")","v":""},{"$f":"IFERROR(AVERAGE('Youth Survey'!EZ7,'Youth Survey'!EZ14,'Youth Survey'!EZ21,'Youth Survey'!EZ24),\"\")","v":""},{"$f":"IFERROR(AVERAGE('Youth Survey'!FA7,'Youth Survey'!FA14,'Youth Survey'!FA21,'Youth Survey'!FA24),\"\")","v":""},{"$f":"IFERROR(AVERAGE('Youth Survey'!FB7,'Youth Survey'!FB14,'Youth Survey'!FB21,'Youth Survey'!FB24),\"\")","v":""},{"$f":"IFERROR(AVERAGE('Youth Survey'!FC7,'Youth Survey'!FC14,'Youth Survey'!FC21,'Youth Survey'!FC24),\"\")","v":""},{"$f":"IFERROR(AVERAGE('Youth Survey'!FD7,'Youth Survey'!FD14,'Youth Survey'!FD21,'Youth Survey'!FD24),\"\")","v":""},{"$f":"IFERROR(AVERAGE('Youth Survey'!FE7,'Youth Survey'!FE14,'Youth Survey'!FE21,'Youth Survey'!FE24),\"\")","v":""},{"$f":"IFERROR(AVERAGE('Youth Survey'!FF7,'Youth Survey'!FF14,'Youth Survey'!FF21,'Youth Survey'!FF24),\"\")","v":""},{"$f":"IFERROR(AVERAGE('Youth Survey'!FG7,'Youth Survey'!FG14,'Youth Survey'!FG21,'Youth Survey'!FG24),\"\")","v":""},{"$f":"IFERROR(AVERAGE('Youth Survey'!FH7,'Youth Survey'!FH14,'Youth Survey'!FH21,'Youth Survey'!FH24),\"\")","v":""},{"$f":"IFERROR(AVERAGE('Youth Survey'!FI7,'Youth Survey'!FI14,'Youth Survey'!FI21,'Youth Survey'!FI24),\"\")","v":""},{"$f":"IFERROR(AVERAGE('Youth Survey'!FJ7,'Youth Survey'!FJ14,'Youth Survey'!FJ21,'Youth Survey'!FJ24),\"\")","v":""},{"$f":"IFERROR(AVERAGE('Youth Survey'!FK7,'Youth Survey'!FK14,'Youth Survey'!FK21,'Youth Survey'!FK24),\"\")","v":""},{"$f":"IFERROR(AVERAGE('Youth Survey'!FL7,'Youth Survey'!FL14,'Youth Survey'!FL21,'Youth Survey'!FL24),\"\")","v":""},{"$f":"IFERROR(AVERAGE('Youth Survey'!FM7,'Youth Survey'!FM14,'Youth Survey'!FM21,'Youth Survey'!FM24),\"\")","v":""},{"$f":"IFERROR(AVERAGE('Youth Survey'!FN7,'Youth Survey'!FN14,'Youth Survey'!FN21,'Youth Survey'!FN24),\"\")","v":""},{"$f":"IFERROR(AVERAGE('Youth Survey'!FO7,'Youth Survey'!FO14,'Youth Survey'!FO21,'Youth Survey'!FO24),\"\")","v":""},{"$f":"IFERROR(AVERAGE('Youth Survey'!FP7,'Youth Survey'!FP14,'Youth Survey'!FP21,'Youth Survey'!FP24),\"\")","v":""},{"$f":"IFERROR(AVERAGE('Youth Survey'!FQ7,'Youth Survey'!FQ14,'Youth Survey'!FQ21,'Youth Survey'!FQ24),\"\")","v":""},{"$f":"IFERROR(AVERAGE('Youth Survey'!FR7,'Youth Survey'!FR14,'Youth Survey'!FR21,'Youth Survey'!FR24),\"\")","v":""},{"$f":"IFERROR(AVERAGE('Youth Survey'!FS7,'Youth Survey'!FS14,'Youth Survey'!FS21,'Youth Survey'!FS24),\"\")","v":""},{"$f":"IFERROR(AVERAGE('Youth Survey'!FT7,'Youth Survey'!FT14,'Youth Survey'!FT21,'Youth Survey'!FT24),\"\")","v":""},{"$f":"IFERROR(AVERAGE('Youth Survey'!FU7,'Youth Survey'!FU14,'Youth Survey'!FU21,'Youth Survey'!FU24),\"\")","v":""},{"$f":"IFERROR(AVERAGE('Youth Survey'!FV7,'Youth Survey'!FV14,'Youth Survey'!FV21,'Youth Survey'!FV24),\"\")","v":""},{"$f":"IFERROR(AVERAGE('Youth Survey'!FW7,'Youth Survey'!FW14,'Youth Survey'!FW21,'Youth Survey'!FW24),\"\")","v":""},{"$f":"IFERROR(AVERAGE('Youth Survey'!FX7,'Youth Survey'!FX14,'Youth Survey'!FX21,'Youth Survey'!FX24),\"\")","v":""},{"$f":"IFERROR(AVERAGE('Youth Survey'!FY7,'Youth Survey'!FY14,'Youth Survey'!FY21,'Youth Survey'!FY24),\"\")","v":""},{"$f":"IFERROR(AVERAGE('Youth Survey'!FZ7,'Youth Survey'!FZ14,'Youth Survey'!FZ21,'Youth Survey'!FZ24),\"\")","v":""},{"$f":"IFERROR(AVERAGE('Youth Survey'!GA7,'Youth Survey'!GA14,'Youth Survey'!GA21,'Youth Survey'!GA24),\"\")","v":""},{"$f":"IFERROR(AVERAGE('Youth Survey'!GB7,'Youth Survey'!GB14,'Youth Survey'!GB21,'Youth Survey'!GB24),\"\")","v":""},{"$f":"IFERROR(AVERAGE('Youth Survey'!GC7,'Youth Survey'!GC14,'Youth Survey'!GC21,'Youth Survey'!GC24),\"\")","v":""},{"$f":"IFERROR(AVERAGE('Youth Survey'!GD7,'Youth Survey'!GD14,'Youth Survey'!GD21,'Youth Survey'!GD24),\"\")","v":""},{"$f":"IFERROR(AVERAGE('Youth Survey'!GE7,'Youth Survey'!GE14,'Youth Survey'!GE21,'Youth Survey'!GE24),\"\")","v":""},{"$f":"IFERROR(AVERAGE('Youth Survey'!GF7,'Youth Survey'!GF14,'Youth Survey'!GF21,'Youth Survey'!GF24),\"\")","v":""},{"$f":"IFERROR(AVERAGE('Youth Survey'!GG7,'Youth Survey'!GG14,'Youth Survey'!GG21,'Youth Survey'!GG24),\"\")","v":""},{"$f":"IFERROR(AVERAGE('Youth Survey'!GH7,'Youth Survey'!GH14,'Youth Survey'!GH21,'Youth Survey'!GH24),\"\")","v":""},{"$f":"IFERROR(AVERAGE('Youth Survey'!GI7,'Youth Survey'!GI14,'Youth Survey'!GI21,'Youth Survey'!GI24),\"\")","v":""},{"$f":"IFERROR(AVERAGE('Youth Survey'!GJ7,'Youth Survey'!GJ14,'Youth Survey'!GJ21,'Youth Survey'!GJ24),\"\")","v":""},{"$f":"IFERROR(AVERAGE('Youth Survey'!GK7,'Youth Survey'!GK14,'Youth Survey'!GK21,'Youth Survey'!GK24),\"\")","v":""},{"$f":"IFERROR(AVERAGE('Youth Survey'!GL7,'Youth Survey'!GL14,'Youth Survey'!GL21,'Youth Survey'!GL24),\"\")","v":""},{"$f":"IFERROR(AVERAGE('Youth Survey'!GM7,'Youth Survey'!GM14,'Youth Survey'!GM21,'Youth Survey'!GM24),\"\")","v":""},{"$f":"IFERROR(AVERAGE('Youth Survey'!GN7,'Youth Survey'!GN14,'Youth Survey'!GN21,'Youth Survey'!GN24),\"\")","v":""},{"$f":"IFERROR(AVERAGE('Youth Survey'!GO7,'Youth Survey'!GO14,'Youth Survey'!GO21,'Youth Survey'!GO24),\"\")","v":""},{"$f":"IFERROR(AVERAGE('Youth Survey'!GP7,'Youth Survey'!GP14,'Youth Survey'!GP21,'Youth Survey'!GP24),\"\")","v":""},{"$f":"IFERROR(AVERAGE('Youth Survey'!GQ7,'Youth Survey'!GQ14,'Youth Survey'!GQ21,'Youth Survey'!GQ24),\"\")","v":""},{"$f":"IFERROR(AVERAGE('Youth Survey'!GR7,'Youth Survey'!GR14,'Youth Survey'!GR21,'Youth Survey'!GR24),\"\")","v":""},{"$f":"IFERROR(AVERAGE('Youth Survey'!GS7,'Youth Survey'!GS14,'Youth Survey'!GS21,'Youth Survey'!GS24),\"\")","v":""},{"$f":"IFERROR(AVERAGE('Youth Survey'!GT7,'Youth Survey'!GT14,'Youth Survey'!GT21,'Youth Survey'!GT24),\"\")","v":""},{"$f":"IFERROR(AVERAGE('Youth Survey'!GU7,'Youth Survey'!GU14,'Youth Survey'!GU21,'Youth Survey'!GU24),\"\")","v":""},{"$f":"IFERROR(AVERAGE('Youth Survey'!GV7,'Youth Survey'!GV14,'Youth Survey'!GV21,'Youth Survey'!GV24),\"\")","v":""},{"$f":"IFERROR(AVERAGE('Youth Survey'!GW7,'Youth Survey'!GW14,'Youth Survey'!GW21,'Youth Survey'!GW24),\"\")","v":""},{"$f":"IFERROR(AVERAGE('Youth Survey'!GX7,'Youth Survey'!GX14,'Youth Survey'!GX21,'Youth Survey'!GX24),\"\")","v":""},{"$f":"IFERROR(AVERAGE('Youth Survey'!GY7,'Youth Survey'!GY14,'Youth Survey'!GY21,'Youth Survey'!GY24),\"\")","v":""},{"$f":"IFERROR(AVERAGE('Youth Survey'!GZ7,'Youth Survey'!GZ14,'Youth Survey'!GZ21,'Youth Survey'!GZ24),\"\")","v":""},{"$f":"IFERROR(AVERAGE('Youth Survey'!HA7,'Youth Survey'!HA14,'Youth Survey'!HA21,'Youth Survey'!HA24),\"\")","v":""},{"$f":"IFERROR(AVERAGE('Youth Survey'!HB7,'Youth Survey'!HB14,'Youth Survey'!HB21,'Youth Survey'!HB24),\"\")","v":""},{"$f":"IFERROR(AVERAGE('Youth Survey'!HC7,'Youth Survey'!HC14,'Youth Survey'!HC21,'Youth Survey'!HC24),\"\")","v":""},{"$f":"IFERROR(AVERAGE('Youth Survey'!HD7,'Youth Survey'!HD14,'Youth Survey'!HD21,'Youth Survey'!HD24),\"\")","v":""},{"$f":"IFERROR(AVERAGE('Youth Survey'!HE7,'Youth Survey'!HE14,'Youth Survey'!HE21,'Youth Survey'!HE24),\"\")","v":""},{"$f":"IFERROR(AVERAGE('Youth Survey'!HF7,'Youth Survey'!HF14,'Youth Survey'!HF21,'Youth Survey'!HF24),\"\")","v":""},{"$f":"IFERROR(AVERAGE('Youth Survey'!HG7,'Youth Survey'!HG14,'Youth Survey'!HG21,'Youth Survey'!HG24),\"\")","v":""},{"$f":"IFERROR(AVERAGE('Youth Survey'!HH7,'Youth Survey'!HH14,'Youth Survey'!HH21,'Youth Survey'!HH24),\"\")","v":""},{"$f":"IFERROR(AVERAGE('Youth Survey'!HI7,'Youth Survey'!HI14,'Youth Survey'!HI21,'Youth Survey'!HI24),\"\")","v":""},{"$f":"IFERROR(AVERAGE('Youth Survey'!HJ7,'Youth Survey'!HJ14,'Youth Survey'!HJ21,'Youth Survey'!HJ24),\"\")","v":""},{"$f":"IFERROR(AVERAGE('Youth Survey'!HK7,'Youth Survey'!HK14,'Youth Survey'!HK21,'Youth Survey'!HK24),\"\")","v":""},{"$f":"IFERROR(AVERAGE('Youth Survey'!HL7,'Youth Survey'!HL14,'Youth Survey'!HL21,'Youth Survey'!HL24),\"\")","v":""},{"$f":"IFERROR(AVERAGE('Youth Survey'!HM7,'Youth Survey'!HM14,'Youth Survey'!HM21,'Youth Survey'!HM24),\"\")","v":""},{"$f":"IFERROR(AVERAGE('Youth Survey'!HN7,'Youth Survey'!HN14,'Youth Survey'!HN21,'Youth Survey'!HN24),\"\")","v":""},{"$f":"IFERROR(AVERAGE('Youth Survey'!HO7,'Youth Survey'!HO14,'Youth Survey'!HO21,'Youth Survey'!HO24),\"\")","v":""},{"$f":"IFERROR(AVERAGE('Youth Survey'!HP7,'Youth Survey'!HP14,'Youth Survey'!HP21,'Youth Survey'!HP24),\"\")","v":""},{"$f":"IFERROR(AVERAGE('Youth Survey'!HQ7,'Youth Survey'!HQ14,'Youth Survey'!HQ21,'Youth Survey'!HQ24),\"\")","v":""},{"$f":"IFERROR(AVERAGE('Youth Survey'!HR7,'Youth Survey'!HR14,'Youth Survey'!HR21,'Youth Survey'!HR24),\"\")","v":""},{"$f":"IFERROR(AVERAGE('Youth Survey'!HS7,'Youth Survey'!HS14,'Youth Survey'!HS21,'Youth Survey'!HS24),\"\")","v":""},{"$f":"IFERROR(AVERAGE('Youth Survey'!HT7,'Youth Survey'!HT14,'Youth Survey'!HT21,'Youth Survey'!HT24),\"\")","v":""},{"$f":"IFERROR(AVERAGE('Youth Survey'!HU7,'Youth Survey'!HU14,'Youth Survey'!HU21,'Youth Survey'!HU24),\"\")","v":""},{"$f":"IFERROR(AVERAGE('Youth Survey'!HV7,'Youth Survey'!HV14,'Youth Survey'!HV21,'Youth Survey'!HV24),\"\")","v":""},{"$f":"IFERROR(AVERAGE('Youth Survey'!HW7,'Youth Survey'!HW14,'Youth Survey'!HW21,'Youth Survey'!HW24),\"\")","v":""},{"$f":"IFERROR(AVERAGE('Youth Survey'!HX7,'Youth Survey'!HX14,'Youth Survey'!HX21,'Youth Survey'!HX24),\"\")","v":""},{"$f":"IFERROR(AVERAGE('Youth Survey'!HY7,'Youth Survey'!HY14,'Youth Survey'!HY21,'Youth Survey'!HY24),\"\")","v":""},{"$f":"IFERROR(AVERAGE('Youth Survey'!HZ7,'Youth Survey'!HZ14,'Youth Survey'!HZ21,'Youth Survey'!HZ24),\"\")","v":""},{"$f":"IFERROR(AVERAGE('Youth Survey'!IA7,'Youth Survey'!IA14,'Youth Survey'!IA21,'Youth Survey'!IA24),\"\")","v":""},{"$f":"IFERROR(AVERAGE('Youth Survey'!IB7,'Youth Survey'!IB14,'Youth Survey'!IB21,'Youth Survey'!IB24),\"\")","v":""},{"$f":"IFERROR(AVERAGE('Youth Survey'!IC7,'Youth Survey'!IC14,'Youth Survey'!IC21,'Youth Survey'!IC24),\"\")","v":""},{"$f":"IFERROR(AVERAGE('Youth Survey'!ID7,'Youth Survey'!ID14,'Youth Survey'!ID21,'Youth Survey'!ID24),\"\")","v":""},{"$f":"IFERROR(AVERAGE('Youth Survey'!IE7,'Youth Survey'!IE14,'Youth Survey'!IE21,'Youth Survey'!IE24),\"\")","v":""},{"$f":"IFERROR(AVERAGE('Youth Survey'!IF7,'Youth Survey'!IF14,'Youth Survey'!IF21,'Youth Survey'!IF24),\"\")","v":""},{"$f":"IFERROR(AVERAGE('Youth Survey'!IG7,'Youth Survey'!IG14,'Youth Survey'!IG21,'Youth Survey'!IG24),\"\")","v":""},{"$f":"IFERROR(AVERAGE('Youth Survey'!IH7,'Youth Survey'!IH14,'Youth Survey'!IH21,'Youth Survey'!IH24),\"\")","v":""},{"$f":"IFERROR(AVERAGE('Youth Survey'!II7,'Youth Survey'!II14,'Youth Survey'!II21,'Youth Survey'!II24),\"\")","v":""},{"$f":"IFERROR(AVERAGE('Youth Survey'!IJ7,'Youth Survey'!IJ14,'Youth Survey'!IJ21,'Youth Survey'!IJ24),\"\")","v":""},{"$f":"IFERROR(AVERAGE('Youth Survey'!IK7,'Youth Survey'!IK14,'Youth Survey'!IK21,'Youth Survey'!IK24),\"\")","v":""},{"$f":"IFERROR(AVERAGE('Youth Survey'!IL7,'Youth Survey'!IL14,'Youth Survey'!IL21,'Youth Survey'!IL24),\"\")","v":""},{"$f":"IFERROR(AVERAGE('Youth Survey'!IM7,'Youth Survey'!IM14,'Youth Survey'!IM21,'Youth Survey'!IM24),\"\")","v":""},{"$f":"IFERROR(AVERAGE('Youth Survey'!IN7,'Youth Survey'!IN14,'Youth Survey'!IN21,'Youth Survey'!IN24),\"\")","v":""},{"$f":"IFERROR(AVERAGE('Youth Survey'!IO7,'Youth Survey'!IO14,'Youth Survey'!IO21,'Youth Survey'!IO24),\"\")","v":""},{"$f":"IFERROR(AVERAGE('Youth Survey'!IP7,'Youth Survey'!IP14,'Youth Survey'!IP21,'Youth Survey'!IP24),\"\")","v":""},{"$f":"IFERROR(AVERAGE('Youth Survey'!IQ7,'Youth Survey'!IQ14,'Youth Survey'!IQ21,'Youth Survey'!IQ24),\"\")","v":""},{"$f":"IFERROR(AVERAGE('Youth Survey'!IR7,'Youth Survey'!IR14,'Youth Survey'!IR21,'Youth Survey'!IR24),\"\")","v":""},{"$f":"IFERROR(AVERAGE('Youth Survey'!IS7,'Youth Survey'!IS14,'Youth Survey'!IS21,'Youth Survey'!IS24),\"\")","v":""},{"$f":"IFERROR(AVERAGE('Youth Survey'!IT7,'Youth Survey'!IT14,'Youth Survey'!IT21,'Youth Survey'!IT24),\"\")","v":""},{"$f":"IFERROR(AVERAGE('Youth Survey'!IU7,'Youth Survey'!IU14,'Youth Survey'!IU21,'Youth Survey'!IU24),\"\")","v":""},{"$f":"IFERROR(AVERAGE('Youth Survey'!IV7,'Youth Survey'!IV14,'Youth Survey'!IV21,'Youth Survey'!IV24),\"\")","v":""},{"$f":"IFERROR(AVERAGE('Youth Survey'!IW7,'Youth Survey'!IW14,'Youth Survey'!IW21,'Youth Survey'!IW24),\"\")","v":""},{"$f":"IFERROR(AVERAGE('Youth Survey'!IX7,'Youth Survey'!IX14,'Youth Survey'!IX21,'Youth Survey'!IX24),\"\")","v":""},{"$f":"IFERROR(AVERAGE('Youth Survey'!IY7,'Youth Survey'!IY14,'Youth Survey'!IY21,'Youth Survey'!IY24),\"\")","v":""},{"$f":"IFERROR(AVERAGE('Youth Survey'!IZ7,'Youth Survey'!IZ14,'Youth Survey'!IZ21,'Youth Survey'!IZ24),\"\")","v":""},{"$f":"IFERROR(AVERAGE('Youth Survey'!JA7,'Youth Survey'!JA14,'Youth Survey'!JA21,'Youth Survey'!JA24),\"\")","v":""},{"$f":"IFERROR(AVERAGE('Youth Survey'!JB7,'Youth Survey'!JB14,'Youth Survey'!JB21,'Youth Survey'!JB24),\"\")","v":""},{"$f":"IFERROR(AVERAGE('Youth Survey'!JC7,'Youth Survey'!JC14,'Youth Survey'!JC21,'Youth Survey'!JC24),\"\")","v":""},{"$f":"IFERROR(AVERAGE('Youth Survey'!JD7,'Youth Survey'!JD14,'Youth Survey'!JD21,'Youth Survey'!JD24),\"\")","v":""},{"$f":"IFERROR(AVERAGE('Youth Survey'!JE7,'Youth Survey'!JE14,'Youth Survey'!JE21,'Youth Survey'!JE24),\"\")","v":""},{"$f":"IFERROR(AVERAGE('Youth Survey'!JF7,'Youth Survey'!JF14,'Youth Survey'!JF21,'Youth Survey'!JF24),\"\")","v":""},{"$f":"IFERROR(AVERAGE('Youth Survey'!JG7,'Youth Survey'!JG14,'Youth Survey'!JG21,'Youth Survey'!JG24),\"\")","v":""},{"$f":"IFERROR(AVERAGE('Youth Survey'!JH7,'Youth Survey'!JH14,'Youth Survey'!JH21,'Youth Survey'!JH24),\"\")","v":""},{"$f":"IFERROR(AVERAGE('Youth Survey'!JI7,'Youth Survey'!JI14,'Youth Survey'!JI21,'Youth Survey'!JI24),\"\")","v":""},{"$f":"IFERROR(AVERAGE('Youth Survey'!JJ7,'Youth Survey'!JJ14,'Youth Survey'!JJ21,'Youth Survey'!JJ24),\"\")","v":""},{"$f":"IFERROR(AVERAGE('Youth Survey'!JK7,'Youth Survey'!JK14,'Youth Survey'!JK21,'Youth Survey'!JK24),\"\")","v":""},{"$f":"IFERROR(AVERAGE('Youth Survey'!JL7,'Youth Survey'!JL14,'Youth Survey'!JL21,'Youth Survey'!JL24),\"\")","v":""},{"$f":"IFERROR(AVERAGE('Youth Survey'!JM7,'Youth Survey'!JM14,'Youth Survey'!JM21,'Youth Survey'!JM24),\"\")","v":""},{"$f":"IFERROR(AVERAGE('Youth Survey'!JN7,'Youth Survey'!JN14,'Youth Survey'!JN21,'Youth Survey'!JN24),\"\")","v":""},{"$f":"IFERROR(AVERAGE('Youth Survey'!JO7,'Youth Survey'!JO14,'Youth Survey'!JO21,'Youth Survey'!JO24),\"\")","v":""},{"$f":"IFERROR(AVERAGE('Youth Survey'!JP7,'Youth Survey'!JP14,'Youth Survey'!JP21,'Youth Survey'!JP24),\"\")","v":""},{"$f":"IFERROR(AVERAGE('Youth Survey'!JQ7,'Youth Survey'!JQ14,'Youth Survey'!JQ21,'Youth Survey'!JQ24),\"\")","v":""},{"$f":"IFERROR(AVERAGE('Youth Survey'!JR7,'Youth Survey'!JR14,'Youth Survey'!JR21,'Youth Survey'!JR24),\"\")","v":""},{"$f":"IFERROR(AVERAGE('Youth Survey'!JS7,'Youth Survey'!JS14,'Youth Survey'!JS21,'Youth Survey'!JS24),\"\")","v":""},{"$f":"IFERROR(AVERAGE('Youth Survey'!JT7,'Youth Survey'!JT14,'Youth Survey'!JT21,'Youth Survey'!JT24),\"\")","v":""},{"$f":"IFERROR(AVERAGE('Youth Survey'!JU7,'Youth Survey'!JU14,'Youth Survey'!JU21,'Youth Survey'!JU24),\"\")","v":""},{"$f":"IFERROR(AVERAGE('Youth Survey'!JV7,'Youth Survey'!JV14,'Youth Survey'!JV21,'Youth Survey'!JV24),\"\")","v":""},{"$f":"IFERROR(AVERAGE('Youth Survey'!JW7,'Youth Survey'!JW14,'Youth Survey'!JW21,'Youth Survey'!JW24),\"\")","v":""},{"$f":"IFERROR(AVERAGE('Youth Survey'!JX7,'Youth Survey'!JX14,'Youth Survey'!JX21,'Youth Survey'!JX24),\"\")","v":""},{"$f":"IFERROR(AVERAGE('Youth Survey'!JY7,'Youth Survey'!JY14,'Youth Survey'!JY21,'Youth Survey'!JY24),\"\")","v":""},{"$f":"IFERROR(AVERAGE('Youth Survey'!JZ7,'Youth Survey'!JZ14,'Youth Survey'!JZ21,'Youth Survey'!JZ24),\"\")","v":""},{"$f":"IFERROR(AVERAGE('Youth Survey'!KA7,'Youth Survey'!KA14,'Youth Survey'!KA21,'Youth Survey'!KA24),\"\")","v":""},{"$f":"IFERROR(AVERAGE('Youth Survey'!KB7,'Youth Survey'!KB14,'Youth Survey'!KB21,'Youth Survey'!KB24),\"\")","v":""},{"$f":"IFERROR(AVERAGE('Youth Survey'!KC7,'Youth Survey'!KC14,'Youth Survey'!KC21,'Youth Survey'!KC24),\"\")","v":""},{"$f":"IFERROR(AVERAGE('Youth Survey'!KD7,'Youth Survey'!KD14,'Youth Survey'!KD21,'Youth Survey'!KD24),\"\")","v":""},{"$f":"IFERROR(AVERAGE('Youth Survey'!KE7,'Youth Survey'!KE14,'Youth Survey'!KE21,'Youth Survey'!KE24),\"\")","v":""},{"$f":"IFERROR(AVERAGE('Youth Survey'!KF7,'Youth Survey'!KF14,'Youth Survey'!KF21,'Youth Survey'!KF24),\"\")","v":""},{"$f":"IFERROR(AVERAGE('Youth Survey'!KG7,'Youth Survey'!KG14,'Youth Survey'!KG21,'Youth Survey'!KG24),\"\")","v":""},{"$f":"IFERROR(AVERAGE('Youth Survey'!KH7,'Youth Survey'!KH14,'Youth Survey'!KH21,'Youth Survey'!KH24),\"\")","v":""},{"$f":"IFERROR(AVERAGE('Youth Survey'!KI7,'Youth Survey'!KI14,'Youth Survey'!KI21,'Youth Survey'!KI24),\"\")","v":""},{"$f":"IFERROR(AVERAGE('Youth Survey'!KJ7,'Youth Survey'!KJ14,'Youth Survey'!KJ21,'Youth Survey'!KJ24),\"\")","v":""},{"$f":"IFERROR(AVERAGE('Youth Survey'!KK7,'Youth Survey'!KK14,'Youth Survey'!KK21,'Youth Survey'!KK24),\"\")","v":""},{"$f":"IFERROR(AVERAGE('Youth Survey'!KL7,'Youth Survey'!KL14,'Youth Survey'!KL21,'Youth Survey'!KL24),\"\")","v":""},{"$f":"IFERROR(AVERAGE('Youth Survey'!KM7,'Youth Survey'!KM14,'Youth Survey'!KM21,'Youth Survey'!KM24),\"\")","v":""},{"$f":"IFERROR(AVERAGE('Youth Survey'!KN7,'Youth Survey'!KN14,'Youth Survey'!KN21,'Youth Survey'!KN24),\"\")","v":""},{"$f":"IFERROR(AVERAGE('Youth Survey'!KO7,'Youth Survey'!KO14,'Youth Survey'!KO21,'Youth Survey'!KO24),\"\")","v":""},{"$f":"IFERROR(AVERAGE('Youth Survey'!KP7,'Youth Survey'!KP14,'Youth Survey'!KP21,'Youth Survey'!KP24),\"\")","v":""},{"$f":"IFERROR(AVERAGE('Youth Survey'!KQ7,'Youth Survey'!KQ14,'Youth Survey'!KQ21,'Youth Survey'!KQ24),\"\")","v":""},{"$f":"IFERROR(AVERAGE('Youth Survey'!KR7,'Youth Survey'!KR14,'Youth Survey'!KR21,'Youth Survey'!KR24),\"\")","v":""},{"$f":"IFERROR(AVERAGE('Youth Survey'!KS7,'Youth Survey'!KS14,'Youth Survey'!KS21,'Youth Survey'!KS24),\"\")","v":""},{"$f":"IFERROR(AVERAGE('Youth Survey'!KT7,'Youth Survey'!KT14,'Youth Survey'!KT21,'Youth Survey'!KT24),\"\")","v":""},{"$f":"IFERROR(AVERAGE('Youth Survey'!KU7,'Youth Survey'!KU14,'Youth Survey'!KU21,'Youth Survey'!KU24),\"\")","v":""},{"$f":"IFERROR(AVERAGE('Youth Survey'!KV7,'Youth Survey'!KV14,'Youth Survey'!KV21,'Youth Survey'!KV24),\"\")","v":""},{"$f":"IFERROR(AVERAGE('Youth Survey'!KW7,'Youth Survey'!KW14,'Youth Survey'!KW21,'Youth Survey'!KW24),\"\")","v":""},{"$f":"IFERROR(AVERAGE('Youth Survey'!KX7,'Youth Survey'!KX14,'Youth Survey'!KX21,'Youth Survey'!KX24),\"\")","v":""},{"$f":"IFERROR(AVERAGE('Youth Survey'!KY7,'Youth Survey'!KY14,'Youth Survey'!KY21,'Youth Survey'!KY24),\"\")","v":""},{"$f":"IFERROR(AVERAGE('Youth Survey'!KZ7,'Youth Survey'!KZ14,'Youth Survey'!KZ21,'Youth Survey'!KZ24),\"\")","v":""},{"$f":"IFERROR(AVERAGE('Youth Survey'!LA7,'Youth Survey'!LA14,'Youth Survey'!LA21,'Youth Survey'!LA24),\"\")","v":""},{"$f":"IFERROR(AVERAGE('Youth Survey'!LB7,'Youth Survey'!LB14,'Youth Survey'!LB21,'Youth Survey'!LB24),\"\")","v":""},{"$f":"IFERROR(AVERAGE('Youth Survey'!LC7,'Youth Survey'!LC14,'Youth Survey'!LC21,'Youth Survey'!LC24),\"\")","v":""},{"$f":"IFERROR(AVERAGE('Youth Survey'!LD7,'Youth Survey'!LD14,'Youth Survey'!LD21,'Youth Survey'!LD24),\"\")","v":""},{"$f":"IFERROR(AVERAGE('Youth Survey'!LE7,'Youth Survey'!LE14,'Youth Survey'!LE21,'Youth Survey'!LE24),\"\")","v":""},{"$f":"IFERROR(AVERAGE('Youth Survey'!LF7,'Youth Survey'!LF14,'Youth Survey'!LF21,'Youth Survey'!LF24),\"\")","v":""}]
["Pre","O16",null,{"$f":"IFERROR(AVERAGE('Youth Survey'!D16,'Youth Survey'!D18,'Youth Survey'!D22,'Youth Survey'!D23),\"\")","v":""},{"$f":"IFERROR(AVERAGE('Youth Survey'!E16,'Youth Survey'!E18,'Youth Survey'!E22,'Youth Survey'!E23),\"\")","v":""},{"$f":"IFERROR(AVERAGE('Youth Survey'!F16,'Youth Survey'!F18,'Youth Survey'!F22,'Youth Survey'!F23),\"\")","v":""},{"$f":"IFERROR(AVERAGE('Youth Survey'!G16,'Youth Survey'!G18,'Youth Survey'!G22,'Youth Survey'!G23),\"\")","v":""},{"$f":"IFERROR(AVERAGE('Youth Survey'!H16,'Youth Survey'!H18,'Youth Survey'!H22,'Youth Survey'!H23),\"\")","v":""},{"$f":"IFERROR(AVERAGE('Youth Survey'!I16,'Youth Survey'!I18,'Youth Survey'!I22,'Youth Survey'!I23),\"\")","v":""},{"$f":"IFERROR(AVERAGE('Youth Survey'!J16,'Youth Survey'!J18,'Youth Survey'!J22,'Youth Survey'!J23),\"\")","v":""},{"$f":"IFERROR(AVERAGE('Youth Survey'!K16,'Youth Survey'!K18,'Youth Survey'!K22,'Youth Survey'!K23),\"\")","v":""},{"$f":"IFERROR(AVERAGE('Youth Survey'!L16,'Youth Survey'!L18,'Youth Survey'!L22,'Youth Survey'!L23),\"\")","v":""},{"$f":"IFERROR(AVERAGE('Youth Survey'!M16,'Youth Survey'!M18,'Youth Survey'!M22,'Youth Survey'!M23),\"\")","v":""},{"$f":"IFERROR(AVERAGE('Youth Survey'!N16,'Youth Survey'!N18,'Youth Survey'!N22,'Youth Survey'!N23),\"\")","v":""},{"$f":"IFERROR(AVERAGE('Youth Survey'!O16,'Youth Survey'!O18,'Youth Survey'!O22,'Youth Survey'!O23),\"\")","v":""},{"$f":"IFERROR(AVERAGE('Youth Survey'!P16,'Youth Survey'!P18,'Youth Survey'!P22,'Youth Survey'!P23),\"\")","v":""},{"$f":"IFERROR(AVERAGE('Youth Survey'!Q16,'Youth Survey'!Q18,'Youth Survey'!Q22,'Youth Survey'!Q23),\"\")","v":""},{"$f":"IFERROR(AVERAGE('Youth Survey'!R16,'Youth Survey'!R18,'Youth Survey'!R22,'Youth Survey'!R23),\"\")","v":""},{"$f":"IFERROR(AVERAGE('Youth Survey'!S16,'Youth Survey'!S18,'Youth Survey'!S22,'Youth Survey'!S23),\"\")","v":""},{"$f":"IFERROR(AVERAGE('Youth Survey'!T16,'Youth Survey'!T18,'Youth Survey'!T22,'Youth Survey'!T23),\"\")","v":""},{"$f":"IFERROR(AVERAGE('Youth Survey'!U16,'Youth Survey'!U18,'Youth Survey'!U22,'Youth Survey'!U23),\"\")","v":""},{"$f":"IFERROR(AVERAGE('Youth Survey'!V16,'Youth Survey'!V18,'Youth Survey'!V22,'Youth Survey'!V23),\"\")","v":""},{"$f":"IFERROR(AVERAGE('Youth Survey'!W16,'Youth Survey'!W18,'Youth Survey'!W22,'Youth Survey'!W23),\"\")","v":""},{"$f":"IFERROR(AVERAGE('Youth Survey'!X16,'Youth Survey'!X18,'Youth Survey'!X22,'Youth Survey'!X23),\"\")","v":""},{"$f":"IFERROR(AVERAGE('Youth Survey'!Y16,'Youth Survey'!Y18,'Youth Survey'!Y22,'Youth Survey'!Y23),\"\")","v":""},{"$f":"IFERROR(AVERAGE('Youth Survey'!Z16,'Youth Survey'!Z18,'Youth Survey'!Z22,'Youth Survey'!Z23),\"\")","v":""},{"$f":"IFERROR(AVERAGE('Youth Survey'!AA16,'Youth Survey'!AA18,'Youth Survey'!AA22,'Youth Survey'!AA23),\"\")","v":""},{"$f":"IFERROR(AVERAGE('Youth Survey'!AB16,'Youth Survey'!AB18,'Youth Survey'!AB22,'Youth Survey'!AB23),\"\")","v":""},{"$f":"IFERROR(AVERAGE('Youth Survey'!AC16,'Youth Survey'!AC18,'Youth Survey'!AC22,'Youth Survey'!AC23),\"\")","v":""},{"$f":"IFERROR(AVERAGE('Youth Survey'!AD16,'Youth Survey'!AD18,'Youth Survey'!AD22,'Youth Survey'!AD23),\"\")","v":""},{"$f":"IFERROR(AVERAGE('Youth Survey'!AE16,'Youth Survey'!AE18,'Youth Survey'!AE22,'Youth Survey'!AE23),\"\")","v":""},{"$f":"IFERROR(AVERAGE('Youth Survey'!AF16,'Youth Survey'!AF18,'Youth Survey'!AF22,'Youth Survey'!AF23),\"\")","v":""},{"$f":"IFERROR(AVERAGE('Youth Survey'!AG16,'Youth Survey'!AG18,'Youth Survey'!AG22,'Youth Survey'!AG23),\"\")","v":""},{"$f":"IFERROR(AVERAGE('Youth Survey'!AH16,'Youth Survey'!AH18,'Youth Survey'!AH22,'Youth Survey'!AH23),\"\")","v":""},{"$f":"IFERROR(AVERAGE('Youth Survey'!AI16,'Youth Survey'!AI18,'Youth Survey'!AI22,'Youth Survey'!AI23),\"\")","v":""},{"$f":"IFERROR(AVERAGE('Youth Survey'!AJ16,'Youth Survey'!AJ18,'Youth Survey'!AJ22,'Youth Survey'!AJ23),\"\")","v":""},{"$f":"IFERROR(AVERAGE('Youth Survey'!AK16,'Youth Survey'!AK18,'Youth Survey'!AK22,'Youth Survey'!AK23),\"\")","v":""},{"$f":"IFERROR(AVERAGE('Youth Survey'!AL16,'Youth Survey'!AL18,'Youth Survey'!AL22,'Youth Survey'!AL23),\"\")","v":""},{"$f":"IFERROR(AVERAGE('Youth Survey'!AM16,'Youth Survey'!AM18,'Youth Survey'!AM22,'Youth Survey'!AM23),\"\")","v":""},{"$f":"IFERROR(AVERAGE('Youth Survey'!AN16,'Youth Survey'!AN18,'Youth Survey'!AN22,'Youth Survey'!AN23),\"\")","v":""},{"$f":"IFERROR(AVERAGE('Youth Survey'!AO16,'Youth Survey'!AO18,'Youth Survey'!AO22,'Youth Survey'!AO23),\"\")","v":""},{"$f":"IFERROR(AVERAGE('Youth Survey'!AP16,'Youth Survey'!AP18,'Youth Survey'!AP22,'Youth Survey'!AP23),\"\")","v":""},{"$f":"IFERROR(AVERAGE('Youth Survey'!AQ16,'Youth Survey'!AQ18,'Youth Survey'!AQ22,'Youth Survey'!AQ23),\"\")","v":""},{"$f":"IFERROR(AVERAGE('Youth Survey'!AR16,'Youth Survey'!AR18,'Youth Survey'!AR22,'Youth Survey'!AR23),\"\")","v":""},{"$f":"IFERROR(AVERAGE('Youth Survey'!AS16,'Youth Survey'!AS18,'Youth Survey'!AS22,'Youth Survey'!AS23),\"\")","v":""},{"$f":"IFERROR(AVERAGE('Youth Survey'!AT16,'Youth Survey'!AT18,'Youth Survey'!AT22,'Youth Survey'!AT23),\"\")","v":""},{"$f":"IFERROR(AVERAGE('Youth Survey'!AU16,'Youth Survey'!AU18,'Youth Survey'!AU22,'Youth Survey'!AU23),\"\")","v":""},{"$f":"IFERROR(AVERAGE('Youth Survey'!AV16,'Youth Survey'!AV18,'Youth Survey'!AV22,'Youth Survey'!AV23),\"\")","v":""},{"$f":"IFERROR(AVERAGE('Youth Survey'!AW16,'Youth Survey'!AW18,'Youth Survey'!AW22,'Youth Survey'!AW23),\"\")","v":""},{"$f":"IFERROR(AVERAGE('Youth Survey'!AX16,'Youth Survey'!AX18,'Youth Survey'!AX22,'Youth Survey'!AX23),\"\")","v":""},{"$f":"IFERROR(AVERAGE('Youth Survey'!AY16,'Youth Survey'!AY18,'Youth Survey'!AY22,'Youth Survey'!AY23),\"\")","v":""},{"$f":"IFERROR(AVERAGE('Youth Survey'!AZ16,'Youth Survey'!AZ18,'Youth Survey'!AZ22,'Youth Survey'!AZ23),\"\")","v":""},{"$f":"IFERROR(AVERAGE('Youth Survey'!BA16,'Youth Survey'!BA18,'Youth Survey'!BA22,'Youth Survey'!BA23),\"\")","v":""},{"$f":"IFERROR(AVERAGE('Youth Survey'!BB16,'Youth Survey'!BB18,'Youth Survey'!BB22,'Youth Survey'!BB23),\"\")","v":""},{"$f":"IFERROR(AVERAGE('Youth Survey'!BC16,'Youth Survey'!BC18,'Youth Survey'!BC22,'Youth Survey'!BC23),\"\")","v":""},{"$f":"IFERROR(AVERAGE('Youth Survey'!BD16,'Youth Survey'!BD18,'Youth Survey'!BD22,'Youth Survey'!BD23),\"\")","v":""},{"$f":"IFERROR(AVERAGE('Youth Survey'!BE16,'Youth Survey'!BE18,'Youth Survey'!BE22,'Youth Survey'!BE23),\"\")","v":""},{"$f":"IFERROR(AVERAGE('Youth Survey'!BF16,'Youth Survey'!BF18,'Youth Survey'!BF22,'Youth Survey'!BF23),\"\")","v":""},{"$f":"IFERROR(AVERAGE('Youth Survey'!BG16,'Youth Survey'!BG18,'Youth Survey'!BG22,'Youth Survey'!BG23),\"\")","v":""},{"$f":"IFERROR(AVERAGE('Youth Survey'!BH16,'Youth Survey'!BH18,'Youth Survey'!BH22,'Youth Survey'!BH23),\"\")","v":""},{"$f":"IFERROR(AVERAGE('Youth Survey'!BI16,'Youth Survey'!BI18,'Youth Survey'!BI22,'Youth Survey'!BI23),\"\")","v":""},{"$f":"IFERROR(AVERAGE('Youth Survey'!BJ16,'Youth Survey'!BJ18,'Youth Survey'!BJ22,'Youth Survey'!BJ23),\"\")","v":""},{"$f":"IFERROR(AVERAGE('Youth Survey'!BK16,'Youth Survey'!BK18,'Youth Survey'!BK22,'Youth Survey'!BK23),\"\")","v":""},{"$f":"IFERROR(AVERAGE('Youth Survey'!BL16,'Youth Survey'!BL18,'Youth Survey'!BL22,'Youth Survey'!BL23),\"\")","v":""},{"$f":"IFERROR(AVERAGE('Youth Survey'!BM16,'Youth Survey'!BM18,'Youth Survey'!BM22,'Youth Survey'!BM23),\"\")","v":""},{"$f":"IFERROR(AVERAGE('Youth Survey'!BN16,'Youth Survey'!BN18,'Youth Survey'!BN22,'Youth Survey'!BN23),\"\")","v":""},{"$f":"IFERROR(AVERAGE('Youth Survey'!BO16,'Youth Survey'!BO18,'Youth Survey'!BO22,'Youth Survey'!BO23),\"\")","v":""},{"$f":"IFERROR(AVERAGE('Youth Survey'!BP16,'Youth Survey'!BP18,'Youth Survey'!BP22,'Youth Survey'!BP23),\"\")","v":""},{"$f":"IFERROR(AVERAGE('Youth Survey'!BQ16,'Youth Survey'!BQ18,'Youth Survey'!BQ22,'Youth Survey'!BQ23),\"\")","v":""},{"$f":"IFERROR(AVERAGE('Youth Survey'!BR16,'Youth Survey'!BR18,'Youth Survey'!BR22,'Youth Survey'!BR23),\"\")","v":""},{"$f":"IFERROR(AVERAGE('Youth Survey'!BS16,'Youth Survey'!BS18,'Youth Survey'!BS22,'Youth Survey'!BS23),\"\")","v":""},{"$f":"IFERROR(AVERAGE('Youth Survey'!BT16,'Youth Survey'!BT18,'Youth Survey'!BT22,'Youth Survey'!BT23),\"\")","v":""},{"$f":"IFERROR(AVERAGE('Youth Survey'!BU16,'Youth Survey'!BU18,'Youth Survey'!BU22,'Youth Survey'!BU23),\"\")","v":""},{"$f":"IFERROR(AVERAGE('Youth Survey'!BV16,'Youth Survey'!BV18,'Youth Survey'!BV22,'Youth Survey'!BV23),\"\")","v":""},{"$f":"IFERROR(AVERAGE('Youth Survey'!BW16,'Youth Survey'!BW18,'Youth Survey'!BW22,'Youth Survey'!BW23),\"\")","v":""},{"$f":"IFERROR(AVERAGE('Youth Survey'!BX16,'Youth Survey'!BX18,'Youth Survey'!BX22,'Youth Survey'!BX23),\"\")","v":""},{"$f":"IFERROR(AVERAGE('Youth Survey'!BY16,'Youth Survey'!BY18,'Youth Survey'!BY22,'Youth Survey'!BY23),\"\")","v":""},{"$f":"IFERROR(AVERAGE('Youth Survey'!BZ16,'Youth Survey'!BZ18,'Youth Survey'!BZ22,'Youth Survey'!BZ23),\"\")","v":""},{"$f":"IFERROR(AVERAGE('Youth Survey'!CA16,'Youth Survey'!CA18,'Youth Survey'!CA22,'Youth Survey'!CA23),\"\")","v":""},{"$f":"IFERROR(AVERAGE('Youth Survey'!CB16,'Youth Survey'!CB18,'Youth Survey'!CB22,'Youth Survey'!CB23),\"\")","v":""},{"$f":"IFERROR(AVERAGE('Youth Survey'!CC16,'Youth Survey'!CC18,'Youth Survey'!CC22,'Youth Survey'!CC23),\"\")","v":""},{"$f":"IFERROR(AVERAGE('Youth Survey'!CD16,'Youth Survey'!CD18,'Youth Survey'!CD22,'Youth Survey'!CD23),\"\")","v":""},{"$f":"IFERROR(AVERAGE('Youth Survey'!CE16,'Youth Survey'!CE18,'Youth Survey'!CE22,'Youth Survey'!CE23),\"\")","v":""},{"$f":"IFERROR(AVERAGE('Youth Survey'!CF16,'Youth Survey'!CF18,'Youth Survey'!CF22,'Youth Survey'!CF23),\"\")","v":""},{"$f":"IFERROR(AVERAGE('Youth Survey'!CG16,'Youth Survey'!CG18,'Youth Survey'!CG22,'Youth Survey'!CG23),\"\")","v":""},{"$f":"IFERROR(AVERAGE('Youth Survey'!CH16,'Youth Survey'!CH18,'Youth Survey'!CH22,'Youth Survey'!CH23),\"\")","v":""},{"$f":"IFERROR(AVERAGE('Youth Survey'!CI16,'Youth Survey'!CI18,'Youth Survey'!CI22,'Youth Survey'!CI23),\"\")","v":""},{"$f":"IFERROR(AVERAGE('Youth Survey'!CJ16,'Youth Survey'!CJ18,'Youth Survey'!CJ22,'Youth Survey'!CJ23),\"\")","v":""},{"$f":"IFERROR(AVERAGE('Youth Survey'!CK16,'Youth Survey'!CK18,'Youth Survey'!CK22,'Youth Survey'!CK23),\"\")","v":""},{"$f":"IFERROR(AVERAGE('Youth Survey'!CL16,'Youth Survey'!CL18,'Youth Survey'!CL22,'Youth Survey'!CL23),\"\")","v":""},{"$f":"IFERROR(AVERAGE('Youth Survey'!CM16,'Youth Survey'!CM18,'Youth Survey'!CM22,'Youth Survey'!CM23),\"\")","v":""},{"$f":"IFERROR(AVERAGE('Youth Survey'!CN16,'Youth Survey'!CN18,'Youth Survey'!CN22,'Youth Survey'!CN23),\"\")","v":""},{"$f":"IFERROR(AVERAGE('Youth Survey'!CO16,'Youth Survey'!CO18,'Youth Survey'!CO22,'Youth Survey'!CO23),\"\")","v":""},{"$f":"IFERROR(AVERAGE('Youth Survey'!CP16,'Youth Survey'!CP18,'Youth Survey'!CP22,'Youth Survey'!CP23),\"\")","v":""},{"$f":"IFERROR(AVERAGE('Youth Survey'!CQ16,'Youth Survey'!CQ18,'Youth Survey'!CQ22,'Youth Survey'!CQ23),\"\")","v":""},{"$f":"IFERROR(AVERAGE('Youth Survey'!CR16,'Youth Survey'!CR18,'Youth Survey'!CR22,'Youth Survey'!CR23),\"\")","v":""},{"$f":"IFERROR(AVERAGE('Youth Survey'!CS16,'Youth Survey'!CS18,'Youth Survey'!CS22,'Youth Survey'!CS23),\"\")","v":""},{"$f":"IFERROR(AVERAGE('Youth Survey'!CT16,'Youth Survey'!CT18,'Youth Survey'!CT22,'Youth Survey'!CT23),\"\")","v":""},{"$f":"IFERROR(AVERAGE('Youth Survey'!CU16,'Youth Survey'!CU18,'Youth Survey'!CU22,'Youth Survey'!CU23),\"\")","v":""},{"$f":"IFERROR(AVERAGE('Youth Survey'!CV16,'Youth Survey'!CV18,'Youth Survey'!CV22,'Youth Survey'!CV23),\"\")","v":""},{"$f":"IFERROR(AVERAGE('Youth Survey'!CW16,'Youth Survey'!CW18,'Youth Survey'!CW22,'Youth Survey'!CW23),\"\")","v":""},{"$f":"IFERROR(AVERAGE('Youth Survey'!CX16,'Youth Survey'!CX18,'Youth Survey'!CX22,'Youth Survey'!CX23),\"\")","v":""},{"$f":"IFERROR(AVERAGE('Youth Survey'!CY16,'Youth Survey'!CY18,'Youth Survey'!CY22,'Youth Survey'!CY23),\"\")","v":""},{"$f":"IFERROR(AVERAGE('Youth Survey'!CZ16,'Youth Survey'!CZ18,'Youth Survey'!CZ22,'Youth Survey'!CZ23),\"\")","v":""},{"$f":"IFERROR(AVERAGE('Youth Survey'!DA16,'Youth Survey'!DA18,'Youth Survey'!DA22,'Youth Survey'!DA23),\"\")","v":""},{"$f":"IFERROR(AVERAGE('Youth Survey'!DB16,'Youth Survey'!DB18,'Youth Survey'!DB22,'Youth Survey'!DB23),\"\")","v":""},{"$f":"IFERROR(AVERAGE('Youth Survey'!DC16,'Youth Survey'!DC18,'Youth Survey'!DC22,'Youth Survey'!DC23),\"\")","v":""},{"$f":"IFERROR(AVERAGE('Youth Survey'!DD16,'Youth Survey'!DD18,'Youth Survey'!DD22,'Youth Survey'!DD23),\"\")","v":""},{"$f":"IFERROR(AVERAGE('Youth Survey'!DE16,'Youth Survey'!DE18,'Youth Survey'!DE22,'Youth Survey'!DE23),\"\")","v":""},{"$f":"IFERROR(AVERAGE('Youth Survey'!DF16,'Youth Survey'!DF18,'Youth Survey'!DF22,'Youth Survey'!DF23),\"\")","v":""},{"$f":"IFERROR(AVERAGE('Youth Survey'!DG16,'Youth Survey'!DG18,'Youth Survey'!DG22,'Youth Survey'!DG23),\"\")","v":""},{"$f":"IFERROR(AVERAGE('Youth Survey'!DH16,'Youth Survey'!DH18,'Youth Survey'!DH22,'Youth Survey'!DH23),\"\")","v":""},{"$f":"IFERROR(AVERAGE('Youth Survey'!DI16,'Youth Survey'!DI18,'Youth Survey'!DI22,'Youth Survey'!DI23),\"\")","v":""},{"$f":"IFERROR(AVERAGE('Youth Survey'!DJ16,'Youth Survey'!DJ18,'Youth Survey'!DJ22,'Youth Survey'!DJ23),\"\")","v":""},{"$f":"IFERROR(AVERAGE('Youth Survey'!DK16,'Youth Survey'!DK18,'Youth Survey'!DK22,'Youth Survey'!DK23),\"\")","v":""},{"$f":"IFERROR(AVERAGE('Youth Survey'!DL16,'Youth Survey'!DL18,'Youth Survey'!DL22,'Youth Survey'!DL23),\"\")","v":""},{"$f":"IFERROR(AVERAGE('Youth Survey'!DM16,'Youth Survey'!DM18,'Youth Survey'!DM22,'Youth Survey'!DM23),\"\")","v":""},{"$f":"IFERROR(AVERAGE('Youth Survey'!DN16,'Youth Survey'!DN18,'Youth Survey'!DN22,'Youth Survey'!DN23),\"\")","v":""},{"$f":"IFERROR(AVERAGE('Youth Survey'!DO16,'Youth Survey'!DO18,'Youth Survey'!DO22,'Youth Survey'!DO23),\"\")","v":""},{"$f":"IFERROR(AVERAGE('Youth Survey'!DP16,'Youth Survey'!DP18,'Youth Survey'!DP22,'Youth Survey'!DP23),\"\")","v":""},{"$f":"IFERROR(AVERAGE('Youth Survey'!DQ16,'Youth Survey'!DQ18,'Youth Survey'!DQ22,'Youth Survey'!DQ23),\"\")","v":""},{"$f":"IFERROR(AVERAGE('Youth Survey'!DR16,'Youth Survey'!DR18,'Youth Survey'!DR22,'Youth Survey'!DR23),\"\")","v":""},{"$f":"IFERROR(AVERAGE('Youth Survey'!DS16,'Youth Survey'!DS18,'Youth Survey'!DS22,'Youth Survey'!DS23),\"\")","v":""},{"$f":"IFERROR(AVERAGE('Youth Survey'!DT16,'Youth Survey'!DT18,'Youth Survey'!DT22,'Youth Survey'!DT23),\"\")","v":""},{"$f":"IFERROR(AVERAGE('Youth Survey'!DU16,'Youth Survey'!DU18,'Youth Survey'!DU22,'Youth Survey'!DU23),\"\")","v":""},{"$f":"IFERROR(AVERAGE('Youth Survey'!DV16,'Youth Survey'!DV18,'Youth Survey'!DV22,'Youth Survey'!DV23),\"\")","v":""},{"$f":"IFERROR(AVERAGE('Youth Survey'!DW16,'Youth Survey'!DW18,'Youth Survey'!DW22,'Youth Survey'!DW23),\"\")","v":""},{"$f":"IFERROR(AVERAGE('Youth Survey'!DX16,'Youth Survey'!DX18,'Youth Survey'!DX22,'Youth Survey'!DX23),\"\")","v":""},{"$f":"IFERROR(AVERAGE('Youth Survey'!DY16,'Youth Survey'!DY18,'Youth Survey'!DY22,'Youth Survey'!DY23),\"\")","v":""},{"$f":"IFERROR(AVERAGE('Youth Survey'!DZ16,'Youth Survey'!DZ18,'Youth Survey'!DZ22,'Youth Survey'!DZ23),\"\")","v":""},{"$f":"IFERROR(AVERAGE('Youth Survey'!EA16,'Youth Survey'!EA18,'Youth Survey'!EA22,'Youth Survey'!EA23),\"\")","v":""},{"$f":"IFERROR(AVERAGE('Youth Survey'!EB16,'Youth Survey'!EB18,'Youth Survey'!EB22,'Youth Survey'!EB23),\"\")","v":""},{"$f":"IFERROR(AVERAGE('Youth Survey'!EC16,'Youth Survey'!EC18,'Youth Survey'!EC22,'Youth Survey'!EC23),\"\")","v":""},{"$f":"IFERROR(AVERAGE('Youth Survey'!ED16,'Youth Survey'!ED18,'Youth Survey'!ED22,'Youth Survey'!ED23),\"\")","v":""},{"$f":"IFERROR(AVERAGE('Youth Survey'!EE16,'Youth Survey'!EE18,'Youth Survey'!EE22,'Youth Survey'!EE23),\"\")","v":""},{"$f":"IFERROR(AVERAGE('Youth Survey'!EF16,'Youth Survey'!EF18,'Youth Survey'!EF22,'Youth Survey'!EF23),\"\")","v":""},{"$f":"IFERROR(AVERAGE('Youth Survey'!EG16,'Youth Survey'!EG18,'Youth Survey'!EG22,'Youth Survey'!EG23),\"\")","v":""},{"$f":"IFERROR(AVERAGE('Youth Survey'!EH16,'Youth Survey'!EH18,'Youth Survey'!EH22,'Youth Survey'!EH23),\"\")","v":""},{"$f":"IFERROR(AVERAGE('Youth Survey'!EI16,'Youth Survey'!EI18,'Youth Survey'!EI22,'Youth Survey'!EI23),\"\")","v":""},{"$f":"IFERROR(AVERAGE('Youth Survey'!EJ16,'Youth Survey'!EJ18,'Youth Survey'!EJ22,'Youth Survey'!EJ23),\"\")","v":""},{"$f":"IFERROR(AVERAGE('Youth Survey'!EK16,'Youth Survey'!EK18,'Youth Survey'!EK22,'Youth Survey'!EK23),\"\")","v":""},{"$f":"IFERROR(AVERAGE('Youth Survey'!EL16,'Youth Survey'!EL18,'Youth Survey'!EL22,'Youth Survey'!EL23),\"\")","v":""},{"$f":"IFERROR(AVERAGE('Youth Survey'!EM16,'Youth Survey'!EM18,'Youth Survey'!EM22,'Youth Survey'!EM23),\"\")","v":""},{"$f":"IFERROR(AVERAGE('Youth Survey'!EN16,'Youth Survey'!EN18,'Youth Survey'!EN22,'Youth Survey'!EN23),\"\")","v":""},{"$f":"IFERROR(AVERAGE('Youth Survey'!EO16,'Youth Survey'!EO18,'Youth Survey'!EO22,'Youth Survey'!EO23),\"\")","v":""},{"$f":"IFERROR(AVERAGE('Youth Survey'!EP16,'Youth Survey'!EP18,'Youth Survey'!EP22,'Youth Survey'!EP23),\"\")","v":""},{"$f":"IFERROR(AVERAGE('Youth Survey'!EQ16,'Youth Survey'!EQ18,'Youth Survey'!EQ22,'Youth Survey'!EQ23),\"\")","v":""},{"$f":"IFERROR(AVERAGE('Youth Survey'!ER16,'Youth Survey'!ER18,'Youth Survey'!ER22,'Youth Survey'!ER23),\"\")","v":""},{"$f":"IFERROR(AVERAGE('Youth Survey'!ES16,'Youth Survey'!ES18,'Youth Survey'!ES22,'Youth Survey'!ES23),\"\")","v":""},{"$f":"IFERROR(AVERAGE('Youth Survey'!ET16,'Youth Survey'!ET18,'Youth Survey'!ET22,'Youth Survey'!ET23),\"\")","v":""},{"$f":"IFERROR(AVERAGE('Youth Survey'!EU16,'Youth Survey'!EU18,'Youth Survey'!EU22,'Youth Survey'!EU23),\"\")","v":""},{"$f":"IFERROR(AVERAGE('Youth Survey'!EV16,'Youth Survey'!EV18,'Youth Survey'!EV22,'Youth Survey'!EV23),\"\")","v":""},{"$f":"IFERROR(AVERAGE('Youth Survey'!EW16,'Youth Survey'!EW18,'Youth Survey'!EW22,'Youth Survey'!EW23),\"\")","v":""},{"$f":"IFERROR(AVERAGE('Youth Survey'!EX16,'Youth Survey'!EX18,'Youth Survey'!EX22,'Youth Survey'!EX23),\"\")","v":""},{"$f":"IFERROR(AVERAGE('Youth Survey'!EY16,'Youth Survey'!EY18,'Youth Survey'!EY22,'Youth Survey'!EY23),\"\")","v":""},{"$f":"IFERROR(AVERAGE('Youth Survey'!EZ16,'Youth Survey'!EZ18,'Youth Survey'!EZ22,'Youth Survey'!EZ23),\"\")","v":""},{"$f":"IFERROR(AVERAGE('Youth Survey'!FA16,'Youth Survey'!FA18,'Youth Survey'!FA22,'Youth Survey'!FA23),\"\")","v":""},{"$f":"IFERROR(AVERAGE('Youth Survey'!FB16,'Youth Survey'!FB18,'Youth Survey'!FB22,'Youth Survey'!FB23),\"\")","v":""},{"$f":"IFERROR(AVERAGE('Youth Survey'!FC16,'Youth Survey'!FC18,'Youth Survey'!FC22,'Youth Survey'!FC23),\"\")","v":""},{"$f":"IFERROR(AVERAGE('Youth Survey'!FD16,'Youth Survey'!FD18,'Youth Survey'!FD22,'Youth Survey'!FD23),\"\")","v":""},{"$f":"IFERROR(AVERAGE('Youth Survey'!FE16,'Youth Survey'!FE18,'Youth Survey'!FE22,'Youth Survey'!FE23),\"\")","v":""},{"$f":"IFERROR(AVERAGE('Youth Survey'!FF16,'Youth Survey'!FF18,'Youth Survey'!FF22,'Youth Survey'!FF23),\"\")","v":""},{"$f":"IFERROR(AVERAGE('Youth Survey'!FG16,'Youth Survey'!FG18,'Youth Survey'!FG22,'Youth Survey'!FG23),\"\")","v":""},{"$f":"IFERROR(AVERAGE('Youth Survey'!FH16,'Youth Survey'!FH18,'Youth Survey'!FH22,'Youth Survey'!FH23),\"\")","v":""},{"$f":"IFERROR(AVERAGE('Youth Survey'!FI16,'Youth Survey'!FI18,'Youth Survey'!FI22,'Youth Survey'!FI23),\"\")","v":""},{"$f":"IFERROR(AVERAGE('Youth Survey'!FJ16,'Youth Survey'!FJ18,'Youth Survey'!FJ22,'Youth Survey'!FJ23),\"\")","v":""},{"$f":"IFERROR(AVERAGE('Youth Survey'!FK16,'Youth Survey'!FK18,'Youth Survey'!FK22,'Youth Survey'!FK23),\"\")","v":""},{"$f":"IFERROR(AVERAGE('Youth Survey'!FL16,'Youth Survey'!FL18,'Youth Survey'!FL22,'Youth Survey'!FL23),\"\")","v":""},{"$f":"IFERROR(AVERAGE('Youth Survey'!FM16,'Youth Survey'!FM18,'Youth Survey'!FM22,'Youth Survey'!FM23),\"\")","v":""},{"$f":"IFERROR(AVERAGE('Youth Survey'!FN16,'Youth Survey'!FN18,'Youth Survey'!FN22,'Youth Survey'!FN23),\"\")","v":""},{"$f":"IFERROR(AVERAGE('Youth Survey'!FO16,'Youth Survey'!FO18,'Youth Survey'!FO22,'Youth Survey'!FO23),\"\")","v":""},{"$f":"IFERROR(AVERAGE('Youth Survey'!FP16,'Youth Survey'!FP18,'Youth Survey'!FP22,'Youth Survey'!FP23),\"\")","v":""},{"$f":"IFERROR(AVERAGE('Youth Survey'!FQ16,'Youth Survey'!FQ18,'Youth Survey'!FQ22,'Youth Survey'!FQ23),\"\")","v":""},{"$f":"IFERROR(AVERAGE('Youth Survey'!FR16,'Youth Survey'!FR18,'Youth Survey'!FR22,'Youth Survey'!FR23),\"\")","v":""},{"$f":"IFERROR(AVERAGE('Youth Survey'!FS16,'Youth Survey'!FS18,'Youth Survey'!FS22,'Youth Survey'!FS23),\"\")","v":""},{"$f":"IFERROR(AVERAGE('Youth Survey'!FT16,'Youth Survey'!FT18,'Youth Survey'!FT22,'Youth Survey'!FT23),\"\")","v":""},{"$f":"IFERROR(AVERAGE('Youth Survey'!FU16,'Youth Survey'!FU18,'Youth Survey'!FU22,'Youth Survey'!FU23),\"\")","v":""},{"$f":"IFERROR(AVERAGE('Youth Survey'!FV16,'Youth Survey'!FV18,'Youth Survey'!FV22,'Youth Survey'!FV23),\"\")","v":""},{"$f":"IFERROR(AVERAGE('Youth Survey'!FW16,'Youth Survey'!FW18,'Youth Survey'!FW22,'Youth Survey'!FW23),\"\")","v":""},{"$f":"IFERROR(AVERAGE('Youth Survey'!FX16,'Youth Survey'!FX18,'Youth Survey'!FX22,'Youth Survey'!FX23),\"\")","v":""},{"$f":"IFERROR(AVERAGE('Youth Survey'!FY16,'Youth Survey'!FY18,'Youth Survey'!FY22,'Youth Survey'!FY23),\"\")","v":""},{"$f":"IFERROR(AVERAGE('Youth Survey'!FZ16,'Youth Survey'!FZ18,'Youth Survey'!FZ22,'Youth Survey'!FZ23),\"\")","v":""},{"$f":"IFERROR(AVERAGE('Youth Survey'!GA16,'Youth Survey'!GA18,'Youth Survey'!GA22,'Youth Survey'!GA23),\"\")","v":""},{"$f":"IFERROR(AVERAGE('Youth Survey'!GB16,'Youth Survey'!GB18,'Youth Survey'!GB22,'Youth Survey'!GB23),\"\")","v":""},{"$f":"IFERROR(AVERAGE('Youth Survey'!GC16,'Youth Survey'!GC18,'Youth Survey'!GC22,'Youth Survey'!GC23),\"\")","v":""},{"$f":"IFERROR(AVERAGE('Youth Survey'!GD16,'Youth Survey'!GD18,'Youth Survey'!GD22,'Youth Survey'!GD23),\"\")","v":""},{"$f":"IFERROR(AVERAGE('Youth Survey'!GE16,'Youth Survey'!GE18,'Youth Survey'!GE22,'Youth Survey'!GE23),\"\")","v":""},{"$f":"IFERROR(AVERAGE('Youth Survey'!GF16,'Youth Survey'!GF18,'Youth Survey'!GF22,'Youth Survey'!GF23),\"\")","v":""},{"$f":"IFERROR(AVERAGE('Youth Survey'!GG16,'Youth Survey'!GG18,'Youth Survey'!GG22,'Youth Survey'!GG23),\"\")","v":""},{"$f":"IFERROR(AVERAGE('Youth Survey'!GH16,'Youth Survey'!GH18,'Youth Survey'!GH22,'Youth Survey'!GH23),\"\")","v":""},{"$f":"IFERROR(AVERAGE('Youth Survey'!GI16,'Youth Survey'!GI18,'Youth Survey'!GI22,'Youth Survey'!GI23),\"\")","v":""},{"$f":"IFERROR(AVERAGE('Youth Survey'!GJ16,'Youth Survey'!GJ18,'Youth Survey'!GJ22,'Youth Survey'!GJ23),\"\")","v":""},{"$f":"IFERROR(AVERAGE('Youth Survey'!GK16,'Youth Survey'!GK18,'Youth Survey'!GK22,'Youth Survey'!GK23),\"\")","v":""},{"$f":"IFERROR(AVERAGE('Youth Survey'!GL16,'Youth Survey'!GL18,'Youth Survey'!GL22,'Youth Survey'!GL23),\"\")","v":""},{"$f":"IFERROR(AVERAGE('Youth Survey'!GM16,'Youth Survey'!GM18,'Youth Survey'!GM22,'Youth Survey'!GM23),\"\")","v":""},{"$f":"IFERROR(AVERAGE('Youth Survey'!GN16,'Youth Survey'!GN18,'Youth Survey'!GN22,'Youth Survey'!GN23),\"\")","v":""},{"$f":"IFERROR(AVERAGE('Youth Survey'!GO16,'Youth Survey'!GO18,'Youth Survey'!GO22,'Youth Survey'!GO23),\"\")","v":""},{"$f":"IFERROR(AVERAGE('Youth Survey'!GP16,'Youth Survey'!GP18,'Youth Survey'!GP22,'Youth Survey'!GP23),\"\")","v":""},{"$f":"IFERROR(AVERAGE('Youth Survey'!GQ16,'Youth Survey'!GQ18,'Youth Survey'!GQ22,'Youth Survey'!GQ23),\"\")","v":""},{"$f":"IFERROR(AVERAGE('Youth Survey'!GR16,'Youth Survey'!GR18,'Youth Survey'!GR22,'Youth Survey'!GR23),\"\")","v":""},{"$f":"IFERROR(AVERAGE('Youth Survey'!GS16,'Youth Survey'!GS18,'Youth Survey'!GS22,'Youth Survey'!GS23),\"\")","v":""},{"$f":"IFERROR(AVERAGE('Youth Survey'!GT16,'Youth Survey'!GT18,'Youth Survey'!GT22,'Youth Survey'!GT23),\"\")","v":""},{"$f":"IFERROR(AVERAGE('Youth Survey'!GU16,'Youth Survey'!GU18,'Youth Survey'!GU22,'Youth Survey'!GU23),\"\")","v":""},{"$f":"IFERROR(AVERAGE('Youth Survey'!GV16,'Youth Survey'!GV18,'Youth Survey'!GV22,'Youth Survey'!GV23),\"\")","v":""},{"$f":"IFERROR(AVERAGE('Youth Survey'!GW16,'Youth Survey'!GW18,'Youth Survey'!GW22,'Youth Survey'!GW23),\"\")","v":""},{"$f":"IFERROR(AVERAGE('Youth Survey'!GX16,'Youth Survey'!GX18,'Youth Survey'!GX22,'Youth Survey'!GX23),\"\")","v":""},{"$f":"IFERROR(AVERAGE('Youth Survey'!GY16,'Youth Survey'!GY18,'Youth Survey'!GY22,'Youth Survey'!GY23),\"\")","v":""},{"$f":"IFERROR(AVERAGE('Youth Survey'!GZ16,'Youth Survey'!GZ18,'Youth Survey'!GZ22,'Youth Survey'!GZ23),\"\")","v":""},{"$f":"IFERROR(AVERAGE('Youth Survey'!HA16,'Youth Survey'!HA18,'Youth Survey'!HA22,'Youth Survey'!HA23),\"\")","v":""},{"$f":"IFERROR(AVERAGE('Youth Survey'!HB16,'Youth Survey'!HB18,'Youth Survey'!HB22,'Youth Survey'!HB23),\"\")","v":""},{"$f":"IFERROR(AVERAGE('Youth Survey'!HC16,'Youth Survey'!HC18,'Youth Survey'!HC22,'Youth Survey'!HC23),\"\")","v":""},{"$f":"IFERROR(AVERAGE('Youth Survey'!HD16,'Youth Survey'!HD18,'Youth Survey'!HD22,'Youth Survey'!HD23),\"\")","v":""},{"$f":"IFERROR(AVERAGE('Youth Survey'!HE16,'Youth Survey'!HE18,'Youth Survey'!HE22,'Youth Survey'!HE23),\"\")","v":""},{"$f":"IFERROR(AVERAGE('Youth Survey'!HF16,'Youth Survey'!HF18,'Youth Survey'!HF22,'Youth Survey'!HF23),\"\")","v":""},{"$f":"IFERROR(AVERAGE('Youth Survey'!HG16,'Youth Survey'!HG18,'Youth Survey'!HG22,'Youth Survey'!HG23),\"\")","v":""},{"$f":"IFERROR(AVERAGE('Youth Survey'!HH16,'Youth Survey'!HH18,'Youth Survey'!HH22,'Youth Survey'!HH23),\"\")","v":""},{"$f":"IFERROR(AVERAGE('Youth Survey'!HI16,'Youth Survey'!HI18,'Youth Survey'!HI22,'Youth Survey'!HI23),\"\")","v":""},{"$f":"IFERROR(AVERAGE('Youth Survey'!HJ16,'Youth Survey'!HJ18,'Youth Survey'!HJ22,'Youth Survey'!HJ23),\"\")","v":""},{"$f":"IFERROR(AVERAGE('Youth Survey'!HK16,'Youth Survey'!HK18,'Youth Survey'!HK22,'Youth Survey'!HK23),\"\")","v":""},{"$f":"IFERROR(AVERAGE('Youth Survey'!HL16,'Youth Survey'!HL18,'Youth Survey'!HL22,'Youth Survey'!HL23),\"\")","v":""},{"$f":"IFERROR(AVERAGE('Youth Survey'!HM16,'Youth Survey'!HM18,'Youth Survey'!HM22,'Youth Survey'!HM23),\"\")","v":""},{"$f":"IFERROR(AVERAGE('Youth Survey'!HN16,'Youth Survey'!HN18,'Youth Survey'!HN22,'Youth Survey'!HN23),\"\")","v":""},{"$f":"IFERROR(AVERAGE('Youth Survey'!HO16,'Youth Survey'!HO18,'Youth Survey'!HO22,'Youth Survey'!HO23),\"\")","v":""},{"$f":"IFERROR(AVERAGE('Youth Survey'!HP16,'Youth Survey'!HP18,'Youth Survey'!HP22,'Youth Survey'!HP23),\"\")","v":""},{"$f":"IFERROR(AVERAGE('Youth Survey'!HQ16,'Youth Survey'!HQ18,'Youth Survey'!HQ22,'Youth Survey'!HQ23),\"\")","v":""},{"$f":"IFERROR(AVERAGE('Youth Survey'!HR16,'Youth Survey'!HR18,'Youth Survey'!HR22,'Youth Survey'!HR23),\"\")","v":""},{"$f":"IFERROR(AVERAGE('Youth Survey'!HS16,'Youth Survey'!HS18,'Youth Survey'!HS22,'Youth Survey'!HS23),\"\")","v":""},{"$f":"IFERROR(AVERAGE('Youth Survey'!HT16,'Youth Survey'!HT18,'Youth Survey'!HT22,'Youth Survey'!HT23),\"\")","v":""},{"$f":"IFERROR(AVERAGE('Youth Survey'!HU16,'Youth Survey'!HU18,'Youth Survey'!HU22,'Youth Survey'!HU23),\"\")","v":""},{"$f":"IFERROR(AVERAGE('Youth Survey'!HV16,'Youth Survey'!HV18,'Youth Survey'!HV22,'Youth Survey'!HV23),\"\")","v":""},{"$f":"IFERROR(AVERAGE('Youth Survey'!HW16,'Youth Survey'!HW18,'Youth Survey'!HW22,'Youth Survey'!HW23),\"\")","v":""},{"$f":"IFERROR(AVERAGE('Youth Survey'!HX16,'Youth Survey'!HX18,'Youth Survey'!HX22,'Youth Survey'!HX23),\"\")","v":""},{"$f":"IFERROR(AVERAGE('Youth Survey'!HY16,'Youth Survey'!HY18,'Youth Survey'!HY22,'Youth Survey'!HY23),\"\")","v":""},{"$f":"IFERROR(AVERAGE('Youth Survey'!HZ16,'Youth Survey'!HZ18,'Youth Survey'!HZ22,'Youth Survey'!HZ23),\"\")","v":""},{"$f":"IFERROR(AVERAGE('Youth Survey'!IA16,'Youth Survey'!IA18,'Youth Survey'!IA22,'Youth Survey'!IA23),\"\")","v":""},{"$f":"IFERROR(AVERAGE('Youth Survey'!IB16,'Youth Survey'!IB18,'Youth Survey'!IB22,'Youth Survey'!IB23),\"\")","v":""},{"$f":"IFERROR(AVERAGE('Youth Survey'!IC16,'Youth Survey'!IC18,'Youth Survey'!IC22,'Youth Survey'!IC23),\"\")","v":""},{"$f":"IFERROR(AVERAGE('Youth Survey'!ID16,'Youth Survey'!ID18,'Youth Survey'!ID22,'Youth Survey'!ID23),\"\")","v":""},{"$f":"IFERROR(AVERAGE('Youth Survey'!IE16,'Youth Survey'!IE18,'Youth Survey'!IE22,'Youth Survey'!IE23),\"\")","v":""},{"$f":"IFERROR(AVERAGE('Youth Survey'!IF16,'Youth Survey'!IF18,'Youth Survey'!IF22,'Youth Survey'!IF23),\"\")","v":""},{"$f":"IFERROR(AVERAGE('Youth Survey'!IG16,'Youth Survey'!IG18,'Youth Survey'!IG22,'Youth Survey'!IG23),\"\")","v":""},{"$f":"IFERROR(AVERAGE('Youth Survey'!IH16,'Youth Survey'!IH18,'Youth Survey'!IH22,'Youth Survey'!IH23),\"\")","v":""},{"$f":"IFERROR(AVERAGE('Youth Survey'!II16,'Youth Survey'!II18,'Youth Survey'!II22,'Youth Survey'!II23),\"\")","v":""},{"$f":"IFERROR(AVERAGE('Youth Survey'!IJ16,'Youth Survey'!IJ18,'Youth Survey'!IJ22,'Youth Survey'!IJ23),\"\")","v":""},{"$f":"IFERROR(AVERAGE('Youth Survey'!IK16,'Youth Survey'!IK18,'Youth Survey'!IK22,'Youth Survey'!IK23),\"\")","v":""},{"$f":"IFERROR(AVERAGE('Youth Survey'!IL16,'Youth Survey'!IL18,'Youth Survey'!IL22,'Youth Survey'!IL23),\"\")","v":""},{"$f":"IFERROR(AVERAGE('Youth Survey'!IM16,'Youth Survey'!IM18,'Youth Survey'!IM22,'Youth Survey'!IM23),\"\")","v":""},{"$f":"IFERROR(AVERAGE('Youth Survey'!IN16,'Youth Survey'!IN18,'Youth Survey'!IN22,'Youth Survey'!IN23),\"\")","v":""},{"$f":"IFERROR(AVERAGE('Youth Survey'!IO16,'Youth Survey'!IO18,'Youth Survey'!IO22,'Youth Survey'!IO23),\"\")","v":""},{"$f":"IFERROR(AVERAGE('Youth Survey'!IP16,'Youth Survey'!IP18,'Youth Survey'!IP22,'Youth Survey'!IP23),\"\")","v":""},{"$f":"IFERROR(AVERAGE('Youth Survey'!IQ16,'Youth Survey'!IQ18,'Youth Survey'!IQ22,'Youth Survey'!IQ23),\"\")","v":""},{"$f":"IFERROR(AVERAGE('Youth Survey'!IR16,'Youth Survey'!IR18,'Youth Survey'!IR22,'Youth Survey'!IR23),\"\")","v":""},{"$f":"IFERROR(AVERAGE('Youth Survey'!IS16,'Youth Survey'!IS18,'Youth Survey'!IS22,'Youth Survey'!IS23),\"\")","v":""},{"$f":"IFERROR(AVERAGE('Youth Survey'!IT16,'Youth Survey'!IT18,'Youth Survey'!IT22,'Youth Survey'!IT23),\"\")","v":""},{"$f":"IFERROR(AVERAGE('Youth Survey'!IU16,'Youth Survey'!IU18,'Youth Survey'!IU22,'Youth Survey'!IU23),\"\")","v":""},{"$f":"IFERROR(AVERAGE('Youth Survey'!IV16,'Youth Survey'!IV18,'Youth Survey'!IV22,'Youth Survey'!IV23),\"\")","v":""},{"$f":"IFERROR(AVERAGE('Youth Survey'!IW16,'Youth Survey'!IW18,'Youth Survey'!IW22,'Youth Survey'!IW23),\"\")","v":""},{"$f":"IFERROR(AVERAGE('Youth Survey'!IX16,'Youth Survey'!IX18,'Youth Survey'!IX22,'Youth Survey'!IX23),\"\")","v":""},{"$f":"IFERROR(AVERAGE('Youth Survey'!IY16,'Youth Survey'!IY18,'Youth Survey'!IY22,'Youth Survey'!IY23),\"\")","v":""},{"$f":"IFERROR(AVERAGE('Youth Survey'!IZ16,'Youth Survey'!IZ18,'Youth Survey'!IZ22,'Youth Survey'!IZ23),\"\")","v":""},{"$f":"IFERROR(AVERAGE('Youth Survey'!JA16,'Youth Survey'!JA18,'Youth Survey'!JA22,'Youth Survey'!JA23),\"\")","v":""},{"$f":"IFERROR(AVERAGE('Youth Survey'!JB16,'Youth Survey'!JB18,'Youth Survey'!JB22,'Youth Survey'!JB23),\"\")","v":""},{"$f":"IFERROR(AVERAGE('Youth Survey'!JC16,'Youth Survey'!JC18,'Youth Survey'!JC22,'Youth Survey'!JC23),\"\")","v":""},{"$f":"IFERROR(AVERAGE('Youth Survey'!JD16,'Youth Survey'!JD18,'Youth Survey'!JD22,'Youth Survey'!JD23),\"\")","v":""},{"$f":"IFERROR(AVERAGE('Youth Survey'!JE16,'Youth Survey'!JE18,'Youth Survey'!JE22,'Youth Survey'!JE23),\"\")","v":""},{"$f":"IFERROR(AVERAGE('Youth Survey'!JF16,'Youth Survey'!JF18,'Youth Survey'!JF22,'Youth Survey'!JF23),\"\")","v":""},{"$f":"IFERROR(AVERAGE('Youth Survey'!JG16,'Youth Survey'!JG18,'Youth Survey'!JG22,'Youth Survey'!JG23),\"\")","v":""},{"$f":"IFERROR(AVERAGE('Youth Survey'!JH16,'Youth Survey'!JH18,'Youth Survey'!JH22,'Youth Survey'!JH23),\"\")","v":""},{"$f":"IFERROR(AVERAGE('Youth Survey'!JI16,'Youth Survey'!JI18,'Youth Survey'!JI22,'Youth Survey'!JI23),\"\")","v":""},{"$f":"IFERROR(AVERAGE('Youth Survey'!JJ16,'Youth Survey'!JJ18,'Youth Survey'!JJ22,'Youth Survey'!JJ23),\"\")","v":""},{"$f":"IFERROR(AVERAGE('Youth Survey'!JK16,'Youth Survey'!JK18,'Youth Survey'!JK22,'Youth Survey'!JK23),\"\")","v":""},{"$f":"IFERROR(AVERAGE('Youth Survey'!JL16,'Youth Survey'!JL18,'Youth Survey'!JL22,'Youth Survey'!JL23),\"\")","v":""},{"$f":"IFERROR(AVERAGE('Youth Survey'!JM16,'Youth Survey'!JM18,'Youth Survey'!JM22,'Youth Survey'!JM23),\"\")","v":""},{"$f":"IFERROR(AVERAGE('Youth Survey'!JN16,'Youth Survey'!JN18,'Youth Survey'!JN22,'Youth Survey'!JN23),\"\")","v":""},{"$f":"IFERROR(AVERAGE('Youth Survey'!JO16,'Youth Survey'!JO18,'Youth Survey'!JO22,'Youth Survey'!JO23),\"\")","v":""},{"$f":"IFERROR(AVERAGE('Youth Survey'!JP16,'Youth Survey'!JP18,'Youth Survey'!JP22,'Youth Survey'!JP23),\"\")","v":""},{"$f":"IFERROR(AVERAGE('Youth Survey'!JQ16,'Youth Survey'!JQ18,'Youth Survey'!JQ22,'Youth Survey'!JQ23),\"\")","v":""},{"$f":"IFERROR(AVERAGE('Youth Survey'!JR16,'Youth Survey'!JR18,'Youth Survey'!JR22,'Youth Survey'!JR23),\"\")","v":""},{"$f":"IFERROR(AVERAGE('Youth Survey'!JS16,'Youth Survey'!JS18,'Youth Survey'!JS22,'Youth Survey'!JS23),\"\")","v":""},{"$f":"IFERROR(AVERAGE('Youth Survey'!JT16,'Youth Survey'!JT18,'Youth Survey'!JT22,'Youth Survey'!JT23),\"\")","v":""},{"$f":"IFERROR(AVERAGE('Youth Survey'!JU16,'Youth Survey'!JU18,'Youth Survey'!JU22,'Youth Survey'!JU23),\"\")","v":""},{"$f":"IFERROR(AVERAGE('Youth Survey'!JV16,'Youth Survey'!JV18,'Youth Survey'!JV22,'Youth Survey'!JV23),\"\")","v":""},{"$f":"IFERROR(AVERAGE('Youth Survey'!JW16,'Youth Survey'!JW18,'Youth Survey'!JW22,'Youth Survey'!JW23),\"\")","v":""},{"$f":"IFERROR(AVERAGE('Youth Survey'!JX16,'Youth Survey'!JX18,'Youth Survey'!JX22,'Youth Survey'!JX23),\"\")","v":""},{"$f":"IFERROR(AVERAGE('Youth Survey'!JY16,'Youth Survey'!JY18,'Youth Survey'!JY22,'Youth Survey'!JY23),\"\")","v":""},{"$f":"IFERROR(AVERAGE('Youth Survey'!JZ16,'Youth Survey'!JZ18,'Youth Survey'!JZ22,'Youth Survey'!JZ23),\"\")","v":""},{"$f":"IFERROR(AVERAGE('Youth Survey'!KA16,'Youth Survey'!KA18,'Youth Survey'!KA22,'Youth Survey'!KA23),\"\")","v":""},{"$f":"IFERROR(AVERAGE('Youth Survey'!KB16,'Youth Survey'!KB18,'Youth Survey'!KB22,'Youth Survey'!KB23),\"\")","v":""},{"$f":"IFERROR(AVERAGE('Youth Survey'!KC16,'Youth Survey'!KC18,'Youth Survey'!KC22,'Youth Survey'!KC23),\"\")","v":""},{"$f":"IFERROR(AVERAGE('Youth Survey'!KD16,'Youth Survey'!KD18,'Youth Survey'!KD22,'Youth Survey'!KD23),\"\")","v":""},{"$f":"IFERROR(AVERAGE('Youth Survey'!KE16,'Youth Survey'!KE18,'Youth Survey'!KE22,'Youth Survey'!KE23),\"\")","v":""},{"$f":"IFERROR(AVERAGE('Youth Survey'!KF16,'Youth Survey'!KF18,'Youth Survey'!KF22,'Youth Survey'!KF23),\"\")","v":""},{"$f":"IFERROR(AVERAGE('Youth Survey'!KG16,'Youth Survey'!KG18,'Youth Survey'!KG22,'Youth Survey'!KG23),\"\")","v":""},{"$f":"IFERROR(AVERAGE('Youth Survey'!KH16,'Youth Survey'!KH18,'Youth Survey'!KH22,'Youth Survey'!KH23),\"\")","v":""},{"$f":"IFERROR(AVERAGE('Youth Survey'!KI16,'Youth Survey'!KI18,'Youth Survey'!KI22,'Youth Survey'!KI23),\"\")","v":""},{"$f":"IFERROR(AVERAGE('Youth Survey'!KJ16,'Youth Survey'!KJ18,'Youth Survey'!KJ22,'Youth Survey'!KJ23),\"\")","v":""},{"$f":"IFERROR(AVERAGE('Youth Survey'!KK16,'Youth Survey'!KK18,'Youth Survey'!KK22,'Youth Survey'!KK23),\"\")","v":""},{"$f":"IFERROR(AVERAGE('Youth Survey'!KL16,'Youth Survey'!KL18,'Youth Survey'!KL22,'Youth Survey'!KL23),\"\")","v":""},{"$f":"IFERROR(AVERAGE('Youth Survey'!KM16,'Youth Survey'!KM18,'Youth Survey'!KM22,'Youth Survey'!KM23),\"\")","v":""},{"$f":"IFERROR(AVERAGE('Youth Survey'!KN16,'Youth Survey'!KN18,'Youth Survey'!KN22,'Youth Survey'!KN23),\"\")","v":""},{"$f":"IFERROR(AVERAGE('Youth Survey'!KO16,'Youth Survey'!KO18,'Youth Survey'!KO22,'Youth Survey'!KO23),\"\")","v":""},{"$f":"IFERROR(AVERAGE('Youth Survey'!KP16,'Youth Survey'!KP18,'Youth Survey'!KP22,'Youth Survey'!KP23),\"\")","v":""},{"$f":"IFERROR(AVERAGE('Youth Survey'!KQ16,'Youth Survey'!KQ18,'Youth Survey'!KQ22,'Youth Survey'!KQ23),\"\")","v":""},{"$f":"IFERROR(AVERAGE('Youth Survey'!KR16,'Youth Survey'!KR18,'Youth Survey'!KR22,'Youth Survey'!KR23),\"\")","v":""},{"$f":"IFERROR(AVERAGE('Youth Survey'!KS16,'Youth Survey'!KS18,'Youth Survey'!KS22,'Youth Survey'!KS23),\"\")","v":""},{"$f":"IFERROR(AVERAGE('Youth Survey'!KT16,'Youth Survey'!KT18,'Youth Survey'!KT22,'Youth Survey'!KT23),\"\")","v":""},{"$f":"IFERROR(AVERAGE('Youth Survey'!KU16,'Youth Survey'!KU18,'Youth Survey'!KU22,'Youth Survey'!KU23),\"\")","v":""},{"$f":"IFERROR(AVERAGE('Youth Survey'!KV16,'Youth Survey'!KV18,'Youth Survey'!KV22,'Youth Survey'!KV23),\"\")","v":""},{"$f":"IFERROR(AVERAGE('Youth Survey'!KW16,'Youth Survey'!KW18,'Youth Survey'!KW22,'Youth Survey'!KW23),\"\")","v":""},{"$f":"IFERROR(AVERAGE('Youth Survey'!KX16,'Youth Survey'!KX18,'Youth Survey'!KX22,'Youth Survey'!KX23),\"\")","v":""},{"$f":"IFERROR(AVERAGE('Youth Survey'!KY16,'Youth Survey'!KY18,'Youth Survey'!KY22,'Youth Survey'!KY23),\"\")","v":""},{"$f":"IFERROR(AVERAGE('Youth Survey'!KZ16,'Youth Survey'!KZ18,'Youth Survey'!KZ22,'Youth Survey'!KZ23),\"\")","v":""},{"$f":"IFERROR(AVERAGE('Youth Survey'!LA16,'Youth Survey'!LA18,'Youth Survey'!LA22,'Youth Survey'!LA23),\"\")","v":""},{"$f":"IFERROR(AVERAGE('Youth Survey'!LB16,'Youth Survey'!LB18,'Youth Survey'!LB22,'Youth Survey'!LB23),\"\")","v":""},{"$f":"IFERROR(AVERAGE('Youth Survey'!LC16,'Youth Survey'!LC18,'Youth Survey'!LC22,'Youth Survey'!LC23),\"\")","v":""},{"$f":"IFERROR(AVERAGE('Youth Survey'!LD16,'Youth Survey'!LD18,'Youth Survey'!LD22,'Youth Survey'!LD23),\"\")","v":""},{"$f":"IFERROR(AVERAGE('Youth Survey'!LE16,'Youth Survey'!LE18,'Youth Survey'!LE22,'Youth Survey'!LE23),\"\")","v":""},{"$f":"IFERROR(AVERAGE('Youth Survey'!LF16,'Youth Survey'!LF18,'Youth Survey'!LF22,'Youth Survey'!LF23),\"\")","v":""}]
["Pre","O17",null,{"$f":"IFERROR(AVERAGE('Youth Survey'!D10:D13),\"\")","v":""},{"$f":"IFERROR(AVERAGE('Youth Survey'!E10:E13),\"\")","v":""},{"$f":"IFERROR(AVERAGE('Youth Survey'!F10:F13),\"\")","v":""},{"$f":"IFERROR(AVERAGE('Youth Survey'!G10:G13),\"\")","v":""},{"$f":"IFERROR(AVERAGE('Youth Survey'!H10:H13),\"\")","v":""},{"$f":"IFERROR(AVERAGE('Youth Survey'!I10:I13),\"\")","v":""},{"$f":"IFERROR(AVERAGE('Youth Survey'!J10:J13),\"\")","v":""},{"$f":"IFERROR(AVERAGE('Youth Survey'!K10:K13),\"\")","v":""},{"$f":"IFERROR(AVERAGE('Youth Survey'!L10:L13),\"\")","v":""},{"$f":"IFERROR(AVERAGE('Youth Survey'!M10:M13),\"\")","v":""},{"$f":"IFERROR(AVERAGE('Youth Survey'!N10:N13),\"\")","v":""},{"$f":"IFERROR(AVERAGE('Youth Survey'!O10:O13),\"\")","v":""},{"$f":"IFERROR(AVERAGE('Youth Survey'!P10:P13),\"\")","v":""},{"$f":"IFERROR(AVERAGE('Youth Survey'!Q10:Q13),\"\")","v":""},{"$f":"IFERROR(AVERAGE('Youth Survey'!R10:R13),\"\")","v":""},{"$f":"IFERROR(AVERAGE('Youth Survey'!S10:S13),\"\")","v":""},{"$f":"IFERROR(AVERAGE('Youth Survey'!T10:T13),\"\")","v":""},{"$f":"IFERROR(AVERAGE('Youth Survey'!U10:U13),\"\")","v":""},{"$f":"IFERROR(AVERAGE('Youth Survey'!V10:V13),\"\")","v":""},{"$f":"IFERROR(AVERAGE('Youth Survey'!W10:W13),\"\")","v":""},{"$f":"IFERROR(AVERAGE('Youth Survey'!X10:X13),\"\")","v":""},{"$f":"IFERROR(AVERAGE('Youth Survey'!Y10:Y13),\"\")","v":""},{"$f":"IFERROR(AVERAGE('Youth Survey'!Z10:Z13),\"\")","v":""},{"$f":"IFERROR(AVERAGE('Youth Survey'!AA10:AA13),\"\")","v":""},{"$f":"IFERROR(AVERAGE('Youth Survey'!AB10:AB13),\"\")","v":""},{"$f":"IFERROR(AVERAGE('Youth Survey'!AC10:AC13),\"\")","v":""},{"$f":"IFERROR(AVERAGE('Youth Survey'!AD10:AD13),\"\")","v":""},{"$f":"IFERROR(AVERAGE('Youth Survey'!AE10:AE13),\"\")","v":""},{"$f":"IFERROR(AVERAGE('Youth Survey'!AF10:AF13),\"\")","v":""},{"$f":"IFERROR(AVERAGE('Youth Survey'!AG10:AG13),\"\")","v":""},{"$f":"IFERROR(AVERAGE('Youth Survey'!AH10:AH13),\"\")","v":""},{"$f":"IFERROR(AVERAGE('Youth Survey'!AI10:AI13),\"\")","v":""},{"$f":"IFERROR(AVERAGE('Youth Survey'!AJ10:AJ13),\"\")","v":""},{"$f":"IFERROR(AVERAGE('Youth Survey'!AK10:AK13),\"\")","v":""},{"$f":"IFERROR(AVERAGE('Youth Survey'!AL10:AL13),\"\")","v":""},{"$f":"IFERROR(AVERAGE('Youth Survey'!AM10:AM13),\"\")","v":""},{"$f":"IFERROR(AVERAGE('Youth Survey'!AN10:AN13),\"\")","v":""},{"$f":"IFERROR(AVERAGE('Youth Survey'!AO10:AO13),\"\")","v":""},{"$f":"IFERROR(AVERAGE('Youth Survey'!AP10:AP13),\"\")","v":""},{"$f":"IFERROR(AVERAGE('Youth Survey'!AQ10:AQ13),\"\")","v":""},{"$f":"IFERROR(AVERAGE('Youth Survey'!AR10:AR13),\"\")","v":""},{"$f":"IFERROR(AVERAGE('Youth Survey'!AS10:AS13),\"\")","v":""},{"$f":"IFERROR(AVERAGE('Youth Survey'!AT10:AT13),\"\")","v":""},{"$f":"IFERROR(AVERAGE('Youth Survey'!AU10:AU13),\"\")","v":""},{"$f":"IFERROR(AVERAGE('Youth Survey'!AV10:AV13),\"\")","v":""},{"$f":"IFERROR(AVERAGE('Youth Survey'!AW10:AW13),\"\")","v":""},{"$f":"IFERROR(AVERAGE('Youth Survey'!AX10:AX13),\"\")","v":""},{"$f":"IFERROR(AVERAGE('Youth Survey'!AY10:AY13),\"\")","v":""},{"$f":"IFERROR(AVERAGE('Youth Survey'!AZ10:AZ13),\"\")","v":""},{"$f":"IFERROR(AVERAGE('Youth Survey'!BA10:BA13),\"\")","v":""},{"$f":"IFERROR(AVERAGE('Youth Survey'!BB10:BB13),\"\")","v":""},{"$f":"IFERROR(AVERAGE('Youth Survey'!BC10:BC13),\"\")","v":""},{"$f":"IFERROR(AVERAGE('Youth Survey'!BD10:BD13),\"\")","v":""},{"$f":"IFERROR(AVERAGE('Youth Survey'!BE10:BE13),\"\")","v":""},{"$f":"IFERROR(AVERAGE('Youth Survey'!BF10:BF13),\"\")","v":""},{"$f":"IFERROR(AVERAGE('Youth Survey'!BG10:BG13),\"\")","v":""},{"$f":"IFERROR(AVERAGE('Youth Survey'!BH10:BH13),\"\")","v":""},{"$f":"IFERROR(AVERAGE('Youth Survey'!BI10:BI13),\"\")","v":""},{"$f":"IFERROR(AVERAGE('Youth Survey'!BJ10:BJ13),\"\")","v":""},{"$f":"IFERROR(AVERAGE('Youth Survey'!BK10:BK13),\"\")","v":""},{"$f":"IFERROR(AVERAGE('Youth Survey'!BL10:BL13),\"\")","v":""},{"$f":"IFERROR(AVERAGE('Youth Survey'!BM10:BM13),\"\")","v":""},{"$f":"IFERROR(AVERAGE('Youth Survey'!BN10:BN13),\"\")","v":""},{"$f":"IFERROR(AVERAGE('Youth Survey'!BO10:BO13),\"\")","v":""},{"$f":"IFERROR(AVERAGE('Youth Survey'!BP10:BP13),\"\")","v":""},{"$f":"IFERROR(AVERAGE('Youth Survey'!BQ10:BQ13),\"\")","v":""},{"$f":"IFERROR(AVERAGE('Youth Survey'!BR10:BR13),\"\")","v":""},{"$f":"IFERROR(AVERAGE('Youth Survey'!BS10:BS13),\"\")","v":""},{"$f":"IFERROR(AVERAGE('Youth Survey'!BT10:BT13),\"\")","v":""},{"$f":"IFERROR(AVERAGE('Youth Survey'!BU10:BU13),\"\")","v":""},{"$f":"IFERROR(AVERAGE('Youth Survey'!BV10:BV13),\"\")","v":""},{"$f":"IFERROR(AVERAGE('Youth Survey'!BW10:BW13),\"\")","v":""},{"$f":"IFERROR(AVERAGE('Youth Survey'!BX10:BX13),\"\")","v":""},{"$f":"IFERROR(AVERAGE('Youth Survey'!BY10:BY13),\"\")","v":""},{"$f":"IFERROR(AVERAGE('Youth Survey'!BZ10:BZ13),\"\")","v":""},{"$f":"IFERROR(AVERAGE('Youth Survey'!CA10:CA13),\"\")","v":""},{"$f":"IFERROR(AVERAGE('Youth Survey'!CB10:CB13),\"\")","v":""},{"$f":"IFERROR(AVERAGE('Youth Survey'!CC10:CC13),\"\")","v":""},{"$f":"IFERROR(AVERAGE('Youth Survey'!CD10:CD13),\"\")","v":""},{"$f":"IFERROR(AVERAGE('Youth Survey'!CE10:CE13),\"\")","v":""},{"$f":"IFERROR(AVERAGE('Youth Survey'!CF10:CF13),\"\")","v":""},{"$f":"IFERROR(AVERAGE('Youth Survey'!CG10:CG13),\"\")","v":""},{"$f":"IFERROR(AVERAGE('Youth Survey'!CH10:CH13),\"\")","v":""},{"$f":"IFERROR(AVERAGE('Youth Survey'!CI10:CI13),\"\")","v":""},{"$f":"IFERROR(AVERAGE('Youth Survey'!CJ10:CJ13),\"\")","v":""},{"$f":"IFERROR(AVERAGE('Youth Survey'!CK10:CK13),\"\")","v":""},{"$f":"IFERROR(AVERAGE('Youth Survey'!CL10:CL13),\"\")","v":""},{"$f":"IFERROR(AVERAGE('Youth Survey'!CM10:CM13),\"\")","v":""},{"$f":"IFERROR(AVERAGE('Youth Survey'!CN10:CN13),\"\")","v":""},{"$f":"IFERROR(AVERAGE('Youth Survey'!CO10:CO13),\"\")","v":""},{"$f":"IFERROR(AVERAGE('Youth Survey'!CP10:CP13),\"\")","v":""},{"$f":"IFERROR(AVERAGE('Youth Survey'!CQ10:CQ13),\"\")","v":""},{"$f":"IFERROR(AVERAGE('Youth Survey'!CR10:CR13),\"\")","v":""},{"$f":"IFERROR(AVERAGE('Youth Survey'!CS10:CS13),\"\")","v":""},{"$f":"IFERROR(AVERAGE('Youth Survey'!CT10:CT13),\"\")","v":""},{"$f":"IFERROR(AVERAGE('Youth Survey'!CU10:CU13),\"\")","v":""},{"$f":"IFERROR(AVERAGE('Youth Survey'!CV10:CV13),\"\")","v":""},{"$f":"IFERROR(AVERAGE('Youth Survey'!CW10:CW13),\"\")","v":""},{"$f":"IFERROR(AVERAGE('Youth Survey'!CX10:CX13),\"\")","v":""},{"$f":"IFERROR(AVERAGE('Youth Survey'!CY10:CY13),\"\")","v":""},{"$f":"IFERROR(AVERAGE('Youth Survey'!CZ10:CZ13),\"\")","v":""},{"$f":"IFERROR(AVERAGE('Youth Survey'!DA10:DA13),\"\")","v":""},{"$f":"IFERROR(AVERAGE('Youth Survey'!DB10:DB13),\"\")","v":""},{"$f":"IFERROR(AVERAGE('Youth Survey'!DC10:DC13),\"\")","v":""},{"$f":"IFERROR(AVERAGE('Youth Survey'!DD10:DD13),\"\")","v":""},{"$f":"IFERROR(AVERAGE('Youth Survey'!DE10:DE13),\"\")","v":""},{"$f":"IFERROR(AVERAGE('Youth Survey'!DF10:DF13),\"\")","v":""},{"$f":"IFERROR(AVERAGE('Youth Survey'!DG10:DG13),\"\")","v":""},{"$f":"IFERROR(AVERAGE('Youth Survey'!DH10:DH13),\"\")","v":""},{"$f":"IFERROR(AVERAGE('Youth Survey'!DI10:DI13),\"\")","v":""},{"$f":"IFERROR(AVERAGE('Youth Survey'!DJ10:DJ13),\"\")","v":""},{"$f":"IFERROR(AVERAGE('Youth Survey'!DK10:DK13),\"\")","v":""},{"$f":"IFERROR(AVERAGE('Youth Survey'!DL10:DL13),\"\")","v":""},{"$f":"IFERROR(AVERAGE('Youth Survey'!DM10:DM13),\"\")","v":""},{"$f":"IFERROR(AVERAGE('Youth Survey'!DN10:DN13),\"\")","v":""},{"$f":"IFERROR(AVERAGE('Youth Survey'!DO10:DO13),\"\")","v":""},{"$f":"IFERROR(AVERAGE('Youth Survey'!DP10:DP13),\"\")","v":""},{"$f":"IFERROR(AVERAGE('Youth Survey'!DQ10:DQ13),\"\")","v":""},{"$f":"IFERROR(AVERAGE('Youth Survey'!DR10:DR13),\"\")","v":""},{"$f":"IFERROR(AVERAGE('Youth Survey'!DS10:DS13),\"\")","v":""},{"$f":"IFERROR(AVERAGE('Youth Survey'!DT10:DT13),\"\")","v":""},{"$f":"IFERROR(AVERAGE('Youth Survey'!DU10:DU13),\"\")","v":""},{"$f":"IFERROR(AVERAGE('Youth Survey'!DV10:DV13),\"\")","v":""},{"$f":"IFERROR(AVERAGE('Youth Survey'!DW10:DW13),\"\")","v":""},{"$f":"IFERROR(AVERAGE('Youth Survey'!DX10:DX13),\"\")","v":""},{"$f":"IFERROR(AVERAGE('Youth Survey'!DY10:DY13),\"\")","v":""},{"$f":"IFERROR(AVERAGE('Youth Survey'!DZ10:DZ13),\"\")","v":""},{"$f":"IFERROR(AVERAGE('Youth Survey'!EA10:EA13),\"\")","v":""},{"$f":"IFERROR(AVERAGE('Youth Survey'!EB10:EB13),\"\")","v":""},{"$f":"IFERROR(AVERAGE('Youth Survey'!EC10:EC13),\"\")","v":""},{"$f":"IFERROR(AVERAGE('Youth Survey'!ED10:ED13),\"\")","v":""},{"$f":"IFERROR(AVERAGE('Youth Survey'!EE10:EE13),\"\")","v":""},{"$f":"IFERROR(AVERAGE('Youth Survey'!EF10:EF13),\"\")","v":""},{"$f":"IFERROR(AVERAGE('Youth Survey'!EG10:EG13),\"\")","v":""},{"$f":"IFERROR(AVERAGE('Youth Survey'!EH10:EH13),\"\")","v":""},{"$f":"IFERROR(AVERAGE('Youth Survey'!EI10:EI13),\"\")","v":""},{"$f":"IFERROR(AVERAGE('Youth Survey'!EJ10:EJ13),\"\")","v":""},{"$f":"IFERROR(AVERAGE('Youth Survey'!EK10:EK13),\"\")","v":""},{"$f":"IFERROR(AVERAGE('Youth Survey'!EL10:EL13),\"\")","v":""},{"$f":"IFERROR(AVERAGE('Youth Survey'!EM10:EM13),\"\")","v":""},{"$f":"IFERROR(AVERAGE('Youth Survey'!EN10:EN13),\"\")","v":""},{"$f":"IFERROR(AVERAGE('Youth Survey'!EO10:EO13),\"\")","v":""},{"$f":"IFERROR(AVERAGE('Youth Survey'!EP10:EP13),\"\")","v":""},{"$f":"IFERROR(AVERAGE('Youth Survey'!EQ10:EQ13),\"\")","v":""},{"$f":"IFERROR(AVERAGE('Youth Survey'!ER10:ER13),\"\")","v":""},{"$f":"IFERROR(AVERAGE('Youth Survey'!ES10:ES13),\"\")","v":""},{"$f":"IFERROR(AVERAGE('Youth Survey'!ET10:ET13),\"\")","v":""},{"$f":"IFERROR(AVERAGE('Youth Survey'!EU10:EU13),\"\")","v":""},{"$f":"IFERROR(AVERAGE('Youth Survey'!EV10:EV13),\"\")","v":""},{"$f":"IFERROR(AVERAGE('Youth Survey'!EW10:EW13),\"\")","v":""},{"$f":"IFERROR(AVERAGE('Youth Survey'!EX10:EX13),\"\")","v":""},{"$f":"IFERROR(AVERAGE('Youth Survey'!EY10:EY13),\"\")","v":""},{"$f":"IFERROR(AVERAGE('Youth Survey'!EZ10:EZ13),\"\")","v":""},{"$f":"IFERROR(AVERAGE('Youth Survey'!FA10:FA13),\"\")","v":""},{"$f":"IFERROR(AVERAGE('Youth Survey'!FB10:FB13),\"\")","v":""},{"$f":"IFERROR(AVERAGE('Youth Survey'!FC10:FC13),\"\")","v":""},{"$f":"IFERROR(AVERAGE('Youth Survey'!FD10:FD13),\"\")","v":""},{"$f":"IFERROR(AVERAGE('Youth Survey'!FE10:FE13),\"\")","v":""},{"$f":"IFERROR(AVERAGE('Youth Survey'!FF10:FF13),\"\")","v":""},{"$f":"IFERROR(AVERAGE('Youth Survey'!FG10:FG13),\"\")","v":""},{"$f":"IFERROR(AVERAGE('Youth Survey'!FH10:FH13),\"\")","v":""},{"$f":"IFERROR(AVERAGE('Youth Survey'!FI10:FI13),\"\")","v":""},{"$f":"IFERROR(AVERAGE('Youth Survey'!FJ10:FJ13),\"\")","v":""},{"$f":"IFERROR(AVERAGE('Youth Survey'!FK10:FK13),\"\")","v":""},{"$f":"IFERROR(AVERAGE('Youth Survey'!FL10:FL13),\"\")","v":""},{"$f":"IFERROR(AVERAGE('Youth Survey'!FM10:FM13),\"\")","v":""},{"$f":"IFERROR(AVERAGE('Youth Survey'!FN10:FN13),\"\")","v":""},{"$f":"IFERROR(AVERAGE('Youth Survey'!FO10:FO13),\"\")","v":""},{"$f":"IFERROR(AVERAGE('Youth Survey'!FP10:FP13),\"\")","v":""},{"$f":"IFERROR(AVERAGE('Youth Survey'!FQ10:FQ13),\"\")","v":""},{"$f":"IFERROR(AVERAGE('Youth Survey'!FR10:FR13),\"\")","v":""},{"$f":"IFERROR(AVERAGE('Youth Survey'!FS10:FS13),\"\")","v":""},{"$f":"IFERROR(AVERAGE('Youth Survey'!FT10:FT13),\"\")","v":""},{"$f":"IFERROR(AVERAGE('Youth Survey'!FU10:FU13),\"\")","v":""},{"$f":"IFERROR(AVERAGE('Youth Survey'!FV10:FV13),\"\")","v":""},{"$f":"IFERROR(AVERAGE('Youth Survey'!FW10:FW13),\"\")","v":""},{"$f":"IFERROR(AVERAGE('Youth Survey'!FX10:FX13),\"\")","v":""},{"$f":"IFERROR(AVERAGE('Youth Survey'!FY10:FY13),\"\")","v":""},{"$f":"IFERROR(AVERAGE('Youth Survey'!FZ10:FZ13),\"\")","v":""},{"$f":"IFERROR(AVERAGE('Youth Survey'!GA10:GA13),\"\")","v":""},{"$f":"IFERROR(AVERAGE('Youth Survey'!GB10:GB13),\"\")","v":""},{"$f":"IFERROR(AVERAGE('Youth Survey'!GC10:GC13),\"\")","v":""},{"$f":"IFERROR(AVERAGE('Youth Survey'!GD10:GD13),\"\")","v":""},{"$f":"IFERROR(AVERAGE('Youth Survey'!GE10:GE13),\"\")","v":""},{"$f":"IFERROR(AVERAGE('Youth Survey'!GF10:GF13),\"\")","v":""},{"$f":"IFERROR(AVERAGE('Youth Survey'!GG10:GG13),\"\")","v":""},{"$f":"IFERROR(AVERAGE('Youth Survey'!GH10:GH13),\"\")","v":""},{"$f":"IFERROR(AVERAGE('Youth Survey'!GI10:GI13),\"\")","v":""},{"$f":"IFERROR(AVERAGE('Youth Survey'!GJ10:GJ13),\"\")","v":""},{"$f":"IFERROR(AVERAGE('Youth Survey'!GK10:GK13),\"\")","v":""},{"$f":"IFERROR(AVERAGE('Youth Survey'!GL10:GL13),\"\")","v":""},{"$f":"IFERROR(AVERAGE('Youth Survey'!GM10:GM13),\"\")","v":""},{"$f":"IFERROR(AVERAGE('Youth Survey'!GN10:GN13),\"\")","v":""},{"$f":"IFERROR(AVERAGE('Youth Survey'!GO10:GO13),\"\")","v":""},{"$f":"IFERROR(AVERAGE('Youth Survey'!GP10:GP13),\"\")","v":""},{"$f":"IFERROR(AVERAGE('Youth Survey'!GQ10:GQ13),\"\")","v":""},{"$f":"IFERROR(AVERAGE('Youth Survey'!GR10:GR13),\"\")","v":""},{"$f":"IFERROR(AVERAGE('Youth Survey'!GS10:GS13),\"\")","v":""},{"$f":"IFERROR(AVERAGE('Youth Survey'!GT10:GT13),\"\")","v":""},{"$f":"IFERROR(AVERAGE('Youth Survey'!GU10:GU13),\"\")","v":""},{"$f":"IFERROR(AVERAGE('Youth Survey'!GV10:GV13),\"\")","v":""},{"$f":"IFERROR(AVERAGE('Youth Survey'!GW10:GW13),\"\")","v":""},{"$f":"IFERROR(AVERAGE('Youth Survey'!GX10:GX13),\"\")","v":""},{"$f":"IFERROR(AVERAGE('Youth Survey'!GY10:GY13),\"\")","v":""},{"$f":"IFERROR(AVERAGE('Youth Survey'!GZ10:GZ13),\"\")","v":""},{"$f":"IFERROR(AVERAGE('Youth Survey'!HA10:HA13),\"\")","v":""},{"$f":"IFERROR(AVERAGE('Youth Survey'!HB10:HB13),\"\")","v":""},{"$f":"IFERROR(AVERAGE('Youth Survey'!HC10:HC13),\"\")","v":""},{"$f":"IFERROR(AVERAGE('Youth Survey'!HD10:HD13),\"\")","v":""},{"$f":"IFERROR(AVERAGE('Youth Survey'!HE10:HE13),\"\")","v":""},{"$f":"IFERROR(AVERAGE('Youth Survey'!HF10:HF13),\"\")","v":""},{"$f":"IFERROR(AVERAGE('Youth Survey'!HG10:HG13),\"\")","v":""},{"$f":"IFERROR(AVERAGE('Youth Survey'!HH10:HH13),\"\")","v":""},{"$f":"IFERROR(AVERAGE('Youth Survey'!HI10:HI13),\"\")","v":""},{"$f":"IFERROR(AVERAGE('Youth Survey'!HJ10:HJ13),\"\")","v":""},{"$f":"IFERROR(AVERAGE('Youth Survey'!HK10:HK13),\"\")","v":""},{"$f":"IFERROR(AVERAGE('Youth Survey'!HL10:HL13),\"\")","v":""},{"$f":"IFERROR(AVERAGE('Youth Survey'!HM10:HM13),\"\")","v":""},{"$f":"IFERROR(AVERAGE('Youth Survey'!HN10:HN13),\"\")","v":""},{"$f":"IFERROR(AVERAGE('Youth Survey'!HO10:HO13),\"\")","v":""},{"$f":"IFERROR(AVERAGE('Youth Survey'!HP10:HP13),\"\")","v":""},{"$f":"IFERROR(AVERAGE('Youth Survey'!HQ10:HQ13),\"\")","v":""},{"$f":"IFERROR(AVERAGE('Youth Survey'!HR10:HR13),\"\")","v":""},{"$f":"IFERROR(AVERAGE('Youth Survey'!HS10:HS13),\"\")","v":""},{"$f":"IFERROR(AVERAGE('Youth Survey'!HT10:HT13),\"\")","v":""},{"$f":"IFERROR(AVERAGE('Youth Survey'!HU10:HU13),\"\")","v":""},{"$f":"IFERROR(AVERAGE('Youth Survey'!HV10:HV13),\"\")","v":""},{"$f":"IFERROR(AVERAGE('Youth Survey'!HW10:HW13),\"\")","v":""},{"$f":"IFERROR(AVERAGE('Youth Survey'!HX10:HX13),\"\")","v":""},{"$f":"IFERROR(AVERAGE('Youth Survey'!HY10:HY13),\"\")","v":""},{"$f":"IFERROR(AVERAGE('Youth Survey'!HZ10:HZ13),\"\")","v":""},{"$f":"IFERROR(AVERAGE('Youth Survey'!IA10:IA13),\"\")","v":""},{"$f":"IFERROR(AVERAGE('Youth Survey'!IB10:IB13),\"\")","v":""},{"$f":"IFERROR(AVERAGE('Youth Survey'!IC10:IC13),\"\")","v":""},{"$f":"IFERROR(AVERAGE('Youth Survey'!ID10:ID13),\"\")","v":""},{"$f":"IFERROR(AVERAGE('Youth Survey'!IE10:IE13),\"\")","v":""},{"$f":"IFERROR(AVERAGE('Youth Survey'!IF10:IF13),\"\")","v":""},{"$f":"IFERROR(AVERAGE('Youth Survey'!IG10:IG13),\"\")","v":""},{"$f":"IFERROR(AVERAGE('Youth Survey'!IH10:IH13),\"\")","v":""},{"$f":"IFERROR(AVERAGE('Youth Survey'!II10:II13),\"\")","v":""},{"$f":"IFERROR(AVERAGE('Youth Survey'!IJ10:IJ13),\"\")","v":""},{"$f":"IFERROR(AVERAGE('Youth Survey'!IK10:IK13),\"\")","v":""},{"$f":"IFERROR(AVERAGE('Youth Survey'!IL10:IL13),\"\")","v":""},{"$f":"IFERROR(AVERAGE('Youth Survey'!IM10:IM13),\"\")","v":""},{"$f":"IFERROR(AVERAGE('Youth Survey'!IN10:IN13),\"\")","v":""},{"$f":"IFERROR(AVERAGE('Youth Survey'!IO10:IO13),\"\")","v":""},{"$f":"IFERROR(AVERAGE('Youth Survey'!IP10:IP13),\"\")","v":""},{"$f":"IFERROR(AVERAGE('Youth Survey'!IQ10:IQ13),\"\")","v":""},{"$f":"IFERROR(AVERAGE('Youth Survey'!IR10:IR13),\"\")","v":""},{"$f":"IFERROR(AVERAGE('Youth Survey'!IS10:IS13),\"\")","v":""},{"$f":"IFERROR(AVERAGE('Youth Survey'!IT10:IT13),\"\")","v":""},{"$f":"IFERROR(AVERAGE('Youth Survey'!IU10:IU13),\"\")","v":""},{"$f":"IFERROR(AVERAGE('Youth Survey'!IV10:IV13),\"\")","v":""},{"$f":"IFERROR(AVERAGE('Youth Survey'!IW10:IW13),\"\")","v":""},{"$f":"IFERROR(AVERAGE('Youth Survey'!IX10:IX13),\"\")","v":""},{"$f":"IFERROR(AVERAGE('Youth Survey'!IY10:IY13),\"\")","v":""},{"$f":"IFERROR(AVERAGE('Youth Survey'!IZ10:IZ13),\"\")","v":""},{"$f":"IFERROR(AVERAGE('Youth Survey'!JA10:JA13),\"\")","v":""},{"$f":"IFERROR(AVERAGE('Youth Survey'!JB10:JB13),\"\")","v":""},{"$f":"IFERROR(AVERAGE('Youth Survey'!JC10:JC13),\"\")","v":""},{"$f":"IFERROR(AVERAGE('Youth Survey'!JD10:JD13),\"\")","v":""},{"$f":"IFERROR(AVERAGE('Youth Survey'!JE10:JE13),\"\")","v":""},{"$f":"IFERROR(AVERAGE('Youth Survey'!JF10:JF13),\"\")","v":""},{"$f":"IFERROR(AVERAGE('Youth Survey'!JG10:JG13),\"\")","v":""},{"$f":"IFERROR(AVERAGE('Youth Survey'!JH10:JH13),\"\")","v":""},{"$f":"IFERROR(AVERAGE('Youth Survey'!JI10:JI13),\"\")","v":""},{"$f":"IFERROR(AVERAGE('Youth Survey'!JJ10:JJ13),\"\")","v":""},{"$f":"IFERROR(AVERAGE('Youth Survey'!JK10:JK13),\"\")","v":""},{"$f":"IFERROR(AVERAGE('Youth Survey'!JL10:JL13),\"\")","v":""},{"$f":"IFERROR(AVERAGE('Youth Survey'!JM10:JM13),\"\")","v":""},{"$f":"IFERROR(AVERAGE('Youth Survey'!JN10:JN13),\"\")","v":""},{"$f":"IFERROR(AVERAGE('Youth Survey'!JO10:JO13),\"\")","v":""},{"$f":"IFERROR(AVERAGE('Youth Survey'!JP10:JP13),\"\")","v":""},{"$f":"IFERROR(AVERAGE('Youth Survey'!JQ10:JQ13),\"\")","v":""},{"$f":"IFERROR(AVERAGE('Youth Survey'!JR10:JR13),\"\")","v":""},{"$f":"IFERROR(AVERAGE('Youth Survey'!JS10:JS13),\"\")","v":""},{"$f":"IFERROR(AVERAGE('Youth Survey'!JT10:JT13),\"\")","v":""},{"$f":"IFERROR(AVERAGE('Youth Survey'!JU10:JU13),\"\")","v":""},{"$f":"IFERROR(AVERAGE('Youth Survey'!JV10:JV13),\"\")","v":""},{"$f":"IFERROR(AVERAGE('Youth Survey'!JW10:JW13),\"\")","v":""},{"$f":"IFERROR(AVERAGE('Youth Survey'!JX10:JX13),\"\")","v":""},{"$f":"IFERROR(AVERAGE('Youth Survey'!JY10:JY13),\"\")","v":""},{"$f":"IFERROR(AVERAGE('Youth Survey'!JZ10:JZ13),\"\")","v":""},{"$f":"IFERROR(AVERAGE('Youth Survey'!KA10:KA13),\"\")","v":""},{"$f":"IFERROR(AVERAGE('Youth Survey'!KB10:KB13),\"\")","v":""},{"$f":"IFERROR(AVERAGE('Youth Survey'!KC10:KC13),\"\")","v":""},{"$f":"IFERROR(AVERAGE('Youth Survey'!KD10:KD13),\"\")","v":""},{"$f":"IFERROR(AVERAGE('Youth Survey'!KE10:KE13),\"\")","v":""},{"$f":"IFERROR(AVERAGE('Youth Survey'!KF10:KF13),\"\")","v":""},{"$f":"IFERROR(AVERAGE('Youth Survey'!KG10:KG13),\"\")","v":""},{"$f":"IFERROR(AVERAGE('Youth Survey'!KH10:KH13),\"\")","v":""},{"$f":"IFERROR(AVERAGE('Youth Survey'!KI10:KI13),\"\")","v":""},{"$f":"IFERROR(AVERAGE('Youth Survey'!KJ10:KJ13),\"\")","v":""},{"$f":"IFERROR(AVERAGE('Youth Survey'!KK10:KK13),\"\")","v":""},{"$f":"IFERROR(AVERAGE('Youth Survey'!KL10:KL13),\"\")","v":""},{"$f":"IFERROR(AVERAGE('Youth Survey'!KM10:KM13),\"\")","v":""},{"$f":"IFERROR(AVERAGE('Youth Survey'!KN10:KN13),\"\")","v":""},{"$f":"IFERROR(AVERAGE('Youth Survey'!KO10:KO13),\"\")","v":""},{"$f":"IFERROR(AVERAGE('Youth Survey'!KP10:KP13),\"\")","v":""},{"$f":"IFERROR(AVERAGE('Youth Survey'!KQ10:KQ13),\"\")","v":""},{"$f":"IFERROR(AVERAGE('Youth Survey'!KR10:KR13),\"\")","v":""},{"$f":"IFERROR(AVERAGE('Youth Survey'!KS10:KS13),\"\")","v":""},{"$f":"IFERROR(AVERAGE('Youth Survey'!KT10:KT13),\"\")","v":""},{"$f":"IFERROR(AVERAGE('Youth Survey'!KU10:KU13),\"\")","v":""},{"$f":"IFERROR(AVERAGE('Youth Survey'!KV10:KV13),\"\")","v":""},{"$f":"IFERROR(AVERAGE('Youth Survey'!KW10:KW13),\"\")","v":""},{"$f":"IFERROR(AVERAGE('Youth Survey'!KX10:KX13),\"\")","v":""},{"$f":"IFERROR(AVERAGE('Youth Survey'!KY10:KY13),\"\")","v":""},{"$f":"IFERROR(AVERAGE('Youth Survey'!KZ10:KZ13),\"\")","v":""},{"$f":"IFERROR(AVERAGE('Youth Survey'!LA10:LA13),\"\")","v":""},{"$f":"IFERROR(AVERAGE('Youth Survey'!LB10:LB13),\"\")","v":""},{"$f":"IFERROR(AVERAGE('Youth Survey'!LC10:LC13),\"\")","v":""},{"$f":"IFERROR(AVERAGE('Youth Survey'!LD10:LD13),\"\")","v":""},{"$f":"IFERROR(AVERAGE('Youth Survey'!LE10:LE13),\"\")","v":""},{"$f":"IFERROR(AVERAGE('Youth Survey'!LF10:LF13),\"\")","v":""}]
[]
[]
["Post","O15",null,{"$f":"IFERROR(AVERAGE('Youth Survey'!D40,'Youth Survey'!D47,'Youth Survey'!D54,'Youth Survey'!D57),\"\")","v":""},{"$f":"IFERROR(AVERAGE('Youth Survey'!E40,'Youth Survey'!E47,'Youth Survey'!E54,'Youth Survey'!E57),\"\")","v":""},{"$f":"IFERROR(AVERAGE('Youth Survey'!F40,'Youth Survey'!F47,'Youth Survey'!F54,'Youth Survey'!F57),\"\")","v":""},{"$f":"IFERROR(AVERAGE('Youth Survey'!G40,'Youth Survey'!G47,'Youth Survey'!G54,'Youth Survey'!G57),\"\")","v":""},{"$f":"IFERROR(AVERAGE('Youth Survey'!H40,'Youth Survey'!H47,'Youth Survey'!H54,'Youth Survey'!H57),\"\")","v":""},{"$f":"IFERROR(AVERAGE('Youth Survey'!I40,'Youth Survey'!I47,'Youth Survey'!I54,'Youth Survey'!I57),\"\")","v":""},{"$f":"IFERROR(AVERAGE('Youth Survey'!J40,'Youth Survey'!J47,'Youth Survey'!J54,'Youth Survey'!J57),\"\")","v":""},{"$f":"IFERROR(AVERAGE('Youth Survey'!K40,'Youth Survey'!K47,'Youth Survey'!K54,'Youth Survey'!K57),\"\")","v":""},{"$f":"IFERROR(AVERAGE('Youth Survey'!L40,'Youth Survey'!L47,'Youth Survey'!L54,'Youth Survey'!L57),\"\")","v":""},{"$f":"IFERROR(AVERAGE('Youth Survey'!M40,'Youth Survey'!M47,'Youth Survey'!M54,'Youth Survey'!M57),\"\")","v":""},{"$f":"IFERROR(AVERAGE('Youth Survey'!N40,'Youth Survey'!N47,'Youth Survey'!N54,'Youth Survey'!N57),\"\")","v":""},{"$f":"IFERROR(AVERAGE('Youth Survey'!O40,'Youth Survey'!O47,'Youth Survey'!O54,'Youth Survey'!O57),\"\")","v":""},{"$f":"IFERROR(AVERAGE('Youth Survey'!P40,'Youth Survey'!P47,'Youth Survey'!P54,'Youth Survey'!P57),\"\")","v":""},{"$f":"IFERROR(AVERAGE('Youth Survey'!Q40,'Youth Survey'!Q47,'Youth Survey'!Q54,'Youth Survey'!Q57),\"\")","v":""},{"$f":"IFERROR(AVERAGE('Youth Survey'!R40,'Youth Survey'!R47,'Youth Survey'!R54,'Youth Survey'!R57),\"\")","v":""},{"$f":"IFERROR(AVERAGE('Youth Survey'!S40,'Youth Survey'!S47,'Youth Survey'!S54,'Youth Survey'!S57),\"\")","v":""},{"$f":"IFERROR(AVERAGE('Youth Survey'!T40,'Youth Survey'!T47,'Youth Survey'!T54,'Youth Survey'!T57),\"\")","v":""},{"$f":"IFERROR(AVERAGE('Youth Survey'!U40,'Youth Survey'!U47,'Youth Survey'!U54,'Youth Survey'!U57),\"\")","v":""},{"$f":"IFERROR(AVERAGE('Youth Survey'!V40,'Youth Survey'!V47,'Youth Survey'!V54,'Youth Survey'!V57),\"\")","v":""},{"$f":"IFERROR(AVERAGE('Youth Survey'!W40,'Youth Survey'!W47,'Youth Survey'!W54,'Youth Survey'!W57),\"\")","v":""},{"$f":"IFERROR(AVERAGE('Youth Survey'!X40,'Youth Survey'!X47,'Youth Survey'!X54,'Youth Survey'!X57),\"\")","v":""},{"$f":"IFERROR(AVERAGE('Youth Survey'!Y40,'Youth Survey'!Y47,'Youth Survey'!Y54,'Youth Survey'!Y57),\"\")","v":""},{"$f":"IFERROR(AVERAGE('Youth Survey'!Z40,'Youth Survey'!Z47,'Youth Survey'!Z54,'Youth Survey'!Z57),\"\")","v":""},{"$f":"IFERROR(AVERAGE('Youth Survey'!AA40,'Youth Survey'!AA47,'Youth Survey'!AA54,'Youth Survey'!AA57),\"\")","v":""},{"$f":"IFERROR(AVERAGE('Youth Survey'!AB40,'Youth Survey'!AB47,'Youth Survey'!AB54,'Youth Survey'!AB57),\"\")","v":""},{"$f":"IFERROR(AVERAGE('Youth Survey'!AC40,'Youth Survey'!AC47,'Youth Survey'!AC54,'Youth Survey'!AC57),\"\")","v":""},{"$f":"IFERROR(AVERAGE('Youth Survey'!AD40,'Youth Survey'!AD47,'Youth Survey'!AD54,'Youth Survey'!AD57),\"\")","v":""},{"$f":"IFERROR(AVERAGE('Youth Survey'!AE40,'Youth Survey'!AE47,'Youth Survey'!AE54,'Youth Survey'!AE57),\"\")","v":""},{"$f":"IFERROR(AVERAGE('Youth Survey'!AF40,'Youth Survey'!AF47,'Youth Survey'!AF54,'Youth Survey'!AF57),\"\")","v":""},{"$f":"IFERROR(AVERAGE('Youth Survey'!AG40,'Youth Survey'!AG47,'Youth Survey'!AG54,'Youth Survey'!AG57),\"\")","v":""},{"$f":"IFERROR(AVERAGE('Youth Survey'!AH40,'Youth Survey'!AH47,'Youth Survey'!AH54,'Youth Survey'!AH57),\"\")","v":""},{"$f":"IFERROR(AVERAGE('Youth Survey'!AI40,'Youth Survey'!AI47,'Youth Survey'!AI54,'Youth Survey'!AI57),\"\")","v":""},{"$f":"IFERROR(AVERAGE('Youth Survey'!AJ40,'Youth Survey'!AJ47,'Youth Survey'!AJ54,'Youth Survey'!AJ57),\"\")","v":""},{"$f":"IFERROR(AVERAGE('Youth Survey'!AK40,'Youth Survey'!AK47,'Youth Survey'!AK54,'Youth Survey'!AK57),\"\")","v":""},{"$f":"IFERROR(AVERAGE('Youth Survey'!AL40,'Youth Survey'!AL47,'Youth Survey'!AL54,'Youth Survey'!AL57),\"\")","v":""},{"$f":"IFERROR(AVERAGE('Youth Survey'!AM40,'Youth Survey'!AM47,'Youth Survey'!AM54,'Youth Survey'!AM57),\"\")","v":""},{"$f":"IFERROR(AVERAGE('Youth Survey'!AN40,'Youth Survey'!AN47,'Youth Survey'!AN54,'Youth Survey'!AN57),\"\")","v":""},{"$f":"IFERROR(AVERAGE('Youth Survey'!AO40,'Youth Survey'!AO47,'Youth Survey'!AO54,'Youth Survey'!AO57),\"\")","v":""},{"$f":"IFERROR(AVERAGE('Youth Survey'!AP40,'Youth Survey'!AP47,'Youth Survey'!AP54,'Youth Survey'!AP57),\"\")","v":""},{"$f":"IFERROR(AVERAGE('Youth Survey'!AQ40,'Youth Survey'!AQ47,'Youth Survey'!AQ54,'Youth Survey'!AQ57),\"\")","v":""},{"$f":"IFERROR(AVERAGE('Youth Survey'!AR40,'Youth Survey'!AR47,'Youth Survey'!AR54,'Youth Survey'!AR57),\"\")","v":""},{"$f":"IFERROR(AVERAGE('Youth Survey'!AS40,'Youth Survey'!AS47,'Youth Survey'!AS54,'Youth Survey'!AS57),\"\")","v":""},{"$f":"IFERROR(AVERAGE('Youth Survey'!AT40,'Youth Survey'!AT47,'Youth Survey'!AT54,'Youth Survey'!AT57),\"\")","v":""},{"$f":"IFERROR(AVERAGE('Youth Survey'!AU40,'Youth Survey'!AU47,'Youth Survey'!AU54,'Youth Survey'!AU57),\"\")","v":""},{"$f":"IFERROR(AVERAGE('Youth Survey'!AV40,'Youth Survey'!AV47,'Youth Survey'!AV54,'Youth Survey'!AV57),\"\")","v":""},{"$f":"IFERROR(AVERAGE('Youth Survey'!AW40,'Youth Survey'!AW47,'Youth Survey'!AW54,'Youth Survey'!AW57),\"\")","v":""},{"$f":"IFERROR(AVERAGE('Youth Survey'!AX40,'Youth Survey'!AX47,'Youth Survey'!AX54,'Youth Survey'!AX57),\"\")","v":""},{"$f":"IFERROR(AVERAGE('Youth Survey'!AY40,'Youth Survey'!AY47,'Youth Survey'!AY54,'Youth Survey'!AY57),\"\")","v":""},{"$f":"IFERROR(AVERAGE('Youth Survey'!AZ40,'Youth Survey'!AZ47,'Youth Survey'!AZ54,'Youth Survey'!AZ57),\"\")","v":""},{"$f":"IFERROR(AVERAGE('Youth Survey'!BA40,'Youth Survey'!BA47,'Youth Survey'!BA54,'Youth Survey'!BA57),\"\")","v":""},{"$f":"IFERROR(AVERAGE('Youth Survey'!BB40,'Youth Survey'!BB47,'Youth Survey'!BB54,'Youth Survey'!BB57),\"\")","v":""},{"$f":"IFERROR(AVERAGE('Youth Survey'!BC40,'Youth Survey'!BC47,'Youth Survey'!BC54,'Youth Survey'!BC57),\"\")","v":""},{"$f":"IFERROR(AVERAGE('Youth Survey'!BD40,'Youth Survey'!BD47,'Youth Survey'!BD54,'Youth Survey'!BD57),\"\")","v":""},{"$f":"IFERROR(AVERAGE('Youth Survey'!BE40,'Youth Survey'!BE47,'Youth Survey'!BE54,'Youth Survey'!BE57),\"\")","v":""},{"$f":"IFERROR(AVERAGE('Youth Survey'!BF40,'Youth Survey'!BF47,'Youth Survey'!BF54,'Youth Survey'!BF57),\"\")","v":""},{"$f":"IFERROR(AVERAGE('Youth Survey'!BG40,'Youth Survey'!BG47,'Youth Survey'!BG54,'Youth Survey'!BG57),\"\")","v":""},{"$f":"IFERROR(AVERAGE('Youth Survey'!BH40,'Youth Survey'!BH47,'Youth Survey'!BH54,'Youth Survey'!BH57),\"\")","v":""},{"$f":"IFERROR(AVERAGE('Youth Survey'!BI40,'Youth Survey'!BI47,'Youth Survey'!BI54,'Youth Survey'!BI57),\"\")","v":""},{"$f":"IFERROR(AVERAGE('Youth Survey'!BJ40,'Youth Survey'!BJ47,'Youth Survey'!BJ54,'Youth Survey'!BJ57),\"\")","v":""},{"$f":"IFERROR(AVERAGE('Youth Survey'!BK40,'Youth Survey'!BK47,'Youth Survey'!BK54,'Youth Survey'!BK57),\"\")","v":""},{"$f":"IFERROR(AVERAGE('Youth Survey'!BL40,'Youth Survey'!BL47,'Youth Survey'!BL54,'Youth Survey'!BL57),\"\")","v":""},{"$f":"IFERROR(AVERAGE('Youth Survey'!BM40,'Youth Survey'!BM47,'Youth Survey'!BM54,'Youth Survey'!BM57),\"\")","v":""},{"$f":"IFERROR(AVERAGE('Youth Survey'!BN40,'Youth Survey'!BN47,'Youth Survey'!BN54,'Youth Survey'!BN57),\"\")","v":""},{"$f":"IFERROR(AVERAGE('Youth Survey'!BO40,'Youth Survey'!BO47,'Youth Survey'!BO54,'Youth Survey'!BO57),\"\")","v":""},{"$f":"IFERROR(AVERAGE('Youth Survey'!BP40,'Youth Survey'!BP47,'Youth Survey'!BP54,'Youth Survey'!BP57),\"\")","v":""},{"$f":"IFERROR(AVERAGE('Youth Survey'!BQ40,'Youth Survey'!BQ47,'Youth Survey'!BQ54,'Youth Survey'!BQ57),\"\")","v":""},{"$f":"IFERROR(AVERAGE('Youth Survey'!BR40,'Youth Survey'!BR47,'Youth Survey'!BR54,'Youth Survey'!BR57),\"\")","v":""},{"$f":"IFERROR(AVERAGE('Youth Survey'!BS40,'Youth Survey'!BS47,'Youth Survey'!BS54,'Youth Survey'!BS57),\"\")","v":""},{"$f":"IFERROR(AVERAGE('Youth Survey'!BT40,'Youth Survey'!BT47,'Youth Survey'!BT54,'Youth Survey'!BT57),\"\")","v":""},{"$f":"IFERROR(AVERAGE('Youth Survey'!BU40,'Youth Survey'!BU47,'Youth Survey'!BU54,'Youth Survey'!BU57),\"\")","v":""},{"$f":"IFERROR(AVERAGE('Youth Survey'!BV40,'Youth Survey'!BV47,'Youth Survey'!BV54,'Youth Survey'!BV57),\"\")","v":""},{"$f":"IFERROR(AVERAGE('Youth Survey'!BW40,'Youth Survey'!BW47,'Youth Survey'!BW54,'Youth Survey'!BW57),\"\")","v":""},{"$f":"IFERROR(AVERAGE('Youth Survey'!BX40,'Youth Survey'!BX47,'Youth Survey'!BX54,'Youth Survey'!BX57),\"\")","v":""},{"$f":"IFERROR(AVERAGE('Youth Survey'!BY40,'Youth Survey'!BY47,'Youth Survey'!BY54,'Youth Survey'!BY57),\"\")","v":""},{"$f":"IFERROR(AVERAGE('Youth Survey'!BZ40,'Youth Survey'!BZ47,'Youth Survey'!BZ54,'Youth Survey'!BZ57),\"\")","v":""},{"$f":"IFERROR(AVERAGE('Youth Survey'!CA40,'Youth Survey'!CA47,'Youth Survey'!CA54,'Youth Survey'!CA57),\"\")","v":""},{"$f":"IFERROR(AVERAGE('Youth Survey'!CB40,'Youth Survey'!CB47,'Youth Survey'!CB54,'Youth Survey'!CB57),\"\")","v":""},{"$f":"IFERROR(AVERAGE('Youth Survey'!CC40,'Youth Survey'!CC47,'Youth Survey'!CC54,'Youth Survey'!CC57),\"\")","v":""},{"$f":"IFERROR(AVERAGE('Youth Survey'!CD40,'Youth Survey'!CD47,'Youth Survey'!CD54,'Youth Survey'!CD57),\"\")","v":""},{"$f":"IFERROR(AVERAGE('Youth Survey'!CE40,'Youth Survey'!CE47,'Youth Survey'!CE54,'Youth Survey'!CE57),\"\")","v":""},{"$f":"IFERROR(AVERAGE('Youth Survey'!CF40,'Youth Survey'!CF47,'Youth Survey'!CF54,'Youth Survey'!CF57),\"\")","v":""},{"$f":"IFERROR(AVERAGE('Youth Survey'!CG40,'Youth Survey'!CG47,'Youth Survey'!CG54,'Youth Survey'!CG57),\"\")","v":""},{"$f":"IFERROR(AVERAGE('Youth Survey'!CH40,'Youth Survey'!CH47,'Youth Survey'!CH54,'Youth Survey'!CH57),\"\")","v":""},{"$f":"IFERROR(AVERAGE('Youth Survey'!CI40,'Youth Survey'!CI47,'Youth Survey'!CI54,'Youth Survey'!CI57),\"\")","v":""},{"$f":"IFERROR(AVERAGE('Youth Survey'!CJ40,'Youth Survey'!CJ47,'Youth Survey'!CJ54,'Youth Survey'!CJ57),\"\")","v":""},{"$f":"IFERROR(AVERAGE('Youth Survey'!CK40,'Youth Survey'!CK47,'Youth Survey'!CK54,'Youth Survey'!CK57),\"\")","v":""},{"$f":"IFERROR(AVERAGE('Youth Survey'!CL40,'Youth Survey'!CL47,'Youth Survey'!CL54,'Youth Survey'!CL57),\"\")","v":""},{"$f":"IFERROR(AVERAGE('Youth Survey'!CM40,'Youth Survey'!CM47,'Youth Survey'!CM54,'Youth Survey'!CM57),\"\")","v":""},{"$f":"IFERROR(AVERAGE('Youth Survey'!CN40,'Youth Survey'!CN47,'Youth Survey'!CN54,'Youth Survey'!CN57),\"\")","v":""},{"$f":"IFERROR(AVERAGE('Youth Survey'!CO40,'Youth Survey'!CO47,'Youth Survey'!CO54,'Youth Survey'!CO57),\"\")","v":""},{"$f":"IFERROR(AVERAGE('Youth Survey'!CP40,'Youth Survey'!CP47,'Youth Survey'!CP54,'Youth Survey'!CP57),\"\")","v":""},{"$f":"IFERROR(AVERAGE('Youth Survey'!CQ40,'Youth Survey'!CQ47,'Youth Survey'!CQ54,'Youth Survey'!CQ57),\"\")","v":""},{"$f":"IFERROR(AVERAGE('Youth Survey'!CR40,'Youth Survey'!CR47,'Youth Survey'!CR54,'Youth Survey'!CR57),\"\")","v":""},{"$f":"IFERROR(AVERAGE('Youth Survey'!CS40,'Youth Survey'!CS47,'Youth Survey'!CS54,'Youth Survey'!CS57),\"\")","v":""},{"$f":"IFERROR(AVERAGE('Youth Survey'!CT40,'Youth Survey'!CT47,'Youth Survey'!CT54,'Youth Survey'!CT57),\"\")","v":""},{"$f":"IFERROR(AVERAGE('Youth Survey'!CU40,'Youth Survey'!CU47,'Youth Survey'!CU54,'Youth Survey'!CU57),\"\")","v":""},{"$f":"IFERROR(AVERAGE('Youth Survey'!CV40,'Youth Survey'!CV47,'Youth Survey'!CV54,'Youth Survey'!CV57),\"\")","v":""},{"$f":"IFERROR(AVERAGE('Youth Survey'!CW40,'Youth Survey'!CW47,'Youth Survey'!CW54,'Youth Survey'!CW57),\"\")","v":""},{"$f":"IFERROR(AVERAGE('Youth Survey'!CX40,'Youth Survey'!CX47,'Youth Survey'!CX54,'Youth Survey'!CX57),\"\")","v":""},{"$f":"IFERROR(AVERAGE('Youth Survey'!CY40,'Youth Survey'!CY47,'Youth Survey'!CY54,'Youth Survey'!CY57),\"\")","v":""},{"$f":"IFERROR(AVERAGE('Youth Survey'!CZ40,'Youth Survey'!CZ47,'Youth Survey'!CZ54,'Youth Survey'!CZ57),\"\")","v":""},{"$f":"IFERROR(AVERAGE('Youth Survey'!DA40,'Youth Survey'!DA47,'Youth Survey'!DA54,'Youth Survey'!DA57),\"\")","v":""},{"$f":"IFERROR(AVERAGE('Youth Survey'!DB40,'Youth Survey'!DB47,'Youth Survey'!DB54,'Youth Survey'!DB57),\"\")","v":""},{"$f":"IFERROR(AVERAGE('Youth Survey'!DC40,'Youth Survey'!DC47,'Youth Survey'!DC54,'Youth Survey'!DC57),\"\")","v":""},{"$f":"IFERROR(AVERAGE('Youth Survey'!DD40,'Youth Survey'!DD47,'Youth Survey'!DD54,'Youth Survey'!DD57),\"\")","v":""},{"$f":"IFERROR(AVERAGE('Youth Survey'!DE40,'Youth Survey'!DE47,'Youth Survey'!DE54,'Youth Survey'!DE57),\"\")","v":""},{"$f":"IFERROR(AVERAGE('Youth Survey'!DF40,'Youth Survey'!DF47,'Youth Survey'!DF54,'Youth Survey'!DF57),\"\")","v":""},{"$f":"IFERROR(AVERAGE('Youth Survey'!DG40,'Youth Survey'!DG47,'Youth Survey'!DG54,'Youth Survey'!DG57),\"\")","v":""},{"$f":"IFERROR(AVERAGE('Youth Survey'!DH40,'Youth Survey'!DH47,'Youth Survey'!DH54,'Youth Survey'!DH57),\"\")","v":""},{"$f":"IFERROR(AVERAGE('Youth Survey'!DI40,'Youth Survey'!DI47,'Youth Survey'!DI54,'Youth Survey'!DI57),\"\")","v":""},{"$f":"IFERROR(AVERAGE('Youth Survey'!DJ40,'Youth Survey'!DJ47,'Youth Survey'!DJ54,'Youth Survey'!DJ57),\"\")","v":""},{"$f":"IFERROR(AVERAGE('Youth Survey'!DK40,'Youth Survey'!DK47,'Youth Survey'!DK54,'Youth Survey'!DK57),\"\")","v":""},{"$f":"IFERROR(AVERAGE('Youth Survey'!DL40,'Youth Survey'!DL47,'Youth Survey'!DL54,'Youth Survey'!DL57),\"\")","v":""},{"$f":"IFERROR(AVERAGE('Youth Survey'!DM40,'Youth Survey'!DM47,'Youth Survey'!DM54,'Youth Survey'!DM57),\"\")","v":""},{"$f":"IFERROR(AVERAGE('Youth Survey'!DN40,'Youth Survey'!DN47,'Youth Survey'!DN54,'Youth Survey'!DN57),\"\")","v":""},{"$f":"IFERROR(AVERAGE('Youth Survey'!DO40,'Youth Survey'!DO47,'Youth Survey'!DO54,'Youth Survey'!DO57),\"\")","v":""},{"$f":"IFERROR(AVERAGE('Youth Survey'!DP40,'Youth Survey'!DP47,'Youth Survey'!DP54,'Youth Survey'!DP57),\"\")","v":""},{"$f":"IFERROR(AVERAGE('Youth Survey'!DQ40,'Youth Survey'!DQ47,'Youth Survey'!DQ54,'Youth Survey'!DQ57),\"\")","v":""},{"$f":"IFERROR(AVERAGE('Youth Survey'!DR40,'Youth Survey'!DR47,'Youth Survey'!DR54,'Youth Survey'!DR57),\"\")","v":""},{"$f":"IFERROR(AVERAGE('Youth Survey'!DS40,'Youth Survey'!DS47,'Youth Survey'!DS54,'Youth Survey'!DS57),\"\")","v":""},{"$f":"IFERROR(AVERAGE('Youth Survey'!DT40,'Youth Survey'!DT47,'Youth Survey'!DT54,'Youth Survey'!DT57),\"\")","v":""},{"$f":"IFERROR(AVERAGE('Youth Survey'!DU40,'Youth Survey'!DU47,'Youth Survey'!DU54,'Youth Survey'!DU57),\"\")","v":""},{"$f":"IFERROR(AVERAGE('Youth Survey'!DV40,'Youth Survey'!DV47,'Youth Survey'!DV54,'Youth Survey'!DV57),\"\")","v":""},{"$f":"IFERROR(AVERAGE('Youth Survey'!DW40,'Youth Survey'!DW47,'Youth Survey'!DW54,'Youth Survey'!DW57),\"\")","v":""},{"$f":"IFERROR(AVERAGE('Youth Survey'!DX40,'Youth Survey'!DX47,'Youth Survey'!DX54,'Youth Survey'!DX57),\"\")","v":""},{"$f":"IFERROR(AVERAGE('Youth Survey'!DY40,'Youth Survey'!DY47,'Youth Survey'!DY54,'Youth Survey'!DY57),\"\")","v":""},{"$f":"IFERROR(AVERAGE('Youth Survey'!DZ40,'Youth Survey'!DZ47,'Youth Survey'!DZ54,'Youth Survey'!DZ57),\"\")","v":""},{"$f":"IFERROR(AVERAGE('Youth Survey'!EA40,'Youth Survey'!EA47,'Youth Survey'!EA54,'Youth Survey'!EA57),\"\")","v":""},{"$f":"IFERROR(AVERAGE('Youth Survey'!EB40,'Youth Survey'!EB47,'Youth Survey'!EB54,'Youth Survey'!EB57),\"\")","v":""},{"$f":"IFERROR(AVERAGE('Youth Survey'!EC40,'Youth Survey'!EC47,'Youth Survey'!EC54,'Youth Survey'!EC57),\"\")","v":""},{"$f":"IFERROR(AVERAGE('Youth Survey'!ED40,'Youth Survey'!ED47,'Youth Survey'!ED54,'Youth Survey'!ED57),\"\")","v":""},{"$f":"IFERROR(AVERAGE('Youth Survey'!EE40,'Youth Survey'!EE47,'Youth Survey'!EE54,'Youth Survey'!EE57),\"\")","v":""},{"$f":"IFERROR(AVERAGE('Youth Survey'!EF40,'Youth Survey'!EF47,'Youth Survey'!EF54,'Youth Survey'!EF57),\"\")","v":""},{"$f":"IFERROR(AVERAGE('Youth Survey'!EG40,'Youth Survey'!EG47,'Youth Survey'!EG54,'Youth Survey'!EG57),\"\")","v":""},{"$f":"IFERROR(AVERAGE('Youth Survey'!EH40,'Youth Survey'!EH47,'Youth Survey'!EH54,'Youth Survey'!EH57),\"\")","v":""},{"$f":"IFERROR(AVERAGE('Youth Survey'!EI40,'Youth Survey'!EI47,'Youth Survey'!EI54,'Youth Survey'!EI57),\"\")","v":""},{"$f":"IFERROR(AVERAGE('Youth Survey'!EJ40,'Youth Survey'!EJ47,'Youth Survey'!EJ54,'Youth Survey'!EJ57),\"\")","v":""},{"$f":"IFERROR(AVERAGE('Youth Survey'!EK40,'Youth Survey'!EK47,'Youth Survey'!EK54,'Youth Survey'!EK57),\"\")","v":""},{"$f":"IFERROR(AVERAGE('Youth Survey'!EL40,'Youth Survey'!EL47,'Youth Survey'!EL54,'Youth Survey'!EL57),\"\")","v":""},{"$f":"IFERROR(AVERAGE('Youth Survey'!EM40,'Youth Survey'!EM47,'Youth Survey'!EM54,'Youth Survey'!EM57),\"\")","v":""},{"$f":"IFERROR(AVERAGE('Youth Survey'!EN40,'Youth Survey'!EN47,'Youth Survey'!EN54,'Youth Survey'!EN57),\"\")","v":""},{"$f":"IFERROR(AVERAGE('Youth Survey'!EO40,'Youth Survey'!EO47,'Youth Survey'!EO54,'Youth Survey'!EO57),\"\")","v":""},{"$f":"IFERROR(AVERAGE('Youth Survey'!EP40,'Youth Survey'!EP47,'Youth Survey'!EP54,'Youth Survey'!EP57),\"\")","v":""},{"$f":"IFERROR(AVERAGE('Youth Survey'!EQ40,'Youth Survey'!EQ47,'Youth Survey'!EQ54,'Youth Survey'!EQ57),\"\")","v":""},{"$f":"IFERROR(AVERAGE('Youth Survey'!ER40,'Youth Survey'!ER47,'Youth Survey'!ER54,'Youth Survey'!ER57),\"\")","v":""},{"$f":"IFERROR(AVERAGE('Youth Survey'!ES40,'Youth Survey'!ES47,'Youth Survey'!ES54,'Youth Survey'!ES57),\"\")","v":""},{"$f":"IFERROR(AVERAGE('Youth Survey'!ET40,'Youth Survey'!ET47,'Youth Survey'!ET54,'Youth Survey'!ET57),\"\")","v":""},{"$f":"IFERROR(AVERAGE('Youth Survey'!EU40,'Youth Survey'!EU47,'Youth Survey'!EU54,'Youth Survey'!EU57),\"\")","v":""},{"$f":"IFERROR(AVERAGE('Youth Survey'!EV40,'Youth Survey'!EV47,'Youth Survey'!EV54,'Youth Survey'!EV57),\"\")","v":""},{"$f":"IFERROR(AVERAGE('Youth Survey'!EW40,'Youth Survey'!EW47,'Youth Survey'!EW54,'Youth Survey'!EW57),\"\")","v":""},{"$f":"IFERROR(AVERAGE('Youth Survey'!EX40,'Youth Survey'!EX47,'Youth Survey'!EX54,'Youth Survey'!EX57),\"\")","v":""},{"$f":"IFERROR(AVERAGE('Youth Survey'!EY40,'Youth Survey'!EY47,'Youth Survey'!EY54,'Youth Survey'!EY57),\"\")","v":""},{"$f":"IFERROR(AVERAGE('Youth Survey'!EZ40,'Youth Survey'!EZ47,'Youth Survey'!EZ54,'Youth Survey'!EZ57),\"\")","v":""},{"$f":"IFERROR(AVERAGE('Youth Survey'!FA40,'Youth Survey'!FA47,'Youth Survey'!FA54,'Youth Survey'!FA57),\"\")","v":""},{"$f":"IFERROR(AVERAGE('Youth Survey'!FB40,'Youth Survey'!FB47,'Youth Survey'!FB54,'Youth Survey'!FB57),\"\")","v":""},{"$f":"IFERROR(AVERAGE('Youth Survey'!FC40,'Youth Survey'!FC47,'Youth Survey'!FC54,'Youth Survey'!FC57),\"\")","v":""},{"$f":"IFERROR(AVERAGE('Youth Survey'!FD40,'Youth Survey'!FD47,'Youth Survey'!FD54,'Youth Survey'!FD57),\"\")","v":""},{"$f":"IFERROR(AVERAGE('Youth Survey'!FE40,'Youth Survey'!FE47,'Youth Survey'!FE54,'Youth Survey'!FE57),\"\")","v":""},{"$f":"IFERROR(AVERAGE('Youth Survey'!FF40,'Youth Survey'!FF47,'Youth Survey'!FF54,'Youth Survey'!FF57),\"\")","v":""},{"$f":"IFERROR(AVERAGE('Youth Survey'!FG40,'Youth Survey'!FG47,'Youth Survey'!FG54,'Youth Survey'!FG57),\"\")","v":""},{"$f":"IFERROR(AVERAGE('Youth Survey'!FH40,'Youth Survey'!FH47,'Youth Survey'!FH54,'Youth Survey'!FH57),\"\")","v":""},{"$f":"IFERROR(AVERAGE('Youth Survey'!FI40,'Youth Survey'!FI47,'Youth Survey'!FI54,'Youth Survey'!FI57),\"\")","v":""},{"$f":"IFERROR(AVERAGE('Youth Survey'!FJ40,'Youth Survey'!FJ47,'Youth Survey'!FJ54,'Youth Survey'!FJ57),\"\")","v":""},{"$f":"IFERROR(AVERAGE('Youth Survey'!FK40,'Youth Survey'!FK47,'Youth Survey'!FK54,'Youth Survey'!FK57),\"\")","v":""},{"$f":"IFERROR(AVERAGE('Youth Survey'!FL40,'Youth Survey'!FL47,'Youth Survey'!FL54,'Youth Survey'!FL57),\"\")","v":""},{"$f":"IFERROR(AVERAGE('Youth Survey'!FM40,'Youth Survey'!FM47,'Youth Survey'!FM54,'Youth Survey'!FM57),\"\")","v":""},{"$f":"IFERROR(AVERAGE('Youth Survey'!FN40,'Youth Survey'!FN47,'Youth Survey'!FN54,'Youth Survey'!FN57),\"\")","v":""},{"$f":"IFERROR(AVERAGE('Youth Survey'!FO40,'Youth Survey'!FO47,'Youth Survey'!FO54,'Youth Survey'!FO57),\"\")","v":""},{"$f":"IFERROR(AVERAGE('Youth Survey'!FP40,'Youth Survey'!FP47,'Youth Survey'!FP54,'Youth Survey'!FP57),\"\")","v":""},{"$f":"IFERROR(AVERAGE('Youth Survey'!FQ40,'Youth Survey'!FQ47,'Youth Survey'!FQ54,'Youth Survey'!FQ57),\"\")","v":""},{"$f":"IFERROR(AVERAGE('Youth Survey'!FR40,'Youth Survey'!FR47,'Youth Survey'!FR54,'Youth Survey'!FR57),\"\")","v":""},{"$f":"IFERROR(AVERAGE('Youth Survey'!FS40,'Youth Survey'!FS47,'Youth Survey'!FS54,'Youth Survey'!FS57),\"\")","v":""},{"$f":"IFERROR(AVERAGE('Youth Survey'!FT40,'Youth Survey'!FT47,'Youth Survey'!FT54,'Youth Survey'!FT57),\"\")","v":""},{"$f":"IFERROR(AVERAGE('Youth Survey'!FU40,'Youth Survey'!FU47,'Youth Survey'!FU54,'Youth Survey'!FU57),\"\")","v":""},{"$f":"IFERROR(AVERAGE('Youth Survey'!FV40,'Youth Survey'!FV47,'Youth Survey'!FV54,'Youth Survey'!FV57),\"\")","v":""},{"$f":"IFERROR(AVERAGE('Youth Survey'!FW40,'Youth Survey'!FW47,'Youth Survey'!FW54,'Youth Survey'!FW57),\"\")","v":""},{"$f":"IFERROR(AVERAGE('Youth Survey'!FX40,'Youth Survey'!FX47,'Youth Survey'!FX54,'Youth Survey'!FX57),\"\")","v":""},{"$f":"IFERROR(AVERAGE('Youth Survey'!FY40,'Youth Survey'!FY47,'Youth Survey'!FY54,'Youth Survey'!FY57),\"\")","v":""},{"$f":"IFERROR(AVERAGE('Youth Survey'!FZ40,'Youth Survey'!FZ47,'Youth Survey'!FZ54,'Youth Survey'!FZ57),\"\")","v":""},{"$f":"IFERROR(AVERAGE('Youth Survey'!GA40,'Youth Survey'!GA47,'Youth Survey'!GA54,'Youth Survey'!GA57),\"\")","v":""},{"$f":"IFERROR(AVERAGE('Youth Survey'!GB40,'Youth Survey'!GB47,'Youth Survey'!GB54,'Youth Survey'!GB57),\"\")","v":""},{"$f":"IFERROR(AVERAGE('Youth Survey'!GC40,'Youth Survey'!GC47,'Youth Survey'!GC54,'Youth Survey'!GC57),\"\")","v":""},{"$f":"IFERROR(AVERAGE('Youth Survey'!GD40,'Youth Survey'!GD47,'Youth Survey'!GD54,'Youth Survey'!GD57),\"\")","v":""},{"$f":"IFERROR(AVERAGE('Youth Survey'!GE40,'Youth Survey'!GE47,'Youth Survey'!GE54,'Youth Survey'!GE57),\"\")","v":""},{"$f":"IFERROR(AVERAGE('Youth Survey'!GF40,'Youth Survey'!GF47,'Youth Survey'!GF54,'Youth Survey'!GF57),\"\")","v":""},{"$f":"IFERROR(AVERAGE('Youth Survey'!GG40,'Youth Survey'!GG47,'Youth Survey'!GG54,'Youth Survey'!GG57),\"\")","v":""},{"$f":"IFERROR(AVERAGE('Youth Survey'!GH40,'Youth Survey'!GH47,'Youth Survey'!GH54,'Youth Survey'!GH57),\"\")","v":""},{"$f":"IFERROR(AVERAGE('Youth Survey'!GI40,'Youth Survey'!GI47,'Youth Survey'!GI54,'Youth Survey'!GI57),\"\")","v":""},{"$f":"IFERROR(AVERAGE('Youth Survey'!GJ40,'Youth Survey'!GJ47,'Youth Survey'!GJ54,'Youth Survey'!GJ57),\"\")","v":""},{"$f":"IFERROR(AVERAGE('Youth Survey'!GK40,'Youth Survey'!GK47,'Youth Survey'!GK54,'Youth Survey'!GK57),\"\")","v":""},{"$f":"IFERROR(AVERAGE('Youth Survey'!GL40,'Youth Survey'!GL47,'Youth Survey'!GL54,'Youth Survey'!GL57),\"\")","v":""},{"$f":"IFERROR(AVERAGE('Youth Survey'!GM40,'Youth Survey'!GM47,'Youth Survey'!GM54,'Youth Survey'!GM57),\"\")","v":""},{"$f":"IFERROR(AVERAGE('Youth Survey'!GN40,'Youth Survey'!GN47,'Youth Survey'!GN54,'Youth Survey'!GN57),\"\")","v":""},{"$f":"IFERROR(AVERAGE('Youth Survey'!GO40,'Youth Survey'!GO47,'Youth Survey'!GO54,'Youth Survey'!GO57),\"\")","v":""},{"$f":"IFERROR(AVERAGE('Youth Survey'!GP40,'Youth Survey'!GP47,'Youth Survey'!GP54,'Youth Survey'!GP57),\"\")","v":""},{"$f":"IFERROR(AVERAGE('Youth Survey'!GQ40,'Youth Survey'!GQ47,'Youth Survey'!GQ54,'Youth Survey'!GQ57),\"\")","v":""},{"$f":"IFERROR(AVERAGE('Youth Survey'!GR40,'Youth Survey'!GR47,'Youth Survey'!GR54,'Youth Survey'!GR57),\"\")","v":""},{"$f":"IFERROR(AVERAGE('Youth Survey'!GS40,'Youth Survey'!GS47,'Youth Survey'!GS54,'Youth Survey'!GS57),\"\")","v":""},{"$f":"IFERROR(AVERAGE('Youth Survey'!GT40,'Youth Survey'!GT47,'Youth Survey'!GT54,'Youth Survey'!GT57),\"\")","v":""},{"$f":"IFERROR(AVERAGE('Youth Survey'!GU40,'Youth Survey'!GU47,'Youth Survey'!GU54,'Youth Survey'!GU57),\"\")","v":""},{"$f":"IFERROR(AVERAGE('Youth Survey'!GV40,'Youth Survey'!GV47,'Youth Survey'!GV54,'Youth Survey'!GV57),\"\")","v":""},{"$f":"IFERROR(AVERAGE('Youth Survey'!GW40,'Youth Survey'!GW47,'Youth Survey'!GW54,'Youth Survey'!GW57),\"\")","v":""},{"$f":"IFERROR(AVERAGE('Youth Survey'!GX40,'Youth Survey'!GX47,'Youth Survey'!GX54,'Youth Survey'!GX57),\"\")","v":""},{"$f":"IFERROR(AVERAGE('Youth Survey'!GY40,'Youth Survey'!GY47,'Youth Survey'!GY54,'Youth Survey'!GY57),\"\")","v":""},{"$f":"IFERROR(AVERAGE('Youth Survey'!GZ40,'Youth Survey'!GZ47,'Youth Survey'!GZ54,'Youth Survey'!GZ57),\"\")","v":""},{"$f":"IFERROR(AVERAGE('Youth Survey'!HA40,'Youth Survey'!HA47,'Youth Survey'!HA54,'Youth Survey'!HA57),\"\")","v":""},{"$f":"IFERROR(AVERAGE('Youth Survey'!HB40,'Youth Survey'!HB47,'Youth Survey'!HB54,'Youth Survey'!HB57),\"\")","v":""},{"$f":"IFERROR(AVERAGE('Youth Survey'!HC40,'Youth Survey'!HC47,'Youth Survey'!HC54,'Youth Survey'!HC57),\"\")","v":""},{"$f":"IFERROR(AVERAGE('Youth Survey'!HD40,'Youth Survey'!HD47,'Youth Survey'!HD54,'Youth Survey'!HD57),\"\")","v":""},{"$f":"IFERROR(AVERAGE('Youth Survey'!HE40,'Youth Survey'!HE47,'Youth Survey'!HE54,'Youth Survey'!HE57),\"\")","v":""},{"$f":"IFERROR(AVERAGE('Youth Survey'!HF40,'Youth Survey'!HF47,'Youth Survey'!HF54,'Youth Survey'!HF57),\"\")","v":""},{"$f":"IFERROR(AVERAGE('Youth Survey'!HG40,'Youth Survey'!HG47,'Youth Survey'!HG54,'Youth Survey'!HG57),\"\")","v":""},{"$f":"IFERROR(AVERAGE('Youth Survey'!HH40,'Youth Survey'!HH47,'Youth Survey'!HH54,'Youth Survey'!HH57),\"\")","v":""},{"$f":"IFERROR(AVERAGE('Youth Survey'!HI40,'Youth Survey'!HI47,'Youth Survey'!HI54,'Youth Survey'!HI57),\"\")","v":""},{"$f":"IFERROR(AVERAGE('Youth Survey'!HJ40,'Youth Survey'!HJ47,'Youth Survey'!HJ54,'Youth Survey'!HJ57),\"\")","v":""},{"$f":"IFERROR(AVERAGE('Youth Survey'!HK40,'Youth Survey'!HK47,'Youth Survey'!HK54,'Youth Survey'!HK57),\"\")","v":""},{"$f":"IFERROR(AVERAGE('Youth Survey'!HL40,'Youth Survey'!HL47,'Youth Survey'!HL54,'Youth Survey'!HL57),\"\")","v":""},{"$f":"IFERROR(AVERAGE('Youth Survey'!HM40,'Youth Survey'!HM47,'Youth Survey'!HM54,'Youth Survey'!HM57),\"\")","v":""},{"$f":"IFERROR(AVERAGE('Youth Survey'!HN40,'Youth Survey'!HN47,'Youth Survey'!HN54,'Youth Survey'!HN57),\"\")","v":""},{"$f":"IFERROR(AVERAGE('Youth Survey'!HO40,'Youth Survey'!HO47,'Youth Survey'!HO54,'Youth Survey'!HO57),\"\")","v":""},{"$f":"IFERROR(AVERAGE('Youth Survey'!HP40,'Youth Survey'!HP47,'Youth Survey'!HP54,'Youth Survey'!HP57),\"\")","v":""},{"$f":"IFERROR(AVERAGE('Youth Survey'!HQ40,'Youth Survey'!HQ47,'Youth Survey'!HQ54,'Youth Survey'!HQ57),\"\")","v":""},{"$f":"IFERROR(AVERAGE('Youth Survey'!HR40,'Youth Survey'!HR47,'Youth Survey'!HR54,'Youth Survey'!HR57),\"\")","v":""},{"$f":"IFERROR(AVERAGE('Youth Survey'!HS40,'Youth Survey'!HS47,'Youth Survey'!HS54,'Youth Survey'!HS57),\"\")","v":""},{"$f":"IFERROR(AVERAGE('Youth Survey'!HT40,'Youth Survey'!HT47,'Youth Survey'!HT54,'Youth Survey'!HT57),\"\")","v":""},{"$f":"IFERROR(AVERAGE('Youth Survey'!HU40,'Youth Survey'!HU47,'Youth Survey'!HU54,'Youth Survey'!HU57),\"\")","v":""},{"$f":"IFERROR(AVERAGE('Youth Survey'!HV40,'Youth Survey'!HV47,'Youth Survey'!HV54,'Youth Survey'!HV57),\"\")","v":""},{"$f":"IFERROR(AVERAGE('Youth Survey'!HW40,'Youth Survey'!HW47,'Youth Survey'!HW54,'Youth Survey'!HW57),\"\")","v":""},{"$f":"IFERROR(AVERAGE('Youth Survey'!HX40,'Youth Survey'!HX47,'Youth Survey'!HX54,'Youth Survey'!HX57),\"\")","v":""},{"$f":"IFERROR(AVERAGE('Youth Survey'!HY40,'Youth Survey'!HY47,'Youth Survey'!HY54,'Youth Survey'!HY57),\"\")","v":""},{"$f":"IFERROR(AVERAGE('Youth Survey'!HZ40,'Youth Survey'!HZ47,'Youth Survey'!HZ54,'Youth Survey'!HZ57),\"\")","v":""},{"$f":"IFERROR(AVERAGE('Youth Survey'!IA40,'Youth Survey'!IA47,'Youth Survey'!IA54,'Youth Survey'!IA57),\"\")","v":""},{"$f":"IFERROR(AVERAGE('Youth Survey'!IB40,'Youth Survey'!IB47,'Youth Survey'!IB54,'Youth Survey'!IB57),\"\")","v":""},{"$f":"IFERROR(AVERAGE('Youth Survey'!IC40,'Youth Survey'!IC47,'Youth Survey'!IC54,'Youth Survey'!IC57),\"\")","v":""},{"$f":"IFERROR(AVERAGE('Youth Survey'!ID40,'Youth Survey'!ID47,'Youth Survey'!ID54,'Youth Survey'!ID57),\"\")","v":""},{"$f":"IFERROR(AVERAGE('Youth Survey'!IE40,'Youth Survey'!IE47,'Youth Survey'!IE54,'Youth Survey'!IE57),\"\")","v":""},{"$f":"IFERROR(AVERAGE('Youth Survey'!IF40,'Youth Survey'!IF47,'Youth Survey'!IF54,'Youth Survey'!IF57),\"\")","v":""},{"$f":"IFERROR(AVERAGE('Youth Survey'!IG40,'Youth Survey'!IG47,'Youth Survey'!IG54,'Youth Survey'!IG57),\"\")","v":""},{"$f":"IFERROR(AVERAGE('Youth Survey'!IH40,'Youth Survey'!IH47,'Youth Survey'!IH54,'Youth Survey'!IH57),\"\")","v":""},{"$f":"IFERROR(AVERAGE('Youth Survey'!II40,'Youth Survey'!II47,'Youth Survey'!II54,'Youth Survey'!II57),\"\")","v":""},{"$f":"IFERROR(AVERAGE('Youth Survey'!IJ40,'Youth Survey'!IJ47,'Youth Survey'!IJ54,'Youth Survey'!IJ57),\"\")","v":""},{"$f":"IFERROR(AVERAGE('Youth Survey'!IK40,'Youth Survey'!IK47,'Youth Survey'!IK54,'Youth Survey'!IK57),\"\")","v":""},{"$f":"IFERROR(AVERAGE('Youth Survey'!IL40,'Youth Survey'!IL47,'Youth Survey'!IL54,'Youth Survey'!IL57),\"\")","v":""},{"$f":"IFERROR(AVERAGE('Youth Survey'!IM40,'Youth Survey'!IM47,'Youth Survey'!IM54,'Youth Survey'!IM57),\"\")","v":""},{"$f":"IFERROR(AVERAGE('Youth Survey'!IN40,'Youth Survey'!IN47,'Youth Survey'!IN54,'Youth Survey'!IN57),\"\")","v":""},{"$f":"IFERROR(AVERAGE('Youth Survey'!IO40,'Youth Survey'!IO47,'Youth Survey'!IO54,'Youth Survey'!IO57),\"\")","v":""},{"$f":"IFERROR(AVERAGE('Youth Survey'!IP40,'Youth Survey'!IP47,'Youth Survey'!IP54,'Youth Survey'!IP57),\"\")","v":""},{"$f":"IFERROR(AVERAGE('Youth Survey'!IQ40,'Youth Survey'!IQ47,'Youth Survey'!IQ54,'Youth Survey'!IQ57),\"\")","v":""},{"$f":"IFERROR(AVERAGE('Youth Survey'!IR40,'Youth Survey'!IR47,'Youth Survey'!IR54,'Youth Survey'!IR57),\"\")","v":""},{"$f":"IFERROR(AVERAGE('Youth Survey'!IS40,'Youth Survey'!IS47,'Youth Survey'!IS54,'Youth Survey'!IS57),\"\")","v":""},{"$f":"IFERROR(AVERAGE('Youth Survey'!IT40,'Youth Survey'!IT47,'Youth Survey'!IT54,'Youth Survey'!IT57),\"\")","v":""},{"$f":"IFERROR(AVERAGE('Youth Survey'!IU40,'Youth Survey'!IU47,'Youth Survey'!IU54,'Youth Survey'!IU57),\"\")","v":""},{"$f":"IFERROR(AVERAGE('Youth Survey'!IV40,'Youth Survey'!IV47,'Youth Survey'!IV54,'Youth Survey'!IV57),\"\")","v":""},{"$f":"IFERROR(AVERAGE('Youth Survey'!IW40,'Youth Survey'!IW47,'Youth Survey'!IW54,'Youth Survey'!IW57),\"\")","v":""},{"$f":"IFERROR(AVERAGE('Youth Survey'!IX40,'Youth Survey'!IX47,'Youth Survey'!IX54,'Youth Survey'!IX57),\"\")","v":""},{"$f":"IFERROR(AVERAGE('Youth Survey'!IY40,'Youth Survey'!IY47,'Youth Survey'!IY54,'Youth Survey'!IY57),\"\")","v":""},{"$f":"IFERROR(AVERAGE('Youth Survey'!IZ40,'Youth Survey'!IZ47,'Youth Survey'!IZ54,'Youth Survey'!IZ57),\"\")","v":""},{"$f":"IFERROR(AVERAGE('Youth Survey'!JA40,'Youth Survey'!JA47,'Youth Survey'!JA54,'Youth Survey'!JA57),\"\")","v":""},{"$f":"IFERROR(AVERAGE('Youth Survey'!JB40,'Youth Survey'!JB47,'Youth Survey'!JB54,'Youth Survey'!JB57),\"\")","v":""},{"$f":"IFERROR(AVERAGE('Youth Survey'!JC40,'Youth Survey'!JC47,'Youth Survey'!JC54,'Youth Survey'!JC57),\"\")","v":""},{"$f":"IFERROR(AVERAGE('Youth Survey'!JD40,'Youth Survey'!JD47,'Youth Survey'!JD54,'Youth Survey'!JD57),\"\")","v":""},{"$f":"IFERROR(AVERAGE('Youth Survey'!JE40,'Youth Survey'!JE47,'Youth Survey'!JE54,'Youth Survey'!JE57),\"\")","v":""},{"$f":"IFERROR(AVERAGE('Youth Survey'!JF40,'Youth Survey'!JF47,'Youth Survey'!JF54,'Youth Survey'!JF57),\"\")","v":""},{"$f":"IFERROR(AVERAGE('Youth Survey'!JG40,'Youth Survey'!JG47,'Youth Survey'!JG54,'Youth Survey'!JG57),\"\")","v":""},{"$f":"IFERROR(AVERAGE('Youth Survey'!JH40,'Youth Survey'!JH47,'Youth Survey'!JH54,'Youth Survey'!JH57),\"\")","v":""},{"$f":"IFERROR(AVERAGE('Youth Survey'!JI40,'Youth Survey'!JI47,'Youth Survey'!JI54,'Youth Survey'!JI57),\"\")","v":""},{"$f":"IFERROR(AVERAGE('Youth Survey'!JJ40,'Youth Survey'!JJ47,'Youth Survey'!JJ54,'Youth Survey'!JJ57),\"\")","v":""},{"$f":"IFERROR(AVERAGE('Youth Survey'!JK40,'Youth Survey'!JK47,'Youth Survey'!JK54,'Youth Survey'!JK57),\"\")","v":""},{"$f":"IFERROR(AVERAGE('Youth Survey'!JL40,'Youth Survey'!JL47,'Youth Survey'!JL54,'Youth Survey'!JL57),\"\")","v":""},{"$f":"IFERROR(AVERAGE('Youth Survey'!JM40,'Youth Survey'!JM47,'Youth Survey'!JM54,'Youth Survey'!JM57),\"\")","v":""},{"$f":"IFERROR(AVERAGE('Youth Survey'!JN40,'Youth Survey'!JN47,'Youth Survey'!JN54,'Youth Survey'!JN57),\"\")","v":""},{"$f":"IFERROR(AVERAGE('Youth Survey'!JO40,'Youth Survey'!JO47,'Youth Survey'!JO54,'Youth Survey'!JO57),\"\")","v":""},{"$f":"IFERROR(AVERAGE('Youth Survey'!JP40,'Youth Survey'!JP47,'Youth Survey'!JP54,'Youth Survey'!JP57),\"\")","v":""},{"$f":"IFERROR(AVERAGE('Youth Survey'!JQ40,'Youth Survey'!JQ47,'Youth Survey'!JQ54,'Youth Survey'!JQ57),\"\")","v":""},{"$f":"IFERROR(AVERAGE('Youth Survey'!JR40,'Youth Survey'!JR47,'Youth Survey'!JR54,'Youth Survey'!JR57),\"\")","v":""},{"$f":"IFERROR(AVERAGE('Youth Survey'!JS40,'Youth Survey'!JS47,'Youth Survey'!JS54,'Youth Survey'!JS57),\"\")","v":""},{"$f":"IFERROR(AVERAGE('Youth Survey'!JT40,'Youth Survey'!JT47,'Youth Survey'!JT54,'Youth Survey'!JT57),\"\")","v":""},{"$f":"IFERROR(AVERAGE('Youth Survey'!JU40,'Youth Survey'!JU47,'Youth Survey'!JU54,'Youth Survey'!JU57),\"\")","v":""},{"$f":"IFERROR(AVERAGE('Youth Survey'!JV40,'Youth Survey'!JV47,'Youth Survey'!JV54,'Youth Survey'!JV57),\"\")","v":""},{"$f":"IFERROR(AVERAGE('Youth Survey'!JW40,'Youth Survey'!JW47,'Youth Survey'!JW54,'Youth Survey'!JW57),\"\")","v":""},{"$f":"IFERROR(AVERAGE('Youth Survey'!JX40,'Youth Survey'!JX47,'Youth Survey'!JX54,'Youth Survey'!JX57),\"\")","v":""},{"$f":"IFERROR(AVERAGE('Youth Survey'!JY40,'Youth Survey'!JY47,'Youth Survey'!JY54,'Youth Survey'!JY57),\"\")","v":""},{"$f":"IFERROR(AVERAGE('Youth Survey'!JZ40,'Youth Survey'!JZ47,'Youth Survey'!JZ54,'Youth Survey'!JZ57),\"\")","v":""},{"$f":"IFERROR(AVERAGE('Youth Survey'!KA40,'Youth Survey'!KA47,'Youth Survey'!KA54,'Youth Survey'!KA57),\"\")","v":""},{"$f":"IFERROR(AVERAGE('Youth Survey'!KB40,'Youth Survey'!KB47,'Youth Survey'!KB54,'Youth Survey'!KB57),\"\")","v":""},{"$f":"IFERROR(AVERAGE('Youth Survey'!KC40,'Youth Survey'!KC47,'Youth Survey'!KC54,'Youth Survey'!KC57),\"\")","v":""},{"$f":"IFERROR(AVERAGE('Youth Survey'!KD40,'Youth Survey'!KD47,'Youth Survey'!KD54,'Youth Survey'!KD57),\"\")","v":""},{"$f":"IFERROR(AVERAGE('Youth Survey'!KE40,'Youth Survey'!KE47,'Youth Survey'!KE54,'Youth Survey'!KE57),\"\")","v":""},{"$f":"IFERROR(AVERAGE('Youth Survey'!KF40,'Youth Survey'!KF47,'Youth Survey'!KF54,'Youth Survey'!KF57),\"\")","v":""},{"$f":"IFERROR(AVERAGE('Youth Survey'!KG40,'Youth Survey'!KG47,'Youth Survey'!KG54,'Youth Survey'!KG57),\"\")","v":""},{"$f":"IFERROR(AVERAGE('Youth Survey'!KH40,'Youth Survey'!KH47,'Youth Survey'!KH54,'Youth Survey'!KH57),\"\")","v":""},{"$f":"IFERROR(AVERAGE('Youth Survey'!KI40,'Youth Survey'!KI47,'Youth Survey'!KI54,'Youth Survey'!KI57),\"\")","v":""},{"$f":"IFERROR(AVERAGE('Youth Survey'!KJ40,'Youth Survey'!KJ47,'Youth Survey'!KJ54,'Youth Survey'!KJ57),\"\")","v":""},{"$f":"IFERROR(AVERAGE('Youth Survey'!KK40,'Youth Survey'!KK47,'Youth Survey'!KK54,'Youth Survey'!KK57),\"\")","v":""},{"$f":"IFERROR(AVERAGE('Youth Survey'!KL40,'Youth Survey'!KL47,'Youth Survey'!KL54,'Youth Survey'!KL57),\"\")","v":""},{"$f":"IFERROR(AVERAGE('Youth Survey'!KM40,'Youth Survey'!KM47,'Youth Survey'!KM54,'Youth Survey'!KM57),\"\")","v":""},{"$f":"IFERROR(AVERAGE('Youth Survey'!KN40,'Youth Survey'!KN47,'Youth Survey'!KN54,'Youth Survey'!KN57),\"\")","v":""},{"$f":"IFERROR(AVERAGE('Youth Survey'!KO40,'Youth Survey'!KO47,'Youth Survey'!KO54,'Youth Survey'!KO57),\"\")","v":""},{"$f":"IFERROR(AVERAGE('Youth Survey'!KP40,'Youth Survey'!KP47,'Youth Survey'!KP54,'Youth Survey'!KP57),\"\")","v":""},{"$f":"IFERROR(AVERAGE('Youth Survey'!KQ40,'Youth Survey'!KQ47,'Youth Survey'!KQ54,'Youth Survey'!KQ57),\"\")","v":""},{"$f":"IFERROR(AVERAGE('Youth Survey'!KR40,'Youth Survey'!KR47,'Youth Survey'!KR54,'Youth Survey'!KR57),\"\")","v":""},{"$f":"IFERROR(AVERAGE('Youth Survey'!KS40,'Youth Survey'!KS47,'Youth Survey'!KS54,'Youth Survey'!KS57),\"\")","v":""},{"$f":"IFERROR(AVERAGE('Youth Survey'!KT40,'Youth Survey'!KT47,'Youth Survey'!KT54,'Youth Survey'!KT57),\"\")","v":""},{"$f":"IFERROR(AVERAGE('Youth Survey'!KU40,'Youth Survey'!KU47,'Youth Survey'!KU54,'Youth Survey'!KU57),\"\")","v":""},{"$f":"IFERROR(AVERAGE('Youth Survey'!KV40,'Youth Survey'!KV47,'Youth Survey'!KV54,'Youth Survey'!KV57),\"\")","v":""},{"$f":"IFERROR(AVERAGE('Youth Survey'!KW40,'Youth Survey'!KW47,'Youth Survey'!KW54,'Youth Survey'!KW57),\"\")","v":""},{"$f":"IFERROR(AVERAGE('Youth Survey'!KX40,'Youth Survey'!KX47,'Youth Survey'!KX54,'Youth Survey'!KX57),\"\")","v":""},{"$f":"IFERROR(AVERAGE('Youth Survey'!KY40,'Youth Survey'!KY47,'Youth Survey'!KY54,'Youth Survey'!KY57),\"\")","v":""},{"$f":"IFERROR(AVERAGE('Youth Survey'!KZ40,'Youth Survey'!KZ47,'Youth Survey'!KZ54,'Youth Survey'!KZ57),\"\")","v":""},{"$f":"IFERROR(AVERAGE('Youth Survey'!LA40,'Youth Survey'!LA47,'Youth Survey'!LA54,'Youth Survey'!LA57),\"\")","v":""},{"$f":"IFERROR(AVERAGE('Youth Survey'!LB40,'Youth Survey'!LB47,'Youth Survey'!LB54,'Youth Survey'!LB57),\"\")","v":""},{"$f":"IFERROR(AVERAGE('Youth Survey'!LC40,'Youth Survey'!LC47,'Youth Survey'!LC54,'Youth Survey'!LC57),\"\")","v":""},{"$f":"IFERROR(AVERAGE('Youth Survey'!LD40,'Youth Survey'!LD47,'Youth Survey'!LD54,'Youth Survey'!LD57),\"\")","v":""},{"$f":"IFERROR(AVERAGE('Youth Survey'!LE40,'Youth Survey'!LE47,'Youth Survey'!LE54,'Youth Survey'!LE57),\"\")","v":""},{"$f":"IFERROR(AVERAGE('Youth Survey'!LF40,'Youth Survey'!LF47,'Youth Survey'!LF54,'Youth Survey'!LF57),\"\")","v":""}]
["Post","O16",null,{"$f":"IFERROR(AVERAGE('Youth Survey'!D49,'Youth Survey'!D51,'Youth Survey'!D55,'Youth Survey'!D56),\"\")","v":""},{"$f":"IFERROR(AVERAGE('Youth Survey'!E49,'Youth Survey'!E51,'Youth Survey'!E55,'Youth Survey'!E56),\"\")","v":""},{"$f":"IFERROR(AVERAGE('Youth Survey'!F49,'Youth Survey'!F51,'Youth Survey'!F55,'Youth Survey'!F56),\"\")","v":""},{"$f":"IFERROR(AVERAGE('Youth Survey'!G49,'Youth Survey'!G51,'Youth Survey'!G55,'Youth Survey'!G56),\"\")","v":""},{"$f":"IFERROR(AVERAGE('Youth Survey'!H49,'Youth Survey'!H51,'Youth Survey'!H55,'Youth Survey'!H56),\"\")","v":""},{"$f":"IFERROR(AVERAGE('Youth Survey'!I49,'Youth Survey'!I51,'Youth Survey'!I55,'Youth Survey'!I56),\"\")","v":""},{"$f":"IFERROR(AVERAGE('Youth Survey'!J49,'Youth Survey'!J51,'Youth Survey'!J55,'Youth Survey'!J56),\"\")","v":""},{"$f":"IFERROR(AVERAGE('Youth Survey'!K49,'Youth Survey'!K51,'Youth Survey'!K55,'Youth Survey'!K56),\"\")","v":""},{"$f":"IFERROR(AVERAGE('Youth Survey'!L49,'Youth Survey'!L51,'Youth Survey'!L55,'Youth Survey'!L56),\"\")","v":""},{"$f":"IFERROR(AVERAGE('Youth Survey'!M49,'Youth Survey'!M51,'Youth Survey'!M55,'Youth Survey'!M56),\"\")","v":""},{"$f":"IFERROR(AVERAGE('Youth Survey'!N49,'Youth Survey'!N51,'Youth Survey'!N55,'Youth Survey'!N56),\"\")","v":""},{"$f":"IFERROR(AVERAGE('Youth Survey'!O49,'Youth Survey'!O51,'Youth Survey'!O55,'Youth Survey'!O56),\"\")","v":""},{"$f":"IFERROR(AVERAGE('Youth Survey'!P49,'Youth Survey'!P51,'Youth Survey'!P55,'Youth Survey'!P56),\"\")","v":""},{"$f":"IFERROR(AVERAGE('Youth Survey'!Q49,'Youth Survey'!Q51,'Youth Survey'!Q55,'Youth Survey'!Q56),\"\")","v":""},{"$f":"IFERROR(AVERAGE('Youth Survey'!R49,'Youth Survey'!R51,'Youth Survey'!R55,'Youth Survey'!R56),\"\")","v":""},{"$f":"IFERROR(AVERAGE('Youth Survey'!S49,'Youth Survey'!S51,'Youth Survey'!S55,'Youth Survey'!S56),\"\")","v":""},{"$f":"IFERROR(AVERAGE('Youth Survey'!T49,'Youth Survey'!T51,'Youth Survey'!T55,'Youth Survey'!T56),\"\")","v":""},{"$f":"IFERROR(AVERAGE('Youth Survey'!U49,'Youth Survey'!U51,'Youth Survey'!U55,'Youth Survey'!U56),\"\")","v":""},{"$f":"IFERROR(AVERAGE('Youth Survey'!V49,'Youth Survey'!V51,'Youth Survey'!V55,'Youth Survey'!V56),\"\")","v":""},{"$f":"IFERROR(AVERAGE('Youth Survey'!W49,'Youth Survey'!W51,'Youth Survey'!W55,'Youth Survey'!W56),\"\")","v":""},{"$f":"IFERROR(AVERAGE('Youth Survey'!X49,'Youth Survey'!X51,'Youth Survey'!X55,'Youth Survey'!X56),\"\")","v":""},{"$f":"IFERROR(AVERAGE('Youth Survey'!Y49,'Youth Survey'!Y51,'Youth Survey'!Y55,'Youth Survey'!Y56),\"\")","v":""},{"$f":"IFERROR(AVERAGE('Youth Survey'!Z49,'Youth Survey'!Z51,'Youth Survey'!Z55,'Youth Survey'!Z56),\"\")","v":""},{"$f":"IFERROR(AVERAGE('Youth Survey'!AA49,'Youth Survey'!AA51,'Youth Survey'!AA55,'Youth Survey'!AA56),\"\")","v":""},{"$f":"IFERROR(AVERAGE('Youth Survey'!AB49,'Youth Survey'!AB51,'Youth Survey'!AB55,'Youth Survey'!AB56),\"\")","v":""},{"$f":"IFERROR(AVERAGE('Youth Survey'!AC49,'Youth Survey'!AC51,'Youth Survey'!AC55,'Youth Survey'!AC56),\"\")","v":""},{"$f":"IFERROR(AVERAGE('Youth Survey'!AD49,'Youth Survey'!AD51,'Youth Survey'!AD55,'Youth Survey'!AD56),\"\")","v":""},{"$f":"IFERROR(AVERAGE('Youth Survey'!AE49,'Youth Survey'!AE51,'Youth Survey'!AE55,'Youth Survey'!AE56),\"\")","v":""},{"$f":"IFERROR(AVERAGE('Youth Survey'!AF49,'Youth Survey'!AF51,'Youth Survey'!AF55,'Youth Survey'!AF56),\"\")","v":""},{"$f":"IFERROR(AVERAGE('Youth Survey'!AG49,'Youth Survey'!AG51,'Youth Survey'!AG55,'Youth Survey'!AG56),\"\")","v":""},{"$f":"IFERROR(AVERAGE('Youth Survey'!AH49,'Youth Survey'!AH51,'Youth Survey'!AH55,'Youth Survey'!AH56),\"\")","v":""},{"$f":"IFERROR(AVERAGE('Youth Survey'!AI49,'Youth Survey'!AI51,'Youth Survey'!AI55,'Youth Survey'!AI56),\"\")","v":""},{"$f":"IFERROR(AVERAGE('Youth Survey'!AJ49,'Youth Survey'!AJ51,'Youth Survey'!AJ55,'Youth Survey'!AJ56),\"\")","v":""},{"$f":"IFERROR(AVERAGE('Youth Survey'!AK49,'Youth Survey'!AK51,'Youth Survey'!AK55,'Youth Survey'!AK56),\"\")","v":""},{"$f":"IFERROR(AVERAGE('Youth Survey'!AL49,'Youth Survey'!AL51,'Youth Survey'!AL55,'Youth Survey'!AL56),\"\")","v":""},{"$f":"IFERROR(AVERAGE('Youth Survey'!AM49,'Youth Survey'!AM51,'Youth Survey'!AM55,'Youth Survey'!AM56),\"\")","v":""},{"$f":"IFERROR(AVERAGE('Youth Survey'!AN49,'Youth Survey'!AN51,'Youth Survey'!AN55,'Youth Survey'!AN56),\"\")","v":""},{"$f":"IFERROR(AVERAGE('Youth Survey'!AO49,'Youth Survey'!AO51,'Youth Survey'!AO55,'Youth Survey'!AO56),\"\")","v":""},{"$f":"IFERROR(AVERAGE('Youth Survey'!AP49,'Youth Survey'!AP51,'Youth Survey'!AP55,'Youth Survey'!AP56),\"\")","v":""},{"$f":"IFERROR(AVERAGE('Youth Survey'!AQ49,'Youth Survey'!AQ51,'Youth Survey'!AQ55,'Youth Survey'!AQ56),\"\")","v":""},{"$f":"IFERROR(AVERAGE('Youth Survey'!AR49,'Youth Survey'!AR51,'Youth Survey'!AR55,'Youth Survey'!AR56),\"\")","v":""},{"$f":"IFERROR(AVERAGE('Youth Survey'!AS49,'Youth Survey'!AS51,'Youth Survey'!AS55,'Youth Survey'!AS56),\"\")","v":""},{"$f":"IFERROR(AVERAGE('Youth Survey'!AT49,'Youth Survey'!AT51,'Youth Survey'!AT55,'Youth Survey'!AT56),\"\")","v":""},{"$f":"IFERROR(AVERAGE('Youth Survey'!AU49,'Youth Survey'!AU51,'Youth Survey'!AU55,'Youth Survey'!AU56),\"\")","v":""},{"$f":"IFERROR(AVERAGE('Youth Survey'!AV49,'Youth Survey'!AV51,'Youth Survey'!AV55,'Youth Survey'!AV56),\"\")","v":""},{"$f":"IFERROR(AVERAGE('Youth Survey'!AW49,'Youth Survey'!AW51,'Youth Survey'!AW55,'Youth Survey'!AW56),\"\")","v":""},{"$f":"IFERROR(AVERAGE('Youth Survey'!AX49,'Youth Survey'!AX51,'Youth Survey'!AX55,'Youth Survey'!AX56),\"\")","v":""},{"$f":"IFERROR(AVERAGE('Youth Survey'!AY49,'Youth Survey'!AY51,'Youth Survey'!AY55,'Youth Survey'!AY56),\"\")","v":""},{"$f":"IFERROR(AVERAGE('Youth Survey'!AZ49,'Youth Survey'!AZ51,'Youth Survey'!AZ55,'Youth Survey'!AZ56),\"\")","v":""},{"$f":"IFERROR(AVERAGE('Youth Survey'!BA49,'Youth Survey'!BA51,'Youth Survey'!BA55,'Youth Survey'!BA56),\"\")","v":""},{"$f":"IFERROR(AVERAGE('Youth Survey'!BB49,'Youth Survey'!BB51,'Youth Survey'!BB55,'Youth Survey'!BB56),\"\")","v":""},{"$f":"IFERROR(AVERAGE('Youth Survey'!BC49,'Youth Survey'!BC51,'Youth Survey'!BC55,'Youth Survey'!BC56),\"\")","v":""},{"$f":"IFERROR(AVERAGE('Youth Survey'!BD49,'Youth Survey'!BD51,'Youth Survey'!BD55,'Youth Survey'!BD56),\"\")","v":""},{"$f":"IFERROR(AVERAGE('Youth Survey'!BE49,'Youth Survey'!BE51,'Youth Survey'!BE55,'Youth Survey'!BE56),\"\")","v":""},{"$f":"IFERROR(AVERAGE('Youth Survey'!BF49,'Youth Survey'!BF51,'Youth Survey'!BF55,'Youth Survey'!BF56),\"\")","v":""},{"$f":"IFERROR(AVERAGE('Youth Survey'!BG49,'Youth Survey'!BG51,'Youth Survey'!BG55,'Youth Survey'!BG56),\"\")","v":""},{"$f":"IFERROR(AVERAGE('Youth Survey'!BH49,'Youth Survey'!BH51,'Youth Survey'!BH55,'Youth Survey'!BH56),\"\")","v":""},{"$f":"IFERROR(AVERAGE('Youth Survey'!BI49,'Youth Survey'!BI51,'Youth Survey'!BI55,'Youth Survey'!BI56),\"\")","v":""},{"$f":"IFERROR(AVERAGE('Youth Survey'!BJ49,'Youth Survey'!BJ51,'Youth Survey'!BJ55,'Youth Survey'!BJ56),\"\")","v":""},{"$f":"IFERROR(AVERAGE('Youth Survey'!BK49,'Youth Survey'!BK51,'Youth Survey'!BK55,'Youth Survey'!BK56),\"\")","v":""},{"$f":"IFERROR(AVERAGE('Youth Survey'!BL49,'Youth Survey'!BL51,'Youth Survey'!BL55,'Youth Survey'!BL56),\"\")","v":""},{"$f":"IFERROR(AVERAGE('Youth Survey'!BM49,'Youth Survey'!BM51,'Youth Survey'!BM55,'Youth Survey'!BM56),\"\")","v":""},{"$f":"IFERROR(AVERAGE('Youth Survey'!BN49,'Youth Survey'!BN51,'Youth Survey'!BN55,'Youth Survey'!BN56),\"\")","v":""},{"$f":"IFERROR(AVERAGE('Youth Survey'!BO49,'Youth Survey'!BO51,'Youth Survey'!BO55,'Youth Survey'!BO56),\"\")","v":""},{"$f":"IFERROR(AVERAGE('Youth Survey'!BP49,'Youth Survey'!BP51,'Youth Survey'!BP55,'Youth Survey'!BP56),\"\")","v":""},{"$f":"IFERROR(AVERAGE('Youth Survey'!BQ49,'Youth Survey'!BQ51,'Youth Survey'!BQ55,'Youth Survey'!BQ56),\"\")","v":""},{"$f":"IFERROR(AVERAGE('Youth Survey'!BR49,'Youth Survey'!BR51,'Youth Survey'!BR55,'Youth Survey'!BR56),\"\")","v":""},{"$f":"IFERROR(AVERAGE('Youth Survey'!BS49,'Youth Survey'!BS51,'Youth Survey'!BS55,'Youth Survey'!BS56),\"\")","v":""},{"$f":"IFERROR(AVERAGE('Youth Survey'!BT49,'Youth Survey'!BT51,'Youth Survey'!BT55,'Youth Survey'!BT56),\"\")","v":""},{"$f":"IFERROR(AVERAGE('Youth Survey'!BU49,'Youth Survey'!BU51,'Youth Survey'!BU55,'Youth Survey'!BU56),\"\")","v":""},{"$f":"IFERROR(AVERAGE('Youth Survey'!BV49,'Youth Survey'!BV51,'Youth Survey'!BV55,'Youth Survey'!BV56),\"\")","v":""},{"$f":"IFERROR(AVERAGE('Youth Survey'!BW49,'Youth Survey'!BW51,'Youth Survey'!BW55,'Youth Survey'!BW56),\"\")","v":""},{"$f":"IFERROR(AVERAGE('Youth Survey'!BX49,'Youth Survey'!BX51,'Youth Survey'!BX55,'Youth Survey'!BX56),\"\")","v":""},{"$f":"IFERROR(AVERAGE('Youth Survey'!BY49,'Youth Survey'!BY51,'Youth Survey'!BY55,'Youth Survey'!BY56),\"\")","v":""},{"$f":"IFERROR(AVERAGE('Youth Survey'!BZ49,'Youth Survey'!BZ51,'Youth Survey'!BZ55,'Youth Survey'!BZ56),\"\")","v":""},{"$f":"IFERROR(AVERAGE('Youth Survey'!CA49,'Youth Survey'!CA51,'Youth Survey'!CA55,'Youth Survey'!CA56),\"\")","v":""},{"$f":"IFERROR(AVERAGE('Youth Survey'!CB49,'Youth Survey'!CB51,'Youth Survey'!CB55,'Youth Survey'!CB56),\"\")","v":""},{"$f":"IFERROR(AVERAGE('Youth Survey'!CC49,'Youth Survey'!CC51,'Youth Survey'!CC55,'Youth Survey'!CC56),\"\")","v":""},{"$f":"IFERROR(AVERAGE('Youth Survey'!CD49,'Youth Survey'!CD51,'Youth Survey'!CD55,'Youth Survey'!CD56),\"\")","v":""},{"$f":"IFERROR(AVERAGE('Youth Survey'!CE49,'Youth Survey'!CE51,'Youth Survey'!CE55,'Youth Survey'!CE56),\"\")","v":""},{"$f":"IFERROR(AVERAGE('Youth Survey'!CF49,'Youth Survey'!CF51,'Youth Survey'!CF55,'Youth Survey'!CF56),\"\")","v":""},{"$f":"IFERROR(AVERAGE('Youth Survey'!CG49,'Youth Survey'!CG51,'Youth Survey'!CG55,'Youth Survey'!CG56),\"\")","v":""},{"$f":"IFERROR(AVERAGE('Youth Survey'!CH49,'Youth Survey'!CH51,'Youth Survey'!CH55,'Youth Survey'!CH56),\"\")","v":""},{"$f":"IFERROR(AVERAGE('Youth Survey'!CI49,'Youth Survey'!CI51,'Youth Survey'!CI55,'Youth Survey'!CI56),\"\")","v":""},{"$f":"IFERROR(AVERAGE('Youth Survey'!CJ49,'Youth Survey'!CJ51,'Youth Survey'!CJ55,'Youth Survey'!CJ56),\"\")","v":""},{"$f":"IFERROR(AVERAGE('Youth Survey'!CK49,'Youth Survey'!CK51,'Youth Survey'!CK55,'Youth Survey'!CK56),\"\")","v":""},{"$f":"IFERROR(AVERAGE('Youth Survey'!CL49,'Youth Survey'!CL51,'Youth Survey'!CL55,'Youth Survey'!CL56),\"\")","v":""},{"$f":"IFERROR(AVERAGE('Youth Survey'!CM49,'Youth Survey'!CM51,'Youth Survey'!CM55,'Youth Survey'!CM56),\"\")","v":""},{"$f":"IFERROR(AVERAGE('Youth Survey'!CN49,'Youth Survey'!CN51,'Youth Survey'!CN55,'Youth Survey'!CN56),\"\")","v":""},{"$f":"IFERROR(AVERAGE('Youth Survey'!CO49,'Youth Survey'!CO51,'Youth Survey'!CO55,'Youth Survey'!CO56),\"\")","v":""},{"$f":"IFERROR(AVERAGE('Youth Survey'!CP49,'Youth Survey'!CP51,'Youth Survey'!CP55,'Youth Survey'!CP56),\"\")","v":""},{"$f":"IFERROR(AVERAGE('Youth Survey'!CQ49,'Youth Survey'!CQ51,'Youth Survey'!CQ55,'Youth Survey'!CQ56),\"\")","v":""},{"$f":"IFERROR(AVERAGE('Youth Survey'!CR49,'Youth Survey'!CR51,'Youth Survey'!CR55,'Youth Survey'!CR56),\"\")","v":""},{"$f":"IFERROR(AVERAGE('Youth Survey'!CS49,'Youth Survey'!CS51,'Youth Survey'!CS55,'Youth Survey'!CS56),\"\")","v":""},{"$f":"IFERROR(AVERAGE('Youth Survey'!CT49,'Youth Survey'!CT51,'Youth Survey'!CT55,'Youth Survey'!CT56),\"\")","v":""},{"$f":"IFERROR(AVERAGE('Youth Survey'!CU49,'Youth Survey'!CU51,'Youth Survey'!CU55,'Youth Survey'!CU56),\"\")","v":""},{"$f":"IFERROR(AVERAGE('Youth Survey'!CV49,'Youth Survey'!CV51,'Youth Survey'!CV55,'Youth Survey'!CV56),\"\")","v":""},{"$f":"IFERROR(AVERAGE('Youth Survey'!CW49,'Youth Survey'!CW51,'Youth Survey'!CW55,'Youth Survey'!CW56),\"\")","v":""},{"$f":"IFERROR(AVERAGE('Youth Survey'!CX49,'Youth Survey'!CX51,'Youth Survey'!CX55,'Youth Survey'!CX56),\"\")","v":""},{"$f":"IFERROR(AVERAGE('Youth Survey'!CY49,'Youth Survey'!CY51,'Youth Survey'!CY55,'Youth Survey'!CY56),\"\")","v":""},{"$f":"IFERROR(AVERAGE('Youth Survey'!CZ49,'Youth Survey'!CZ51,'Youth Survey'!CZ55,'Youth Survey'!CZ56),\"\")","v":""},{"$f":"IFERROR(AVERAGE('Youth Survey'!DA49,'Youth Survey'!DA51,'Youth Survey'!DA55,'Youth Survey'!DA56),\"\")","v":""},{"$f":"IFERROR(AVERAGE('Youth Survey'!DB49,'Youth Survey'!DB51,'Youth Survey'!DB55,'Youth Survey'!DB56),\"\")","v":""},{"$f":"IFERROR(AVERAGE('Youth Survey'!DC49,'Youth Survey'!DC51,'Youth Survey'!DC55,'Youth Survey'!DC56),\"\")","v":""},{"$f":"IFERROR(AVERAGE('Youth Survey'!DD49,'Youth Survey'!DD51,'Youth Survey'!DD55,'Youth Survey'!DD56),\"\")","v":""},{"$f":"IFERROR(AVERAGE('Youth Survey'!DE49,'Youth Survey'!DE51,'Youth Survey'!DE55,'Youth Survey'!DE56),\"\")","v":""},{"$f":"IFERROR(AVERAGE('Youth Survey'!DF49,'Youth Survey'!DF51,'Youth Survey'!DF55,'Youth Survey'!DF56),\"\")","v":""},{"$f":"IFERROR(AVERAGE('Youth Survey'!DG49,'Youth Survey'!DG51,'Youth Survey'!DG55,'Youth Survey'!DG56),\"\")","v":""},{"$f":"IFERROR(AVERAGE('Youth Survey'!DH49,'Youth Survey'!DH51,'Youth Survey'!DH55,'Youth Survey'!DH56),\"\")","v":""},{"$f":"IFERROR(AVERAGE('Youth Survey'!DI49,'Youth Survey'!DI51,'Youth Survey'!DI55,'Youth Survey'!DI56),\"\")","v":""},{"$f":"IFERROR(AVERAGE('Youth Survey'!DJ49,'Youth Survey'!DJ51,'Youth Survey'!DJ55,'Youth Survey'!DJ56),\"\")","v":""},{"$f":"IFERROR(AVERAGE('Youth Survey'!DK49,'Youth Survey'!DK51,'Youth Survey'!DK55,'Youth Survey'!DK56),\"\")","v":""},{"$f":"IFERROR(AVERAGE('Youth Survey'!DL49,'Youth Survey'!DL51,'Youth Survey'!DL55,'Youth Survey'!DL56),\"\")","v":""},{"$f":"IFERROR(AVERAGE('Youth Survey'!DM49,'Youth Survey'!DM51,'Youth Survey'!DM55,'Youth Survey'!DM56),\"\")","v":""},{"$f":"IFERROR(AVERAGE('Youth Survey'!DN49,'Youth Survey'!DN51,'Youth Survey'!DN55,'Youth Survey'!DN56),\"\")","v":""},{"$f":"IFERROR(AVERAGE('Youth Survey'!DO49,'Youth Survey'!DO51,'Youth Survey'!DO55,'Youth Survey'!DO56),\"\")","v":""},{"$f":"IFERROR(AVERAGE('Youth Survey'!DP49,'Youth Survey'!DP51,'Youth Survey'!DP55,'Youth Survey'!DP56),\"\")","v":""},{"$f":"IFERROR(AVERAGE('Youth Survey'!DQ49,'Youth Survey'!DQ51,'Youth Survey'!DQ55,'Youth Survey'!DQ56),\"\")","v":""},{"$f":"IFERROR(AVERAGE('Youth Survey'!DR49,'Youth Survey'!DR51,'Youth Survey'!DR55,'Youth Survey'!DR56),\"\")","v":""},{"$f":"IFERROR(AVERAGE('Youth Survey'!DS49,'Youth Survey'!DS51,'Youth Survey'!DS55,'Youth Survey'!DS56),\"\")","v":""},{"$f":"IFERROR(AVERAGE('Youth Survey'!DT49,'Youth Survey'!DT51,'Youth Survey'!DT55,'Youth Survey'!DT56),\"\")","v":""},{"$f":"IFERROR(AVERAGE('Youth Survey'!DU49,'Youth Survey'!DU51,'Youth Survey'!DU55,'Youth Survey'!DU56),\"\")","v":""},{"$f":"IFERROR(AVERAGE('Youth Survey'!DV49,'Youth Survey'!DV51,'Youth Survey'!DV55,'Youth Survey'!DV56),\"\")","v":""},{"$f":"IFERROR(AVERAGE('Youth Survey'!DW49,'Youth Survey'!DW51,'Youth Survey'!DW55,'Youth Survey'!DW56),\"\")","v":""},{"$f":"IFERROR(AVERAGE('Youth Survey'!DX49,'Youth Survey'!DX51,'Youth Survey'!DX55,'Youth Survey'!DX56),\"\")","v":""},{"$f":"IFERROR(AVERAGE('Youth Survey'!DY49,'Youth Survey'!DY51,'Youth Survey'!DY55,'Youth Survey'!DY56),\"\")","v":""},{"$f":"IFERROR(AVERAGE('Youth Survey'!DZ49,'Youth Survey'!DZ51,'Youth Survey'!DZ55,'Youth Survey'!DZ56),\"\")","v":""},{"$f":"IFERROR(AVERAGE('Youth Survey'!EA49,'Youth Survey'!EA51,'Youth Survey'!EA55,'Youth Survey'!EA56),\"\")","v":""},{"$f":"IFERROR(AVERAGE('Youth Survey'!EB49,'Youth Survey'!EB51,'Youth Survey'!EB55,'Youth Survey'!EB56),\"\")","v":""},{"$f":"IFERROR(AVERAGE('Youth Survey'!EC49,'Youth Survey'!EC51,'Youth Survey'!EC55,'Youth Survey'!EC56),\"\")","v":""},{"$f":"IFERROR(AVERAGE('Youth Survey'!ED49,'Youth Survey'!ED51,'Youth Survey'!ED55,'Youth Survey'!ED56),\"\")","v":""},{"$f":"IFERROR(AVERAGE('Youth Survey'!EE49,'Youth Survey'!EE51,'Youth Survey'!EE55,'Youth Survey'!EE56),\"\")","v":""},{"$f":"IFERROR(AVERAGE('Youth Survey'!EF49,'Youth Survey'!EF51,'Youth Survey'!EF55,'Youth Survey'!EF56),\"\")","v":""},{"$f":"IFERROR(AVERAGE('Youth Survey'!EG49,'Youth Survey'!EG51,'Youth Survey'!EG55,'Youth Survey'!EG56),\"\")","v":""},{"$f":"IFERROR(AVERAGE('Youth Survey'!EH49,'Youth Survey'!EH51,'Youth Survey'!EH55,'Youth Survey'!EH56),\"\")","v":""},{"$f":"IFERROR(AVERAGE('Youth Survey'!EI49,'Youth Survey'!EI51,'Youth Survey'!EI55,'Youth Survey'!EI56),\"\")","v":""},{"$f":"IFERROR(AVERAGE('Youth Survey'!EJ49,'Youth Survey'!EJ51,'Youth Survey'!EJ55,'Youth Survey'!EJ56),\"\")","v":""},{"$f":"IFERROR(AVERAGE('Youth Survey'!EK49,'Youth Survey'!EK51,'Youth Survey'!EK55,'Youth Survey'!EK56),\"\")","v":""},{"$f":"IFERROR(AVERAGE('Youth Survey'!EL49,'Youth Survey'!EL51,'Youth Survey'!EL55,'Youth Survey'!EL56),\"\")","v":""},{"$f":"IFERROR(AVERAGE('Youth Survey'!EM49,'Youth Survey'!EM51,'Youth Survey'!EM55,'Youth Survey'!EM56),\"\")","v":""},{"$f":"IFERROR(AVERAGE('Youth Survey'!EN49,'Youth Survey'!EN51,'Youth Survey'!EN55,'Youth Survey'!EN56),\"\")","v":""},{"$f":"IFERROR(AVERAGE('Youth Survey'!EO49,'Youth Survey'!EO51,'Youth Survey'!EO55,'Youth Survey'!EO56),\"\")","v":""},{"$f":"IFERROR(AVERAGE('Youth Survey'!EP49,'Youth Survey'!EP51,'Youth Survey'!EP55,'Youth Survey'!EP56),\"\")","v":""},{"$f":"IFERROR(AVERAGE('Youth Survey'!EQ49,'Youth Survey'!EQ51,'Youth Survey'!EQ55,'Youth Survey'!EQ56),\"\")","v":""},{"$f":"IFERROR(AVERAGE('Youth Survey'!ER49,'Youth Survey'!ER51,'Youth Survey'!ER55,'Youth Survey'!ER56),\"\")","v":""},{"$f":"IFERROR(AVERAGE('Youth Survey'!ES49,'Youth Survey'!ES51,'Youth Survey'!ES55,'Youth Survey'!ES56),\"\")","v":""},{"$f":"IFERROR(AVERAGE('Youth Survey'!ET49,'Youth Survey'!ET51,'Youth Survey'!ET55,'Youth Survey'!ET56),\"\")","v":""},{"$f":"IFERROR(AVERAGE('Youth Survey'!EU49,'Youth Survey'!EU51,'Youth Survey'!EU55,'Youth Survey'!EU56),\"\")","v":""},{"$f":"IFERROR(AVERAGE('Youth Survey'!EV49,'Youth Survey'!EV51,'Youth Survey'!EV55,'Youth Survey'!EV56),\"\")","v":""},{"$f":"IFERROR(AVERAGE('Youth Survey'!EW49,'Youth Survey'!EW51,'Youth Survey'!EW55,'Youth Survey'!EW56),\"\")","v":""},{"$f":"IFERROR(AVERAGE('Youth Survey'!EX49,'Youth Survey'!EX51,'Youth Survey'!EX55,'Youth Survey'!EX56),\"\")","v":""},{"$f":"IFERROR(AVERAGE('Youth Survey'!EY49,'Youth Survey'!EY51,'Youth Survey'!EY55,'Youth Survey'!EY56),\"\")","v":""},{"$f":"IFERROR(AVERAGE('Youth Survey'!EZ49,'Youth Survey'!EZ51,'Youth Survey'!EZ55,'Youth Survey'!EZ56),\"\")","v":""},{"$f":"IFERROR(AVERAGE('Youth Survey'!FA49,'Youth Survey'!FA51,'Youth Survey'!FA55,'Youth Survey'!FA56),\"\")","v":""},{"$f":"IFERROR(AVERAGE('Youth Survey'!FB49,'Youth Survey'!FB51,'Youth Survey'!FB55,'Youth Survey'!FB56),\"\")","v":""},{"$f":"IFERROR(AVERAGE('Youth Survey'!FC49,'Youth Survey'!FC51,'Youth Survey'!FC55,'Youth Survey'!FC56),\"\")","v":""},{"$f":"IFERROR(AVERAGE('Youth Survey'!FD49,'Youth Survey'!FD51,'Youth Survey'!FD55,'Youth Survey'!FD56),\"\")","v":""},{"$f":"IFERROR(AVERAGE('Youth Survey'!FE49,'Youth Survey'!FE51,'Youth Survey'!FE55,'Youth Survey'!FE56),\"\")","v":""},{"$f":"IFERROR(AVERAGE('Youth Survey'!FF49,'Youth Survey'!FF51,'Youth Survey'!FF55,'Youth Survey'!FF56),\"\")","v":""},{"$f":"IFERROR(AVERAGE('Youth Survey'!FG49,'Youth Survey'!FG51,'Youth Survey'!FG55,'Youth Survey'!FG56),\"\")","v":""},{"$f":"IFERROR(AVERAGE('Youth Survey'!FH49,'Youth Survey'!FH51,'Youth Survey'!FH55,'Youth Survey'!FH56),\"\")","v":""},{"$f":"IFERROR(AVERAGE('Youth Survey'!FI49,'Youth Survey'!FI51,'Youth Survey'!FI55,'Youth Survey'!FI56),\"\")","v":""},{"$f":"IFERROR(AVERAGE('Youth Survey'!FJ49,'Youth Survey'!FJ51,'Youth Survey'!FJ55,'Youth Survey'!FJ56),\"\")","v":""},{"$f":"IFERROR(AVERAGE('Youth Survey'!FK49,'Youth Survey'!FK51,'Youth Survey'!FK55,'Youth Survey'!FK56),\"\")","v":""},{"$f":"IFERROR(AVERAGE('Youth Survey'!FL49,'Youth Survey'!FL51,'Youth Survey'!FL55,'Youth Survey'!FL56),\"\")","v":""},{"$f":"IFERROR(AVERAGE('Youth Survey'!FM49,'Youth Survey'!FM51,'Youth Survey'!FM55,'Youth Survey'!FM56),\"\")","v":""},{"$f":"IFERROR(AVERAGE('Youth Survey'!FN49,'Youth Survey'!FN51,'Youth Survey'!FN55,'Youth Survey'!FN56),\"\")","v":""},{"$f":"IFERROR(AVERAGE('Youth Survey'!FO49,'Youth Survey'!FO51,'Youth Survey'!FO55,'Youth Survey'!FO56),\"\")","v":""},{"$f":"IFERROR(AVERAGE('Youth Survey'!FP49,'Youth Survey'!FP51,'Youth Survey'!FP55,'Youth Survey'!FP56),\"\")","v":""},{"$f":"IFERROR(AVERAGE('Youth Survey'!FQ49,'Youth Survey'!FQ51,'Youth Survey'!FQ55,'Youth Survey'!FQ56),\"\")","v":""},{"$f":"IFERROR(AVERAGE('Youth Survey'!FR49,'Youth Survey'!FR51,'Youth Survey'!FR55,'Youth Survey'!FR56),\"\")","v":""},{"$f":"IFERROR(AVERAGE('Youth Survey'!FS49,'Youth Survey'!FS51,'Youth Survey'!FS55,'Youth Survey'!FS56),\"\")","v":""},{"$f":"IFERROR(AVERAGE('Youth Survey'!FT49,'Youth Survey'!FT51,'Youth Survey'!FT55,'Youth Survey'!FT56),\"\")","v":""},{"$f":"IFERROR(AVERAGE('Youth Survey'!FU49,'Youth Survey'!FU51,'Youth Survey'!FU55,'Youth Survey'!FU56),\"\")","v":""},{"$f":"IFERROR(AVERAGE('Youth Survey'!FV49,'Youth Survey'!FV51,'Youth Survey'!FV55,'Youth Survey'!FV56),\"\")","v":""},{"$f":"IFERROR(AVERAGE('Youth Survey'!FW49,'Youth Survey'!FW51,'Youth Survey'!FW55,'Youth Survey'!FW56),\"\")","v":""},{"$f":"IFERROR(AVERAGE('Youth Survey'!FX49,'Youth Survey'!FX51,'Youth Survey'!FX55,'Youth Survey'!FX56),\"\")","v":""},{"$f":"IFERROR(AVERAGE('Youth Survey'!FY49,'Youth Survey'!FY51,'Youth Survey'!FY55,'Youth Survey'!FY56),\"\")","v":""},{"$f":"IFERROR(AVERAGE('Youth Survey'!FZ49,'Youth Survey'!FZ51,'Youth Survey'!FZ55,'Youth Survey'!FZ56),\"\")","v":""},{"$f":"IFERROR(AVERAGE('Youth Survey'!GA49,'Youth Survey'!GA51,'Youth Survey'!GA55,'Youth Survey'!GA56),\"\")","v":""},{"$f":"IFERROR(AVERAGE('Youth Survey'!GB49,'Youth Survey'!GB51,'Youth Survey'!GB55,'Youth Survey'!GB56),\"\")","v":""},{"$f":"IFERROR(AVERAGE('Youth Survey'!GC49,'Youth Survey'!GC51,'Youth Survey'!GC55,'Youth Survey'!GC56),\"\")","v":""},{"$f":"IFERROR(AVERAGE('Youth Survey'!GD49,'Youth Survey'!GD51,'Youth Survey'!GD55,'Youth Survey'!GD56),\"\")","v":""},{"$f":"IFERROR(AVERAGE('Youth Survey'!GE49,'Youth Survey'!GE51,'Youth Survey'!GE55,'Youth Survey'!GE56),\"\")","v":""},{"$f":"IFERROR(AVERAGE('Youth Survey'!GF49,'Youth Survey'!GF51,'Youth Survey'!GF55,'Youth Survey'!GF56),\"\")","v":""},{"$f":"IFERROR(AVERAGE('Youth Survey'!GG49,'Youth Survey'!GG51,'Youth Survey'!GG55,'Youth Survey'!GG56),\"\")","v":""},{"$f":"IFERROR(AVERAGE('Youth Survey'!GH49,'Youth Survey'!GH51,'Youth Survey'!GH55,'Youth Survey'!GH56),\"\")","v":""},{"$f":"IFERROR(AVERAGE('Youth Survey'!GI49,'Youth Survey'!GI51,'Youth Survey'!GI55,'Youth Survey'!GI56),\"\")","v":""},{"$f":"IFERROR(AVERAGE('Youth Survey'!GJ49,'Youth Survey'!GJ51,'Youth Survey'!GJ55,'Youth Survey'!GJ56),\"\")","v":""},{"$f":"IFERROR(AVERAGE('Youth Survey'!GK49,'Youth Survey'!GK51,'Youth Survey'!GK55,'Youth Survey'!GK56),\"\")","v":""},{"$f":"IFERROR(AVERAGE('Youth Survey'!GL49,'Youth Survey'!GL51,'Youth Survey'!GL55,'Youth Survey'!GL56),\"\")","v":""},{"$f":"IFERROR(AVERAGE('Youth Survey'!GM49,'Youth Survey'!GM51,'Youth Survey'!GM55,'Youth Survey'!GM56),\"\")","v":""},{"$f":"IFERROR(AVERAGE('Youth Survey'!GN49,'Youth Survey'!GN51,'Youth Survey'!GN55,'Youth Survey'!GN56),\"\")","v":""},{"$f":"IFERROR(AVERAGE('Youth Survey'!GO49,'Youth Survey'!GO51,'Youth Survey'!GO55,'Youth Survey'!GO56),\"\")","v":""},{"$f":"IFERROR(AVERAGE('Youth Survey'!GP49,'Youth Survey'!GP51,'Youth Survey'!GP55,'Youth Survey'!GP56),\"\")","v":""},{"$f":"IFERROR(AVERAGE('Youth Survey'!GQ49,'Youth Survey'!GQ51,'Youth Survey'!GQ55,'Youth Survey'!GQ56),\"\")","v":""},{"$f":"IFERROR(AVERAGE('Youth Survey'!GR49,'Youth Survey'!GR51,'Youth Survey'!GR55,'Youth Survey'!GR56),\"\")","v":""},{"$f":"IFERROR(AVERAGE('Youth Survey'!GS49,'Youth Survey'!GS51,'Youth Survey'!GS55,'Youth Survey'!GS56),\"\")","v":""},{"$f":"IFERROR(AVERAGE('Youth Survey'!GT49,'Youth Survey'!GT51,'Youth Survey'!GT55,'Youth Survey'!GT56),\"\")","v":""},{"$f":"IFERROR(AVERAGE('Youth Survey'!GU49,'Youth Survey'!GU51,'Youth Survey'!GU55,'Youth Survey'!GU56),\"\")","v":""},{"$f":"IFERROR(AVERAGE('Youth Survey'!GV49,'Youth Survey'!GV51,'Youth Survey'!GV55,'Youth Survey'!GV56),\"\")","v":""},{"$f":"IFERROR(AVERAGE('Youth Survey'!GW49,'Youth Survey'!GW51,'Youth Survey'!GW55,'Youth Survey'!GW56),\"\")","v":""},{"$f":"IFERROR(AVERAGE('Youth Survey'!GX49,'Youth Survey'!GX51,'Youth Survey'!GX55,'Youth Survey'!GX56),\"\")","v":""},{"$f":"IFERROR(AVERAGE('Youth Survey'!GY49,'Youth Survey'!GY51,'Youth Survey'!GY55,'Youth Survey'!GY56),\"\")","v":""},{"$f":"IFERROR(AVERAGE('Youth Survey'!GZ49,'Youth Survey'!GZ51,'Youth Survey'!GZ55,'Youth Survey'!GZ56),\"\")","v":""},{"$f":"IFERROR(AVERAGE('Youth Survey'!HA49,'Youth Survey'!HA51,'Youth Survey'!HA55,'Youth Survey'!HA56),\"\")","v":""},{"$f":"IFERROR(AVERAGE('Youth Survey'!HB49,'Youth Survey'!HB51,'Youth Survey'!HB55,'Youth Survey'!HB56),\"\")","v":""},{"$f":"IFERROR(AVERAGE('Youth Survey'!HC49,'Youth Survey'!HC51,'Youth Survey'!HC55,'Youth Survey'!HC56),\"\")","v":""},{"$f":"IFERROR(AVERAGE('Youth Survey'!HD49,'Youth Survey'!HD51,'Youth Survey'!HD55,'Youth Survey'!HD56),\"\")","v":""},{"$f":"IFERROR(AVERAGE('Youth Survey'!HE49,'Youth Survey'!HE51,'Youth Survey'!HE55,'Youth Survey'!HE56),\"\")","v":""},{"$f":"IFERROR(AVERAGE('Youth Survey'!HF49,'Youth Survey'!HF51,'Youth Survey'!HF55,'Youth Survey'!HF56),\"\")","v":""},{"$f":"IFERROR(AVERAGE('Youth Survey'!HG49,'Youth Survey'!HG51,'Youth Survey'!HG55,'Youth Survey'!HG56),\"\")","v":""},{"$f":"IFERROR(AVERAGE('Youth Survey'!HH49,'Youth Survey'!HH51,'Youth Survey'!HH55,'Youth Survey'!HH56),\"\")","v":""},{"$f":"IFERROR(AVERAGE('Youth Survey'!HI49,'Youth Survey'!HI51,'Youth Survey'!HI55,'Youth Survey'!HI56),\"\")","v":""},{"$f":"IFERROR(AVERAGE('Youth Survey'!HJ49,'Youth Survey'!HJ51,'Youth Survey'!HJ55,'Youth Survey'!HJ56),\"\")","v":""},{"$f":"IFERROR(AVERAGE('Youth Survey'!HK49,'Youth Survey'!HK51,'Youth Survey'!HK55,'Youth Survey'!HK56),\"\")","v":""},{"$f":"IFERROR(AVERAGE('Youth Survey'!HL49,'Youth Survey'!HL51,'Youth Survey'!HL55,'Youth Survey'!HL56),\"\")","v":""},{"$f":"IFERROR(AVERAGE('Youth Survey'!HM49,'Youth Survey'!HM51,'Youth Survey'!HM55,'Youth Survey'!HM56),\"\")","v":""},{"$f":"IFERROR(AVERAGE('Youth Survey'!HN49,'Youth Survey'!HN51,'Youth Survey'!HN55,'Youth Survey'!HN56),\"\")","v":""},{"$f":"IFERROR(AVERAGE('Youth Survey'!HO49,'Youth Survey'!HO51,'Youth Survey'!HO55,'Youth Survey'!HO56),\"\")","v":""},{"$f":"IFERROR(AVERAGE('Youth Survey'!HP49,'Youth Survey'!HP51,'Youth Survey'!HP55,'Youth Survey'!HP56),\"\")","v":""},{"$f":"IFERROR(AVERAGE('Youth Survey'!HQ49,'Youth Survey'!HQ51,'Youth Survey'!HQ55,'Youth Survey'!HQ56),\"\")","v":""},{"$f":"IFERROR(AVERAGE('Youth Survey'!HR49,'Youth Survey'!HR51,'Youth Survey'!HR55,'Youth Survey'!HR56),\"\")","v":""},{"$f":"IFERROR(AVERAGE('Youth Survey'!HS49,'Youth Survey'!HS51,'Youth Survey'!HS55,'Youth Survey'!HS56),\"\")","v":""},{"$f":"IFERROR(AVERAGE('Youth Survey'!HT49,'Youth Survey'!HT51,'Youth Survey'!HT55,'Youth Survey'!HT56),\"\")","v":""},{"$f":"IFERROR(AVERAGE('Youth Survey'!HU49,'Youth Survey'!HU51,'Youth Survey'!HU55,'Youth Survey'!HU56),\"\")","v":""},{"$f":"IFERROR(AVERAGE('Youth Survey'!HV49,'Youth Survey'!HV51,'Youth Survey'!HV55,'Youth Survey'!HV56),\"\")","v":""},{"$f":"IFERROR(AVERAGE('Youth Survey'!HW49,'Youth Survey'!HW51,'Youth Survey'!HW55,'Youth Survey'!HW56),\"\")","v":""},{"$f":"IFERROR(AVERAGE('Youth Survey'!HX49,'Youth Survey'!HX51,'Youth Survey'!HX55,'Youth Survey'!HX56),\"\")","v":""},{"$f":"IFERROR(AVERAGE('Youth Survey'!HY49,'Youth Survey'!HY51,'Youth Survey'!HY55,'Youth Survey'!HY56),\"\")","v":""},{"$f":"IFERROR(AVERAGE('Youth Survey'!HZ49,'Youth Survey'!HZ51,'Youth Survey'!HZ55,'Youth Survey'!HZ56),\"\")","v":""},{"$f":"IFERROR(AVERAGE('Youth Survey'!IA49,'Youth Survey'!IA51,'Youth Survey'!IA55,'Youth Survey'!IA56),\"\")","v":""},{"$f":"IFERROR(AVERAGE('Youth Survey'!IB49,'Youth Survey'!IB51,'Youth Survey'!IB55,'Youth Survey'!IB56),\"\")","v":""},{"$f":"IFERROR(AVERAGE('Youth Survey'!IC49,'Youth Survey'!IC51,'Youth Survey'!IC55,'Youth Survey'!IC56),\"\")","v":""},{"$f":"IFERROR(AVERAGE('Youth Survey'!ID49,'Youth Survey'!ID51,'Youth Survey'!ID55,'Youth Survey'!ID56),\"\")","v":""},{"$f":"IFERROR(AVERAGE('Youth Survey'!IE49,'Youth Survey'!IE51,'Youth Survey'!IE55,'Youth Survey'!IE56),\"\")","v":""},{"$f":"IFERROR(AVERAGE('Youth Survey'!IF49,'Youth Survey'!IF51,'Youth Survey'!IF55,'Youth Survey'!IF56),\"\")","v":""},{"$f":"IFERROR(AVERAGE('Youth Survey'!IG49,'Youth Survey'!IG51,'Youth Survey'!IG55,'Youth Survey'!IG56),\"\")","v":""},{"$f":"IFERROR(AVERAGE('Youth Survey'!IH49,'Youth Survey'!IH51,'Youth Survey'!IH55,'Youth Survey'!IH56),\"\")","v":""},{"$f":"IFERROR(AVERAGE('Youth Survey'!II49,'Youth Survey'!II51,'Youth Survey'!II55,'Youth Survey'!II56),\"\")","v":""},{"$f":"IFERROR(AVERAGE('Youth Survey'!IJ49,'Youth Survey'!IJ51,'Youth Survey'!IJ55,'Youth Survey'!IJ56),\"\")","v":""},{"$f":"IFERROR(AVERAGE('Youth Survey'!IK49,'Youth Survey'!IK51,'Youth Survey'!IK55,'Youth Survey'!IK56),\"\")","v":""},{"$f":"IFERROR(AVERAGE('Youth Survey'!IL49,'Youth Survey'!IL51,'Youth Survey'!IL55,'Youth Survey'!IL56),\"\")","v":""},{"$f":"IFERROR(AVERAGE('Youth Survey'!IM49,'Youth Survey'!IM51,'Youth Survey'!IM55,'Youth Survey'!IM56),\"\")","v":""},{"$f":"IFERROR(AVERAGE('Youth Survey'!IN49,'Youth Survey'!IN51,'Youth Survey'!IN55,'Youth Survey'!IN56),\"\")","v":""},{"$f":"IFERROR(AVERAGE('Youth Survey'!IO49,'Youth Survey'!IO51,'Youth Survey'!IO55,'Youth Survey'!IO56),\"\")","v":""},{"$f":"IFERROR(AVERAGE('Youth Survey'!IP49,'Youth Survey'!IP51,'Youth Survey'!IP55,'Youth Survey'!IP56),\"\")","v":""},{"$f":"IFERROR(AVERAGE('Youth Survey'!IQ49,'Youth Survey'!IQ51,'Youth Survey'!IQ55,'Youth Survey'!IQ56),\"\")","v":""},{"$f":"IFERROR(AVERAGE('Youth Survey'!IR49,'Youth Survey'!IR51,'Youth Survey'!IR55,'Youth Survey'!IR56),\"\")","v":""},{"$f":"IFERROR(AVERAGE('Youth Survey'!IS49,'Youth Survey'!IS51,'Youth Survey'!IS55,'Youth Survey'!IS56),\"\")","v":""},{"$f":"IFERROR(AVERAGE('Youth Survey'!IT49,'Youth Survey'!IT51,'Youth Survey'!IT55,'Youth Survey'!IT56),\"\")","v":""},{"$f":"IFERROR(AVERAGE('Youth Survey'!IU49,'Youth Survey'!IU51,'Youth Survey'!IU55,'Youth Survey'!IU56),\"\")","v":""},{"$f":"IFERROR(AVERAGE('Youth Survey'!IV49,'Youth Survey'!IV51,'Youth Survey'!IV55,'Youth Survey'!IV56),\"\")","v":""},{"$f":"IFERROR(AVERAGE('Youth Survey'!IW49,'Youth Survey'!IW51,'Youth Survey'!IW55,'Youth Survey'!IW56),\"\")","v":""},{"$f":"IFERROR(AVERAGE('Youth Survey'!IX49,'Youth Survey'!IX51,'Youth Survey'!IX55,'Youth Survey'!IX56),\"\")","v":""},{"$f":"IFERROR(AVERAGE('Youth Survey'!IY49,'Youth Survey'!IY51,'Youth Survey'!IY55,'Youth Survey'!IY56),\"\")","v":""},{"$f":"IFERROR(AVERAGE('Youth Survey'!IZ49,'Youth Survey'!IZ51,'Youth Survey'!IZ55,'Youth Survey'!IZ56),\"\")","v":""},{"$f":"IFERROR(AVERAGE('Youth Survey'!JA49,'Youth Survey'!JA51,'Youth Survey'!JA55,'Youth Survey'!JA56),\"\")","v":""},{"$f":"IFERROR(AVERAGE('Youth Survey'!JB49,'Youth Survey'!JB51,'Youth Survey'!JB55,'Youth Survey'!JB56),\"\")","v":""},{"$f":"IFERROR(AVERAGE('Youth Survey'!JC49,'Youth Survey'!JC51,'Youth Survey'!JC55,'Youth Survey'!JC56),\"\")","v":""},{"$f":"IFERROR(AVERAGE('Youth Survey'!JD49,'Youth Survey'!JD51,'Youth Survey'!JD55,'Youth Survey'!JD56),\"\")","v":""},{"$f":"IFERROR(AVERAGE('Youth Survey'!JE49,'Youth Survey'!JE51,'Youth Survey'!JE55,'Youth Survey'!JE56),\"\")","v":""},{"$f":"IFERROR(AVERAGE('Youth Survey'!JF49,'Youth Survey'!JF51,'Youth Survey'!JF55,'Youth Survey'!JF56),\"\")","v":""},{"$f":"IFERROR(AVERAGE('Youth Survey'!JG49,'Youth Survey'!JG51,'Youth Survey'!JG55,'Youth Survey'!JG56),\"\")","v":""},{"$f":"IFERROR(AVERAGE('Youth Survey'!JH49,'Youth Survey'!JH51,'Youth Survey'!JH55,'Youth Survey'!JH56),\"\")","v":""},{"$f":"IFERROR(AVERAGE('Youth Survey'!JI49,'Youth Survey'!JI51,'Youth Survey'!JI55,'Youth Survey'!JI56),\"\")","v":""},{"$f":"IFERROR(AVERAGE('Youth Survey'!JJ49,'Youth Survey'!JJ51,'Youth Survey'!JJ55,'Youth Survey'!JJ56),\"\")","v":""},{"$f":"IFERROR(AVERAGE('Youth Survey'!JK49,'Youth Survey'!JK51,'Youth Survey'!JK55,'Youth Survey'!JK56),\"\")","v":""},{"$f":"IFERROR(AVERAGE('Youth Survey'!JL49,'Youth Survey'!JL51,'Youth Survey'!JL55,'Youth Survey'!JL56),\"\")","v":""},{"$f":"IFERROR(AVERAGE('Youth Survey'!JM49,'Youth Survey'!JM51,'Youth Survey'!JM55,'Youth Survey'!JM56),\"\")","v":""},{"$f":"IFERROR(AVERAGE('Youth Survey'!JN49,'Youth Survey'!JN51,'Youth Survey'!JN55,'Youth Survey'!JN56),\"\")","v":""},{"$f":"IFERROR(AVERAGE('Youth Survey'!JO49,'Youth Survey'!JO51,'Youth Survey'!JO55,'Youth Survey'!JO56),\"\")","v":""},{"$f":"IFERROR(AVERAGE('Youth Survey'!JP49,'Youth Survey'!JP51,'Youth Survey'!JP55,'Youth Survey'!JP56),\"\")","v":""},{"$f":"IFERROR(AVERAGE('Youth Survey'!JQ49,'Youth Survey'!JQ51,'Youth Survey'!JQ55,'Youth Survey'!JQ56),\"\")","v":""},{"$f":"IFERROR(AVERAGE('Youth Survey'!JR49,'Youth Survey'!JR51,'Youth Survey'!JR55,'Youth Survey'!JR56),\"\")","v":""},{"$f":"IFERROR(AVERAGE('Youth Survey'!JS49,'Youth Survey'!JS51,'Youth Survey'!JS55,'Youth Survey'!JS56),\"\")","v":""},{"$f":"IFERROR(AVERAGE('Youth Survey'!JT49,'Youth Survey'!JT51,'Youth Survey'!JT55,'Youth Survey'!JT56),\"\")","v":""},{"$f":"IFERROR(AVERAGE('Youth Survey'!JU49,'Youth Survey'!JU51,'Youth Survey'!JU55,'Youth Survey'!JU56),\"\")","v":""},{"$f":"IFERROR(AVERAGE('Youth Survey'!JV49,'Youth Survey'!JV51,'Youth Survey'!JV55,'Youth Survey'!JV56),\"\")","v":""},{"$f":"IFERROR(AVERAGE('Youth Survey'!JW49,'Youth Survey'!JW51,'Youth Survey'!JW55,'Youth Survey'!JW56),\"\")","v":""},{"$f":"IFERROR(AVERAGE('Youth Survey'!JX49,'Youth Survey'!JX51,'Youth Survey'!JX55,'Youth Survey'!JX56),\"\")","v":""},{"$f":"IFERROR(AVERAGE('Youth Survey'!JY49,'Youth Survey'!JY51,'Youth Survey'!JY55,'Youth Survey'!JY56),\"\")","v":""},{"$f":"IFERROR(AVERAGE('Youth Survey'!JZ49,'Youth Survey'!JZ51,'Youth Survey'!JZ55,'Youth Survey'!JZ56),\"\")","v":""},{"$f":"IFERROR(AVERAGE('Youth Survey'!KA49,'Youth Survey'!KA51,'Youth Survey'!KA55,'Youth Survey'!KA56),\"\")","v":""},{"$f":"IFERROR(AVERAGE('Youth Survey'!KB49,'Youth Survey'!KB51,'Youth Survey'!KB55,'Youth Survey'!KB56),\"\")","v":""},{"$f":"IFERROR(AVERAGE('Youth Survey'!KC49,'Youth Survey'!KC51,'Youth Survey'!KC55,'Youth Survey'!KC56),\"\")","v":""},{"$f":"IFERROR(AVERAGE('Youth Survey'!KD49,'Youth Survey'!KD51,'Youth Survey'!KD55,'Youth Survey'!KD56),\"\")","v":""},{"$f":"IFERROR(AVERAGE('Youth Survey'!KE49,'Youth Survey'!KE51,'Youth Survey'!KE55,'Youth Survey'!KE56),\"\")","v":""},{"$f":"IFERROR(AVERAGE('Youth Survey'!KF49,'Youth Survey'!KF51,'Youth Survey'!KF55,'Youth Survey'!KF56),\"\")","v":""},{"$f":"IFERROR(AVERAGE('Youth Survey'!KG49,'Youth Survey'!KG51,'Youth Survey'!KG55,'Youth Survey'!KG56),\"\")","v":""},{"$f":"IFERROR(AVERAGE('Youth Survey'!KH49,'Youth Survey'!KH51,'Youth Survey'!KH55,'Youth Survey'!KH56),\"\")","v":""},{"$f":"IFERROR(AVERAGE('Youth Survey'!KI49,'Youth Survey'!KI51,'Youth Survey'!KI55,'Youth Survey'!KI56),\"\")","v":""},{"$f":"IFERROR(AVERAGE('Youth Survey'!KJ49,'Youth Survey'!KJ51,'Youth Survey'!KJ55,'Youth Survey'!KJ56),\"\")","v":""},{"$f":"IFERROR(AVERAGE('Youth Survey'!KK49,'Youth Survey'!KK51,'Youth Survey'!KK55,'Youth Survey'!KK56),\"\")","v":""},{"$f":"IFERROR(AVERAGE('Youth Survey'!KL49,'Youth Survey'!KL51,'Youth Survey'!KL55,'Youth Survey'!KL56),\"\")","v":""},{"$f":"IFERROR(AVERAGE('Youth Survey'!KM49,'Youth Survey'!KM51,'Youth Survey'!KM55,'Youth Survey'!KM56),\"\")","v":""},{"$f":"IFERROR(AVERAGE('Youth Survey'!KN49,'Youth Survey'!KN51,'Youth Survey'!KN55,'Youth Survey'!KN56),\"\")","v":""},{"$f":"IFERROR(AVERAGE('Youth Survey'!KO49,'Youth Survey'!KO51,'Youth Survey'!KO55,'Youth Survey'!KO56),\"\")","v":""},{"$f":"IFERROR(AVERAGE('Youth Survey'!KP49,'Youth Survey'!KP51,'Youth Survey'!KP55,'Youth Survey'!KP56),\"\")","v":""},{"$f":"IFERROR(AVERAGE('Youth Survey'!KQ49,'Youth Survey'!KQ51,'Youth Survey'!KQ55,'Youth Survey'!KQ56),\"\")","v":""},{"$f":"IFERROR(AVERAGE('Youth Survey'!KR49,'Youth Survey'!KR51,'Youth Survey'!KR55,'Youth Survey'!KR56),\"\")","v":""},{"$f":"IFERROR(AVERAGE('Youth Survey'!KS49,'Youth Survey'!KS51,'Youth Survey'!KS55,'Youth Survey'!KS56),\"\")","v":""},{"$f":"IFERROR(AVERAGE('Youth Survey'!KT49,'Youth Survey'!KT51,'Youth Survey'!KT55,'Youth Survey'!KT56),\"\")","v":""},{"$f":"IFERROR(AVERAGE('Youth Survey'!KU49,'Youth Survey'!KU51,'Youth Survey'!KU55,'Youth Survey'!KU56),\"\")","v":""},{"$f":"IFERROR(AVERAGE('Youth Survey'!KV49,'Youth Survey'!KV51,'Youth Survey'!KV55,'Youth Survey'!KV56),\"\")","v":""},{"$f":"IFERROR(AVERAGE('Youth Survey'!KW49,'Youth Survey'!KW51,'Youth Survey'!KW55,'Youth Survey'!KW56),\"\")","v":""},{"$f":"IFERROR(AVERAGE('Youth Survey'!KX49,'Youth Survey'!KX51,'Youth Survey'!KX55,'Youth Survey'!KX56),\"\")","v":""},{"$f":"IFERROR(AVERAGE('Youth Survey'!KY49,'Youth Survey'!KY51,'Youth Survey'!KY55,'Youth Survey'!KY56),\"\")","v":""},{"$f":"IFERROR(AVERAGE('Youth Survey'!KZ49,'Youth Survey'!KZ51,'Youth Survey'!KZ55,'Youth Survey'!KZ56),\"\")","v":""},{"$f":"IFERROR(AVERAGE('Youth Survey'!LA49,'Youth Survey'!LA51,'Youth Survey'!LA55,'Youth Survey'!LA56),\"\")","v":""},{"$f":"IFERROR(AVERAGE('Youth Survey'!LB49,'Youth Survey'!LB51,'Youth Survey'!LB55,'Youth Survey'!LB56),\"\")","v":""},{"$f":"IFERROR(AVERAGE('Youth Survey'!LC49,'Youth Survey'!LC51,'Youth Survey'!LC55,'Youth Survey'!LC56),\"\")","v":""},{"$f":"IFERROR(AVERAGE('Youth Survey'!LD49,'Youth Survey'!LD51,'Youth Survey'!LD55,'Youth Survey'!LD56),\"\")","v":""},{"$f":"IFERROR(AVERAGE('Youth Survey'!LE49,'Youth Survey'!LE51,'Youth Survey'!LE55,'Youth Survey'!LE56),\"\")","v":""},{"$f":"IFERROR(AVERAGE('Youth Survey'!LF49,'Youth Survey'!LF51,'Youth Survey'!LF55,'Youth Survey'!LF56),\"\")","v":""}]
["Post","O17",null,{"$f":"IFERROR(AVERAGE('Youth Survey'!D43:D46),\"\")","v":""},{"$f":"IFERROR(AVERAGE('Youth Survey'!E43:E46),\"\")","v":""},{"$f":"IFERROR(AVERAGE('Youth Survey'!F43:F46),\"\")","v":""},{"$f":"IFERROR(AVERAGE('Youth Survey'!G43:G46),\"\")","v":""},{"$f":"IFERROR(AVERAGE('Youth Survey'!H43:H46),\"\")","v":""},{"$f":"IFERROR(AVERAGE('Youth Survey'!I43:I46),\"\")","v":""},{"$f":"IFERROR(AVERAGE('Youth Survey'!J43:J46),\"\")","v":""},{"$f":"IFERROR(AVERAGE('Youth Survey'!K43:K46),\"\")","v":""},{"$f":"IFERROR(AVERAGE('Youth Survey'!L43:L46),\"\")","v":""},{"$f":"IFERROR(AVERAGE('Youth Survey'!M43:M46),\"\")","v":""},{"$f":"IFERROR(AVERAGE('Youth Survey'!N43:N46),\"\")","v":""},{"$f":"IFERROR(AVERAGE('Youth Survey'!O43:O46),\"\")","v":""},{"$f":"IFERROR(AVERAGE('Youth Survey'!P43:P46),\"\")","v":""},{"$f":"IFERROR(AVERAGE('Youth Survey'!Q43:Q46),\"\")","v":""},{"$f":"IFERROR(AVERAGE('Youth Survey'!R43:R46),\"\")","v":""},{"$f":"IFERROR(AVERAGE('Youth Survey'!S43:S46),\"\")","v":""},{"$f":"IFERROR(AVERAGE('Youth Survey'!T43:T46),\"\")","v":""},{"$f":"IFERROR(AVERAGE('Youth Survey'!U43:U46),\"\")","v":""},{"$f":"IFERROR(AVERAGE('Youth Survey'!V43:V46),\"\")","v":""},{"$f":"IFERROR(AVERAGE('Youth Survey'!W43:W46),\"\")","v":""},{"$f":"IFERROR(AVERAGE('Youth Survey'!X43:X46),\"\")","v":""},{"$f":"IFERROR(AVERAGE('Youth Survey'!Y43:Y46),\"\")","v":""},{"$f":"IFERROR(AVERAGE('Youth Survey'!Z43:Z46),\"\")","v":""},{"$f":"IFERROR(AVERAGE('Youth Survey'!AA43:AA46),\"\")","v":""},{"$f":"IFERROR(AVERAGE('Youth Survey'!AB43:AB46),\"\")","v":""},{"$f":"IFERROR(AVERAGE('Youth Survey'!AC43:AC46),\"\")","v":""},{"$f":"IFERROR(AVERAGE('Youth Survey'!AD43:AD46),\"\")","v":""},{"$f":"IFERROR(AVERAGE('Youth Survey'!AE43:AE46),\"\")","v":""},{"$f":"IFERROR(AVERAGE('Youth Survey'!AF43:AF46),\"\")","v":""},{"$f":"IFERROR(AVERAGE('Youth Survey'!AG43:AG46),\"\")","v":""},{"$f":"IFERROR(AVERAGE('Youth Survey'!AH43:AH46),\"\")","v":""},{"$f":"IFERROR(AVERAGE('Youth Survey'!AI43:AI46),\"\")","v":""},{"$f":"IFERROR(AVERAGE('Youth Survey'!AJ43:AJ46),\"\")","v":""},{"$f":"IFERROR(AVERAGE('Youth Survey'!AK43:AK46),\"\")","v":""},{"$f":"IFERROR(AVERAGE('Youth Survey'!AL43:AL46),\"\")","v":""},{"$f":"IFERROR(AVERAGE('Youth Survey'!AM43:AM46),\"\")","v":""},{"$f":"IFERROR(AVERAGE('Youth Survey'!AN43:AN46),\"\")","v":""},{"$f":"IFERROR(AVERAGE('Youth Survey'!AO43:AO46),\"\")","v":""},{"$f":"IFERROR(AVERAGE('Youth Survey'!AP43:AP46),\"\")","v":""},{"$f":"IFERROR(AVERAGE('Youth Survey'!AQ43:AQ46),\"\")","v":""},{"$f":"IFERROR(AVERAGE('Youth Survey'!AR43:AR46),\"\")","v":""},{"$f":"IFERROR(AVERAGE('Youth Survey'!AS43:AS46),\"\")","v":""},{"$f":"IFERROR(AVERAGE('Youth Survey'!AT43:AT46),\"\")","v":""},{"$f":"IFERROR(AVERAGE('Youth Survey'!AU43:AU46),\"\")","v":""},{"$f":"IFERROR(AVERAGE('Youth Survey'!AV43:AV46),\"\")","v":""},{"$f":"IFERROR(AVERAGE('Youth Survey'!AW43:AW46),\"\")","v":""},{"$f":"IFERROR(AVERAGE('Youth Survey'!AX43:AX46),\"\")","v":""},{"$f":"IFERROR(AVERAGE('Youth Survey'!AY43:AY46),\"\")","v":""},{"$f":"IFERROR(AVERAGE('Youth Survey'!AZ43:AZ46),\"\")","v":""},{"$f":"IFERROR(AVERAGE('Youth Survey'!BA43:BA46),\"\")","v":""},{"$f":"IFERROR(AVERAGE('Youth Survey'!BB43:BB46),\"\")","v":""},{"$f":"IFERROR(AVERAGE('Youth Survey'!BC43:BC46),\"\")","v":""},{"$f":"IFERROR(AVERAGE('Youth Survey'!BD43:BD46),\"\")","v":""},{"$f":"IFERROR(AVERAGE('Youth Survey'!BE43:BE46),\"\")","v":""},{"$f":"IFERROR(AVERAGE('Youth Survey'!BF43:BF46),\"\")","v":""},{"$f":"IFERROR(AVERAGE('Youth Survey'!BG43:BG46),\"\")","v":""},{"$f":"IFERROR(AVERAGE('Youth Survey'!BH43:BH46),\"\")","v":""},{"$f":"IFERROR(AVERAGE('Youth Survey'!BI43:BI46),\"\")","v":""},{"$f":"IFERROR(AVERAGE('Youth Survey'!BJ43:BJ46),\"\")","v":""},{"$f":"IFERROR(AVERAGE('Youth Survey'!BK43:BK46),\"\")","v":""},{"$f":"IFERROR(AVERAGE('Youth Survey'!BL43:BL46),\"\")","v":""},{"$f":"IFERROR(AVERAGE('Youth Survey'!BM43:BM46),\"\")","v":""},{"$f":"IFERROR(AVERAGE('Youth Survey'!BN43:BN46),\"\")","v":""},{"$f":"IFERROR(AVERAGE('Youth Survey'!BO43:BO46),\"\")","v":""},{"$f":"IFERROR(AVERAGE('Youth Survey'!BP43:BP46),\"\")","v":""},{"$f":"IFERROR(AVERAGE('Youth Survey'!BQ43:BQ46),\"\")","v":""},{"$f":"IFERROR(AVERAGE('Youth Survey'!BR43:BR46),\"\")","v":""},{"$f":"IFERROR(AVERAGE('Youth Survey'!BS43:BS46),\"\")","v":""},{"$f":"IFERROR(AVERAGE('Youth Survey'!BT43:BT46),\"\")","v":""},{"$f":"IFERROR(AVERAGE('Youth Survey'!BU43:BU46),\"\")","v":""},{"$f":"IFERROR(AVERAGE('Youth Survey'!BV43:BV46),\"\")","v":""},{"$f":"IFERROR(AVERAGE('Youth Survey'!BW43:BW46),\"\")","v":""},{"$f":"IFERROR(AVERAGE('Youth Survey'!BX43:BX46),\"\")","v":""},{"$f":"IFERROR(AVERAGE('Youth Survey'!BY43:BY46),\"\")","v":""},{"$f":"IFERROR(AVERAGE('Youth Survey'!BZ43:BZ46),\"\")","v":""},{"$f":"IFERROR(AVERAGE('Youth Survey'!CA43:CA46),\"\")","v":""},{"$f":"IFERROR(AVERAGE('Youth Survey'!CB43:CB46),\"\")","v":""},{"$f":"IFERROR(AVERAGE('Youth Survey'!CC43:CC46),\"\")","v":""},{"$f":"IFERROR(AVERAGE('Youth Survey'!CD43:CD46),\"\")","v":""},{"$f":"IFERROR(AVERAGE('Youth Survey'!CE43:CE46),\"\")","v":""},{"$f":"IFERROR(AVERAGE('Youth Survey'!CF43:CF46),\"\")","v":""},{"$f":"IFERROR(AVERAGE('Youth Survey'!CG43:CG46),\"\")","v":""},{"$f":"IFERROR(AVERAGE('Youth Survey'!CH43:CH46),\"\")","v":""},{"$f":"IFERROR(AVERAGE('Youth Survey'!CI43:CI46),\"\")","v":""},{"$f":"IFERROR(AVERAGE('Youth Survey'!CJ43:CJ46),\"\")","v":""},{"$f":"IFERROR(AVERAGE('Youth Survey'!CK43:CK46),\"\")","v":""},{"$f":"IFERROR(AVERAGE('Youth Survey'!CL43:CL46),\"\")","v":""},{"$f":"IFERROR(AVERAGE('Youth Survey'!CM43:CM46),\"\")","v":""},{"$f":"IFERROR(AVERAGE('Youth Survey'!CN43:CN46),\"\")","v":""},{"$f":"IFERROR(AVERAGE('Youth Survey'!CO43:CO46),\"\")","v":""},{"$f":"IFERROR(AVERAGE('Youth Survey'!CP43:CP46),\"\")","v":""},{"$f":"IFERROR(AVERAGE('Youth Survey'!CQ43:CQ46),\"\")","v":""},{"$f":"IFERROR(AVERAGE('Youth Survey'!CR43:CR46),\"\")","v":""},{"$f":"IFERROR(AVERAGE('Youth Survey'!CS43:CS46),\"\")","v":""},{"$f":"IFERROR(AVERAGE('Youth Survey'!CT43:CT46),\"\")","v":""},{"$f":"IFERROR(AVERAGE('Youth Survey'!CU43:CU46),\"\")","v":""},{"$f":"IFERROR(AVERAGE('Youth Survey'!CV43:CV46),\"\")","v":""},{"$f":"IFERROR(AVERAGE('Youth Survey'!CW43:CW46),\"\")","v":""},{"$f":"IFERROR(AVERAGE('Youth Survey'!CX43:CX46),\"\")","v":""},{"$f":"IFERROR(AVERAGE('Youth Survey'!CY43:CY46),\"\")","v":""},{"$f":"IFERROR(AVERAGE('Youth Survey'!CZ43:CZ46),\"\")","v":""},{"$f":"IFERROR(AVERAGE('Youth Survey'!DA43:DA46),\"\")","v":""},{"$f":"IFERROR(AVERAGE('Youth Survey'!DB43:DB46),\"\")","v":""},{"$f":"IFERROR(AVERAGE('Youth Survey'!DC43:DC46),\"\")","v":""},{"$f":"IFERROR(AVERAGE('Youth Survey'!DD43:DD46),\"\")","v":""},{"$f":"IFERROR(AVERAGE('Youth Survey'!DE43:DE46),\"\")","v":""},{"$f":"IFERROR(AVERAGE('Youth Survey'!DF43:DF46),\"\")","v":""},{"$f":"IFERROR(AVERAGE('Youth Survey'!DG43:DG46),\"\")","v":""},{"$f":"IFERROR(AVERAGE('Youth Survey'!DH43:DH46),\"\")","v":""},{"$f":"IFERROR(AVERAGE('Youth Survey'!DI43:DI46),\"\")","v":""},{"$f":"IFERROR(AVERAGE('Youth Survey'!DJ43:DJ46),\"\")","v":""},{"$f":"IFERROR(AVERAGE('Youth Survey'!DK43:DK46),\"\")","v":""},{"$f":"IFERROR(AVERAGE('Youth Survey'!DL43:DL46),\"\")","v":""},{"$f":"IFERROR(AVERAGE('Youth Survey'!DM43:DM46),\"\")","v":""},{"$f":"IFERROR(AVERAGE('Youth Survey'!DN43:DN46),\"\")","v":""},{"$f":"IFERROR(AVERAGE('Youth Survey'!DO43:DO46),\"\")","v":""},{"$f":"IFERROR(AVERAGE('Youth Survey'!DP43:DP46),\"\")","v":""},{"$f":"IFERROR(AVERAGE('Youth Survey'!DQ43:DQ46),\"\")","v":""},{"$f":"IFERROR(AVERAGE('Youth Survey'!DR43:DR46),\"\")","v":""},{"$f":"IFERROR(AVERAGE('Youth Survey'!DS43:DS46),\"\")","v":""},{"$f":"IFERROR(AVERAGE('Youth Survey'!DT43:DT46),\"\")","v":""},{"$f":"IFERROR(AVERAGE('Youth Survey'!DU43:DU46),\"\")","v":""},{"$f":"IFERROR(AVERAGE('Youth Survey'!DV43:DV46),\"\")","v":""},{"$f":"IFERROR(AVERAGE('Youth Survey'!DW43:DW46),\"\")","v":""},{"$f":"IFERROR(AVERAGE('Youth Survey'!DX43:DX46),\"\")","v":""},{"$f":"IFERROR(AVERAGE('Youth Survey'!DY43:DY46),\"\")","v":""},{"$f":"IFERROR(AVERAGE('Youth Survey'!DZ43:DZ46),\"\")","v":""},{"$f":"IFERROR(AVERAGE('Youth Survey'!EA43:EA46),\"\")","v":""},{"$f":"IFERROR(AVERAGE('Youth Survey'!EB43:EB46),\"\")","v":""},{"$f":"IFERROR(AVERAGE('Youth Survey'!EC43:EC46),\"\")","v":""},{"$f":"IFERROR(AVERAGE('Youth Survey'!ED43:ED46),\"\")","v":""},{"$f":"IFERROR(AVERAGE('Youth Survey'!EE43:EE46),\"\")","v":""},{"$f":"IFERROR(AVERAGE('Youth Survey'!EF43:EF46),\"\")","v":""},{"$f":"IFERROR(AVERAGE('Youth Survey'!EG43:EG46),\"\")","v":""},{"$f":"IFERROR(AVERAGE('Youth Survey'!EH43:EH46),\"\")","v":""},{"$f":"IFERROR(AVERAGE('Youth Survey'!EI43:EI46),\"\")","v":""},{"$f":"IFERROR(AVERAGE('Youth Survey'!EJ43:EJ46),\"\")","v":""},{"$f":"IFERROR(AVERAGE('Youth Survey'!EK43:EK46),\"\")","v":""},{"$f":"IFERROR(AVERAGE('Youth Survey'!EL43:EL46),\"\")","v":""},{"$f":"IFERROR(AVERAGE('Youth Survey'!EM43:EM46),\"\")","v":""},{"$f":"IFERROR(AVERAGE('Youth Survey'!EN43:EN46),\"\")","v":""},{"$f":"IFERROR(AVERAGE('Youth Survey'!EO43:EO46),\"\")","v":""},{"$f":"IFERROR(AVERAGE('Youth Survey'!EP43:EP46),\"\")","v":""},{"$f":"IFERROR(AVERAGE('Youth Survey'!EQ43:EQ46),\"\")","v":""},{"$f":"IFERROR(AVERAGE('Youth Survey'!ER43:ER46),\"\")","v":""},{"$f":"IFERROR(AVERAGE('Youth Survey'!ES43:ES46),\"\")","v":""},{"$f":"IFERROR(AVERAGE('Youth Survey'!ET43:ET46),\"\")","v":""},{"$f":"IFERROR(AVERAGE('Youth Survey'!EU43:EU46),\"\")","v":""},{"$f":"IFERROR(AVERAGE('Youth Survey'!EV43:EV46),\"\")","v":""},{"$f":"IFERROR(AVERAGE('Youth Survey'!EW43:EW46),\"\")","v":""},{"$f":"IFERROR(AVERAGE('Youth Survey'!EX43:EX46),\"\")","v":""},{"$f":"IFERROR(AVERAGE('Youth Survey'!EY43:EY46),\"\")","v":""},{"$f":"IFERROR(AVERAGE('Youth Survey'!EZ43:EZ46),\"\")","v":""},{"$f":"IFERROR(AVERAGE('Youth Survey'!FA43:FA46),\"\")","v":""},{"$f":"IFERROR(AVERAGE('Youth Survey'!FB43:FB46),\"\")","v":""},{"$f":"IFERROR(AVERAGE('Youth Survey'!FC43:FC46),\"\")","v":""},{"$f":"IFERROR(AVERAGE('Youth Survey'!FD43:FD46),\"\")","v":""},{"$f":"IFERROR(AVERAGE('Youth Survey'!FE43:FE46),\"\")","v":""},{"$f":"IFERROR(AVERAGE('Youth Survey'!FF43:FF46),\"\")","v":""},{"$f":"IFERROR(AVERAGE('Youth Survey'!FG43:FG46),\"\")","v":""},{"$f":"IFERROR(AVERAGE('Youth Survey'!FH43:FH46),\"\")","v":""},{"$f":"IFERROR(AVERAGE('Youth Survey'!FI43:FI46),\"\")","v":""},{"$f":"IFERROR(AVERAGE('Youth Survey'!FJ43:FJ46),\"\")","v":""},{"$f":"IFERROR(AVERAGE('Youth Survey'!FK43:FK46),\"\")","v":""},{"$f":"IFERROR(AVERAGE('Youth Survey'!FL43:FL46),\"\")","v":""},{"$f":"IFERROR(AVERAGE('Youth Survey'!FM43:FM46),\"\")","v":""},{"$f":"IFERROR(AVERAGE('Youth Survey'!FN43:FN46),\"\")","v":""},{"$f":"IFERROR(AVERAGE('Youth Survey'!FO43:FO46),\"\")","v":""},{"$f":"IFERROR(AVERAGE('Youth Survey'!FP43:FP46),\"\")","v":""},{"$f":"IFERROR(AVERAGE('Youth Survey'!FQ43:FQ46),\"\")","v":""},{"$f":"IFERROR(AVERAGE('Youth Survey'!FR43:FR46),\"\")","v":""},{"$f":"IFERROR(AVERAGE('Youth Survey'!FS43:FS46),\"\")","v":""},{"$f":"IFERROR(AVERAGE('Youth Survey'!FT43:FT46),\"\")","v":""},{"$f":"IFERROR(AVERAGE('Youth Survey'!FU43:FU46),\"\")","v":""},{"$f":"IFERROR(AVERAGE('Youth Survey'!FV43:FV46),\"\")","v":""},{"$f":"IFERROR(AVERAGE('Youth Survey'!FW43:FW46),\"\")","v":""},{"$f":"IFERROR(AVERAGE('Youth Survey'!FX43:FX46),\"\")","v":""},{"$f":"IFERROR(AVERAGE('Youth Survey'!FY43:FY46),\"\")","v":""},{"$f":"IFERROR(AVERAGE('Youth Survey'!FZ43:FZ46),\"\")","v":""},{"$f":"IFERROR(AVERAGE('Youth Survey'!GA43:GA46),\"\")","v":""},{"$f":"IFERROR(AVERAGE('Youth Survey'!GB43:GB46),\"\")","v":""},{"$f":"IFERROR(AVERAGE('Youth Survey'!GC43:GC46),\"\")","v":""},{"$f":"IFERROR(AVERAGE('Youth Survey'!GD43:GD46),\"\")","v":""},{"$f":"IFERROR(AVERAGE('Youth Survey'!GE43:GE46),\"\")","v":""},{"$f":"IFERROR(AVERAGE('Youth Survey'!GF43:GF46),\"\")","v":""},{"$f":"IFERROR(AVERAGE('Youth Survey'!GG43:GG46),\"\")","v":""},{"$f":"IFERROR(AVERAGE('Youth Survey'!GH43:GH46),\"\")","v":""},{"$f":"IFERROR(AVERAGE('Youth Survey'!GI43:GI46),\"\")","v":""},{"$f":"IFERROR(AVERAGE('Youth Survey'!GJ43:GJ46),\"\")","v":""},{"$f":"IFERROR(AVERAGE('Youth Survey'!GK43:GK46),\"\")","v":""},{"$f":"IFERROR(AVERAGE('Youth Survey'!GL43:GL46),\"\")","v":""},{"$f":"IFERROR(AVERAGE('Youth Survey'!GM43:GM46),\"\")","v":""},{"$f":"IFERROR(AVERAGE('Youth Survey'!GN43:GN46),\"\")","v":""},{"$f":"IFERROR(AVERAGE('Youth Survey'!GO43:GO46),\"\")","v":""},{"$f":"IFERROR(AVERAGE('Youth Survey'!GP43:GP46),\"\")","v":""},{"$f":"IFERROR(AVERAGE('Youth Survey'!GQ43:GQ46),\"\")","v":""},{"$f":"IFERROR(AVERAGE('Youth Survey'!GR43:GR46),\"\")","v":""},{"$f":"IFERROR(AVERAGE('Youth Survey'!GS43:GS46),\"\")","v":""},{"$f":"IFERROR(AVERAGE('Youth Survey'!GT43:GT46),\"\")","v":""},{"$f":"IFERROR(AVERAGE('Youth Survey'!GU43:GU46),\"\")","v":""},{"$f":"IFERROR(AVERAGE('Youth Survey'!GV43:GV46),\"\")","v":""},{"$f":"IFERROR(AVERAGE('Youth Survey'!GW43:GW46),\"\")","v":""},{"$f":"IFERROR(AVERAGE('Youth Survey'!GX43:GX46),\"\")","v":""},{"$f":"IFERROR(AVERAGE('Youth Survey'!GY43:GY46),\"\")","v":""},{"$f":"IFERROR(AVERAGE('Youth Survey'!GZ43:GZ46),\"\")","v":""},{"$f":"IFERROR(AVERAGE('Youth Survey'!HA43:HA46),\"\")","v":""},{"$f":"IFERROR(AVERAGE('Youth Survey'!HB43:HB46),\"\")","v":""},{"$f":"IFERROR(AVERAGE('Youth Survey'!HC43:HC46),\"\")","v":""},{"$f":"IFERROR(AVERAGE('Youth Survey'!HD43:HD46),\"\")","v":""},{"$f":"IFERROR(AVERAGE('Youth Survey'!HE43:HE46),\"\")","v":""},{"$f":"IFERROR(AVERAGE('Youth Survey'!HF43:HF46),\"\")","v":""},{"$f":"IFERROR(AVERAGE('Youth Survey'!HG43:HG46),\"\")","v":""},{"$f":"IFERROR(AVERAGE('Youth Survey'!HH43:HH46),\"\")","v":""},{"$f":"IFERROR(AVERAGE('Youth Survey'!HI43:HI46),\"\")","v":""},{"$f":"IFERROR(AVERAGE('Youth Survey'!HJ43:HJ46),\"\")","v":""},{"$f":"IFERROR(AVERAGE('Youth Survey'!HK43:HK46),\"\")","v":""},{"$f":"IFERROR(AVERAGE('Youth Survey'!HL43:HL46),\"\")","v":""},{"$f":"IFERROR(AVERAGE('Youth Survey'!HM43:HM46),\"\")","v":""},{"$f":"IFERROR(AVERAGE('Youth Survey'!HN43:HN46),\"\")","v":""},{"$f":"IFERROR(AVERAGE('Youth Survey'!HO43:HO46),\"\")","v":""},{"$f":"IFERROR(AVERAGE('Youth Survey'!HP43:HP46),\"\")","v":""},{"$f":"IFERROR(AVERAGE('Youth Survey'!HQ43:HQ46),\"\")","v":""},{"$f":"IFERROR(AVERAGE('Youth Survey'!HR43:HR46),\"\")","v":""},{"$f":"IFERROR(AVERAGE('Youth Survey'!HS43:HS46),\"\")","v":""},{"$f":"IFERROR(AVERAGE('Youth Survey'!HT43:HT46),\"\")","v":""},{"$f":"IFERROR(AVERAGE('Youth Survey'!HU43:HU46),\"\")","v":""},{"$f":"IFERROR(AVERAGE('Youth Survey'!HV43:HV46),\"\")","v":""},{"$f":"IFERROR(AVERAGE('Youth Survey'!HW43:HW46),\"\")","v":""},{"$f":"IFERROR(AVERAGE('Youth Survey'!HX43:HX46),\"\")","v":""},{"$f":"IFERROR(AVERAGE('Youth Survey'!HY43:HY46),\"\")","v":""},{"$f":"IFERROR(AVERAGE('Youth Survey'!HZ43:HZ46),\"\")","v":""},{"$f":"IFERROR(AVERAGE('Youth Survey'!IA43:IA46),\"\")","v":""},{"$f":"IFERROR(AVERAGE('Youth Survey'!IB43:IB46),\"\")","v":""},{"$f":"IFERROR(AVERAGE('Youth Survey'!IC43:IC46),\"\")","v":""},{"$f":"IFERROR(AVERAGE('Youth Survey'!ID43:ID46),\"\")","v":""},{"$f":"IFERROR(AVERAGE('Youth Survey'!IE43:IE46),\"\")","v":""},{"$f":"IFERROR(AVERAGE('Youth Survey'!IF43:IF46),\"\")","v":""},{"$f":"IFERROR(AVERAGE('Youth Survey'!IG43:IG46),\"\")","v":""},{"$f":"IFERROR(AVERAGE('Youth Survey'!IH43:IH46),\"\")","v":""},{"$f":"IFERROR(AVERAGE('Youth Survey'!II43:II46),\"\")","v":""},{"$f":"IFERROR(AVERAGE('Youth Survey'!IJ43:IJ46),\"\")","v":""},{"$f":"IFERROR(AVERAGE('Youth Survey'!IK43:IK46),\"\")","v":""},{"$f":"IFERROR(AVERAGE('Youth Survey'!IL43:IL46),\"\")","v":""},{"$f":"IFERROR(AVERAGE('Youth Survey'!IM43:IM46),\"\")","v":""},{"$f":"IFERROR(AVERAGE('Youth Survey'!IN43:IN46),\"\")","v":""},{"$f":"IFERROR(AVERAGE('Youth Survey'!IO43:IO46),\"\")","v":""},{"$f":"IFERROR(AVERAGE('Youth Survey'!IP43:IP46),\"\")","v":""},{"$f":"IFERROR(AVERAGE('Youth Survey'!IQ43:IQ46),\"\")","v":""},{"$f":"IFERROR(AVERAGE('Youth Survey'!IR43:IR46),\"\")","v":""},{"$f":"IFERROR(AVERAGE('Youth Survey'!IS43:IS46),\"\")","v":""},{"$f":"IFERROR(AVERAGE('Youth Survey'!IT43:IT46),\"\")","v":""},{"$f":"IFERROR(AVERAGE('Youth Survey'!IU43:IU46),\"\")","v":""},{"$f":"IFERROR(AVERAGE('Youth Survey'!IV43:IV46),\"\")","v":""},{"$f":"IFERROR(AVERAGE('Youth Survey'!IW43:IW46),\"\")","v":""},{"$f":"IFERROR(AVERAGE('Youth Survey'!IX43:IX46),\"\")","v":""},{"$f":"IFERROR(AVERAGE('Youth Survey'!IY43:IY46),\"\")","v":""},{"$f":"IFERROR(AVERAGE('Youth Survey'!IZ43:IZ46),\"\")","v":""},{"$f":"IFERROR(AVERAGE('Youth Survey'!JA43:JA46),\"\")","v":""},{"$f":"IFERROR(AVERAGE('Youth Survey'!JB43:JB46),\"\")","v":""},{"$f":"IFERROR(AVERAGE('Youth Survey'!JC43:JC46),\"\")","v":""},{"$f":"IFERROR(AVERAGE('Youth Survey'!JD43:JD46),\"\")","v":""},{"$f":"IFERROR(AVERAGE('Youth Survey'!JE43:JE46),\"\")","v":""},{"$f":"IFERROR(AVERAGE('Youth Survey'!JF43:JF46),\"\")","v":""},{"$f":"IFERROR(AVERAGE('Youth Survey'!JG43:JG46),\"\")","v":""},{"$f":"IFERROR(AVERAGE('Youth Survey'!JH43:JH46),\"\")","v":""},{"$f":"IFERROR(AVERAGE('Youth Survey'!JI43:JI46),\"\")","v":""},{"$f":"IFERROR(AVERAGE('Youth Survey'!JJ43:JJ46),\"\")","v":""},{"$f":"IFERROR(AVERAGE('Youth Survey'!JK43:JK46),\"\")","v":""},{"$f":"IFERROR(AVERAGE('Youth Survey'!JL43:JL46),\"\")","v":""},{"$f":"IFERROR(AVERAGE('Youth Survey'!JM43:JM46),\"\")","v":""},{"$f":"IFERROR(AVERAGE('Youth Survey'!JN43:JN46),\"\")","v":""},{"$f":"IFERROR(AVERAGE('Youth Survey'!JO43:JO46),\"\")","v":""},{"$f":"IFERROR(AVERAGE('Youth Survey'!JP43:JP46),\"\")","v":""},{"$f":"IFERROR(AVERAGE('Youth Survey'!JQ43:JQ46),\"\")","v":""},{"$f":"IFERROR(AVERAGE('Youth Survey'!JR43:JR46),\"\")","v":""},{"$f":"IFERROR(AVERAGE('Youth Survey'!JS43:JS46),\"\")","v":""},{"$f":"IFERROR(AVERAGE('Youth Survey'!JT43:JT46),\"\")","v":""},{"$f":"IFERROR(AVERAGE('Youth Survey'!JU43:JU46),\"\")","v":""},{"$f":"IFERROR(AVERAGE('Youth Survey'!JV43:JV46),\"\")","v":""},{"$f":"IFERROR(AVERAGE('Youth Survey'!JW43:JW46),\"\")","v":""},{"$f":"IFERROR(AVERAGE('Youth Survey'!JX43:JX46),\"\")","v":""},{"$f":"IFERROR(AVERAGE('Youth Survey'!JY43:JY46),\"\")","v":""},{"$f":"IFERROR(AVERAGE('Youth Survey'!JZ43:JZ46),\"\")","v":""},{"$f":"IFERROR(AVERAGE('Youth Survey'!KA43:KA46),\"\")","v":""},{"$f":"IFERROR(AVERAGE('Youth Survey'!KB43:KB46),\"\")","v":""},{"$f":"IFERROR(AVERAGE('Youth Survey'!KC43:KC46),\"\")","v":""},{"$f":"IFERROR(AVERAGE('Youth Survey'!KD43:KD46),\"\")","v":""},{"$f":"IFERROR(AVERAGE('Youth Survey'!KE43:KE46),\"\")","v":""},{"$f":"IFERROR(AVERAGE('Youth Survey'!KF43:KF46),\"\")","v":""},{"$f":"IFERROR(AVERAGE('Youth Survey'!KG43:KG46),\"\")","v":""},{"$f":"IFERROR(AVERAGE('Youth Survey'!KH43:KH46),\"\")","v":""},{"$f":"IFERROR(AVERAGE('Youth Survey'!KI43:KI46),\"\")","v":""},{"$f":"IFERROR(AVERAGE('Youth Survey'!KJ43:KJ46),\"\")","v":""},{"$f":"IFERROR(AVERAGE('Youth Survey'!KK43:KK46),\"\")","v":""},{"$f":"IFERROR(AVERAGE('Youth Survey'!KL43:KL46),\"\")","v":""},{"$f":"IFERROR(AVERAGE('Youth Survey'!KM43:KM46),\"\")","v":""},{"$f":"IFERROR(AVERAGE('Youth Survey'!KN43:KN46),\"\")","v":""},{"$f":"IFERROR(AVERAGE('Youth Survey'!KO43:KO46),\"\")","v":""},{"$f":"IFERROR(AVERAGE('Youth Survey'!KP43:KP46),\"\")","v":""},{"$f":"IFERROR(AVERAGE('Youth Survey'!KQ43:KQ46),\"\")","v":""},{"$f":"IFERROR(AVERAGE('Youth Survey'!KR43:KR46),\"\")","v":""},{"$f":"IFERROR(AVERAGE('Youth Survey'!KS43:KS46),\"\")","v":""},{"$f":"IFERROR(AVERAGE('Youth Survey'!KT43:KT46),\"\")","v":""},{"$f":"IFERROR(AVERAGE('Youth Survey'!KU43:KU46),\"\")","v":""},{"$f":"IFERROR(AVERAGE('Youth Survey'!KV43:KV46),\"\")","v":""},{"$f":"IFERROR(AVERAGE('Youth Survey'!KW43:KW46),\"\")","v":""},{"$f":"IFERROR(AVERAGE('Youth Survey'!KX43:KX46),\"\")","v":""},{"$f":"IFERROR(AVERAGE('Youth Survey'!KY43:KY46),\"\")","v":""},{"$f":"IFERROR(AVERAGE('Youth Survey'!KZ43:KZ46),\"\")","v":""},{"$f":"IFERROR(AVERAGE('Youth Survey'!LA43:LA46),\"\")","v":""},{"$f":"IFERROR(AVERAGE('Youth Survey'!LB43:LB46),\"\")","v":""},{"$f":"IFERROR(AVERAGE('Youth Survey'!LC43:LC46),\"\")","v":""},{"$f":"IFERROR(AVERAGE('Youth Survey'!LD43:LD46),\"\")","v":""},{"$f":"IFERROR(AVERAGE('Youth Survey'!LE43:LE46),\"\")","v":""},{"$f":"IFERROR(AVERAGE('Youth Survey'!LF43:LF46),\"\")","v":""}]
[]
["Youth Completed Pre/Post by Quarter #? (1,2,3,4=Yes, 0=No)",null,null,{"$f":"'Youth Survey'!D108","v":0},{"$f":"'Youth Survey'!E108","v":0},{"$f":"'Youth Survey'!F108","v":0},{"$f":"'Youth Survey'!G108","v":0},{"$f":"'Youth Survey'!H108","v":0},{"$f":"'Youth Survey'!I108","v":0},{"$f":"'Youth Survey'!J108","v":0},{"$f":"'Youth Survey'!K108","v":0},{"$f":"'Youth Survey'!L108","v":0},{"$f":"'Youth Survey'!M108","v":0},{"$f":"'Youth Survey'!N108","v":0},{"$f":"'Youth Survey'!O108","v":0},{"$f":"'Youth Survey'!P108","v":0},{"$f":"'Youth Survey'!Q108","v":0},{"$f":"'Youth Survey'!R108","v":0},{"$f":"'Youth Survey'!S108","v":0},{"$f":"'Youth Survey'!T108","v":0},{"$f":"'Youth Survey'!U108","v":0},{"$f":"'Youth Survey'!V108","v":0},{"$f":"'Youth Survey'!W108","v":0},{"$f":"'Youth Survey'!X108","v":0},{"$f":"'Youth Survey'!Y108","v":0},{"$f":"'Youth Survey'!Z108","v":0},{"$f":"'Youth Survey'!AA108","v":0},{"$f":"'Youth Survey'!AB108","v":0},{"$f":"'Youth Survey'!AC108","v":0},{"$f":"'Youth Survey'!AD108","v":0},{"$f":"'Youth Survey'!AE108","v":0},{"$f":"'Youth Survey'!AF108","v":0},{"$f":"'Youth Survey'!AG108","v":0},{"$f":"'Youth Survey'!AH108","v":0},{"$f":"'Youth Survey'!AI108","v":0},{"$f":"'Youth Survey'!AJ108","v":0},{"$f":"'Youth Survey'!AK108","v":0},{"$f":"'Youth Survey'!AL108","v":0},{"$f":"'Youth Survey'!AM108","v":0},{"$f":"'Youth Survey'!AN108","v":0},{"$f":"'Youth Survey'!AO108","v":0},{"$f":"'Youth Survey'!AP108","v":0},{"$f":"'Youth Survey'!AQ108","v":0},{"$f":"'Youth Survey'!AR108","v":0},{"$f":"'Youth Survey'!AS108","v":0},{"$f":"'Youth Survey'!AT108","v":0},{"$f":"'Youth Survey'!AU108","v":0},{"$f":"'Youth Survey'!AV108","v":0},{"$f":"'Youth Survey'!AW108","v":0},{"$f":"'Youth Survey'!AX108","v":0},{"$f":"'Youth Survey'!AY108","v":0},{"$f":"'Youth Survey'!AZ108","v":0},{"$f":"'Youth Survey'!BA108","v":0},{"$f":"'Youth Survey'!BB108","v":0},{"$f":"'Youth Survey'!BC108","v":0},{"$f":"'Youth Survey'!BD108","v":0},{"$f":"'Youth Survey'!BE108","v":0},{"$f":"'Youth Survey'!BF108","v":0},{"$f":"'Youth Survey'!BG108","v":0},{"$f":"'Youth Survey'!BH108","v":0},{"$f":"'Youth Survey'!BI108","v":0},{"$f":"'Youth Survey'!BJ108","v":0},{"$f":"'Youth Survey'!BK108","v":0},{"$f":"'Youth Survey'!BL108","v":0},{"$f":"'Youth Survey'!BM108","v":0},{"$f":"'Youth Survey'!BN108","v":0},{"$f":"'Youth Survey'!BO108","v":0},{"$f":"'Youth Survey'!BP108","v":0},{"$f":"'Youth Survey'!BQ108","v":0},{"$f":"'Youth Survey'!BR108","v":0},{"$f":"'Youth Survey'!BS108","v":0},{"$f":"'Youth Survey'!BT108","v":0},{"$f":"'Youth Survey'!BU108","v":0},{"$f":"'Youth Survey'!BV108","v":0},{"$f":"'Youth Survey'!BW108","v":0},{"$f":"'Youth Survey'!BX108","v":0},{"$f":"'Youth Survey'!BY108","v":0},{"$f":"'Youth Survey'!BZ108","v":0},{"$f":"'Youth Survey'!CA108","v":0},{"$f":"'Youth Survey'!CB108","v":0},{"$f":"'Youth Survey'!CC108","v":0},{"$f":"'Youth Survey'!CD108","v":0},{"$f":"'Youth Survey'!CE108","v":0},{"$f":"'Youth Survey'!CF108","v":0},{"$f":"'Youth Survey'!CG108","v":0},{"$f":"'Youth Survey'!CH108","v":0},{"$f":"'Youth Survey'!CI108","v":0},{"$f":"'Youth Survey'!CJ108","v":0},{"$f":"'Youth Survey'!CK108","v":0},{"$f":"'Youth Survey'!CL108","v":0},{"$f":"'Youth Survey'!CM108","v":0},{"$f":"'Youth Survey'!CN108","v":0},{"$f":"'Youth Survey'!CO108","v":0},{"$f":"'Youth Survey'!CP108","v":0},{"$f":"'Youth Survey'!CQ108","v":0},{"$f":"'Youth Survey'!CR108","v":0},{"$f":"'Youth Survey'!CS108","v":0},{"$f":"'Youth Survey'!CT108","v":0},{"$f":"'Youth Survey'!CU108","v":0},{"$f":"'Youth Survey'!CV108","v":0},{"$f":"'Youth Survey'!CW108","v":0},{"$f":"'Youth Survey'!CX108","v":0},{"$f":"'Youth Survey'!CY108","v":0},{"$f":"'Youth Survey'!CZ108","v":0},{"$f":"'Youth Survey'!DA108","v":0},{"$f":"'Youth Survey'!DB108","v":0},{"$f":"'Youth Survey'!DC108","v":0},{"$f":"'Youth Survey'!DD108","v":0},{"$f":"'Youth Survey'!DE108","v":0},{"$f":"'Youth Survey'!DF108","v":0},{"$f":"'Youth Survey'!DG108","v":0},{"$f":"'Youth Survey'!DH108","v":0},{"$f":"'Youth Survey'!DI108","v":0},{"$f":"'Youth Survey'!DJ108","v":0},{"$f":"'Youth Survey'!DK108","v":0},{"$f":"'Youth Survey'!DL108","v":0},{"$f":"'Youth Survey'!DM108","v":0},{"$f":"'Youth Survey'!DN108","v":0},{"$f":"'Youth Survey'!DO108","v":0},{"$f":"'Youth Survey'!DP108","v":0},{"$f":"'Youth Survey'!DQ108","v":0},{"$f":"'Youth Survey'!DR108","v":0},{"$f":"'Youth Survey'!DS108","v":0},{"$f":"'Youth Survey'!DT108","v":0},{"$f":"'Youth Survey'!DU108","v":0},{"$f":"'Youth Survey'!DV108","v":0},{"$f":"'Youth Survey'!DW108","v":0},{"$f":"'Youth Survey'!DX108","v":0},{"$f":"'Youth Survey'!DY108","v":0},{"$f":"'Youth Survey'!DZ108","v":0},{"$f":"'Youth Survey'!EA108","v":0},{"$f":"'Youth Survey'!EB108","v":0},{"$f":"'Youth Survey'!EC108","v":0},{"$f":"'Youth Survey'!ED108","v":0},{"$f":"'Youth Survey'!EE108","v":0},{"$f":"'Youth Survey'!EF108","v":0},{"$f":"'Youth Survey'!EG108","v":0},{"$f":"'Youth Survey'!EH108","v":0},{"$f":"'Youth Survey'!EI108","v":0},{"$f":"'Youth Survey'!EJ108","v":0},{"$f":"'Youth Survey'!EK108","v":0},{"$f":"'Youth Survey'!EL108","v":0},{"$f":"'Youth Survey'!EM108","v":0},{"$f":"'Youth Survey'!EN108","v":0},{"$f":"'Youth Survey'!EO108","v":0},{"$f":"'Youth Survey'!EP108","v":0},{"$f":"'Youth Survey'!EQ108","v":0},{"$f":"'Youth Survey'!ER108","v":0},{"$f":"'Youth Survey'!ES108","v":0},{"$f":"'Youth Survey'!ET108","v":0},{"$f":"'Youth Survey'!EU108","v":0},{"$f":"'Youth Survey'!EV108","v":0},{"$f":"'Youth Survey'!EW108","v":0},{"$f":"'Youth Survey'!EX108","v":0},{"$f":"'Youth Survey'!EY108","v":0},{"$f":"'Youth Survey'!EZ108","v":0},{"$f":"'Youth Survey'!FA108","v":0},{"$f":"'Youth Survey'!FB108","v":0},{"$f":"'Youth Survey'!FC108","v":0},{"$f":"'Youth Survey'!FD108","v":0},{"$f":"'Youth Survey'!FE108","v":0},{"$f":"'Youth Survey'!FF108","v":0},{"$f":"'Youth Survey'!FG108","v":0},{"$f":"'Youth Survey'!FH108","v":0},{"$f":"'Youth Survey'!FI108","v":0},{"$f":"'Youth Survey'!FJ108","v":0},{"$f":"'Youth Survey'!FK108","v":0},{"$f":"'Youth Survey'!FL108","v":0},{"$f":"'Youth Survey'!FM108","v":0},{"$f":"'Youth Survey'!FN108","v":0},{"$f":"'Youth Survey'!FO108","v":0},{"$f":"'Youth Survey'!FP108","v":0},{"$f":"'Youth Survey'!FQ108","v":0},{"$f":"'Youth Survey'!FR108","v":0},{"$f":"'Youth Survey'!FS108","v":0},{"$f":"'Youth Survey'!FT108","v":0},{"$f":"'Youth Survey'!FU108","v":0},{"$f":"'Youth Survey'!FV108","v":0},{"$f":"'Youth Survey'!FW108","v":0},{"$f":"'Youth Survey'!FX108","v":0},{"$f":"'Youth Survey'!FY108","v":0},{"$f":"'Youth Survey'!FZ108","v":0},{"$f":"'Youth Survey'!GA108","v":0},{"$f":"'Youth Survey'!GB108","v":0},{"$f":"'Youth Survey'!GC108","v":0},{"$f":"'Youth Survey'!GD108","v":0},{"$f":"'Youth Survey'!GE108","v":0},{"$f":"'Youth Survey'!GF108","v":0},{"$f":"'Youth Survey'!GG108","v":0},{"$f":"'Youth Survey'!GH108","v":0},{"$f":"'Youth Survey'!GI108","v":0},{"$f":"'Youth Survey'!GJ108","v":0},{"$f":"'Youth Survey'!GK108","v":0},{"$f":"'Youth Survey'!GL108","v":0},{"$f":"'Youth Survey'!GM108","v":0},{"$f":"'Youth Survey'!GN108","v":0},{"$f":"'Youth Survey'!GO108","v":0},{"$f":"'Youth Survey'!GP108","v":0},{"$f":"'Youth Survey'!GQ108","v":0},{"$f":"'Youth Survey'!GR108","v":0},{"$f":"'Youth Survey'!GS108","v":0},{"$f":"'Youth Survey'!GT108","v":0},{"$f":"'Youth Survey'!GU108","v":0},{"$f":"'Youth Survey'!GV108","v":0},{"$f":"'Youth Survey'!GW108","v":0},{"$f":"'Youth Survey'!GX108","v":0},{"$f":"'Youth Survey'!GY108","v":0},{"$f":"'Youth Survey'!GZ108","v":0},{"$f":"'Youth Survey'!HA108","v":0},{"$f":"'Youth Survey'!HB108","v":0},{"$f":"'Youth Survey'!HC108","v":0},{"$f":"'Youth Survey'!HD108","v":0},{"$f":"'Youth Survey'!HE108","v":0},{"$f":"'Youth Survey'!HF108","v":0},{"$f":"'Youth Survey'!HG108","v":0},{"$f":"'Youth Survey'!HH108","v":0},{"$f":"'Youth Survey'!HI108","v":0},{"$f":"'Youth Survey'!HJ108","v":0},{"$f":"'Youth Survey'!HK108","v":0},{"$f":"'Youth Survey'!HL108","v":0},{"$f":"'Youth Survey'!HM108","v":0},{"$f":"'Youth Survey'!HN108","v":0},{"$f":"'Youth Survey'!HO108","v":0},{"$f":"'Youth Survey'!HP108","v":0},{"$f":"'Youth Survey'!HQ108","v":0},{"$f":"'Youth Survey'!HR108","v":0},{"$f":"'Youth Survey'!HS108","v":0},{"$f":"'Youth Survey'!HT108","v":0},{"$f":"'Youth Survey'!HU108","v":0},{"$f":"'Youth Survey'!HV108","v":0},{"$f":"'Youth Survey'!HW108","v":0},{"$f":"'Youth Survey'!HX108","v":0},{"$f":"'Youth Survey'!HY108","v":0},{"$f":"'Youth Survey'!HZ108","v":0},{"$f":"'Youth Survey'!IA108","v":0},{"$f":"'Youth Survey'!IB108","v":0},{"$f":"'Youth Survey'!IC108","v":0},{"$f":"'Youth Survey'!ID108","v":0},{"$f":"'Youth Survey'!IE108","v":0},{"$f":"'Youth Survey'!IF108","v":0},{"$f":"'Youth Survey'!IG108","v":0},{"$f":"'Youth Survey'!IH108","v":0},{"$f":"'Youth Survey'!II108","v":0},{"$f":"'Youth Survey'!IJ108","v":0},{"$f":"'Youth Survey'!IK108","v":0},{"$f":"'Youth Survey'!IL108","v":0},{"$f":"'Youth Survey'!IM108","v":0},{"$f":"'Youth Survey'!IN108","v":0},{"$f":"'Youth Survey'!IO108","v":0},{"$f":"'Youth Survey'!IP108","v":0},{"$f":"'Youth Survey'!IQ108","v":0},{"$f":"'Youth Survey'!IR108","v":0},{"$f":"'Youth Survey'!IS108","v":0},{"$f":"'Youth Survey'!IT108","v":0},{"$f":"'Youth Survey'!IU108","v":0},{"$f":"'Youth Survey'!IV108","v":0},{"$f":"'Youth Survey'!IW108","v":0},{"$f":"'Youth Survey'!IX108","v":0},{"$f":"'Youth Survey'!IY108","v":0},{"$f":"'Youth Survey'!IZ108","v":0},{"$f":"'Youth Survey'!JA108","v":0},{"$f":"'Youth Survey'!JB108","v":0},{"$f":"'Youth Survey'!JC108","v":0},{"$f":"'Youth Survey'!JD108","v":0},{"$f":"'Youth Survey'!JE108","v":0},{"$f":"'Youth Survey'!JF108","v":0},{"$f":"'Youth Survey'!JG108","v":0},{"$f":"'Youth Survey'!JH108","v":0},{"$f":"'Youth Survey'!JI108","v":0},{"$f":"'Youth Survey'!JJ108","v":0},{"$f":"'Youth Survey'!JK108","v":0},{"$f":"'Youth Survey'!JL108","v":0},{"$f":"'Youth Survey'!JM108","v":0},{"$f":"'Youth Survey'!JN108","v":0},{"$f":"'Youth Survey'!JO108","v":0},{"$f":"'Youth Survey'!JP108","v":0},{"$f":"'Youth Survey'!JQ108","v":0},{"$f":"'Youth Survey'!JR108","v":0},{"$f":"'Youth Survey'!JS108","v":0},{"$f":"'Youth Survey'!JT108","v":0},{"$f":"'Youth Survey'!JU108","v":0},{"$f":"'Youth Survey'!JV108","v":0},{"$f":"'Youth Survey'!JW108","v":0},{"$f":"'Youth Survey'!JX108","v":0},{"$f":"'Youth Survey'!JY108","v":0},{"$f":"'Youth Survey'!JZ108","v":0},{"$f":"'Youth Survey'!KA108","v":0},{"$f":"'Youth Survey'!KB108","v":0},{"$f":"'Youth Survey'!KC108","v":0},{"$f":"'Youth Survey'!KD108","v":0},{"$f":"'Youth Survey'!KE108","v":0},{"$f":"'Youth Survey'!KF108","v":0},{"$f":"'Youth Survey'!KG108","v":0},{"$f":"'Youth Survey'!KH108","v":0},{"$f":"'Youth Survey'!KI108","v":0},{"$f":"'Youth Survey'!KJ108","v":0},{"$f":"'Youth Survey'!KK108","v":0},{"$f":"'Youth Survey'!KL108","v":0},{"$f":"'Youth Survey'!KM108","v":0},{"$f":"'Youth Survey'!KN108","v":0},{"$f":"'Youth Survey'!KO108","v":0},{"$f":"'Youth Survey'!KP108","v":0},{"$f":"'Youth Survey'!KQ108","v":0},{"$f":"'Youth Survey'!KR108","v":0},{"$f":"'Youth Survey'!KS108","v":0},{"$f":"'Youth Survey'!KT108","v":0},{"$f":"'Youth Survey'!KU108","v":0},{"$f":"'Youth Survey'!KV108","v":0},{"$f":"'Youth Survey'!KW108","v":0},{"$f":"'Youth Survey'!KX108","v":0},{"$f":"'Youth Survey'!KY108","v":0},{"$f":"'Youth Survey'!KZ108","v":0},{"$f":"'Youth Survey'!LA108","v":0},{"$f":"'Youth Survey'!LB108","v":0},{"$f":"'Youth Survey'!LC108","v":0},{"$f":"'Youth Survey'!LD108","v":0},{"$f":"'Youth Survey'!LE108","v":0},{"$f":"'Youth Survey'!LF108","v":0}]
[]
["Chg","O15",null,{"$f":"IFERROR(D137-D132,\"\")","v":""},"","","","","","","","","","","","","","","","","","","","","","","","","","","","","","","","","","","","","","","","","","","","","","","","","","","","","","","","","","","","","","","",{"$f":"IFERROR(BP137-BP132,\"\")","v":""},"","","","","","","","","","","","","","","","","","","","","","","","","","","","","","","","","","","","","","","","","","","","","","","","","","","","","","","","","","","","","","","",{"$f":"IFERROR(EB137-EB132,\"\")","v":""},"","","","","","","","","","","","","","","","","","","","","","","","","","","","","","","","","","","","","","","","","","","","","","","","","","","","","","","","","","","","","","","",{"$f":"IFERROR(GN137-GN132,\"\")","v":""},"","","","","","","","","","","","","","","","","","","","","","","","","","","","","","","","","","","","","","","","","","","","","","","","","","","","","","","","","","","","","","","",{"$f":"IFERROR(IZ137-IZ132,\"\")","v":""},"","","","","","","","","","","","","","","","","","","","","","","","","","","","","","","","","","","","","","","","","","","","","","","","","","","","","","","","","",""]
["Chg","O16",null,{"$f":"IFERROR(D138-D133,\"\")","v":""},"","","","","","","","","","","","","","","","","","","","","","","","","","","","","","","","","","","","","","","","","","","","","","","","","","","","","","","","","","","","","","","",{"$f":"IFERROR(BP138-BP133,\"\")","v":""},"","","","","","","","","","","","","","","","","","","","","","","","","","","","","","","","","","","","","","","","","","","","","","","","","","","","","","","","","","","","","","","",{"$f":"IFERROR(EB138-EB133,\"\")","v":""},"","","","","","","","","","","","","","","","","","","","","","","","","","","","","","","","","","","","","","","","","","","","","","","","","","","","","","","","","","","","","","","",{"$f":"IFERROR(GN138-GN133,\"\")","v":""},"","","","","","","","","","","","","","","","","","","","","","","","","","","","","","","","","","","","","","","","","","","","","","","","","","","","","","","","","","","","","","","",{"$f":"IFERROR(IZ138-IZ133,\"\")","v":""},"","","","","","","","","","","","","","","","","","","","","","","","","","","","","","","","","","","","","","","","","","","","","","","","","","","","","","","","","",""]
["Chg","O17",null,{"$f":"IFERROR(D139-D134,\"\")","v":""},"","","","","","","","","","","","","","","","","","","","","","","","","","","","","","","","","","","","","","","","","","","","","","","","","","","","","","","","","","","","","","","",{"$f":"IFERROR(BP139-BP134,\"\")","v":""},"","","","","","","","","","","","","","","","","","","","","","","","","","","","","","","","","","","","","","","","","","","","","","","","","","","","","","","","","","","","","","","",{"$f":"IFERROR(EB139-EB134,\"\")","v":""},"","","","","","","","","","","","","","","","","","","","","","","","","","","","","","","","","","","","","","","","","","","","","","","","","","","","","","","","","","","","","","","",{"$f":"IFERROR(GN139-GN134,\"\")","v":""},"","","","","","","","","","","","","","","","","","","","","","","","","","","","","","","","","","","","","","","","","","","","","","","","","","","","","","","","","","","","","","","",{"$f":"IFERROR(IZ139-IZ134,\"\")","v":""},"","","","","","","","","","","","","","","","","","","","","","","","","","","","","","","","","","","","","","","","","","","","","","","","","","","","","","","","","",""]
[]
["Family Completed Pre/Post by Quarter #? (1,2,3,4=Yes, 0=No)",null,null,{"$f":"IF(AND(D141>0,D125>0),D76,0)","v":0},null,null,{"$f":"IF(AND(G141>0,G125>0),G76,0)","v":0},null,null,{"$f":"IF(AND(J141>0,J125>0),J76,0)","v":0},null,null,{"$f":"IF(AND(M141>0,M125>0),M76,0)","v":0},null,null,{"$f":"IF(AND(P141>0,P125>0),P76,0)","v":0},null,null,{"$f":"IF(AND(S141>0,S125>0),S76,0)","v":0},null,null,{"$f":"IF(AND(V141>0,V125>0),V76,0)","v":0},null,null,{"$f":"IF(AND(Y141>0,Y125>0),Y76,0)","v":0},null,null,{"$f":"IF(AND(AB141>0,AB125>0),AB76,0)","v":0},null,null,{"$f":"IF(AND(AE141>0,AE125>0),AE76,0)","v":0},null,null,{"$f":"IF(AND(AH141>0,AH125>0),AH76,0)","v":0},null,null,{"$f":"IF(AND(AK141>0,AK125>0),AK76,0)","v":0},null,null,{"$f":"IF(AND(AN141>0,AN125>0),AN76,0)","v":0},null,null,{"$f":"IF(AND(AQ141>0,AQ125>0),AQ76,0)","v":0},null,null,{"$f":"IF(AND(AT141>0,AT125>0),AT76,0)","v":0},null,null,{"$f":"IF(AND(AW141>0,AW125>0),AW76,0)","v":0},null,null,{"$f":"IF(AND(AZ141>0,AZ125>0),AZ76,0)","v":0},null,null,{"$f":"IF(AND(BC141>0,BC125>0),BC76,0)","v":0},null,null,{"$f":"IF(AND(BF141>0,BF125>0),BF76,0)","v":0},null,null,{"$f":"IF(AND(BI141>0,BI125>0),BI76,0)","v":0},null,null,{"$f":"IF(AND(BL141>0,BL125>0),BL76,0)","v":0},null,null,{"$f":"IF(AND(BO141>0,BO125>0),BO76,0)","v":0},null,null,{"$f":"IF(AND(BR141>0,BR125>0),BR76,0)","v":0},null,null,{"$f":"IF(AND(BU141>0,BU125>0),BU76,0)","v":0},null,null,{"$f":"IF(AND(BX141>0,BX125>0),BX76,0)","v":0},null,null,{"$f":"IF(AND(CA141>0,CA125>0),CA76,0)","v":0},null,null,{"$f":"IF(AND(CD141>0,CD125>0),CD76,0)","v":0},null,null,{"$f":"IF(AND(CG141>0,CG125>0),CG76,0)","v":0},null,null,{"$f":"IF(AND(CJ141>0,CJ125>0),CJ76,0)","v":0},null,null,{"$f":"IF(AND(CM141>0,CM125>0),CM76,0)","v":0},null,null,{"$f":"IF(AND(CP141>0,CP125>0),CP76,0)","v":0},null,null,{"$f":"IF(AND(CS141>0,CS125>0),CS76,0)","v":0},null,null,{"$f":"IF(AND(CV141>0,CV125>0),CV76,0)","v":0},null,null,{"$f":"IF(AND(CY141>0,CY125>0),CY76,0)","v":0},null,null,{"$f":"IF(AND(DB141>0,DB125>0),DB76,0)","v":0},null,null,{"$f":"IF(AND(DE141>0,DE125>0),DE76,0)","v":0},null,null,{"$f":"IF(AND(DH141>0,DH125>0),DH76,0)","v":0},null,null,{"$f":"IF(AND(DK141>0,DK125>0),DK76,0)","v":0},null,null,{"$f":"IF(AND(DN141>0,DN125>0),DN76,0)","v":0},null,null,{"$f":"IF(AND(DQ141>0,DQ125>0),DQ76,0)","v":0},null,null,{"$f":"IF(AND(DT141>0,DT125>0),DT76,0)","v":0},null,null,{"$f":"IF(AND(DW141>0,DW125>0),DW76,0)","v":0},null,null,{"$f":"IF(AND(DZ141>0,DZ125>0),DZ76,0)","v":0},null,null,{"$f":"IF(AND(EC141>0,EC125>0),EC76,0)","v":0},null,null,{"$f":"IF(AND(EF141>0,EF125>0),EF76,0)","v":0},null,null,{"$f":"IF(AND(EI141>0,EI125>0),EI76,0)","v":0},null,null,{"$f":"IF(AND(EL141>0,EL125>0),EL76,0)","v":0},null,null,{"$f":"IF(AND(EO141>0,EO125>0),EO76,0)","v":0},null,null,{"$f":"IF(AND(ER141>0,ER125>0),ER76,0)","v":0},null,null,{"$f":"IF(AND(EU141>0,EU125>0),EU76,0)","v":0},null,null,{"$f":"IF(AND(EX141>0,EX125>0),EX76,0)","v":0},null,null,{"$f":"IF(AND(FA141>0,FA125>0),FA76,0)","v":0},null,null,{"$f":"IF(AND(FD141>0,FD125>0),FD76,0)","v":0},null,null,{"$f":"IF(AND(FG141>0,FG125>0),FG76,0)","v":0},null,null,{"$f":"IF(AND(FJ141>0,FJ125>0),FJ76,0)","v":0},null,null,{"$f":"IF(AND(FM141>0,FM125>0),FM76,0)","v":0},null,null,{"$f":"IF(AND(FP141>0,FP125>0),FP76,0)","v":0},null,null,{"$f":"IF(AND(FS141>0,FS125>0),FS76,0)","v":0},null,null,{"$f":"IF(AND(FV141>0,FV125>0),FV76,0)","v":0},null,null,{"$f":"IF(AND(FY141>0,FY125>0),FY76,0)","v":0},null,null,{"$f":"IF(AND(GB141>0,GB125>0),GB76,0)","v":0},null,null,{"$f":"IF(AND(GE141>0,GE125>0),GE76,0)","v":0},null,null,{"$f":"IF(AND(GH141>0,GH125>0),GH76,0)","v":0},null,null,{"$f":"IF(AND(GK141>0,GK125>0),GK76,0)","v":0},null,null,{"$f":"IF(AND(GN141>0,GN125>0),GN76,0)","v":0},null,null,{"$f":"IF(AND(GQ141>0,GQ125>0),GQ76,0)","v":0},null,null,{"$f":"IF(AND(GT141>0,GT125>0),GT76,0)","v":0},null,null,{"$f":"IF(AND(GW141>0,GW125>0),GW76,0)","v":0},null,null,{"$f":"IF(AND(GZ141>0,GZ125>0),GZ76,0)","v":0},null,null,{"$f":"IF(AND(HC141>0,HC125>0),HC76,0)","v":0},null,null,{"$f":"IF(AND(HF141>0,HF125>0),HF76,0)","v":0},null,null,{"$f":"IF(AND(HI141>0,HI125>0),HI76,0)","v":0},null,null,{"$f":"IF(AND(HL141>0,HL125>0),HL76,0)","v":0},null,null,{"$f":"IF(AND(HO141>0,HO125>0),HO76,0)","v":0},null,null,{"$f":"IF(AND(HR141>0,HR125>0),HR76,0)","v":0},null,null,{"$f":"IF(AND(HU141>0,HU125>0),HU76,0)","v":0},null,null,{"$f":"IF(AND(HX141>0,HX125>0),HX76,0)","v":0},null,null,{"$f":"IF(AND(IA141>0,IA125>0),IA76,0)","v":0},null,null,{"$f":"IF(AND(ID141>0,ID125>0),ID76,0)","v":0},null,null,{"$f":"IF(AND(IG141>0,IG125>0),IG76,0)","v":0},null,null,{"$f":"IF(AND(IJ141>0,IJ125>0),IJ76,0)","v":0},null,null,{"$f":"IF(AND(IM141>0,IM125>0),IM76,0)","v":0},null,null,{"$f":"IF(AND(IP141>0,IP125>0),IP76,0)","v":0},null,null,{"$f":"IF(AND(IS141>0,IS125>0),IS76,0)","v":0},null,null,{"$f":"IF(AND(IV141>0,IV125>0),IV76,0)","v":0},null,null,{"$f":"IF(AND(IY141>0,IY125>0),IY76,0)","v":0},null,null,{"$f":"IF(AND(JB141>0,JB125>0),JB76,0)","v":0},null,null,{"$f":"IF(AND(JE141>0,JE125>0),JE76,0)","v":0},null,null,{"$f":"IF(AND(JH141>0,JH125>0),JH76,0)","v":0},null,null,{"$f":"IF(AND(JK141>0,JK125>0),JK76,0)","v":0},null,null,{"$f":"IF(AND(JN141>0,JN125>0),JN76,0)","v":0},null,null,{"$f":"IF(AND(JQ141>0,JQ125>0),JQ76,0)","v":0},null,null,{"$f":"IF(AND(JT141>0,JT125>0),JT76,0)","v":0},null,null,{"$f":"IF(AND(JW141>0,JW125>0),JW76,0)","v":0},null,null,{"$f":"IF(AND(JZ141>0,JZ125>0),JZ76,0)","v":0},null,null,{"$f":"IF(AND(KC141>0,KC125>0),KC76,0)","v":0},null,null,{"$f":"IF(AND(KF141>0,KF125>0),KF76,0)","v":0},null,null,{"$f":"IF(AND(KI141>0,KI125>0),KI76,0)","v":0},null,null,{"$f":"IF(AND(KL141>0,KL125>0),KL76,0)","v":0},null,null,{"$f":"IF(AND(KO141>0,KO125>0),KO76,0)","v":0},null,null,{"$f":"IF(AND(KR141>0,KR125>0),KR76,0)","v":0},null,null,{"$f":"IF(AND(KU141>0,KU125>0),KU76,0)","v":0},null,null,{"$f":"IF(AND(KX141>0,KX125>0),KX76,0)","v":0},null,null,{"$f":"IF(AND(LA141>0,LA125>0),LA76,0)","v":0},null,null,{"$f":"IF(AND(LD141>0,LD125>0),LD76,0)","v":0}]
[]
["Family Reported Improvement"]
[null,"O15",null,{"$f":"IF(AND(AVERAGEA(D143:F143)>0,AVERAGEA(D127:F127)>0,D$147>0),D$147,\"\")","v":""},null,null,{"$f":"IF(AND(AVERAGEA(G143:I143)>0,AVERAGEA(G127:I127)>0,G$147>0),G$147,\"\")","v":""},null,null,{"$f":"IF(AND(AVERAGEA(J143:L143)>0,AVERAGEA(J127:L127)>0,J$147>0),J$147,\"\")","v":""},null,null,{"$f":"IF(AND(AVERAGEA(M143:O143)>0,AVERAGEA(M127:O127)>0,M$147>0),M$147,\"\")","v":""},null,null,{"$f":"IF(AND(AVERAGEA(P143:R143)>0,AVERAGEA(P127:R127)>0,P$147>0),P$147,\"\")","v":""},null,null,{"$f":"IF(AND(AVERAGEA(S143:U143)>0,AVERAGEA(S127:U127)>0,S$147>0),S$147,\"\")","v":""},null,null,{"$f":"IF(AND(AVERAGEA(V143:X143)>0,AVERAGEA(V127:X127)>0,V$147>0),V$147,\"\")","v":""},null,null,{"$f":"IF(AND(AVERAGEA(Y143:AA143)>0,AVERAGEA(Y127:AA127)>0,Y$147>0),Y$147,\"\")","v":""},null,null,{"$f":"IF(AND(AVERAGEA(AB143:AD143)>0,AVERAGEA(AB127:AD127)>0,AB$147>0),AB$147,\"\")","v":""},null,null,{"$f":"IF(AND(AVERAGEA(AE143:AG143)>0,AVERAGEA(AE127:AG127)>0,AE$147>0),AE$147,\"\")","v":""},null,null,{"$f":"IF(AND(AVERAGEA(AH143:AJ143)>0,AVERAGEA(AH127:AJ127)>0,AH$147>0),AH$147,\"\")","v":""},null,null,{"$f":"IF(AND(AVERAGEA(AK143:AM143)>0,AVERAGEA(AK127:AM127)>0,AK$147>0),AK$147,\"\")","v":""},null,null,{"$f":"IF(AND(AVERAGEA(AN143:AP143)>0,AVERAGEA(AN127:AP127)>0,AN$147>0),AN$147,\"\")","v":""},null,null,{"$f":"IF(AND(AVERAGEA(AQ143:AS143)>0,AVERAGEA(AQ127:AS127)>0,AQ$147>0),AQ$147,\"\")","v":""},null,null,{"$f":"IF(AND(AVERAGEA(AT143:AV143)>0,AVERAGEA(AT127:AV127)>0,AT$147>0),AT$147,\"\")","v":""},null,null,{"$f":"IF(AND(AVERAGEA(AW143:AY143)>0,AVERAGEA(AW127:AY127)>0,AW$147>0),AW$147,\"\")","v":""},null,null,{"$f":"IF(AND(AVERAGEA(AZ143:BB143)>0,AVERAGEA(AZ127:BB127)>0,AZ$147>0),AZ$147,\"\")","v":""},null,null,{"$f":"IF(AND(AVERAGEA(BC143:BE143)>0,AVERAGEA(BC127:BE127)>0,BC$147>0),BC$147,\"\")","v":""},null,null,{"$f":"IF(AND(AVERAGEA(BF143:BH143)>0,AVERAGEA(BF127:BH127)>0,BF$147>0),BF$147,\"\")","v":""},null,null,{"$f":"IF(AND(AVERAGEA(BI143:BK143)>0,AVERAGEA(BI127:BK127)>0,BI$147>0),BI$147,\"\")","v":""},null,null,{"$f":"IF(AND(AVERAGEA(BL143:BN143)>0,AVERAGEA(BL127:BN127)>0,BL$147>0),BL$147,\"\")","v":""},null,null,{"$f":"IF(AND(AVERAGEA(BO143:BQ143)>0,AVERAGEA(BO127:BQ127)>0,BO$147>0),BO$147,\"\")","v":""},null,null,{"$f":"IF(AND(AVERAGEA(BR143:BT143)>0,AVERAGEA(BR127:BT127)>0,BR$147>0),BR$147,\"\")","v":""},null,null,{"$f":"IF(AND(AVERAGEA(BU143:BW143)>0,AVERAGEA(BU127:BW127)>0,BU$147>0),BU$147,\"\")","v":""},null,null,{"$f":"IF(AND(AVERAGEA(BX143:BZ143)>0,AVERAGEA(BX127:BZ127)>0,BX$147>0),BX$147,\"\")","v":""},null,null,{"$f":"IF(AND(AVERAGEA(CA143:CC143)>0,AVERAGEA(CA127:CC127)>0,CA$147>0),CA$147,\"\")","v":""},null,null,{"$f":"IF(AND(AVERAGEA(CD143:CF143)>0,AVERAGEA(CD127:CF127)>0,CD$147>0),CD$147,\"\")","v":""},null,null,{"$f":"IF(AND(AVERAGEA(CG143:CI143)>0,AVERAGEA(CG127:CI127)>0,CG$147>0),CG$147,\"\")","v":""},null,null,{"$f":"IF(AND(AVERAGEA(CJ143:CL143)>0,AVERAGEA(CJ127:CL127)>0,CJ$147>0),CJ$147,\"\")","v":""},null,null,{"$f":"IF(AND(AVERAGEA(CM143:CO143)>0,AVERAGEA(CM127:CO127)>0,CM$147>0),CM$147,\"\")","v":""},null,null,{"$f":"IF(AND(AVERAGEA(CP143:CR143)>0,AVERAGEA(CP127:CR127)>0,CP$147>0),CP$147,\"\")","v":""},null,null,{"$f":"IF(AND(AVERAGEA(CS143:CU143)>0,AVERAGEA(CS127:CU127)>0,CS$147>0),CS$147,\"\")","v":""},null,null,{"$f":"IF(AND(AVERAGEA(CV143:CX143)>0,AVERAGEA(CV127:CX127)>0,CV$147>0),CV$147,\"\")","v":""},null,null,{"$f":"IF(AND(AVERAGEA(CY143:DA143)>0,AVERAGEA(CY127:DA127)>0,CY$147>0),CY$147,\"\")","v":""},null,null,{"$f":"IF(AND(AVERAGEA(DB143:DD143)>0,AVERAGEA(DB127:DD127)>0,DB$147>0),DB$147,\"\")","v":""},null,null,{"$f":"IF(AND(AVERAGEA(DE143:DG143)>0,AVERAGEA(DE127:DG127)>0,DE$147>0),DE$147,\"\")","v":""},null,null,{"$f":"IF(AND(AVERAGEA(DH143:DJ143)>0,AVERAGEA(DH127:DJ127)>0,DH$147>0),DH$147,\"\")","v":""},null,null,{"$f":"IF(AND(AVERAGEA(DK143:DM143)>0,AVERAGEA(DK127:DM127)>0,DK$147>0),DK$147,\"\")","v":""},null,null,{"$f":"IF(AND(AVERAGEA(DN143:DP143)>0,AVERAGEA(DN127:DP127)>0,DN$147>0),DN$147,\"\")","v":""},null,null,{"$f":"IF(AND(AVERAGEA(DQ143:DS143)>0,AVERAGEA(DQ127:DS127)>0,DQ$147>0),DQ$147,\"\")","v":""},null,null,{"$f":"IF(AND(AVERAGEA(DT143:DV143)>0,AVERAGEA(DT127:DV127)>0,DT$147>0),DT$147,\"\")","v":""},null,null,{"$f":"IF(AND(AVERAGEA(DW143:DY143)>0,AVERAGEA(DW127:DY127)>0,DW$147>0),DW$147,\"\")","v":""},null,null,{"$f":"IF(AND(AVERAGEA(DZ143:EB143)>0,AVERAGEA(DZ127:EB127)>0,DZ$147>0),DZ$147,\"\")","v":""},null,null,{"$f":"IF(AND(AVERAGEA(EC143:EE143)>0,AVERAGEA(EC127:EE127)>0,EC$147>0),EC$147,\"\")","v":""},null,null,{"$f":"IF(AND(AVERAGEA(EF143:EH143)>0,AVERAGEA(EF127:EH127)>0,EF$147>0),EF$147,\"\")","v":""},null,null,{"$f":"IF(AND(AVERAGEA(EI143:EK143)>0,AVERAGEA(EI127:EK127)>0,EI$147>0),EI$147,\"\")","v":""},null,null,{"$f":"IF(AND(AVERAGEA(EL143:EN143)>0,AVERAGEA(EL127:EN127)>0,EL$147>0),EL$147,\"\")","v":""},null,null,{"$f":"IF(AND(AVERAGEA(EO143:EQ143)>0,AVERAGEA(EO127:EQ127)>0,EO$147>0),EO$147,\"\")","v":""},null,null,{"$f":"IF(AND(AVERAGEA(ER143:ET143)>0,AVERAGEA(ER127:ET127)>0,ER$147>0),ER$147,\"\")","v":""},null,null,{"$f":"IF(AND(AVERAGEA(EU143:EW143)>0,AVERAGEA(EU127:EW127)>0,EU$147>0),EU$147,\"\")","v":""},null,null,{"$f":"IF(AND(AVERAGEA(EX143:EZ143)>0,AVERAGEA(EX127:EZ127)>0,EX$147>0),EX$147,\"\")","v":""},null,null,{"$f":"IF(AND(AVERAGEA(FA143:FC143)>0,AVERAGEA(FA127:FC127)>0,FA$147>0),FA$147,\"\")","v":""},null,null,{"$f":"IF(AND(AVERAGEA(FD143:FF143)>0,AVERAGEA(FD127:FF127)>0,FD$147>0),FD$147,\"\")","v":""},null,null,{"$f":"IF(AND(AVERAGEA(FG143:FI143)>0,AVERAGEA(FG127:FI127)>0,FG$147>0),FG$147,\"\")","v":""},null,null,{"$f":"IF(AND(AVERAGEA(FJ143:FL143)>0,AVERAGEA(FJ127:FL127)>0,FJ$147>0),FJ$147,\"\")","v":""},null,null,{"$f":"IF(AND(AVERAGEA(FM143:FO143)>0,AVERAGEA(FM127:FO127)>0,FM$147>0),FM$147,\"\")","v":""},null,null,{"$f":"IF(AND(AVERAGEA(FP143:FR143)>0,AVERAGEA(FP127:FR127)>0,FP$147>0),FP$147,\"\")","v":""},null,null,{"$f":"IF(AND(AVERAGEA(FS143:FU143)>0,AVERAGEA(FS127:FU127)>0,FS$147>0),FS$147,\"\")","v":""},null,null,{"$f":"IF(AND(AVERAGEA(FV143:FX143)>0,AVERAGEA(FV127:FX127)>0,FV$147>0),FV$147,\"\")","v":""},null,null,{"$f":"IF(AND(AVERAGEA(FY143:GA143)>0,AVERAGEA(FY127:GA127)>0,FY$147>0),FY$147,\"\")","v":""},null,null,{"$f":"IF(AND(AVERAGEA(GB143:GD143)>0,AVERAGEA(GB127:GD127)>0,GB$147>0),GB$147,\"\")","v":""},null,null,{"$f":"IF(AND(AVERAGEA(GE143:GG143)>0,AVERAGEA(GE127:GG127)>0,GE$147>0),GE$147,\"\")","v":""},null,null,{"$f":"IF(AND(AVERAGEA(GH143:GJ143)>0,AVERAGEA(GH127:GJ127)>0,GH$147>0),GH$147,\"\")","v":""},null,null,{"$f":"IF(AND(AVERAGEA(GK143:GM143)>0,AVERAGEA(GK127:GM127)>0,GK$147>0),GK$147,\"\")","v":""},null,null,{"$f":"IF(AND(AVERAGEA(GN143:GP143)>0,AVERAGEA(GN127:GP127)>0,GN$147>0),GN$147,\"\")","v":""},null,null,{"$f":"IF(AND(AVERAGEA(GQ143:GS143)>0,AVERAGEA(GQ127:GS127)>0,GQ$147>0),GQ$147,\"\")","v":""},null,null,{"$f":"IF(AND(AVERAGEA(GT143:GV143)>0,AVERAGEA(GT127:GV127)>0,GT$147>0),GT$147,\"\")","v":""},null,null,{"$f":"IF(AND(AVERAGEA(GW143:GY143)>0,AVERAGEA(GW127:GY127)>0,GW$147>0),GW$147,\"\")","v":""},null,null,{"$f":"IF(AND(AVERAGEA(GZ143:HB143)>0,AVERAGEA(GZ127:HB127)>0,GZ$147>0),GZ$147,\"\")","v":""},null,null,{"$f":"IF(AND(AVERAGEA(HC143:HE143)>0,AVERAGEA(HC127:HE127)>0,HC$147>0),HC$147,\"\")","v":""},null,null,{"$f":"IF(AND(AVERAGEA(HF143:HH143)>0,AVERAGEA(HF127:HH127)>0,HF$147>0),HF$147,\"\")","v":""},null,null,{"$f":"IF(AND(AVERAGEA(HI143:HK143)>0,AVERAGEA(HI127:HK127)>0,HI$147>0),HI$147,\"\")","v":""},null,null,{"$f":"IF(AND(AVERAGEA(HL143:HN143)>0,AVERAGEA(HL127:HN127)>0,HL$147>0),HL$147,\"\")","v":""},null,null,{"$f":"IF(AND(AVERAGEA(HO143:HQ143)>0,AVERAGEA(HO127:HQ127)>0,HO$147>0),HO$147,\"\")","v":""},null,null,{"$f":"IF(AND(AVERAGEA(HR143:HT143)>0,AVERAGEA(HR127:HT127)>0,HR$147>0),HR$147,\"\")","v":""},null,null,{"$f":"IF(AND(AVERAGEA(HU143:HW143)>0,AVERAGEA(HU127:HW127)>0,HU$147>0),HU$147,\"\")","v":""},null,null,{"$f":"IF(AND(AVERAGEA(HX143:HZ143)>0,AVERAGEA(HX127:HZ127)>0,HX$147>0),HX$147,\"\")","v":""},null,null,{"$f":"IF(AND(AVERAGEA(IA143:IC143)>0,AVERAGEA(IA127:IC127)>0,IA$147>0),IA$147,\"\")","v":""},null,null,{"$f":"IF(AND(AVERAGEA(ID143:IF143)>0,AVERAGEA(ID127:IF127)>0,ID$147>0),ID$147,\"\")","v":""},null,null,{"$f":"IF(AND(AVERAGEA(IG143:II143)>0,AVERAGEA(IG127:II127)>0,IG$147>0),IG$147,\"\")","v":""},null,null,{"$f":"IF(AND(AVERAGEA(IJ143:IL143)>0,AVERAGEA(IJ127:IL127)>0,IJ$147>0),IJ$147,\"\")","v":""},null,null,{"$f":"IF(AND(AVERAGEA(IM143:IO143)>0,AVERAGEA(IM127:IO127)>0,IM$147>0),IM$147,\"\")","v":""},null,null,{"$f":"IF(AND(AVERAGEA(IP143:IR143)>0,AVERAGEA(IP127:IR127)>0,IP$147>0),IP$147,\"\")","v":""},null,null,{"$f":"IF(AND(AVERAGEA(IS143:IU143)>0,AVERAGEA(IS127:IU127)>0,IS$147>0),IS$147,\"\")","v":""},null,null,{"$f":"IF(AND(AVERAGEA(IV143:IX143)>0,AVERAGEA(IV127:IX127)>0,IV$147>0),IV$147,\"\")","v":""},null,null,{"$f":"IF(AND(AVERAGEA(IY143:JA143)>0,AVERAGEA(IY127:JA127)>0,IY$147>0),IY$147,\"\")","v":""},null,null,{"$f":"IF(AND(AVERAGEA(JB143:JD143)>0,AVERAGEA(JB127:JD127)>0,JB$147>0),JB$147,\"\")","v":""},null,null,{"$f":"IF(AND(AVERAGEA(JE143:JG143)>0,AVERAGEA(JE127:JG127)>0,JE$147>0),JE$147,\"\")","v":""},null,null,{"$f":"IF(AND(AVERAGEA(JH143:JJ143)>0,AVERAGEA(JH127:JJ127)>0,JH$147>0),JH$147,\"\")","v":""},null,null,{"$f":"IF(AND(AVERAGEA(JK143:JM143)>0,AVERAGEA(JK127:JM127)>0,JK$147>0),JK$147,\"\")","v":""},null,null,{"$f":"IF(AND(AVERAGEA(JN143:JP143)>0,AVERAGEA(JN127:JP127)>0,JN$147>0),JN$147,\"\")","v":""},null,null,{"$f":"IF(AND(AVERAGEA(JQ143:JS143)>0,AVERAGEA(JQ127:JS127)>0,JQ$147>0),JQ$147,\"\")","v":""},null,null,{"$f":"IF(AND(AVERAGEA(JT143:JV143)>0,AVERAGEA(JT127:JV127)>0,JT$147>0),JT$147,\"\")","v":""},null,null,{"$f":"IF(AND(AVERAGEA(JW143:JY143)>0,AVERAGEA(JW127:JY127)>0,JW$147>0),JW$147,\"\")","v":""},null,null,{"$f":"IF(AND(AVERAGEA(JZ143:KB143)>0,AVERAGEA(JZ127:KB127)>0,JZ$147>0),JZ$147,\"\")","v":""},null,null,{"$f":"IF(AND(AVERAGEA(KC143:KE143)>0,AVERAGEA(KC127:KE127)>0,KC$147>0),KC$147,\"\")","v":""},null,null,{"$f":"IF(AND(AVERAGEA(KF143:KH143)>0,AVERAGEA(KF127:KH127)>0,KF$147>0),KF$147,\"\")","v":""},null,null,{"$f":"IF(AND(AVERAGEA(KI143:KK143)>0,AVERAGEA(KI127:KK127)>0,KI$147>0),KI$147,\"\")","v":""},null,null,{"$f":"IF(AND(AVERAGEA(KL143:KN143)>0,AVERAGEA(KL127:KN127)>0,KL$147>0),KL$147,\"\")","v":""},null,null,{"$f":"IF(AND(AVERAGEA(KO143:KQ143)>0,AVERAGEA(KO127:KQ127)>0,KO$147>0),KO$147,\"\")","v":""},null,null,{"$f":"IF(AND(AVERAGEA(KR143:KT143)>0,AVERAGEA(KR127:KT127)>0,KR$147>0),KR$147,\"\")","v":""},null,null,{"$f":"IF(AND(AVERAGEA(KU143:KW143)>0,AVERAGEA(KU127:KW127)>0,KU$147>0),KU$147,\"\")","v":""},null,null,{"$f":"IF(AND(AVERAGEA(KX143:KZ143)>0,AVERAGEA(KX127:KZ127)>0,KX$147>0),KX$147,\"\")","v":""},null,null,{"$f":"IF(AND(AVERAGEA(LA143:LC143)>0,AVERAGEA(LA127:LC127)>0,LA$147>0),LA$147,\"\")","v":""},null,null,{"$f":"IF(AND(AVERAGEA(LD143:LF143)>0,AVERAGEA(LD127:LF127)>0,LD$147>0),LD$147,\"\")","v":""}]
[null,"O16",null,{"$f":"IF(AND(AVERAGEA(D144:F144)>0,AVERAGEA(D128:F128)>0,D$147>0),D$147,\"\")","v":""},null,null,{"$f":"IF(AND(AVERAGEA(G144:I144)>0,AVERAGEA(G128:I128)>0,G$147>0),G$147,\"\")","v":""},null,null,{"$f":"IF(AND(AVERAGEA(J144:L144)>0,AVERAGEA(J128:L128)>0,J$147>0),J$147,\"\")","v":""},null,null,{"$f":"IF(AND(AVERAGEA(M144:O144)>0,AVERAGEA(M128:O128)>0,M$147>0),M$147,\"\")","v":""},null,null,{"$f":"IF(AND(AVERAGEA(P144:R144)>0,AVERAGEA(P128:R128)>0,P$147>0),P$147,\"\")","v":""},null,null,{"$f":"IF(AND(AVERAGEA(S144:U144)>0,AVERAGEA(S128:U128)>0,S$147>0),S$147,\"\")","v":""},null,null,{"$f":"IF(AND(AVERAGEA(V144:X144)>0,AVERAGEA(V128:X128)>0,V$147>0),V$147,\"\")","v":""},null,null,{"$f":"IF(AND(AVERAGEA(Y144:AA144)>0,AVERAGEA(Y128:AA128)>0,Y$147>0),Y$147,\"\")","v":""},null,null,{"$f":"IF(AND(AVERAGEA(AB144:AD144)>0,AVERAGEA(AB128:AD128)>0,AB$147>0),AB$147,\"\")","v":""},null,null,{"$f":"IF(AND(AVERAGEA(AE144:AG144)>0,AVERAGEA(AE128:AG128)>0,AE$147>0),AE$147,\"\")","v":""},null,null,{"$f":"IF(AND(AVERAGEA(AH144:AJ144)>0,AVERAGEA(AH128:AJ128)>0,AH$147>0),AH$147,\"\")","v":""},null,null,{"$f":"IF(AND(AVERAGEA(AK144:AM144)>0,AVERAGEA(AK128:AM128)>0,AK$147>0),AK$147,\"\")","v":""},null,null,{"$f":"IF(AND(AVERAGEA(AN144:AP144)>0,AVERAGEA(AN128:AP128)>0,AN$147>0),AN$147,\"\")","v":""},null,null,{"$f":"IF(AND(AVERAGEA(AQ144:AS144)>0,AVERAGEA(AQ128:AS128)>0,AQ$147>0),AQ$147,\"\")","v":""},null,null,{"$f":"IF(AND(AVERAGEA(AT144:AV144)>0,AVERAGEA(AT128:AV128)>0,AT$147>0),AT$147,\"\")","v":""},null,null,{"$f":"IF(AND(AVERAGEA(AW144:AY144)>0,AVERAGEA(AW128:AY128)>0,AW$147>0),AW$147,\"\")","v":""},null,null,{"$f":"IF(AND(AVERAGEA(AZ144:BB144)>0,AVERAGEA(AZ128:BB128)>0,AZ$147>0),AZ$147,\"\")","v":""},null,null,{"$f":"IF(AND(AVERAGEA(BC144:BE144)>0,AVERAGEA(BC128:BE128)>0,BC$147>0),BC$147,\"\")","v":""},null,null,{"$f":"IF(AND(AVERAGEA(BF144:BH144)>0,AVERAGEA(BF128:BH128)>0,BF$147>0),BF$147,\"\")","v":""},null,null,{"$f":"IF(AND(AVERAGEA(BI144:BK144)>0,AVERAGEA(BI128:BK128)>0,BI$147>0),BI$147,\"\")","v":""},null,null,{"$f":"IF(AND(AVERAGEA(BL144:BN144)>0,AVERAGEA(BL128:BN128)>0,BL$147>0),BL$147,\"\")","v":""},null,null,{"$f":"IF(AND(AVERAGEA(BO144:BQ144)>0,AVERAGEA(BO128:BQ128)>0,BO$147>0),BO$147,\"\")","v":""},null,null,{"$f":"IF(AND(AVERAGEA(BR144:BT144)>0,AVERAGEA(BR128:BT128)>0,BR$147>0),BR$147,\"\")","v":""},null,null,{"$f":"IF(AND(AVERAGEA(BU144:BW144)>0,AVERAGEA(BU128:BW128)>0,BU$147>0),BU$147,\"\")","v":""},null,null,{"$f":"IF(AND(AVERAGEA(BX144:BZ144)>0,AVERAGEA(BX128:BZ128)>0,BX$147>0),BX$147,\"\")","v":""},null,null,{"$f":"IF(AND(AVERAGEA(CA144:CC144)>0,AVERAGEA(CA128:CC128)>0,CA$147>0),CA$147,\"\")","v":""},null,null,{"$f":"IF(AND(AVERAGEA(CD144:CF144)>0,AVERAGEA(CD128:CF128)>0,CD$147>0),CD$147,\"\")","v":""},null,null,{"$f":"IF(AND(AVERAGEA(CG144:CI144)>0,AVERAGEA(CG128:CI128)>0,CG$147>0),CG$147,\"\")","v":""},null,null,{"$f":"IF(AND(AVERAGEA(CJ144:CL144)>0,AVERAGEA(CJ128:CL128)>0,CJ$147>0),CJ$147,\"\")","v":""},null,null,{"$f":"IF(AND(AVERAGEA(CM144:CO144)>0,AVERAGEA(CM128:CO128)>0,CM$147>0),CM$147,\"\")","v":""},null,null,{"$f":"IF(AND(AVERAGEA(CP144:CR144)>0,AVERAGEA(CP128:CR128)>0,CP$147>0),CP$147,\"\")","v":""},null,null,{"$f":"IF(AND(AVERAGEA(CS144:CU144)>0,AVERAGEA(CS128:CU128)>0,CS$147>0),CS$147,\"\")","v":""},null,null,{"$f":"IF(AND(AVERAGEA(CV144:CX144)>0,AVERAGEA(CV128:CX128)>0,CV$147>0),CV$147,\"\")","v":""},null,null,{"$f":"IF(AND(AVERAGEA(CY144:DA144)>0,AVERAGEA(CY128:DA128)>0,CY$147>0),CY$147,\"\")","v":""},null,null,{"$f":"IF(AND(AVERAGEA(DB144:DD144)>0,AVERAGEA(DB128:DD128)>0,DB$147>0),DB$147,\"\")","v":""},null,null,{"$f":"IF(AND(AVERAGEA(DE144:DG144)>0,AVERAGEA(DE128:DG128)>0,DE$147>0),DE$147,\"\")","v":""},null,null,{"$f":"IF(AND(AVERAGEA(DH144:DJ144)>0,AVERAGEA(DH128:DJ128)>0,DH$147>0),DH$147,\"\")","v":""},null,null,{"$f":"IF(AND(AVERAGEA(DK144:DM144)>0,AVERAGEA(DK128:DM128)>0,DK$147>0),DK$147,\"\")","v":""},null,null,{"$f":"IF(AND(AVERAGEA(DN144:DP144)>0,AVERAGEA(DN128:DP128)>0,DN$147>0),DN$147,\"\")","v":""},null,null,{"$f":"IF(AND(AVERAGEA(DQ144:DS144)>0,AVERAGEA(DQ128:DS128)>0,DQ$147>0),DQ$147,\"\")","v":""},null,null,{"$f":"IF(AND(AVERAGEA(DT144:DV144)>0,AVERAGEA(DT128:DV128)>0,DT$147>0),DT$147,\"\")","v":""},null,null,{"$f":"IF(AND(AVERAGEA(DW144:DY144)>0,AVERAGEA(DW128:DY128)>0,DW$147>0),DW$147,\"\")","v":""},null,null,{"$f":"IF(AND(AVERAGEA(DZ144:EB144)>0,AVERAGEA(DZ128:EB128)>0,DZ$147>0),DZ$147,\"\")","v":""},null,null,{"$f":"IF(AND(AVERAGEA(EC144:EE144)>0,AVERAGEA(EC128:EE128)>0,EC$147>0),EC$147,\"\")","v":""},null,null,{"$f":"IF(AND(AVERAGEA(EF144:EH144)>0,AVERAGEA(EF128:EH128)>0,EF$147>0),EF$147,\"\")","v":""},null,null,{"$f":"IF(AND(AVERAGEA(EI144:EK144)>0,AVERAGEA(EI128:EK128)>0,EI$147>0),EI$147,\"\")","v":""},null,null,{"$f":"IF(AND(AVERAGEA(EL144:EN144)>0,AVERAGEA(EL128:EN128)>0,EL$147>0),EL$147,\"\")","v":""},null,null,{"$f":"IF(AND(AVERAGEA(EO144:EQ144)>0,AVERAGEA(EO128:EQ128)>0,EO$147>0),EO$147,\"\")","v":""},null,null,{"$f":"IF(AND(AVERAGEA(ER144:ET144)>0,AVERAGEA(ER128:ET128)>0,ER$147>0),ER$147,\"\")","v":""},null,null,{"$f":"IF(AND(AVERAGEA(EU144:EW144)>0,AVERAGEA(EU128:EW128)>0,EU$147>0),EU$147,\"\")","v":""},null,null,{"$f":"IF(AND(AVERAGEA(EX144:EZ144)>0,AVERAGEA(EX128:EZ128)>0,EX$147>0),EX$147,\"\")","v":""},null,null,{"$f":"IF(AND(AVERAGEA(FA144:FC144)>0,AVERAGEA(FA128:FC128)>0,FA$147>0),FA$147,\"\")","v":""},null,null,{"$f":"IF(AND(AVERAGEA(FD144:FF144)>0,AVERAGEA(FD128:FF128)>0,FD$147>0),FD$147,\"\")","v":""},null,null,{"$f":"IF(AND(AVERAGEA(FG144:FI144)>0,AVERAGEA(FG128:FI128)>0,FG$147>0),FG$147,\"\")","v":""},null,null,{"$f":"IF(AND(AVERAGEA(FJ144:FL144)>0,AVERAGEA(FJ128:FL128)>0,FJ$147>0),FJ$147,\"\")","v":""},null,null,{"$f":"IF(AND(AVERAGEA(FM144:FO144)>0,AVERAGEA(FM128:FO128)>0,FM$147>0),FM$147,\"\")","v":""},null,null,{"$f":"IF(AND(AVERAGEA(FP144:FR144)>0,AVERAGEA(FP128:FR128)>0,FP$147>0),FP$147,\"\")","v":""},null,null,{"$f":"IF(AND(AVERAGEA(FS144:FU144)>0,AVERAGEA(FS128:FU128)>0,FS$147>0),FS$147,\"\")","v":""},null,null,{"$f":"IF(AND(AVERAGEA(FV144:FX144)>0,AVERAGEA(FV128:FX128)>0,FV$147>0),FV$147,\"\")","v":""},null,null,{"$f":"IF(AND(AVERAGEA(FY144:GA144)>0,AVERAGEA(FY128:GA128)>0,FY$147>0),FY$147,\"\")","v":""},null,null,{"$f":"IF(AND(AVERAGEA(GB144:GD144)>0,AVERAGEA(GB128:GD128)>0,GB$147>0),GB$147,\"\")","v":""},null,null,{"$f":"IF(AND(AVERAGEA(GE144:GG144)>0,AVERAGEA(GE128:GG128)>0,GE$147>0),GE$147,\"\")","v":""},null,null,{"$f":"IF(AND(AVERAGEA(GH144:GJ144)>0,AVERAGEA(GH128:GJ128)>0,GH$147>0),GH$147,\"\")","v":""},null,null,{"$f":"IF(AND(AVERAGEA(GK144:GM144)>0,AVERAGEA(GK128:GM128)>0,GK$147>0),GK$147,\"\")","v":""},null,null,{"$f":"IF(AND(AVERAGEA(GN144:GP144)>0,AVERAGEA(GN128:GP128)>0,GN$147>0),GN$147,\"\")","v":""},null,null,{"$f":"IF(AND(AVERAGEA(GQ144:GS144)>0,AVERAGEA(GQ128:GS128)>0,GQ$147>0),GQ$147,\"\")","v":""},null,null,{"$f":"IF(AND(AVERAGEA(GT144:GV144)>0,AVERAGEA(GT128:GV128)>0,GT$147>0),GT$147,\"\")","v":""},null,null,{"$f":"IF(AND(AVERAGEA(GW144:GY144)>0,AVERAGEA(GW128:GY128)>0,GW$147>0),GW$147,\"\")","v":""},null,null,{"$f":"IF(AND(AVERAGEA(GZ144:HB144)>0,AVERAGEA(GZ128:HB128)>0,GZ$147>0),GZ$147,\"\")","v":""},null,null,{"$f":"IF(AND(AVERAGEA(HC144:HE144)>0,AVERAGEA(HC128:HE128)>0,HC$147>0),HC$147,\"\")","v":""},null,null,{"$f":"IF(AND(AVERAGEA(HF144:HH144)>0,AVERAGEA(HF128:HH128)>0,HF$147>0),HF$147,\"\")","v":""},null,null,{"$f":"IF(AND(AVERAGEA(HI144:HK144)>0,AVERAGEA(HI128:HK128)>0,HI$147>0),HI$147,\"\")","v":""},null,null,{"$f":"IF(AND(AVERAGEA(HL144:HN144)>0,AVERAGEA(HL128:HN128)>0,HL$147>0),HL$147,\"\")","v":""},null,null,{"$f":"IF(AND(AVERAGEA(HO144:HQ144)>0,AVERAGEA(HO128:HQ128)>0,HO$147>0),HO$147,\"\")","v":""},null,null,{"$f":"IF(AND(AVERAGEA(HR144:HT144)>0,AVERAGEA(HR128:HT128)>0,HR$147>0),HR$147,\"\")","v":""},null,null,{"$f":"IF(AND(AVERAGEA(HU144:HW144)>0,AVERAGEA(HU128:HW128)>0,HU$147>0),HU$147,\"\")","v":""},null,null,{"$f":"IF(AND(AVERAGEA(HX144:HZ144)>0,AVERAGEA(HX128:HZ128)>0,HX$147>0),HX$147,\"\")","v":""},null,null,{"$f":"IF(AND(AVERAGEA(IA144:IC144)>0,AVERAGEA(IA128:IC128)>0,IA$147>0),IA$147,\"\")","v":""},null,null,{"$f":"IF(AND(AVERAGEA(ID144:IF144)>0,AVERAGEA(ID128:IF128)>0,ID$147>0),ID$147,\"\")","v":""},null,null,{"$f":"IF(AND(AVERAGEA(IG144:II144)>0,AVERAGEA(IG128:II128)>0,IG$147>0),IG$147,\"\")","v":""},null,null,{"$f":"IF(AND(AVERAGEA(IJ144:IL144)>0,AVERAGEA(IJ128:IL128)>0,IJ$147>0),IJ$147,\"\")","v":""},null,null,{"$f":"IF(AND(AVERAGEA(IM144:IO144)>0,AVERAGEA(IM128:IO128)>0,IM$147>0),IM$147,\"\")","v":""},null,null,{"$f":"IF(AND(AVERAGEA(IP144:IR144)>0,AVERAGEA(IP128:IR128)>0,IP$147>0),IP$147,\"\")","v":""},null,null,{"$f":"IF(AND(AVERAGEA(IS144:IU144)>0,AVERAGEA(IS128:IU128)>0,IS$147>0),IS$147,\"\")","v":""},null,null,{"$f":"IF(AND(AVERAGEA(IV144:IX144)>0,AVERAGEA(IV128:IX128)>0,IV$147>0),IV$147,\"\")","v":""},null,null,{"$f":"IF(AND(AVERAGEA(IY144:JA144)>0,AVERAGEA(IY128:JA128)>0,IY$147>0),IY$147,\"\")","v":""},null,null,{"$f":"IF(AND(AVERAGEA(JB144:JD144)>0,AVERAGEA(JB128:JD128)>0,JB$147>0),JB$147,\"\")","v":""},null,null,{"$f":"IF(AND(AVERAGEA(JE144:JG144)>0,AVERAGEA(JE128:JG128)>0,JE$147>0),JE$147,\"\")","v":""},null,null,{"$f":"IF(AND(AVERAGEA(JH144:JJ144)>0,AVERAGEA(JH128:JJ128)>0,JH$147>0),JH$147,\"\")","v":""},null,null,{"$f":"IF(AND(AVERAGEA(JK144:JM144)>0,AVERAGEA(JK128:JM128)>0,JK$147>0),JK$147,\"\")","v":""},null,null,{"$f":"IF(AND(AVERAGEA(JN144:JP144)>0,AVERAGEA(JN128:JP128)>0,JN$147>0),JN$147,\"\")","v":""},null,null,{"$f":"IF(AND(AVERAGEA(JQ144:JS144)>0,AVERAGEA(JQ128:JS128)>0,JQ$147>0),JQ$147,\"\")","v":""},null,null,{"$f":"IF(AND(AVERAGEA(JT144:JV144)>0,AVERAGEA(JT128:JV128)>0,JT$147>0),JT$147,\"\")","v":""},null,null,{"$f":"IF(AND(AVERAGEA(JW144:JY144)>0,AVERAGEA(JW128:JY128)>0,JW$147>0),JW$147,\"\")","v":""},null,null,{"$f":"IF(AND(AVERAGEA(JZ144:KB144)>0,AVERAGEA(JZ128:KB128)>0,JZ$147>0),JZ$147,\"\")","v":""},null,null,{"$f":"IF(AND(AVERAGEA(KC144:KE144)>0,AVERAGEA(KC128:KE128)>0,KC$147>0),KC$147,\"\")","v":""},null,null,{"$f":"IF(AND(AVERAGEA(KF144:KH144)>0,AVERAGEA(KF128:KH128)>0,KF$147>0),KF$147,\"\")","v":""},null,null,{"$f":"IF(AND(AVERAGEA(KI144:KK144)>0,AVERAGEA(KI128:KK128)>0,KI$147>0),KI$147,\"\")","v":""},null,null,{"$f":"IF(AND(AVERAGEA(KL144:KN144)>0,AVERAGEA(KL128:KN128)>0,KL$147>0),KL$147,\"\")","v":""},null,null,{"$f":"IF(AND(AVERAGEA(KO144:KQ144)>0,AVERAGEA(KO128:KQ128)>0,KO$147>0),KO$147,\"\")","v":""},null,null,{"$f":"IF(AND(AVERAGEA(KR144:KT144)>0,AVERAGEA(KR128:KT128)>0,KR$147>0),KR$147,\"\")","v":""},null,null,{"$f":"IF(AND(AVERAGEA(KU144:KW144)>0,AVERAGEA(KU128:KW128)>0,KU$147>0),KU$147,\"\")","v":""},null,null,{"$f":"IF(AND(AVERAGEA(KX144:KZ144)>0,AVERAGEA(KX128:KZ128)>0,KX$147>0),KX$147,\"\")","v":""},null,null,{"$f":"IF(AND(AVERAGEA(LA144:LC144)>0,AVERAGEA(LA128:LC128)>0,LA$147>0),LA$147,\"\")","v":""},null,null,{"$f":"IF(AND(AVERAGEA(LD144:LF144)>0,AVERAGEA(LD128:LF128)>0,LD$147>0),LD$147,\"\")","v":""}]
[null,"O17",null,{"$f":"IF(AND(AVERAGEA(D145:F145)>0,AVERAGEA(D129:F129)>0,D$147>0),D$147,\"\")","v":""},null,null,{"$f":"IF(AND(AVERAGEA(G145:I145)>0,AVERAGEA(G129:I129)>0,G$147>0),G$147,\"\")","v":""},null,null,{"$f":"IF(AND(AVERAGEA(J145:L145)>0,AVERAGEA(J129:L129)>0,J$147>0),J$147,\"\")","v":""},null,null,{"$f":"IF(AND(AVERAGEA(M145:O145)>0,AVERAGEA(M129:O129)>0,M$147>0),M$147,\"\")","v":""},null,null,{"$f":"IF(AND(AVERAGEA(P145:R145)>0,AVERAGEA(P129:R129)>0,P$147>0),P$147,\"\")","v":""},null,null,{"$f":"IF(AND(AVERAGEA(S145:U145)>0,AVERAGEA(S129:U129)>0,S$147>0),S$147,\"\")","v":""},null,null,{"$f":"IF(AND(AVERAGEA(V145:X145)>0,AVERAGEA(V129:X129)>0,V$147>0),V$147,\"\")","v":""},null,null,{"$f":"IF(AND(AVERAGEA(Y145:AA145)>0,AVERAGEA(Y129:AA129)>0,Y$147>0),Y$147,\"\")","v":""},null,null,{"$f":"IF(AND(AVERAGEA(AB145:AD145)>0,AVERAGEA(AB129:AD129)>0,AB$147>0),AB$147,\"\")","v":""},null,null,{"$f":"IF(AND(AVERAGEA(AE145:AG145)>0,AVERAGEA(AE129:AG129)>0,AE$147>0),AE$147,\"\")","v":""},null,null,{"$f":"IF(AND(AVERAGEA(AH145:AJ145)>0,AVERAGEA(AH129:AJ129)>0,AH$147>0),AH$147,\"\")","v":""},null,null,{"$f":"IF(AND(AVERAGEA(AK145:AM145)>0,AVERAGEA(AK129:AM129)>0,AK$147>0),AK$147,\"\")","v":""},null,null,{"$f":"IF(AND(AVERAGEA(AN145:AP145)>0,AVERAGEA(AN129:AP129)>0,AN$147>0),AN$147,\"\")","v":""},null,null,{"$f":"IF(AND(AVERAGEA(AQ145:AS145)>0,AVERAGEA(AQ129:AS129)>0,AQ$147>0),AQ$147,\"\")","v":""},null,null,{"$f":"IF(AND(AVERAGEA(AT145:AV145)>0,AVERAGEA(AT129:AV129)>0,AT$147>0),AT$147,\"\")","v":""},null,null,{"$f":"IF(AND(AVERAGEA(AW145:AY145)>0,AVERAGEA(AW129:AY129)>0,AW$147>0),AW$147,\"\")","v":""},null,null,{"$f":"IF(AND(AVERAGEA(AZ145:BB145)>0,AVERAGEA(AZ129:BB129)>0,AZ$147>0),AZ$147,\"\")","v":""},null,null,{"$f":"IF(AND(AVERAGEA(BC145:BE145)>0,AVERAGEA(BC129:BE129)>0,BC$147>0),BC$147,\"\")","v":""},null,null,{"$f":"IF(AND(AVERAGEA(BF145:BH145)>0,AVERAGEA(BF129:BH129)>0,BF$147>0),BF$147,\"\")","v":""},null,null,{"$f":"IF(AND(AVERAGEA(BI145:BK145)>0,AVERAGEA(BI129:BK129)>0,BI$147>0),BI$147,\"\")","v":""},null,null,{"$f":"IF(AND(AVERAGEA(BL145:BN145)>0,AVERAGEA(BL129:BN129)>0,BL$147>0),BL$147,\"\")","v":""},null,null,{"$f":"IF(AND(AVERAGEA(BO145:BQ145)>0,AVERAGEA(BO129:BQ129)>0,BO$147>0),BO$147,\"\")","v":""},null,null,{"$f":"IF(AND(AVERAGEA(BR145:BT145)>0,AVERAGEA(BR129:BT129)>0,BR$147>0),BR$147,\"\")","v":""},null,null,{"$f":"IF(AND(AVERAGEA(BU145:BW145)>0,AVERAGEA(BU129:BW129)>0,BU$147>0),BU$147,\"\")","v":""},null,null,{"$f":"IF(AND(AVERAGEA(BX145:BZ145)>0,AVERAGEA(BX129:BZ129)>0,BX$147>0),BX$147,\"\")","v":""},null,null,{"$f":"IF(AND(AVERAGEA(CA145:CC145)>0,AVERAGEA(CA129:CC129)>0,CA$147>0),CA$147,\"\")","v":""},null,null,{"$f":"IF(AND(AVERAGEA(CD145:CF145)>0,AVERAGEA(CD129:CF129)>0,CD$147>0),CD$147,\"\")","v":""},null,null,{"$f":"IF(AND(AVERAGEA(CG145:CI145)>0,AVERAGEA(CG129:CI129)>0,CG$147>0),CG$147,\"\")","v":""},null,null,{"$f":"IF(AND(AVERAGEA(CJ145:CL145)>0,AVERAGEA(CJ129:CL129)>0,CJ$147>0),CJ$147,\"\")","v":""},null,null,{"$f":"IF(AND(AVERAGEA(CM145:CO145)>0,AVERAGEA(CM129:CO129)>0,CM$147>0),CM$147,\"\")","v":""},null,null,{"$f":"IF(AND(AVERAGEA(CP145:CR145)>0,AVERAGEA(CP129:CR129)>0,CP$147>0),CP$147,\"\")","v":""},null,null,{"$f":"IF(AND(AVERAGEA(CS145:CU145)>0,AVERAGEA(CS129:CU129)>0,CS$147>0),CS$147,\"\")","v":""},null,null,{"$f":"IF(AND(AVERAGEA(CV145:CX145)>0,AVERAGEA(CV129:CX129)>0,CV$147>0),CV$147,\"\")","v":""},null,null,{"$f":"IF(AND(AVERAGEA(CY145:DA145)>0,AVERAGEA(CY129:DA129)>0,CY$147>0),CY$147,\"\")","v":""},null,null,{"$f":"IF(AND(AVERAGEA(DB145:DD145)>0,AVERAGEA(DB129:DD129)>0,DB$147>0),DB$147,\"\")","v":""},null,null,{"$f":"IF(AND(AVERAGEA(DE145:DG145)>0,AVERAGEA(DE129:DG129)>0,DE$147>0),DE$147,\"\")","v":""},null,null,{"$f":"IF(AND(AVERAGEA(DH145:DJ145)>0,AVERAGEA(DH129:DJ129)>0,DH$147>0),DH$147,\"\")","v":""},null,null,{"$f":"IF(AND(AVERAGEA(DK145:DM145)>0,AVERAGEA(DK129:DM129)>0,DK$147>0),DK$147,\"\")","v":""},null,null,{"$f":"IF(AND(AVERAGEA(DN145:DP145)>0,AVERAGEA(DN129:DP129)>0,DN$147>0),DN$147,\"\")","v":""},null,null,{"$f":"IF(AND(AVERAGEA(DQ145:DS145)>0,AVERAGEA(DQ129:DS129)>0,DQ$147>0),DQ$147,\"\")","v":""},null,null,{"$f":"IF(AND(AVERAGEA(DT145:DV145)>0,AVERAGEA(DT129:DV129)>0,DT$147>0),DT$147,\"\")","v":""},null,null,{"$f":"IF(AND(AVERAGEA(DW145:DY145)>0,AVERAGEA(DW129:DY129)>0,DW$147>0),DW$147,\"\")","v":""},null,null,{"$f":"IF(AND(AVERAGEA(DZ145:EB145)>0,AVERAGEA(DZ129:EB129)>0,DZ$147>0),DZ$147,\"\")","v":""},null,null,{"$f":"IF(AND(AVERAGEA(EC145:EE145)>0,AVERAGEA(EC129:EE129)>0,EC$147>0),EC$147,\"\")","v":""},null,null,{"$f":"IF(AND(AVERAGEA(EF145:EH145)>0,AVERAGEA(EF129:EH129)>0,EF$147>0),EF$147,\"\")","v":""},null,null,{"$f":"IF(AND(AVERAGEA(EI145:EK145)>0,AVERAGEA(EI129:EK129)>0,EI$147>0),EI$147,\"\")","v":""},null,null,{"$f":"IF(AND(AVERAGEA(EL145:EN145)>0,AVERAGEA(EL129:EN129)>0,EL$147>0),EL$147,\"\")","v":""},null,null,{"$f":"IF(AND(AVERAGEA(EO145:EQ145)>0,AVERAGEA(EO129:EQ129)>0,EO$147>0),EO$147,\"\")","v":""},null,null,{"$f":"IF(AND(AVERAGEA(ER145:ET145)>0,AVERAGEA(ER129:ET129)>0,ER$147>0),ER$147,\"\")","v":""},null,null,{"$f":"IF(AND(AVERAGEA(EU145:EW145)>0,AVERAGEA(EU129:EW129)>0,EU$147>0),EU$147,\"\")","v":""},null,null,{"$f":"IF(AND(AVERAGEA(EX145:EZ145)>0,AVERAGEA(EX129:EZ129)>0,EX$147>0),EX$147,\"\")","v":""},null,null,{"$f":"IF(AND(AVERAGEA(FA145:FC145)>0,AVERAGEA(FA129:FC129)>0,FA$147>0),FA$147,\"\")","v":""},null,null,{"$f":"IF(AND(AVERAGEA(FD145:FF145)>0,AVERAGEA(FD129:FF129)>0,FD$147>0),FD$147,\"\")","v":""},null,null,{"$f":"IF(AND(AVERAGEA(FG145:FI145)>0,AVERAGEA(FG129:FI129)>0,FG$147>0),FG$147,\"\")","v":""},null,null,{"$f":"IF(AND(AVERAGEA(FJ145:FL145)>0,AVERAGEA(FJ129:FL129)>0,FJ$147>0),FJ$147,\"\")","v":""},null,null,{"$f":"IF(AND(AVERAGEA(FM145:FO145)>0,AVERAGEA(FM129:FO129)>0,FM$147>0),FM$147,\"\")","v":""},null,null,{"$f":"IF(AND(AVERAGEA(FP145:FR145)>0,AVERAGEA(FP129:FR129)>0,FP$147>0),FP$147,\"\")","v":""},null,null,{"$f":"IF(AND(AVERAGEA(FS145:FU145)>0,AVERAGEA(FS129:FU129)>0,FS$147>0),FS$147,\"\")","v":""},null,null,{"$f":"IF(AND(AVERAGEA(FV145:FX145)>0,AVERAGEA(FV129:FX129)>0,FV$147>0),FV$147,\"\")","v":""},null,null,{"$f":"IF(AND(AVERAGEA(FY145:GA145)>0,AVERAGEA(FY129:GA129)>0,FY$147>0),FY$147,\"\")","v":""},null,null,{"$f":"IF(AND(AVERAGEA(GB145:GD145)>0,AVERAGEA(GB129:GD129)>0,GB$147>0),GB$147,\"\")","v":""},null,null,{"$f":"IF(AND(AVERAGEA(GE145:GG145)>0,AVERAGEA(GE129:GG129)>0,GE$147>0),GE$147,\"\")","v":""},null,null,{"$f":"IF(AND(AVERAGEA(GH145:GJ145)>0,AVERAGEA(GH129:GJ129)>0,GH$147>0),GH$147,\"\")","v":""},null,null,{"$f":"IF(AND(AVERAGEA(GK145:GM145)>0,AVERAGEA(GK129:GM129)>0,GK$147>0),GK$147,\"\")","v":""},null,null,{"$f":"IF(AND(AVERAGEA(GN145:GP145)>0,AVERAGEA(GN129:GP129)>0,GN$147>0),GN$147,\"\")","v":""},null,null,{"$f":"IF(AND(AVERAGEA(GQ145:GS145)>0,AVERAGEA(GQ129:GS129)>0,GQ$147>0),GQ$147,\"\")","v":""},null,null,{"$f":"IF(AND(AVERAGEA(GT145:GV145)>0,AVERAGEA(GT129:GV129)>0,GT$147>0),GT$147,\"\")","v":""},null,null,{"$f":"IF(AND(AVERAGEA(GW145:GY145)>0,AVERAGEA(GW129:GY129)>0,GW$147>0),GW$147,\"\")","v":""},null,null,{"$f":"IF(AND(AVERAGEA(GZ145:HB145)>0,AVERAGEA(GZ129:HB129)>0,GZ$147>0),GZ$147,\"\")","v":""},null,null,{"$f":"IF(AND(AVERAGEA(HC145:HE145)>0,AVERAGEA(HC129:HE129)>0,HC$147>0),HC$147,\"\")","v":""},null,null,{"$f":"IF(AND(AVERAGEA(HF145:HH145)>0,AVERAGEA(HF129:HH129)>0,HF$147>0),HF$147,\"\")","v":""},null,null,{"$f":"IF(AND(AVERAGEA(HI145:HK145)>0,AVERAGEA(HI129:HK129)>0,HI$147>0),HI$147,\"\")","v":""},null,null,{"$f":"IF(AND(AVERAGEA(HL145:HN145)>0,AVERAGEA(HL129:HN129)>0,HL$147>0),HL$147,\"\")","v":""},null,null,{"$f":"IF(AND(AVERAGEA(HO145:HQ145)>0,AVERAGEA(HO129:HQ129)>0,HO$147>0),HO$147,\"\")","v":""},null,null,{"$f":"IF(AND(AVERAGEA(HR145:HT145)>0,AVERAGEA(HR129:HT129)>0,HR$147>0),HR$147,\"\")","v":""},null,null,{"$f":"IF(AND(AVERAGEA(HU145:HW145)>0,AVERAGEA(HU129:HW129)>0,HU$147>0),HU$147,\"\")","v":""},null,null,{"$f":"IF(AND(AVERAGEA(HX145:HZ145)>0,AVERAGEA(HX129:HZ129)>0,HX$147>0),HX$147,\"\")","v":""},null,null,{"$f":"IF(AND(AVERAGEA(IA145:IC145)>0,AVERAGEA(IA129:IC129)>0,IA$147>0),IA$147,\"\")","v":""},null,null,{"$f":"IF(AND(AVERAGEA(ID145:IF145)>0,AVERAGEA(ID129:IF129)>0,ID$147>0),ID$147,\"\")","v":""},null,null,{"$f":"IF(AND(AVERAGEA(IG145:II145)>0,AVERAGEA(IG129:II129)>0,IG$147>0),IG$147,\"\")","v":""},null,null,{"$f":"IF(AND(AVERAGEA(IJ145:IL145)>0,AVERAGEA(IJ129:IL129)>0,IJ$147>0),IJ$147,\"\")","v":""},null,null,{"$f":"IF(AND(AVERAGEA(IM145:IO145)>0,AVERAGEA(IM129:IO129)>0,IM$147>0),IM$147,\"\")","v":""},null,null,{"$f":"IF(AND(AVERAGEA(IP145:IR145)>0,AVERAGEA(IP129:IR129)>0,IP$147>0),IP$147,\"\")","v":""},null,null,{"$f":"IF(AND(AVERAGEA(IS145:IU145)>0,AVERAGEA(IS129:IU129)>0,IS$147>0),IS$147,\"\")","v":""},null,null,{"$f":"IF(AND(AVERAGEA(IV145:IX145)>0,AVERAGEA(IV129:IX129)>0,IV$147>0),IV$147,\"\")","v":""},null,null,{"$f":"IF(AND(AVERAGEA(IY145:JA145)>0,AVERAGEA(IY129:JA129)>0,IY$147>0),IY$147,\"\")","v":""},null,null,{"$f":"IF(AND(AVERAGEA(JB145:JD145)>0,AVERAGEA(JB129:JD129)>0,JB$147>0),JB$147,\"\")","v":""},null,null,{"$f":"IF(AND(AVERAGEA(JE145:JG145)>0,AVERAGEA(JE129:JG129)>0,JE$147>0),JE$147,\"\")","v":""},null,null,{"$f":"IF(AND(AVERAGEA(JH145:JJ145)>0,AVERAGEA(JH129:JJ129)>0,JH$147>0),JH$147,\"\")","v":""},null,null,{"$f":"IF(AND(AVERAGEA(JK145:JM145)>0,AVERAGEA(JK129:JM129)>0,JK$147>0),JK$147,\"\")","v":""},null,null,{"$f":"IF(AND(AVERAGEA(JN145:JP145)>0,AVERAGEA(JN129:JP129)>0,JN$147>0),JN$147,\"\")","v":""},null,null,{"$f":"IF(AND(AVERAGEA(JQ145:JS145)>0,AVERAGEA(JQ129:JS129)>0,JQ$147>0),JQ$147,\"\")","v":""},null,null,{"$f":"IF(AND(AVERAGEA(JT145:JV145)>0,AVERAGEA(JT129:JV129)>0,JT$147>0),JT$147,\"\")","v":""},null,null,{"$f":"IF(AND(AVERAGEA(JW145:JY145)>0,AVERAGEA(JW129:JY129)>0,JW$147>0),JW$147,\"\")","v":""},null,null,{"$f":"IF(AND(AVERAGEA(JZ145:KB145)>0,AVERAGEA(JZ129:KB129)>0,JZ$147>0),JZ$147,\"\")","v":""},null,null,{"$f":"IF(AND(AVERAGEA(KC145:KE145)>0,AVERAGEA(KC129:KE129)>0,KC$147>0),KC$147,\"\")","v":""},null,null,{"$f":"IF(AND(AVERAGEA(KF145:KH145)>0,AVERAGEA(KF129:KH129)>0,KF$147>0),KF$147,\"\")","v":""},null,null,{"$f":"IF(AND(AVERAGEA(KI145:KK145)>0,AVERAGEA(KI129:KK129)>0,KI$147>0),KI$147,\"\")","v":""},null,null,{"$f":"IF(AND(AVERAGEA(KL145:KN145)>0,AVERAGEA(KL129:KN129)>0,KL$147>0),KL$147,\"\")","v":""},null,null,{"$f":"IF(AND(AVERAGEA(KO145:KQ145)>0,AVERAGEA(KO129:KQ129)>0,KO$147>0),KO$147,\"\")","v":""},null,null,{"$f":"IF(AND(AVERAGEA(KR145:KT145)>0,AVERAGEA(KR129:KT129)>0,KR$147>0),KR$147,\"\")","v":""},null,null,{"$f":"IF(AND(AVERAGEA(KU145:KW145)>0,AVERAGEA(KU129:KW129)>0,KU$147>0),KU$147,\"\")","v":""},null,null,{"$f":"IF(AND(AVERAGEA(KX145:KZ145)>0,AVERAGEA(KX129:KZ129)>0,KX$147>0),KX$147,\"\")","v":""},null,null,{"$f":"IF(AND(AVERAGEA(LA145:LC145)>0,AVERAGEA(LA129:LC129)>0,LA$147>0),LA$147,\"\")","v":""},null,null,{"$f":"IF(AND(AVERAGEA(LD145:LF145)>0,AVERAGEA(LD129:LF129)>0,LD$147>0),LD$147,\"\")","v":""}]

{"sheet":"Youth Survey","index":6,"n_rows":117,"n_cols":318,"rows_kept":117,"cut":false,"hidden":false,"merged":[]}
[null,null,null,"1st Delivery",null,null,null,null,null,null,null,null,null,null,null,null,null,null,null,null,null,null,null,null,null,null,null,null,null,null,null,null,null,null,null,null,null,null,null,null,null,null,null,null,null,null,null,null,"2nd Delivery within Quarter",null,null,null,null,null,null,null,null,null,null,null,null,null,null,null,null,null,null,null,null,null,null,null,null,null,null,null,null,null,null,null,null,null,null,null,null,null,null,null,null,null,null,null,null,"3RD Delivery within Quarter",null,null,null,null,null,null,null,null,null,null,null,null,null,null,null,null,null,null,null,null,null,null,null,null,null,null,null,null,null,null,null,null,null,null,null,null,null,null,null,null,null,null,null,null,"4TH Delivery within Quarter",null,null,null,null,null,null,null,null,null,null,null,null,null,null,null,null,null,null,null,null,null,null,null,null,null,null,null,null,null,null,null,null,null,null,null,null,null,null,null,null,null,null,null,null,"5TH Delivery within Quarter",null,null,null,null,null,null,null,null,null,null,null,null,null,null,null,null,null,null,null,null,null,null,null,null,null,null,null,null,null,null,null,null,null,null,null,null,null,null,null,null,null,null,null,null,"6TH Delivery within Quarter",null,null,null,null,null,null,null,null,null,null,null,null,null,null,null,null,null,null,null,null,null,null,null,null,null,null,null,null,null,null,null,null,null,null,null,null,null,null,null,null,null,null,null,null,"7 TH Delivery within Quarter"]
[null,null,"YOUTH SURVEY","Quarter Completed",null,null,null,{"$f":"Attendance!$E$3","v":0},null,null,null,null,null,null,null,null,null,null,null,null,null,null,null,null,null,null,null,null,null,null,null,null,null,null,null,null,null,null,null,null,null,null,null,null,null,null,null,null,"Quarter Completed",null,null,null,{"$f":"Attendance!$K$3","v":0},null,null,null,null,null,null,null,null,null,null,null,null,null,null,null,null,null,null,null,null,null,null,null,null,null,null,null,null,null,null,null,null,null,null,null,null,null,null,null,null,"Quarter Completed",null,null,null,{"$f":"Attendance!$Q$3","v":0},null,null,null,null,null,null,null,null,null,null,null,null,null,null,null,null,null,null,null,null,null,null,null,null,null,null,null,null,null,null,null,null,null,null,null,null,null,null,null,null,"Quarter Completed",null,null,null,{"$f":"Attendance!$W$3","v":0},null,null,null,null,null,null,null,null,null,null,null,null,null,null,null,null,null,null,null,null,null,null,null,null,null,null,null,null,null,null,null,null,null,null,null,null,null,null,null,null,"Quarter Completed",null,null,null,{"$f":"Attendance!$AC$3","v":0},null,null,null,null,null,null,null,null,null,null,null,null,null,null,null,null,null,null,null,null,null,null,null,null,null,null,null,null,null,null,null,null,null,null,null,null,null,null,null,null,"Quarter Completed",null,null,null,{"$f":"Attendance!$AI$3","v":0},null,null,null,null,null,null,null,null,null,null,null,null,null,null,null,null,null,null,null,null,null,null,null,null,null,null,null,null,null,null,null,null,null,null,null,null,null,null,null,null,"Quarter Completed",null,null,null,{"$f":"Attendance!$AO$3","v":0}]
[null,null,"Workshop Location",{"$f":"Attendance!$D$6","v":0},null,null,null,null,null,null,null,null,null,null,null,null,null,null,null,null,null,null,null,null,null,null,null,null,null,null,null,null,null,null,null,null,null,null,null,null,null,null,null,null,null,null,null,null,{"$f":"Attendance!$J$6","v":0}]
[null,null,"Initials",{"$f":"IF(Attendance!$E$11>0,Attendance!$E$11,\"\")","v":""},{"$f":"IF(Attendance!$F$11>0,Attendance!$F$11,\"\")","v":""},{"$f":"IF(Attendance!$G$11>0,Attendance!$G$11,\"\")","v":""},{"$f":"IF(Attendance!$E$25>0,Attendance!$E$25,\"\")","v":""},{"$f":"IF(Attendance!$F$25>0,Attendance!$F$25,\"\")","v":""},{"$f":"IF(Attendance!$G$25>0,Attendance!$G$25,\"\")","v":""},{"$f":"IF(Attendance!$E$39>0,Attendance!$E$39,\"\")","v":""},{"$f":"IF(Attendance!$F$39>0,Attendance!$F$39,\"\")","v":""},{"$f":"IF(Attendance!$G$39>0,Attendance!$G$39,\"\")","v":""},{"$f":"IF(Attendance!$E$53>0,Attendance!$E$53,\"\")","v":""},{"$f":"IF(Attendance!$F$53>0,Attendance!$F$53,\"\")","v":""},{"$f":"IF(Attendance!$G$53>0,Attendance!$G$53,\"\")","v":""},{"$f":"IF(Attendance!$E$67>0,Attendance!$E$67,\"\")","v":""},{"$f":"IF(Attendance!$F$67>0,Attendance!$F$67,\"\")","v":""},{"$f":"IF(Attendance!$G$67>0,Attendance!$G$67,\"\")","v":""},{"$f":"IF(Attendance!$E$81>0,Attendance!$E$81,\"\")","v":""},{"$f":"IF(Attendance!$F$81>0,Attendance!$F$81,\"\")","v":""},{"$f":"IF(Attendance!$G$81>0,Attendance!$G$81,\"\")","v":""},{"$f":"IF(Attendance!$E$95>0,Attendance!$E$95,\"\")","v":""},{"$f":"IF(Attendance!$F$95>0,Attendance!$F$95,\"\")","v":""},{"$f":"IF(Attendance!$G$95>0,Attendance!$G$95,\"\")","v":""},{"$f":"IF(Attendance!$E$109>0,Attendance!$E$109,\"\")","v":""},{"$f":"IF(Attendance!$F$109>0,Attendance!$F$109,\"\")","v":""},{"$f":"IF(Attendance!$G$109>0,Attendance!$G$109,\"\")","v":""},{"$f":"IF(Attendance!$E$123>0,Attendance!$E$123,\"\")","v":""},{"$f":"IF(Attendance!$F$123>0,Attendance!$F$123,\"\")","v":""},{"$f":"IF(Attendance!$G$123>0,Attendance!$G$123,\"\")","v":""},{"$f":"IF(Attendance!$E$137>0,Attendance!$E$137,\"\")","v":""},{"$f":"IF(Attendance!$F$137>0,Attendance!$F$137,\"\")","v":""},{"$f":"IF(Attendance!$G$137>0,Attendance!$G$137,\"\")","v":""},{"$f":"IF(Attendance!$E$151>0,Attendance!$E$151,\"\")","v":""},{"$f":"IF(Attendance!$F$151>0,Attendance!$F$151,\"\")","v":""},{"$f":"IF(Attendance!$G$151>0,Attendance!$G$151,\"\")","v":""},{"$f":"IF(Attendance!$E$165>0,Attendance!$E$165,\"\")","v":""},{"$f":"IF(Attendance!$F$165>0,Attendance!$F$165,\"\")","v":""},{"$f":"IF(Attendance!$G$165>0,Attendance!$G$165,\"\")","v":""},{"$f":"IF(Attendance!$E$179>0,Attendance!$E$179,\"\")","v":""},{"$f":"IF(Attendance!$F$179>0,Attendance!$F$179,\"\")","v":""},{"$f":"IF(Attendance!$G$179>0,Attendance!$G$179,\"\")","v":""},{"$f":"IF(Attendance!$E$193>0,Attendance!$E$193,\"\")","v":""},{"$f":"IF(Attendance!$F$193>0,Attendance!$F$193,\"\")","v":""},{"$f":"IF(Attendance!$G$193>0,Attendance!$G$193,\"\")","v":""},{"$f":"IF(Attendance!$E$207>0,Attendance!$E$207,\"\")","v":""},{"$f":"IF(Attendance!$F$207>0,Attendance!$F$207,\"\")","v":""},{"$f":"IF(Attendance!$G$207>0,Attendance!$G$207,\"\")","v":""},{"$f":"IF(Attendance!$K$11>0,Attendance!$K$11,\"\")","v":""},{"$f":"IF(Attendance!$L$11>0,Attendance!$L$11,\"\")","v":""},{"$f":"IF(Attendance!$M$11>0,Attendance!$M$11,\"\")","v":""},{"$f":"IF(Attendance!$K$25>0,Attendance!$K$25,\"\")","v":""},{"$f":"IF(Attendance!$L$25>0,Attendance!$L$25,\"\")","v":""},{"$f":"IF(Attendance!$M$25>0,Attendance!$M$25,\"\")","v":""},{"$f":"IF(Attendance!$K$39>0,Attendance!$K$39,\"\")","v":""},{"$f":"IF(Attendance!$L$39>0,Attendance!$L$39,\"\")","v":""},{"$f":"IF(Attendance!$M$39>0,Attendance!$M$39,\"\")","v":""},{"$f":"IF(Attendance!$K$53>0,Attendance!$K$53,\"\")","v":""},{"$f":"IF(Attendance!$L$53>0,Attendance!$L$53,\"\")","v":""},{"$f":"IF(Attendance!$M$53>0,Attendance!$M$53,\"\")","v":""},{"$f":"IF(Attendance!$K$67>0,Attendance!$K$67,\"\")","v":""},{"$f":"IF(Attendance!$L$67>0,Attendance!$L$67,\"\")","v":""},{"$f":"IF(Attendance!$M$67>0,Attendance!$M$67,\"\")","v":""},{"$f":"IF(Attendance!$K$81>0,Attendance!$K$81,\"\")","v":""},{"$f":"IF(Attendance!$L$81>0,Attendance!$L$81,\"\")","v":""},{"$f":"IF(Attendance!$M$81>0,Attendance!$M$81,\"\")","v":""},{"$f":"IF(Attendance!$K$95>0,Attendance!$K$95,\"\")","v":""},{"$f":"IF(Attendance!$L$95>0,Attendance!$L$95,\"\")","v":""},{"$f":"IF(Attendance!$M$95>0,Attendance!$M$95,\"\")","v":""},{"$f":"IF(Attendance!$K$109>0,Attendance!$K$109,\"\")","v":""},{"$f":"IF(Attendance!$L$109>0,Attendance!$L$109,\"\")","v":""},{"$f":"IF(Attendance!$M$109>0,Attendance!$M$109,\"\")","v":""},{"$f":"IF(Attendance!$K$123>0,Attendance!$K$123,\"\")","v":""},{"$f":"IF(Attendance!$L$123>0,Attendance!$L$123,\"\")","v":""},{"$f":"IF(Attendance!$M$123>0,Attendance!$M$123,\"\")","v":""},{"$f":"IF(Attendance!$K$137>0,Attendance!$K$137,\"\")","v":""},{"$f":"IF(Attendance!$L$137>0,Attendance!$L$137,\"\")","v":""},{"$f":"IF(Attendance!$M$137>0,Attendance!$M$137,\"\")","v":""},{"$f":"IF(Attendance!$K$151>0,Attendance!$K$151,\"\")","v":""},{"$f":"IF(Attendance!$L$151>0,Attendance!$L$151,\"\")","v":""},{"$f":"IF(Attendance!$M$151>0,Attendance!$M$151,\"\")","v":""},{"$f":"IF(Attendance!$K$165>0,Attendance!$K$165,\"\")","v":""},{"$f":"IF(Attendance!$L$165>0,Attendance!$L$165,\"\")","v":""},{"$f":"IF(Attendance!$M$165>0,Attendance!$M$165,\"\")","v":""},{"$f":"IF(Attendance!$K$179>0,Attendance!$K$179,\"\")","v":""},{"$f":"IF(Attendance!$L$179>0,Attendance!$L$179,\"\")","v":""},{"$f":"IF(Attendance!$M$179>0,Attendance!$M$179,\"\")","v":""},{"$f":"IF(Attendance!$K$193>0,Attendance!$K$193,\"\")","v":""},{"$f":"IF(Attendance!$L$193>0,Attendance!$L$193,\"\")","v":""},{"$f":"IF(Attendance!$M$193>0,Attendance!$M$193,\"\")","v":""},{"$f":"IF(Attendance!$K$207>0,Attendance!$K$207,\"\")","v":""},{"$f":"IF(Attendance!$L$207>0,Attendance!$L$207,\"\")","v":""},{"$f":"IF(Attendance!$M$207>0,Attendance!$M$207,\"\")","v":""},{"$f":"IF(Attendance!$Q$11>0,Attendance!$Q$11,\"\")","v":""},{"$f":"IF(Attendance!$R$11>0,Attendance!$R$11,\"\")","v":""},{"$f":"IF(Attendance!$S$11>0,Attendance!$S$11,\"\")","v":""},{"$f":"IF(Attendance!$Q$25>0,Attendance!$Q$25,\"\")","v":""},{"$f":"IF(Attendance!$R$25>0,Attendance!$R$25,\"\")","v":""},{"$f":"IF(Attendance!$S$25>0,Attendance!$S$25,\"\")","v":""},{"$f":"IF(Attendance!$Q$39>0,Attendance!$Q$39,\"\")","v":""},{"$f":"IF(Attendance!$R$39>0,Attendance!$R$39,\"\")","v":""},{"$f":"IF(Attendance!$S$39>0,Attendance!$S$39,\"\")","v":""},{"$f":"IF(Attendance!$Q$53>0,Attendance!$Q$53,\"\")","v":""},{"$f":"IF(Attendance!$R$53>0,Attendance!$R$53,\"\")","v":""},{"$f":"IF(Attendance!$S$53>0,Attendance!$S$53,\"\")","v":""},{"$f":"IF(Attendance!$Q$67>0,Attendance!$Q$67,\"\")","v":""},{"$f":"IF(Attendance!$R$67>0,Attendance!$R$67,\"\")","v":""},{"$f":"IF(Attendance!$S$67>0,Attendance!$S$67,\"\")","v":""},{"$f":"IF(Attendance!$Q$81>0,Attendance!$Q$81,\"\")","v":""},{"$f":"IF(Attendance!$R$81>0,Attendance!$R$81,\"\")","v":""},{"$f":"IF(Attendance!$S$81>0,Attendance!$S$81,\"\")","v":""},{"$f":"IF(Attendance!$Q$95>0,Attendance!$Q$95,\"\")","v":""},{"$f":"IF(Attendance!$R$95>0,Attendance!$R$95,\"\")","v":""},{"$f":"IF(Attendance!$S$95>0,Attendance!$S$95,\"\")","v":""},{"$f":"IF(Attendance!$Q$109>0,Attendance!$Q$109,\"\")","v":""},{"$f":"IF(Attendance!$R$109>0,Attendance!$R$109,\"\")","v":""},{"$f":"IF(Attendance!$S$109>0,Attendance!$S$109,\"\")","v":""},{"$f":"IF(Attendance!$Q$123>0,Attendance!$Q$123,\"\")","v":""},{"$f":"IF(Attendance!$R$123>0,Attendance!$R$123,\"\")","v":""},{"$f":"IF(Attendance!$S$123>0,Attendance!$S$123,\"\")","v":""},{"$f":"IF(Attendance!$Q$137>0,Attendance!$Q$137,\"\")","v":""},{"$f":"IF(Attendance!$R$137>0,Attendance!$R$137,\"\")","v":""},{"$f":"IF(Attendance!$S$137>0,Attendance!$S$137,\"\")","v":""},{"$f":"IF(Attendance!$Q$151>0,Attendance!$Q$151,\"\")","v":""},{"$f":"IF(Attendance!$R$151>0,Attendance!$R$151,\"\")","v":""},{"$f":"IF(Attendance!$S$151>0,Attendance!$S$151,\"\")","v":""},{"$f":"IF(Attendance!$Q$165>0,Attendance!$Q$165,\"\")","v":""},{"$f":"IF(Attendance!$R$165>0,Attendance!$R$165,\"\")","v":""},{"$f":"IF(Attendance!$S$165>0,Attendance!$S$165,\"\")","v":""},{"$f":"IF(Attendance!$Q$179>0,Attendance!$Q$179,\"\")","v":""},{"$f":"IF(Attendance!$R$179>0,Attendance!$R$179,\"\")","v":""},{"$f":"IF(Attendance!$S$179>0,Attendance!$S$179,\"\")","v":""},{"$f":"IF(Attendance!$Q$193>0,Attendance!$Q$193,\"\")","v":""},{"$f":"IF(Attendance!$R$193>0,Attendance!$R$193,\"\")","v":""},{"$f":"IF(Attendance!$S$193>0,Attendance!$S$193,\"\")","v":""},{"$f":"IF(Attendance!$Q$207>0,Attendance!$Q$207,\"\")","v":""},{"$f":"IF(Attendance!$R$207>0,Attendance!$R$207,\"\")","v":""},{"$f":"IF(Attendance!$S$207>0,Attendance!$S$207,\"\")","v":""},{"$f":"IF(Attendance!$W$11>0,Attendance!$W$11,\"\")","v":""},{"$f":"IF(Attendance!$X$11>0,Attendance!$X$11,\"\")","v":""},{"$f":"IF(Attendance!$Y$11>0,Attendance!$Y$11,\"\")","v":""},{"$f":"IF(Attendance!$W$25>0,Attendance!$W$25,\"\")","v":""},{"$f":"IF(Attendance!$X$25>0,Attendance!$X$25,\"\")","v":""},{"$f":"IF(Attendance!$Y$25>0,Attendance!$Y$25,\"\")","v":""},{"$f":"IF(Attendance!$W$39>0,Attendance!$W$39,\"\")","v":""},{"$f":"IF(Attendance!$X$39>0,Attendance!$X$39,\"\")","v":""},{"$f":"IF(Attendance!$Y$39>0,Attendance!$Y$39,\"\")","v":""},{"$f":"IF(Attendance!$W$53>0,Attendance!$W$53,\"\")","v":""},{"$f":"IF(Attendance!$X$53>0,Attendance!$X$53,\"\")","v":""},{"$f":"IF(Attendance!$Y$53>0,Attendance!$Y$53,\"\")","v":""},{"$f":"IF(Attendance!$W$67>0,Attendance!$W$67,\"\")","v":""},{"$f":"IF(Attendance!$X$67>0,Attendance!$X$67,\"\")","v":""},{"$f":"IF(Attendance!$Y$67>0,Attendance!$Y$67,\"\")","v":""},{"$f":"IF(Attendance!$W$81>0,Attendance!$W$81,\"\")","v":""},{"$f":"IF(Attendance!$X$81>0,Attendance!$X$81,\"\")","v":""},{"$f":"IF(Attendance!$Y$81>0,Attendance!$Y$81,\"\")","v":""},{"$f":"IF(Attendance!$W$95>0,Attendance!$W$95,\"\")","v":""},{"$f":"IF(Attendance!$X$95>0,Attendance!$X$95,\"\")","v":""},{"$f":"IF(Attendance!$Y$95>0,Attendance!$Y$95,\"\")","v":""},{"$f":"IF(Attendance!$W$109>0,Attendance!$W$109,\"\")","v":""},{"$f":"IF(Attendance!$X$109>0,Attendance!$X$109,\"\")","v":""},{"$f":"IF(Attendance!$Y$109>0,Attendance!$Y$109,\"\")","v":""},{"$f":"IF(Attendance!$W$123>0,Attendance!$W$123,\"\")","v":""},{"$f":"IF(Attendance!$X$123>0,Attendance!$X$123,\"\")","v":""},{"$f":"IF(Attendance!$Y$123>0,Attendance!$Y$123,\"\")","v":""},{"$f":"IF(Attendance!$W$137>0,Attendance!$W$137,\"\")","v":""},{"$f":"IF(Attendance!$X$137>0,Attendance!$X$137,\"\")","v":""},{"$f":"IF(Attendance!$Y$137>0,Attendance!$Y$137,\"\")","v":""},{"$f":"IF(Attendance!$W$151>0,Attendance!$W$151,\"\")","v":""},{"$f":"IF(Attendance!$X$151>0,Attendance!$X$151,\"\")","v":""},{"$f":"IF(Attendance!$Y$151>0,Attendance!$Y$151,\"\")","v":""},{"$f":"IF(Attendance!$W$165>0,Attendance!$W$165,\"\")","v":""},{"$f":"IF(Attendance!$X$165>0,Attendance!$X$165,\"\")","v":""},{"$f":"IF(Attendance!$Y$165>0,Attendance!$Y$165,\"\")","v":""},{"$f":"IF(Attendance!$W$179>0,Attendance!$W$179,\"\")","v":""},{"$f":"IF(Attendance!$X$179>0,Attendance!$X$179,\"\")","v":""},{"$f":"IF(Attendance!$Y$179>0,Attendance!$Y$179,\"\")","v":""},{"$f":"IF(Attendance!$W$193>0,Attendance!$W$193,\"\")","v":""},{"$f":"IF(Attendance!$X$193>0,Attendance!$X$193,\"\")","v":""},{"$f":"IF(Attendance!$Y$193>0,Attendance!$Y$193,\"\")","v":""},{"$f":"IF(Attendance!$W$207>0,Attendance!$W$207,\"\")","v":""},{"$f":"IF(Attendance!$X$207>0,Attendance!$X$207,\"\")","v":""},{"$f":"IF(Attendance!$Y$207>0,Attendance!$Y$207,\"\")","v":""},{"$f":"IF(Attendance!$AC$11>0,Attendance!$AC$11,\"\")","v":""},{"$f":"IF(Attendance!$AD$11>0,Attendance!$AD$11,\"\")","v":""},{"$f":"IF(Attendance!$AE$11>0,Attendance!$AE$11,\"\")","v":""},{"$f":"IF(Attendance!$AC$25>0,Attendance!$AC$25,\"\")","v":""},{"$f":"IF(Attendance!$AD$25>0,Attendance!$AD$25,\"\")","v":""},{"$f":"IF(Attendance!$AE$25>0,Attendance!$AE$25,\"\")","v":""},{"$f":"IF(Attendance!$AC$39>0,Attendance!$AC$39,\"\")","v":""},{"$f":"IF(Attendance!$AD$39>0,Attendance!$AD$39,\"\")","v":""},{"$f":"IF(Attendance!$AE$39>0,Attendance!$AE$39,\"\")","v":""},{"$f":"IF(Attendance!$AC$53>0,Attendance!$AC$53,\"\")","v":""},{"$f":"IF(Attendance!$AD$53>0,Attendance!$AD$53,\"\")","v":""},{"$f":"IF(Attendance!$AE$53>0,Attendance!$AE$53,\"\")","v":""},{"$f":"IF(Attendance!$AC$67>0,Attendance!$AC$67,\"\")","v":""},{"$f":"IF(Attendance!$AD$67>0,Attendance!$AD$67,\"\")","v":""},{"$f":"IF(Attendance!$AE$67>0,Attendance!$AE$67,\"\")","v":""},{"$f":"IF(Attendance!$AC$81>0,Attendance!$AC$81,\"\")","v":""},{"$f":"IF(Attendance!$AD$81>0,Attendance!$AD$81,\"\")","v":""},{"$f":"IF(Attendance!$AE$81>0,Attendance!$AE$81,\"\")","v":""},{"$f":"IF(Attendance!$AC$95>0,Attendance!$AC$95,\"\")","v":""},{"$f":"IF(Attendance!$AD$95>0,Attendance!$AD$95,\"\")","v":""},{"$f":"IF(Attendance!$AE$95>0,Attendance!$AE$95,\"\")","v":""},{"$f":"IF(Attendance!$AC$109>0,Attendance!$AC$109,\"\")","v":""},{"$f":"IF(Attendance!$AD$109>0,Attendance!$AD$109,\"\")","v":""},{"$f":"IF(Attendance!$AE$109>0,Attendance!$AE$109,\"\")","v":""},{"$f":"IF(Attendance!$AC$123>0,Attendance!$AC$123,\"\")","v":""},{"$f":"IF(Attendance!$AD$123>0,Attendance!$AD$123,\"\")","v":""},{"$f":"IF(Attendance!$AE$123>0,Attendance!$AE$123,\"\")","v":""},{"$f":"IF(Attendance!$AC$137>0,Attendance!$AC$137,\"\")","v":""},{"$f":"IF(Attendance!$AD$137>0,Attendance!$AD$137,\"\")","v":""},{"$f":"IF(Attendance!$AE$137>0,Attendance!$AE$137,\"\")","v":""},{"$f":"IF(Attendance!$AC$151>0,Attendance!$AC$151,\"\")","v":""},{"$f":"IF(Attendance!$AD$151>0,Attendance!$AD$151,\"\")","v":""},{"$f":"IF(Attendance!$AE$151>0,Attendance!$AE$151,\"\")","v":""},{"$f":"IF(Attendance!$AC$165>0,Attendance!$AC$165,\"\")","v":""},{"$f":"IF(Attendance!$AD$165>0,Attendance!$AD$165,\"\")","v":""},{"$f":"IF(Attendance!$AE$165>0,Attendance!$AE$165,\"\")","v":""},{"$f":"IF(Attendance!$AC$179>0,Attendance!$AC$179,\"\")","v":""},{"$f":"IF(Attendance!$AD$179>0,Attendance!$AD$179,\"\")","v":""},{"$f":"IF(Attendance!$AE$179>0,Attendance!$AE$179,\"\")","v":""},{"$f":"IF(Attendance!$AC$193>0,Attendance!$AC$193,\"\")","v":""},{"$f":"IF(Attendance!$AD$193>0,Attendance!$AD$193,\"\")","v":""},{"$f":"IF(Attendance!$AE$193>0,Attendance!$AE$193,\"\")","v":""},{"$f":"IF(Attendance!$AC$207>0,Attendance!$AC$207,\"\")","v":""},{"$f":"IF(Attendance!$AD$207>0,Attendance!$AD$207,\"\")","v":""},{"$f":"IF(Attendance!$AE$207>0,Attendance!$AE$207,\"\")","v":""},{"$f":"IF(Attendance!$AI$11>0,Attendance!$AI$11,\"\")","v":""},{"$f":"IF(Attendance!$AJ$11>0,Attendance!$AJ$11,\"\")","v":""},{"$f":"IF(Attendance!$AK$11>0,Attendance!$AK$11,\"\")","v":""},{"$f":"IF(Attendance!$AI$25>0,Attendance!$AI$25,\"\")","v":""},{"$f":"IF(Attendance!$AJ$25>0,Attendance!$AJ$25,\"\")","v":""},{"$f":"IF(Attendance!$AK$25>0,Attendance!$AK$25,\"\")","v":""},{"$f":"IF(Attendance!$AI$39>0,Attendance!$AI$39,\"\")","v":""},{"$f":"IF(Attendance!$AJ$39>0,Attendance!$AJ$39,\"\")","v":""},{"$f":"IF(Attendance!$AK$39>0,Attendance!$AK$39,\"\")","v":""},{"$f":"IF(Attendance!$AI$53>0,Attendance!$AI$53,\"\")","v":""},{"$f":"IF(Attendance!$AJ$53>0,Attendance!$AJ$53,\"\")","v":""},{"$f":"IF(Attendance!$AK$53>0,Attendance!$AK$53,\"\")","v":""},{"$f":"IF(Attendance!$AI$67>0,Attendance!$AI$67,\"\")","v":""},{"$f":"IF(Attendance!$AJ$67>0,Attendance!$AJ$67,\"\")","v":""},{"$f":"IF(Attendance!$AK$67>0,Attendance!$AK$67,\"\")","v":""},{"$f":"IF(Attendance!$AI$81>0,Attendance!$AI$81,\"\")","v":""},{"$f":"IF(Attendance!$AJ$81>0,Attendance!$AJ$81,\"\")","v":""},{"$f":"IF(Attendance!$AK$81>0,Attendance!$AK$81,\"\")","v":""},{"$f":"IF(Attendance!$AI$95>0,Attendance!$AI$95,\"\")","v":""},{"$f":"IF(Attendance!$AJ$95>0,Attendance!$AJ$95,\"\")","v":""},{"$f":"IF(Attendance!$AK$95>0,Attendance!$AK$95,\"\")","v":""},{"$f":"IF(Attendance!$AI$109>0,Attendance!$AI$109,\"\")","v":""},{"$f":"IF(Attendance!$AJ$109>0,Attendance!$AJ$109,\"\")","v":""},{"$f":"IF(Attendance!$AK$109>0,Attendance!$AK$109,\"\")","v":""},{"$f":"IF(Attendance!$AI$123>0,Attendance!$AI$123,\"\")","v":""},{"$f":"IF(Attendance!$AJ$123>0,Attendance!$AJ$123,\"\")","v":""},{"$f":"IF(Attendance!$AK$123>0,Attendance!$AK$123,\"\")","v":""},{"$f":"IF(Attendance!$AI$137>0,Attendance!$AI$137,\"\")","v":""},{"$f":"IF(Attendance!$AJ$137>0,Attendance!$AJ$137,\"\")","v":""},{"$f":"IF(Attendance!$AK$137>0,Attendance!$AK$137,\"\")","v":""},{"$f":"IF(Attendance!$AI$151>0,Attendance!$AI$151,\"\")","v":""},{"$f":"IF(Attendance!$AJ$151>0,Attendance!$AJ$151,\"\")","v":""},{"$f":"IF(Attendance!$AK$151>0,Attendance!$AK$151,\"\")","v":""},{"$f":"IF(Attendance!$AI$165>0,Attendance!$AI$165,\"\")","v":""},{"$f":"IF(Attendance!$AJ$165>0,Attendance!$AJ$165,\"\")","v":""},{"$f":"IF(Attendance!$AK$165>0,Attendance!$AK$165,\"\")","v":""},{"$f":"IF(Attendance!$AI$179>0,Attendance!$AI$179,\"\")","v":""},{"$f":"IF(Attendance!$AJ$179>0,Attendance!$AJ$179,\"\")","v":""},{"$f":"IF(Attendance!$AK$179>0,Attendance!$AK$179,\"\")","v":""},{"$f":"IF(Attendance!$AI$193>0,Attendance!$AI$193,\"\")","v":""},{"$f":"IF(Attendance!$AJ$193>0,Attendance!$AJ$193,\"\")","v":""},{"$f":"IF(Attendance!$AK$193>0,Attendance!$AK$193,\"\")","v":""},{"$f":"IF(Attendance!$AI$207>0,Attendance!$AI$207,\"\")","v":""},{"$f":"IF(Attendance!$AJ$207>0,Attendance!$AJ$207,\"\")","v":""},{"$f":"IF(Attendance!$AK$207>0,Attendance!$AK$207,\"\")","v":""},{"$f":"IF(Attendance!$AO$11>0,Attendance!$AO$11,\"\")","v":""},{"$f":"IF(Attendance!$AP$11>0,Attendance!$AP$11,\"\")","v":""},{"$f":"IF(Attendance!$AQ$11>0,Attendance!$AQ$11,\"\")","v":""},{"$f":"IF(Attendance!$AO$25>0,Attendance!$AO$25,\"\")","v":""},{"$f":"IF(Attendance!$AP$25>0,Attendance!$AP$25,\"\")","v":""},{"$f":"IF(Attendance!$AQ$25>0,Attendance!$AQ$25,\"\")","v":""},{"$f":"IF(Attendance!$AO$39>0,Attendance!$AO$39,\"\")","v":""},{"$f":"IF(Attendance!$AP$39>0,Attendance!$AP$39,\"\")","v":""},{"$f":"IF(Attendance!$AQ$39>0,Attendance!$AQ$39,\"\")","v":""},{"$f":"IF(Attendance!$AO$53>0,Attendance!$AO$53,\"\")","v":""},{"$f":"IF(Attendance!$AP$53>0,Attendance!$AP$53,\"\")","v":""},{"$f":"IF(Attendance!$AQ$53>0,Attendance!$AQ$53,\"\")","v":""},{"$f":"IF(Attendance!$AO$67>0,Attendance!$AO$67,\"\")","v":""},{"$f":"IF(Attendance!$AP$67>0,Attendance!$AP$67,\"\")","v":""},{"$f":"IF(Attendance!$AQ$67>0,Attendance!$AQ$67,\"\")","v":""},{"$f":"IF(Attendance!$AO$81>0,Attendance!$AO$81,\"\")","v":""},{"$f":"IF(Attendance!$AP$81>0,Attendance!$AP$81,\"\")","v":""},{"$f":"IF(Attendance!$AQ$81>0,Attendance!$AQ$81,\"\")","v":""},{"$f":"IF(Attendance!$AO$95>0,Attendance!$AO$95,\"\")","v":""},{"$f":"IF(Attendance!$AP$95>0,Attendance!$AP$95,\"\")","v":""},{"$f":"IF(Attendance!$AQ$95>0,Attendance!$AQ$95,\"\")","v":""},{"$f":"IF(Attendance!$AO$109>0,Attendance!$AO$109,\"\")","v":""},{"$f":"IF(Attendance!$AP$109>0,Attendance!$AP$109,\"\")","v":""},{"$f":"IF(Attendance!$AQ$109>0,Attendance!$AQ$109,\"\")","v":""},{"$f":"IF(Attendance!$AO$123>0,Attendance!$AO$123,\"\")","v":""},{"$f":"IF(Attendance!$AP$123>0,Attendance!$AP$123,\"\")","v":""},{"$f":"IF(Attendance!$AQ$123>0,Attendance!$AQ$123,\"\")","v":""},{"$f":"IF(Attendance!$AO$137>0,Attendance!$AO$137,\"\")","v":""},{"$f":"IF(Attendance!$AP$137>0,Attendance!$AP$137,\"\")","v":""},{"$f":"IF(Attendance!$AQ$137>0,Attendance!$AQ$137,\"\")","v":""},{"$f":"IF(Attendance!$AO$151>0,Attendance!$AO$151,\"\")","v":""},{"$f":"IF(Attendance!$AP$151>0,Attendance!$AP$151,\"\")","v":""},{"$f":"IF(Attendance!$AQ$151>0,Attendance!$AQ$151,\"\")","v":""},{"$f":"IF(Attendance!$AO$165>0,Attendance!$AO$165,\"\")","v":""},{"$f":"IF(Attendance!$AP$165>0,Attendance!$AP$165,\"\")","v":""},{"$f":"IF(Attendance!$AQ$165>0,Attendance!$AQ$165,\"\")","v":""},{"$f":"IF(Attendance!$AO$179>0,Attendance!$AO$179,\"\")","v":""},{"$f":"IF(Attendance!$AP$179>0,Attendance!$AP$179,\"\")","v":""},{"$f":"IF(Attendance!$AQ$179>0,Attendance!$AQ$179,\"\")","v":""},{"$f":"IF(Attendance!$AO$193>0,Attendance!$AO$193,\"\")","v":""},{"$f":"IF(Attendance!$AP$193>0,Attendance!$AP$193,\"\")","v":""},{"$f":"IF(Attendance!$AQ$193>0,Attendance!$AQ$193,\"\")","v":""},{"$f":"IF(Attendance!$AO$207>0,Attendance!$AO$207,\"\")","v":""},{"$f":"IF(Attendance!$AP$207>0,Attendance!$AP$207,\"\")","v":""},{"$f":"IF(Attendance!$AQ$207>0,Attendance!$AQ$207,\"\")","v":""}]
["PM #","Q #",null,"1C","1D","1E","2C","2D","2E","3C","3D","3E","4C","4D","4E","5C","5D","5E","6C","6D","6E","7C","7D","7E","8C","8D","8E","9C","9D","9E","10C","10D","10E","11C","11D","11E","12C","12D","12E","13C","13D","13E","14C","14D","14E","15C","15D","15E","1C","1D","1E","2C","2D","2E","3C","3D","3E","4C","4D","4E","5C","5D","5E","6C","6D","6E","7C","7D","7E","8C","8D","8E","9C","9D","9E","10C","10D","10E","11C","11D","11E","12C","12D","12E","13C","13D","13E","14C","14D","14E","15C","15D","15E","1C","1D","1E","2C","2D","2E","3C","3D","3E","4C","4D","4E","5C","5D","5E","6C","6D","6E","7C","7D","7E","8C","8D","8E","9C","9D","9E","10C","10D","10E","11C","11D","11E","12C","12D","12E","13C","13D","13E","14C","14D","14E","15C","15D","15E","1C","1D","1E","2C","2D","2E","3C","3D","3E","4C","4D","4E","5C","5D","5E","6C","6D","6E","7C","7D","7E","8C","8D","8E","9C","9D","9E","10C","10D","10E","11C","11D","11E","12C","12D","12E","13C","13D","13E","14C","14D","14E","15C","15D","15E","1C","1D","1E","2C","2D","2E","3C","3D","3E","4C","4D","4E","5C","5D","5E","6C","6D","6E","7C","7D","7E","8C","8D","8E","9C","9D","9E","10C","10D","10E","11C","11D","11E","12C","12D","12E","13C","13D","13E","14C","14D","14E","15C","15D","15E","1C","1D","1E","2C","2D","2E","3C","3D","3E","4C","4D","4E","5C","5D","5E","6C","6D","6E","7C","7D","7E","8C","8D","8E","9C","9D","9E","10C","10D","10E","11C","11D","11E","12C","12D","12E","13C","13D","13E","14C","14D","14E","15C","15D","15E","1C","1D","1E","2C","2D","2E","3C","3D","3E","4C","4D","4E","5C","5D","5E","6C","6D","6E","7C","7D","7E","8C","8D","8E","9C","9D","9E","10C","10D","10E","11C","11D","11E","12C","12D","12E","13C","13D","13E","14C","14D","14E","15C","15D","15E"]
[null,null,"PRE-TEST",{"$f":"\"Pre-test is counted as complete if \"&LISTS!$B$11&\" or more of the questions are answered.\"","v":"Pre-test is counted as complete if 25 or more of the questions are answered."}]
[9,1,"My parent(s)/caregiver(s) talk to me about their values and beliefs."]
[18,2,"My parents talk to me about ways to resist peer pressure."]
[8,3,"My parents set rules for me to follow. "]
[12,4,"My parent(s)/caregiver(s) tells me what they expect of me and holds me responsible."]
[12,5,"When I follow rules or do tasks well at home or at school, my parent(s)/caregiver(s) gives me praise."]
[12,6,"When my parent(s)/caregiver(s) is upset because I did not follow through with a rule or do a task at home or school, they calmly tell me how they are feeling."]
[12,7,"My parent(s)/caregiver(s) treats me with respect when they discipline me. "]
[9,8,"I show my parent(s)/caregiver(s) that I appreciate the things they do for me."]
[8,9,"My parents tell me what the consequences are for breaking their rules."]
[10,10,"My parent(s)/caregiver(s) and I can sit down and work on a problem without yelling or getting mad."]
[11,11,"When I am stressed, I do something to calm myself, like take deep breaths."]
[10,12,"When my parent(s)/caregiver(s) is upset I try to think about his/her feelings and point of view."]
["NONE",13,"When I am upset, I am likely to yell, swear, or hit someone or something."]
["NONE",14,"I can tell when I am starting to feel stress. "]
[9,15,"I feel truly loved and respected by my parent(s)/caregiver(s)."]
[10,16,"My family has a weekly meeting to talk about plans, schedules, and rules."]
[10,17,"When we have a problem, my family works together to find a solution."]
[9,18,"My parent(s)/caregiver(s) does and says things to let me know I am loved."]
[8,19,"My parents expect me to do household chores (for example: doing the dishes or cleaning your room)."]
[8,20,"My parents explain the reasons for household rules and expectations."]
[18,21,"My parent(s)/caregiver(s) let me know their expectations about my using alcohol, tobacco, and other drugs."]
[13,22,"Making good decisions now will help me reach my goals in the future."]
[11,23,"I know positive ways to help me feel better when I am under stress."]
[13,24,"I have thought of some goals I want to reach when I grow up."]
[13,25,"I know some steps to take to reach my goals."]
[18,26,"I know the consequences I would receive if I used alcohol, tobacco, or drugs."]
[14,27,"If a friend is pressuring you to do something that could get you in trouble, how likely are you to:"]
[null,"a","Do it"]
[null,"b","Tell your friend some of the negative things that could happen"]
[null,"c","Suggest something else to do"]
[null,"d","Stay calm even if your friend keeps pressuring you"]
[null,"e","Tell your friend you are going to do something else and go on your way"]
[null,null,"POST-TEST",{"$f":"\"Post-test is counted as complete if \"&LISTS!$B$11&\" or more of the questions are answered.\"","v":"Post-test is counted as complete if 25 or more of the questions are answered."}]
[9,1,"My parent(s)/caregiver(s) talk to me about their values and beliefs."]
[18,2,"My parents talk to me about ways to resist peer pressure."]
[8,3,"My parents set rules for me to follow. "]
[12,4,"My parent(s)/caregiver(s) tells me what they expect of me and holds me responsible."]
[12,5,"When I follow rules or do tasks well at home or at school, my parent(s)/caregiver(s) gives me praise."]
[12,6,"When my parent(s)/caregiver(s) is upset because I did not follow through with a rule or do a task at home or school, they calmly tell me how they are feeling."]
[12,7,"My parent(s)/caregiver(s) treats me with respect when they discipline me. "]
[9,8,"I show my parent(s)/caregiver(s) that I appreciate the things they do for me."]
[8,9,"My parents tell me what the consequences are for breaking their rules."]
[10,10,"My parent(s)/caregiver(s) and I can sit down and work on a problem without yelling or getting mad."]
[11,11,"When I am stressed, I do something to calm myself, like take deep breaths."]
[10,12,"When my parent(s)/caregiver(s) is upset I try to think about his/her feelings and point of view."]
["NONE",13,"When I am upset, I am likely to yell, swear, or hit someone or something."]
["NONE",14,"I can tell when I am starting to feel stress. "]
[9,15,"I feel truly loved and respected by my parent(s)/caregiver(s)."]
[10,16,"My family has a weekly meeting to talk about plans, schedules, and rules."]
[10,17,"When we have a problem, my family works together to find a solution."]
[9,18,"My parent(s)/caregiver(s) does and says things to let me know I am loved."]
[8,19,"My parents expect me to do household chores (for example: doing the dishes or cleaning your room)."]
[8,20,"My parents explain the reasons for household rules and expectations."]
[18,21,"My parent(s)/caregiver(s) let me know their expectations about my using alcohol, tobacco, and other drugs."]
[13,22,"Making good decisions now will help me reach my goals in the future."]
[11,23,"I know positive ways to help me feel better when I am under stress."]
[13,24,"I have thought of some goals I want to reach when I grow up."]
[13,25,"I know some steps to take to reach my goals."]
[18,26,"I know the consequences I would receive if I used alcohol, tobacco, or drugs."]
[14,27,"If a friend is pressuring you to do something that could get you in trouble, how likely are you to:"]
[null,"a","Do it"]
[null,"b","Tell your friend some of the negative things that could happen"]
[null,"c","Suggest something else to do"]
[null,"d","Stay calm even if your friend keeps pressuring you"]
[null,"e","Tell your friend you are going to do something else and go on your way"]
[null,null,"Please enter the participants' post-survey ratings of each facilitator"]
[null,null,"Parent & Family Facilitator"]
[null,null,"Youth & Family Facilitator 1"]
[null,null,"Youth & Family Facilitator 2"]
[null,null,{"$f":"Instructions!A2","v":"Ver. 1.1 (1-6-2016)"},null,null,"\\"]
[null,null,null,"1C","1D","1E","2C","2D","2E","3C","3D","3E","4C","4D","4E","5C","5D","5E","6C","6D","6E","7C","7D","7E","8C","8D","8E","9C","9D","9E","10C","10D","10E","11C","11D","11E","12C","12D","12E","13C","13D","13E","14C","14D","14E","15C","15D","15E","1C","1D","1E","2C","2D","2E","3C","3D","3E","4C","4D","4E","5C","5D","5E","6C","6D","6E","7C","7D","7E","8C","8D","8E","9C","9D","9E","10C","10D","10E","11C","11D","11E","12C","12D","12E","13C","13D","13E","14C","14D","14E","15C","15D","15E","1C","1D","1E","2C","2D","2E","3C","3D","3E","4C","4D","4E","5C","5D","5E","6C","6D","6E","7C","7D","7E","8C","8D","8E","9C","9D","9E","10C","10D","10E","11C","11D","11E","12C","12D","12E","13C","13D","13E","14C","14D","14E","15C","15D","15E","1C","1D","1E","2C","2D","2E","3C","3D","3E","4C","4D","4E","5C","5D","5E","6C","6D","6E","7C","7D","7E","8C","8D","8E","9C","9D","9E","10C","10D","10E","11C","11D","11E","12C","12D","12E","13C","13D","13E","14C","14D","14E","15C","15D","15E","1C","1D","1E","2C","2D","2E","3C","3D","3E","4C","4D","4E","5C","5D","5E","6C","6D","6E","7C","7D","7E","8C","8D","8E","9C","9D","9E","10C","10D","10E","11C","11D","11E","12C","12D","12E","13C","13D","13E","14C","14D","14E","15C","15D","15E","1C","1D","1E","2C","2D","2E","3C","3D","3E","4C","4D","4E","5C","5D","5E","6C","6D","6E","7C","7D","7E","8C","8D","8E","9C","9D","9E","10C","10D","10E","11C","11D","11E","12C","12D","12E","13C","13D","13E","14C","14D","14E","15C","15D","15E","1C","1D","1E","2C","2D","2E","3C","3D","3E","4C","4D","4E","5C","5D","5E","6C","6D","6E","7C","7D","7E","8C","8D","8E","9C","9D","9E","10C","10D","10E","11C","11D","11E","12C","12D","12E","13C","13D","13E","14C","14D","14E","15C","15D","15E"]
[null,null,"Quarter (Column)",{"$f":"INDEX(DlvQtr,1)","v":""},"","","","","","","","","","","","","","","","","","","","","","","","","","","","","","","","","","","","","","","","","","","","",{"$f":"INDEX(DlvQtr,2)","v":""},"","","","","","","","","","","","","","","","","","","","","","","","","","","","","","","","","","","","","","","","","","","","",{"$f":"INDEX(DlvQtr,3)","v":""},"","","","","","","","","","","","","","","","","","","","","","","","","","","","","","","","","","","","","","","","","","","","",{"$f":"INDEX(DlvQtr,4)","v":""},"","","","","","","","","","","","","","","","","","","","","","","","","","","","","","","","","","","","","","","","","","","","",{"$f":"INDEX(DlvQtr,5)","v":""},"","","","","","","","","","","","","","","","","","","","","","","","","","","","","","","","","","","","","","","","","","","","",{"$f":"INDEX(DlvQtr,6)","v":""},"","","","","","","","","","","","","","","","","","","","","","","","","","","","","","","","","","","","","","","","","","","","",{"$f":"INDEX(DlvQtr,7)","v":""},"","","","","","","","","","","","","","","","","","","","","","","","","","","","","","","","","","","","","","","","","","","",""]
[]
["Pre","O8",null,{"$f":"IFERROR(AVERAGE(D9,D15,D25,D26),\"\")","v":""},{"$f":"IFERROR(AVERAGE(E9,E15,E25,E26),\"\")","v":""},"","","","",{"$f":"IFERROR(AVERAGE(J9,J15,J25,J26),\"\")","v":""},"","","","","","","","","","","","","","","","","","","","","","","","","","","","","","","","","","","","","","","","","","","","","","","","","","","","","","","","","","","","","","","",{"$f":"IFERROR(AVERAGE(BV9,BV15,BV25,BV26),\"\")","v":""},"","","","","","","","","","","","","","","","","","","","","","","","","","","","","","","","","","","","","","","","","","","","","","","","","","","","","","","","","","","","","","","",{"$f":"IFERROR(AVERAGE(EH9,EH15,EH25,EH26),\"\")","v":""},"","","","","","","","","","","","","","","","","","","","","","","","","","","","","","","","","","","","","","","","","","","","","","","","","","","","","","","","","","","","","","","",{"$f":"IFERROR(AVERAGE(GT9,GT15,GT25,GT26),\"\")","v":""},"","","","","","","","","","","","","","","","","","","","","","","","","","","","","","","","","","","","","","","","","","","","","","","","","","","","","","","","","","","","","","","",{"$f":"IFERROR(AVERAGE(JF9,JF15,JF25,JF26),\"\")","v":""},"","","","","","","","","","","","","","","","","","","","","","","","","","","","","","","","","","","","","","","","","","","","","","","","","","","",""]
["Pre","O9",null,{"$f":"IFERROR(AVERAGE(D7,D14,D21,D24),\"\")","v":""},{"$f":"IFERROR(AVERAGE(E7,E14,E21,E24),\"\")","v":""},"","","","",{"$f":"IFERROR(AVERAGE(J7,J14,J21,J24),\"\")","v":""},"","","","","","","","","","","","","","","","","","","","","","","","","","","","","","","","","","","","","","","","","","","","","","","","","","","","","","","","","","","","","","","",{"$f":"IFERROR(AVERAGE(BV7,BV14,BV21,BV24),\"\")","v":""},"","","","","","","","","","","","","","","","","","","","","","","","","","","","","","","","","","","","","","","","","","","","","","","","","","","","","","","","","","","","","","","",{"$f":"IFERROR(AVERAGE(EH7,EH14,EH21,EH24),\"\")","v":""},"","","","","","","","","","","","","","","","","","","","","","","","","","","","","","","","","","","","","","","","","","","","","","","","","","","","","","","","","","","","","","","",{"$f":"IFERROR(AVERAGE(GT7,GT14,GT21,GT24),\"\")","v":""},"","","","","","","","","","","","","","","","","","","","","","","","","","","","","","","","","","","","","","","","","","","","","","","","","","","","","","","","","","","","","","","",{"$f":"IFERROR(AVERAGE(JF7,JF14,JF21,JF24),\"\")","v":""},"","","","","","","","","","","","","","","","","","","","","","","","","","","","","","","","","","","","","","","","","","","","","","","","","","","",""]
["Pre","O10",null,{"$f":"IFERROR(AVERAGE(D16,D18,D22,D23),\"\")","v":""},{"$f":"IFERROR(AVERAGE(E16,E18,E22,E23),\"\")","v":""},"","","","",{"$f":"IFERROR(AVERAGE(J16,J18,J22,J23),\"\")","v":""},"","","","","","","","","","","","","","","","","","","","","","","","","","","","","","","","","","","","","","","","","","","","","","","","","","","","","","","","","","","","","","","",{"$f":"IFERROR(AVERAGE(BV16,BV18,BV22,BV23),\"\")","v":""},"","","","","","","","","","","","","","","","","","","","","","","","","","","","","","","","","","","","","","","","","","","","","","","","","","","","","","","","","","","","","","","",{"$f":"IFERROR(AVERAGE(EH16,EH18,EH22,EH23),\"\")","v":""},"","","","","","","","","","","","","","","","","","","","","","","","","","","","","","","","","","","","","","","","","","","","","","","","","","","","","","","","","","","","","","","",{"$f":"IFERROR(AVERAGE(GT16,GT18,GT22,GT23),\"\")","v":""},"","","","","","","","","","","","","","","","","","","","","","","","","","","","","","","","","","","","","","","","","","","","","","","","","","","","","","","","","","","","","","","",{"$f":"IFERROR(AVERAGE(JF16,JF18,JF22,JF23),\"\")","v":""},"","","","","","","","","","","","","","","","","","","","","","","","","","","","","","","","","","","","","","","","","","","","","","","","","","","",""]
["Pre","O11",null,{"$f":"IFERROR(AVERAGE(D17,D29),\"\")","v":""},{"$f":"IFERROR(AVERAGE(E17,E29),\"\")","v":""},"","","","",{"$f":"IFERROR(AVERAGE(J17,J29),\"\")","v":""},"","","","","","","","","","","","","","","","","","","","","","","","","","","","","","","","","","","","","","","","","","","","","","","","","","","","","","","","","","","","","","","",{"$f":"IFERROR(AVERAGE(BV17,BV29),\"\")","v":""},"","","","","","","","","","","","","","","","","","","","","","","","","","","","","","","","","","","","","","","","","","","","","","","","","","","","","","","","","","","","","","","",{"$f":"IFERROR(AVERAGE(EH17,EH29),\"\")","v":""},"","","","","","","","","","","","","","","","","","","","","","","","","","","","","","","","","","","","","","","","","","","","","","","","","","","","","","","","","","","","","","","",{"$f":"IFERROR(AVERAGE(GT17,GT29),\"\")","v":""},"","","","","","","","","","","","","","","","","","","","","","","","","","","","","","","","","","","","","","","","","","","","","","","","","","","","","","","","","","","","","","","",{"$f":"IFERROR(AVERAGE(JF17,JF29),\"\")","v":""},"","","","","","","","","","","","","","","","","","","","","","","","","","","","","","","","","","","","","","","","","","","","","","","","","","","",""]
["Pre","O12",null,{"$f":"IFERROR(AVERAGE(D10,D11,D12,D13),\"\")","v":""},{"$f":"IFERROR(AVERAGE(E10,E11,E12,E13),\"\")","v":""},"","","","",{"$f":"IFERROR(AVERAGE(J10,J11,J12,J13),\"\")","v":""},"","","","","","","","","","","","","","","","","","","","","","","","","","","","","","","","","","","","","","","","","","","","","","","","","","","","","","","","","","","","","","","",{"$f":"IFERROR(AVERAGE(BV10,BV11,BV12,BV13),\"\")","v":""},"","","","","","","","","","","","","","","","","","","","","","","","","","","","","","","","","","","","","","","","","","","","","","","","","","","","","","","","","","","","","","","",{"$f":"IFERROR(AVERAGE(EH10,EH11,EH12,EH13),\"\")","v":""},"","","","","","","","","","","","","","","","","","","","","","","","","","","","","","","","","","","","","","","","","","","","","","","","","","","","","","","","","","","","","","","",{"$f":"IFERROR(AVERAGE(GT10,GT11,GT12,GT13),\"\")","v":""},"","","","","","","","","","","","","","","","","","","","","","","","","","","","","","","","","","","","","","","","","","","","","","","","","","","","","","","","","","","","","","","",{"$f":"IFERROR(AVERAGE(JF10,JF11,JF12,JF13),\"\")","v":""},"","","","","","","","","","","","","","","","","","","","","","","","","","","","","","","","","","","","","","","","","","","","","","","","","","","",""]
["Pre","O13",null,{"$f":"IFERROR(AVERAGE(D28,D30,D31),\"\")","v":""},{"$f":"IFERROR(AVERAGE(E28,E30,E31),\"\")","v":""},"","","","",{"$f":"IFERROR(AVERAGE(J28,J30,J31),\"\")","v":""},"","","","","","","","","","","","","","","","","","","","","","","","","","","","","","","","","","","","","","","","","","","","","","","","","","","","","","","","","","","","","","","",{"$f":"IFERROR(AVERAGE(BV28,BV30,BV31),\"\")","v":""},"","","","","","","","","","","","","","","","","","","","","","","","","","","","","","","","","","","","","","","","","","","","","","","","","","","","","","","","","","","","","","","",{"$f":"IFERROR(AVERAGE(EH28,EH30,EH31),\"\")","v":""},"","","","","","","","","","","","","","","","","","","","","","","","","","","","","","","","","","","","","","","","","","","","","","","","","","","","","","","","","","","","","","","",{"$f":"IFERROR(AVERAGE(GT28,GT30,GT31),\"\")","v":""},"","","","","","","","","","","","","","","","","","","","","","","","","","","","","","","","","","","","","","","","","","","","","","","","","","","","","","","","","","","","","","","",{"$f":"IFERROR(AVERAGE(JF28,JF30,JF31),\"\")","v":""},"","","","","","","","","","","","","","","","","","","","","","","","","","","","","","","","","","","","","","","","","","","","","","","","","","","",""]
["Pre","O14",null,{"$f":"IFERROR(AVERAGE((IF(D34>0,5-D34,\"\")),D35,D36,D37,D38),\"\")","v":""},{"$f":"IFERROR(AVERAGE((IF(E34>0,5-E34,\"\")),E35,E36,E37,E38),\"\")","v":""},"","","","",{"$f":"IFERROR(AVERAGE((IF(J34>0,5-J34,\"\")),J35,J36,J37,J38),\"\")","v":""},"","","","","","","","","","","","","","","","","","","","","","","","","","","","","","","","","","","","","","","","","","","","","","","","","","","","","","","","","","","","","","","",{"$f":"IFERROR(AVERAGE((IF(BV34>0,5-BV34,\"\")),BV35,BV36,BV37,BV38),\"\")","v":""},"","","","","","","","","","","","","","","","","","","","","","","","","","","","","","","","","","","","","","","","","","","","","","","","","","","","","","","","","","","","","","","",{"$f":"IFERROR(AVERAGE((IF(EH34>0,5-EH34,\"\")),EH35,EH36,EH37,EH38),\"\")","v":""},"","","","","","","","","","","","","","","","","","","","","","","","","","","","","","","","","","","","","","","","","","","","","","","","","","","","","","","","","","","","","","","",{"$f":"IFERROR(AVERAGE((IF(GT34>0,5-GT34,\"\")),GT35,GT36,GT37,GT38),\"\")","v":""},"","","","","","","","","","","","","","","","","","","","","","","","","","","","","","","","","","","","","","","","","","","","","","","","","","","","","","","","","","","","","","","",{"$f":"IFERROR(AVERAGE((IF(JF34>0,5-JF34,\"\")),JF35,JF36,JF37,JF38),\"\")","v":""},"","","","","","","","","","","","","","","","","","","","","","","","","","","","","","","","","","","","","","","","","","","","","","","","","","","",""]
["Pre","O18",null,{"$f":"IFERROR(AVERAGE(D8,D27,D32),\"\")","v":""},{"$f":"IFERROR(AVERAGE(E8,E27,E32),\"\")","v":""},"","","","","","","","","","","","","","","","","","","","","","","","","","","","","","","","","","","","","","","","","","","","","","","","","","","","","","","","","","","","","","","",{"$f":"IFERROR(AVERAGE(BQ8,BQ27,BQ32),\"\")","v":""},"","","","","","","","","","","","","","","","","","","","","","","","","","","","","","","","","","","","","","","","","","","","","","","","","","","","","","","","","","","","","","","",{"$f":"IFERROR(AVERAGE(EC8,EC27,EC32),\"\")","v":""},"","","","","","","","","","","","","","","","","","","","","","","","","","","","","","","","","","","","","","","","","","","","","","","","","","","","","","","","","","","","","","","",{"$f":"IFERROR(AVERAGE(GO8,GO27,GO32),\"\")","v":""},"","","","","","","","","","","","","","","","","","","","","","","","","","","","","","","","","","","","","","","","","","","","","","","","","","","","","","","","","","","","","","","",{"$f":"IFERROR(AVERAGE(JA8,JA27,JA32),\"\")","v":""},"","","","","","","","","","","","","","","","","","","","","","","","","","","","","","","","","","","","","","","","","","","","","","","","","","","","","","","","",""]
["Pre","Comlete? (2=Complete, 1=Partial, 0=Not Started)",null,{"$f":"IF(COUNTIF(D7:D38,\">0\")>=LISTS!$B$11,\"Complete\",IF(COUNTIF(D7:D38,\">0\")>0,\"Partial\",\"\"))","v":""},{"$f":"IF(COUNTIF(E7:E38,\">0\")>=LISTS!$B$11,\"Complete\",IF(COUNTIF(E7:E38,\">0\")>0,\"Partial\",\"\"))","v":""},{"$f":"IF(COUNTIF(F7:F38,\">0\")>=LISTS!$B$11,\"Complete\",IF(COUNTIF(F7:F38,\">0\")>0,\"Partial\",\"\"))","v":""},{"$f":"IF(COUNTIF(G7:G38,\">0\")>=LISTS!$B$11,\"Complete\",IF(COUNTIF(G7:G38,\">0\")>0,\"Partial\",\"\"))","v":""},{"$f":"IF(COUNTIF(H7:H38,\">0\")>=LISTS!$B$11,\"Complete\",IF(COUNTIF(H7:H38,\">0\")>0,\"Partial\",\"\"))","v":""},{"$f":"IF(COUNTIF(I7:I38,\">0\")>=LISTS!$B$11,\"Complete\",IF(COUNTIF(I7:I38,\">0\")>0,\"Partial\",\"\"))","v":""},{"$f":"IF(COUNTIF(J7:J38,\">0\")>=LISTS!$B$11,\"Complete\",IF(COUNTIF(J7:J38,\">0\")>0,\"Partial\",\"\"))","v":""},{"$f":"IF(COUNTIF(K7:K38,\">0\")>=LISTS!$B$11,\"Complete\",IF(COUNTIF(K7:K38,\">0\")>0,\"Partial\",\"\"))","v":""},{"$f":"IF(COUNTIF(L7:L38,\">0\")>=LISTS!$B$11,\"Complete\",IF(COUNTIF(L7:L38,\">0\")>0,\"Partial\",\"\"))","v":""},{"$f":"IF(COUNTIF(M7:M38,\">0\")>=LISTS!$B$11,\"Complete\",IF(COUNTIF(M7:M38,\">0\")>0,\"Partial\",\"\"))","v":""},{"$f":"IF(COUNTIF(N7:N38,\">0\")>=LISTS!$B$11,\"Complete\",IF(COUNTIF(N7:N38,\">0\")>0,\"Partial\",\"\"))","v":""},{"$f":"IF(COUNTIF(O7:O38,\">0\")>=LISTS!$B$11,\"Complete\",IF(COUNTIF(O7:O38,\">0\")>0,\"Partial\",\"\"))","v":""},{"$f":"IF(COUNTIF(P7:P38,\">0\")>=LISTS!$B$11,\"Complete\",IF(COUNTIF(P7:P38,\">0\")>0,\"Partial\",\"\"))","v":""},{"$f":"IF(COUNTIF(Q7:Q38,\">0\")>=LISTS!$B$11,\"Complete\",IF(COUNTIF(Q7:Q38,\">0\")>0,\"Partial\",\"\"))","v":""},{"$f":"IF(COUNTIF(R7:R38,\">0\")>=LISTS!$B$11,\"Complete\",IF(COUNTIF(R7:R38,\">0\")>0,\"Partial\",\"\"))","v":""},{"$f":"IF(COUNTIF(S7:S38,\">0\")>=LISTS!$B$11,\"Complete\",IF(COUNTIF(S7:S38,\">0\")>0,\"Partial\",\"\"))","v":""},{"$f":"IF(COUNTIF(T7:T38,\">0\")>=LISTS!$B$11,\"Complete\",IF(COUNTIF(T7:T38,\">0\")>0,\"Partial\",\"\"))","v":""},{"$f":"IF(COUNTIF(U7:U38,\">0\")>=LISTS!$B$11,\"Complete\",IF(COUNTIF(U7:U38,\">0\")>0,\"Partial\",\"\"))","v":""},{"$f":"IF(COUNTIF(V7:V38,\">0\")>=LISTS!$B$11,\"Complete\",IF(COUNTIF(V7:V38,\">0\")>0,\"Partial\",\"\"))","v":""},{"$f":"IF(COUNTIF(W7:W38,\">0\")>=LISTS!$B$11,\"Complete\",IF(COUNTIF(W7:W38,\">0\")>0,\"Partial\",\"\"))","v":""},{"$f":"IF(COUNTIF(X7:X38,\">0\")>=LISTS!$B$11,\"Complete\",IF(COUNTIF(X7:X38,\">0\")>0,\"Partial\",\"\"))","v":""},{"$f":"IF(COUNTIF(Y7:Y38,\">0\")>=LISTS!$B$11,\"Complete\",IF(COUNTIF(Y7:Y38,\">0\")>0,\"Partial\",\"\"))","v":""},{"$f":"IF(COUNTIF(Z7:Z38,\">0\")>=LISTS!$B$11,\"Complete\",IF(COUNTIF(Z7:Z38,\">0\")>0,\"Partial\",\"\"))","v":""},{"$f":"IF(COUNTIF(AA7:AA38,\">0\")>=LISTS!$B$11,\"Complete\",IF(COUNTIF(AA7:AA38,\">0\")>0,\"Partial\",\"\"))","v":""},{"$f":"IF(COUNTIF(AB7:AB38,\">0\")>=LISTS!$B$11,\"Complete\",IF(COUNTIF(AB7:AB38,\">0\")>0,\"Partial\",\"\"))","v":""},{"$f":"IF(COUNTIF(AC7:AC38,\">0\")>=LISTS!$B$11,\"Complete\",IF(COUNTIF(AC7:AC38,\">0\")>0,\"Partial\",\"\"))","v":""},{"$f":"IF(COUNTIF(AD7:AD38,\">0\")>=LISTS!$B$11,\"Complete\",IF(COUNTIF(AD7:AD38,\">0\")>0,\"Partial\",\"\"))","v":""},{"$f":"IF(COUNTIF(AE7:AE38,\">0\")>=LISTS!$B$11,\"Complete\",IF(COUNTIF(AE7:AE38,\">0\")>0,\"Partial\",\"\"))","v":""},{"$f":"IF(COUNTIF(AF7:AF38,\">0\")>=LISTS!$B$11,\"Complete\",IF(COUNTIF(AF7:AF38,\">0\")>0,\"Partial\",\"\"))","v":""},{"$f":"IF(COUNTIF(AG7:AG38,\">0\")>=LISTS!$B$11,\"Complete\",IF(COUNTIF(AG7:AG38,\">0\")>0,\"Partial\",\"\"))","v":""},{"$f":"IF(COUNTIF(AH7:AH38,\">0\")>=LISTS!$B$11,\"Complete\",IF(COUNTIF(AH7:AH38,\">0\")>0,\"Partial\",\"\"))","v":""},{"$f":"IF(COUNTIF(AI7:AI38,\">0\")>=LISTS!$B$11,\"Complete\",IF(COUNTIF(AI7:AI38,\">0\")>0,\"Partial\",\"\"))","v":""},{"$f":"IF(COUNTIF(AJ7:AJ38,\">0\")>=LISTS!$B$11,\"Complete\",IF(COUNTIF(AJ7:AJ38,\">0\")>0,\"Partial\",\"\"))","v":""},{"$f":"IF(COUNTIF(AK7:AK38,\">0\")>=LISTS!$B$11,\"Complete\",IF(COUNTIF(AK7:AK38,\">0\")>0,\"Partial\",\"\"))","v":""},{"$f":"IF(COUNTIF(AL7:AL38,\">0\")>=LISTS!$B$11,\"Complete\",IF(COUNTIF(AL7:AL38,\">0\")>0,\"Partial\",\"\"))","v":""},{"$f":"IF(COUNTIF(AM7:AM38,\">0\")>=LISTS!$B$11,\"Complete\",IF(COUNTIF(AM7:AM38,\">0\")>0,\"Partial\",\"\"))","v":""},{"$f":"IF(COUNTIF(AN7:AN38,\">0\")>=LISTS!$B$11,\"Complete\",IF(COUNTIF(AN7:AN38,\">0\")>0,\"Partial\",\"\"))","v":""},{"$f":"IF(COUNTIF(AO7:AO38,\">0\")>=LISTS!$B$11,\"Complete\",IF(COUNTIF(AO7:AO38,\">0\")>0,\"Partial\",\"\"))","v":""},{"$f":"IF(COUNTIF(AP7:AP38,\">0\")>=LISTS!$B$11,\"Complete\",IF(COUNTIF(AP7:AP38,\">0\")>0,\"Partial\",\"\"))","v":""},{"$f":"IF(COUNTIF(AQ7:AQ38,\">0\")>=LISTS!$B$11,\"Complete\",IF(COUNTIF(AQ7:AQ38,\">0\")>0,\"Partial\",\"\"))","v":""},{"$f":"IF(COUNTIF(AR7:AR38,\">0\")>=LISTS!$B$11,\"Complete\",IF(COUNTIF(AR7:AR38,\">0\")>0,\"Partial\",\"\"))","v":""},{"$f":"IF(COUNTIF(AS7:AS38,\">0\")>=LISTS!$B$11,\"Complete\",IF(COUNTIF(AS7:AS38,\">0\")>0,\"Partial\",\"\"))","v":""},{"$f":"IF(COUNTIF(AT7:AT38,\">0\")>=LISTS!$B$11,\"Complete\",IF(COUNTIF(AT7:AT38,\">0\")>0,\"Partial\",\"\"))","v":""},{"$f":"IF(COUNTIF(AU7:AU38,\">0\")>=LISTS!$B$11,\"Complete\",IF(COUNTIF(AU7:AU38,\">0\")>0,\"Partial\",\"\"))","v":""},{"$f":"IF(COUNTIF(AV7:AV38,\">0\")>=LISTS!$B$11,\"Complete\",IF(COUNTIF(AV7:AV38,\">0\")>0,\"Partial\",\"\"))","v":""},{"$f":"IF(COUNTIF(AW7:AW38,\">0\")>=LISTS!$B$11,\"Complete\",IF(COUNTIF(AW7:AW38,\">0\")>0,\"Partial\",\"\"))","v":""},{"$f":"IF(COUNTIF(AX7:AX38,\">0\")>=LISTS!$B$11,\"Complete\",IF(COUNTIF(AX7:AX38,\">0\")>0,\"Partial\",\"\"))","v":""},{"$f":"IF(COUNTIF(AY7:AY38,\">0\")>=LISTS!$B$11,\"Complete\",IF(COUNTIF(AY7:AY38,\">0\")>0,\"Partial\",\"\"))","v":""},{"$f":"IF(COUNTIF(AZ7:AZ38,\">0\")>=LISTS!$B$11,\"Complete\",IF(COUNTIF(AZ7:AZ38,\">0\")>0,\"Partial\",\"\"))","v":""},{"$f":"IF(COUNTIF(BA7:BA38,\">0\")>=LISTS!$B$11,\"Complete\",IF(COUNTIF(BA7:BA38,\">0\")>0,\"Partial\",\"\"))","v":""},{"$f":"IF(COUNTIF(BB7:BB38,\">0\")>=LISTS!$B$11,\"Complete\",IF(COUNTIF(BB7:BB38,\">0\")>0,\"Partial\",\"\"))","v":""},{"$f":"IF(COUNTIF(BC7:BC38,\">0\")>=LISTS!$B$11,\"Complete\",IF(COUNTIF(BC7:BC38,\">0\")>0,\"Partial\",\"\"))","v":""},{"$f":"IF(COUNTIF(BD7:BD38,\">0\")>=LISTS!$B$11,\"Complete\",IF(COUNTIF(BD7:BD38,\">0\")>0,\"Partial\",\"\"))","v":""},{"$f":"IF(COUNTIF(BE7:BE38,\">0\")>=LISTS!$B$11,\"Complete\",IF(COUNTIF(BE7:BE38,\">0\")>0,\"Partial\",\"\"))","v":""},{"$f":"IF(COUNTIF(BF7:BF38,\">0\")>=LISTS!$B$11,\"Complete\",IF(COUNTIF(BF7:BF38,\">0\")>0,\"Partial\",\"\"))","v":""},{"$f":"IF(COUNTIF(BG7:BG38,\">0\")>=LISTS!$B$11,\"Complete\",IF(COUNTIF(BG7:BG38,\">0\")>0,\"Partial\",\"\"))","v":""},{"$f":"IF(COUNTIF(BH7:BH38,\">0\")>=LISTS!$B$11,\"Complete\",IF(COUNTIF(BH7:BH38,\">0\")>0,\"Partial\",\"\"))","v":""},{"$f":"IF(COUNTIF(BI7:BI38,\">0\")>=LISTS!$B$11,\"Complete\",IF(COUNTIF(BI7:BI38,\">0\")>0,\"Partial\",\"\"))","v":""},{"$f":"IF(COUNTIF(BJ7:BJ38,\">0\")>=LISTS!$B$11,\"Complete\",IF(COUNTIF(BJ7:BJ38,\">0\")>0,\"Partial\",\"\"))","v":""},{"$f":"IF(COUNTIF(BK7:BK38,\">0\")>=LISTS!$B$11,\"Complete\",IF(COUNTIF(BK7:BK38,\">0\")>0,\"Partial\",\"\"))","v":""},{"$f":"IF(COUNTIF(BL7:BL38,\">0\")>=LISTS!$B$11,\"Complete\",IF(COUNTIF(BL7:BL38,\">0\")>0,\"Partial\",\"\"))","v":""},{"$f":"IF(COUNTIF(BM7:BM38,\">0\")>=LISTS!$B$11,\"Complete\",IF(COUNTIF(BM7:BM38,\">0\")>0,\"Partial\",\"\"))","v":""},{"$f":"IF(COUNTIF(BN7:BN38,\">0\")>=LISTS!$B$11,\"Complete\",IF(COUNTIF(BN7:BN38,\">0\")>0,\"Partial\",\"\"))","v":""},{"$f":"IF(COUNTIF(BO7:BO38,\">0\")>=LISTS!$B$11,\"Complete\",IF(COUNTIF(BO7:BO38,\">0\")>0,\"Partial\",\"\"))","v":""},{"$f":"IF(COUNTIF(BP7:BP38,\">0\")>=LISTS!$B$11,\"Complete\",IF(COUNTIF(BP7:BP38,\">0\")>0,\"Partial\",\"\"))","v":""},{"$f":"IF(COUNTIF(BQ7:BQ38,\">0\")>=LISTS!$B$11,\"Complete\",IF(COUNTIF(BQ7:BQ38,\">0\")>0,\"Partial\",\"\"))","v":""},{"$f":"IF(COUNTIF(BR7:BR38,\">0\")>=LISTS!$B$11,\"Complete\",IF(COUNTIF(BR7:BR38,\">0\")>0,\"Partial\",\"\"))","v":""},{"$f":"IF(COUNTIF(BS7:BS38,\">0\")>=LISTS!$B$11,\"Complete\",IF(COUNTIF(BS7:BS38,\">0\")>0,\"Partial\",\"\"))","v":""},{"$f":"IF(COUNTIF(BT7:BT38,\">0\")>=LISTS!$B$11,\"Complete\",IF(COUNTIF(BT7:BT38,\">0\")>0,\"Partial\",\"\"))","v":""},{"$f":"IF(COUNTIF(BU7:BU38,\">0\")>=LISTS!$B$11,\"Complete\",IF(COUNTIF(BU7:BU38,\">0\")>0,\"Partial\",\"\"))","v":""},{"$f":"IF(COUNTIF(BV7:BV38,\">0\")>=LISTS!$B$11,\"Complete\",IF(COUNTIF(BV7:BV38,\">0\")>0,\"Partial\",\"\"))","v":""},{"$f":"IF(COUNTIF(BW7:BW38,\">0\")>=LISTS!$B$11,\"Complete\",IF(COUNTIF(BW7:BW38,\">0\")>0,\"Partial\",\"\"))","v":""},{"$f":"IF(COUNTIF(BX7:BX38,\">0\")>=LISTS!$B$11,\"Complete\",IF(COUNTIF(BX7:BX38,\">0\")>0,\"Partial\",\"\"))","v":""},{"$f":"IF(COUNTIF(BY7:BY38,\">0\")>=LISTS!$B$11,\"Complete\",IF(COUNTIF(BY7:BY38,\">0\")>0,\"Partial\",\"\"))","v":""},{"$f":"IF(COUNTIF(BZ7:BZ38,\">0\")>=LISTS!$B$11,\"Complete\",IF(COUNTIF(BZ7:BZ38,\">0\")>0,\"Partial\",\"\"))","v":""},{"$f":"IF(COUNTIF(CA7:CA38,\">0\")>=LISTS!$B$11,\"Complete\",IF(COUNTIF(CA7:CA38,\">0\")>0,\"Partial\",\"\"))","v":""},{"$f":"IF(COUNTIF(CB7:CB38,\">0\")>=LISTS!$B$11,\"Complete\",IF(COUNTIF(CB7:CB38,\">0\")>0,\"Partial\",\"\"))","v":""},{"$f":"IF(COUNTIF(CC7:CC38,\">0\")>=LISTS!$B$11,\"Complete\",IF(COUNTIF(CC7:CC38,\">0\")>0,\"Partial\",\"\"))","v":""},{"$f":"IF(COUNTIF(CD7:CD38,\">0\")>=LISTS!$B$11,\"Complete\",IF(COUNTIF(CD7:CD38,\">0\")>0,\"Partial\",\"\"))","v":""},{"$f":"IF(COUNTIF(CE7:CE38,\">0\")>=LISTS!$B$11,\"Complete\",IF(COUNTIF(CE7:CE38,\">0\")>0,\"Partial\",\"\"))","v":""},{"$f":"IF(COUNTIF(CF7:CF38,\">0\")>=LISTS!$B$11,\"Complete\",IF(COUNTIF(CF7:CF38,\">0\")>0,\"Partial\",\"\"))","v":""},{"$f":"IF(COUNTIF(CG7:CG38,\">0\")>=LISTS!$B$11,\"Complete\",IF(COUNTIF(CG7:CG38,\">0\")>0,\"Partial\",\"\"))","v":""},{"$f":"IF(COUNTIF(CH7:CH38,\">0\")>=LISTS!$B$11,\"Complete\",IF(COUNTIF(CH7:CH38,\">0\")>0,\"Partial\",\"\"))","v":""},{"$f":"IF(COUNTIF(CI7:CI38,\">0\")>=LISTS!$B$11,\"Complete\",IF(COUNTIF(CI7:CI38,\">0\")>0,\"Partial\",\"\"))","v":""},{"$f":"IF(COUNTIF(CJ7:CJ38,\">0\")>=LISTS!$B$11,\"Complete\",IF(COUNTIF(CJ7:CJ38,\">0\")>0,\"Partial\",\"\"))","v":""},{"$f":"IF(COUNTIF(CK7:CK38,\">0\")>=LISTS!$B$11,\"Complete\",IF(COUNTIF(CK7:CK38,\">0\")>0,\"Partial\",\"\"))","v":""},{"$f":"IF(COUNTIF(CL7:CL38,\">0\")>=LISTS!$B$11,\"Complete\",IF(COUNTIF(CL7:CL38,\">0\")>0,\"Partial\",\"\"))","v":""},{"$f":"IF(COUNTIF(CM7:CM38,\">0\")>=LISTS!$B$11,\"Complete\",IF(COUNTIF(CM7:CM38,\">0\")>0,\"Partial\",\"\"))","v":""},{"$f":"IF(COUNTIF(CN7:CN38,\">0\")>=LISTS!$B$11,\"Complete\",IF(COUNTIF(CN7:CN38,\">0\")>0,\"Partial\",\"\"))","v":""},{"$f":"IF(COUNTIF(CO7:CO38,\">0\")>=LISTS!$B$11,\"Complete\",IF(COUNTIF(CO7:CO38,\">0\")>0,\"Partial\",\"\"))","v":""},{"$f":"IF(COUNTIF(CP7:CP38,\">0\")>=LISTS!$B$11,\"Complete\",IF(COUNTIF(CP7:CP38,\">0\")>0,\"Partial\",\"\"))","v":""},{"$f":"IF(COUNTIF(CQ7:CQ38,\">0\")>=LISTS!$B$11,\"Complete\",IF(COUNTIF(CQ7:CQ38,\">0\")>0,\"Partial\",\"\"))","v":""},{"$f":"IF(COUNTIF(CR7:CR38,\">0\")>=LISTS!$B$11,\"Complete\",IF(COUNTIF(CR7:CR38,\">0\")>0,\"Partial\",\"\"))","v":""},{"$f":"IF(COUNTIF(CS7:CS38,\">0\")>=LISTS!$B$11,\"Complete\",IF(COUNTIF(CS7:CS38,\">0\")>0,\"Partial\",\"\"))","v":""},{"$f":"IF(COUNTIF(CT7:CT38,\">0\")>=LISTS!$B$11,\"Complete\",IF(COUNTIF(CT7:CT38,\">0\")>0,\"Partial\",\"\"))","v":""},{"$f":"IF(COUNTIF(CU7:CU38,\">0\")>=LISTS!$B$11,\"Complete\",IF(COUNTIF(CU7:CU38,\">0\")>0,\"Partial\",\"\"))","v":""},{"$f":"IF(COUNTIF(CV7:CV38,\">0\")>=LISTS!$B$11,\"Complete\",IF(COUNTIF(CV7:CV38,\">0\")>0,\"Partial\",\"\"))","v":""},{"$f":"IF(COUNTIF(CW7:CW38,\">0\")>=LISTS!$B$11,\"Complete\",IF(COUNTIF(CW7:CW38,\">0\")>0,\"Partial\",\"\"))","v":""},{"$f":"IF(COUNTIF(CX7:CX38,\">0\")>=LISTS!$B$11,\"Complete\",IF(COUNTIF(CX7:CX38,\">0\")>0,\"Partial\",\"\"))","v":""},{"$f":"IF(COUNTIF(CY7:CY38,\">0\")>=LISTS!$B$11,\"Complete\",IF(COUNTIF(CY7:CY38,\">0\")>0,\"Partial\",\"\"))","v":""},{"$f":"IF(COUNTIF(CZ7:CZ38,\">0\")>=LISTS!$B$11,\"Complete\",IF(COUNTIF(CZ7:CZ38,\">0\")>0,\"Partial\",\"\"))","v":""},{"$f":"IF(COUNTIF(DA7:DA38,\">0\")>=LISTS!$B$11,\"Complete\",IF(COUNTIF(DA7:DA38,\">0\")>0,\"Partial\",\"\"))","v":""},{"$f":"IF(COUNTIF(DB7:DB38,\">0\")>=LISTS!$B$11,\"Complete\",IF(COUNTIF(DB7:DB38,\">0\")>0,\"Partial\",\"\"))","v":""},{"$f":"IF(COUNTIF(DC7:DC38,\">0\")>=LISTS!$B$11,\"Complete\",IF(COUNTIF(DC7:DC38,\">0\")>0,\"Partial\",\"\"))","v":""},{"$f":"IF(COUNTIF(DD7:DD38,\">0\")>=LISTS!$B$11,\"Complete\",IF(COUNTIF(DD7:DD38,\">0\")>0,\"Partial\",\"\"))","v":""},{"$f":"IF(COUNTIF(DE7:DE38,\">0\")>=LISTS!$B$11,\"Complete\",IF(COUNTIF(DE7:DE38,\">0\")>0,\"Partial\",\"\"))","v":""},{"$f":"IF(COUNTIF(DF7:DF38,\">0\")>=LISTS!$B$11,\"Complete\",IF(COUNTIF(DF7:DF38,\">0\")>0,\"Partial\",\"\"))","v":""},{"$f":"IF(COUNTIF(DG7:DG38,\">0\")>=LISTS!$B$11,\"Complete\",IF(COUNTIF(DG7:DG38,\">0\")>0,\"Partial\",\"\"))","v":""},{"$f":"IF(COUNTIF(DH7:DH38,\">0\")>=LISTS!$B$11,\"Complete\",IF(COUNTIF(DH7:DH38,\">0\")>0,\"Partial\",\"\"))","v":""},{"$f":"IF(COUNTIF(DI7:DI38,\">0\")>=LISTS!$B$11,\"Complete\",IF(COUNTIF(DI7:DI38,\">0\")>0,\"Partial\",\"\"))","v":""},{"$f":"IF(COUNTIF(DJ7:DJ38,\">0\")>=LISTS!$B$11,\"Complete\",IF(COUNTIF(DJ7:DJ38,\">0\")>0,\"Partial\",\"\"))","v":""},{"$f":"IF(COUNTIF(DK7:DK38,\">0\")>=LISTS!$B$11,\"Complete\",IF(COUNTIF(DK7:DK38,\">0\")>0,\"Partial\",\"\"))","v":""},{"$f":"IF(COUNTIF(DL7:DL38,\">0\")>=LISTS!$B$11,\"Complete\",IF(COUNTIF(DL7:DL38,\">0\")>0,\"Partial\",\"\"))","v":""},{"$f":"IF(COUNTIF(DM7:DM38,\">0\")>=LISTS!$B$11,\"Complete\",IF(COUNTIF(DM7:DM38,\">0\")>0,\"Partial\",\"\"))","v":""},{"$f":"IF(COUNTIF(DN7:DN38,\">0\")>=LISTS!$B$11,\"Complete\",IF(COUNTIF(DN7:DN38,\">0\")>0,\"Partial\",\"\"))","v":""},{"$f":"IF(COUNTIF(DO7:DO38,\">0\")>=LISTS!$B$11,\"Complete\",IF(COUNTIF(DO7:DO38,\">0\")>0,\"Partial\",\"\"))","v":""},{"$f":"IF(COUNTIF(DP7:DP38,\">0\")>=LISTS!$B$11,\"Complete\",IF(COUNTIF(DP7:DP38,\">0\")>0,\"Partial\",\"\"))","v":""},{"$f":"IF(COUNTIF(DQ7:DQ38,\">0\")>=LISTS!$B$11,\"Complete\",IF(COUNTIF(DQ7:DQ38,\">0\")>0,\"Partial\",\"\"))","v":""},{"$f":"IF(COUNTIF(DR7:DR38,\">0\")>=LISTS!$B$11,\"Complete\",IF(COUNTIF(DR7:DR38,\">0\")>0,\"Partial\",\"\"))","v":""},{"$f":"IF(COUNTIF(DS7:DS38,\">0\")>=LISTS!$B$11,\"Complete\",IF(COUNTIF(DS7:DS38,\">0\")>0,\"Partial\",\"\"))","v":""},{"$f":"IF(COUNTIF(DT7:DT38,\">0\")>=LISTS!$B$11,\"Complete\",IF(COUNTIF(DT7:DT38,\">0\")>0,\"Partial\",\"\"))","v":""},{"$f":"IF(COUNTIF(DU7:DU38,\">0\")>=LISTS!$B$11,\"Complete\",IF(COUNTIF(DU7:DU38,\">0\")>0,\"Partial\",\"\"))","v":""},{"$f":"IF(COUNTIF(DV7:DV38,\">0\")>=LISTS!$B$11,\"Complete\",IF(COUNTIF(DV7:DV38,\">0\")>0,\"Partial\",\"\"))","v":""},{"$f":"IF(COUNTIF(DW7:DW38,\">0\")>=LISTS!$B$11,\"Complete\",IF(COUNTIF(DW7:DW38,\">0\")>0,\"Partial\",\"\"))","v":""},{"$f":"IF(COUNTIF(DX7:DX38,\">0\")>=LISTS!$B$11,\"Complete\",IF(COUNTIF(DX7:DX38,\">0\")>0,\"Partial\",\"\"))","v":""},{"$f":"IF(COUNTIF(DY7:DY38,\">0\")>=LISTS!$B$11,\"Complete\",IF(COUNTIF(DY7:DY38,\">0\")>0,\"Partial\",\"\"))","v":""},{"$f":"IF(COUNTIF(DZ7:DZ38,\">0\")>=LISTS!$B$11,\"Complete\",IF(COUNTIF(DZ7:DZ38,\">0\")>0,\"Partial\",\"\"))","v":""},{"$f":"IF(COUNTIF(EA7:EA38,\">0\")>=LISTS!$B$11,\"Complete\",IF(COUNTIF(EA7:EA38,\">0\")>0,\"Partial\",\"\"))","v":""},{"$f":"IF(COUNTIF(EB7:EB38,\">0\")>=LISTS!$B$11,\"Complete\",IF(COUNTIF(EB7:EB38,\">0\")>0,\"Partial\",\"\"))","v":""},{"$f":"IF(COUNTIF(EC7:EC38,\">0\")>=LISTS!$B$11,\"Complete\",IF(COUNTIF(EC7:EC38,\">0\")>0,\"Partial\",\"\"))","v":""},{"$f":"IF(COUNTIF(ED7:ED38,\">0\")>=LISTS!$B$11,\"Complete\",IF(COUNTIF(ED7:ED38,\">0\")>0,\"Partial\",\"\"))","v":""},{"$f":"IF(COUNTIF(EE7:EE38,\">0\")>=LISTS!$B$11,\"Complete\",IF(COUNTIF(EE7:EE38,\">0\")>0,\"Partial\",\"\"))","v":""},{"$f":"IF(COUNTIF(EF7:EF38,\">0\")>=LISTS!$B$11,\"Complete\",IF(COUNTIF(EF7:EF38,\">0\")>0,\"Partial\",\"\"))","v":""},{"$f":"IF(COUNTIF(EG7:EG38,\">0\")>=LISTS!$B$11,\"Complete\",IF(COUNTIF(EG7:EG38,\">0\")>0,\"Partial\",\"\"))","v":""},{"$f":"IF(COUNTIF(EH7:EH38,\">0\")>=LISTS!$B$11,\"Complete\",IF(COUNTIF(EH7:EH38,\">0\")>0,\"Partial\",\"\"))","v":""},{"$f":"IF(COUNTIF(EI7:EI38,\">0\")>=LISTS!$B$11,\"Complete\",IF(COUNTIF(EI7:EI38,\">0\")>0,\"Partial\",\"\"))","v":""},{"$f":"IF(COUNTIF(EJ7:EJ38,\">0\")>=LISTS!$B$11,\"Complete\",IF(COUNTIF(EJ7:EJ38,\">0\")>0,\"Partial\",\"\"))","v":""},{"$f":"IF(COUNTIF(EK7:EK38,\">0\")>=LISTS!$B$11,\"Complete\",IF(COUNTIF(EK7:EK38,\">0\")>0,\"Partial\",\"\"))","v":""},{"$f":"IF(COUNTIF(EL7:EL38,\">0\")>=LISTS!$B$11,\"Complete\",IF(COUNTIF(EL7:EL38,\">0\")>0,\"Partial\",\"\"))","v":""},{"$f":"IF(COUNTIF(EM7:EM38,\">0\")>=LISTS!$B$11,\"Complete\",IF(COUNTIF(EM7:EM38,\">0\")>0,\"Partial\",\"\"))","v":""},{"$f":"IF(COUNTIF(EN7:EN38,\">0\")>=LISTS!$B$11,\"Complete\",IF(COUNTIF(EN7:EN38,\">0\")>0,\"Partial\",\"\"))","v":""},{"$f":"IF(COUNTIF(EO7:EO38,\">0\")>=LISTS!$B$11,\"Complete\",IF(COUNTIF(EO7:EO38,\">0\")>0,\"Partial\",\"\"))","v":""},{"$f":"IF(COUNTIF(EP7:EP38,\">0\")>=LISTS!$B$11,\"Complete\",IF(COUNTIF(EP7:EP38,\">0\")>0,\"Partial\",\"\"))","v":""},{"$f":"IF(COUNTIF(EQ7:EQ38,\">0\")>=LISTS!$B$11,\"Complete\",IF(COUNTIF(EQ7:EQ38,\">0\")>0,\"Partial\",\"\"))","v":""},{"$f":"IF(COUNTIF(ER7:ER38,\">0\")>=LISTS!$B$11,\"Complete\",IF(COUNTIF(ER7:ER38,\">0\")>0,\"Partial\",\"\"))","v":""},{"$f":"IF(COUNTIF(ES7:ES38,\">0\")>=LISTS!$B$11,\"Complete\",IF(COUNTIF(ES7:ES38,\">0\")>0,\"Partial\",\"\"))","v":""},{"$f":"IF(COUNTIF(ET7:ET38,\">0\")>=LISTS!$B$11,\"Complete\",IF(COUNTIF(ET7:ET38,\">0\")>0,\"Partial\",\"\"))","v":""},{"$f":"IF(COUNTIF(EU7:EU38,\">0\")>=LISTS!$B$11,\"Complete\",IF(COUNTIF(EU7:EU38,\">0\")>0,\"Partial\",\"\"))","v":""},{"$f":"IF(COUNTIF(EV7:EV38,\">0\")>=LISTS!$B$11,\"Complete\",IF(COUNTIF(EV7:EV38,\">0\")>0,\"Partial\",\"\"))","v":""},{"$f":"IF(COUNTIF(EW7:EW38,\">0\")>=LISTS!$B$11,\"Complete\",IF(COUNTIF(EW7:EW38,\">0\")>0,\"Partial\",\"\"))","v":""},{"$f":"IF(COUNTIF(EX7:EX38,\">0\")>=LISTS!$B$11,\"Complete\",IF(COUNTIF(EX7:EX38,\">0\")>0,\"Partial\",\"\"))","v":""},{"$f":"IF(COUNTIF(EY7:EY38,\">0\")>=LISTS!$B$11,\"Complete\",IF(COUNTIF(EY7:EY38,\">0\")>0,\"Partial\",\"\"))","v":""},{"$f":"IF(COUNTIF(EZ7:EZ38,\">0\")>=LISTS!$B$11,\"Complete\",IF(COUNTIF(EZ7:EZ38,\">0\")>0,\"Partial\",\"\"))","v":""},{"$f":"IF(COUNTIF(FA7:FA38,\">0\")>=LISTS!$B$11,\"Complete\",IF(COUNTIF(FA7:FA38,\">0\")>0,\"Partial\",\"\"))","v":""},{"$f":"IF(COUNTIF(FB7:FB38,\">0\")>=LISTS!$B$11,\"Complete\",IF(COUNTIF(FB7:FB38,\">0\")>0,\"Partial\",\"\"))","v":""},{"$f":"IF(COUNTIF(FC7:FC38,\">0\")>=LISTS!$B$11,\"Complete\",IF(COUNTIF(FC7:FC38,\">0\")>0,\"Partial\",\"\"))","v":""},{"$f":"IF(COUNTIF(FD7:FD38,\">0\")>=LISTS!$B$11,\"Complete\",IF(COUNTIF(FD7:FD38,\">0\")>0,\"Partial\",\"\"))","v":""},{"$f":"IF(COUNTIF(FE7:FE38,\">0\")>=LISTS!$B$11,\"Complete\",IF(COUNTIF(FE7:FE38,\">0\")>0,\"Partial\",\"\"))","v":""},{"$f":"IF(COUNTIF(FF7:FF38,\">0\")>=LISTS!$B$11,\"Complete\",IF(COUNTIF(FF7:FF38,\">0\")>0,\"Partial\",\"\"))","v":""},{"$f":"IF(COUNTIF(FG7:FG38,\">0\")>=LISTS!$B$11,\"Complete\",IF(COUNTIF(FG7:FG38,\">0\")>0,\"Partial\",\"\"))","v":""},{"$f":"IF(COUNTIF(FH7:FH38,\">0\")>=LISTS!$B$11,\"Complete\",IF(COUNTIF(FH7:FH38,\">0\")>0,\"Partial\",\"\"))","v":""},{"$f":"IF(COUNTIF(FI7:FI38,\">0\")>=LISTS!$B$11,\"Complete\",IF(COUNTIF(FI7:FI38,\">0\")>0,\"Partial\",\"\"))","v":""},{"$f":"IF(COUNTIF(FJ7:FJ38,\">0\")>=LISTS!$B$11,\"Complete\",IF(COUNTIF(FJ7:FJ38,\">0\")>0,\"Partial\",\"\"))","v":""},{"$f":"IF(COUNTIF(FK7:FK38,\">0\")>=LISTS!$B$11,\"Complete\",IF(COUNTIF(FK7:FK38,\">0\")>0,\"Partial\",\"\"))","v":""},{"$f":"IF(COUNTIF(FL7:FL38,\">0\")>=LISTS!$B$11,\"Complete\",IF(COUNTIF(FL7:FL38,\">0\")>0,\"Partial\",\"\"))","v":""},{"$f":"IF(COUNTIF(FM7:FM38,\">0\")>=LISTS!$B$11,\"Complete\",IF(COUNTIF(FM7:FM38,\">0\")>0,\"Partial\",\"\"))","v":""},{"$f":"IF(COUNTIF(FN7:FN38,\">0\")>=LISTS!$B$11,\"Complete\",IF(COUNTIF(FN7:FN38,\">0\")>0,\"Partial\",\"\"))","v":""},{"$f":"IF(COUNTIF(FO7:FO38,\">0\")>=LISTS!$B$11,\"Complete\",IF(COUNTIF(FO7:FO38,\">0\")>0,\"Partial\",\"\"))","v":""},{"$f":"IF(COUNTIF(FP7:FP38,\">0\")>=LISTS!$B$11,\"Complete\",IF(COUNTIF(FP7:FP38,\">0\")>0,\"Partial\",\"\"))","v":""},{"$f":"IF(COUNTIF(FQ7:FQ38,\">0\")>=LISTS!$B$11,\"Complete\",IF(COUNTIF(FQ7:FQ38,\">0\")>0,\"Partial\",\"\"))","v":""},{"$f":"IF(COUNTIF(FR7:FR38,\">0\")>=LISTS!$B$11,\"Complete\",IF(COUNTIF(FR7:FR38,\">0\")>0,\"Partial\",\"\"))","v":""},{"$f":"IF(COUNTIF(FS7:FS38,\">0\")>=LISTS!$B$11,\"Complete\",IF(COUNTIF(FS7:FS38,\">0\")>0,\"Partial\",\"\"))","v":""},{"$f":"IF(COUNTIF(FT7:FT38,\">0\")>=LISTS!$B$11,\"Complete\",IF(COUNTIF(FT7:FT38,\">0\")>0,\"Partial\",\"\"))","v":""},{"$f":"IF(COUNTIF(FU7:FU38,\">0\")>=LISTS!$B$11,\"Complete\",IF(COUNTIF(FU7:FU38,\">0\")>0,\"Partial\",\"\"))","v":""},{"$f":"IF(COUNTIF(FV7:FV38,\">0\")>=LISTS!$B$11,\"Complete\",IF(COUNTIF(FV7:FV38,\">0\")>0,\"Partial\",\"\"))","v":""},{"$f":"IF(COUNTIF(FW7:FW38,\">0\")>=LISTS!$B$11,\"Complete\",IF(COUNTIF(FW7:FW38,\">0\")>0,\"Partial\",\"\"))","v":""},{"$f":"IF(COUNTIF(FX7:FX38,\">0\")>=LISTS!$B$11,\"Complete\",IF(COUNTIF(FX7:FX38,\">0\")>0,\"Partial\",\"\"))","v":""},{"$f":"IF(COUNTIF(FY7:FY38,\">0\")>=LISTS!$B$11,\"Complete\",IF(COUNTIF(FY7:FY38,\">0\")>0,\"Partial\",\"\"))","v":""},{"$f":"IF(COUNTIF(FZ7:FZ38,\">0\")>=LISTS!$B$11,\"Complete\",IF(COUNTIF(FZ7:FZ38,\">0\")>0,\"Partial\",\"\"))","v":""},{"$f":"IF(COUNTIF(GA7:GA38,\">0\")>=LISTS!$B$11,\"Complete\",IF(COUNTIF(GA7:GA38,\">0\")>0,\"Partial\",\"\"))","v":""},{"$f":"IF(COUNTIF(GB7:GB38,\">0\")>=LISTS!$B$11,\"Complete\",IF(COUNTIF(GB7:GB38,\">0\")>0,\"Partial\",\"\"))","v":""},{"$f":"IF(COUNTIF(GC7:GC38,\">0\")>=LISTS!$B$11,\"Complete\",IF(COUNTIF(GC7:GC38,\">0\")>0,\"Partial\",\"\"))","v":""},{"$f":"IF(COUNTIF(GD7:GD38,\">0\")>=LISTS!$B$11,\"Complete\",IF(COUNTIF(GD7:GD38,\">0\")>0,\"Partial\",\"\"))","v":""},{"$f":"IF(COUNTIF(GE7:GE38,\">0\")>=LISTS!$B$11,\"Complete\",IF(COUNTIF(GE7:GE38,\">0\")>0,\"Partial\",\"\"))","v":""},{"$f":"IF(COUNTIF(GF7:GF38,\">0\")>=LISTS!$B$11,\"Complete\",IF(COUNTIF(GF7:GF38,\">0\")>0,\"Partial\",\"\"))","v":""},{"$f":"IF(COUNTIF(GG7:GG38,\">0\")>=LISTS!$B$11,\"Complete\",IF(COUNTIF(GG7:GG38,\">0\")>0,\"Partial\",\"\"))","v":""},{"$f":"IF(COUNTIF(GH7:GH38,\">0\")>=LISTS!$B$11,\"Complete\",IF(COUNTIF(GH7:GH38,\">0\")>0,\"Partial\",\"\"))","v":""},{"$f":"IF(COUNTIF(GI7:GI38,\">0\")>=LISTS!$B$11,\"Complete\",IF(COUNTIF(GI7:GI38,\">0\")>0,\"Partial\",\"\"))","v":""},{"$f":"IF(COUNTIF(GJ7:GJ38,\">0\")>=LISTS!$B$11,\"Complete\",IF(COUNTIF(GJ7:GJ38,\">0\")>0,\"Partial\",\"\"))","v":""},{"$f":"IF(COUNTIF(GK7:GK38,\">0\")>=LISTS!$B$11,\"Complete\",IF(COUNTIF(GK7:GK38,\">0\")>0,\"Partial\",\"\"))","v":""},{"$f":"IF(COUNTIF(GL7:GL38,\">0\")>=LISTS!$B$11,\"Complete\",IF(COUNTIF(GL7:GL38,\">0\")>0,\"Partial\",\"\"))","v":""},{"$f":"IF(COUNTIF(GM7:GM38,\">0\")>=LISTS!$B$11,\"Complete\",IF(COUNTIF(GM7:GM38,\">0\")>0,\"Partial\",\"\"))","v":""},{"$f":"IF(COUNTIF(GN7:GN38,\">0\")>=LISTS!$B$11,\"Complete\",IF(COUNTIF(GN7:GN38,\">0\")>0,\"Partial\",\"\"))","v":""},{"$f":"IF(COUNTIF(GO7:GO38,\">0\")>=LISTS!$B$11,\"Complete\",IF(COUNTIF(GO7:GO38,\">0\")>0,\"Partial\",\"\"))","v":""},{"$f":"IF(COUNTIF(GP7:GP38,\">0\")>=LISTS!$B$11,\"Complete\",IF(COUNTIF(GP7:GP38,\">0\")>0,\"Partial\",\"\"))","v":""},{"$f":"IF(COUNTIF(GQ7:GQ38,\">0\")>=LISTS!$B$11,\"Complete\",IF(COUNTIF(GQ7:GQ38,\">0\")>0,\"Partial\",\"\"))","v":""},{"$f":"IF(COUNTIF(GR7:GR38,\">0\")>=LISTS!$B$11,\"Complete\",IF(COUNTIF(GR7:GR38,\">0\")>0,\"Partial\",\"\"))","v":""},{"$f":"IF(COUNTIF(GS7:GS38,\">0\")>=LISTS!$B$11,\"Complete\",IF(COUNTIF(GS7:GS38,\">0\")>0,\"Partial\",\"\"))","v":""},{"$f":"IF(COUNTIF(GT7:GT38,\">0\")>=LISTS!$B$11,\"Complete\",IF(COUNTIF(GT7:GT38,\">0\")>0,\"Partial\",\"\"))","v":""},{"$f":"IF(COUNTIF(GU7:GU38,\">0\")>=LISTS!$B$11,\"Complete\",IF(COUNTIF(GU7:GU38,\">0\")>0,\"Partial\",\"\"))","v":""},{"$f":"IF(COUNTIF(GV7:GV38,\">0\")>=LISTS!$B$11,\"Complete\",IF(COUNTIF(GV7:GV38,\">0\")>0,\"Partial\",\"\"))","v":""},{"$f":"IF(COUNTIF(GW7:GW38,\">0\")>=LISTS!$B$11,\"Complete\",IF(COUNTIF(GW7:GW38,\">0\")>0,\"Partial\",\"\"))","v":""},{"$f":"IF(COUNTIF(GX7:GX38,\">0\")>=LISTS!$B$11,\"Complete\",IF(COUNTIF(GX7:GX38,\">0\")>0,\"Partial\",\"\"))","v":""},{"$f":"IF(COUNTIF(GY7:GY38,\">0\")>=LISTS!$B$11,\"Complete\",IF(COUNTIF(GY7:GY38,\">0\")>0,\"Partial\",\"\"))","v":""},{"$f":"IF(COUNTIF(GZ7:GZ38,\">0\")>=LISTS!$B$11,\"Complete\",IF(COUNTIF(GZ7:GZ38,\">0\")>0,\"Partial\",\"\"))","v":""},{"$f":"IF(COUNTIF(HA7:HA38,\">0\")>=LISTS!$B$11,\"Complete\",IF(COUNTIF(HA7:HA38,\">0\")>0,\"Partial\",\"\"))","v":""},{"$f":"IF(COUNTIF(HB7:HB38,\">0\")>=LISTS!$B$11,\"Complete\",IF(COUNTIF(HB7:HB38,\">0\")>0,\"Partial\",\"\"))","v":""},{"$f":"IF(COUNTIF(HC7:HC38,\">0\")>=LISTS!$B$11,\"Complete\",IF(COUNTIF(HC7:HC38,\">0\")>0,\"Partial\",\"\"))","v":""},{"$f":"IF(COUNTIF(HD7:HD38,\">0\")>=LISTS!$B$11,\"Complete\",IF(COUNTIF(HD7:HD38,\">0\")>0,\"Partial\",\"\"))","v":""},{"$f":"IF(COUNTIF(HE7:HE38,\">0\")>=LISTS!$B$11,\"Complete\",IF(COUNTIF(HE7:HE38,\">0\")>0,\"Partial\",\"\"))","v":""},{"$f":"IF(COUNTIF(HF7:HF38,\">0\")>=LISTS!$B$11,\"Complete\",IF(COUNTIF(HF7:HF38,\">0\")>0,\"Partial\",\"\"))","v":""},{"$f":"IF(COUNTIF(HG7:HG38,\">0\")>=LISTS!$B$11,\"Complete\",IF(COUNTIF(HG7:HG38,\">0\")>0,\"Partial\",\"\"))","v":""},{"$f":"IF(COUNTIF(HH7:HH38,\">0\")>=LISTS!$B$11,\"Complete\",IF(COUNTIF(HH7:HH38,\">0\")>0,\"Partial\",\"\"))","v":""},{"$f":"IF(COUNTIF(HI7:HI38,\">0\")>=LISTS!$B$11,\"Complete\",IF(COUNTIF(HI7:HI38,\">0\")>0,\"Partial\",\"\"))","v":""},{"$f":"IF(COUNTIF(HJ7:HJ38,\">0\")>=LISTS!$B$11,\"Complete\",IF(COUNTIF(HJ7:HJ38,\">0\")>0,\"Partial\",\"\"))","v":""},{"$f":"IF(COUNTIF(HK7:HK38,\">0\")>=LISTS!$B$11,\"Complete\",IF(COUNTIF(HK7:HK38,\">0\")>0,\"Partial\",\"\"))","v":""},{"$f":"IF(COUNTIF(HL7:HL38,\">0\")>=LISTS!$B$11,\"Complete\",IF(COUNTIF(HL7:HL38,\">0\")>0,\"Partial\",\"\"))","v":""},{"$f":"IF(COUNTIF(HM7:HM38,\">0\")>=LISTS!$B$11,\"Complete\",IF(COUNTIF(HM7:HM38,\">0\")>0,\"Partial\",\"\"))","v":""},{"$f":"IF(COUNTIF(HN7:HN38,\">0\")>=LISTS!$B$11,\"Complete\",IF(COUNTIF(HN7:HN38,\">0\")>0,\"Partial\",\"\"))","v":""},{"$f":"IF(COUNTIF(HO7:HO38,\">0\")>=LISTS!$B$11,\"Complete\",IF(COUNTIF(HO7:HO38,\">0\")>0,\"Partial\",\"\"))","v":""},{"$f":"IF(COUNTIF(HP7:HP38,\">0\")>=LISTS!$B$11,\"Complete\",IF(COUNTIF(HP7:HP38,\">0\")>0,\"Partial\",\"\"))","v":""},{"$f":"IF(COUNTIF(HQ7:HQ38,\">0\")>=LISTS!$B$11,\"Complete\",IF(COUNTIF(HQ7:HQ38,\">0\")>0,\"Partial\",\"\"))","v":""},{"$f":"IF(COUNTIF(HR7:HR38,\">0\")>=LISTS!$B$11,\"Complete\",IF(COUNTIF(HR7:HR38,\">0\")>0,\"Partial\",\"\"))","v":""},{"$f":"IF(COUNTIF(HS7:HS38,\">0\")>=LISTS!$B$11,\"Complete\",IF(COUNTIF(HS7:HS38,\">0\")>0,\"Partial\",\"\"))","v":""},{"$f":"IF(COUNTIF(HT7:HT38,\">0\")>=LISTS!$B$11,\"Complete\",IF(COUNTIF(HT7:HT38,\">0\")>0,\"Partial\",\"\"))","v":""},{"$f":"IF(COUNTIF(HU7:HU38,\">0\")>=LISTS!$B$11,\"Complete\",IF(COUNTIF(HU7:HU38,\">0\")>0,\"Partial\",\"\"))","v":""},{"$f":"IF(COUNTIF(HV7:HV38,\">0\")>=LISTS!$B$11,\"Complete\",IF(COUNTIF(HV7:HV38,\">0\")>0,\"Partial\",\"\"))","v":""},{"$f":"IF(COUNTIF(HW7:HW38,\">0\")>=LISTS!$B$11,\"Complete\",IF(COUNTIF(HW7:HW38,\">0\")>0,\"Partial\",\"\"))","v":""},{"$f":"IF(COUNTIF(HX7:HX38,\">0\")>=LISTS!$B$11,\"Complete\",IF(COUNTIF(HX7:HX38,\">0\")>0,\"Partial\",\"\"))","v":""},{"$f":"IF(COUNTIF(HY7:HY38,\">0\")>=LISTS!$B$11,\"Complete\",IF(COUNTIF(HY7:HY38,\">0\")>0,\"Partial\",\"\"))","v":""},{"$f":"IF(COUNTIF(HZ7:HZ38,\">0\")>=LISTS!$B$11,\"Complete\",IF(COUNTIF(HZ7:HZ38,\">0\")>0,\"Partial\",\"\"))","v":""},{"$f":"IF(COUNTIF(IA7:IA38,\">0\")>=LISTS!$B$11,\"Complete\",IF(COUNTIF(IA7:IA38,\">0\")>0,\"Partial\",\"\"))","v":""},{"$f":"IF(COUNTIF(IB7:IB38,\">0\")>=LISTS!$B$11,\"Complete\",IF(COUNTIF(IB7:IB38,\">0\")>0,\"Partial\",\"\"))","v":""},{"$f":"IF(COUNTIF(IC7:IC38,\">0\")>=LISTS!$B$11,\"Complete\",IF(COUNTIF(IC7:IC38,\">0\")>0,\"Partial\",\"\"))","v":""},{"$f":"IF(COUNTIF(ID7:ID38,\">0\")>=LISTS!$B$11,\"Complete\",IF(COUNTIF(ID7:ID38,\">0\")>0,\"Partial\",\"\"))","v":""},{"$f":"IF(COUNTIF(IE7:IE38,\">0\")>=LISTS!$B$11,\"Complete\",IF(COUNTIF(IE7:IE38,\">0\")>0,\"Partial\",\"\"))","v":""},{"$f":"IF(COUNTIF(IF7:IF38,\">0\")>=LISTS!$B$11,\"Complete\",IF(COUNTIF(IF7:IF38,\">0\")>0,\"Partial\",\"\"))","v":""},{"$f":"IF(COUNTIF(IG7:IG38,\">0\")>=LISTS!$B$11,\"Complete\",IF(COUNTIF(IG7:IG38,\">0\")>0,\"Partial\",\"\"))","v":""},{"$f":"IF(COUNTIF(IH7:IH38,\">0\")>=LISTS!$B$11,\"Complete\",IF(COUNTIF(IH7:IH38,\">0\")>0,\"Partial\",\"\"))","v":""},{"$f":"IF(COUNTIF(II7:II38,\">0\")>=LISTS!$B$11,\"Complete\",IF(COUNTIF(II7:II38,\">0\")>0,\"Partial\",\"\"))","v":""},{"$f":"IF(COUNTIF(IJ7:IJ38,\">0\")>=LISTS!$B$11,\"Complete\",IF(COUNTIF(IJ7:IJ38,\">0\")>0,\"Partial\",\"\"))","v":""},{"$f":"IF(COUNTIF(IK7:IK38,\">0\")>=LISTS!$B$11,\"Complete\",IF(COUNTIF(IK7:IK38,\">0\")>0,\"Partial\",\"\"))","v":""},{"$f":"IF(COUNTIF(IL7:IL38,\">0\")>=LISTS!$B$11,\"Complete\",IF(COUNTIF(IL7:IL38,\">0\")>0,\"Partial\",\"\"))","v":""},{"$f":"IF(COUNTIF(IM7:IM38,\">0\")>=LISTS!$B$11,\"Complete\",IF(COUNTIF(IM7:IM38,\">0\")>0,\"Partial\",\"\"))","v":""},{"$f":"IF(COUNTIF(IN7:IN38,\">0\")>=LISTS!$B$11,\"Complete\",IF(COUNTIF(IN7:IN38,\">0\")>0,\"Partial\",\"\"))","v":""},{"$f":"IF(COUNTIF(IO7:IO38,\">0\")>=LISTS!$B$11,\"Complete\",IF(COUNTIF(IO7:IO38,\">0\")>0,\"Partial\",\"\"))","v":""},{"$f":"IF(COUNTIF(IP7:IP38,\">0\")>=LISTS!$B$11,\"Complete\",IF(COUNTIF(IP7:IP38,\">0\")>0,\"Partial\",\"\"))","v":""},{"$f":"IF(COUNTIF(IQ7:IQ38,\">0\")>=LISTS!$B$11,\"Complete\",IF(COUNTIF(IQ7:IQ38,\">0\")>0,\"Partial\",\"\"))","v":""},{"$f":"IF(COUNTIF(IR7:IR38,\">0\")>=LISTS!$B$11,\"Complete\",IF(COUNTIF(IR7:IR38,\">0\")>0,\"Partial\",\"\"))","v":""},{"$f":"IF(COUNTIF(IS7:IS38,\">0\")>=LISTS!$B$11,\"Complete\",IF(COUNTIF(IS7:IS38,\">0\")>0,\"Partial\",\"\"))","v":""},{"$f":"IF(COUNTIF(IT7:IT38,\">0\")>=LISTS!$B$11,\"Complete\",IF(COUNTIF(IT7:IT38,\">0\")>0,\"Partial\",\"\"))","v":""},{"$f":"IF(COUNTIF(IU7:IU38,\">0\")>=LISTS!$B$11,\"Complete\",IF(COUNTIF(IU7:IU38,\">0\")>0,\"Partial\",\"\"))","v":""},{"$f":"IF(COUNTIF(IV7:IV38,\">0\")>=LISTS!$B$11,\"Complete\",IF(COUNTIF(IV7:IV38,\">0\")>0,\"Partial\",\"\"))","v":""},{"$f":"IF(COUNTIF(IW7:IW38,\">0\")>=LISTS!$B$11,\"Complete\",IF(COUNTIF(IW7:IW38,\">0\")>0,\"Partial\",\"\"))","v":""},{"$f":"IF(COUNTIF(IX7:IX38,\">0\")>=LISTS!$B$11,\"Complete\",IF(COUNTIF(IX7:IX38,\">0\")>0,\"Partial\",\"\"))","v":""},{"$f":"IF(COUNTIF(IY7:IY38,\">0\")>=LISTS!$B$11,\"Complete\",IF(COUNTIF(IY7:IY38,\">0\")>0,\"Partial\",\"\"))","v":""},{"$f":"IF(COUNTIF(IZ7:IZ38,\">0\")>=LISTS!$B$11,\"Complete\",IF(COUNTIF(IZ7:IZ38,\">0\")>0,\"Partial\",\"\"))","v":""},{"$f":"IF(COUNTIF(JA7:JA38,\">0\")>=LISTS!$B$11,\"Complete\",IF(COUNTIF(JA7:JA38,\">0\")>0,\"Partial\",\"\"))","v":""},{"$f":"IF(COUNTIF(JB7:JB38,\">0\")>=LISTS!$B$11,\"Complete\",IF(COUNTIF(JB7:JB38,\">0\")>0,\"Partial\",\"\"))","v":""},{"$f":"IF(COUNTIF(JC7:JC38,\">0\")>=LISTS!$B$11,\"Complete\",IF(COUNTIF(JC7:JC38,\">0\")>0,\"Partial\",\"\"))","v":""},{"$f":"IF(COUNTIF(JD7:JD38,\">0\")>=LISTS!$B$11,\"Complete\",IF(COUNTIF(JD7:JD38,\">0\")>0,\"Partial\",\"\"))","v":""},{"$f":"IF(COUNTIF(JE7:JE38,\">0\")>=LISTS!$B$11,\"Complete\",IF(COUNTIF(JE7:JE38,\">0\")>0,\"Partial\",\"\"))","v":""},{"$f":"IF(COUNTIF(JF7:JF38,\">0\")>=LISTS!$B$11,\"Complete\",IF(COUNTIF(JF7:JF38,\">0\")>0,\"Partial\",\"\"))","v":""},{"$f":"IF(COUNTIF(JG7:JG38,\">0\")>=LISTS!$B$11,\"Complete\",IF(COUNTIF(JG7:JG38,\">0\")>0,\"Partial\",\"\"))","v":""},{"$f":"IF(COUNTIF(JH7:JH38,\">0\")>=LISTS!$B$11,\"Complete\",IF(COUNTIF(JH7:JH38,\">0\")>0,\"Partial\",\"\"))","v":""},{"$f":"IF(COUNTIF(JI7:JI38,\">0\")>=LISTS!$B$11,\"Complete\",IF(COUNTIF(JI7:JI38,\">0\")>0,\"Partial\",\"\"))","v":""},{"$f":"IF(COUNTIF(JJ7:JJ38,\">0\")>=LISTS!$B$11,\"Complete\",IF(COUNTIF(JJ7:JJ38,\">0\")>0,\"Partial\",\"\"))","v":""},{"$f":"IF(COUNTIF(JK7:JK38,\">0\")>=LISTS!$B$11,\"Complete\",IF(COUNTIF(JK7:JK38,\">0\")>0,\"Partial\",\"\"))","v":""},{"$f":"IF(COUNTIF(JL7:JL38,\">0\")>=LISTS!$B$11,\"Complete\",IF(COUNTIF(JL7:JL38,\">0\")>0,\"Partial\",\"\"))","v":""},{"$f":"IF(COUNTIF(JM7:JM38,\">0\")>=LISTS!$B$11,\"Complete\",IF(COUNTIF(JM7:JM38,\">0\")>0,\"Partial\",\"\"))","v":""},{"$f":"IF(COUNTIF(JN7:JN38,\">0\")>=LISTS!$B$11,\"Complete\",IF(COUNTIF(JN7:JN38,\">0\")>0,\"Partial\",\"\"))","v":""},{"$f":"IF(COUNTIF(JO7:JO38,\">0\")>=LISTS!$B$11,\"Complete\",IF(COUNTIF(JO7:JO38,\">0\")>0,\"Partial\",\"\"))","v":""},{"$f":"IF(COUNTIF(JP7:JP38,\">0\")>=LISTS!$B$11,\"Complete\",IF(COUNTIF(JP7:JP38,\">0\")>0,\"Partial\",\"\"))","v":""},{"$f":"IF(COUNTIF(JQ7:JQ38,\">0\")>=LISTS!$B$11,\"Complete\",IF(COUNTIF(JQ7:JQ38,\">0\")>0,\"Partial\",\"\"))","v":""},{"$f":"IF(COUNTIF(JR7:JR38,\">0\")>=LISTS!$B$11,\"Complete\",IF(COUNTIF(JR7:JR38,\">0\")>0,\"Partial\",\"\"))","v":""},{"$f":"IF(COUNTIF(JS7:JS38,\">0\")>=LISTS!$B$11,\"Complete\",IF(COUNTIF(JS7:JS38,\">0\")>0,\"Partial\",\"\"))","v":""},{"$f":"IF(COUNTIF(JT7:JT38,\">0\")>=LISTS!$B$11,\"Complete\",IF(COUNTIF(JT7:JT38,\">0\")>0,\"Partial\",\"\"))","v":""},{"$f":"IF(COUNTIF(JU7:JU38,\">0\")>=LISTS!$B$11,\"Complete\",IF(COUNTIF(JU7:JU38,\">0\")>0,\"Partial\",\"\"))","v":""},{"$f":"IF(COUNTIF(JV7:JV38,\">0\")>=LISTS!$B$11,\"Complete\",IF(COUNTIF(JV7:JV38,\">0\")>0,\"Partial\",\"\"))","v":""},{"$f":"IF(COUNTIF(JW7:JW38,\">0\")>=LISTS!$B$11,\"Complete\",IF(COUNTIF(JW7:JW38,\">0\")>0,\"Partial\",\"\"))","v":""},{"$f":"IF(COUNTIF(JX7:JX38,\">0\")>=LISTS!$B$11,\"Complete\",IF(COUNTIF(JX7:JX38,\">0\")>0,\"Partial\",\"\"))","v":""},{"$f":"IF(COUNTIF(JY7:JY38,\">0\")>=LISTS!$B$11,\"Complete\",IF(COUNTIF(JY7:JY38,\">0\")>0,\"Partial\",\"\"))","v":""},{"$f":"IF(COUNTIF(JZ7:JZ38,\">0\")>=LISTS!$B$11,\"Complete\",IF(COUNTIF(JZ7:JZ38,\">0\")>0,\"Partial\",\"\"))","v":""},{"$f":"IF(COUNTIF(KA7:KA38,\">0\")>=LISTS!$B$11,\"Complete\",IF(COUNTIF(KA7:KA38,\">0\")>0,\"Partial\",\"\"))","v":""},{"$f":"IF(COUNTIF(KB7:KB38,\">0\")>=LISTS!$B$11,\"Complete\",IF(COUNTIF(KB7:KB38,\">0\")>0,\"Partial\",\"\"))","v":""},{"$f":"IF(COUNTIF(KC7:KC38,\">0\")>=LISTS!$B$11,\"Complete\",IF(COUNTIF(KC7:KC38,\">0\")>0,\"Partial\",\"\"))","v":""},{"$f":"IF(COUNTIF(KD7:KD38,\">0\")>=LISTS!$B$11,\"Complete\",IF(COUNTIF(KD7:KD38,\">0\")>0,\"Partial\",\"\"))","v":""},{"$f":"IF(COUNTIF(KE7:KE38,\">0\")>=LISTS!$B$11,\"Complete\",IF(COUNTIF(KE7:KE38,\">0\")>0,\"Partial\",\"\"))","v":""},{"$f":"IF(COUNTIF(KF7:KF38,\">0\")>=LISTS!$B$11,\"Complete\",IF(COUNTIF(KF7:KF38,\">0\")>0,\"Partial\",\"\"))","v":""},{"$f":"IF(COUNTIF(KG7:KG38,\">0\")>=LISTS!$B$11,\"Complete\",IF(COUNTIF(KG7:KG38,\">0\")>0,\"Partial\",\"\"))","v":""},{"$f":"IF(COUNTIF(KH7:KH38,\">0\")>=LISTS!$B$11,\"Complete\",IF(COUNTIF(KH7:KH38,\">0\")>0,\"Partial\",\"\"))","v":""},{"$f":"IF(COUNTIF(KI7:KI38,\">0\")>=LISTS!$B$11,\"Complete\",IF(COUNTIF(KI7:KI38,\">0\")>0,\"Partial\",\"\"))","v":""},{"$f":"IF(COUNTIF(KJ7:KJ38,\">0\")>=LISTS!$B$11,\"Complete\",IF(COUNTIF(KJ7:KJ38,\">0\")>0,\"Partial\",\"\"))","v":""},{"$f":"IF(COUNTIF(KK7:KK38,\">0\")>=LISTS!$B$11,\"Complete\",IF(COUNTIF(KK7:KK38,\">0\")>0,\"Partial\",\"\"))","v":""},{"$f":"IF(COUNTIF(KL7:KL38,\">0\")>=LISTS!$B$11,\"Complete\",IF(COUNTIF(KL7:KL38,\">0\")>0,\"Partial\",\"\"))","v":""},{"$f":"IF(COUNTIF(KM7:KM38,\">0\")>=LISTS!$B$11,\"Complete\",IF(COUNTIF(KM7:KM38,\">0\")>0,\"Partial\",\"\"))","v":""},{"$f":"IF(COUNTIF(KN7:KN38,\">0\")>=LISTS!$B$11,\"Complete\",IF(COUNTIF(KN7:KN38,\">0\")>0,\"Partial\",\"\"))","v":""},{"$f":"IF(COUNTIF(KO7:KO38,\">0\")>=LISTS!$B$11,\"Complete\",IF(COUNTIF(KO7:KO38,\">0\")>0,\"Partial\",\"\"))","v":""},{"$f":"IF(COUNTIF(KP7:KP38,\">0\")>=LISTS!$B$11,\"Complete\",IF(COUNTIF(KP7:KP38,\">0\")>0,\"Partial\",\"\"))","v":""},{"$f":"IF(COUNTIF(KQ7:KQ38,\">0\")>=LISTS!$B$11,\"Complete\",IF(COUNTIF(KQ7:KQ38,\">0\")>0,\"Partial\",\"\"))","v":""},{"$f":"IF(COUNTIF(KR7:KR38,\">0\")>=LISTS!$B$11,\"Complete\",IF(COUNTIF(KR7:KR38,\">0\")>0,\"Partial\",\"\"))","v":""},{"$f":"IF(COUNTIF(KS7:KS38,\">0\")>=LISTS!$B$11,\"Complete\",IF(COUNTIF(KS7:KS38,\">0\")>0,\"Partial\",\"\"))","v":""},{"$f":"IF(COUNTIF(KT7:KT38,\">0\")>=LISTS!$B$11,\"Complete\",IF(COUNTIF(KT7:KT38,\">0\")>0,\"Partial\",\"\"))","v":""},{"$f":"IF(COUNTIF(KU7:KU38,\">0\")>=LISTS!$B$11,\"Complete\",IF(COUNTIF(KU7:KU38,\">0\")>0,\"Partial\",\"\"))","v":""},{"$f":"IF(COUNTIF(KV7:KV38,\">0\")>=LISTS!$B$11,\"Complete\",IF(COUNTIF(KV7:KV38,\">0\")>0,\"Partial\",\"\"))","v":""},{"$f":"IF(COUNTIF(KW7:KW38,\">0\")>=LISTS!$B$11,\"Complete\",IF(COUNTIF(KW7:KW38,\">0\")>0,\"Partial\",\"\"))","v":""},{"$f":"IF(COUNTIF(KX7:KX38,\">0\")>=LISTS!$B$11,\"Complete\",IF(COUNTIF(KX7:KX38,\">0\")>0,\"Partial\",\"\"))","v":""},{"$f":"IF(COUNTIF(KY7:KY38,\">0\")>=LISTS!$B$11,\"Complete\",IF(COUNTIF(KY7:KY38,\">0\")>0,\"Partial\",\"\"))","v":""},{"$f":"IF(COUNTIF(KZ7:KZ38,\">0\")>=LISTS!$B$11,\"Complete\",IF(COUNTIF(KZ7:KZ38,\">0\")>0,\"Partial\",\"\"))","v":""},{"$f":"IF(COUNTIF(LA7:LA38,\">0\")>=LISTS!$B$11,\"Complete\",IF(COUNTIF(LA7:LA38,\">0\")>0,\"Partial\",\"\"))","v":""},{"$f":"IF(COUNTIF(LB7:LB38,\">0\")>=LISTS!$B$11,\"Complete\",IF(COUNTIF(LB7:LB38,\">0\")>0,\"Partial\",\"\"))","v":""},{"$f":"IF(COUNTIF(LC7:LC38,\">0\")>=LISTS!$B$11,\"Complete\",IF(COUNTIF(LC7:LC38,\">0\")>0,\"Partial\",\"\"))","v":""},{"$f":"IF(COUNTIF(LD7:LD38,\">0\")>=LISTS!$B$11,\"Complete\",IF(COUNTIF(LD7:LD38,\">0\")>0,\"Partial\",\"\"))","v":""},{"$f":"IF(COUNTIF(LE7:LE38,\">0\")>=LISTS!$B$11,\"Complete\",IF(COUNTIF(LE7:LE38,\">0\")>0,\"Partial\",\"\"))","v":""},{"$f":"IF(COUNTIF(LF7:LF38,\">0\")>=LISTS!$B$11,\"Complete\",IF(COUNTIF(LF7:LF38,\">0\")>0,\"Partial\",\"\"))","v":""}]
[]
["Post","O8",null,{"$f":"IFERROR(AVERAGE(D42,D48,D58,D59),\"\")","v":""},{"$f":"IFERROR(AVERAGE(E42,E48,E58,E59),\"\")","v":""},"","","",{"$f":"IFERROR(AVERAGE(I42,I48,I58,I59),\"\")","v":""},"","","","","","","","","","","","","","","","","","","","","","","","","","","",{"$f":"IFERROR(AVERAGE(AK42,AK48,AK58,AK59),\"\")","v":""},"","","","","","","","","","","","","","","","","","","","","","","","","","","","","","","","","","","","","","","","","","","","","","","","","","","","","","","","","","","","","","","",{"$f":"IFERROR(AVERAGE(CW42,CW48,CW58,CW59),\"\")","v":""},"","","","","","","","","","","","","","","","","","","","","","","","","","","","","","","","","","","","","","","","","","","","","","","","","","","","","","","","","","","","","","","",{"$f":"IFERROR(AVERAGE(FI42,FI48,FI58,FI59),\"\")","v":""},"","","","","","","","","","","","","","","","","","","","","","","","","","","","","","","","","","","","","","","","","","","","","","","","","","","","","","","","","","","","","","","",{"$f":"IFERROR(AVERAGE(HU42,HU48,HU58,HU59),\"\")","v":""},"","","","","","","","","","","","","","","","","","","","","","","","","","","","","","","","","","","","","","","","","","","","","","","","","","","","","","","","","","","","","","","",{"$f":"IFERROR(AVERAGE(KG42,KG48,KG58,KG59),\"\")","v":""},"","","","","","","","","","","","","","","","","","","","","","","","",""]
["Post","O9",null,{"$f":"IFERROR(AVERAGE(D40,D47,D54,D57),\"\")","v":""},{"$f":"IFERROR(AVERAGE(E40,E47,E54,E57),\"\")","v":""},"","","",{"$f":"IFERROR(AVERAGE(I40,I47,I54,I57),\"\")","v":""},"","","","","","","","","","","","","","","","","","","","","","","","","","","",{"$f":"IFERROR(AVERAGE(AK40,AK47,AK54,AK57),\"\")","v":""},"","","","","","","","","","","","","","","","","","","","","","","","","","","","","","","","","","","","","","","","","","","","","","","","","","","","","","","","","","","","","","","",{"$f":"IFERROR(AVERAGE(CW40,CW47,CW54,CW57),\"\")","v":""},"","","","","","","","","","","","","","","","","","","","","","","","","","","","","","","","","","","","","","","","","","","","","","","","","","","","","","","","","","","","","","","",{"$f":"IFERROR(AVERAGE(FI40,FI47,FI54,FI57),\"\")","v":""},"","","","","","","","","","","","","","","","","","","","","","","","","","","","","","","","","","","","","","","","","","","","","","","","","","","","","","","","","","","","","","","",{"$f":"IFERROR(AVERAGE(HU40,HU47,HU54,HU57),\"\")","v":""},"","","","","","","","","","","","","","","","","","","","","","","","","","","","","","","","","","","","","","","","","","","","","","","","","","","","","","","","","","","","","","","",{"$f":"IFERROR(AVERAGE(KG40,KG47,KG54,KG57),\"\")","v":""},"","","","","","","","","","","","","","","","","","","","","","","","",""]
["Post","O10",null,{"$f":"IFERROR(AVERAGE(D49,D51,D55,D56),\"\")","v":""},{"$f":"IFERROR(AVERAGE(E49,E51,E55,E56),\"\")","v":""},"","","",{"$f":"IFERROR(AVERAGE(I49,I51,I55,I56),\"\")","v":""},"","","","","","","","","","","","","","","","","","","","","","","","","","","",{"$f":"IFERROR(AVERAGE(AK49,AK51,AK55,AK56),\"\")","v":""},"","","","","","","","","","","","","","","","","","","","","","","","","","","","","","","","","","","","","","","","","","","","","","","","","","","","","","","","","","","","","","","",{"$f":"IFERROR(AVERAGE(CW49,CW51,CW55,CW56),\"\")","v":""},"","","","","","","","","","","","","","","","","","","","","","","","","","","","","","","","","","","","","","","","","","","","","","","","","","","","","","","","","","","","","","","",{"$f":"IFERROR(AVERAGE(FI49,FI51,FI55,FI56),\"\")","v":""},"","","","","","","","","","","","","","","","","","","","","","","","","","","","","","","","","","","","","","","","","","","","","","","","","","","","","","","","","","","","","","","",{"$f":"IFERROR(AVERAGE(HU49,HU51,HU55,HU56),\"\")","v":""},"","","","","","","","","","","","","","","","","","","","","","","","","","","","","","","","","","","","","","","","","","","","","","","","","","","","","","","","","","","","","","","",{"$f":"IFERROR(AVERAGE(KG49,KG51,KG55,KG56),\"\")","v":""},"","","","","","","","","","","","","","","","","","","","","","","","",""]
["Post","O11",null,{"$f":"IFERROR(AVERAGE(D50,D62),\"\")","v":""},{"$f":"IFERROR(AVERAGE(E50,E62),\"\")","v":""},"","","",{"$f":"IFERROR(AVERAGE(I50,I62),\"\")","v":""},"","","","","","","","","","","","","","","","","","","","","","","","","","","",{"$f":"IFERROR(AVERAGE(AK50,AK62),\"\")","v":""},"","","","","","","","","","","","","","","","","","","","","","","","","","","","","","","","","","","","","","","","","","","","","","","","","","","","","","","","","","","","","","","",{"$f":"IFERROR(AVERAGE(CW50,CW62),\"\")","v":""},"","","","","","","","","","","","","","","","","","","","","","","","","","","","","","","","","","","","","","","","","","","","","","","","","","","","","","","","","","","","","","","",{"$f":"IFERROR(AVERAGE(FI50,FI62),\"\")","v":""},"","","","","","","","","","","","","","","","","","","","","","","","","","","","","","","","","","","","","","","","","","","","","","","","","","","","","","","","","","","","","","","",{"$f":"IFERROR(AVERAGE(HU50,HU62),\"\")","v":""},"","","","","","","","","","","","","","","","","","","","","","","","","","","","","","","","","","","","","","","","","","","","","","","","","","","","","","","","","","","","","","","",{"$f":"IFERROR(AVERAGE(KG50,KG62),\"\")","v":""},"","","","","","","","","","","","","","","","","","","","","","","","",""]
["Post","O12",null,{"$f":"IFERROR(AVERAGE(D43,D44,D45,D46),\"\")","v":""},{"$f":"IFERROR(AVERAGE(E43,E44,E45,E46),\"\")","v":""},"","","",{"$f":"IFERROR(AVERAGE(I43,I44,I45,I46),\"\")","v":""},"","","","","","","","","","","","","","","","","","","","","","","","","","","",{"$f":"IFERROR(AVERAGE(AK43,AK44,AK45,AK46),\"\")","v":""},"","","","","","","","","","","","","","","","","","","","","","","","","","","","","","","","","","","","","","","","","","","","","","","","","","","","","","","","","","","","","","","",{"$f":"IFERROR(AVERAGE(CW43,CW44,CW45,CW46),\"\")","v":""},"","","","","","","","","","","","","","","","","","","","","","","","","","","","","","","","","","","","","","","","","","","","","","","","","","","","","","","","","","","","","","","",{"$f":"IFERROR(AVERAGE(FI43,FI44,FI45,FI46),\"\")","v":""},"","","","","","","","","","","","","","","","","","","","","","","","","","","","","","","","","","","","","","","","","","","","","","","","","","","","","","","","","","","","","","","",{"$f":"IFERROR(AVERAGE(HU43,HU44,HU45,HU46),\"\")","v":""},"","","","","","","","","","","","","","","","","","","","","","","","","","","","","","","","","","","","","","","","","","","","","","","","","","","","","","","","","","","","","","","",{"$f":"IFERROR(AVERAGE(KG43,KG44,KG45,KG46),\"\")","v":""},"","","","","","","","","","","","","","","","","","","","","","","","",""]
["Post","O13",null,{"$f":"IFERROR(AVERAGE(D61,D63,D64),\"\")","v":""},{"$f":"IFERROR(AVERAGE(E61,E63,E64),\"\")","v":""},"","","",{"$f":"IFERROR(AVERAGE(I61,I63,I64),\"\")","v":""},"","","","","","","","","","","","","","","","","","","","","","","","","","","",{"$f":"IFERROR(AVERAGE(AK61,AK63,AK64),\"\")","v":""},"","","","","","","","","","","","","","","","","","","","","","","","","","","","","","","","","","","","","","","","","","","","","","","","","","","","","","","","","","","","","","","",{"$f":"IFERROR(AVERAGE(CW61,CW63,CW64),\"\")","v":""},"","","","","","","","","","","","","","","","","","","","","","","","","","","","","","","","","","","","","","","","","","","","","","","","","","","","","","","","","","","","","","","",{"$f":"IFERROR(AVERAGE(FI61,FI63,FI64),\"\")","v":""},"","","","","","","","","","","","","","","","","","","","","","","","","","","","","","","","","","","","","","","","","","","","","","","","","","","","","","","","","","","","","","","",{"$f":"IFERROR(AVERAGE(HU61,HU63,HU64),\"\")","v":""},"","","","","","","","","","","","","","","","","","","","","","","","","","","","","","","","","","","","","","","","","","","","","","","","","","","","","","","","","","","","","","","",{"$f":"IFERROR(AVERAGE(KG61,KG63,KG64),\"\")","v":""},"","","","","","","","","","","","","","","","","","","","","","","","",""]
["Post","O14",null,{"$f":"IFERROR(AVERAGE((IF(D67>0,5-D67,\"\")),D68,D69,D70,D71),\"\")","v":""},{"$f":"IFERROR(AVERAGE((IF(E67>0,5-E67,\"\")),E68,E69,E70,E71),\"\")","v":""},"","","",{"$f":"IFERROR(AVERAGE((IF(I67>0,5-I67,\"\")),I68,I69,I70,I71),\"\")","v":""},"","","","","","","","","","","","","","","","","","","","","","","","","","","",{"$f":"IFERROR(AVERAGE((IF(AK67>0,5-AK67,\"\")),AK68,AK69,AK70,AK71),\"\")","v":""},"","","","","","","","","","","","","","","","","","","","","","","","","","","","","","","","","","","","","","","","","","","","","","","","","","","","","","","","","","","","","","","",{"$f":"IFERROR(AVERAGE((IF(CW67>0,5-CW67,\"\")),CW68,CW69,CW70,CW71),\"\")","v":""},"","","","","","","","","","","","","","","","","","","","","","","","","","","","","","","","","","","","","","","","","","","","","","","","","","","","","","","","","","","","","","","",{"$f":"IFERROR(AVERAGE((IF(FI67>0,5-FI67,\"\")),FI68,FI69,FI70,FI71),\"\")","v":""},"","","","","","","","","","","","","","","","","","","","","","","","","","","","","","","","","","","","","","","","","","","","","","","","","","","","","","","","","","","","","","","",{"$f":"IFERROR(AVERAGE((IF(HU67>0,5-HU67,\"\")),HU68,HU69,HU70,HU71),\"\")","v":""},"","","","","","","","","","","","","","","","","","","","","","","","","","","","","","","","","","","","","","","","","","","","","","","","","","","","","","","","","","","","","","","",{"$f":"IFERROR(AVERAGE((IF(KG67>0,5-KG67,\"\")),KG68,KG69,KG70,KG71),\"\")","v":""},"","","","","","","","","","","","","","","","","","","","","","","","",""]
["Post","O18",null,{"$f":"IFERROR(AVERAGE(D41,D60,D65),\"\")","v":""},{"$f":"IFERROR(AVERAGE(E41,E60,E65),\"\")","v":""},"","","","","","","","","","","","","","","","","","","","","","","","","","","","","","","","","","","","","","","","","","","","","","","","","","","","","","","","","","","","","","","",{"$f":"IFERROR(AVERAGE(BQ41,BQ60,BQ65),\"\")","v":""},"","","","","","","","","","","","","","","","","","","","","","","","","","","","","","","","","","","","","","","","","","","","","","","","","","","","","","","","","","","","","","","",{"$f":"IFERROR(AVERAGE(EC41,EC60,EC65),\"\")","v":""},"","","","","","","","","","","","","","","","","","","","","","","","","","","","","","","","","","","","","","","","","","","","","","","","","","","","","","","","","","","","","","","",{"$f":"IFERROR(AVERAGE(GO41,GO60,GO65),\"\")","v":""},"","","","","","","","","","","","","","","","","","","","","","","","","","","","","","","","","","","","","","","","","","","","","","","","","","","","","","","","","","","","","","","",{"$f":"IFERROR(AVERAGE(JA41,JA60,JA65),\"\")","v":""},"","","","","","","","","","","","","","","","","","","","","","","","","","","","","","","","","","","","","","","","","","","","","","","","","","","","","","","","",""]
["Post","Comlete? (2=Complete, 1=Partial, 0=Not Started)",null,{"$f":"IF(COUNTIF(D40:D71,\">0\")>=LISTS!$B$11,\"Complete\",IF(COUNTIF(D40:D71,\">0\")>0,\"Partial\",\"\"))","v":""},{"$f":"IF(COUNTIF(E40:E71,\">0\")>=LISTS!$B$11,\"Complete\",IF(COUNTIF(E40:E71,\">0\")>0,\"Partial\",\"\"))","v":""},{"$f":"IF(COUNTIF(F40:F71,\">0\")>=LISTS!$B$11,\"Complete\",IF(COUNTIF(F40:F71,\">0\")>0,\"Partial\",\"\"))","v":""},{"$f":"IF(COUNTIF(G40:G71,\">0\")>=LISTS!$B$11,\"Complete\",IF(COUNTIF(G40:G71,\">0\")>0,\"Partial\",\"\"))","v":""},{"$f":"IF(COUNTIF(H40:H71,\">0\")>=LISTS!$B$11,\"Complete\",IF(COUNTIF(H40:H71,\">0\")>0,\"Partial\",\"\"))","v":""},{"$f":"IF(COUNTIF(I40:I71,\">0\")>=LISTS!$B$11,\"Complete\",IF(COUNTIF(I40:I71,\">0\")>0,\"Partial\",\"\"))","v":""},{"$f":"IF(COUNTIF(J40:J71,\">0\")>=LISTS!$B$11,\"Complete\",IF(COUNTIF(J40:J71,\">0\")>0,\"Partial\",\"\"))","v":""},{"$f":"IF(COUNTIF(K40:K71,\">0\")>=LISTS!$B$11,\"Complete\",IF(COUNTIF(K40:K71,\">0\")>0,\"Partial\",\"\"))","v":""},{"$f":"IF(COUNTIF(L40:L71,\">0\")>=LISTS!$B$11,\"Complete\",IF(COUNTIF(L40:L71,\">0\")>0,\"Partial\",\"\"))","v":""},{"$f":"IF(COUNTIF(M40:M71,\">0\")>=LISTS!$B$11,\"Complete\",IF(COUNTIF(M40:M71,\">0\")>0,\"Partial\",\"\"))","v":""},{"$f":"IF(COUNTIF(N40:N71,\">0\")>=LISTS!$B$11,\"Complete\",IF(COUNTIF(N40:N71,\">0\")>0,\"Partial\",\"\"))","v":""},{"$f":"IF(COUNTIF(O40:O71,\">0\")>=LISTS!$B$11,\"Complete\",IF(COUNTIF(O40:O71,\">0\")>0,\"Partial\",\"\"))","v":""},{"$f":"IF(COUNTIF(P40:P71,\">0\")>=LISTS!$B$11,\"Complete\",IF(COUNTIF(P40:P71,\">0\")>0,\"Partial\",\"\"))","v":""},{"$f":"IF(COUNTIF(Q40:Q71,\">0\")>=LISTS!$B$11,\"Complete\",IF(COUNTIF(Q40:Q71,\">0\")>0,\"Partial\",\"\"))","v":""},{"$f":"IF(COUNTIF(R40:R71,\">0\")>=LISTS!$B$11,\"Complete\",IF(COUNTIF(R40:R71,\">0\")>0,\"Partial\",\"\"))","v":""},{"$f":"IF(COUNTIF(S40:S71,\">0\")>=LISTS!$B$11,\"Complete\",IF(COUNTIF(S40:S71,\">0\")>0,\"Partial\",\"\"))","v":""},{"$f":"IF(COUNTIF(T40:T71,\">0\")>=LISTS!$B$11,\"Complete\",IF(COUNTIF(T40:T71,\">0\")>0,\"Partial\",\"\"))","v":""},{"$f":"IF(COUNTIF(U40:U71,\">0\")>=LISTS!$B$11,\"Complete\",IF(COUNTIF(U40:U71,\">0\")>0,\"Partial\",\"\"))","v":""},{"$f":"IF(COUNTIF(V40:V71,\">0\")>=LISTS!$B$11,\"Complete\",IF(COUNTIF(V40:V71,\">0\")>0,\"Partial\",\"\"))","v":""},{"$f":"IF(COUNTIF(W40:W71,\">0\")>=LISTS!$B$11,\"Complete\",IF(COUNTIF(W40:W71,\">0\")>0,\"Partial\",\"\"))","v":""},{"$f":"IF(COUNTIF(X40:X71,\">0\")>=LISTS!$B$11,\"Complete\",IF(COUNTIF(X40:X71,\">0\")>0,\"Partial\",\"\"))","v":""},{"$f":"IF(COUNTIF(Y40:Y71,\">0\")>=LISTS!$B$11,\"Complete\",IF(COUNTIF(Y40:Y71,\">0\")>0,\"Partial\",\"\"))","v":""},{"$f":"IF(COUNTIF(Z40:Z71,\">0\")>=LISTS!$B$11,\"Complete\",IF(COUNTIF(Z40:Z71,\">0\")>0,\"Partial\",\"\"))","v":""},{"$f":"IF(COUNTIF(AA40:AA71,\">0\")>=LISTS!$B$11,\"Complete\",IF(COUNTIF(AA40:AA71,\">0\")>0,\"Partial\",\"\"))","v":""},{"$f":"IF(COUNTIF(AB40:AB71,\">0\")>=LISTS!$B$11,\"Complete\",IF(COUNTIF(AB40:AB71,\">0\")>0,\"Partial\",\"\"))","v":""},{"$f":"IF(COUNTIF(AC40:AC71,\">0\")>=LISTS!$B$11,\"Complete\",IF(COUNTIF(AC40:AC71,\">0\")>0,\"Partial\",\"\"))","v":""},{"$f":"IF(COUNTIF(AD40:AD71,\">0\")>=LISTS!$B$11,\"Complete\",IF(COUNTIF(AD40:AD71,\">0\")>0,\"Partial\",\"\"))","v":""},{"$f":"IF(COUNTIF(AE40:AE71,\">0\")>=LISTS!$B$11,\"Complete\",IF(COUNTIF(AE40:AE71,\">0\")>0,\"Partial\",\"\"))","v":""},{"$f":"IF(COUNTIF(AF40:AF71,\">0\")>=LISTS!$B$11,\"Complete\",IF(COUNTIF(AF40:AF71,\">0\")>0,\"Partial\",\"\"))","v":""},{"$f":"IF(COUNTIF(AG40:AG71,\">0\")>=LISTS!$B$11,\"Complete\",IF(COUNTIF(AG40:AG71,\">0\")>0,\"Partial\",\"\"))","v":""},{"$f":"IF(COUNTIF(AH40:AH71,\">0\")>=LISTS!$B$11,\"Complete\",IF(COUNTIF(AH40:AH71,\">0\")>0,\"Partial\",\"\"))","v":""},{"$f":"IF(COUNTIF(AI40:AI71,\">0\")>=LISTS!$B$11,\"Complete\",IF(COUNTIF(AI40:AI71,\">0\")>0,\"Partial\",\"\"))","v":""},{"$f":"IF(COUNTIF(AJ40:AJ71,\">0\")>=LISTS!$B$11,\"Complete\",IF(COUNTIF(AJ40:AJ71,\">0\")>0,\"Partial\",\"\"))","v":""},{"$f":"IF(COUNTIF(AK40:AK71,\">0\")>=LISTS!$B$11,\"Complete\",IF(COUNTIF(AK40:AK71,\">0\")>0,\"Partial\",\"\"))","v":""},{"$f":"IF(COUNTIF(AL40:AL71,\">0\")>=LISTS!$B$11,\"Complete\",IF(COUNTIF(AL40:AL71,\">0\")>0,\"Partial\",\"\"))","v":""},{"$f":"IF(COUNTIF(AM40:AM71,\">0\")>=LISTS!$B$11,\"Complete\",IF(COUNTIF(AM40:AM71,\">0\")>0,\"Partial\",\"\"))","v":""},{"$f":"IF(COUNTIF(AN40:AN71,\">0\")>=LISTS!$B$11,\"Complete\",IF(COUNTIF(AN40:AN71,\">0\")>0,\"Partial\",\"\"))","v":""},{"$f":"IF(COUNTIF(AO40:AO71,\">0\")>=LISTS!$B$11,\"Complete\",IF(COUNTIF(AO40:AO71,\">0\")>0,\"Partial\",\"\"))","v":""},{"$f":"IF(COUNTIF(AP40:AP71,\">0\")>=LISTS!$B$11,\"Complete\",IF(COUNTIF(AP40:AP71,\">0\")>0,\"Partial\",\"\"))","v":""},{"$f":"IF(COUNTIF(AQ40:AQ71,\">0\")>=LISTS!$B$11,\"Complete\",IF(COUNTIF(AQ40:AQ71,\">0\")>0,\"Partial\",\"\"))","v":""},{"$f":"IF(COUNTIF(AR40:AR71,\">0\")>=LISTS!$B$11,\"Complete\",IF(COUNTIF(AR40:AR71,\">0\")>0,\"Partial\",\"\"))","v":""},{"$f":"IF(COUNTIF(AS40:AS71,\">0\")>=LISTS!$B$11,\"Complete\",IF(COUNTIF(AS40:AS71,\">0\")>0,\"Partial\",\"\"))","v":""},{"$f":"IF(COUNTIF(AT40:AT71,\">0\")>=LISTS!$B$11,\"Complete\",IF(COUNTIF(AT40:AT71,\">0\")>0,\"Partial\",\"\"))","v":""},{"$f":"IF(COUNTIF(AU40:AU71,\">0\")>=LISTS!$B$11,\"Complete\",IF(COUNTIF(AU40:AU71,\">0\")>0,\"Partial\",\"\"))","v":""},{"$f":"IF(COUNTIF(AV40:AV71,\">0\")>=LISTS!$B$11,\"Complete\",IF(COUNTIF(AV40:AV71,\">0\")>0,\"Partial\",\"\"))","v":""},{"$f":"IF(COUNTIF(AW40:AW71,\">0\")>=LISTS!$B$11,\"Complete\",IF(COUNTIF(AW40:AW71,\">0\")>0,\"Partial\",\"\"))","v":""},{"$f":"IF(COUNTIF(AX40:AX71,\">0\")>=LISTS!$B$11,\"Complete\",IF(COUNTIF(AX40:AX71,\">0\")>0,\"Partial\",\"\"))","v":""},{"$f":"IF(COUNTIF(AY40:AY71,\">0\")>=LISTS!$B$11,\"Complete\",IF(COUNTIF(AY40:AY71,\">0\")>0,\"Partial\",\"\"))","v":""},{"$f":"IF(COUNTIF(AZ40:AZ71,\">0\")>=LISTS!$B$11,\"Complete\",IF(COUNTIF(AZ40:AZ71,\">0\")>0,\"Partial\",\"\"))","v":""},{"$f":"IF(COUNTIF(BA40:BA71,\">0\")>=LISTS!$B$11,\"Complete\",IF(COUNTIF(BA40:BA71,\">0\")>0,\"Partial\",\"\"))","v":""},{"$f":"IF(COUNTIF(BB40:BB71,\">0\")>=LISTS!$B$11,\"Complete\",IF(COUNTIF(BB40:BB71,\">0\")>0,\"Partial\",\"\"))","v":""},{"$f":"IF(COUNTIF(BC40:BC71,\">0\")>=LISTS!$B$11,\"Complete\",IF(COUNTIF(BC40:BC71,\">0\")>0,\"Partial\",\"\"))","v":""},{"$f":"IF(COUNTIF(BD40:BD71,\">0\")>=LISTS!$B$11,\"Complete\",IF(COUNTIF(BD40:BD71,\">0\")>0,\"Partial\",\"\"))","v":""},{"$f":"IF(COUNTIF(BE40:BE71,\">0\")>=LISTS!$B$11,\"Complete\",IF(COUNTIF(BE40:BE71,\">0\")>0,\"Partial\",\"\"))","v":""},{"$f":"IF(COUNTIF(BF40:BF71,\">0\")>=LISTS!$B$11,\"Complete\",IF(COUNTIF(BF40:BF71,\">0\")>0,\"Partial\",\"\"))","v":""},{"$f":"IF(COUNTIF(BG40:BG71,\">0\")>=LISTS!$B$11,\"Complete\",IF(COUNTIF(BG40:BG71,\">0\")>0,\"Partial\",\"\"))","v":""},{"$f":"IF(COUNTIF(BH40:BH71,\">0\")>=LISTS!$B$11,\"Complete\",IF(COUNTIF(BH40:BH71,\">0\")>0,\"Partial\",\"\"))","v":""},{"$f":"IF(COUNTIF(BI40:BI71,\">0\")>=LISTS!$B$11,\"Complete\",IF(COUNTIF(BI40:BI71,\">0\")>0,\"Partial\",\"\"))","v":""},{"$f":"IF(COUNTIF(BJ40:BJ71,\">0\")>=LISTS!$B$11,\"Complete\",IF(COUNTIF(BJ40:BJ71,\">0\")>0,\"Partial\",\"\"))","v":""},{"$f":"IF(COUNTIF(BK40:BK71,\">0\")>=LISTS!$B$11,\"Complete\",IF(COUNTIF(BK40:BK71,\">0\")>0,\"Partial\",\"\"))","v":""},{"$f":"IF(COUNTIF(BL40:BL71,\">0\")>=LISTS!$B$11,\"Complete\",IF(COUNTIF(BL40:BL71,\">0\")>0,\"Partial\",\"\"))","v":""},{"$f":"IF(COUNTIF(BM40:BM71,\">0\")>=LISTS!$B$11,\"Complete\",IF(COUNTIF(BM40:BM71,\">0\")>0,\"Partial\",\"\"))","v":""},{"$f":"IF(COUNTIF(BN40:BN71,\">0\")>=LISTS!$B$11,\"Complete\",IF(COUNTIF(BN40:BN71,\">0\")>0,\"Partial\",\"\"))","v":""},{"$f":"IF(COUNTIF(BO40:BO71,\">0\")>=LISTS!$B$11,\"Complete\",IF(COUNTIF(BO40:BO71,\">0\")>0,\"Partial\",\"\"))","v":""},{"$f":"IF(COUNTIF(BP40:BP71,\">0\")>=LISTS!$B$11,\"Complete\",IF(COUNTIF(BP40:BP71,\">0\")>0,\"Partial\",\"\"))","v":""},{"$f":"IF(COUNTIF(BQ40:BQ71,\">0\")>=LISTS!$B$11,\"Complete\",IF(COUNTIF(BQ40:BQ71,\">0\")>0,\"Partial\",\"\"))","v":""},{"$f":"IF(COUNTIF(BR40:BR71,\">0\")>=LISTS!$B$11,\"Complete\",IF(COUNTIF(BR40:BR71,\">0\")>0,\"Partial\",\"\"))","v":""},{"$f":"IF(COUNTIF(BS40:BS71,\">0\")>=LISTS!$B$11,\"Complete\",IF(COUNTIF(BS40:BS71,\">0\")>0,\"Partial\",\"\"))","v":""},{"$f":"IF(COUNTIF(BT40:BT71,\">0\")>=LISTS!$B$11,\"Complete\",IF(COUNTIF(BT40:BT71,\">0\")>0,\"Partial\",\"\"))","v":""},{"$f":"IF(COUNTIF(BU40:BU71,\">0\")>=LISTS!$B$11,\"Complete\",IF(COUNTIF(BU40:BU71,\">0\")>0,\"Partial\",\"\"))","v":""},{"$f":"IF(COUNTIF(BV40:BV71,\">0\")>=LISTS!$B$11,\"Complete\",IF(COUNTIF(BV40:BV71,\">0\")>0,\"Partial\",\"\"))","v":""},{"$f":"IF(COUNTIF(BW40:BW71,\">0\")>=LISTS!$B$11,\"Complete\",IF(COUNTIF(BW40:BW71,\">0\")>0,\"Partial\",\"\"))","v":""},{"$f":"IF(COUNTIF(BX40:BX71,\">0\")>=LISTS!$B$11,\"Complete\",IF(COUNTIF(BX40:BX71,\">0\")>0,\"Partial\",\"\"))","v":""},{"$f":"IF(COUNTIF(BY40:BY71,\">0\")>=LISTS!$B$11,\"Complete\",IF(COUNTIF(BY40:BY71,\">0\")>0,\"Partial\",\"\"))","v":""},{"$f":"IF(COUNTIF(BZ40:BZ71,\">0\")>=LISTS!$B$11,\"Complete\",IF(COUNTIF(BZ40:BZ71,\">0\")>0,\"Partial\",\"\"))","v":""},{"$f":"IF(COUNTIF(CA40:CA71,\">0\")>=LISTS!$B$11,\"Complete\",IF(COUNTIF(CA40:CA71,\">0\")>0,\"Partial\",\"\"))","v":""},{"$f":"IF(COUNTIF(CB40:CB71,\">0\")>=LISTS!$B$11,\"Complete\",IF(COUNTIF(CB40:CB71,\">0\")>0,\"Partial\",\"\"))","v":""},{"$f":"IF(COUNTIF(CC40:CC71,\">0\")>=LISTS!$B$11,\"Complete\",IF(COUNTIF(CC40:CC71,\">0\")>0,\"Partial\",\"\"))","v":""},{"$f":"IF(COUNTIF(CD40:CD71,\">0\")>=LISTS!$B$11,\"Complete\",IF(COUNTIF(CD40:CD71,\">0\")>0,\"Partial\",\"\"))","v":""},{"$f":"IF(COUNTIF(CE40:CE71,\">0\")>=LISTS!$B$11,\"Complete\",IF(COUNTIF(CE40:CE71,\">0\")>0,\"Partial\",\"\"))","v":""},{"$f":"IF(COUNTIF(CF40:CF71,\">0\")>=LISTS!$B$11,\"Complete\",IF(COUNTIF(CF40:CF71,\">0\")>0,\"Partial\",\"\"))","v":""},{"$f":"IF(COUNTIF(CG40:CG71,\">0\")>=LISTS!$B$11,\"Complete\",IF(COUNTIF(CG40:CG71,\">0\")>0,\"Partial\",\"\"))","v":""},{"$f":"IF(COUNTIF(CH40:CH71,\">0\")>=LISTS!$B$11,\"Complete\",IF(COUNTIF(CH40:CH71,\">0\")>0,\"Partial\",\"\"))","v":""},{"$f":"IF(COUNTIF(CI40:CI71,\">0\")>=LISTS!$B$11,\"Complete\",IF(COUNTIF(CI40:CI71,\">0\")>0,\"Partial\",\"\"))","v":""},{"$f":"IF(COUNTIF(CJ40:CJ71,\">0\")>=LISTS!$B$11,\"Complete\",IF(COUNTIF(CJ40:CJ71,\">0\")>0,\"Partial\",\"\"))","v":""},{"$f":"IF(COUNTIF(CK40:CK71,\">0\")>=LISTS!$B$11,\"Complete\",IF(COUNTIF(CK40:CK71,\">0\")>0,\"Partial\",\"\"))","v":""},{"$f":"IF(COUNTIF(CL40:CL71,\">0\")>=LISTS!$B$11,\"Complete\",IF(COUNTIF(CL40:CL71,\">0\")>0,\"Partial\",\"\"))","v":""},{"$f":"IF(COUNTIF(CM40:CM71,\">0\")>=LISTS!$B$11,\"Complete\",IF(COUNTIF(CM40:CM71,\">0\")>0,\"Partial\",\"\"))","v":""},{"$f":"IF(COUNTIF(CN40:CN71,\">0\")>=LISTS!$B$11,\"Complete\",IF(COUNTIF(CN40:CN71,\">0\")>0,\"Partial\",\"\"))","v":""},{"$f":"IF(COUNTIF(CO40:CO71,\">0\")>=LISTS!$B$11,\"Complete\",IF(COUNTIF(CO40:CO71,\">0\")>0,\"Partial\",\"\"))","v":""},{"$f":"IF(COUNTIF(CP40:CP71,\">0\")>=LISTS!$B$11,\"Complete\",IF(COUNTIF(CP40:CP71,\">0\")>0,\"Partial\",\"\"))","v":""},{"$f":"IF(COUNTIF(CQ40:CQ71,\">0\")>=LISTS!$B$11,\"Complete\",IF(COUNTIF(CQ40:CQ71,\">0\")>0,\"Partial\",\"\"))","v":""},{"$f":"IF(COUNTIF(CR40:CR71,\">0\")>=LISTS!$B$11,\"Complete\",IF(COUNTIF(CR40:CR71,\">0\")>0,\"Partial\",\"\"))","v":""},{"$f":"IF(COUNTIF(CS40:CS71,\">0\")>=LISTS!$B$11,\"Complete\",IF(COUNTIF(CS40:CS71,\">0\")>0,\"Partial\",\"\"))","v":""},{"$f":"IF(COUNTIF(CT40:CT71,\">0\")>=LISTS!$B$11,\"Complete\",IF(COUNTIF(CT40:CT71,\">0\")>0,\"Partial\",\"\"))","v":""},{"$f":"IF(COUNTIF(CU40:CU71,\">0\")>=LISTS!$B$11,\"Complete\",IF(COUNTIF(CU40:CU71,\">0\")>0,\"Partial\",\"\"))","v":""},{"$f":"IF(COUNTIF(CV40:CV71,\">0\")>=LISTS!$B$11,\"Complete\",IF(COUNTIF(CV40:CV71,\">0\")>0,\"Partial\",\"\"))","v":""},{"$f":"IF(COUNTIF(CW40:CW71,\">0\")>=LISTS!$B$11,\"Complete\",IF(COUNTIF(CW40:CW71,\">0\")>0,\"Partial\",\"\"))","v":""},{"$f":"IF(COUNTIF(CX40:CX71,\">0\")>=LISTS!$B$11,\"Complete\",IF(COUNTIF(CX40:CX71,\">0\")>0,\"Partial\",\"\"))","v":""},{"$f":"IF(COUNTIF(CY40:CY71,\">0\")>=LISTS!$B$11,\"Complete\",IF(COUNTIF(CY40:CY71,\">0\")>0,\"Partial\",\"\"))","v":""},{"$f":"IF(COUNTIF(CZ40:CZ71,\">0\")>=LISTS!$B$11,\"Complete\",IF(COUNTIF(CZ40:CZ71,\">0\")>0,\"Partial\",\"\"))","v":""},{"$f":"IF(COUNTIF(DA40:DA71,\">0\")>=LISTS!$B$11,\"Complete\",IF(COUNTIF(DA40:DA71,\">0\")>0,\"Partial\",\"\"))","v":""},{"$f":"IF(COUNTIF(DB40:DB71,\">0\")>=LISTS!$B$11,\"Complete\",IF(COUNTIF(DB40:DB71,\">0\")>0,\"Partial\",\"\"))","v":""},{"$f":"IF(COUNTIF(DC40:DC71,\">0\")>=LISTS!$B$11,\"Complete\",IF(COUNTIF(DC40:DC71,\">0\")>0,\"Partial\",\"\"))","v":""},{"$f":"IF(COUNTIF(DD40:DD71,\">0\")>=LISTS!$B$11,\"Complete\",IF(COUNTIF(DD40:DD71,\">0\")>0,\"Partial\",\"\"))","v":""},{"$f":"IF(COUNTIF(DE40:DE71,\">0\")>=LISTS!$B$11,\"Complete\",IF(COUNTIF(DE40:DE71,\">0\")>0,\"Partial\",\"\"))","v":""},{"$f":"IF(COUNTIF(DF40:DF71,\">0\")>=LISTS!$B$11,\"Complete\",IF(COUNTIF(DF40:DF71,\">0\")>0,\"Partial\",\"\"))","v":""},{"$f":"IF(COUNTIF(DG40:DG71,\">0\")>=LISTS!$B$11,\"Complete\",IF(COUNTIF(DG40:DG71,\">0\")>0,\"Partial\",\"\"))","v":""},{"$f":"IF(COUNTIF(DH40:DH71,\">0\")>=LISTS!$B$11,\"Complete\",IF(COUNTIF(DH40:DH71,\">0\")>0,\"Partial\",\"\"))","v":""},{"$f":"IF(COUNTIF(DI40:DI71,\">0\")>=LISTS!$B$11,\"Complete\",IF(COUNTIF(DI40:DI71,\">0\")>0,\"Partial\",\"\"))","v":""},{"$f":"IF(COUNTIF(DJ40:DJ71,\">0\")>=LISTS!$B$11,\"Complete\",IF(COUNTIF(DJ40:DJ71,\">0\")>0,\"Partial\",\"\"))","v":""},{"$f":"IF(COUNTIF(DK40:DK71,\">0\")>=LISTS!$B$11,\"Complete\",IF(COUNTIF(DK40:DK71,\">0\")>0,\"Partial\",\"\"))","v":""},{"$f":"IF(COUNTIF(DL40:DL71,\">0\")>=LISTS!$B$11,\"Complete\",IF(COUNTIF(DL40:DL71,\">0\")>0,\"Partial\",\"\"))","v":""},{"$f":"IF(COUNTIF(DM40:DM71,\">0\")>=LISTS!$B$11,\"Complete\",IF(COUNTIF(DM40:DM71,\">0\")>0,\"Partial\",\"\"))","v":""},{"$f":"IF(COUNTIF(DN40:DN71,\">0\")>=LISTS!$B$11,\"Complete\",IF(COUNTIF(DN40:DN71,\">0\")>0,\"Partial\",\"\"))","v":""},{"$f":"IF(COUNTIF(DO40:DO71,\">0\")>=LISTS!$B$11,\"Complete\",IF(COUNTIF(DO40:DO71,\">0\")>0,\"Partial\",\"\"))","v":""},{"$f":"IF(COUNTIF(DP40:DP71,\">0\")>=LISTS!$B$11,\"Complete\",IF(COUNTIF(DP40:DP71,\">0\")>0,\"Partial\",\"\"))","v":""},{"$f":"IF(COUNTIF(DQ40:DQ71,\">0\")>=LISTS!$B$11,\"Complete\",IF(COUNTIF(DQ40:DQ71,\">0\")>0,\"Partial\",\"\"))","v":""},{"$f":"IF(COUNTIF(DR40:DR71,\">0\")>=LISTS!$B$11,\"Complete\",IF(COUNTIF(DR40:DR71,\">0\")>0,\"Partial\",\"\"))","v":""},{"$f":"IF(COUNTIF(DS40:DS71,\">0\")>=LISTS!$B$11,\"Complete\",IF(COUNTIF(DS40:DS71,\">0\")>0,\"Partial\",\"\"))","v":""},{"$f":"IF(COUNTIF(DT40:DT71,\">0\")>=LISTS!$B$11,\"Complete\",IF(COUNTIF(DT40:DT71,\">0\")>0,\"Partial\",\"\"))","v":""},{"$f":"IF(COUNTIF(DU40:DU71,\">0\")>=LISTS!$B$11,\"Complete\",IF(COUNTIF(DU40:DU71,\">0\")>0,\"Partial\",\"\"))","v":""},{"$f":"IF(COUNTIF(DV40:DV71,\">0\")>=LISTS!$B$11,\"Complete\",IF(COUNTIF(DV40:DV71,\">0\")>0,\"Partial\",\"\"))","v":""},{"$f":"IF(COUNTIF(DW40:DW71,\">0\")>=LISTS!$B$11,\"Complete\",IF(COUNTIF(DW40:DW71,\">0\")>0,\"Partial\",\"\"))","v":""},{"$f":"IF(COUNTIF(DX40:DX71,\">0\")>=LISTS!$B$11,\"Complete\",IF(COUNTIF(DX40:DX71,\">0\")>0,\"Partial\",\"\"))","v":""},{"$f":"IF(COUNTIF(DY40:DY71,\">0\")>=LISTS!$B$11,\"Complete\",IF(COUNTIF(DY40:DY71,\">0\")>0,\"Partial\",\"\"))","v":""},{"$f":"IF(COUNTIF(DZ40:DZ71,\">0\")>=LISTS!$B$11,\"Complete\",IF(COUNTIF(DZ40:DZ71,\">0\")>0,\"Partial\",\"\"))","v":""},{"$f":"IF(COUNTIF(EA40:EA71,\">0\")>=LISTS!$B$11,\"Complete\",IF(COUNTIF(EA40:EA71,\">0\")>0,\"Partial\",\"\"))","v":""},{"$f":"IF(COUNTIF(EB40:EB71,\">0\")>=LISTS!$B$11,\"Complete\",IF(COUNTIF(EB40:EB71,\">0\")>0,\"Partial\",\"\"))","v":""},{"$f":"IF(COUNTIF(EC40:EC71,\">0\")>=LISTS!$B$11,\"Complete\",IF(COUNTIF(EC40:EC71,\">0\")>0,\"Partial\",\"\"))","v":""},{"$f":"IF(COUNTIF(ED40:ED71,\">0\")>=LISTS!$B$11,\"Complete\",IF(COUNTIF(ED40:ED71,\">0\")>0,\"Partial\",\"\"))","v":""},{"$f":"IF(COUNTIF(EE40:EE71,\">0\")>=LISTS!$B$11,\"Complete\",IF(COUNTIF(EE40:EE71,\">0\")>0,\"Partial\",\"\"))","v":""},{"$f":"IF(COUNTIF(EF40:EF71,\">0\")>=LISTS!$B$11,\"Complete\",IF(COUNTIF(EF40:EF71,\">0\")>0,\"Partial\",\"\"))","v":""},{"$f":"IF(COUNTIF(EG40:EG71,\">0\")>=LISTS!$B$11,\"Complete\",IF(COUNTIF(EG40:EG71,\">0\")>0,\"Partial\",\"\"))","v":""},{"$f":"IF(COUNTIF(EH40:EH71,\">0\")>=LISTS!$B$11,\"Complete\",IF(COUNTIF(EH40:EH71,\">0\")>0,\"Partial\",\"\"))","v":""},{"$f":"IF(COUNTIF(EI40:EI71,\">0\")>=LISTS!$B$11,\"Complete\",IF(COUNTIF(EI40:EI71,\">0\")>0,\"Partial\",\"\"))","v":""},{"$f":"IF(COUNTIF(EJ40:EJ71,\">0\")>=LISTS!$B$11,\"Complete\",IF(COUNTIF(EJ40:EJ71,\">0\")>0,\"Partial\",\"\"))","v":""},{"$f":"IF(COUNTIF(EK40:EK71,\">0\")>=LISTS!$B$11,\"Complete\",IF(COUNTIF(EK40:EK71,\">0\")>0,\"Partial\",\"\"))","v":""},{"$f":"IF(COUNTIF(EL40:EL71,\">0\")>=LISTS!$B$11,\"Complete\",IF(COUNTIF(EL40:EL71,\">0\")>0,\"Partial\",\"\"))","v":""},{"$f":"IF(COUNTIF(EM40:EM71,\">0\")>=LISTS!$B$11,\"Complete\",IF(COUNTIF(EM40:EM71,\">0\")>0,\"Partial\",\"\"))","v":""},{"$f":"IF(COUNTIF(EN40:EN71,\">0\")>=LISTS!$B$11,\"Complete\",IF(COUNTIF(EN40:EN71,\">0\")>0,\"Partial\",\"\"))","v":""},{"$f":"IF(COUNTIF(EO40:EO71,\">0\")>=LISTS!$B$11,\"Complete\",IF(COUNTIF(EO40:EO71,\">0\")>0,\"Partial\",\"\"))","v":""},{"$f":"IF(COUNTIF(EP40:EP71,\">0\")>=LISTS!$B$11,\"Complete\",IF(COUNTIF(EP40:EP71,\">0\")>0,\"Partial\",\"\"))","v":""},{"$f":"IF(COUNTIF(EQ40:EQ71,\">0\")>=LISTS!$B$11,\"Complete\",IF(COUNTIF(EQ40:EQ71,\">0\")>0,\"Partial\",\"\"))","v":""},{"$f":"IF(COUNTIF(ER40:ER71,\">0\")>=LISTS!$B$11,\"Complete\",IF(COUNTIF(ER40:ER71,\">0\")>0,\"Partial\",\"\"))","v":""},{"$f":"IF(COUNTIF(ES40:ES71,\">0\")>=LISTS!$B$11,\"Complete\",IF(COUNTIF(ES40:ES71,\">0\")>0,\"Partial\",\"\"))","v":""},{"$f":"IF(COUNTIF(ET40:ET71,\">0\")>=LISTS!$B$11,\"Complete\",IF(COUNTIF(ET40:ET71,\">0\")>0,\"Partial\",\"\"))","v":""},{"$f":"IF(COUNTIF(EU40:EU71,\">0\")>=LISTS!$B$11,\"Complete\",IF(COUNTIF(EU40:EU71,\">0\")>0,\"Partial\",\"\"))","v":""},{"$f":"IF(COUNTIF(EV40:EV71,\">0\")>=LISTS!$B$11,\"Complete\",IF(COUNTIF(EV40:EV71,\">0\")>0,\"Partial\",\"\"))","v":""},{"$f":"IF(COUNTIF(EW40:EW71,\">0\")>=LISTS!$B$11,\"Complete\",IF(COUNTIF(EW40:EW71,\">0\")>0,\"Partial\",\"\"))","v":""},{"$f":"IF(COUNTIF(EX40:EX71,\">0\")>=LISTS!$B$11,\"Complete\",IF(COUNTIF(EX40:EX71,\">0\")>0,\"Partial\",\"\"))","v":""},{"$f":"IF(COUNTIF(EY40:EY71,\">0\")>=LISTS!$B$11,\"Complete\",IF(COUNTIF(EY40:EY71,\">0\")>0,\"Partial\",\"\"))","v":""},{"$f":"IF(COUNTIF(EZ40:EZ71,\">0\")>=LISTS!$B$11,\"Complete\",IF(COUNTIF(EZ40:EZ71,\">0\")>0,\"Partial\",\"\"))","v":""},{"$f":"IF(COUNTIF(FA40:FA71,\">0\")>=LISTS!$B$11,\"Complete\",IF(COUNTIF(FA40:FA71,\">0\")>0,\"Partial\",\"\"))","v":""},{"$f":"IF(COUNTIF(FB40:FB71,\">0\")>=LISTS!$B$11,\"Complete\",IF(COUNTIF(FB40:FB71,\">0\")>0,\"Partial\",\"\"))","v":""},{"$f":"IF(COUNTIF(FC40:FC71,\">0\")>=LISTS!$B$11,\"Complete\",IF(COUNTIF(FC40:FC71,\">0\")>0,\"Partial\",\"\"))","v":""},{"$f":"IF(COUNTIF(FD40:FD71,\">0\")>=LISTS!$B$11,\"Complete\",IF(COUNTIF(FD40:FD71,\">0\")>0,\"Partial\",\"\"))","v":""},{"$f":"IF(COUNTIF(FE40:FE71,\">0\")>=LISTS!$B$11,\"Complete\",IF(COUNTIF(FE40:FE71,\">0\")>0,\"Partial\",\"\"))","v":""},{"$f":"IF(COUNTIF(FF40:FF71,\">0\")>=LISTS!$B$11,\"Complete\",IF(COUNTIF(FF40:FF71,\">0\")>0,\"Partial\",\"\"))","v":""},{"$f":"IF(COUNTIF(FG40:FG71,\">0\")>=LISTS!$B$11,\"Complete\",IF(COUNTIF(FG40:FG71,\">0\")>0,\"Partial\",\"\"))","v":""},{"$f":"IF(COUNTIF(FH40:FH71,\">0\")>=LISTS!$B$11,\"Complete\",IF(COUNTIF(FH40:FH71,\">0\")>0,\"Partial\",\"\"))","v":""},{"$f":"IF(COUNTIF(FI40:FI71,\">0\")>=LISTS!$B$11,\"Complete\",IF(COUNTIF(FI40:FI71,\">0\")>0,\"Partial\",\"\"))","v":""},{"$f":"IF(COUNTIF(FJ40:FJ71,\">0\")>=LISTS!$B$11,\"Complete\",IF(COUNTIF(FJ40:FJ71,\">0\")>0,\"Partial\",\"\"))","v":""},{"$f":"IF(COUNTIF(FK40:FK71,\">0\")>=LISTS!$B$11,\"Complete\",IF(COUNTIF(FK40:FK71,\">0\")>0,\"Partial\",\"\"))","v":""},{"$f":"IF(COUNTIF(FL40:FL71,\">0\")>=LISTS!$B$11,\"Complete\",IF(COUNTIF(FL40:FL71,\">0\")>0,\"Partial\",\"\"))","v":""},{"$f":"IF(COUNTIF(FM40:FM71,\">0\")>=LISTS!$B$11,\"Complete\",IF(COUNTIF(FM40:FM71,\">0\")>0,\"Partial\",\"\"))","v":""},{"$f":"IF(COUNTIF(FN40:FN71,\">0\")>=LISTS!$B$11,\"Complete\",IF(COUNTIF(FN40:FN71,\">0\")>0,\"Partial\",\"\"))","v":""},{"$f":"IF(COUNTIF(FO40:FO71,\">0\")>=LISTS!$B$11,\"Complete\",IF(COUNTIF(FO40:FO71,\">0\")>0,\"Partial\",\"\"))","v":""},{"$f":"IF(COUNTIF(FP40:FP71,\">0\")>=LISTS!$B$11,\"Complete\",IF(COUNTIF(FP40:FP71,\">0\")>0,\"Partial\",\"\"))","v":""},{"$f":"IF(COUNTIF(FQ40:FQ71,\">0\")>=LISTS!$B$11,\"Complete\",IF(COUNTIF(FQ40:FQ71,\">0\")>0,\"Partial\",\"\"))","v":""},{"$f":"IF(COUNTIF(FR40:FR71,\">0\")>=LISTS!$B$11,\"Complete\",IF(COUNTIF(FR40:FR71,\">0\")>0,\"Partial\",\"\"))","v":""},{"$f":"IF(COUNTIF(FS40:FS71,\">0\")>=LISTS!$B$11,\"Complete\",IF(COUNTIF(FS40:FS71,\">0\")>0,\"Partial\",\"\"))","v":""},{"$f":"IF(COUNTIF(FT40:FT71,\">0\")>=LISTS!$B$11,\"Complete\",IF(COUNTIF(FT40:FT71,\">0\")>0,\"Partial\",\"\"))","v":""},{"$f":"IF(COUNTIF(FU40:FU71,\">0\")>=LISTS!$B$11,\"Complete\",IF(COUNTIF(FU40:FU71,\">0\")>0,\"Partial\",\"\"))","v":""},{"$f":"IF(COUNTIF(FV40:FV71,\">0\")>=LISTS!$B$11,\"Complete\",IF(COUNTIF(FV40:FV71,\">0\")>0,\"Partial\",\"\"))","v":""},{"$f":"IF(COUNTIF(FW40:FW71,\">0\")>=LISTS!$B$11,\"Complete\",IF(COUNTIF(FW40:FW71,\">0\")>0,\"Partial\",\"\"))","v":""},{"$f":"IF(COUNTIF(FX40:FX71,\">0\")>=LISTS!$B$11,\"Complete\",IF(COUNTIF(FX40:FX71,\">0\")>0,\"Partial\",\"\"))","v":""},{"$f":"IF(COUNTIF(FY40:FY71,\">0\")>=LISTS!$B$11,\"Complete\",IF(COUNTIF(FY40:FY71,\">0\")>0,\"Partial\",\"\"))","v":""},{"$f":"IF(COUNTIF(FZ40:FZ71,\">0\")>=LISTS!$B$11,\"Complete\",IF(COUNTIF(FZ40:FZ71,\">0\")>0,\"Partial\",\"\"))","v":""},{"$f":"IF(COUNTIF(GA40:GA71,\">0\")>=LISTS!$B$11,\"Complete\",IF(COUNTIF(GA40:GA71,\">0\")>0,\"Partial\",\"\"))","v":""},{"$f":"IF(COUNTIF(GB40:GB71,\">0\")>=LISTS!$B$11,\"Complete\",IF(COUNTIF(GB40:GB71,\">0\")>0,\"Partial\",\"\"))","v":""},{"$f":"IF(COUNTIF(GC40:GC71,\">0\")>=LISTS!$B$11,\"Complete\",IF(COUNTIF(GC40:GC71,\">0\")>0,\"Partial\",\"\"))","v":""},{"$f":"IF(COUNTIF(GD40:GD71,\">0\")>=LISTS!$B$11,\"Complete\",IF(COUNTIF(GD40:GD71,\">0\")>0,\"Partial\",\"\"))","v":""},{"$f":"IF(COUNTIF(GE40:GE71,\">0\")>=LISTS!$B$11,\"Complete\",IF(COUNTIF(GE40:GE71,\">0\")>0,\"Partial\",\"\"))","v":""},{"$f":"IF(COUNTIF(GF40:GF71,\">0\")>=LISTS!$B$11,\"Complete\",IF(COUNTIF(GF40:GF71,\">0\")>0,\"Partial\",\"\"))","v":""},{"$f":"IF(COUNTIF(GG40:GG71,\">0\")>=LISTS!$B$11,\"Complete\",IF(COUNTIF(GG40:GG71,\">0\")>0,\"Partial\",\"\"))","v":""},{"$f":"IF(COUNTIF(GH40:GH71,\">0\")>=LISTS!$B$11,\"Complete\",IF(COUNTIF(GH40:GH71,\">0\")>0,\"Partial\",\"\"))","v":""},{"$f":"IF(COUNTIF(GI40:GI71,\">0\")>=LISTS!$B$11,\"Complete\",IF(COUNTIF(GI40:GI71,\">0\")>0,\"Partial\",\"\"))","v":""},{"$f":"IF(COUNTIF(GJ40:GJ71,\">0\")>=LISTS!$B$11,\"Complete\",IF(COUNTIF(GJ40:GJ71,\">0\")>0,\"Partial\",\"\"))","v":""},{"$f":"IF(COUNTIF(GK40:GK71,\">0\")>=LISTS!$B$11,\"Complete\",IF(COUNTIF(GK40:GK71,\">0\")>0,\"Partial\",\"\"))","v":""},{"$f":"IF(COUNTIF(GL40:GL71,\">0\")>=LISTS!$B$11,\"Complete\",IF(COUNTIF(GL40:GL71,\">0\")>0,\"Partial\",\"\"))","v":""},{"$f":"IF(COUNTIF(GM40:GM71,\">0\")>=LISTS!$B$11,\"Complete\",IF(COUNTIF(GM40:GM71,\">0\")>0,\"Partial\",\"\"))","v":""},{"$f":"IF(COUNTIF(GN40:GN71,\">0\")>=LISTS!$B$11,\"Complete\",IF(COUNTIF(GN40:GN71,\">0\")>0,\"Partial\",\"\"))","v":""},{"$f":"IF(COUNTIF(GO40:GO71,\">0\")>=LISTS!$B$11,\"Complete\",IF(COUNTIF(GO40:GO71,\">0\")>0,\"Partial\",\"\"))","v":""},{"$f":"IF(COUNTIF(GP40:GP71,\">0\")>=LISTS!$B$11,\"Complete\",IF(COUNTIF(GP40:GP71,\">0\")>0,\"Partial\",\"\"))","v":""},{"$f":"IF(COUNTIF(GQ40:GQ71,\">0\")>=LISTS!$B$11,\"Complete\",IF(COUNTIF(GQ40:GQ71,\">0\")>0,\"Partial\",\"\"))","v":""},{"$f":"IF(COUNTIF(GR40:GR71,\">0\")>=LISTS!$B$11,\"Complete\",IF(COUNTIF(GR40:GR71,\">0\")>0,\"Partial\",\"\"))","v":""},{"$f":"IF(COUNTIF(GS40:GS71,\">0\")>=LISTS!$B$11,\"Complete\",IF(COUNTIF(GS40:GS71,\">0\")>0,\"Partial\",\"\"))","v":""},{"$f":"IF(COUNTIF(GT40:GT71,\">0\")>=LISTS!$B$11,\"Complete\",IF(COUNTIF(GT40:GT71,\">0\")>0,\"Partial\",\"\"))","v":""},{"$f":"IF(COUNTIF(GU40:GU71,\">0\")>=LISTS!$B$11,\"Complete\",IF(COUNTIF(GU40:GU71,\">0\")>0,\"Partial\",\"\"))","v":""},{"$f":"IF(COUNTIF(GV40:GV71,\">0\")>=LISTS!$B$11,\"Complete\",IF(COUNTIF(GV40:GV71,\">0\")>0,\"Partial\",\"\"))","v":""},{"$f":"IF(COUNTIF(GW40:GW71,\">0\")>=LISTS!$B$11,\"Complete\",IF(COUNTIF(GW40:GW71,\">0\")>0,\"Partial\",\"\"))","v":""},{"$f":"IF(COUNTIF(GX40:GX71,\">0\")>=LISTS!$B$11,\"Complete\",IF(COUNTIF(GX40:GX71,\">0\")>0,\"Partial\",\"\"))","v":""},{"$f":"IF(COUNTIF(GY40:GY71,\">0\")>=LISTS!$B$11,\"Complete\",IF(COUNTIF(GY40:GY71,\">0\")>0,\"Partial\",\"\"))","v":""},{"$f":"IF(COUNTIF(GZ40:GZ71,\">0\")>=LISTS!$B$11,\"Complete\",IF(COUNTIF(GZ40:GZ71,\">0\")>0,\"Partial\",\"\"))","v":""},{"$f":"IF(COUNTIF(HA40:HA71,\">0\")>=LISTS!$B$11,\"Complete\",IF(COUNTIF(HA40:HA71,\">0\")>0,\"Partial\",\"\"))","v":""},{"$f":"IF(COUNTIF(HB40:HB71,\">0\")>=LISTS!$B$11,\"Complete\",IF(COUNTIF(HB40:HB71,\">0\")>0,\"Partial\",\"\"))","v":""},{"$f":"IF(COUNTIF(HC40:HC71,\">0\")>=LISTS!$B$11,\"Complete\",IF(COUNTIF(HC40:HC71,\">0\")>0,\"Partial\",\"\"))","v":""},{"$f":"IF(COUNTIF(HD40:HD71,\">0\")>=LISTS!$B$11,\"Complete\",IF(COUNTIF(HD40:HD71,\">0\")>0,\"Partial\",\"\"))","v":""},{"$f":"IF(COUNTIF(HE40:HE71,\">0\")>=LISTS!$B$11,\"Complete\",IF(COUNTIF(HE40:HE71,\">0\")>0,\"Partial\",\"\"))","v":""},{"$f":"IF(COUNTIF(HF40:HF71,\">0\")>=LISTS!$B$11,\"Complete\",IF(COUNTIF(HF40:HF71,\">0\")>0,\"Partial\",\"\"))","v":""},{"$f":"IF(COUNTIF(HG40:HG71,\">0\")>=LISTS!$B$11,\"Complete\",IF(COUNTIF(HG40:HG71,\">0\")>0,\"Partial\",\"\"))","v":""},{"$f":"IF(COUNTIF(HH40:HH71,\">0\")>=LISTS!$B$11,\"Complete\",IF(COUNTIF(HH40:HH71,\">0\")>0,\"Partial\",\"\"))","v":""},{"$f":"IF(COUNTIF(HI40:HI71,\">0\")>=LISTS!$B$11,\"Complete\",IF(COUNTIF(HI40:HI71,\">0\")>0,\"Partial\",\"\"))","v":""},{"$f":"IF(COUNTIF(HJ40:HJ71,\">0\")>=LISTS!$B$11,\"Complete\",IF(COUNTIF(HJ40:HJ71,\">0\")>0,\"Partial\",\"\"))","v":""},{"$f":"IF(COUNTIF(HK40:HK71,\">0\")>=LISTS!$B$11,\"Complete\",IF(COUNTIF(HK40:HK71,\">0\")>0,\"Partial\",\"\"))","v":""},{"$f":"IF(COUNTIF(HL40:HL71,\">0\")>=LISTS!$B$11,\"Complete\",IF(COUNTIF(HL40:HL71,\">0\")>0,\"Partial\",\"\"))","v":""},{"$f":"IF(COUNTIF(HM40:HM71,\">0\")>=LISTS!$B$11,\"Complete\",IF(COUNTIF(HM40:HM71,\">0\")>0,\"Partial\",\"\"))","v":""},{"$f":"IF(COUNTIF(HN40:HN71,\">0\")>=LISTS!$B$11,\"Complete\",IF(COUNTIF(HN40:HN71,\">0\")>0,\"Partial\",\"\"))","v":""},{"$f":"IF(COUNTIF(HO40:HO71,\">0\")>=LISTS!$B$11,\"Complete\",IF(COUNTIF(HO40:HO71,\">0\")>0,\"Partial\",\"\"))","v":""},{"$f":"IF(COUNTIF(HP40:HP71,\">0\")>=LISTS!$B$11,\"Complete\",IF(COUNTIF(HP40:HP71,\">0\")>0,\"Partial\",\"\"))","v":""},{"$f":"IF(COUNTIF(HQ40:HQ71,\">0\")>=LISTS!$B$11,\"Complete\",IF(COUNTIF(HQ40:HQ71,\">0\")>0,\"Partial\",\"\"))","v":""},{"$f":"IF(COUNTIF(HR40:HR71,\">0\")>=LISTS!$B$11,\"Complete\",IF(COUNTIF(HR40:HR71,\">0\")>0,\"Partial\",\"\"))","v":""},{"$f":"IF(COUNTIF(HS40:HS71,\">0\")>=LISTS!$B$11,\"Complete\",IF(COUNTIF(HS40:HS71,\">0\")>0,\"Partial\",\"\"))","v":""},{"$f":"IF(COUNTIF(HT40:HT71,\">0\")>=LISTS!$B$11,\"Complete\",IF(COUNTIF(HT40:HT71,\">0\")>0,\"Partial\",\"\"))","v":""},{"$f":"IF(COUNTIF(HU40:HU71,\">0\")>=LISTS!$B$11,\"Complete\",IF(COUNTIF(HU40:HU71,\">0\")>0,\"Partial\",\"\"))","v":""},{"$f":"IF(COUNTIF(HV40:HV71,\">0\")>=LISTS!$B$11,\"Complete\",IF(COUNTIF(HV40:HV71,\">0\")>0,\"Partial\",\"\"))","v":""},{"$f":"IF(COUNTIF(HW40:HW71,\">0\")>=LISTS!$B$11,\"Complete\",IF(COUNTIF(HW40:HW71,\">0\")>0,\"Partial\",\"\"))","v":""},{"$f":"IF(COUNTIF(HX40:HX71,\">0\")>=LISTS!$B$11,\"Complete\",IF(COUNTIF(HX40:HX71,\">0\")>0,\"Partial\",\"\"))","v":""},{"$f":"IF(COUNTIF(HY40:HY71,\">0\")>=LISTS!$B$11,\"Complete\",IF(COUNTIF(HY40:HY71,\">0\")>0,\"Partial\",\"\"))","v":""},{"$f":"IF(COUNTIF(HZ40:HZ71,\">0\")>=LISTS!$B$11,\"Complete\",IF(COUNTIF(HZ40:HZ71,\">0\")>0,\"Partial\",\"\"))","v":""},{"$f":"IF(COUNTIF(IA40:IA71,\">0\")>=LISTS!$B$11,\"Complete\",IF(COUNTIF(IA40:IA71,\">0\")>0,\"Partial\",\"\"))","v":""},{"$f":"IF(COUNTIF(IB40:IB71,\">0\")>=LISTS!$B$11,\"Complete\",IF(COUNTIF(IB40:IB71,\">0\")>0,\"Partial\",\"\"))","v":""},{"$f":"IF(COUNTIF(IC40:IC71,\">0\")>=LISTS!$B$11,\"Complete\",IF(COUNTIF(IC40:IC71,\">0\")>0,\"Partial\",\"\"))","v":""},{"$f":"IF(COUNTIF(ID40:ID71,\">0\")>=LISTS!$B$11,\"Complete\",IF(COUNTIF(ID40:ID71,\">0\")>0,\"Partial\",\"\"))","v":""},{"$f":"IF(COUNTIF(IE40:IE71,\">0\")>=LISTS!$B$11,\"Complete\",IF(COUNTIF(IE40:IE71,\">0\")>0,\"Partial\",\"\"))","v":""},{"$f":"IF(COUNTIF(IF40:IF71,\">0\")>=LISTS!$B$11,\"Complete\",IF(COUNTIF(IF40:IF71,\">0\")>0,\"Partial\",\"\"))","v":""},{"$f":"IF(COUNTIF(IG40:IG71,\">0\")>=LISTS!$B$11,\"Complete\",IF(COUNTIF(IG40:IG71,\">0\")>0,\"Partial\",\"\"))","v":""},{"$f":"IF(COUNTIF(IH40:IH71,\">0\")>=LISTS!$B$11,\"Complete\",IF(COUNTIF(IH40:IH71,\">0\")>0,\"Partial\",\"\"))","v":""},{"$f":"IF(COUNTIF(II40:II71,\">0\")>=LISTS!$B$11,\"Complete\",IF(COUNTIF(II40:II71,\">0\")>0,\"Partial\",\"\"))","v":""},{"$f":"IF(COUNTIF(IJ40:IJ71,\">0\")>=LISTS!$B$11,\"Complete\",IF(COUNTIF(IJ40:IJ71,\">0\")>0,\"Partial\",\"\"))","v":""},{"$f":"IF(COUNTIF(IK40:IK71,\">0\")>=LISTS!$B$11,\"Complete\",IF(COUNTIF(IK40:IK71,\">0\")>0,\"Partial\",\"\"))","v":""},{"$f":"IF(COUNTIF(IL40:IL71,\">0\")>=LISTS!$B$11,\"Complete\",IF(COUNTIF(IL40:IL71,\">0\")>0,\"Partial\",\"\"))","v":""},{"$f":"IF(COUNTIF(IM40:IM71,\">0\")>=LISTS!$B$11,\"Complete\",IF(COUNTIF(IM40:IM71,\">0\")>0,\"Partial\",\"\"))","v":""},{"$f":"IF(COUNTIF(IN40:IN71,\">0\")>=LISTS!$B$11,\"Complete\",IF(COUNTIF(IN40:IN71,\">0\")>0,\"Partial\",\"\"))","v":""},{"$f":"IF(COUNTIF(IO40:IO71,\">0\")>=LISTS!$B$11,\"Complete\",IF(COUNTIF(IO40:IO71,\">0\")>0,\"Partial\",\"\"))","v":""},{"$f":"IF(COUNTIF(IP40:IP71,\">0\")>=LISTS!$B$11,\"Complete\",IF(COUNTIF(IP40:IP71,\">0\")>0,\"Partial\",\"\"))","v":""},{"$f":"IF(COUNTIF(IQ40:IQ71,\">0\")>=LISTS!$B$11,\"Complete\",IF(COUNTIF(IQ40:IQ71,\">0\")>0,\"Partial\",\"\"))","v":""},{"$f":"IF(COUNTIF(IR40:IR71,\">0\")>=LISTS!$B$11,\"Complete\",IF(COUNTIF(IR40:IR71,\">0\")>0,\"Partial\",\"\"))","v":""},{"$f":"IF(COUNTIF(IS40:IS71,\">0\")>=LISTS!$B$11,\"Complete\",IF(COUNTIF(IS40:IS71,\">0\")>0,\"Partial\",\"\"))","v":""},{"$f":"IF(COUNTIF(IT40:IT71,\">0\")>=LISTS!$B$11,\"Complete\",IF(COUNTIF(IT40:IT71,\">0\")>0,\"Partial\",\"\"))","v":""},{"$f":"IF(COUNTIF(IU40:IU71,\">0\")>=LISTS!$B$11,\"Complete\",IF(COUNTIF(IU40:IU71,\">0\")>0,\"Partial\",\"\"))","v":""},{"$f":"IF(COUNTIF(IV40:IV71,\">0\")>=LISTS!$B$11,\"Complete\",IF(COUNTIF(IV40:IV71,\">0\")>0,\"Partial\",\"\"))","v":""},{"$f":"IF(COUNTIF(IW40:IW71,\">0\")>=LISTS!$B$11,\"Complete\",IF(COUNTIF(IW40:IW71,\">0\")>0,\"Partial\",\"\"))","v":""},{"$f":"IF(COUNTIF(IX40:IX71,\">0\")>=LISTS!$B$11,\"Complete\",IF(COUNTIF(IX40:IX71,\">0\")>0,\"Partial\",\"\"))","v":""},{"$f":"IF(COUNTIF(IY40:IY71,\">0\")>=LISTS!$B$11,\"Complete\",IF(COUNTIF(IY40:IY71,\">0\")>0,\"Partial\",\"\"))","v":""},{"$f":"IF(COUNTIF(IZ40:IZ71,\">0\")>=LISTS!$B$11,\"Complete\",IF(COUNTIF(IZ40:IZ71,\">0\")>0,\"Partial\",\"\"))","v":""},{"$f":"IF(COUNTIF(JA40:JA71,\">0\")>=LISTS!$B$11,\"Complete\",IF(COUNTIF(JA40:JA71,\">0\")>0,\"Partial\",\"\"))","v":""},{"$f":"IF(COUNTIF(JB40:JB71,\">0\")>=LISTS!$B$11,\"Complete\",IF(COUNTIF(JB40:JB71,\">0\")>0,\"Partial\",\"\"))","v":""},{"$f":"IF(COUNTIF(JC40:JC71,\">0\")>=LISTS!$B$11,\"Complete\",IF(COUNTIF(JC40:JC71,\">0\")>0,\"Partial\",\"\"))","v":""},{"$f":"IF(COUNTIF(JD40:JD71,\">0\")>=LISTS!$B$11,\"Complete\",IF(COUNTIF(JD40:JD71,\">0\")>0,\"Partial\",\"\"))","v":""},{"$f":"IF(COUNTIF(JE40:JE71,\">0\")>=LISTS!$B$11,\"Complete\",IF(COUNTIF(JE40:JE71,\">0\")>0,\"Partial\",\"\"))","v":""},{"$f":"IF(COUNTIF(JF40:JF71,\">0\")>=LISTS!$B$11,\"Complete\",IF(COUNTIF(JF40:JF71,\">0\")>0,\"Partial\",\"\"))","v":""},{"$f":"IF(COUNTIF(JG40:JG71,\">0\")>=LISTS!$B$11,\"Complete\",IF(COUNTIF(JG40:JG71,\">0\")>0,\"Partial\",\"\"))","v":""},{"$f":"IF(COUNTIF(JH40:JH71,\">0\")>=LISTS!$B$11,\"Complete\",IF(COUNTIF(JH40:JH71,\">0\")>0,\"Partial\",\"\"))","v":""},{"$f":"IF(COUNTIF(JI40:JI71,\">0\")>=LISTS!$B$11,\"Complete\",IF(COUNTIF(JI40:JI71,\">0\")>0,\"Partial\",\"\"))","v":""},{"$f":"IF(COUNTIF(JJ40:JJ71,\">0\")>=LISTS!$B$11,\"Complete\",IF(COUNTIF(JJ40:JJ71,\">0\")>0,\"Partial\",\"\"))","v":""},{"$f":"IF(COUNTIF(JK40:JK71,\">0\")>=LISTS!$B$11,\"Complete\",IF(COUNTIF(JK40:JK71,\">0\")>0,\"Partial\",\"\"))","v":""},{"$f":"IF(COUNTIF(JL40:JL71,\">0\")>=LISTS!$B$11,\"Complete\",IF(COUNTIF(JL40:JL71,\">0\")>0,\"Partial\",\"\"))","v":""},{"$f":"IF(COUNTIF(JM40:JM71,\">0\")>=LISTS!$B$11,\"Complete\",IF(COUNTIF(JM40:JM71,\">0\")>0,\"Partial\",\"\"))","v":""},{"$f":"IF(COUNTIF(JN40:JN71,\">0\")>=LISTS!$B$11,\"Complete\",IF(COUNTIF(JN40:JN71,\">0\")>0,\"Partial\",\"\"))","v":""},{"$f":"IF(COUNTIF(JO40:JO71,\">0\")>=LISTS!$B$11,\"Complete\",IF(COUNTIF(JO40:JO71,\">0\")>0,\"Partial\",\"\"))","v":""},{"$f":"IF(COUNTIF(JP40:JP71,\">0\")>=LISTS!$B$11,\"Complete\",IF(COUNTIF(JP40:JP71,\">0\")>0,\"Partial\",\"\"))","v":""},{"$f":"IF(COUNTIF(JQ40:JQ71,\">0\")>=LISTS!$B$11,\"Complete\",IF(COUNTIF(JQ40:JQ71,\">0\")>0,\"Partial\",\"\"))","v":""},{"$f":"IF(COUNTIF(JR40:JR71,\">0\")>=LISTS!$B$11,\"Complete\",IF(COUNTIF(JR40:JR71,\">0\")>0,\"Partial\",\"\"))","v":""},{"$f":"IF(COUNTIF(JS40:JS71,\">0\")>=LISTS!$B$11,\"Complete\",IF(COUNTIF(JS40:JS71,\">0\")>0,\"Partial\",\"\"))","v":""},{"$f":"IF(COUNTIF(JT40:JT71,\">0\")>=LISTS!$B$11,\"Complete\",IF(COUNTIF(JT40:JT71,\">0\")>0,\"Partial\",\"\"))","v":""},{"$f":"IF(COUNTIF(JU40:JU71,\">0\")>=LISTS!$B$11,\"Complete\",IF(COUNTIF(JU40:JU71,\">0\")>0,\"Partial\",\"\"))","v":""},{"$f":"IF(COUNTIF(JV40:JV71,\">0\")>=LISTS!$B$11,\"Complete\",IF(COUNTIF(JV40:JV71,\">0\")>0,\"Partial\",\"\"))","v":""},{"$f":"IF(COUNTIF(JW40:JW71,\">0\")>=LISTS!$B$11,\"Complete\",IF(COUNTIF(JW40:JW71,\">0\")>0,\"Partial\",\"\"))","v":""},{"$f":"IF(COUNTIF(JX40:JX71,\">0\")>=LISTS!$B$11,\"Complete\",IF(COUNTIF(JX40:JX71,\">0\")>0,\"Partial\",\"\"))","v":""},{"$f":"IF(COUNTIF(JY40:JY71,\">0\")>=LISTS!$B$11,\"Complete\",IF(COUNTIF(JY40:JY71,\">0\")>0,\"Partial\",\"\"))","v":""},{"$f":"IF(COUNTIF(JZ40:JZ71,\">0\")>=LISTS!$B$11,\"Complete\",IF(COUNTIF(JZ40:JZ71,\">0\")>0,\"Partial\",\"\"))","v":""},{"$f":"IF(COUNTIF(KA40:KA71,\">0\")>=LISTS!$B$11,\"Complete\",IF(COUNTIF(KA40:KA71,\">0\")>0,\"Partial\",\"\"))","v":""},{"$f":"IF(COUNTIF(KB40:KB71,\">0\")>=LISTS!$B$11,\"Complete\",IF(COUNTIF(KB40:KB71,\">0\")>0,\"Partial\",\"\"))","v":""},{"$f":"IF(COUNTIF(KC40:KC71,\">0\")>=LISTS!$B$11,\"Complete\",IF(COUNTIF(KC40:KC71,\">0\")>0,\"Partial\",\"\"))","v":""},{"$f":"IF(COUNTIF(KD40:KD71,\">0\")>=LISTS!$B$11,\"Complete\",IF(COUNTIF(KD40:KD71,\">0\")>0,\"Partial\",\"\"))","v":""},{"$f":"IF(COUNTIF(KE40:KE71,\">0\")>=LISTS!$B$11,\"Complete\",IF(COUNTIF(KE40:KE71,\">0\")>0,\"Partial\",\"\"))","v":""},{"$f":"IF(COUNTIF(KF40:KF71,\">0\")>=LISTS!$B$11,\"Complete\",IF(COUNTIF(KF40:KF71,\">0\")>0,\"Partial\",\"\"))","v":""},{"$f":"IF(COUNTIF(KG40:KG71,\">0\")>=LISTS!$B$11,\"Complete\",IF(COUNTIF(KG40:KG71,\">0\")>0,\"Partial\",\"\"))","v":""},{"$f":"IF(COUNTIF(KH40:KH71,\">0\")>=LISTS!$B$11,\"Complete\",IF(COUNTIF(KH40:KH71,\">0\")>0,\"Partial\",\"\"))","v":""},{"$f":"IF(COUNTIF(KI40:KI71,\">0\")>=LISTS!$B$11,\"Complete\",IF(COUNTIF(KI40:KI71,\">0\")>0,\"Partial\",\"\"))","v":""},{"$f":"IF(COUNTIF(KJ40:KJ71,\">0\")>=LISTS!$B$11,\"Complete\",IF(COUNTIF(KJ40:KJ71,\">0\")>0,\"Partial\",\"\"))","v":""},{"$f":"IF(COUNTIF(KK40:KK71,\">0\")>=LISTS!$B$11,\"Complete\",IF(COUNTIF(KK40:KK71,\">0\")>0,\"Partial\",\"\"))","v":""},{"$f":"IF(COUNTIF(KL40:KL71,\">0\")>=LISTS!$B$11,\"Complete\",IF(COUNTIF(KL40:KL71,\">0\")>0,\"Partial\",\"\"))","v":""},{"$f":"IF(COUNTIF(KM40:KM71,\">0\")>=LISTS!$B$11,\"Complete\",IF(COUNTIF(KM40:KM71,\">0\")>0,\"Partial\",\"\"))","v":""},{"$f":"IF(COUNTIF(KN40:KN71,\">0\")>=LISTS!$B$11,\"Complete\",IF(COUNTIF(KN40:KN71,\">0\")>0,\"Partial\",\"\"))","v":""},{"$f":"IF(COUNTIF(KO40:KO71,\">0\")>=LISTS!$B$11,\"Complete\",IF(COUNTIF(KO40:KO71,\">0\")>0,\"Partial\",\"\"))","v":""},{"$f":"IF(COUNTIF(KP40:KP71,\">0\")>=LISTS!$B$11,\"Complete\",IF(COUNTIF(KP40:KP71,\">0\")>0,\"Partial\",\"\"))","v":""},{"$f":"IF(COUNTIF(KQ40:KQ71,\">0\")>=LISTS!$B$11,\"Complete\",IF(COUNTIF(KQ40:KQ71,\">0\")>0,\"Partial\",\"\"))","v":""},{"$f":"IF(COUNTIF(KR40:KR71,\">0\")>=LISTS!$B$11,\"Complete\",IF(COUNTIF(KR40:KR71,\">0\")>0,\"Partial\",\"\"))","v":""},{"$f":"IF(COUNTIF(KS40:KS71,\">0\")>=LISTS!$B$11,\"Complete\",IF(COUNTIF(KS40:KS71,\">0\")>0,\"Partial\",\"\"))","v":""},{"$f":"IF(COUNTIF(KT40:KT71,\">0\")>=LISTS!$B$11,\"Complete\",IF(COUNTIF(KT40:KT71,\">0\")>0,\"Partial\",\"\"))","v":""},{"$f":"IF(COUNTIF(KU40:KU71,\">0\")>=LISTS!$B$11,\"Complete\",IF(COUNTIF(KU40:KU71,\">0\")>0,\"Partial\",\"\"))","v":""},{"$f":"IF(COUNTIF(KV40:KV71,\">0\")>=LISTS!$B$11,\"Complete\",IF(COUNTIF(KV40:KV71,\">0\")>0,\"Partial\",\"\"))","v":""},{"$f":"IF(COUNTIF(KW40:KW71,\">0\")>=LISTS!$B$11,\"Complete\",IF(COUNTIF(KW40:KW71,\">0\")>0,\"Partial\",\"\"))","v":""},{"$f":"IF(COUNTIF(KX40:KX71,\">0\")>=LISTS!$B$11,\"Complete\",IF(COUNTIF(KX40:KX71,\">0\")>0,\"Partial\",\"\"))","v":""},{"$f":"IF(COUNTIF(KY40:KY71,\">0\")>=LISTS!$B$11,\"Complete\",IF(COUNTIF(KY40:KY71,\">0\")>0,\"Partial\",\"\"))","v":""},{"$f":"IF(COUNTIF(KZ40:KZ71,\">0\")>=LISTS!$B$11,\"Complete\",IF(COUNTIF(KZ40:KZ71,\">0\")>0,\"Partial\",\"\"))","v":""},{"$f":"IF(COUNTIF(LA40:LA71,\">0\")>=LISTS!$B$11,\"Complete\",IF(COUNTIF(LA40:LA71,\">0\")>0,\"Partial\",\"\"))","v":""},{"$f":"IF(COUNTIF(LB40:LB71,\">0\")>=LISTS!$B$11,\"Complete\",IF(COUNTIF(LB40:LB71,\">0\")>0,\"Partial\",\"\"))","v":""},{"$f":"IF(COUNTIF(LC40:LC71,\">0\")>=LISTS!$B$11,\"Complete\",IF(COUNTIF(LC40:LC71,\">0\")>0,\"Partial\",\"\"))","v":""},{"$f":"IF(COUNTIF(LD40:LD71,\">0\")>=LISTS!$B$11,\"Complete\",IF(COUNTIF(LD40:LD71,\">0\")>0,\"Partial\",\"\"))","v":""},{"$f":"IF(COUNTIF(LE40:LE71,\">0\")>=LISTS!$B$11,\"Complete\",IF(COUNTIF(LE40:LE71,\">0\")>0,\"Partial\",\"\"))","v":""},{"$f":"IF(COUNTIF(LF40:LF71,\">0\")>=LISTS!$B$11,\"Complete\",IF(COUNTIF(LF40:LF71,\">0\")>0,\"Partial\",\"\"))","v":""}]
[]
["Chg","O8",null,{"$f":"IFERROR(D90-D80,\"\")","v":""},{"$f":"IFERROR(E90-E80,\"\")","v":""},"","","","","","","","","","","","","","","","","","","","","","","","","","","","","","","","","","","","","","","","","","","","","","","","","","","","","","","","","","","","","","","",{"$f":"IFERROR(BQ90-BQ80,\"\")","v":""},"","","","","","","","","","","","","","","","","","","","","","","","","","","","","","","","","","","","","","","","","","","","","","","","","","","","","","","","","","","","","","","",{"$f":"IFERROR(EC90-EC80,\"\")","v":""},"","","","","","","","","","","","","","","","","","","","","","","","","","","","","","","","","","","","","","","","","","","","","","","","","","","","","","","","","","","","","","","",{"$f":"IFERROR(GO90-GO80,\"\")","v":""},"","","","","","","","","","","","","","","","","","","","","","","","","","","","","","","","","","","","","","","","","","","","","","","","","","","","","","","","","","","","","","","",{"$f":"IFERROR(JA90-JA80,\"\")","v":""},"","","","","","","","","","","","","","","","","","","","","","","","","","","","","","","","","","","","","","","","","","","","","","","","","","","","","","","","",""]
["Chg","O9",null,"",{"$f":"IFERROR(E91-E81,\"\")","v":""},"","","","","","","","","","","","","","","","","","","","","","","","","","","","","","","","","","","","","","","","","","","","","","","","","","","","","","","","","","","","","","","",{"$f":"IFERROR(BQ91-BQ81,\"\")","v":""},"","","","","","","","","","","","","","","","","","","","","","","","","","","","","","","","","","","","","","","","","","","","","","","","","","","","","","","","","","","","","","","",{"$f":"IFERROR(EC91-EC81,\"\")","v":""},"","","","","","","","","","","","","","","","","","","","","","","","","","","","","","","","","","","","","","","","","","","","","","","","","","","","","","","","","","","","","","","",{"$f":"IFERROR(GO91-GO81,\"\")","v":""},"","","","","","","","","","","","","","","","","","","","","","","","","","","","","","","","","","","","","","","","","","","","","","","","","","","","","","","","","","","","","","","",{"$f":"IFERROR(JA91-JA81,\"\")","v":""},"","","","","","","","","","","","","","","","","","","","","","","","","","","","","","","","","","","","","","","","","","","","","","","","","","","","","","","","",""]
["Chg","O10",null,"",{"$f":"IFERROR(E92-E82,\"\")","v":""},"","","","","","","","","","","","","","","","","","","","","","","","","","","","","","","","","","","","","","","","","","","","","","","","","","","","","","","","","","","","","","","",{"$f":"IFERROR(BQ92-BQ82,\"\")","v":""},"","","","","","","","","","","","","","","","","","","","","","","","","","","","","","","","","","","","","","","","","","","","","","","","","","","","","","","","","","","","","","","",{"$f":"IFERROR(EC92-EC82,\"\")","v":""},"","","","","","","","","","","","","","","","","","","","","","","","","","","","","","","","","","","","","","","","","","","","","","","","","","","","","","","","","","","","","","","",{"$f":"IFERROR(GO92-GO82,\"\")","v":""},"","","","","","","","","","","","","","","","","","","","","","","","","","","","","","","","","","","","","","","","","","","","","","","","","","","","","","","","","","","","","","","",{"$f":"IFERROR(JA92-JA82,\"\")","v":""},"","","","","","","","","","","","","","","","","","","","","","","","","","","","","","","","","","","","","","","","","","","","","","","","","","","","","","","","",""]
["Chg","O11",null,"",{"$f":"IFERROR(E93-E83,\"\")","v":""},"","","","","","","","","","","","","","","","","","","","","","","","","","","","","","","","","","","","","","","","","","","","","","","","","","","","","","","","","","","","","","","",{"$f":"IFERROR(BQ93-BQ83,\"\")","v":""},"","","","","","","","","","","","","","","","","","","","","","","","","","","","","","","","","","","","","","","","","","","","","","","","","","","","","","","","","","","","","","","",{"$f":"IFERROR(EC93-EC83,\"\")","v":""},"","","","","","","","","","","","","","","","","","","","","","","","","","","","","","","","","","","","","","","","","","","","","","","","","","","","","","","","","","","","","","","",{"$f":"IFERROR(GO93-GO83,\"\")","v":""},"","","","","","","","","","","","","","","","","","","","","","","","","","","","","","","","","","","","","","","","","","","","","","","","","","","","","","","","","","","","","","","",{"$f":"IFERROR(JA93-JA83,\"\")","v":""},"","","","","","","","","","","","","","","","","","","","","","","","","","","","","","","","","","","","","","","","","","","","","","","","","","","","","","","","",""]
["Chg","O12",null,"",{"$f":"IFERROR(E94-E84,\"\")","v":""},"","","","","","","","","","","","","","","","","","","","","","","","","","","","","","","","","","","","","","","","","","","","","","","","","","","","","","","","","","","","","","","",{"$f":"IFERROR(BQ94-BQ84,\"\")","v":""},"","","","","","","","","","","","","","","","","","","","","","","","","","","","","","","","","","","","","","","","","","","","","","","","","","","","","","","","","","","","","","","",{"$f":"IFERROR(EC94-EC84,\"\")","v":""},"","","","","","","","","","","","","","","","","","","","","","","","","","","","","","","","","","","","","","","","","","","","","","","","","","","","","","","","","","","","","","","",{"$f":"IFERROR(GO94-GO84,\"\")","v":""},"","","","","","","","","","","","","","","","","","","","","","","","","","","","","","","","","","","","","","","","","","","","","","","","","","","","","","","","","","","","","","","",{"$f":"IFERROR(JA94-JA84,\"\")","v":""},"","","","","","","","","","","","","","","","","","","","","","","","","","","","","","","","","","","","","","","","","","","","","","","","","","","","","","","","",""]
["Chg","O13",null,"",{"$f":"IFERROR(E95-E85,\"\")","v":""},"","","","","","","","","","","","","","","","","","","","","","","","","","","","","","","","","","","","","","","","","","","","","","","","","","","","","","","","","","","","","","","",{"$f":"IFERROR(BQ95-BQ85,\"\")","v":""},"","","","","","","","","","","","","","","","","","","","","","","","","","","","","","","","","","","","","","","","","","","","","","","","","","","","","","","","","","","","","","","",{"$f":"IFERROR(EC95-EC85,\"\")","v":""},"","","","","","","","","","","","","","","","","","","","","","","","","","","","","","","","","","","","","","","","","","","","","","","","","","","","","","","","","","","","","","","",{"$f":"IFERROR(GO95-GO85,\"\")","v":""},"","","","","","","","","","","","","","","","","","","","","","","","","","","","","","","","","","","","","","","","","","","","","","","","","","","","","","","","","","","","","","","",{"$f":"IFERROR(JA95-JA85,\"\")","v":""},"","","","","","","","","","","","","","","","","","","","","","","","","","","","","","","","","","","","","","","","","","","","","","","","","","","","","","","","",""]
["Chg","O14",null,"",{"$f":"IFERROR(E96-E86,\"\")","v":""},"","","","","","","","","","","","","","","","","","","","","","","","","","","","","","","","","","","","","","","","","","","","","","","","","","","","","","","","","","","","","","","",{"$f":"IFERROR(BQ96-BQ86,\"\")","v":""},"","","","","","","","","","","","","","","","","","","","","","","","","","","","","","","","","","","","","","","","","","","","","","","","","","","","","","","","","","","","","","","",{"$f":"IFERROR(EC96-EC86,\"\")","v":""},"","","","","","","","","","","","","","","","","","","","","","","","","","","","","","","","","","","","","","","","","","","","","","","","","","","","","","","","","","","","","","","",{"$f":"IFERROR(GO96-GO86,\"\")","v":""},"","","","","","","","","","","","","","","","","","","","","","","","","","","","","","","","","","","","","","","","","","","","","","","","","","","","","","","","","","","","","","","",{"$f":"IFERROR(JA96-JA86,\"\")","v":""},"","","","","","","","","","","","","","","","","","","","","","","","","","","","","","","","","","","","","","","","","","","","","","","","","","","","","","","","",""]
["Chg","O18",null,"",{"$f":"IFERROR(E97-E87,\"\")","v":""},"","","","","","","","","","","","","","","","","","","","","","","","","","","","","","","","","","","","","","","","","","","","","","","","","","","","","","","","","","","","","","","",{"$f":"IFERROR(BQ97-BQ87,\"\")","v":""},"","","","","","","","","","","","","","","","","","","","","","","","","","","","","","","","","","","","","","","","","","","","","","","","","","","","","","","","","","","","","","","",{"$f":"IFERROR(EC97-EC87,\"\")","v":""},"","","","","","","","","","","","","","","","","","","","","","","","","","","","","","","","","","","","","","","","","","","","","","","","","","","","","","","","","","","","","","","",{"$f":"IFERROR(GO97-GO87,\"\")","v":""},"","","","","","","","","","","","","","","","","","","","","","","","","","","","","","","","","","","","","","","","","","","","","","","","","","","","","","","","","","","","","","","",{"$f":"IFERROR(JA97-JA87,\"\")","v":""},"","","","","","","","","","","","","","","","","","","","","","","","","","","","","","","","","","","","","","","","","","","","","","","","","","","","","","","","",""]
[null,null,"Pre/Post both Complete by Quarter #? (1,2,3,4=Yes, 0=No)",{"$f":"IF(AND(D88=\"Complete\",D98=\"Complete\"),D78,0)","v":0},{"$f":"IF(AND(E88=\"Complete\",E98=\"Complete\"),E78,0)","v":0},0,0,0,0,0,0,0,0,0,0,0,0,0,0,0,0,0,0,0,0,0,0,0,0,0,0,0,0,0,0,0,0,0,0,0,0,0,0,0,0,0,0,0,0,0,0,0,0,0,0,0,0,0,0,0,0,0,0,0,0,0,0,0,{"$f":"IF(AND(BQ88=\"Complete\",BQ98=\"Complete\"),BQ78,0)","v":0},0,0,0,0,0,0,0,0,0,0,0,0,0,0,0,0,0,0,0,0,0,0,0,0,0,0,0,0,0,0,0,0,0,0,0,0,0,0,0,0,0,0,0,0,0,0,0,0,0,0,0,0,0,0,0,0,0,0,0,0,0,0,0,{"$f":"IF(AND(EC88=\"Complete\",EC98=\"Complete\"),EC78,0)","v":0},0,0,0,0,0,0,0,0,0,0,0,0,0,0,0,0,0,0,0,0,0,0,0,0,0,0,0,0,0,0,0,0,0,0,0,0,0,0,0,0,0,0,0,0,0,0,0,0,0,0,0,0,0,0,0,0,0,0,0,0,0,0,0,{"$f":"IF(AND(GO88=\"Complete\",GO98=\"Complete\"),GO78,0)","v":0},0,0,0,0,0,0,0,0,0,0,0,0,0,0,0,0,0,0,0,0,0,0,0,0,0,0,0,0,0,0,0,0,0,0,0,0,0,0,0,0,0,0,0,0,0,0,0,0,0,0,0,0,0,0,0,0,0,0,0,0,0,0,0,{"$f":"IF(AND(JA88=\"Complete\",JA98=\"Complete\"),JA78,0)","v":0},0,0,0,0,0,0,0,0,0,0,0,0,0,0,0,0,0,0,0,0,0,0,0,0,0,0,0,0,0,0,0,0,0,0,0,0,0,0,0,0,0,0,0,0,0,0,0,0,0,0,0,0,0,0,0,0,0]
[]
[null,"O8","Positive Change by Quarter  (1,2,3,4=Yes, 0=No)",{"$f":"IF(AND(D100>0,D100<>\"\"),D$108,\"\")","v":""},{"$f":"IF(AND(E100>0,E100<>\"\"),E$108,\"\")","v":""},"","","","","","","","","","","","","","","","","","","","","","","","","","","","","","","","","","","","","","","","","","","","","","","","","","","","","","","","","","","","","","","",{"$f":"IF(AND(BQ100>0,BQ100<>\"\"),BQ$108,\"\")","v":""},"","","","","","","","","","","","","","","","","","","","","","","","","","","","","","","","","","","","","","","","","","","","","","","","","","","","","","","","","","","","","","","",{"$f":"IF(AND(EC100>0,EC100<>\"\"),EC$108,\"\")","v":""},"","","","","","","","","","","","","","","","","","","","","","","","","","","","","","","","","","","","","","","","","","","","","","","","","","","","","","","","","","","","","","","",{"$f":"IF(AND(GO100>0,GO100<>\"\"),GO$108,\"\")","v":""},"","","","","","","","","","","","","","","","","","","","","","","","","","","","","","","","","","","","","","","","","","","","","","","","","","","","","","","","","","","","","","","",{"$f":"IF(AND(JA100>0,JA100<>\"\"),JA$108,\"\")","v":""},"","","","","","","","","","","","","","","","","","","","","","","","","","","","","","","","","","","","","","","","","","","","","","","","","","","","","","","","",""]
[null,"O9",null,{"$f":"IF(AND(D101>0,D101<>\"\"),D$108,\"\")","v":""},"","","","","","","","","","","","","","","","","","","","","","","","","","","","","","","","","","","","","","","","","","","","","","","","","","","","","","","","","","","","","","","","","","","","","","","","","","","","","","","","","","","","","","","","","","","","","","","","","","","","","","","","","","","","","","","","","","","","","","","","","","","","","","","","","","","","","","","","","","","","","","","","","","","","","","","","","","","","","","","","","","","","","","","","","","","","","","","","","","","","","","","","","","","","","","","","","","","","","","","","","","","","","","","","","","","","","","","","","","","","","","","","","","","","","","","","","","","","","","","","","","","","","","","","","","","","","","","","","","","","","","","","","","","","","","","","","","","","","","","","","","","","","","","","","","","","","","","","","","","","","","","","","","","","","","","","","",""]
[null,"O10",null,"",{"$f":"IF(AND(E102>0,E102<>\"\"),E$108,\"\")","v":""},"","","","","","","","","","","","","","","","","","","","","","","","","","","","","","","","","","","","","","","","","","","","","","","","","","","","","","","","","","","","","","","","","","","","","","","","","","","","","","","","","","","","","","","","","","","","","","","","","","","","","","","","","","","","","","","","","","","","","","","","","","","","","","","","","","","","","","","","","","","","","","","","","","","","","","","","","","","","","","","","","","","","","","","","","","","","","","","","","","","","","","","","","","","","","","","","","","","","","","","","","","","","","","","","","","","","","","","","","","","","","","","","","","","","","","","","","","","","","","","","","","","","","","","","","","","","","","","","","","","","","","","","","","","","","","","","","","","","","","","","","","","","","","","","","","","","","","","","","","","","","","","","","","","","","","","","",""]
[null,"O11",null,"","","","","","","","","","","","","","","","","","","","","","","","","","","","","","","","","","","","","","","","","","","","","","","","","","","","","","","","","","","","","","","","","","","","","","","","","","","","","","","","","","","","","","","","","","","","","","","","","","","","","","","","","","","","","","","","","","","","","","","","","","","","","","","","",{"$f":"IF(AND(EB103>0,EB103<>\"\"),EB$108,\"\")","v":""},"","","","","","","","","","","","","","","","","","","","","","","","","","","","","","","","","","","","","","","","","","","","","","","","","","","","","","","","","","","","","","","","","","","","","","","","","","","","","","","","","","","","","","","","","","","","","","","","","","","","","","","","","","","","","","","","","","","","","","","","","","","","","","","",{"$f":"IF(AND(IZ103>0,IZ103<>\"\"),IZ$108,\"\")","v":""},"","","","","","","","","","","","","","","","","","","","","","","","","","","","","","","","","","","","","","","","","","","","","","","","","","","","","","","","","",""]
[null,"O12",null,"","","","","","","","","","","","","","","","","","","","","","","","","","","","","","","","","","","","","","","","","","","","","","","","","","","","","","","","","","","","","","","","","",{"$f":"IF(AND(BQ104>0,BQ104<>\"\"),BQ$108,\"\")","v":""},"","","","","","","","","","","","","","","","","","","","","","","","","","","","","","","","","","","","","","","","","","","","","","","","","","","","","","","","","","","","","","","","","","","","","","","","","","","","","","","","","","","","","","","","","","","","","","","","","","","","","","","","","","","","","","","","","","","","","","","","","","","","","","","",{"$f":"IF(AND(GO104>0,GO104<>\"\"),GO$108,\"\")","v":""},"","","","","","","","","","","","","","","","","","","","","","","","","","","","","","","","","","","","","","","","","","","","","","","","","","","","","","","","","","","","","","","","","","","","","","","","","","","","","","","","","","","","","","","","","","","","","","","","","","","","","","","","","","","","","","","","","","","","","","","","",""]
[null,"O13",null,"","","","","","","","","","","","","","","","","","","","","","","","","","","","","","","","","","","","","","","","","","","","","","","","","","","","","","","","","","","","","","","","",{"$f":"IF(AND(BP105>0,BP105<>\"\"),BP$108,\"\")","v":""},"","","","","","","","","","","","","","","","","","","","","","","","","","","","","","","","","","","","","","","","","","","","","","","","","","","","","","","","","","","","","","","","","","","","","","","","","","","","","","","","","","","","","","","","","","","","","","","","","","","","","","","","","","","","","","","","","","","","","","","","","","","","","","","","","","","","","","","","","","","","","","","","","","","","","","","","","","","","","","","","","","","","","","","","","","","","","","","","","","","","","","","","","","","","","","","","","","","","","","","","","","","","","","","","","","","","","","","","","","","","","","","","","","","","","","","","","","","","","","","","","","","","","","","","","",""]
[null,"O14",null,"",{"$f":"IF(AND(E106>0,E106<>\"\"),E$108,\"\")","v":""},"","","","","","","","","","","","","","","","","","","","","","","","","","","","","","","","","","","","","","","","","","","","","","","","","","","","","","","","","","","","","","","","","","","","","","","","","","","","","","","","","","","","","","","","","","","","","","","","","","","","","","","","","","","","","","","","","","","","","","","","","","","","","","","","","","","","","","","","","","","","","","","","","","","","","","","","","","","","","","","","","","","","","","","","","","","","","","","","","","","","","","","","","","","","","","","","","","","","","","","","","","","","","","","","","","","","","","","","","","","","","","","","","","","","","","","","","","","","","","","","","","","","","","","","","","","","","","","","","","","","","","","","","","","","","","","","","","","","","","","","","","","","","","","","","","","","","","","","","","","","","","","","","","","","","","","","",""]
[null,"O18",null,"","","","","","","","","","","","","","","","","","","","","","","","","","","","","","","","","","","","","","","","","","","","","","","","","","","","","","","","","","","","","","","","","","","","","","","","","","","","","","","","","","","","","","","","","","","","","","","","","","","","","","","","","","","","","","","","","","","","","","","","","","","","","","","","","","","",{"$f":"IF(AND(EE107>0,EE107<>\"\"),EE$108,\"\")","v":""},"","","","","","","","","","","","","","","","","","","","","","","","","","","","","","","","","","","","","","","","","","","","","","","","","","","","","","","","","","","","","","","","","","","","","","","","","","","","","","","","","","","","","","","","","","","","","","","","","","","","","","","","","","","","","","","","","","","","","","","","","","","","","","","","","","","","","","","","","","","","","","","","","","","",{"$f":"IF(AND(JW107>0,JW107<>\"\"),JW$108,\"\")","v":""},"","","","","","","","","","","","","","","","","","","","","","","","","","","","","","","","","","",""]

{"sheet":"Parent Fidelity","index":7,"n_rows":75,"n_cols":28,"rows_kept":75,"cut":false,"hidden":false,"merged":[[2,25,2,27],[14,1,14,3],[14,5,14,7],[14,9,14,11],[14,13,14,15],[14,17,14,19],[14,21,14,23],[14,25,14,27],[2,1,2,3],[2,5,2,7],[2,9,2,11],[2,13,2,15],[2,17,2,19],[2,21,2,23],[26,25,26,27],[26,1,26,3],[26,5,26,7],[26,9,26,11],[26,13,26,15],[26,17,26,19],[26,21,26,23]]}
["Enter parent session fidelity data.",null,null,null,"Enter parent session fidelity data.",null,null,null,"Enter parent session fidelity data.",null,null,null,"Enter parent session fidelity data.",null,null,null,"Enter parent session fidelity data.",null,null,null,"Enter parent session fidelity data.",null,null,null,"Enter parent session fidelity data."]
[null,"DELIVERY 1",{"$f":"Attendance!$E$3","v":0},null,null,"DELIVERY 2",{"$f":"Attendance!$K$3","v":0},null,null,"DELIVERY 3",{"$f":"Attendance!$Q$3","v":0},null,null,"DELIVERY 4",{"$f":"Attendance!$W$3","v":0},null,null,"DELIVERY 5",{"$f":"Attendance!$AC$3","v":0},null,null,"DELIVERY 6",{"$f":"Attendance!$AI$3","v":0},null,null,"DELIVERY 7",{"$f":"Attendance!$AO$3","v":0}]
["Parent Session Observed",null,null,null,"Parent Session Observed",null,null,null,"Parent Session Observed",null,null,null,"Parent Session Observed",null,null,null,"Parent Session Observed",null,null,null,"Parent Session Observed",null,null,null,"Parent Session Observed"]
["Observer Name",null,null,null,"Observer Name",null,null,null,"Observer Name",null,null,null,"Observer Name",null,null,null,"Observer Name",null,null,null,"Observer Name",null,null,null,"Observer Name"]
["Observation Date",null,null,null,"Observation Date",null,null,null,"Observation Date",null,null,null,"Observation Date",null,null,null,"Observation Date",null,null,null,"Observation Date",null,null,null,"Observation Date"]
["Facilitator's Name",null,null,null,"Facilitator's Name",null,null,null,"Facilitator's Name",null,null,null,"Facilitator's Name",null,null,null,"Facilitator's Name",null,null,null,"Facilitator's Name",null,null,null,"Facilitator's Name"]
["Rated Component","Points Awarded by the Observer","Possible Points","Percentage","Rated Component","Points Awarded by the Observer","Possible Points","Percentage","Rated Component","Points Awarded by the Observer","Possible Points","Percentage","Rated Component","Points Awarded by the Observer","Possible Points","Percentage","Rated Component","Points Awarded by the Observer","Possible Points","Percentage","Rated Component","Points Awarded by the Observer","Possible Points","Percentage","Rated Component","Points Awarded by the Observer","Possible Points","Percentage"]
["Section 2 – Curriculum Adherence",null,{"$f":"IF(B3=\"\",\"TBD\",VLOOKUP('Parent Fidelity'!B3,LISTS!$B$2:$Q$8,12,FALSE))","v":"TBD"},{"$f":"IFERROR(B8/C8,0)","v":0},"Section 2 – Curriculum Adherence",null,{"$f":"IF(F3=\"\",\"TBD\",VLOOKUP('Parent Fidelity'!F3,LISTS!$B$2:$Q$8,12,FALSE))","v":"TBD"},{"$f":"IFERROR(F8/G8,0)","v":0},"Section 2 – Curriculum Adherence",null,{"$f":"IF(J3=\"\",\"TBD\",VLOOKUP('Parent Fidelity'!J3,LISTS!$B$2:$Q$8,12,FALSE))","v":"TBD"},{"$f":"IFERROR(J8/K8,0)","v":0},"Section 2 – Curriculum Adherence",null,{"$f":"IF(N3=\"\",\"TBD\",VLOOKUP('Parent Fidelity'!N3,LISTS!$B$2:$Q$8,12,FALSE))","v":"TBD"},{"$f":"IFERROR(N8/O8,0)","v":0},"Section 2 – Curriculum Adherence",null,{"$f":"IF(R3=\"\",\"TBD\",VLOOKUP('Parent Fidelity'!R3,LISTS!$B$2:$Q$8,12,FALSE))","v":"TBD"},{"$f":"IFERROR(R8/S8,0)","v":0},"Section 2 – Curriculum Adherence",null,{"$f":"IF(V3=\"\",\"TBD\",VLOOKUP('Parent Fidelity'!V3,LISTS!$B$2:$Q$8,12,FALSE))","v":"TBD"},{"$f":"IFERROR(V8/W8,0)","v":0},"Section 2 – Curriculum Adherence",null,{"$f":"IF(Z3=\"\",\"TBD\",VLOOKUP('Parent Fidelity'!Z3,LISTS!$B$2:$Q$8,12,FALSE))","v":"TBD"},{"$f":"IFERROR(Z8/AA8,0)","v":0}]
["Section 3 – Facilitator’s Delivery",null,57,0,"Section 3 – Facilitator’s Delivery",null,57,0,"Section 3 – Facilitator’s Delivery",null,57,0,"Section 3 – Facilitator’s Delivery",null,57,0,"Section 3 – Facilitator’s Delivery",null,57,0,"Section 3 – Facilitator’s Delivery",null,57,0,"Section 3 – Facilitator’s Delivery",null,57,0]
["Sub-Score for Curriculum and Delivery Adherence ",{"$f":"B8+B9","v":0},{"$f":"IF(B3=\"\",\"TBD\",VLOOKUP('Parent Fidelity'!B3,LISTS!$B$2:$Q$8,15,FALSE))","v":"TBD"},0,"Sub-Score for Curriculum and Delivery Adherence ",{"$f":"F8+F9","v":0},{"$f":"IF(F3=\"\",\"TBD\",VLOOKUP('Parent Fidelity'!F3,LISTS!$B$2:$Q$8,15,FALSE))","v":"TBD"},0,"Sub-Score for Curriculum and Delivery Adherence ",{"$f":"J8+J9","v":0},{"$f":"IF(J3=\"\",\"TBD\",VLOOKUP('Parent Fidelity'!J3,LISTS!$B$2:$Q$8,15,FALSE))","v":"TBD"},0,"Sub-Score for Curriculum and Delivery Adherence ",{"$f":"N8+N9","v":0},{"$f":"IF(N3=\"\",\"TBD\",VLOOKUP('Parent Fidelity'!N3,LISTS!$B$2:$Q$8,15,FALSE))","v":"TBD"},0,"Sub-Score for Curriculum and Delivery Adherence ",{"$f":"R8+R9","v":0},{"$f":"IF(R3=\"\",\"TBD\",VLOOKUP('Parent Fidelity'!R3,LISTS!$B$2:$Q$8,15,FALSE))","v":"TBD"},0,"Sub-Score for Curriculum and Delivery Adherence ",{"$f":"V8+V9","v":0},{"$f":"IF(V3=\"\",\"TBD\",VLOOKUP('Parent Fidelity'!V3,LISTS!$B$2:$Q$8,15,FALSE))","v":"TBD"},0,"Sub-Score for Curriculum and Delivery Adherence ",{"$f":"Z8+Z9","v":0},{"$f":"IF(Z3=\"\",\"TBD\",VLOOKUP('Parent Fidelity'!Z3,LISTS!$B$2:$Q$8,15,FALSE))","v":"TBD"},0]
["Section 1 - Room/Equipment",null,12,0,"Section 1 - Room/Equipment",null,12,0,"Section 1 - Room/Equipment",null,12,0,"Section 1 - Room/Equipment",null,12,0,"Section 1 - Room/Equipment",null,12,0,"Section 1 - Room/Equipment",null,12,0,"Section 1 - Room/Equipment",null,12,0]
["Section 4 – Group Participation",null,5,0,"Section 4 – Group Participation",null,5,0,"Section 4 – Group Participation",null,5,0,"Section 4 – Group Participation",null,5,0,"Section 4 – Group Participation",null,5,0,"Section 4 – Group Participation",null,5,0,"Section 4 – Group Participation",null,5,0]
["Overall Fidelity Score ",{"$f":"B8+B9+B11+B12","v":0},{"$f":"IF(B3=\"\",\"TBD\",VLOOKUP('Parent Fidelity'!B3,LISTS!$B$2:$Q$8,16,FALSE))","v":"TBD"},0,"Overall Fidelity Score ",{"$f":"F8+F9+F11+F12","v":0},{"$f":"IF(F3=\"\",\"TBD\",VLOOKUP('Parent Fidelity'!F3,LISTS!$B$2:$Q$8,16,FALSE))","v":"TBD"},0,"Overall Fidelity Score ",{"$f":"J8+J9+J11+J12","v":0},{"$f":"IF(J3=\"\",\"TBD\",VLOOKUP('Parent Fidelity'!J3,LISTS!$B$2:$Q$8,16,FALSE))","v":"TBD"},0,"Overall Fidelity Score ",{"$f":"N8+N9+N11+N12","v":0},{"$f":"IF(N3=\"\",\"TBD\",VLOOKUP('Parent Fidelity'!N3,LISTS!$B$2:$Q$8,16,FALSE))","v":"TBD"},0,"Overall Fidelity Score ",{"$f":"R8+R9+R11+R12","v":0},{"$f":"IF(R3=\"\",\"TBD\",VLOOKUP('Parent Fidelity'!R3,LISTS!$B$2:$Q$8,16,FALSE))","v":"TBD"},0,"Overall Fidelity Score ",{"$f":"V8+V9+V11+V12","v":0},{"$f":"IF(V3=\"\",\"TBD\",VLOOKUP('Parent Fidelity'!V3,LISTS!$B$2:$Q$8,16,FALSE))","v":"TBD"},0,"Overall Fidelity Score ",{"$f":"Z8+Z9+Z11+Z12","v":0},{"$f":"IF(Z3=\"\",\"TBD\",VLOOKUP('Parent Fidelity'!Z3,LISTS!$B$2:$Q$8,16,FALSE))","v":"TBD"},0]
[]
["Parent Session Observed",null,null,null,"Parent Session Observed",null,null,null,"Parent Session Observed",null,null,null,"Parent Session Observed",null,null,null,"Parent Session Observed",null,null,null,"Parent Session Observed",null,null,null,"Parent Session Observed"]
["Observer Name",null,null,null,"Observer Name",null,null,null,"Observer Name",null,null,null,"Observer Name",null,null,null,"Observer Name",null,null,null,"Observer Name",null,null,null,"Observer Name"]
["Observation Date",null,null,null,"Observation Date",null,null,null,"Observation Date",null,null,null,"Observation Date",null,null,null,"Observation Date",null,null,null,"Observation Date",null,null,null,"Observation Date"]
["Facilitator's Name",null,null,null,"Facilitator's Name",null,null,null,"Facilitator's Name",null,null,null,"Facilitator's Name",null,null,null,"Facilitator's Name",null,null,null,"Facilitator's Name",null,null,null,"Facilitator's Name"]
["Rated Component","Points Awarded by the Observer","Possible Points","Percentage","Rated Component","Points Awarded by the Observer","Possible Points","Percentage","Rated Component","Points Awarded by the Observer","Possible Points","Percentage","Rated Component","Points Awarded by the Observer","Possible Points","Percentage","Rated Component","Points Awarded by the Observer","Possible Points","Percentage","Rated Component","Points Awarded by the Observer","Possible Points","Percentage","Rated Component","Points Awarded by the Observer","Possible Points","Percentage"]
["Section 2 – Curriculum Adherence",null,{"$f":"IF(B15=\"\",\"TBD\",VLOOKUP('Parent Fidelity'!B15,LISTS!$B$2:$Q$8,12,FALSE))","v":"TBD"},{"$f":"IFERROR(B20/C20,0)","v":0},"Section 2 – Curriculum Adherence",null,{"$f":"IF(F15=\"\",\"TBD\",VLOOKUP('Parent Fidelity'!F15,LISTS!$B$2:$Q$8,12,FALSE))","v":"TBD"},{"$f":"IFERROR(F20/G20,0)","v":0},"Section 2 – Curriculum Adherence",null,{"$f":"IF(J15=\"\",\"TBD\",VLOOKUP('Parent Fidelity'!J15,LISTS!$B$2:$Q$8,12,FALSE))","v":"TBD"},{"$f":"IFERROR(J20/K20,0)","v":0},"Section 2 – Curriculum Adherence",null,{"$f":"IF(N15=\"\",\"TBD\",VLOOKUP('Parent Fidelity'!N15,LISTS!$B$2:$Q$8,12,FALSE))","v":"TBD"},{"$f":"IFERROR(N20/O20,0)","v":0},"Section 2 – Curriculum Adherence",null,{"$f":"IF(R15=\"\",\"TBD\",VLOOKUP('Parent Fidelity'!R15,LISTS!$B$2:$Q$8,12,FALSE))","v":"TBD"},{"$f":"IFERROR(R20/S20,0)","v":0},"Section 2 – Curriculum Adherence",null,{"$f":"IF(V15=\"\",\"TBD\",VLOOKUP('Parent Fidelity'!V15,LISTS!$B$2:$Q$8,12,FALSE))","v":"TBD"},{"$f":"IFERROR(V20/W20,0)","v":0},"Section 2 – Curriculum Adherence",null,{"$f":"IF(Z15=\"\",\"TBD\",VLOOKUP('Parent Fidelity'!Z15,LISTS!$B$2:$Q$8,12,FALSE))","v":"TBD"},{"$f":"IFERROR(Z20/AA20,0)","v":0}]
["Section 3 – Facilitator’s Delivery",null,57,0,"Section 3 – Facilitator’s Delivery",null,57,0,"Section 3 – Facilitator’s Delivery",null,57,0,"Section 3 – Facilitator’s Delivery",null,57,0,"Section 3 – Facilitator’s Delivery",null,57,0,"Section 3 – Facilitator’s Delivery",null,57,0,"Section 3 – Facilitator’s Delivery",null,57,0]
["Sub-Score for Curriculum and Delivery Adherence ",{"$f":"B20+B21","v":0},{"$f":"IF(B15=\"\",\"TBD\",VLOOKUP('Parent Fidelity'!B15,LISTS!$B$2:$Q$8,15,FALSE))","v":"TBD"},0,"Sub-Score for Curriculum and Delivery Adherence ",{"$f":"F20+F21","v":0},{"$f":"IF(F15=\"\",\"TBD\",VLOOKUP('Parent Fidelity'!F15,LISTS!$B$2:$Q$8,15,FALSE))","v":"TBD"},0,"Sub-Score for Curriculum and Delivery Adherence ",{"$f":"J20+J21","v":0},{"$f":"IF(J15=\"\",\"TBD\",VLOOKUP('Parent Fidelity'!J15,LISTS!$B$2:$Q$8,15,FALSE))","v":"TBD"},0,"Sub-Score for Curriculum and Delivery Adherence ",{"$f":"N20+N21","v":0},{"$f":"IF(N15=\"\",\"TBD\",VLOOKUP('Parent Fidelity'!N15,LISTS!$B$2:$Q$8,15,FALSE))","v":"TBD"},0,"Sub-Score for Curriculum and Delivery Adherence ",{"$f":"R20+R21","v":0},{"$f":"IF(R15=\"\",\"TBD\",VLOOKUP('Parent Fidelity'!R15,LISTS!$B$2:$Q$8,15,FALSE))","v":"TBD"},0,"Sub-Score for Curriculum and Delivery Adherence ",{"$f":"V20+V21","v":0},{"$f":"IF(V15=\"\",\"TBD\",VLOOKUP('Parent Fidelity'!V15,LISTS!$B$2:$Q$8,15,FALSE))","v":"TBD"},0,"Sub-Score for Curriculum and Delivery Adherence ",{"$f":"Z20+Z21","v":0},{"$f":"IF(Z15=\"\",\"TBD\",VLOOKUP('Parent Fidelity'!Z15,LISTS!$B$2:$Q$8,15,FALSE))","v":"TBD"},0]
["Section 1 - Room/Equipment",null,12,0,"Section 1 - Room/Equipment",null,12,0,"Section 1 - Room/Equipment",null,12,0,"Section 1 - Room/Equipment",null,12,0,"Section 1 - Room/Equipment",null,12,0,"Section 1 - Room/Equipment",null,12,0,"Section 1 - Room/Equipment",null,12,0]
["Section 4 – Group Participation",null,5,0,"Section 4 – Group Participation",null,5,0,"Section 4 – Group Participation",null,5,0,"Section 4 – Group Participation",null,5,0,"Section 4 – Group Participation",null,5,0,"Section 4 – Group Participation",null,5,0,"Section 4 – Group Participation",null,5,0]
["Overall Fidelity Score ",{"$f":"B20+B21+B23+B24","v":0},{"$f":"IF(B15=\"\",\"TBD\",VLOOKUP('Parent Fidelity'!B15,LISTS!$B$2:$Q$8,16,FALSE))","v":"TBD"},0,"Overall Fidelity Score ",{"$f":"F20+F21+F23+F24","v":0},{"$f":"IF(F15=\"\",\"TBD\",VLOOKUP('Parent Fidelity'!F15,LISTS!$B$2:$Q$8,16,FALSE))","v":"TBD"},0,"Overall Fidelity Score ",{"$f":"J20+J21+J23+J24","v":0},{"$f":"IF(J15=\"\",\"TBD\",VLOOKUP('Parent Fidelity'!J15,LISTS!$B$2:$Q$8,16,FALSE))","v":"TBD"},0,"Overall Fidelity Score ",{"$f":"N20+N21+N23+N24","v":0},{"$f":"IF(N15=\"\",\"TBD\",VLOOKUP('Parent Fidelity'!N15,LISTS!$B$2:$Q$8,16,FALSE))","v":"TBD"},0,"Overall Fidelity Score ",{"$f":"R20+R21+R23+R24","v":0},{"$f":"IF(R15=\"\",\"TBD\",VLOOKUP('Parent Fidelity'!R15,LISTS!$B$2:$Q$8,16,FALSE))","v":"TBD"},0,"Overall Fidelity Score ",{"$f":"V20+V21+V23+V24","v":0},{"$f":"IF(V15=\"\",\"TBD\",VLOOKUP('Parent Fidelity'!V15,LISTS!$B$2:$Q$8,16,FALSE))","v":"TBD"},0,"Overall Fidelity Score ",{"$f":"Z20+Z21+Z23+Z24","v":0},{"$f":"IF(Z15=\"\",\"TBD\",VLOOKUP('Parent Fidelity'!Z15,LISTS!$B$2:$Q$8,16,FALSE))","v":"TBD"},0]
[]
["Parent Session Observed",null,null,null,"Parent Session Observed",null,null,null,"Parent Session Observed",null,null,null,"Parent Session Observed",null,null,null,"Parent Session Observed",null,null,null,"Parent Session Observed",null,null,null,"Parent Session Observed"]
["Observer Name",null,null,null,"Observer Name",null,null,null,"Observer Name",null,null,null,"Observer Name",null,null,null,"Observer Name",null,null,null,"Observer Name",null,null,null,"Observer Name"]
["Observation Date",null,null,null,"Observation Date",null,null,null,"Observation Date",null,null,null,"Observation Date",null,null,null,"Observation Date",null,null,null,"Observation Date",null,null,null,"Observation Date"]
["Facilitator's Name",null,null,null,"Facilitator's Name",null,null,null,"Facilitator's Name",null,null,null,"Facilitator's Name",null,null,null,"Facilitator's Name",null,null,null,"Facilitator's Name",null,null,null,"Facilitator's Name"]
["Rated Component","Points Awarded by the Observer","Possible Points","Percentage","Rated Component","Points Awarded by the Observer","Possible Points","Percentage","Rated Component","Points Awarded by the Observer","Possible Points","Percentage","Rated Component","Points Awarded by the Observer","Possible Points","Percentage","Rated Component","Points Awarded by the Observer","Possible Points","Percentage","Rated Component","Points Awarded by the Observer","Possible Points","Percentage","Rated Component","Points Awarded by the Observer","Possible Points","Percentage"]
["Section 2 – Curriculum Adherence",null,{"$f":"IF(B27=\"\",\"TBD\",VLOOKUP('Parent Fidelity'!B27,LISTS!$B$2:$Q$8,12,FALSE))","v":"TBD"},{"$f":"IFERROR(B32/C32,0)","v":0},"Section 2 – Curriculum Adherence",null,{"$f":"IF(F27=\"\",\"TBD\",VLOOKUP('Parent Fidelity'!F27,LISTS!$B$2:$Q$8,12,FALSE))","v":"TBD"},{"$f":"IFERROR(F32/G32,0)","v":0},"Section 2 – Curriculum Adherence",null,{"$f":"IF(J27=\"\",\"TBD\",VLOOKUP('Parent Fidelity'!J27,LISTS!$B$2:$Q$8,12,FALSE))","v":"TBD"},{"$f":"IFERROR(J32/K32,0)","v":0},"Section 2 – Curriculum Adherence",null,{"$f":"IF(N27=\"\",\"TBD\",VLOOKUP('Parent Fidelity'!N27,LISTS!$B$2:$Q$8,12,FALSE))","v":"TBD"},{"$f":"IFERROR(N32/O32,0)","v":0},"Section 2 – Curriculum Adherence",null,{"$f":"IF(R27=\"\",\"TBD\",VLOOKUP('Parent Fidelity'!R27,LISTS!$B$2:$Q$8,12,FALSE))","v":"TBD"},{"$f":"IFERROR(R32/S32,0)","v":0},"Section 2 – Curriculum Adherence",null,{"$f":"IF(V27=\"\",\"TBD\",VLOOKUP('Parent Fidelity'!V27,LISTS!$B$2:$Q$8,12,FALSE))","v":"TBD"},{"$f":"IFERROR(V32/W32,0)","v":0},"Section 2 – Curriculum Adherence",null,{"$f":"IF(Z27=\"\",\"TBD\",VLOOKUP('Parent Fidelity'!Z27,LISTS!$B$2:$Q$8,12,FALSE))","v":"TBD"},{"$f":"IFERROR(Z32/AA32,0)","v":0}]
["Section 3 – Facilitator’s Delivery",null,57,0,"Section 3 – Facilitator’s Delivery",null,57,0,"Section 3 – Facilitator’s Delivery",null,57,0,"Section 3 – Facilitator’s Delivery",null,57,0,"Section 3 – Facilitator’s Delivery",null,57,0,"Section 3 – Facilitator’s Delivery",null,57,0,"Section 3 – Facilitator’s Delivery",null,57,0]
["Sub-Score for Curriculum and Delivery Adherence ",{"$f":"B32+B33","v":0},{"$f":"IF(B27=\"\",\"TBD\",VLOOKUP('Parent Fidelity'!B27,LISTS!$B$2:$Q$8,15,FALSE))","v":"TBD"},0,"Sub-Score for Curriculum and Delivery Adherence ",{"$f":"F32+F33","v":0},{"$f":"IF(F27=\"\",\"TBD\",VLOOKUP('Parent Fidelity'!F27,LISTS!$B$2:$Q$8,15,FALSE))","v":"TBD"},0,"Sub-Score for Curriculum and Delivery Adherence ",{"$f":"J32+J33","v":0},{"$f":"IF(J27=\"\",\"TBD\",VLOOKUP('Parent Fidelity'!J27,LISTS!$B$2:$Q$8,15,FALSE))","v":"TBD"},0,"Sub-Score for Curriculum and Delivery Adherence ",{"$f":"N32+N33","v":0},{"$f":"IF(N27=\"\",\"TBD\",VLOOKUP('Parent Fidelity'!N27,LISTS!$B$2:$Q$8,15,FALSE))","v":"TBD"},0,"Sub-Score for Curriculum and Delivery Adherence ",{"$f":"R32+R33","v":0},{"$f":"IF(R27=\"\",\"TBD\",VLOOKUP('Parent Fidelity'!R27,LISTS!$B$2:$Q$8,15,FALSE))","v":"TBD"},0,"Sub-Score for Curriculum and Delivery Adherence ",{"$f":"V32+V33","v":0},{"$f":"IF(V27=\"\",\"TBD\",VLOOKUP('Parent Fidelity'!V27,LISTS!$B$2:$Q$8,15,FALSE))","v":"TBD"},0,"Sub-Score for Curriculum and Delivery Adherence ",{"$f":"Z32+Z33","v":0},{"$f":"IF(Z27=\"\",\"TBD\",VLOOKUP('Parent Fidelity'!Z27,LISTS!$B$2:$Q$8,15,FALSE))","v":"TBD"},0]
["Section 1 - Room/Equipment",null,12,0,"Section 1 - Room/Equipment",null,12,0,"Section 1 - Room/Equipment",null,12,0,"Section 1 - Room/Equipment",null,12,0,"Section 1 - Room/Equipment",null,12,0,"Section 1 - Room/Equipment",null,12,0,"Section 1 - Room/Equipment",null,12,0]
["Section 4 – Group Participation",null,5,0,"Section 4 – Group Participation",null,5,0,"Section 4 – Group Participation",null,5,0,"Section 4 – Group Participation",null,5,0,"Section 4 – Group Participation",null,5,0,"Section 4 – Group Participation",null,5,0,"Section 4 – Group Participation",null,5,0]
["Overall Fidelity Score ",{"$f":"B32+B33+B35+B36","v":0},{"$f":"IF(B27=\"\",\"TBD\",VLOOKUP('Parent Fidelity'!B27,LISTS!$B$2:$Q$8,16,FALSE))","v":"TBD"},0,"Overall Fidelity Score ",{"$f":"F32+F33+F35+F36","v":0},{"$f":"IF(F27=\"\",\"TBD\",VLOOKUP('Parent Fidelity'!F27,LISTS!$B$2:$Q$8,16,FALSE))","v":"TBD"},0,"Overall Fidelity Score ",{"$f":"J32+J33+J35+J36","v":0},{"$f":"IF(J27=\"\",\"TBD\",VLOOKUP('Parent Fidelity'!J27,LISTS!$B$2:$Q$8,16,FALSE))","v":"TBD"},0,"Overall Fidelity Score ",{"$f":"N32+N33+N35+N36","v":0},{"$f":"IF(N27=\"\",\"TBD\",VLOOKUP('Parent Fidelity'!N27,LISTS!$B$2:$Q$8,16,FALSE))","v":"TBD"},0,"Overall Fidelity Score ",{"$f":"R32+R33+R35+R36","v":0},{"$f":"IF(R27=\"\",\"TBD\",VLOOKUP('Parent Fidelity'!R27,LISTS!$B$2:$Q$8,16,FALSE))","v":"TBD"},0,"Overall Fidelity Score ",{"$f":"V32+V33+V35+V36","v":0},{"$f":"IF(V27=\"\",\"TBD\",VLOOKUP('Parent Fidelity'!V27,LISTS!$B$2:$Q$8,16,FALSE))","v":"TBD"},0,"Overall Fidelity Score ",{"$f":"Z32+Z33+Z35+Z36","v":0},{"$f":"IF(Z27=\"\",\"TBD\",VLOOKUP('Parent Fidelity'!Z27,LISTS!$B$2:$Q$8,16,FALSE))","v":"TBD"},0]
[{"$f":"Instructions!A2","v":"Ver. 1.1 (1-6-2016)"}]
[]
["Parent Session Fidelity",null,null,null,"Parent Session Fidelity",null,null,null,"Parent Session Fidelity",null,null,null,"Parent Session Fidelity",null,null,null,"Parent Session Fidelity",null,null,null,"Parent Session Fidelity",null,null,null,"Parent Session Fidelity"]
["Section 1 - Room/Equipment",{"$f":"SUM(B35,B23,B11)","v":0},{"$f":"SUMIF(B11,\">0\",C11)+SUMIF(B23,\">0\",C23)+SUMIF(B35,\">0\",C35)","v":0},{"$f":"IFERROR(B41/C41,\"\")","v":""},"Section 1 - Room/Equipment",{"$f":"SUM(F35,F23,F11)","v":0},{"$f":"SUMIF(F11,\">0\",G11)+SUMIF(F23,\">0\",G23)+SUMIF(F35,\">0\",G35)","v":0},{"$f":"IFERROR(F41/G41,\"\")","v":""},"Section 1 - Room/Equipment",{"$f":"SUM(J35,J23,J11)","v":0},{"$f":"SUMIF(J11,\">0\",K11)+SUMIF(J23,\">0\",K23)+SUMIF(J35,\">0\",K35)","v":0},{"$f":"IFERROR(J41/K41,\"\")","v":""},"Section 1 - Room/Equipment",{"$f":"SUM(N35,N23,N11)","v":0},{"$f":"SUMIF(N11,\">0\",O11)+SUMIF(N23,\">0\",O23)+SUMIF(N35,\">0\",O35)","v":0},{"$f":"IFERROR(N41/O41,\"\")","v":""},"Section 1 - Room/Equipment",{"$f":"SUM(R35,R23,R11)","v":0},{"$f":"SUMIF(R11,\">0\",S11)+SUMIF(R23,\">0\",S23)+SUMIF(R35,\">0\",S35)","v":0},{"$f":"IFERROR(R41/S41,\"\")","v":""},"Section 1 - Room/Equipment",{"$f":"SUM(V35,V23,V11)","v":0},{"$f":"SUMIF(V11,\">0\",W11)+SUMIF(V23,\">0\",W23)+SUMIF(V35,\">0\",W35)","v":0},{"$f":"IFERROR(V41/W41,\"\")","v":""},"Section 1 - Room/Equipment",{"$f":"SUM(Z35,Z23,Z11)","v":0},{"$f":"SUMIF(Z11,\">0\",AA11)+SUMIF(Z23,\">0\",AA23)+SUMIF(Z35,\">0\",AA35)","v":0},{"$f":"IFERROR(Z41/AA41,\"\")","v":""}]
["Section 2 – Curriculum Adherence",{"$f":"SUM(B32,B20,B8)","v":0},{"$f":"SUMIF(B8,\">0\",C8)+SUMIF(B20,\">0\",C20)+SUMIF(B32,\">0\",C32)","v":0},{"$f":"IFERROR(B42/C42,\"\")","v":""},"Section 2 – Curriculum Adherence",{"$f":"SUM(F32,F20,F8)","v":0},{"$f":"SUMIF(F8,\">0\",G8)+SUMIF(F20,\">0\",G20)+SUMIF(F32,\">0\",G32)","v":0},"","Section 2 – Curriculum Adherence",{"$f":"SUM(J32,J20,J8)","v":0},{"$f":"SUMIF(J8,\">0\",K8)+SUMIF(J20,\">0\",K20)+SUMIF(J32,\">0\",K32)","v":0},"","Section 2 – Curriculum Adherence",{"$f":"SUM(N32,N20,N8)","v":0},{"$f":"SUMIF(N8,\">0\",O8)+SUMIF(N20,\">0\",O20)+SUMIF(N32,\">0\",O32)","v":0},"","Section 2 – Curriculum Adherence",{"$f":"SUM(R32,R20,R8)","v":0},{"$f":"SUMIF(R8,\">0\",S8)+SUMIF(R20,\">0\",S20)+SUMIF(R32,\">0\",S32)","v":0},"","Section 2 – Curriculum Adherence",{"$f":"SUM(V32,V20,V8)","v":0},{"$f":"SUMIF(V8,\">0\",W8)+SUMIF(V20,\">0\",W20)+SUMIF(V32,\">0\",W32)","v":0},"","Section 2 – Curriculum Adherence",{"$f":"SUM(Z32,Z20,Z8)","v":0},{"$f":"SUMIF(Z8,\">0\",AA8)+SUMIF(Z20,\">0\",AA20)+SUMIF(Z32,\">0\",AA32)","v":0},""]
["Section 3 – Facilitator’s Delivery",{"$f":"SUM(B33,B21,B9)","v":0},{"$f":"SUMIF(B9,\">0\",C9)+SUMIF(B21,\">0\",C21)+SUMIF(B33,\">0\",C33)","v":0},{"$f":"IFERROR(B43/C43,\"\")","v":""},"Section 3 – Facilitator’s Delivery",0,0,"","Section 3 – Facilitator’s Delivery",0,0,"","Section 3 – Facilitator’s Delivery",0,0,"","Section 3 – Facilitator’s Delivery",0,0,"","Section 3 – Facilitator’s Delivery",0,0,"","Section 3 – Facilitator’s Delivery",0,0,""]
["Section 4 – Group Participation",{"$f":"SUM(B36,B24,B12)","v":0},{"$f":"SUMIF(B12,\">0\",C12)+SUMIF(B24,\">0\",C24)+SUMIF(B36,\">0\",C36)","v":0},"","Section 4 – Group Participation",{"$f":"SUM(F36,F24,F12)","v":0},{"$f":"SUMIF(F12,\">0\",G12)+SUMIF(F24,\">0\",G24)+SUMIF(F36,\">0\",G36)","v":0},"","Section 4 – Group Participation",{"$f":"SUM(J36,J24,J12)","v":0},{"$f":"SUMIF(J12,\">0\",K12)+SUMIF(J24,\">0\",K24)+SUMIF(J36,\">0\",K36)","v":0},"","Section 4 – Group Participation",{"$f":"SUM(N36,N24,N12)","v":0},{"$f":"SUMIF(N12,\">0\",O12)+SUMIF(N24,\">0\",O24)+SUMIF(N36,\">0\",O36)","v":0},"","Section 4 – Group Participation",{"$f":"SUM(R36,R24,R12)","v":0},{"$f":"SUMIF(R12,\">0\",S12)+SUMIF(R24,\">0\",S24)+SUMIF(R36,\">0\",S36)","v":0},"","Section 4 – Group Participation",{"$f":"SUM(V36,V24,V12)","v":0},{"$f":"SUMIF(V12,\">0\",W12)+SUMIF(V24,\">0\",W24)+SUMIF(V36,\">0\",W36)","v":0},"","Section 4 – Group Participation",{"$f":"SUM(Z36,Z24,Z12)","v":0},{"$f":"SUMIF(Z12,\">0\",AA12)+SUMIF(Z24,\">0\",AA24)+SUMIF(Z36,\">0\",AA36)","v":0},""]
["TOTAL",{"$f":"SUM(B41:B44)","v":0},{"$f":"SUM(C41:C44)","v":0},"","TOTAL",{"$f":"SUM(F41:F44)","v":0},0,"","TOTAL",{"$f":"SUM(J41:J44)","v":0},0,"","TOTAL",{"$f":"SUM(N41:N44)","v":0},0,"","TOTAL",{"$f":"SUM(R41:R44)","v":0},0,"","TOTAL",{"$f":"SUM(V41:V44)","v":0},0,"","TOTAL",{"$f":"SUM(Z41:Z44)","v":0},0,""]
[]
[]
[]
[]
[]
[]
[]
[{"$f":"LISTS!$B$12","v":0.75}]
["This Delivery",{"$f":"SUM(B55:B58)","v":0},null,{"$f":"SUM(D55:D58)","v":0},null,{"$f":"SUM(F55:F58)","v":0},null,{"$f":"SUM(H55:H58)","v":0},null,{"$f":"SUM(J55:J58)","v":0},null,{"$f":"SUM(L55:L58)","v":0},null,{"$f":"SUM(N55:N58)","v":0},null,{"$f":"SUM(P55:P58)","v":0},null,{"$f":"SUM(R55:R58)","v":0},null,{"$f":"SUM(T55:T58)","v":0},null,{"$f":"SUM(V55:V58)","v":0},null,{"$f":"SUM(X55:X58)","v":0},null,{"$f":"SUM(Z55:Z58)","v":0},null,{"$f":"SUM(AB55:AB58)","v":0}]
["Oct-Dec",{"$f":"IF(C2=$A55,(COUNTIF(B34,\">0\")+COUNTIF(B22,\">0\")+COUNTIF(B10,\">0\")),\"\")","v":""},null,{"$f":"IF(C$2=$A55,(COUNTIF(D$34,\">=\"&LISTS!$B$12)+COUNTIF(D$22,\">=\"&LISTS!$B$12)+COUNTIF(D$10,\">=\"&LISTS!$B$12)),\"\")","v":""},null,{"$f":"IF(G2=$A55,(COUNTIF(F34,\">0\")+COUNTIF(F22,\">0\")+COUNTIF(F10,\">0\")),\"\")","v":""},null,{"$f":"IF(G$2=$A55,(COUNTIF(H$34,\">=\"&LISTS!$B$12)+COUNTIF(H$22,\">=\"&LISTS!$B$12)+COUNTIF(H$10,\">=\"&LISTS!$B$12)),\"\")","v":""},null,{"$f":"IF(K2=$A55,(COUNTIF(J34,\">0\")+COUNTIF(J22,\">0\")+COUNTIF(J10,\">0\")),\"\")","v":""},null,{"$f":"IF(K$2=$A55,(COUNTIF(L$34,\">=\"&LISTS!$B$12)+COUNTIF(L$22,\">=\"&LISTS!$B$12)+COUNTIF(L$10,\">=\"&LISTS!$B$12)),\"\")","v":""},null,{"$f":"IF(O2=$A55,(COUNTIF(N34,\">0\")+COUNTIF(N22,\">0\")+COUNTIF(N10,\">0\")),\"\")","v":""},null,{"$f":"IF(O$2=$A55,(COUNTIF(P$34,\">=\"&LISTS!$B$12)+COUNTIF(P$22,\">=\"&LISTS!$B$12)+COUNTIF(P$10,\">=\"&LISTS!$B$12)),\"\")","v":""},null,{"$f":"IF(S2=$A55,(COUNTIF(R34,\">0\")+COUNTIF(R22,\">0\")+COUNTIF(R10,\">0\")),\"\")","v":""},null,{"$f":"IF(S$2=$A55,(COUNTIF(T$34,\">=\"&LISTS!$B$12)+COUNTIF(T$22,\">=\"&LISTS!$B$12)+COUNTIF(T$10,\">=\"&LISTS!$B$12)),\"\")","v":""},null,{"$f":"IF(W2=$A55,(COUNTIF(V34,\">0\")+COUNTIF(V22,\">0\")+COUNTIF(V10,\">0\")),\"\")","v":""},null,{"$f":"IF(W$2=$A55,(COUNTIF(X$34,\">=\"&LISTS!$B$12)+COUNTIF(X$22,\">=\"&LISTS!$B$12)+COUNTIF(X$10,\">=\"&LISTS!$B$12)),\"\")","v":""},null,{"$f":"IF(AA2=$A55,(COUNTIF(Z34,\">0\")+COUNTIF(Z22,\">0\")+COUNTIF(Z10,\">0\")),\"\")","v":""},null,{"$f":"IF(AA$2=$A55,(COUNTIF(AB$34,\">=\"&LISTS!$B$12)+COUNTIF(AB$22,\">=\"&LISTS!$B$12)+COUNTIF(AB$10,\">=\"&LISTS!$B$12)),\"\")","v":""}]
["Jan-Mar",{"$f":"IF(C2=$A56,(COUNTIF(B34,\">0\")+COUNTIF(B22,\">0\")+COUNTIF(B10,\">0\")),\"\")","v":""},null,{"$f":"IF(C$2=$A56,(COUNTIF(D$34,\">=\"&LISTS!$B$12)+COUNTIF(D$22,\">=\"&LISTS!$B$12)+COUNTIF(D$10,\">=\"&LISTS!$B$12)),\"\")","v":""},null,{"$f":"IF(G2=$A56,(COUNTIF(F34,\">0\")+COUNTIF(F22,\">0\")+COUNTIF(F10,\">0\")),\"\")","v":""},null,{"$f":"IF(G$2=$A56,(COUNTIF(H$34,\">=\"&LISTS!$B$12)+COUNTIF(H$22,\">=\"&LISTS!$B$12)+COUNTIF(H$10,\">=\"&LISTS!$B$12)),\"\")","v":""},null,{"$f":"IF(K2=$A56,(COUNTIF(J34,\">0\")+COUNTIF(J22,\">0\")+COUNTIF(J10,\">0\")),\"\")","v":""},null,{"$f":"IF(K$2=$A56,(COUNTIF(L$34,\">=\"&LISTS!$B$12)+COUNTIF(L$22,\">=\"&LISTS!$B$12)+COUNTIF(L$10,\">=\"&LISTS!$B$12)),\"\")","v":""},null,{"$f":"IF(O2=$A56,(COUNTIF(N34,\">0\")+COUNTIF(N22,\">0\")+COUNTIF(N10,\">0\")),\"\")","v":""},null,{"$f":"IF(O$2=$A56,(COUNTIF(P$34,\">=\"&LISTS!$B$12)+COUNTIF(P$22,\">=\"&LISTS!$B$12)+COUNTIF(P$10,\">=\"&LISTS!$B$12)),\"\")","v":""},null,{"$f":"IF(S2=$A56,(COUNTIF(R34,\">0\")+COUNTIF(R22,\">0\")+COUNTIF(R10,\">0\")),\"\")","v":""},null,{"$f":"IF(S$2=$A56,(COUNTIF(T$34,\">=\"&LISTS!$B$12)+COUNTIF(T$22,\">=\"&LISTS!$B$12)+COUNTIF(T$10,\">=\"&LISTS!$B$12)),\"\")","v":""},null,{"$f":"IF(W2=$A56,(COUNTIF(V34,\">0\")+COUNTIF(V22,\">0\")+COUNTIF(V10,\">0\")),\"\")","v":""},null,{"$f":"IF(W$2=$A56,(COUNTIF(X$34,\">=\"&LISTS!$B$12)+COUNTIF(X$22,\">=\"&LISTS!$B$12)+COUNTIF(X$10,\">=\"&LISTS!$B$12)),\"\")","v":""},null,{"$f":"IF(AA2=$A56,(COUNTIF(Z34,\">0\")+COUNTIF(Z22,\">0\")+COUNTIF(Z10,\">0\")),\"\")","v":""},null,{"$f":"IF(AA$2=$A56,(COUNTIF(AB$34,\">=\"&LISTS!$B$12)+COUNTIF(AB$22,\">=\"&LISTS!$B$12)+COUNTIF(AB$10,\">=\"&LISTS!$B$12)),\"\")","v":""}]
["Apr-Jun",{"$f":"IF(C2=$A57,(COUNTIF(B34,\">0\")+COUNTIF(B22,\">0\")+COUNTIF(B10,\">0\")),\"\")","v":""},null,{"$f":"IF(C$2=$A57,(COUNTIF(D$34,\">=\"&LISTS!$B$12)+COUNTIF(D$22,\">=\"&LISTS!$B$12)+COUNTIF(D$10,\">=\"&LISTS!$B$12)),\"\")","v":""},null,{"$f":"IF(G2=$A57,(COUNTIF(F34,\">0\")+COUNTIF(F22,\">0\")+COUNTIF(F10,\">0\")),\"\")","v":""},null,{"$f":"IF(G$2=$A57,(COUNTIF(H$34,\">=\"&LISTS!$B$12)+COUNTIF(H$22,\">=\"&LISTS!$B$12)+COUNTIF(H$10,\">=\"&LISTS!$B$12)),\"\")","v":""},null,{"$f":"IF(K2=$A57,(COUNTIF(J34,\">0\")+COUNTIF(J22,\">0\")+COUNTIF(J10,\">0\")),\"\")","v":""},null,{"$f":"IF(K$2=$A57,(COUNTIF(L$34,\">=\"&LISTS!$B$12)+COUNTIF(L$22,\">=\"&LISTS!$B$12)+COUNTIF(L$10,\">=\"&LISTS!$B$12)),\"\")","v":""},null,{"$f":"IF(O2=$A57,(COUNTIF(N34,\">0\")+COUNTIF(N22,\">0\")+COUNTIF(N10,\">0\")),\"\")","v":""},null,{"$f":"IF(O$2=$A57,(COUNTIF(P$34,\">=\"&LISTS!$B$12)+COUNTIF(P$22,\">=\"&LISTS!$B$12)+COUNTIF(P$10,\">=\"&LISTS!$B$12)),\"\")","v":""},null,{"$f":"IF(S2=$A57,(COUNTIF(R34,\">0\")+COUNTIF(R22,\">0\")+COUNTIF(R10,\">0\")),\"\")","v":""},null,{"$f":"IF(S$2=$A57,(COUNTIF(T$34,\">=\"&LISTS!$B$12)+COUNTIF(T$22,\">=\"&LISTS!$B$12)+COUNTIF(T$10,\">=\"&LISTS!$B$12)),\"\")","v":""},null,{"$f":"IF(W2=$A57,(COUNTIF(V34,\">0\")+COUNTIF(V22,\">0\")+COUNTIF(V10,\">0\")),\"\")","v":""},null,{"$f":"IF(W$2=$A57,(COUNTIF(X$34,\">=\"&LISTS!$B$12)+COUNTIF(X$22,\">=\"&LISTS!$B$12)+COUNTIF(X$10,\">=\"&LISTS!$B$12)),\"\")","v":""},null,{"$f":"IF(AA2=$A57,(COUNTIF(Z34,\">0\")+COUNTIF(Z22,\">0\")+COUNTIF(Z10,\">0\")),\"\")","v":""},null,{"$f":"IF(AA$2=$A57,(COUNTIF(AB$34,\">=\"&LISTS!$B$12)+COUNTIF(AB$22,\">=\"&LISTS!$B$12)+COUNTIF(AB$10,\">=\"&LISTS!$B$12)),\"\")","v":""}]
["Jul-Sep",{"$f":"IF(C2=$A58,(COUNTIF(B34,\">0\")+COUNTIF(B22,\">0\")+COUNTIF(B10,\">0\")),\"\")","v":""},null,{"$f":"IF(C$2=$A58,(COUNTIF(D$34,\">=\"&LISTS!$B$12)+COUNTIF(D$22,\">=\"&LISTS!$B$12)+COUNTIF(D$10,\">=\"&LISTS!$B$12)),\"\")","v":""},null,{"$f":"IF(G2=$A58,(COUNTIF(F34,\">0\")+COUNTIF(F22,\">0\")+COUNTIF(F10,\">0\")),\"\")","v":""},null,{"$f":"IF(G$2=$A58,(COUNTIF(H$34,\">=\"&LISTS!$B$12)+COUNTIF(H$22,\">=\"&LISTS!$B$12)+COUNTIF(H$10,\">=\"&LISTS!$B$12)),\"\")","v":""},null,{"$f":"IF(K2=$A58,(COUNTIF(J34,\">0\")+COUNTIF(J22,\">0\")+COUNTIF(J10,\">0\")),\"\")","v":""},null,{"$f":"IF(K$2=$A58,(COUNTIF(L$34,\">=\"&LISTS!$B$12)+COUNTIF(L$22,\">=\"&LISTS!$B$12)+COUNTIF(L$10,\">=\"&LISTS!$B$12)),\"\")","v":""},null,{"$f":"IF(O2=$A58,(COUNTIF(N34,\">0\")+COUNTIF(N22,\">0\")+COUNTIF(N10,\">0\")),\"\")","v":""},null,{"$f":"IF(O$2=$A58,(COUNTIF(P$34,\">=\"&LISTS!$B$12)+COUNTIF(P$22,\">=\"&LISTS!$B$12)+COUNTIF(P$10,\">=\"&LISTS!$B$12)),\"\")","v":""},null,{"$f":"IF(S2=$A58,(COUNTIF(R34,\">0\")+COUNTIF(R22,\">0\")+COUNTIF(R10,\">0\")),\"\")","v":""},null,{"$f":"IF(S$2=$A58,(COUNTIF(T$34,\">=\"&LISTS!$B$12)+COUNTIF(T$22,\">=\"&LISTS!$B$12)+COUNTIF(T$10,\">=\"&LISTS!$B$12)),\"\")","v":""},null,{"$f":"IF(W2=$A58,(COUNTIF(V34,\">0\")+COUNTIF(V22,\">0\")+COUNTIF(V10,\">0\")),\"\")","v":""},null,{"$f":"IF(W$2=$A58,(COUNTIF(X$34,\">=\"&LISTS!$B$12)+COUNTIF(X$22,\">=\"&LISTS!$B$12)+COUNTIF(X$10,\">=\"&LISTS!$B$12)),\"\")","v":""},null,{"$f":"IF(AA2=$A58,(COUNTIF(Z34,\">0\")+COUNTIF(Z22,\">0\")+COUNTIF(Z10,\">0\")),\"\")","v":""},null,{"$f":"IF(AA$2=$A58,(COUNTIF(AB$34,\">=\"&LISTS!$B$12)+COUNTIF(AB$22,\">=\"&LISTS!$B$12)+COUNTIF(AB$10,\">=\"&LISTS!$B$12)),\"\")","v":""}]
["TOTAL all Deliveries",{"$f":"SUM(B60:B63)","v":0},null,{"$f":"SUM(D60:D63)","v":0},null,{"$f":"SUM(F60:F63)","v":0},null,{"$f":"SUM(H60:H63)","v":0},null,{"$f":"SUM(J60:J63)","v":0},null,{"$f":"SUM(L60:L63)","v":0},null,{"$f":"SUM(N60:N63)","v":0},null,{"$f":"SUM(P60:P63)","v":0},null,{"$f":"SUM(R60:R63)","v":0},null,{"$f":"SUM(T60:T63)","v":0},null,{"$f":"SUM(V60:V63)","v":0},null,{"$f":"SUM(X60:X63)","v":0},null,{"$f":"SUM(Z60:Z63)","v":0},null,{"$f":"SUM(AB60:AB63)","v":0}]
["Oct-Dec",{"$f":"SUM(B55,F55,J55,N55,R55,V55,Z55)","v":0},null,{"$f":"SUM(D55,H55,L55,P55,T55,X55,AB55)","v":0}]
["Jan-Mar",{"$f":"SUM(B56,F56,J56,N56,R56,V56,Z56)","v":0},null,{"$f":"SUM(D56,H56,L56,P56,T56,X56,AB56)","v":0}]
["Apr-Jun",0,null,0]
["Jul-Sep",{"$f":"SUM(B58,F58,J58,N58,R58,V58,Z58)","v":0},null,0]
[]
["Par Sess 2 - Making House Rules",null,{"$f":"COUNTIF(B$3:D$27,$A65)","v":0},null,null,null,{"$f":"COUNTIF(F$3:H$27,$A65)","v":0},null,null,null,0,null,null,null,0,null,null,null,0,null,null,null,0,null,null,null,0]
["Par Sess 3 - Encouraging Good Behavior",null,0,null,null,null,0,null,null,null,0,null,null,null,0,null,null,null,0,null,null,null,0,null,null,null,0]
["Par Sess 4 - Using Consequesnces",null,0,null,null,null,0,null,null,null,0,null,null,null,0,null,null,null,0,null,null,null,0,null,null,null,0]
["Par Sess 5 - Building Bridges",null,0,null,null,null,0,null,null,null,0,null,null,null,0,null,null,null,0,null,null,null,0,null,null,null,0]
["Par Sess 6 - Protecting Against Substance Abuse",null,0,null,null,null,0,null,null,null,0,null,null,null,0,null,null,null,0,null,null,null,0,null,null,null,0]
[]
[]
["Section 1 - Room/Equipment",{"$f":"IF(COUNTIF(B11,\">=0\")+COUNTIF(B23,\">=0\")+COUNTIF(B35,\">=0\")>0,COUNTIF(B11,\">=0\")+COUNTIF(B23,\">=0\")+COUNTIF(B35,\">=0\"),\"\")","v":""},null,null,null,{"$f":"IF(COUNTIF(F11,\">=0\")+COUNTIF(F23,\">=0\")+COUNTIF(F35,\">=0\")>0,COUNTIF(F11,\">=0\")+COUNTIF(F23,\">=0\")+COUNTIF(F35,\">=0\"),\"\")","v":""},null,null,null,{"$f":"IF(COUNTIF(J11,\">=0\")+COUNTIF(J23,\">=0\")+COUNTIF(J35,\">=0\")>0,COUNTIF(J11,\">=0\")+COUNTIF(J23,\">=0\")+COUNTIF(J35,\">=0\"),\"\")","v":""},null,null,null,{"$f":"IF(COUNTIF(N11,\">=0\")+COUNTIF(N23,\">=0\")+COUNTIF(N35,\">=0\")>0,COUNTIF(N11,\">=0\")+COUNTIF(N23,\">=0\")+COUNTIF(N35,\">=0\"),\"\")","v":""},null,null,null,{"$f":"IF(COUNTIF(R11,\">=0\")+COUNTIF(R23,\">=0\")+COUNTIF(R35,\">=0\")>0,COUNTIF(R11,\">=0\")+COUNTIF(R23,\">=0\")+COUNTIF(R35,\">=0\"),\"\")","v":""},null,null,null,{"$f":"IF(COUNTIF(V11,\">=0\")+COUNTIF(V23,\">=0\")+COUNTIF(V35,\">=0\")>0,COUNTIF(V11,\">=0\")+COUNTIF(V23,\">=0\")+COUNTIF(V35,\">=0\"),\"\")","v":""},null,null,null,{"$f":"IF(COUNTIF(Z11,\">=0\")+COUNTIF(Z23,\">=0\")+COUNTIF(Z35,\">=0\")>0,COUNTIF(Z11,\">=0\")+COUNTIF(Z23,\">=0\")+COUNTIF(Z35,\">=0\"),\"\")","v":""}]
["Section 2 – Curriculum Adherence",{"$f":"IF(COUNTIF(B8,\">=0\")+COUNTIF(B20,\">=0\")+COUNTIF(B32,\">=0\")>0,COUNTIF(B8,\">=0\")+COUNTIF(B20,\">=0\")+COUNTIF(B32,\">=0\"),\"\")","v":""},null,null,null,{"$f":"IF(COUNTIF(F8,\">=0\")+COUNTIF(F20,\">=0\")+COUNTIF(F32,\">=0\")>0,COUNTIF(F8,\">=0\")+COUNTIF(F20,\">=0\")+COUNTIF(F32,\">=0\"),\"\")","v":""},null,null,null,{"$f":"IF(COUNTIF(J8,\">=0\")+COUNTIF(J20,\">=0\")+COUNTIF(J32,\">=0\")>0,COUNTIF(J8,\">=0\")+COUNTIF(J20,\">=0\")+COUNTIF(J32,\">=0\"),\"\")","v":""},null,null,null,{"$f":"IF(COUNTIF(N8,\">=0\")+COUNTIF(N20,\">=0\")+COUNTIF(N32,\">=0\")>0,COUNTIF(N8,\">=0\")+COUNTIF(N20,\">=0\")+COUNTIF(N32,\">=0\"),\"\")","v":""},null,null,null,{"$f":"IF(COUNTIF(R8,\">=0\")+COUNTIF(R20,\">=0\")+COUNTIF(R32,\">=0\")>0,COUNTIF(R8,\">=0\")+COUNTIF(R20,\">=0\")+COUNTIF(R32,\">=0\"),\"\")","v":""},null,null,null,{"$f":"IF(COUNTIF(V8,\">=0\")+COUNTIF(V20,\">=0\")+COUNTIF(V32,\">=0\")>0,COUNTIF(V8,\">=0\")+COUNTIF(V20,\">=0\")+COUNTIF(V32,\">=0\"),\"\")","v":""},null,null,null,{"$f":"IF(COUNTIF(Z8,\">=0\")+COUNTIF(Z20,\">=0\")+COUNTIF(Z32,\">=0\")>0,COUNTIF(Z8,\">=0\")+COUNTIF(Z20,\">=0\")+COUNTIF(Z32,\">=0\"),\"\")","v":""}]
["Section 3 – Facilitator’s Delivery",{"$f":"IF(COUNTIF(B9,\">=0\")+COUNTIF(B21,\">=0\")+COUNTIF(B33,\">=0\")>0,COUNTIF(B9,\">=0\")+COUNTIF(B21,\">=0\")+COUNTIF(B33,\">=0\"),\"\")","v":""},null,null,null,{"$f":"IF(COUNTIF(F9,\">=0\")+COUNTIF(F21,\">=0\")+COUNTIF(F33,\">=0\")>0,COUNTIF(F9,\">=0\")+COUNTIF(F21,\">=0\")+COUNTIF(F33,\">=0\"),\"\")","v":""},null,null,null,{"$f":"IF(COUNTIF(J9,\">=0\")+COUNTIF(J21,\">=0\")+COUNTIF(J33,\">=0\")>0,COUNTIF(J9,\">=0\")+COUNTIF(J21,\">=0\")+COUNTIF(J33,\">=0\"),\"\")","v":""},null,null,null,{"$f":"IF(COUNTIF(N9,\">=0\")+COUNTIF(N21,\">=0\")+COUNTIF(N33,\">=0\")>0,COUNTIF(N9,\">=0\")+COUNTIF(N21,\">=0\")+COUNTIF(N33,\">=0\"),\"\")","v":""},null,null,null,{"$f":"IF(COUNTIF(R9,\">=0\")+COUNTIF(R21,\">=0\")+COUNTIF(R33,\">=0\")>0,COUNTIF(R9,\">=0\")+COUNTIF(R21,\">=0\")+COUNTIF(R33,\">=0\"),\"\")","v":""},null,null,null,{"$f":"IF(COUNTIF(V9,\">=0\")+COUNTIF(V21,\">=0\")+COUNTIF(V33,\">=0\")>0,COUNTIF(V9,\">=0\")+COUNTIF(V21,\">=0\")+COUNTIF(V33,\">=0\"),\"\")","v":""},null,null,null,{"$f":"IF(COUNTIF(Z9,\">=0\")+COUNTIF(Z21,\">=0\")+COUNTIF(Z33,\">=0\")>0,COUNTIF(Z9,\">=0\")+COUNTIF(Z21,\">=0\")+COUNTIF(Z33,\">=0\"),\"\")","v":""}]
["Section 4 – Group Participation",{"$f":"IF(COUNTIF(B12,\">=0\")+COUNTIF(B24,\">=0\")+COUNTIF(B36,\">=0\")>0,COUNTIF(B12,\">=0\")+COUNTIF(B24,\">=0\")+COUNTIF(B36,\">=0\"),\"\")","v":""},null,null,null,{"$f":"IF(COUNTIF(F12,\">=0\")+COUNTIF(F24,\">=0\")+COUNTIF(F36,\">=0\")>0,COUNTIF(F12,\">=0\")+COUNTIF(F24,\">=0\")+COUNTIF(F36,\">=0\"),\"\")","v":""},null,null,null,{"$f":"IF(COUNTIF(J12,\">=0\")+COUNTIF(J24,\">=0\")+COUNTIF(J36,\">=0\")>0,COUNTIF(J12,\">=0\")+COUNTIF(J24,\">=0\")+COUNTIF(J36,\">=0\"),\"\")","v":""},null,null,null,{"$f":"IF(COUNTIF(N12,\">=0\")+COUNTIF(N24,\">=0\")+COUNTIF(N36,\">=0\")>0,COUNTIF(N12,\">=0\")+COUNTIF(N24,\">=0\")+COUNTIF(N36,\">=0\"),\"\")","v":""},null,null,null,{"$f":"IF(COUNTIF(R12,\">=0\")+COUNTIF(R24,\">=0\")+COUNTIF(R36,\">=0\")>0,COUNTIF(R12,\">=0\")+COUNTIF(R24,\">=0\")+COUNTIF(R36,\">=0\"),\"\")","v":""},null,null,null,{"$f":"IF(COUNTIF(V12,\">=0\")+COUNTIF(V24,\">=0\")+COUNTIF(V36,\">=0\")>0,COUNTIF(V12,\">=0\")+COUNTIF(V24,\">=0\")+COUNTIF(V36,\">=0\"),\"\")","v":""},null,null,null,{"$f":"IF(COUNTIF(Z12,\">=0\")+COUNTIF(Z24,\">=0\")+COUNTIF(Z36,\">=0\")>0,COUNTIF(Z12,\">=0\")+COUNTIF(Z24,\">=0\")+COUNTIF(Z36,\">=0\"),\"\")","v":""}]

{"sheet":"Youth Fidelity","index":8,"n_rows":76,"n_cols":28,"rows_kept":76,"cut":false,"hidden":false,"merged":[[28,25,28,27],[28,1,28,3],[28,5,28,7],[28,9,28,11],[28,13,28,15],[28,17,28,19],[28,21,28,23],[2,21,2,23],[2,25,2,27],[15,1,15,3],[15,5,15,7],[15,9,15,11],[15,13,15,15],[15,17,15,19],[15,21,15,23],[15,25,15,27],[2,1,2,3],[2,5,2,7],[2,9,2,11],[2,13,2,15],[2,17,2,19]]}
["Enter youth session fidelity data.",null,null,null,"Enter youth session fidelity data.",null,null,null,"Enter youth session fidelity data.",null,null,null,"Enter youth session fidelity data.",null,null,null,"Enter youth session fidelity data.",null,null,null,"Enter youth session fidelity data.",null,null,null,"Enter youth session fidelity data."]
[null,"DELIVERY 1",{"$f":"Attendance!$E$3","v":0},null,null,"DELIVERY 2",{"$f":"Attendance!$K$3","v":0},null,null,"DELIVERY 3",{"$f":"Attendance!$Q$3","v":0},null,null,"DELIVERY 4",{"$f":"Attendance!$W$3","v":0},null,null,"DELIVERY 5",{"$f":"Attendance!$AC$3","v":0},null,null,"DELIVERY 6",{"$f":"Attendance!$AI$3","v":0},null,null,"DELIVERY 7",{"$f":"Attendance!$AO$3","v":0}]
["Youth Session Observed",null,null,null,"Youth Session Observed",null,null,null,"Youth Session Observed",null,null,null,"Youth Session Observed",null,null,null,"Youth Session Observed",null,null,null,"Youth Session Observed",null,null,null,"Youth Session Observed"]
["Observer Name",null,null,null,"Observer Name",null,null,null,"Observer Name",null,null,null,"Observer Name",null,null,null,"Observer Name",null,null,null,"Observer Name",null,null,null,"Observer Name"]
["Observation Date",null,null,null,"Observation Date",null,null,null,"Observation Date",null,null,null,"Observation Date",null,null,null,"Observation Date",null,null,null,"Observation Date",null,null,null,"Observation Date"]
["Facilitator's Name",null,null,null,"Facilitator's Name",null,null,null,"Facilitator's Name",null,null,null,"Facilitator's Name",null,null,null,"Facilitator's Name",null,null,null,"Facilitator's Name",null,null,null,"Facilitator's Name"]
["Rated Component","Points Awarded by the Observer","Possible Points","Percentage","Rated Component","Points Awarded by the Observer","Possible Points","Percentage","Rated Component","Points Awarded by the Observer","Possible Points","Percentage","Rated Component","Points Awarded by the Observer","Possible Points","Percentage","Rated Component","Points Awarded by the Observer","Possible Points","Percentage","Rated Component","Points Awarded by the Observer","Possible Points","Percentage","Rated Component","Points Awarded by the Observer","Possible Points","Percentage"]
["Section 2 – Curriculum Adherence",null,{"$f":"IF(B3=\"\",\"TBD\",VLOOKUP('Youth Fidelity'!B3,LISTS!$C$2:$X$8,17,FALSE))","v":"TBD"},{"$f":"IFERROR(B8/C8,0)","v":0},"Section 2 – Curriculum Adherence",null,{"$f":"IF(F3=\"\",\"TBD\",VLOOKUP('Youth Fidelity'!F3,LISTS!$C$2:$X$8,17,FALSE))","v":"TBD"},{"$f":"IFERROR(F8/G8,0)","v":0},"Section 2 – Curriculum Adherence",null,{"$f":"IF(J3=\"\",\"TBD\",VLOOKUP('Youth Fidelity'!J3,LISTS!$C$2:$X$8,17,FALSE))","v":"TBD"},{"$f":"IFERROR(J8/K8,0)","v":0},"Section 2 – Curriculum Adherence",null,{"$f":"IF(N3=\"\",\"TBD\",VLOOKUP('Youth Fidelity'!N3,LISTS!$C$2:$X$8,17,FALSE))","v":"TBD"},{"$f":"IFERROR(N8/O8,0)","v":0},"Section 2 – Curriculum Adherence",null,{"$f":"IF(R3=\"\",\"TBD\",VLOOKUP('Youth Fidelity'!R3,LISTS!$C$2:$X$8,17,FALSE))","v":"TBD"},{"$f":"IFERROR(R8/S8,0)","v":0},"Section 2 – Curriculum Adherence",null,{"$f":"IF(V3=\"\",\"TBD\",VLOOKUP('Youth Fidelity'!V3,LISTS!$C$2:$X$8,17,FALSE))","v":"TBD"},{"$f":"IFERROR(V8/W8,0)","v":0},"Section 2 – Curriculum Adherence",null,{"$f":"IF(Z3=\"\",\"TBD\",VLOOKUP('Youth Fidelity'!Z3,LISTS!$C$2:$X$8,17,FALSE))","v":"TBD"},{"$f":"IFERROR(Z8/AA8,0)","v":0}]
["Section 3 – Youth Facilitator 1's Delivery",null,57,{"$f":"IFERROR(B9/C9,0)","v":0},"Section 3 – Youth Facilitator 1's Delivery",null,57,{"$f":"IFERROR(F9/G9,0)","v":0},"Section 3 – Youth Facilitator 1's Delivery",null,57,{"$f":"IFERROR(J9/K9,0)","v":0},"Section 3 – Youth Facilitator 1's Delivery",null,57,{"$f":"IFERROR(N9/O9,0)","v":0},"Section 3 – Youth Facilitator 1's Delivery",null,57,{"$f":"IFERROR(R9/S9,0)","v":0},"Section 3 – Youth Facilitator 1's Delivery",null,57,{"$f":"IFERROR(V9/W9,0)","v":0},"Section 3 – Youth Facilitator 1's Delivery",null,57,{"$f":"IFERROR(Z9/AA9,0)","v":0}]
["Section 4 – Youth Facilitator 2's Delivery",null,57,0,"Section 4 – Youth Facilitator 2's Delivery",null,57,0,"Section 4 – Youth Facilitator 2's Delivery",null,57,0,"Section 4 – Youth Facilitator 2's Delivery",null,57,0,"Section 4 – Youth Facilitator 2's Delivery",null,57,0,"Section 4 – Youth Facilitator 2's Delivery",null,57,0,"Section 4 – Youth Facilitator 2's Delivery",null,57,0]
["Sub-Score for Curriculum and Delivery Adherence ",{"$f":"B8+B9+B10","v":0},{"$f":"IF(B3=\"\",\"TBD\",VLOOKUP('Youth Fidelity'!B3,LISTS!$C$2:$X$8,21,FALSE))","v":"TBD"},0,"Sub-Score for Curriculum and Delivery Adherence ",{"$f":"F8+F9+F10","v":0},{"$f":"IF(F3=\"\",\"TBD\",VLOOKUP('Youth Fidelity'!F3,LISTS!$C$2:$X$8,21,FALSE))","v":"TBD"},0,"Sub-Score for Curriculum and Delivery Adherence ",{"$f":"J8+J9+J10","v":0},{"$f":"IF(J3=\"\",\"TBD\",VLOOKUP('Youth Fidelity'!J3,LISTS!$C$2:$X$8,21,FALSE))","v":"TBD"},0,"Sub-Score for Curriculum and Delivery Adherence ",{"$f":"N8+N9+N10","v":0},{"$f":"IF(N3=\"\",\"TBD\",VLOOKUP('Youth Fidelity'!N3,LISTS!$C$2:$X$8,21,FALSE))","v":"TBD"},0,"Sub-Score for Curriculum and Delivery Adherence ",{"$f":"R8+R9+R10","v":0},{"$f":"IF(R3=\"\",\"TBD\",VLOOKUP('Youth Fidelity'!R3,LISTS!$C$2:$X$8,21,FALSE))","v":"TBD"},0,"Sub-Score for Curriculum and Delivery Adherence ",{"$f":"V8+V9+V10","v":0},{"$f":"IF(V3=\"\",\"TBD\",VLOOKUP('Youth Fidelity'!V3,LISTS!$C$2:$X$8,21,FALSE))","v":"TBD"},0,"Sub-Score for Curriculum and Delivery Adherence ",{"$f":"Z8+Z9+Z10","v":0},{"$f":"IF(Z3=\"\",\"TBD\",VLOOKUP('Youth Fidelity'!Z3,LISTS!$C$2:$X$8,21,FALSE))","v":"TBD"},0]
["Section 1 - Room/Equipment",null,12,{"$f":"IFERROR(B12/C12,0)","v":0},"Section 1 - Room/Equipment",null,12,{"$f":"IFERROR(F12/G12,0)","v":0},"Section 1 - Room/Equipment",null,12,{"$f":"IFERROR(J12/K12,0)","v":0},"Section 1 - Room/Equipment",null,12,{"$f":"IFERROR(N12/O12,0)","v":0},"Section 1 - Room/Equipment",null,12,{"$f":"IFERROR(R12/S12,0)","v":0},"Section 1 - Room/Equipment",null,12,{"$f":"IFERROR(V12/W12,0)","v":0},"Section 1 - Room/Equipment",null,12,{"$f":"IFERROR(Z12/AA12,0)","v":0}]
["Section 5 – Group Participation",null,5,0,"Section 5 – Group Participation",null,5,{"$f":"IFERROR(F13/G13,0)","v":0},"Section 5 – Group Participation",null,5,{"$f":"IFERROR(J13/K13,0)","v":0},"Section 5 – Group Participation",null,5,{"$f":"IFERROR(N13/O13,0)","v":0},"Section 5 – Group Participation",null,5,{"$f":"IFERROR(R13/S13,0)","v":0},"Section 5 – Group Participation",null,5,{"$f":"IFERROR(V13/W13,0)","v":0},"Section 5 – Group Participation",null,5,{"$f":"IFERROR(Z13/AA13,0)","v":0}]
["Overall Fidelity Score ",{"$f":"B8+B9+B10+B12+B13","v":0},{"$f":"IF(B3=\"\",\"TBD\",VLOOKUP('Youth Fidelity'!B3,LISTS!$C$2:$X$8,22,FALSE))","v":"TBD"},0,"Overall Fidelity Score ",{"$f":"F8+F9+F10+F12+F13","v":0},{"$f":"IF(F3=\"\",\"TBD\",VLOOKUP('Youth Fidelity'!F3,LISTS!$C$2:$X$8,22,FALSE))","v":"TBD"},0,"Overall Fidelity Score ",{"$f":"J8+J9+J10+J12+J13","v":0},{"$f":"IF(J3=\"\",\"TBD\",VLOOKUP('Youth Fidelity'!J3,LISTS!$C$2:$X$8,22,FALSE))","v":"TBD"},0,"Overall Fidelity Score ",{"$f":"N8+N9+N10+N12+N13","v":0},{"$f":"IF(N3=\"\",\"TBD\",VLOOKUP('Youth Fidelity'!N3,LISTS!$C$2:$X$8,22,FALSE))","v":"TBD"},0,"Overall Fidelity Score ",{"$f":"R8+R9+R10+R12+R13","v":0},{"$f":"IF(R3=\"\",\"TBD\",VLOOKUP('Youth Fidelity'!R3,LISTS!$C$2:$X$8,22,FALSE))","v":"TBD"},0,"Overall Fidelity Score ",{"$f":"V8+V9+V10+V12+V13","v":0},{"$f":"IF(V3=\"\",\"TBD\",VLOOKUP('Youth Fidelity'!V3,LISTS!$C$2:$X$8,22,FALSE))","v":"TBD"},0,"Overall Fidelity Score ",{"$f":"Z8+Z9+Z10+Z12+Z13","v":0},{"$f":"IF(Z3=\"\",\"TBD\",VLOOKUP('Youth Fidelity'!Z3,LISTS!$C$2:$X$8,22,FALSE))","v":"TBD"},0]
[]
["Youth Session Observed",null,null,null,"Youth Session Observed",null,null,null,"Youth Session Observed",null,null,null,"Youth Session Observed",null,null,null,"Youth Session Observed",null,null,null,"Youth Session Observed",null,null,null,"Youth Session Observed"]
["Observer Name",null,null,null,"Observer Name",null,null,null,"Observer Name",null,null,null,"Observer Name",null,null,null,"Observer Name",null,null,null,"Observer Name",null,null,null,"Observer Name"]
["Observation Date",null,null,null,"Observation Date",null,null,null,"Observation Date",null,null,null,"Observation Date",null,null,null,"Observation Date",null,null,null,"Observation Date",null,null,null,"Observation Date"]
["Facilitator's Name",null,null,null,"Facilitator's Name",null,null,null,"Facilitator's Name",null,null,null,"Facilitator's Name",null,null,null,"Facilitator's Name",null,null,null,"Facilitator's Name",null,null,null,"Facilitator's Name"]
["Rated Component","Points Awarded by the Observer","Possible Points","Percentage","Rated Component","Points Awarded by the Observer","Possible Points","Percentage","Rated Component","Points Awarded by the Observer","Possible Points","Percentage","Rated Component","Points Awarded by the Observer","Possible Points","Percentage","Rated Component","Points Awarded by the Observer","Possible Points","Percentage","Rated Component","Points Awarded by the Observer","Possible Points","Percentage","Rated Component","Points Awarded by the Observer","Possible Points","Percentage"]
["Section 2 – Curriculum Adherence",null,{"$f":"IF(B16=\"\",\"TBD\",VLOOKUP('Youth Fidelity'!B16,LISTS!$C$2:$X$8,17,FALSE))","v":"TBD"},{"$f":"IFERROR(B21/C21,0)","v":0},"Section 2 – Curriculum Adherence",null,{"$f":"IF(F16=\"\",\"TBD\",VLOOKUP('Youth Fidelity'!F16,LISTS!$C$2:$X$8,17,FALSE))","v":"TBD"},{"$f":"IFERROR(F21/G21,0)","v":0},"Section 2 – Curriculum Adherence",null,{"$f":"IF(J16=\"\",\"TBD\",VLOOKUP('Youth Fidelity'!J16,LISTS!$C$2:$X$8,17,FALSE))","v":"TBD"},{"$f":"IFERROR(J21/K21,0)","v":0},"Section 2 – Curriculum Adherence",null,{"$f":"IF(N16=\"\",\"TBD\",VLOOKUP('Youth Fidelity'!N16,LISTS!$C$2:$X$8,17,FALSE))","v":"TBD"},{"$f":"IFERROR(N21/O21,0)","v":0},"Section 2 – Curriculum Adherence",null,{"$f":"IF(R16=\"\",\"TBD\",VLOOKUP('Youth Fidelity'!R16,LISTS!$C$2:$X$8,17,FALSE))","v":"TBD"},{"$f":"IFERROR(R21/S21,0)","v":0},"Section 2 – Curriculum Adherence",null,{"$f":"IF(V16=\"\",\"TBD\",VLOOKUP('Youth Fidelity'!V16,LISTS!$C$2:$X$8,17,FALSE))","v":"TBD"},{"$f":"IFERROR(V21/W21,0)","v":0},"Section 2 – Curriculum Adherence",null,{"$f":"IF(Z16=\"\",\"TBD\",VLOOKUP('Youth Fidelity'!Z16,LISTS!$C$2:$X$8,17,FALSE))","v":"TBD"},{"$f":"IFERROR(Z21/AA21,0)","v":0}]
["Section 3 – Youth Facilitator 1's Delivery",null,57,{"$f":"IFERROR(B22/C22,0)","v":0},"Section 3 – Youth Facilitator 1's Delivery",null,57,{"$f":"IFERROR(F22/G22,0)","v":0},"Section 3 – Youth Facilitator 1's Delivery",null,57,{"$f":"IFERROR(J22/K22,0)","v":0},"Section 3 – Youth Facilitator 1's Delivery",null,57,{"$f":"IFERROR(N22/O22,0)","v":0},"Section 3 – Youth Facilitator 1's Delivery",null,57,{"$f":"IFERROR(R22/S22,0)","v":0},"Section 3 – Youth Facilitator 1's Delivery",null,57,{"$f":"IFERROR(V22/W22,0)","v":0},"Section 3 – Youth Facilitator 1's Delivery",null,57,{"$f":"IFERROR(Z22/AA22,0)","v":0}]
["Section 4 – Youth Facilitator 2's Delivery",null,57,0,"Section 4 – Youth Facilitator 2's Delivery",null,57,0,"Section 4 – Youth Facilitator 2's Delivery",null,57,0,"Section 4 – Youth Facilitator 2's Delivery",null,57,0,"Section 4 – Youth Facilitator 2's Delivery",null,57,0,"Section 4 – Youth Facilitator 2's Delivery",null,57,0,"Section 4 – Youth Facilitator 2's Delivery",null,57,0]
["Sub-Score for Curriculum and Delivery Adherence ",{"$f":"B21+B22+B23","v":0},{"$f":"IF(B16=\"\",\"TBD\",VLOOKUP('Youth Fidelity'!B16,LISTS!$C$2:$X$8,21,FALSE))","v":"TBD"},0,"Sub-Score for Curriculum and Delivery Adherence ",{"$f":"F21+F22+F23","v":0},{"$f":"IF(F16=\"\",\"TBD\",VLOOKUP('Youth Fidelity'!F16,LISTS!$C$2:$X$8,21,FALSE))","v":"TBD"},0,"Sub-Score for Curriculum and Delivery Adherence ",{"$f":"J21+J22+J23","v":0},{"$f":"IF(J16=\"\",\"TBD\",VLOOKUP('Youth Fidelity'!J16,LISTS!$C$2:$X$8,21,FALSE))","v":"TBD"},0,"Sub-Score for Curriculum and Delivery Adherence ",{"$f":"N21+N22+N23","v":0},{"$f":"IF(N16=\"\",\"TBD\",VLOOKUP('Youth Fidelity'!N16,LISTS!$C$2:$X$8,21,FALSE))","v":"TBD"},0,"Sub-Score for Curriculum and Delivery Adherence ",{"$f":"R21+R22+R23","v":0},{"$f":"IF(R16=\"\",\"TBD\",VLOOKUP('Youth Fidelity'!R16,LISTS!$C$2:$X$8,21,FALSE))","v":"TBD"},0,"Sub-Score for Curriculum and Delivery Adherence ",{"$f":"V21+V22+V23","v":0},{"$f":"IF(V16=\"\",\"TBD\",VLOOKUP('Youth Fidelity'!V16,LISTS!$C$2:$X$8,21,FALSE))","v":"TBD"},0,"Sub-Score for Curriculum and Delivery Adherence ",{"$f":"Z21+Z22+Z23","v":0},{"$f":"IF(Z16=\"\",\"TBD\",VLOOKUP('Youth Fidelity'!Z16,LISTS!$C$2:$X$8,21,FALSE))","v":"TBD"},0]
["Section 1 - Room/Equipment",null,12,{"$f":"IFERROR(B25/C25,0)","v":0},"Section 1 - Room/Equipment",null,12,{"$f":"IFERROR(F25/G25,0)","v":0},"Section 1 - Room/Equipment",null,12,{"$f":"IFERROR(J25/K25,0)","v":0},"Section 1 - Room/Equipment",null,12,{"$f":"IFERROR(N25/O25,0)","v":0},"Section 1 - Room/Equipment",null,12,{"$f":"IFERROR(R25/S25,0)","v":0},"Section 1 - Room/Equipment",null,12,{"$f":"IFERROR(V25/W25,0)","v":0},"Section 1 - Room/Equipment",null,12,{"$f":"IFERROR(Z25/AA25,0)","v":0}]
["Section 5 – Group Participation",null,5,{"$f":"IFERROR(B26/C26,0)","v":0},"Section 5 – Group Participation",null,5,{"$f":"IFERROR(F26/G26,0)","v":0},"Section 5 – Group Participation",null,5,{"$f":"IFERROR(J26/K26,0)","v":0},"Section 5 – Group Participation",null,5,{"$f":"IFERROR(N26/O26,0)","v":0},"Section 5 – Group Participation",null,5,{"$f":"IFERROR(R26/S26,0)","v":0},"Section 5 – Group Participation",null,5,{"$f":"IFERROR(V26/W26,0)","v":0},"Section 5 – Group Participation",null,5,{"$f":"IFERROR(Z26/AA26,0)","v":0}]
["Overall Fidelity Score ",{"$f":"B21+B22+B23+B25+B26","v":0},{"$f":"IF(B16=\"\",\"TBD\",VLOOKUP('Youth Fidelity'!B16,LISTS!$C$2:$X$8,22,FALSE))","v":"TBD"},0,"Overall Fidelity Score ",{"$f":"F21+F22+F23+F25+F26","v":0},{"$f":"IF(F16=\"\",\"TBD\",VLOOKUP('Youth Fidelity'!F16,LISTS!$C$2:$X$8,22,FALSE))","v":"TBD"},0,"Overall Fidelity Score ",{"$f":"J21+J22+J23+J25+J26","v":0},{"$f":"IF(J16=\"\",\"TBD\",VLOOKUP('Youth Fidelity'!J16,LISTS!$C$2:$X$8,22,FALSE))","v":"TBD"},0,"Overall Fidelity Score ",{"$f":"N21+N22+N23+N25+N26","v":0},{"$f":"IF(N16=\"\",\"TBD\",VLOOKUP('Youth Fidelity'!N16,LISTS!$C$2:$X$8,22,FALSE))","v":"TBD"},0,"Overall Fidelity Score ",{"$f":"R21+R22+R23+R25+R26","v":0},{"$f":"IF(R16=\"\",\"TBD\",VLOOKUP('Youth Fidelity'!R16,LISTS!$C$2:$X$8,22,FALSE))","v":"TBD"},0,"Overall Fidelity Score ",{"$f":"V21+V22+V23+V25+V26","v":0},{"$f":"IF(V16=\"\",\"TBD\",VLOOKUP('Youth Fidelity'!V16,LISTS!$C$2:$X$8,22,FALSE))","v":"TBD"},0,"Overall Fidelity Score ",{"$f":"Z21+Z22+Z23+Z25+Z26","v":0},{"$f":"IF(Z16=\"\",\"TBD\",VLOOKUP('Youth Fidelity'!Z16,LISTS!$C$2:$X$8,22,FALSE))","v":"TBD"},0]
[]
["Youth Session Observed",null,null,null,"Youth Session Observed",null,null,null,"Youth Session Observed",null,null,null,"Youth Session Observed",null,null,null,"Youth Session Observed",null,null,null,"Youth Session Observed",null,null,null,"Youth Session Observed"]
["Observer Name",null,null,null,"Observer Name",null,null,null,"Observer Name",null,null,null,"Observer Name",null,null,null,"Observer Name",null,null,null,"Observer Name",null,null,null,"Observer Name"]
["Observation Date",null,null,null,"Observation Date",null,null,null,"Observation Date",null,null,null,"Observation Date",null,null,null,"Observation Date",null,null,null,"Observation Date",null,null,null,"Observation Date"]
["Facilitator's Name",null,null,null,"Facilitator's Name",null,null,null,"Facilitator's Name",null,null,null,"Facilitator's Name",null,null,null,"Facilitator's Name",null,null,null,"Facilitator's Name",null,null,null,"Facilitator's Name"]
["Rated Component","Points Awarded by the Observer","Possible Points","Percentage","Rated Component","Points Awarded by the Observer","Possible Points","Percentage","Rated Component","Points Awarded by the Observer","Possible Points","Percentage","Rated Component","Points Awarded by the Observer","Possible Points","Percentage","Rated Component","Points Awarded by the Observer","Possible Points","Percentage","Rated Component","Points Awarded by the Observer","Possible Points","Percentage","Rated Component","Points Awarded by the Observer","Possible Points","Percentage"]
["Section 2 – Curriculum Adherence",null,{"$f":"IF(B29=\"\",\"TBD\",VLOOKUP('Youth Fidelity'!B29,LISTS!$C$2:$X$8,17,FALSE))","v":"TBD"},{"$f":"IFERROR(B34/C34,0)","v":0},"Section 2 – Curriculum Adherence",null,{"$f":"IF(F29=\"\",\"TBD\",VLOOKUP('Youth Fidelity'!F29,LISTS!$C$2:$X$8,17,FALSE))","v":"TBD"},{"$f":"IFERROR(F34/G34,0)","v":0},"Section 2 – Curriculum Adherence",null,{"$f":"IF(J29=\"\",\"TBD\",VLOOKUP('Youth Fidelity'!J29,LISTS!$C$2:$X$8,17,FALSE))","v":"TBD"},{"$f":"IFERROR(J34/K34,0)","v":0},"Section 2 – Curriculum Adherence",null,{"$f":"IF(N29=\"\",\"TBD\",VLOOKUP('Youth Fidelity'!N29,LISTS!$C$2:$X$8,17,FALSE))","v":"TBD"},{"$f":"IFERROR(N34/O34,0)","v":0},"Section 2 – Curriculum Adherence",null,{"$f":"IF(R29=\"\",\"TBD\",VLOOKUP('Youth Fidelity'!R29,LISTS!$C$2:$X$8,17,FALSE))","v":"TBD"},{"$f":"IFERROR(R34/S34,0)","v":0},"Section 2 – Curriculum Adherence",null,{"$f":"IF(V29=\"\",\"TBD\",VLOOKUP('Youth Fidelity'!V29,LISTS!$C$2:$X$8,17,FALSE))","v":"TBD"},{"$f":"IFERROR(V34/W34,0)","v":0},"Section 2 – Curriculum Adherence",null,{"$f":"IF(Z29=\"\",\"TBD\",VLOOKUP('Youth Fidelity'!Z29,LISTS!$C$2:$X$8,17,FALSE))","v":"TBD"},{"$f":"IFERROR(Z34/AA34,0)","v":0}]
["Section 3 – Youth Facilitator 1's Delivery",null,57,{"$f":"IFERROR(B35/C35,0)","v":0},"Section 3 – Youth Facilitator 1's Delivery",null,57,{"$f":"IFERROR(F35/G35,0)","v":0},"Section 3 – Youth Facilitator 1's Delivery",null,57,{"$f":"IFERROR(J35/K35,0)","v":0},"Section 3 – Youth Facilitator 1's Delivery",null,57,{"$f":"IFERROR(N35/O35,0)","v":0},"Section 3 – Youth Facilitator 1's Delivery",null,57,{"$f":"IFERROR(R35/S35,0)","v":0},"Section 3 – Youth Facilitator 1's Delivery",null,57,{"$f":"IFERROR(V35/W35,0)","v":0},"Section 3 – Youth Facilitator 1's Delivery",null,57,{"$f":"IFERROR(Z35/AA35,0)","v":0}]
["Section 4 – Youth Facilitator 2's Delivery",null,57,0,"Section 4 – Youth Facilitator 2's Delivery",null,57,0,"Section 4 – Youth Facilitator 2's Delivery",null,57,0,"Section 4 – Youth Facilitator 2's Delivery",null,57,0,"Section 4 – Youth Facilitator 2's Delivery",null,57,0,"Section 4 – Youth Facilitator 2's Delivery",null,57,0,"Section 4 – Youth Facilitator 2's Delivery",null,57,0]
["Sub-Score for Curriculum and Delivery Adherence ",{"$f":"B34+B35+B36","v":0},{"$f":"IF(B29=\"\",\"TBD\",VLOOKUP('Youth Fidelity'!B29,LISTS!$C$2:$X$8,21,FALSE))","v":"TBD"},0,"Sub-Score for Curriculum and Delivery Adherence ",{"$f":"F34+F35+F36","v":0},{"$f":"IF(F29=\"\",\"TBD\",VLOOKUP('Youth Fidelity'!F29,LISTS!$C$2:$X$8,21,FALSE))","v":"TBD"},0,"Sub-Score for Curriculum and Delivery Adherence ",{"$f":"J34+J35+J36","v":0},{"$f":"IF(J29=\"\",\"TBD\",VLOOKUP('Youth Fidelity'!J29,LISTS!$C$2:$X$8,21,FALSE))","v":"TBD"},0,"Sub-Score for Curriculum and Delivery Adherence ",{"$f":"N34+N35+N36","v":0},{"$f":"IF(N29=\"\",\"TBD\",VLOOKUP('Youth Fidelity'!N29,LISTS!$C$2:$X$8,21,FALSE))","v":"TBD"},0,"Sub-Score for Curriculum and Delivery Adherence ",{"$f":"R34+R35+R36","v":0},{"$f":"IF(R29=\"\",\"TBD\",VLOOKUP('Youth Fidelity'!R29,LISTS!$C$2:$X$8,21,FALSE))","v":"TBD"},0,"Sub-Score for Curriculum and Delivery Adherence ",{"$f":"V34+V35+V36","v":0},{"$f":"IF(V29=\"\",\"TBD\",VLOOKUP('Youth Fidelity'!V29,LISTS!$C$2:$X$8,21,FALSE))","v":"TBD"},0,"Sub-Score for Curriculum and Delivery Adherence ",{"$f":"Z34+Z35+Z36","v":0},{"$f":"IF(Z29=\"\",\"TBD\",VLOOKUP('Youth Fidelity'!Z29,LISTS!$C$2:$X$8,21,FALSE))","v":"TBD"},0]
["Section 1 - Room/Equipment",null,12,{"$f":"IFERROR(B38/C38,0)","v":0},"Section 1 - Room/Equipment",null,12,{"$f":"IFERROR(F38/G38,0)","v":0},"Section 1 - Room/Equipment",null,12,{"$f":"IFERROR(J38/K38,0)","v":0},"Section 1 - Room/Equipment",null,12,{"$f":"IFERROR(N38/O38,0)","v":0},"Section 1 - Room/Equipment",null,12,{"$f":"IFERROR(R38/S38,0)","v":0},"Section 1 - Room/Equipment",null,12,{"$f":"IFERROR(V38/W38,0)","v":0},"Section 1 - Room/Equipment",null,12,{"$f":"IFERROR(Z38/AA38,0)","v":0}]
["Section 5 – Group Participation",null,5,{"$f":"IFERROR(B39/C39,0)","v":0},"Section 5 – Group Participation",null,5,{"$f":"IFERROR(F39/G39,0)","v":0},"Section 5 – Group Participation",null,5,{"$f":"IFERROR(J39/K39,0)","v":0},"Section 5 – Group Participation",null,5,{"$f":"IFERROR(N39/O39,0)","v":0},"Section 5 – Group Participation",null,5,{"$f":"IFERROR(R39/S39,0)","v":0},"Section 5 – Group Participation",null,5,{"$f":"IFERROR(V39/W39,0)","v":0},"Section 5 – Group Participation",null,5,{"$f":"IFERROR(Z39/AA39,0)","v":0}]
["Overall Fidelity Score ",{"$f":"B34+B35+B36+B38+B39","v":0},{"$f":"IF(B29=\"\",\"TBD\",VLOOKUP('Youth Fidelity'!B29,LISTS!$C$2:$X$8,22,FALSE))","v":"TBD"},0,"Overall Fidelity Score ",{"$f":"F34+F35+F36+F38+F39","v":0},{"$f":"IF(F29=\"\",\"TBD\",VLOOKUP('Youth Fidelity'!F29,LISTS!$C$2:$X$8,22,FALSE))","v":"TBD"},0,"Overall Fidelity Score ",{"$f":"J34+J35+J36+J38+J39","v":0},{"$f":"IF(J29=\"\",\"TBD\",VLOOKUP('Youth Fidelity'!J29,LISTS!$C$2:$X$8,22,FALSE))","v":"TBD"},0,"Overall Fidelity Score ",{"$f":"N34+N35+N36+N38+N39","v":0},{"$f":"IF(N29=\"\",\"TBD\",VLOOKUP('Youth Fidelity'!N29,LISTS!$C$2:$X$8,22,FALSE))","v":"TBD"},0,"Overall Fidelity Score ",{"$f":"R34+R35+R36+R38+R39","v":0},{"$f":"IF(R29=\"\",\"TBD\",VLOOKUP('Youth Fidelity'!R29,LISTS!$C$2:$X$8,22,FALSE))","v":"TBD"},0,"Overall Fidelity Score ",{"$f":"V34+V35+V36+V38+V39","v":0},{"$f":"IF(V29=\"\",\"TBD\",VLOOKUP('Youth Fidelity'!V29,LISTS!$C$2:$X$8,22,FALSE))","v":"TBD"},0,"Overall Fidelity Score ",{"$f":"Z34+Z35+Z36+Z38+Z39","v":0},{"$f":"IF(Z29=\"\",\"TBD\",VLOOKUP('Youth Fidelity'!Z29,LISTS!$C$2:$X$8,22,FALSE))","v":"TBD"},0]
[]
[]
["Youth Session Fidelity",null,null,null,"Youth Session Fidelity",null,null,null,"Youth Session Fidelity",null,null,null,"Youth Session Fidelity",null,null,null,"Youth Session Fidelity",null,null,null,"Youth Session Fidelity",null,null,null,"Youth Session Fidelity"]
["Section 1 - Room/Equipment",{"$f":"SUM(B38,B25,B12)","v":0},{"$f":"SUMIF(B12,\">0\",C12)+SUMIF(B25,\">0\",C25)+SUMIF(B38,\">0\",C38)","v":0},{"$f":"IFERROR(B44/C44,\"\")","v":""},"Section 1 - Room/Equipment",{"$f":"SUM(F38,F25,F12)","v":0},{"$f":"SUMIF(F12,\">0\",G12)+SUMIF(F25,\">0\",G25)+SUMIF(F38,\">0\",G38)","v":0},{"$f":"IFERROR(F44/G44,\"\")","v":""},"Section 1 - Room/Equipment",{"$f":"SUM(J38,J25,J12)","v":0},{"$f":"SUMIF(J12,\">0\",K12)+SUMIF(J25,\">0\",K25)+SUMIF(J38,\">0\",K38)","v":0},{"$f":"IFERROR(J44/K44,\"\")","v":""},"Section 1 - Room/Equipment",{"$f":"SUM(N38,N25,N12)","v":0},{"$f":"SUMIF(N12,\">0\",O12)+SUMIF(N25,\">0\",O25)+SUMIF(N38,\">0\",O38)","v":0},{"$f":"IFERROR(N44/O44,\"\")","v":""},"Section 1 - Room/Equipment",{"$f":"SUM(R38,R25,R12)","v":0},{"$f":"SUMIF(R12,\">0\",S12)+SUMIF(R25,\">0\",S25)+SUMIF(R38,\">0\",S38)","v":0},{"$f":"IFERROR(R44/S44,\"\")","v":""},"Section 1 - Room/Equipment",{"$f":"SUM(V38,V25,V12)","v":0},{"$f":"SUMIF(V12,\">0\",W12)+SUMIF(V25,\">0\",W25)+SUMIF(V38,\">0\",W38)","v":0},{"$f":"IFERROR(V44/W44,\"\")","v":""},"Section 1 - Room/Equipment",{"$f":"SUM(Z38,Z25,Z12)","v":0},{"$f":"SUMIF(Z12,\">0\",AA12)+SUMIF(Z25,\">0\",AA25)+SUMIF(Z38,\">0\",AA38)","v":0},{"$f":"IFERROR(Z44/AA44,\"\")","v":""}]
["Section 2 – Curriculum Adherence",{"$f":"SUM(B34,B21,B8)","v":0},{"$f":"SUMIF(B8,\">0\",C8)+SUMIF(B21,\">0\",C21)+SUMIF(B34,\">0\",C34)","v":0},{"$f":"IFERROR(B45/C45,\"\")","v":""},"Section 2 – Curriculum Adherence",{"$f":"SUM(F34,F21,F8)","v":0},{"$f":"SUMIF(F8,\">0\",G8)+SUMIF(F21,\">0\",G21)+SUMIF(F34,\">0\",G34)","v":0},"","Section 2 – Curriculum Adherence",{"$f":"SUM(J34,J21,J8)","v":0},{"$f":"SUMIF(J8,\">0\",K8)+SUMIF(J21,\">0\",K21)+SUMIF(J34,\">0\",K34)","v":0},"","Section 2 – Curriculum Adherence",{"$f":"SUM(N34,N21,N8)","v":0},{"$f":"SUMIF(N8,\">0\",O8)+SUMIF(N21,\">0\",O21)+SUMIF(N34,\">0\",O34)","v":0},"","Section 2 – Curriculum Adherence",{"$f":"SUM(R34,R21,R8)","v":0},{"$f":"SUMIF(R8,\">0\",S8)+SUMIF(R21,\">0\",S21)+SUMIF(R34,\">0\",S34)","v":0},"","Section 2 – Curriculum Adherence",{"$f":"SUM(V34,V21,V8)","v":0},{"$f":"SUMIF(V8,\">0\",W8)+SUMIF(V21,\">0\",W21)+SUMIF(V34,\">0\",W34)","v":0},"","Section 2 – Curriculum Adherence",{"$f":"SUM(Z34,Z21,Z8)","v":0},{"$f":"SUMIF(Z8,\">0\",AA8)+SUMIF(Z21,\">0\",AA21)+SUMIF(Z34,\">0\",AA34)","v":0},""]
["Section 3 – Youth Facilitator 1's Delivery",{"$f":"SUM(B35,B22,B9)","v":0},{"$f":"SUMIF(B9,\">0\",C9)+SUMIF(B22,\">0\",C22)+SUMIF(B35,\">0\",C35)","v":0},{"$f":"IFERROR(B46/C46,\"\")","v":""},"Section 3 – Youth Facilitator 1's Delivery",0,0,"","Section 3 – Youth Facilitator 1's Delivery",0,0,"","Section 3 – Youth Facilitator 1's Delivery",0,0,"","Section 3 – Youth Facilitator 1's Delivery",0,0,"","Section 3 – Youth Facilitator 1's Delivery",0,0,"","Section 3 – Youth Facilitator 1's Delivery",0,0,""]
["Section 4 – Youth Facilitator 2's Delivery",0,0,"","Section 4 – Youth Facilitator 2's Delivery",0,0,"","Section 4 – Youth Facilitator 2's Delivery",0,0,"","Section 4 – Youth Facilitator 2's Delivery",0,0,"","Section 4 – Youth Facilitator 2's Delivery",0,0,"","Section 4 – Youth Facilitator 2's Delivery",0,0,"","Section 4 – Youth Facilitator 2's Delivery",0,0,""]
["Section 5 – Group Participation",{"$f":"SUM(B39,B26,B13)","v":0},{"$f":"SUMIF(B13,\">0\",C13)+SUMIF(B26,\">0\",C26)+SUMIF(B39,\">0\",C39)","v":0},{"$f":"IFERROR(B48/C48,\"\")","v":""},"Section 5 – Group Participation",{"$f":"SUM(F39,F26,F13)","v":0},{"$f":"SUMIF(F13,\">0\",G13)+SUMIF(F26,\">0\",G26)+SUMIF(F39,\">0\",G39)","v":0},"","Section 5 – Group Participation",{"$f":"SUM(J39,J26,J13)","v":0},{"$f":"SUMIF(J13,\">0\",K13)+SUMIF(J26,\">0\",K26)+SUMIF(J39,\">0\",K39)","v":0},"","Section 5 – Group Participation",{"$f":"SUM(N39,N26,N13)","v":0},{"$f":"SUMIF(N13,\">0\",O13)+SUMIF(N26,\">0\",O26)+SUMIF(N39,\">0\",O39)","v":0},"","Section 5 – Group Participation",{"$f":"SUM(R39,R26,R13)","v":0},{"$f":"SUMIF(R13,\">0\",S13)+SUMIF(R26,\">0\",S26)+SUMIF(R39,\">0\",S39)","v":0},"","Section 5 – Group Participation",{"$f":"SUM(V39,V26,V13)","v":0},{"$f":"SUMIF(V13,\">0\",W13)+SUMIF(V26,\">0\",W26)+SUMIF(V39,\">0\",W39)","v":0},"","Section 5 – Group Participation",{"$f":"SUM(Z39,Z26,Z13)","v":0},{"$f":"SUMIF(Z13,\">0\",AA13)+SUMIF(Z26,\">0\",AA26)+SUMIF(Z39,\">0\",AA39)","v":0},""]
["TOTAL",{"$f":"SUM(B43:B48)","v":0},{"$f":"SUM(C43:C48)","v":0},"","TOTAL",{"$f":"SUM(F43:F48)","v":0},0,"","TOTAL",{"$f":"SUM(J43:J48)","v":0},0,"","TOTAL",{"$f":"SUM(N43:N48)","v":0},0,"","TOTAL",{"$f":"SUM(R43:R48)","v":0},0,"","TOTAL",{"$f":"SUM(V43:V48)","v":0},0,"","TOTAL",{"$f":"SUM(Z43:Z48)","v":0},0,""]
[]
[]
[]
[]
["This Delivery",{"$f":"SUM(B55:B58)","v":0},null,{"$f":"SUM(D55:D58)","v":0},null,{"$f":"SUM(F55:F58)","v":0},null,{"$f":"SUM(H55:H58)","v":0},null,{"$f":"SUM(J55:J58)","v":0},null,{"$f":"SUM(L55:L58)","v":0},null,{"$f":"SUM(N55:N58)","v":0},null,{"$f":"SUM(P55:P58)","v":0},null,{"$f":"SUM(R55:R58)","v":0},null,{"$f":"SUM(T55:T58)","v":0},null,{"$f":"SUM(V55:V58)","v":0},null,{"$f":"SUM(X55:X58)","v":0},null,{"$f":"SUM(Z55:Z58)","v":0},null,{"$f":"SUM(AB55:AB58)","v":0}]
["Oct-Dec",{"$f":"IF(C2=$A55,(COUNTIF(B37,\">0\")+COUNTIF(B24,\">0\")+COUNTIF(B11,\">0\")),\"\")","v":""},null,{"$f":"IF(C2=$A55,(COUNTIF(D37,\">=\"&LISTS!$B$12)+COUNTIF(D24,\">=\"&LISTS!$B$12)+COUNTIF(D11,\">=\"&LISTS!$B$12)),\"\")","v":""},null,{"$f":"IF(G2=$A55,(COUNTIF(F37,\">0\")+COUNTIF(F24,\">0\")+COUNTIF(F11,\">0\")),\"\")","v":""},null,{"$f":"IF(G2=$A55,(COUNTIF(H37,\">=\"&LISTS!$B$12)+COUNTIF(H24,\">=\"&LISTS!$B$12)+COUNTIF(H11,\">=\"&LISTS!$B$12)),\"\")","v":""},null,{"$f":"IF(K2=$A55,(COUNTIF(J37,\">0\")+COUNTIF(J24,\">0\")+COUNTIF(J11,\">0\")),\"\")","v":""},null,{"$f":"IF(K2=$A55,(COUNTIF(L37,\">=\"&LISTS!$B$12)+COUNTIF(L24,\">=\"&LISTS!$B$12)+COUNTIF(L11,\">=\"&LISTS!$B$12)),\"\")","v":""},null,{"$f":"IF(O2=$A55,(COUNTIF(N37,\">0\")+COUNTIF(N24,\">0\")+COUNTIF(N11,\">0\")),\"\")","v":""},null,{"$f":"IF(O2=$A55,(COUNTIF(P37,\">=\"&LISTS!$B$12)+COUNTIF(P24,\">=\"&LISTS!$B$12)+COUNTIF(P11,\">=\"&LISTS!$B$12)),\"\")","v":""},null,{"$f":"IF(S2=$A55,(COUNTIF(R37,\">0\")+COUNTIF(R24,\">0\")+COUNTIF(R11,\">0\")),\"\")","v":""},null,{"$f":"IF(S2=$A55,(COUNTIF(T37,\">=\"&LISTS!$B$12)+COUNTIF(T24,\">=\"&LISTS!$B$12)+COUNTIF(T11,\">=\"&LISTS!$B$12)),\"\")","v":""},null,{"$f":"IF(W2=$A55,(COUNTIF(V37,\">0\")+COUNTIF(V24,\">0\")+COUNTIF(V11,\">0\")),\"\")","v":""},null,{"$f":"IF(W2=$A55,(COUNTIF(X37,\">=\"&LISTS!$B$12)+COUNTIF(X24,\">=\"&LISTS!$B$12)+COUNTIF(X11,\">=\"&LISTS!$B$12)),\"\")","v":""},null,{"$f":"IF(AA2=$A55,(COUNTIF(Z37,\">0\")+COUNTIF(Z24,\">0\")+COUNTIF(Z11,\">0\")),\"\")","v":""},null,{"$f":"IF(AA2=$A55,(COUNTIF(AB37,\">=\"&LISTS!$B$12)+COUNTIF(AB24,\">=\"&LISTS!$B$12)+COUNTIF(AB11,\">=\"&LISTS!$B$12)),\"\")","v":""}]
["Jan-Mar",{"$f":"IF(C2=$A56,(COUNTIF(B37,\">0\")+COUNTIF(B24,\">0\")+COUNTIF(B11,\">0\")),\"\")","v":""},null,{"$f":"IF(C2=$A56,(COUNTIF(D37,\">=\"&LISTS!$B$12)+COUNTIF(D24,\">=\"&LISTS!$B$12)+COUNTIF(D11,\">=\"&LISTS!$B$12)),\"\")","v":""},null,{"$f":"IF(G2=$A56,(COUNTIF(F37,\">0\")+COUNTIF(F24,\">0\")+COUNTIF(F11,\">0\")),\"\")","v":""},null,{"$f":"IF(G2=$A56,(COUNTIF(H37,\">=\"&LISTS!$B$12)+COUNTIF(H24,\">=\"&LISTS!$B$12)+COUNTIF(H11,\">=\"&LISTS!$B$12)),\"\")","v":""},null,{"$f":"IF(K2=$A56,(COUNTIF(J37,\">0\")+COUNTIF(J24,\">0\")+COUNTIF(J11,\">0\")),\"\")","v":""},null,{"$f":"IF(K2=$A56,(COUNTIF(L37,\">=\"&LISTS!$B$12)+COUNTIF(L24,\">=\"&LISTS!$B$12)+COUNTIF(L11,\">=\"&LISTS!$B$12)),\"\")","v":""},null,{"$f":"IF(O2=$A56,(COUNTIF(N37,\">0\")+COUNTIF(N24,\">0\")+COUNTIF(N11,\">0\")),\"\")","v":""},null,{"$f":"IF(O2=$A56,(COUNTIF(P37,\">=\"&LISTS!$B$12)+COUNTIF(P24,\">=\"&LISTS!$B$12)+COUNTIF(P11,\">=\"&LISTS!$B$12)),\"\")","v":""},null,{"$f":"IF(S2=$A56,(COUNTIF(R37,\">0\")+COUNTIF(R24,\">0\")+COUNTIF(R11,\">0\")),\"\")","v":""},null,{"$f":"IF(S2=$A56,(COUNTIF(T37,\">=\"&LISTS!$B$12)+COUNTIF(T24,\">=\"&LISTS!$B$12)+COUNTIF(T11,\">=\"&LISTS!$B$12)),\"\")","v":""},null,{"$f":"IF(W2=$A56,(COUNTIF(V37,\">0\")+COUNTIF(V24,\">0\")+COUNTIF(V11,\">0\")),\"\")","v":""},null,{"$f":"IF(W2=$A56,(COUNTIF(X37,\">=\"&LISTS!$B$12)+COUNTIF(X24,\">=\"&LISTS!$B$12)+COUNTIF(X11,\">=\"&LISTS!$B$12)),\"\")","v":""},null,{"$f":"IF(AA2=$A56,(COUNTIF(Z37,\">0\")+COUNTIF(Z24,\">0\")+COUNTIF(Z11,\">0\")),\"\")","v":""},null,{"$f":"IF(AA2=$A56,(COUNTIF(AB37,\">=\"&LISTS!$B$12)+COUNTIF(AB24,\">=\"&LISTS!$B$12)+COUNTIF(AB11,\">=\"&LISTS!$B$12)),\"\")","v":""}]
["Apr-Jun",{"$f":"IF(C2=$A57,(COUNTIF(B37,\">0\")+COUNTIF(B24,\">0\")+COUNTIF(B11,\">0\")),\"\")","v":""},null,{"$f":"IF(C2=$A57,(COUNTIF(D37,\">=\"&LISTS!$B$12)+COUNTIF(D24,\">=\"&LISTS!$B$12)+COUNTIF(D11,\">=\"&LISTS!$B$12)),\"\")","v":""},null,{"$f":"IF(G2=$A57,(COUNTIF(F37,\">0\")+COUNTIF(F24,\">0\")+COUNTIF(F11,\">0\")),\"\")","v":""},null,{"$f":"IF(G2=$A57,(COUNTIF(H37,\">=\"&LISTS!$B$12)+COUNTIF(H24,\">=\"&LISTS!$B$12)+COUNTIF(H11,\">=\"&LISTS!$B$12)),\"\")","v":""},null,{"$f":"IF(K2=$A57,(COUNTIF(J37,\">0\")+COUNTIF(J24,\">0\")+COUNTIF(J11,\">0\")),\"\")","v":""},null,{"$f":"IF(K2=$A57,(COUNTIF(L37,\">=\"&LISTS!$B$12)+COUNTIF(L24,\">=\"&LISTS!$B$12)+COUNTIF(L11,\">=\"&LISTS!$B$12)),\"\")","v":""},null,{"$f":"IF(O2=$A57,(COUNTIF(N37,\">0\")+COUNTIF(N24,\">0\")+COUNTIF(N11,\">0\")),\"\")","v":""},null,{"$f":"IF(O2=$A57,(COUNTIF(P37,\">=\"&LISTS!$B$12)+COUNTIF(P24,\">=\"&LISTS!$B$12)+COUNTIF(P11,\">=\"&LISTS!$B$12)),\"\")","v":""},null,{"$f":"IF(S2=$A57,(COUNTIF(R37,\">0\")+COUNTIF(R24,\">0\")+COUNTIF(R11,\">0\")),\"\")","v":""},null,{"$f":"IF(S2=$A57,(COUNTIF(T37,\">=\"&LISTS!$B$12)+COUNTIF(T24,\">=\"&LISTS!$B$12)+COUNTIF(T11,\">=\"&LISTS!$B$12)),\"\")","v":""},null,{"$f":"IF(W2=$A57,(COUNTIF(V37,\">0\")+COUNTIF(V24,\">0\")+COUNTIF(V11,\">0\")),\"\")","v":""},null,{"$f":"IF(W2=$A57,(COUNTIF(X37,\">=\"&LISTS!$B$12)+COUNTIF(X24,\">=\"&LISTS!$B$12)+COUNTIF(X11,\">=\"&LISTS!$B$12)),\"\")","v":""},null,{"$f":"IF(AA2=$A57,(COUNTIF(Z37,\">0\")+COUNTIF(Z24,\">0\")+COUNTIF(Z11,\">0\")),\"\")","v":""},null,{"$f":"IF(AA2=$A57,(COUNTIF(AB37,\">=\"&LISTS!$B$12)+COUNTIF(AB24,\">=\"&LISTS!$B$12)+COUNTIF(AB11,\">=\"&LISTS!$B$12)),\"\")","v":""}]
["Jul-Sep",{"$f":"IF(C2=$A58,(COUNTIF(B37,\">0\")+COUNTIF(B24,\">0\")+COUNTIF(B11,\">0\")),\"\")","v":""},null,{"$f":"IF(C2=$A58,(COUNTIF(D37,\">=\"&LISTS!$B$12)+COUNTIF(D24,\">=\"&LISTS!$B$12)+COUNTIF(D11,\">=\"&LISTS!$B$12)),\"\")","v":""},null,{"$f":"IF(G2=$A58,(COUNTIF(F37,\">0\")+COUNTIF(F24,\">0\")+COUNTIF(F11,\">0\")),\"\")","v":""},null,{"$f":"IF(G2=$A58,(COUNTIF(H37,\">=\"&LISTS!$B$12)+COUNTIF(H24,\">=\"&LISTS!$B$12)+COUNTIF(H11,\">=\"&LISTS!$B$12)),\"\")","v":""},null,{"$f":"IF(K2=$A58,(COUNTIF(J37,\">0\")+COUNTIF(J24,\">0\")+COUNTIF(J11,\">0\")),\"\")","v":""},null,{"$f":"IF(K2=$A58,(COUNTIF(L37,\">=\"&LISTS!$B$12)+COUNTIF(L24,\">=\"&LISTS!$B$12)+COUNTIF(L11,\">=\"&LISTS!$B$12)),\"\")","v":""},null,{"$f":"IF(O2=$A58,(COUNTIF(N37,\">0\")+COUNTIF(N24,\">0\")+COUNTIF(N11,\">0\")),\"\")","v":""},null,{"$f":"IF(O2=$A58,(COUNTIF(P37,\">=\"&LISTS!$B$12)+COUNTIF(P24,\">=\"&LISTS!$B$12)+COUNTIF(P11,\">=\"&LISTS!$B$12)),\"\")","v":""},null,{"$f":"IF(S2=$A58,(COUNTIF(R37,\">0\")+COUNTIF(R24,\">0\")+COUNTIF(R11,\">0\")),\"\")","v":""},null,{"$f":"IF(S2=$A58,(COUNTIF(T37,\">=\"&LISTS!$B$12)+COUNTIF(T24,\">=\"&LISTS!$B$12)+COUNTIF(T11,\">=\"&LISTS!$B$12)),\"\")","v":""},null,{"$f":"IF(W2=$A58,(COUNTIF(V37,\">0\")+COUNTIF(V24,\">0\")+COUNTIF(V11,\">0\")),\"\")","v":""},null,{"$f":"IF(W2=$A58,(COUNTIF(X37,\">=\"&LISTS!$B$12)+COUNTIF(X24,\">=\"&LISTS!$B$12)+COUNTIF(X11,\">=\"&LISTS!$B$12)),\"\")","v":""},null,{"$f":"IF(AA2=$A58,(COUNTIF(Z37,\">0\")+COUNTIF(Z24,\">0\")+COUNTIF(Z11,\">0\")),\"\")","v":""},null,{"$f":"IF(AA2=$A58,(COUNTIF(AB37,\">=\"&LISTS!$B$12)+COUNTIF(AB24,\">=\"&LISTS!$B$12)+COUNTIF(AB11,\">=\"&LISTS!$B$12)),\"\")","v":""}]
["TOTAL all Deliveries",{"$f":"SUM(B60:B63)","v":0},null,{"$f":"SUM(D60:D63)","v":0},null,{"$f":"SUM(F60:F63)","v":0},null,{"$f":"SUM(H60:H63)","v":0},null,{"$f":"SUM(J60:J63)","v":0},null,{"$f":"SUM(L60:L63)","v":0},null,{"$f":"SUM(N60:N63)","v":0},null,{"$f":"SUM(P60:P63)","v":0},null,{"$f":"SUM(R60:R63)","v":0},null,{"$f":"SUM(T60:T63)","v":0},null,{"$f":"SUM(V60:V63)","v":0},null,{"$f":"SUM(X60:X63)","v":0},null,{"$f":"SUM(Z60:Z63)","v":0},null,{"$f":"SUM(AB60:AB63)","v":0}]
["Oct-Dec",{"$f":"SUM(B55,F55,J55,N55,R55,V55,Z55)","v":0},null,{"$f":"SUM(D55,H55,L55,P55,T55,X55,AB55)","v":0}]
["Jan-Mar",{"$f":"SUM(B56,F56,J56,N56,R56,V56,Z56)","v":0},null,0]
["Apr-Jun",0,null,0]
["Jul-Sep",{"$f":"SUM(B58,F58,J58,N58,R58,V58,Z58)","v":0},null,{"$f":"SUM(D58,H58,L58,P58,T58,X58,AB58)","v":0}]
[]
["Yth Sess 2 - Appreciating Parents",null,{"$f":"COUNTIF(B$3:D$29,$A65)","v":0},null,null,null,{"$f":"COUNTIF(F$3:H$29,$A65)","v":0},null,null,null,{"$f":"COUNTIF(J$3:L$29,$A65)","v":0},null,null,null,{"$f":"COUNTIF(N$3:P$29,$A65)","v":0},null,null,null,{"$f":"COUNTIF(R$3:T$29,$A65)","v":0},null,null,null,{"$f":"COUNTIF(V$3:X$29,$A65)","v":0},null,null,null,{"$f":"COUNTIF(Z$3:AB$29,$A65)","v":0}]
["Yth Sess 3 - Dealing with Stress",null,{"$f":"COUNTIF(B$3:D$29,$A66)","v":0},null,null,null,{"$f":"COUNTIF(F$3:H$29,$A66)","v":0},null,null,null,{"$f":"COUNTIF(J$3:L$29,$A66)","v":0},null,null,null,{"$f":"COUNTIF(N$3:P$29,$A66)","v":0},null,null,null,{"$f":"COUNTIF(R$3:T$29,$A66)","v":0},null,null,null,{"$f":"COUNTIF(V$3:X$29,$A66)","v":0},null,null,null,{"$f":"COUNTIF(Z$3:AB$29,$A66)","v":0}]
["Yth Sess 4 - Following Rules",null,0,null,null,null,{"$f":"COUNTIF(F$3:H$29,$A67)","v":0},null,null,null,{"$f":"COUNTIF(J$3:L$29,$A67)","v":0},null,null,null,{"$f":"COUNTIF(N$3:P$29,$A67)","v":0},null,null,null,{"$f":"COUNTIF(R$3:T$29,$A67)","v":0},null,null,null,{"$f":"COUNTIF(V$3:X$29,$A67)","v":0},null,null,null,{"$f":"COUNTIF(Z$3:AB$29,$A67)","v":0}]
["Yth Sess 5 - Dealing with Peer Pressure",null,0,null,null,null,{"$f":"COUNTIF(F$3:H$29,$A68)","v":0},null,null,null,{"$f":"COUNTIF(J$3:L$29,$A68)","v":0},null,null,null,{"$f":"COUNTIF(N$3:P$29,$A68)","v":0},null,null,null,{"$f":"COUNTIF(R$3:T$29,$A68)","v":0},null,null,null,{"$f":"COUNTIF(V$3:X$29,$A68)","v":0},null,null,null,{"$f":"COUNTIF(Z$3:AB$29,$A68)","v":0}]
["Yth Sess 6 - Peer Pressure and Good Friends",null,0,null,null,null,{"$f":"COUNTIF(F$3:H$29,$A69)","v":0},null,null,null,{"$f":"COUNTIF(J$3:L$29,$A69)","v":0},null,null,null,{"$f":"COUNTIF(N$3:P$29,$A69)","v":0},null,null,null,{"$f":"COUNTIF(R$3:T$29,$A69)","v":0},null,null,null,{"$f":"COUNTIF(V$3:X$29,$A69)","v":0},null,null,null,{"$f":"COUNTIF(Z$3:AB$29,$A69)","v":0}]
[]
[]
["Section 1 - Room/Equipment",{"$f":"IF(COUNTIF(B12,\">=0\")+COUNTIF(B25,\">=0\")+COUNTIF(B38,\">=0\")>0,COUNTIF(B12,\">=0\")+COUNTIF(B25,\">=0\")+COUNTIF(B38,\">=0\"),\"\")","v":""},null,null,null,{"$f":"IF(COUNTIF(F12,\">=0\")+COUNTIF(F25,\">=0\")+COUNTIF(F38,\">=0\")>0,COUNTIF(F12,\">=0\")+COUNTIF(F25,\">=0\")+COUNTIF(F38,\">=0\"),\"\")","v":""},null,null,null,{"$f":"IF(COUNTIF(J12,\">=0\")+COUNTIF(J25,\">=0\")+COUNTIF(J38,\">=0\")>0,COUNTIF(J12,\">=0\")+COUNTIF(J25,\">=0\")+COUNTIF(J38,\">=0\"),\"\")","v":""},null,null,null,{"$f":"IF(COUNTIF(N12,\">=0\")+COUNTIF(N25,\">=0\")+COUNTIF(N38,\">=0\")>0,COUNTIF(N12,\">=0\")+COUNTIF(N25,\">=0\")+COUNTIF(N38,\">=0\"),\"\")","v":""},null,null,null,{"$f":"IF(COUNTIF(R12,\">=0\")+COUNTIF(R25,\">=0\")+COUNTIF(R38,\">=0\")>0,COUNTIF(R12,\">=0\")+COUNTIF(R25,\">=0\")+COUNTIF(R38,\">=0\"),\"\")","v":""},null,null,null,{"$f":"IF(COUNTIF(V12,\">=0\")+COUNTIF(V25,\">=0\")+COUNTIF(V38,\">=0\")>0,COUNTIF(V12,\">=0\")+COUNTIF(V25,\">=0\")+COUNTIF(V38,\">=0\"),\"\")","v":""},null,null,null,{"$f":"IF(COUNTIF(Z12,\">=0\")+COUNTIF(Z25,\">=0\")+COUNTIF(Z38,\">=0\")>0,COUNTIF(Z12,\">=0\")+COUNTIF(Z25,\">=0\")+COUNTIF(Z38,\">=0\"),\"\")","v":""}]
["Section 2 – Curriculum Adherence",{"$f":"IF(COUNTIF(B8,\">=0\")+COUNTIF(B21,\">=0\")+COUNTIF(B34,\">=0\")>0,COUNTIF(B8,\">=0\")+COUNTIF(B21,\">=0\")+COUNTIF(B34,\">=0\"),\"\")","v":""},null,null,null,{"$f":"IF(COUNTIF(F8,\">=0\")+COUNTIF(F21,\">=0\")+COUNTIF(F34,\">=0\")>0,COUNTIF(F8,\">=0\")+COUNTIF(F21,\">=0\")+COUNTIF(F34,\">=0\"),\"\")","v":""},null,null,null,{"$f":"IF(COUNTIF(J8,\">=0\")+COUNTIF(J21,\">=0\")+COUNTIF(J34,\">=0\")>0,COUNTIF(J8,\">=0\")+COUNTIF(J21,\">=0\")+COUNTIF(J34,\">=0\"),\"\")","v":""},null,null,null,{"$f":"IF(COUNTIF(N8,\">=0\")+COUNTIF(N21,\">=0\")+COUNTIF(N34,\">=0\")>0,COUNTIF(N8,\">=0\")+COUNTIF(N21,\">=0\")+COUNTIF(N34,\">=0\"),\"\")","v":""},null,null,null,{"$f":"IF(COUNTIF(R8,\">=0\")+COUNTIF(R21,\">=0\")+COUNTIF(R34,\">=0\")>0,COUNTIF(R8,\">=0\")+COUNTIF(R21,\">=0\")+COUNTIF(R34,\">=0\"),\"\")","v":""},null,null,null,{"$f":"IF(COUNTIF(V8,\">=0\")+COUNTIF(V21,\">=0\")+COUNTIF(V34,\">=0\")>0,COUNTIF(V8,\">=0\")+COUNTIF(V21,\">=0\")+COUNTIF(V34,\">=0\"),\"\")","v":""},null,null,null,{"$f":"IF(COUNTIF(Z8,\">=0\")+COUNTIF(Z21,\">=0\")+COUNTIF(Z34,\">=0\")>0,COUNTIF(Z8,\">=0\")+COUNTIF(Z21,\">=0\")+COUNTIF(Z34,\">=0\"),\"\")","v":""}]
["Section 3 – Youth Facilitator 1's Delivery",{"$f":"IF(COUNTIF(B9,\">=0\")+COUNTIF(B22,\">=0\")+COUNTIF(B35,\">=0\")>0,COUNTIF(B9,\">=0\")+COUNTIF(B22,\">=0\")+COUNTIF(B35,\">=0\"),\"\")","v":""},null,null,null,{"$f":"IF(COUNTIF(F9,\">=0\")+COUNTIF(F22,\">=0\")+COUNTIF(F35,\">=0\")>0,COUNTIF(F9,\">=0\")+COUNTIF(F22,\">=0\")+COUNTIF(F35,\">=0\"),\"\")","v":""},null,null,null,{"$f":"IF(COUNTIF(J9,\">=0\")+COUNTIF(J22,\">=0\")+COUNTIF(J35,\">=0\")>0,COUNTIF(J9,\">=0\")+COUNTIF(J22,\">=0\")+COUNTIF(J35,\">=0\"),\"\")","v":""},null,null,null,{"$f":"IF(COUNTIF(N9,\">=0\")+COUNTIF(N22,\">=0\")+COUNTIF(N35,\">=0\")>0,COUNTIF(N9,\">=0\")+COUNTIF(N22,\">=0\")+COUNTIF(N35,\">=0\"),\"\")","v":""},null,null,null,{"$f":"IF(COUNTIF(R9,\">=0\")+COUNTIF(R22,\">=0\")+COUNTIF(R35,\">=0\")>0,COUNTIF(R9,\">=0\")+COUNTIF(R22,\">=0\")+COUNTIF(R35,\">=0\"),\"\")","v":""},null,null,null,{"$f":"IF(COUNTIF(V9,\">=0\")+COUNTIF(V22,\">=0\")+COUNTIF(V35,\">=0\")>0,COUNTIF(V9,\">=0\")+COUNTIF(V22,\">=0\")+COUNTIF(V35,\">=0\"),\"\")","v":""},null,null,null,{"$f":"IF(COUNTIF(Z9,\">=0\")+COUNTIF(Z22,\">=0\")+COUNTIF(Z35,\">=0\")>0,COUNTIF(Z9,\">=0\")+COUNTIF(Z22,\">=0\")+COUNTIF(Z35,\">=0\"),\"\")","v":""}]
["Section 4 – Youth Facilitator 2's Delivery",{"$f":"IF(COUNTIF(B10,\">=0\")+COUNTIF(B23,\">=0\")+COUNTIF(B36,\">=0\")>0,COUNTIF(B10,\">=0\")+COUNTIF(B23,\">=0\")+COUNTIF(B36,\">=0\"),\"\")","v":""},null,null,null,{"$f":"IF(COUNTIF(F10,\">=0\")+COUNTIF(F23,\">=0\")+COUNTIF(F36,\">=0\")>0,COUNTIF(F10,\">=0\")+COUNTIF(F23,\">=0\")+COUNTIF(F36,\">=0\"),\"\")","v":""},null,null,null,{"$f":"IF(COUNTIF(J10,\">=0\")+COUNTIF(J23,\">=0\")+COUNTIF(J36,\">=0\")>0,COUNTIF(J10,\">=0\")+COUNTIF(J23,\">=0\")+COUNTIF(J36,\">=0\"),\"\")","v":""},null,null,null,{"$f":"IF(COUNTIF(N10,\">=0\")+COUNTIF(N23,\">=0\")+COUNTIF(N36,\">=0\")>0,COUNTIF(N10,\">=0\")+COUNTIF(N23,\">=0\")+COUNTIF(N36,\">=0\"),\"\")","v":""},null,null,null,{"$f":"IF(COUNTIF(R10,\">=0\")+COUNTIF(R23,\">=0\")+COUNTIF(R36,\">=0\")>0,COUNTIF(R10,\">=0\")+COUNTIF(R23,\">=0\")+COUNTIF(R36,\">=0\"),\"\")","v":""},null,null,null,{"$f":"IF(COUNTIF(V10,\">=0\")+COUNTIF(V23,\">=0\")+COUNTIF(V36,\">=0\")>0,COUNTIF(V10,\">=0\")+COUNTIF(V23,\">=0\")+COUNTIF(V36,\">=0\"),\"\")","v":""},null,null,null,{"$f":"IF(COUNTIF(Z10,\">=0\")+COUNTIF(Z23,\">=0\")+COUNTIF(Z36,\">=0\")>0,COUNTIF(Z10,\">=0\")+COUNTIF(Z23,\">=0\")+COUNTIF(Z36,\">=0\"),\"\")","v":""}]
["Section 5 – Group Participation",{"$f":"IF(COUNTIF(B13,\">=0\")+COUNTIF(B26,\">=0\")+COUNTIF(B39,\">=0\")>0,COUNTIF(B13,\">=0\")+COUNTIF(B26,\">=0\")+COUNTIF(B39,\">=0\"),\"\")","v":""},null,null,null,{"$f":"IF(COUNTIF(F13,\">=0\")+COUNTIF(F26,\">=0\")+COUNTIF(F39,\">=0\")>0,COUNTIF(F13,\">=0\")+COUNTIF(F26,\">=0\")+COUNTIF(F39,\">=0\"),\"\")","v":""},null,null,null,{"$f":"IF(COUNTIF(J13,\">=0\")+COUNTIF(J26,\">=0\")+COUNTIF(J39,\">=0\")>0,COUNTIF(J13,\">=0\")+COUNTIF(J26,\">=0\")+COUNTIF(J39,\">=0\"),\"\")","v":""},null,null,null,{"$f":"IF(COUNTIF(N13,\">=0\")+COUNTIF(N26,\">=0\")+COUNTIF(N39,\">=0\")>0,COUNTIF(N13,\">=0\")+COUNTIF(N26,\">=0\")+COUNTIF(N39,\">=0\"),\"\")","v":""},null,null,null,{"$f":"IF(COUNTIF(R13,\">=0\")+COUNTIF(R26,\">=0\")+COUNTIF(R39,\">=0\")>0,COUNTIF(R13,\">=0\")+COUNTIF(R26,\">=0\")+COUNTIF(R39,\">=0\"),\"\")","v":""},null,null,null,{"$f":"IF(COUNTIF(V13,\">=0\")+COUNTIF(V26,\">=0\")+COUNTIF(V39,\">=0\")>0,COUNTIF(V13,\">=0\")+COUNTIF(V26,\">=0\")+COUNTIF(V39,\">=0\"),\"\")","v":""},null,null,null,{"$f":"IF(COUNTIF(Z13,\">=0\")+COUNTIF(Z26,\">=0\")+COUNTIF(Z39,\">=0\")>0,COUNTIF(Z13,\">=0\")+COUNTIF(Z26,\">=0\")+COUNTIF(Z39,\">=0\"),\"\")","v":""}]

{"sheet":"Family Fidelity","index":9,"n_rows":77,"n_cols":16383,"rows_kept":77,"cut":false,"hidden":false,"merged":[[30,25,30,27],[30,1,30,3],[30,5,30,7],[30,9,30,11],[30,13,30,15],[30,17,30,19],[30,21,30,23],[2,25,2,27],[16,1,16,3],[16,5,16,7],[16,9,16,11],[16,13,16,15],[16,17,16,19],[16,21,16,23],[16,25,16,27],[2,1,2,3],[2,5,2,7],[2,9,2,11],[2,13,2,15],[2,17,2,19],[2,21,2,23]]}
["Enter family session fidelity data.",null,null,null,"Enter family session fidelity data.",null,null,null,"Enter family session fidelity data.",null,null,null,"Enter family session fidelity data.",null,null,null,"Enter family session fidelity data.",null,null,null,"Enter family session fidelity data.",null,null,null,"Enter family session fidelity data."]
[null,"DELIVERY 1",{"$f":"Attendance!$E$3","v":0},null,null,"DELIVERY 2",{"$f":"Attendance!$K$3","v":0},null,null,"DELIVERY 3",{"$f":"Attendance!$Q$3","v":0},null,null,"DELIVERY 4",{"$f":"Attendance!$W$3","v":0},null,null,"DELIVERY 5",{"$f":"Attendance!$AC$3","v":0},null,null,"DELIVERY 6",{"$f":"Attendance!$AI$3","v":0},null,null,"DELIVERY 7",{"$f":"Attendance!$AO$3","v":0}]
["Family Session Observed",null,null,null,"Family Session Observed",null,null,null,"Family Session Observed",null,null,null,"Family Session Observed",null,null,null,"Family Session Observed",null,null,null,"Family Session Observed",null,null,null,"Family Session Observed"]
["Observer Name",null,null,null,"Observer Name",null,null,null,"Observer Name",null,null,null,"Observer Name",null,null,null,"Observer Name",null,null,null,"Observer Name",null,null,null,"Observer Name"]
["Observation Date",null,null,null,"Observation Date",null,null,null,"Observation Date",null,null,null,"Observation Date",null,null,null,"Observation Date",null,null,null,"Observation Date",null,null,null,"Observation Date"]
["Facilitator's Name",null,null,null,"Facilitator's Name",null,null,null,"Facilitator's Name",null,null,null,"Facilitator's Name",null,null,null,"Facilitator's Name",null,null,null,"Facilitator's Name",null,null,null,"Facilitator's Name"]
["Rated Component","Points Awarded by the Observer","Possible Points","Percentage","Rated Component","Points Awarded by the Observer","Possible Points","Percentage","Rated Component","Points Awarded by the Observer","Possible Points","Percentage","Rated Component","Points Awarded by the Observer","Possible Points","Percentage","Rated Component","Points Awarded by the Observer","Possible Points","Percentage","Rated Component","Points Awarded by the Observer","Possible Points","Percentage","Rated Component","Points Awarded by the Observer","Possible Points","Percentage"]
["Section 2 – Curriculum Adherence",null,{"$f":"IF(B3=\"\",\"TBD\",VLOOKUP('Family Fidelity'!B3,LISTS!$A$2:$K$8,5,FALSE))","v":"TBD"},{"$f":"IFERROR(B8/C8,0)","v":0},"Section 2 – Curriculum Adherence",null,{"$f":"IF(F3=\"\",\"TBD\",VLOOKUP('Family Fidelity'!F3,LISTS!$A$2:$K$8,5,FALSE))","v":"TBD"},{"$f":"IFERROR(F8/G8,0)","v":0},"Section 2 – Curriculum Adherence",null,{"$f":"IF(J3=\"\",\"TBD\",VLOOKUP('Family Fidelity'!J3,LISTS!$A$2:$K$8,5,FALSE))","v":"TBD"},{"$f":"IFERROR(J8/K8,0)","v":0},"Section 2 – Curriculum Adherence",null,{"$f":"IF(N3=\"\",\"TBD\",VLOOKUP('Family Fidelity'!N3,LISTS!$A$2:$K$8,5,FALSE))","v":"TBD"},{"$f":"IFERROR(N8/O8,0)","v":0},"Section 2 – Curriculum Adherence",null,{"$f":"IF(R3=\"\",\"TBD\",VLOOKUP('Family Fidelity'!R3,LISTS!$A$2:$K$8,5,FALSE))","v":"TBD"},{"$f":"IFERROR(R8/S8,0)","v":0},"Section 2 – Curriculum Adherence",null,{"$f":"IF(V3=\"\",\"TBD\",VLOOKUP('Family Fidelity'!V3,LISTS!$A$2:$K$8,5,FALSE))","v":"TBD"},{"$f":"IFERROR(V8/W8,0)","v":0},"Section 2 – Curriculum Adherence",null,{"$f":"IF(Z3=\"\",\"TBD\",VLOOKUP('Family Fidelity'!Z3,LISTS!$A$2:$K$8,5,FALSE))","v":"TBD"},{"$f":"IFERROR(Z8/AA8,0)","v":0}]
["Section 3 - Parent Facilitator's Delivery",null,57,0,"Section 3 - Parent Facilitator's Delivery",null,57,0,"Section 3 - Parent Facilitator's Delivery",null,57,0,"Section 3 - Parent Facilitator's Delivery",null,57,0,"Section 3 - Parent Facilitator's Delivery",null,57,0,"Section 3 - Parent Facilitator's Delivery",null,57,0,"Section 3 - Parent Facilitator's Delivery",null,57,0]
["Section 4 – Youth Facilitator 1's Delivery",null,57,0,"Section 4 – Youth Facilitator 1's Delivery",null,57,0,"Section 4 – Youth Facilitator 1's Delivery",null,57,0,"Section 4 – Youth Facilitator 1's Delivery",null,57,0,"Section 4 – Youth Facilitator 1's Delivery",null,57,0,"Section 4 – Youth Facilitator 1's Delivery",null,57,0,"Section 4 – Youth Facilitator 1's Delivery",null,57,0]
["Section 5 – Youth Facilitator 2's Delivery",null,57,0,"Section 5 – Youth Facilitator 2's Delivery",null,57,0,"Section 5 – Youth Facilitator 2's Delivery",null,57,0,"Section 5 – Youth Facilitator 2's Delivery",null,57,0,"Section 5 – Youth Facilitator 2's Delivery",null,57,0,"Section 5 – Youth Facilitator 2's Delivery",null,57,0,"Section 5 – Youth Facilitator 2's Delivery",null,57,0]
["Sub-Score for Curriculum and Delivery Adherence ",{"$f":"SUM(B8:B11)","v":0},{"$f":"IF(B3=\"\",\"TBD\",VLOOKUP('Family Fidelity'!B3,LISTS!$A$2:$K$8,10,FALSE))","v":"TBD"},0,"Sub-Score for Curriculum and Delivery Adherence ",{"$f":"SUM(F8:F11)","v":0},{"$f":"IF(F3=\"\",\"TBD\",VLOOKUP('Family Fidelity'!F3,LISTS!$A$2:$K$8,10,FALSE))","v":"TBD"},0,"Sub-Score for Curriculum and Delivery Adherence ",{"$f":"SUM(J8:J11)","v":0},{"$f":"IF(J3=\"\",\"TBD\",VLOOKUP('Family Fidelity'!J3,LISTS!$A$2:$K$8,10,FALSE))","v":"TBD"},0,"Sub-Score for Curriculum and Delivery Adherence ",{"$f":"SUM(N8:N11)","v":0},{"$f":"IF(N3=\"\",\"TBD\",VLOOKUP('Family Fidelity'!N3,LISTS!$A$2:$K$8,10,FALSE))","v":"TBD"},0,"Sub-Score for Curriculum and Delivery Adherence ",{"$f":"SUM(R8:R11)","v":0},{"$f":"IF(R3=\"\",\"TBD\",VLOOKUP('Family Fidelity'!R3,LISTS!$A$2:$K$8,10,FALSE))","v":"TBD"},0,"Sub-Score for Curriculum and Delivery Adherence ",{"$f":"SUM(V8:V11)","v":0},{"$f":"IF(V3=\"\",\"TBD\",VLOOKUP('Family Fidelity'!V3,LISTS!$A$2:$K$8,10,FALSE))","v":"TBD"},0,"Sub-Score for Curriculum and Delivery Adherence ",{"$f":"SUM(Z8:Z11)","v":0},{"$f":"IF(Z3=\"\",\"TBD\",VLOOKUP('Family Fidelity'!Z3,LISTS!$A$2:$K$8,10,FALSE))","v":"TBD"},0]
["Section 1 - Room/Equipment",null,12,{"$f":"B13/12","v":0},"Section 1 - Room/Equipment",null,12,{"$f":"F13/12","v":0},"Section 1 - Room/Equipment",null,12,{"$f":"J13/12","v":0},"Section 1 - Room/Equipment",null,12,{"$f":"N13/12","v":0},"Section 1 - Room/Equipment",null,12,{"$f":"R13/12","v":0},"Section 1 - Room/Equipment",null,12,{"$f":"V13/12","v":0},"Section 1 - Room/Equipment",null,12,{"$f":"Z13/12","v":0}]
["Section 6 – Group Participation",null,5,{"$f":"B14/5","v":0},"Section 6 – Group Participation",null,5,{"$f":"F14/5","v":0},"Section 6 – Group Participation",null,5,{"$f":"J14/5","v":0},"Section 6 – Group Participation",null,5,{"$f":"N14/5","v":0},"Section 6 – Group Participation",null,5,{"$f":"R14/5","v":0},"Section 6 – Group Participation",null,5,{"$f":"V14/5","v":0},"Section 6 – Group Participation",null,5,{"$f":"Z14/5","v":0}]
["Overall Fidelity Score ",{"$f":"SUM(B8:B11,B13:B14)","v":0},{"$f":"IF(B3=\"\",\"TBD\",VLOOKUP('Family Fidelity'!B3,LISTS!$A$2:$K$8,11,FALSE))","v":"TBD"},{"$f":"IFERROR(B15/C15,0)","v":0},"Overall Fidelity Score ",{"$f":"SUM(F8:F11,F13:F14)","v":0},{"$f":"IF(F3=\"\",\"TBD\",VLOOKUP('Family Fidelity'!F3,LISTS!$A$2:$K$8,11,FALSE))","v":"TBD"},{"$f":"IFERROR(F15/G15,0)","v":0},"Overall Fidelity Score ",{"$f":"SUM(J8:J11,J13:J14)","v":0},{"$f":"IF(J3=\"\",\"TBD\",VLOOKUP('Family Fidelity'!J3,LISTS!$A$2:$K$8,11,FALSE))","v":"TBD"},{"$f":"IFERROR(J15/K15,0)","v":0},"Overall Fidelity Score ",{"$f":"SUM(N8:N11,N13:N14)","v":0},{"$f":"IF(N3=\"\",\"TBD\",VLOOKUP('Family Fidelity'!N3,LISTS!$A$2:$K$8,11,FALSE))","v":"TBD"},{"$f":"IFERROR(N15/O15,0)","v":0},"Overall Fidelity Score ",{"$f":"SUM(R8:R11,R13:R14)","v":0},{"$f":"IF(R3=\"\",\"TBD\",VLOOKUP('Family Fidelity'!R3,LISTS!$A$2:$K$8,11,FALSE))","v":"TBD"},{"$f":"IFERROR(R15/S15,0)","v":0},"Overall Fidelity Score ",{"$f":"SUM(V8:V11,V13:V14)","v":0},{"$f":"IF(V3=\"\",\"TBD\",VLOOKUP('Family Fidelity'!V3,LISTS!$A$2:$K$8,11,FALSE))","v":"TBD"},{"$f":"IFERROR(V15/W15,0)","v":0},"Overall Fidelity Score ",{"$f":"SUM(Z8:Z11,Z13:Z14)","v":0},{"$f":"IF(Z3=\"\",\"TBD\",VLOOKUP('Family Fidelity'!Z3,LISTS!$A$2:$K$8,11,FALSE))","v":"TBD"},{"$f":"IFERROR(Z15/AA15,0)","v":0}]
[]
["Family Session Observed",null,null,null,"Family Session Observed",null,null,null,"Family Session Observed",null,null,null,"Family Session Observed",null,null,null,"Family Session Observed",null,null,null,"Family Session Observed",null,null,null,"Family Session Observed"]
["Observer Name",null,null,null,"Observer Name",null,null,null,"Observer Name",null,null,null,"Observer Name",null,null,null,"Observer Name",null,null,null,"Observer Name",null,null,null,"Observer Name"]
["Observation Date",null,null,null,"Observation Date",null,null,null,"Observation Date",null,null,null,"Observation Date",null,null,null,"Observation Date",null,null,null,"Observation Date",null,null,null,"Observation Date"]
["Facilitator's Name",null,null,null,"Facilitator's Name",null,null,null,"Facilitator's Name",null,null,null,"Facilitator's Name",null,null,null,"Facilitator's Name",null,null,null,"Facilitator's Name",null,null,null,"Facilitator's Name"]
["Rated Component","Points Awarded by the Observer","Possible Points","Percentage","Rated Component","Points Awarded by the Observer","Possible Points","Percentage","Rated Component","Points Awarded by the Observer","Possible Points","Percentage","Rated Component","Points Awarded by the Observer","Possible Points","Percentage","Rated Component","Points Awarded by the Observer","Possible Points","Percentage","Rated Component","Points Awarded by the Observer","Possible Points","Percentage","Rated Component","Points Awarded by the Observer","Possible Points","Percentage"]
["Section 2 – Curriculum Adherence",null,{"$f":"IF(B17=\"\",\"TBD\",VLOOKUP('Family Fidelity'!B17,LISTS!$A$2:$K$8,5,FALSE))","v":"TBD"},{"$f":"IFERROR(B22/C22,0)","v":0},"Section 2 – Curriculum Adherence",null,{"$f":"IF(F17=\"\",\"TBD\",VLOOKUP('Family Fidelity'!F17,LISTS!$A$2:$K$8,5,FALSE))","v":"TBD"},{"$f":"IFERROR(F22/G22,0)","v":0},"Section 2 – Curriculum Adherence",null,{"$f":"IF(J17=\"\",\"TBD\",VLOOKUP('Family Fidelity'!J17,LISTS!$A$2:$K$8,5,FALSE))","v":"TBD"},{"$f":"IFERROR(J22/K22,0)","v":0},"Section 2 – Curriculum Adherence",null,{"$f":"IF(N17=\"\",\"TBD\",VLOOKUP('Family Fidelity'!N17,LISTS!$A$2:$K$8,5,FALSE))","v":"TBD"},{"$f":"IFERROR(N22/O22,0)","v":0},"Section 2 – Curriculum Adherence",null,{"$f":"IF(R17=\"\",\"TBD\",VLOOKUP('Family Fidelity'!R17,LISTS!$A$2:$K$8,5,FALSE))","v":"TBD"},{"$f":"IFERROR(R22/S22,0)","v":0},"Section 2 – Curriculum Adherence",null,{"$f":"IF(V17=\"\",\"TBD\",VLOOKUP('Family Fidelity'!V17,LISTS!$A$2:$K$8,5,FALSE))","v":"TBD"},{"$f":"IFERROR(V22/W22,0)","v":0},"Section 2 – Curriculum Adherence",null,{"$f":"IF(Z17=\"\",\"TBD\",VLOOKUP('Family Fidelity'!Z17,LISTS!$A$2:$K$8,5,FALSE))","v":"TBD"},{"$f":"IFERROR(Z22/AA22,0)","v":0}]
["Section 3 - Parent Facilitator's Delivery",null,57,0,"Section 3 - Parent Facilitator's Delivery",null,57,0,"Section 3 - Parent Facilitator's Delivery",null,57,0,"Section 3 - Parent Facilitator's Delivery",null,57,0,"Section 3 - Parent Facilitator's Delivery",null,57,0,"Section 3 - Parent Facilitator's Delivery",null,57,0,"Section 3 - Parent Facilitator's Delivery",null,57,0]
["Section 4 – Youth Facilitator 1's Delivery",null,57,0,"Section 4 – Youth Facilitator 1's Delivery",null,57,0,"Section 4 – Youth Facilitator 1's Delivery",null,57,0,"Section 4 – Youth Facilitator 1's Delivery",null,57,0,"Section 4 – Youth Facilitator 1's Delivery",null,57,0,"Section 4 – Youth Facilitator 1's Delivery",null,57,0,"Section 4 – Youth Facilitator 1's Delivery",null,57,0]
["Section 5 – Youth Facilitator 2's Delivery",null,57,0,"Section 5 – Youth Facilitator 2's Delivery",null,57,0,"Section 5 – Youth Facilitator 2's Delivery",null,57,0,"Section 5 – Youth Facilitator 2's Delivery",null,57,0,"Section 5 – Youth Facilitator 2's Delivery",null,57,0,"Section 5 – Youth Facilitator 2's Delivery",null,57,0,"Section 5 – Youth Facilitator 2's Delivery",null,57,0]
["Sub-Score for Curriculum and Delivery Adherence ",{"$f":"SUM(B22:B25)","v":0},{"$f":"IF(B17=\"\",\"TBD\",VLOOKUP('Family Fidelity'!B17,LISTS!$A$2:$K$8,10,FALSE))","v":"TBD"},0,"Sub-Score for Curriculum and Delivery Adherence ",{"$f":"SUM(F22:F25)","v":0},{"$f":"IF(F17=\"\",\"TBD\",VLOOKUP('Family Fidelity'!F17,LISTS!$A$2:$K$8,10,FALSE))","v":"TBD"},0,"Sub-Score for Curriculum and Delivery Adherence ",{"$f":"SUM(J22:J25)","v":0},{"$f":"IF(J17=\"\",\"TBD\",VLOOKUP('Family Fidelity'!J17,LISTS!$A$2:$K$8,10,FALSE))","v":"TBD"},0,"Sub-Score for Curriculum and Delivery Adherence ",{"$f":"SUM(N22:N25)","v":0},{"$f":"IF(N17=\"\",\"TBD\",VLOOKUP('Family Fidelity'!N17,LISTS!$A$2:$K$8,10,FALSE))","v":"TBD"},0,"Sub-Score for Curriculum and Delivery Adherence ",{"$f":"SUM(R22:R25)","v":0},{"$f":"IF(R17=\"\",\"TBD\",VLOOKUP('Family Fidelity'!R17,LISTS!$A$2:$K$8,10,FALSE))","v":"TBD"},0,"Sub-Score for Curriculum and Delivery Adherence ",{"$f":"SUM(V22:V25)","v":0},{"$f":"IF(V17=\"\",\"TBD\",VLOOKUP('Family Fidelity'!V17,LISTS!$A$2:$K$8,10,FALSE))","v":"TBD"},0,"Sub-Score for Curriculum and Delivery Adherence ",{"$f":"SUM(Z22:Z25)","v":0},{"$f":"IF(Z17=\"\",\"TBD\",VLOOKUP('Family Fidelity'!Z17,LISTS!$A$2:$K$8,10,FALSE))","v":"TBD"},0]
["Section 1 - Room/Equipment",null,12,{"$f":"B27/12","v":0},"Section 1 - Room/Equipment",null,12,{"$f":"F27/12","v":0},"Section 1 - Room/Equipment",null,12,{"$f":"J27/12","v":0},"Section 1 - Room/Equipment",null,12,{"$f":"N27/12","v":0},"Section 1 - Room/Equipment",null,12,{"$f":"R27/12","v":0},"Section 1 - Room/Equipment",null,12,{"$f":"V27/12","v":0},"Section 1 - Room/Equipment",null,12,{"$f":"Z27/12","v":0}]
["Section 6 – Group Participation",null,5,{"$f":"B28/5","v":0},"Section 6 – Group Participation",null,5,{"$f":"F28/5","v":0},"Section 6 – Group Participation",null,5,{"$f":"J28/5","v":0},"Section 6 – Group Participation",null,5,{"$f":"N28/5","v":0},"Section 6 – Group Participation",null,5,{"$f":"R28/5","v":0},"Section 6 – Group Participation",null,5,{"$f":"V28/5","v":0},"Section 6 – Group Participation",null,5,{"$f":"Z28/5","v":0}]
["Overall Fidelity Score ",{"$f":"SUM(B22:B25,B27:B28)","v":0},{"$f":"IF(B17=\"\",\"TBD\",VLOOKUP('Family Fidelity'!B17,LISTS!$A$2:$K$8,11,FALSE))","v":"TBD"},{"$f":"IFERROR(B29/C29,0)","v":0},"Overall Fidelity Score ",{"$f":"SUM(F22:F25,F27:F28)","v":0},{"$f":"IF(F17=\"\",\"TBD\",VLOOKUP('Family Fidelity'!F17,LISTS!$A$2:$K$8,11,FALSE))","v":"TBD"},{"$f":"IFERROR(F29/G29,0)","v":0},"Overall Fidelity Score ",{"$f":"SUM(J22:J25,J27:J28)","v":0},{"$f":"IF(J17=\"\",\"TBD\",VLOOKUP('Family Fidelity'!J17,LISTS!$A$2:$K$8,11,FALSE))","v":"TBD"},{"$f":"IFERROR(J29/K29,0)","v":0},"Overall Fidelity Score ",{"$f":"SUM(N22:N25,N27:N28)","v":0},{"$f":"IF(N17=\"\",\"TBD\",VLOOKUP('Family Fidelity'!N17,LISTS!$A$2:$K$8,11,FALSE))","v":"TBD"},{"$f":"IFERROR(N29/O29,0)","v":0},"Overall Fidelity Score ",{"$f":"SUM(R22:R25,R27:R28)","v":0},{"$f":"IF(R17=\"\",\"TBD\",VLOOKUP('Family Fidelity'!R17,LISTS!$A$2:$K$8,11,FALSE))","v":"TBD"},{"$f":"IFERROR(R29/S29,0)","v":0},"Overall Fidelity Score ",{"$f":"SUM(V22:V25,V27:V28)","v":0},{"$f":"IF(V17=\"\",\"TBD\",VLOOKUP('Family Fidelity'!V17,LISTS!$A$2:$K$8,11,FALSE))","v":"TBD"},{"$f":"IFERROR(V29/W29,0)","v":0},"Overall Fidelity Score ",{"$f":"SUM(Z22:Z25,Z27:Z28)","v":0},{"$f":"IF(Z17=\"\",\"TBD\",VLOOKUP('Family Fidelity'!Z17,LISTS!$A$2:$K$8,11,FALSE))","v":"TBD"},{"$f":"IFERROR(Z29/AA29,0)","v":0}]
[]
["Family Session Observed",null,null,null,"Family Session Observed",null,null,null,"Family Session Observed",null,null,null,"Family Session Observed",null,null,null,"Family Session Observed",null,null,null,"Family Session Observed",null,null,null,"Family Session Observed"]
["Observer Name",null,null,null,"Observer Name",null,null,null,"Observer Name",null,null,null,"Observer Name",null,null,null,"Observer Name",null,null,null,"Observer Name",null,null,null,"Observer Name"]
["Observation Date",null,null,null,"Observation Date",null,null,null,"Observation Date",null,null,null,"Observation Date",null,null,null,"Observation Date",null,null,null,"Observation Date",null,null,null,"Observation Date"]
["Facilitator's Name",null,null,null,"Facilitator's Name",null,null,null,"Facilitator's Name",null,null,null,"Facilitator's Name",null,null,null,"Facilitator's Name",null,null,null,"Facilitator's Name",null,null,null,"Facilitator's Name"]
["Rated Component","Points Awarded by the Observer","Possible Points","Percentage","Rated Component","Points Awarded by the Observer","Possible Points","Percentage","Rated Component","Points Awarded by the Observer","Possible Points","Percentage","Rated Component","Points Awarded by the Observer","Possible Points","Percentage","Rated Component","Points Awarded by the Observer","Possible Points","Percentage","Rated Component","Points Awarded by the Observer","Possible Points","Percentage","Rated Component","Points Awarded by the Observer","Possible Points","Percentage"]
["Section 2 – Curriculum Adherence",null,{"$f":"IF(B31=\"\",\"TBD\",VLOOKUP('Family Fidelity'!B31,LISTS!$A$2:$K$8,5,FALSE))","v":"TBD"},{"$f":"IFERROR(B36/C36,0)","v":0},"Section 2 – Curriculum Adherence",null,{"$f":"IF(F31=\"\",\"TBD\",VLOOKUP('Family Fidelity'!F31,LISTS!$A$2:$K$8,5,FALSE))","v":"TBD"},{"$f":"IFERROR(F36/G36,0)","v":0},"Section 2 – Curriculum Adherence",null,{"$f":"IF(J31=\"\",\"TBD\",VLOOKUP('Family Fidelity'!J31,LISTS!$A$2:$K$8,5,FALSE))","v":"TBD"},{"$f":"IFERROR(J36/K36,0)","v":0},"Section 2 – Curriculum Adherence",null,{"$f":"IF(N31=\"\",\"TBD\",VLOOKUP('Family Fidelity'!N31,LISTS!$A$2:$K$8,5,FALSE))","v":"TBD"},{"$f":"IFERROR(N36/O36,0)","v":0},"Section 2 – Curriculum Adherence",null,{"$f":"IF(R31=\"\",\"TBD\",VLOOKUP('Family Fidelity'!R31,LISTS!$A$2:$K$8,5,FALSE))","v":"TBD"},{"$f":"IFERROR(R36/S36,0)","v":0},"Section 2 – Curriculum Adherence",null,{"$f":"IF(V31=\"\",\"TBD\",VLOOKUP('Family Fidelity'!V31,LISTS!$A$2:$K$8,5,FALSE))","v":"TBD"},{"$f":"IFERROR(V36/W36,0)","v":0},"Section 2 – Curriculum Adherence",null,{"$f":"IF(Z31=\"\",\"TBD\",VLOOKUP('Family Fidelity'!Z31,LISTS!$A$2:$K$8,5,FALSE))","v":"TBD"},{"$f":"IFERROR(Z36/AA36,0)","v":0}]
["Section 3 - Parent Facilitator's Delivery",null,57,0,"Section 3 - Parent Facilitator's Delivery",null,57,0,"Section 3 - Parent Facilitator's Delivery",null,57,0,"Section 3 - Parent Facilitator's Delivery",null,57,0,"Section 3 - Parent Facilitator's Delivery",null,57,0,"Section 3 - Parent Facilitator's Delivery",null,57,0,"Section 3 - Parent Facilitator's Delivery",null,57,0]
["Section 4 – Youth Facilitator 1's Delivery",null,57,0,"Section 4 – Youth Facilitator 1's Delivery",null,57,0,"Section 4 – Youth Facilitator 1's Delivery",null,57,0,"Section 4 – Youth Facilitator 1's Delivery",null,57,0,"Section 4 – Youth Facilitator 1's Delivery",null,57,0,"Section 4 – Youth Facilitator 1's Delivery",null,57,0,"Section 4 – Youth Facilitator 1's Delivery",null,57,0]
["Section 5 – Youth Facilitator 2's Delivery",null,57,0,"Section 5 – Youth Facilitator 2's Delivery",null,57,0,"Section 5 – Youth Facilitator 2's Delivery",null,57,0,"Section 5 – Youth Facilitator 2's Delivery",null,57,0,"Section 5 – Youth Facilitator 2's Delivery",null,57,0,"Section 5 – Youth Facilitator 2's Delivery",null,57,0,"Section 5 – Youth Facilitator 2's Delivery",null,57,0]
["Sub-Score for Curriculum and Delivery Adherence ",{"$f":"SUM(B36:B39)","v":0},{"$f":"IF(B31=\"\",\"TBD\",VLOOKUP('Family Fidelity'!B31,LISTS!$A$2:$K$8,10,FALSE))","v":"TBD"},0,"Sub-Score for Curriculum and Delivery Adherence ",{"$f":"SUM(F36:F39)","v":0},{"$f":"IF(F31=\"\",\"TBD\",VLOOKUP('Family Fidelity'!F31,LISTS!$A$2:$K$8,10,FALSE))","v":"TBD"},0,"Sub-Score for Curriculum and Delivery Adherence ",{"$f":"SUM(J36:J39)","v":0},{"$f":"IF(J31=\"\",\"TBD\",VLOOKUP('Family Fidelity'!J31,LISTS!$A$2:$K$8,10,FALSE))","v":"TBD"},0,"Sub-Score for Curriculum and Delivery Adherence ",{"$f":"SUM(N36:N39)","v":0},{"$f":"IF(N31=\"\",\"TBD\",VLOOKUP('Family Fidelity'!N31,LISTS!$A$2:$K$8,10,FALSE))","v":"TBD"},0,"Sub-Score for Curriculum and Delivery Adherence ",{"$f":"SUM(R36:R39)","v":0},{"$f":"IF(R31=\"\",\"TBD\",VLOOKUP('Family Fidelity'!R31,LISTS!$A$2:$K$8,10,FALSE))","v":"TBD"},0,"Sub-Score for Curriculum and Delivery Adherence ",{"$f":"SUM(V36:V39)","v":0},{"$f":"IF(V31=\"\",\"TBD\",VLOOKUP('Family Fidelity'!V31,LISTS!$A$2:$K$8,10,FALSE))","v":"TBD"},0,"Sub-Score for Curriculum and Delivery Adherence ",{"$f":"SUM(Z36:Z39)","v":0},{"$f":"IF(Z31=\"\",\"TBD\",VLOOKUP('Family Fidelity'!Z31,LISTS!$A$2:$K$8,10,FALSE))","v":"TBD"},0]
["Section 1 - Room/Equipment",null,12,{"$f":"B41/12","v":0},"Section 1 - Room/Equipment",null,12,{"$f":"F41/12","v":0},"Section 1 - Room/Equipment",null,12,{"$f":"J41/12","v":0},"Section 1 - Room/Equipment",null,12,{"$f":"N41/12","v":0},"Section 1 - Room/Equipment",null,12,{"$f":"R41/12","v":0},"Section 1 - Room/Equipment",null,12,{"$f":"V41/12","v":0},"Section 1 - Room/Equipment",null,12,{"$f":"Z41/12","v":0}]
["Section 6 – Group Participation",null,5,{"$f":"B42/5","v":0},"Section 6 – Group Participation",null,5,{"$f":"F42/5","v":0},"Section 6 – Group Participation",null,5,{"$f":"J42/5","v":0},"Section 6 – Group Participation",null,5,{"$f":"N42/5","v":0},"Section 6 – Group Participation",null,5,{"$f":"R42/5","v":0},"Section 6 – Group Participation",null,5,{"$f":"V42/5","v":0},"Section 6 – Group Participation",null,5,{"$f":"Z42/5","v":0}]
["Overall Fidelity Score ",{"$f":"SUM(B36:B39,B41:B42)","v":0},{"$f":"IF(B31=\"\",\"TBD\",VLOOKUP('Family Fidelity'!B31,LISTS!$A$2:$K$8,11,FALSE))","v":"TBD"},{"$f":"IFERROR(B43/C43,0)","v":0},"Overall Fidelity Score ",{"$f":"SUM(F36:F39,F41:F42)","v":0},{"$f":"IF(F31=\"\",\"TBD\",VLOOKUP('Family Fidelity'!F31,LISTS!$A$2:$K$8,11,FALSE))","v":"TBD"},{"$f":"IFERROR(F43/G43,0)","v":0},"Overall Fidelity Score ",{"$f":"SUM(J36:J39,J41:J42)","v":0},{"$f":"IF(J31=\"\",\"TBD\",VLOOKUP('Family Fidelity'!J31,LISTS!$A$2:$K$8,11,FALSE))","v":"TBD"},{"$f":"IFERROR(J43/K43,0)","v":0},"Overall Fidelity Score ",{"$f":"SUM(N36:N39,N41:N42)","v":0},{"$f":"IF(N31=\"\",\"TBD\",VLOOKUP('Family Fidelity'!N31,LISTS!$A$2:$K$8,11,FALSE))","v":"TBD"},{"$f":"IFERROR(N43/O43,0)","v":0},"Overall Fidelity Score ",{"$f":"SUM(R36:R39,R41:R42)","v":0},{"$f":"IF(R31=\"\",\"TBD\",VLOOKUP('Family Fidelity'!R31,LISTS!$A$2:$K$8,11,FALSE))","v":"TBD"},{"$f":"IFERROR(R43/S43,0)","v":0},"Overall Fidelity Score ",{"$f":"SUM(V36:V39,V41:V42)","v":0},{"$f":"IF(V31=\"\",\"TBD\",VLOOKUP('Family Fidelity'!V31,LISTS!$A$2:$K$8,11,FALSE))","v":"TBD"},{"$f":"IFERROR(V43/W43,0)","v":0},"Overall Fidelity Score ",{"$f":"SUM(Z36:Z39,Z41:Z42)","v":0},{"$f":"IF(Z31=\"\",\"TBD\",VLOOKUP('Family Fidelity'!Z31,LISTS!$A$2:$K$8,11,FALSE))","v":"TBD"},{"$f":"IFERROR(Z43/AA43,0)","v":0}]
[{"$f":"Instructions!A2","v":"Ver. 1.1 (1-6-2016)"}]
[]
["Family Session Fidelity",null,null,null,"Family Session Fidelity",null,null,null,"Family Session Fidelity",null,null,null,"Family Session Fidelity",null,null,null,"Family Session Fidelity",null,null,null,"Family Session Fidelity",null,null,null,"Family Session Fidelity"]
["Section 1 - Room/Equipment",{"$f":"SUM(B41,B27,B13)","v":0},{"$f":"SUMIF(B13,\">0\",C13)+SUMIF(B27,\">0\",C27)+SUMIF(B41,\">0\",C41)","v":0},{"$f":"IFERROR(B47/C47,\"\")","v":""},"Section 1 - Room/Equipment",{"$f":"SUM(F41,F27,F13)","v":0},{"$f":"SUMIF(F13,\">0\",G13)+SUMIF(F27,\">0\",G27)+SUMIF(F41,\">0\",G41)","v":0},{"$f":"IFERROR(F47/G47,\"\")","v":""},"Section 1 - Room/Equipment",{"$f":"SUM(J41,J27,J13)","v":0},{"$f":"SUMIF(J13,\">0\",K13)+SUMIF(J27,\">0\",K27)+SUMIF(J41,\">0\",K41)","v":0},{"$f":"IFERROR(J47/K47,\"\")","v":""},"Section 1 - Room/Equipment",{"$f":"SUM(N41,N27,N13)","v":0},{"$f":"SUMIF(N13,\">0\",O13)+SUMIF(N27,\">0\",O27)+SUMIF(N41,\">0\",O41)","v":0},{"$f":"IFERROR(N47/O47,\"\")","v":""},"Section 1 - Room/Equipment",{"$f":"SUM(R41,R27,R13)","v":0},{"$f":"SUMIF(R13,\">0\",S13)+SUMIF(R27,\">0\",S27)+SUMIF(R41,\">0\",S41)","v":0},{"$f":"IFERROR(R47/S47,\"\")","v":""},"Section 1 - Room/Equipment",{"$f":"SUM(V41,V27,V13)","v":0},{"$f":"SUMIF(V13,\">0\",W13)+SUMIF(V27,\">0\",W27)+SUMIF(V41,\">0\",W41)","v":0},{"$f":"IFERROR(V47/W47,\"\")","v":""},"Section 1 - Room/Equipment",{"$f":"SUM(Z41,Z27,Z13)","v":0},{"$f":"SUMIF(Z13,\">0\",AA13)+SUMIF(Z27,\">0\",AA27)+SUMIF(Z41,\">0\",AA41)","v":0},{"$f":"IFERROR(Z47/AA47,\"\")","v":""}]
["Section 2 – Curriculum Adherence",{"$f":"SUM(B8,B22,B36)","v":0},{"$f":"SUMIF(B8,\">0\",C8)+SUMIF(B22,\">0\",C22)+SUMIF(B36,\">0\",C36)","v":0},{"$f":"IFERROR(B48/C48,\"\")","v":""},"Section 2 – Curriculum Adherence",{"$f":"SUM(F8,F22,F36)","v":0},{"$f":"SUMIF(F8,\">0\",G8)+SUMIF(F22,\">0\",G22)+SUMIF(F36,\">0\",G36)","v":0},{"$f":"IFERROR(F48/G48,\"\")","v":""},"Section 2 – Curriculum Adherence",{"$f":"SUM(J8,J22,J36)","v":0},{"$f":"SUMIF(J8,\">0\",K8)+SUMIF(J22,\">0\",K22)+SUMIF(J36,\">0\",K36)","v":0},"","Section 2 – Curriculum Adherence",{"$f":"SUM(N8,N22,N36)","v":0},{"$f":"SUMIF(N8,\">0\",O8)+SUMIF(N22,\">0\",O22)+SUMIF(N36,\">0\",O36)","v":0},"","Section 2 – Curriculum Adherence",{"$f":"SUM(R8,R22,R36)","v":0},{"$f":"SUMIF(R8,\">0\",S8)+SUMIF(R22,\">0\",S22)+SUMIF(R36,\">0\",S36)","v":0},"","Section 2 – Curriculum Adherence",{"$f":"SUM(V8,V22,V36)","v":0},{"$f":"SUMIF(V8,\">0\",W8)+SUMIF(V22,\">0\",W22)+SUMIF(V36,\">0\",W36)","v":0},"","Section 2 – Curriculum Adherence",{"$f":"SUM(Z8,Z22,Z36)","v":0},{"$f":"SUMIF(Z8,\">0\",AA8)+SUMIF(Z22,\">0\",AA22)+SUMIF(Z36,\">0\",AA36)","v":0},""]
["Section 3 - Parent Facilitator's Delivery",{"$f":"SUM(B9,B23,B37)","v":0},{"$f":"SUMIF(B9,\">0\",C9)+SUMIF(B23,\">0\",C23)+SUMIF(B37,\">0\",C37)","v":0},"","Section 3 - Parent Facilitator's Delivery",{"$f":"SUM(F9,F23,F37)","v":0},{"$f":"SUMIF(F9,\">0\",G9)+SUMIF(F23,\">0\",G23)+SUMIF(F37,\">0\",G37)","v":0},"","Section 3 - Parent Facilitator's Delivery",{"$f":"SUM(J9,J23,J37)","v":0},{"$f":"SUMIF(J9,\">0\",K9)+SUMIF(J23,\">0\",K23)+SUMIF(J37,\">0\",K37)","v":0},"","Section 3 - Parent Facilitator's Delivery",{"$f":"SUM(N9,N23,N37)","v":0},{"$f":"SUMIF(N9,\">0\",O9)+SUMIF(N23,\">0\",O23)+SUMIF(N37,\">0\",O37)","v":0},"","Section 3 - Parent Facilitator's Delivery",{"$f":"SUM(R9,R23,R37)","v":0},{"$f":"SUMIF(R9,\">0\",S9)+SUMIF(R23,\">0\",S23)+SUMIF(R37,\">0\",S37)","v":0},"","Section 3 - Parent Facilitator's Delivery",{"$f":"SUM(V9,V23,V37)","v":0},{"$f":"SUMIF(V9,\">0\",W9)+SUMIF(V23,\">0\",W23)+SUMIF(V37,\">0\",W37)","v":0},"","Section 3 - Parent Facilitator's Delivery",{"$f":"SUM(Z9,Z23,Z37)","v":0},{"$f":"SUMIF(Z9,\">0\",AA9)+SUMIF(Z23,\">0\",AA23)+SUMIF(Z37,\">0\",AA37)","v":0},""]
["Section 4 – Youth Facilitator 1's Delivery",{"$f":"SUM(B10,B24,B38)","v":0},{"$f":"SUMIF(B10,\">0\",C10)+SUMIF(B24,\">0\",C24)+SUMIF(B38,\">0\",C38)","v":0},"","Section 4 – Youth Facilitator 1's Delivery",{"$f":"SUM(F10,F24,F38)","v":0},{"$f":"SUMIF(F10,\">0\",G10)+SUMIF(F24,\">0\",G24)+SUMIF(F38,\">0\",G38)","v":0},"","Section 4 – Youth Facilitator 1's Delivery",0,0,"","Section 4 – Youth Facilitator 1's Delivery",0,0,"","Section 4 – Youth Facilitator 1's Delivery",0,0,"","Section 4 – Youth Facilitator 1's Delivery",0,0,"","Section 4 – Youth Facilitator 1's Delivery",0,0,""]
["Section 5 – Youth Facilitator 2's Delivery",0,0,"","Section 5 – Youth Facilitator 2's Delivery",0,0,"","Section 5 – Youth Facilitator 2's Delivery",0,0,"","Section 5 – Youth Facilitator 2's Delivery",0,0,"","Section 5 – Youth Facilitator 2's Delivery",0,0,"","Section 5 – Youth Facilitator 2's Delivery",0,0,"","Section 5 – Youth Facilitator 2's Delivery",0,0,""]
["Section 6 – Group Participation",{"$f":"SUM(B14,B28,B42)","v":0},{"$f":"SUMIF(B14,\">0\",C14)+SUMIF(B28,\">0\",C28)+SUMIF(B42,\">0\",C42)","v":0},"","Section 6 – Group Participation",{"$f":"SUM(F14,F28,F42)","v":0},{"$f":"SUMIF(F14,\">0\",G14)+SUMIF(F28,\">0\",G28)+SUMIF(F42,\">0\",G42)","v":0},"","Section 6 – Group Participation",{"$f":"SUM(J14,J28,J42)","v":0},{"$f":"SUMIF(J14,\">0\",K14)+SUMIF(J28,\">0\",K28)+SUMIF(J42,\">0\",K42)","v":0},"","Section 6 – Group Participation",{"$f":"SUM(N14,N28,N42)","v":0},{"$f":"SUMIF(N14,\">0\",O14)+SUMIF(N28,\">0\",O28)+SUMIF(N42,\">0\",O42)","v":0},"","Section 6 – Group Participation",{"$f":"SUM(R14,R28,R42)","v":0},{"$f":"SUMIF(R14,\">0\",S14)+SUMIF(R28,\">0\",S28)+SUMIF(R42,\">0\",S42)","v":0},"","Section 6 – Group Participation",{"$f":"SUM(V14,V28,V42)","v":0},{"$f":"SUMIF(V14,\">0\",W14)+SUMIF(V28,\">0\",W28)+SUMIF(V42,\">0\",W42)","v":0},"","Section 6 – Group Participation",{"$f":"SUM(Z14,Z28,Z42)","v":0},{"$f":"SUMIF(Z14,\">0\",AA14)+SUMIF(Z28,\">0\",AA28)+SUMIF(Z42,\">0\",AA42)","v":0},""]
["TOTAL",{"$f":"SUM(B47:B52)","v":0},{"$f":"SUM(C47:C52)","v":0},"","TOTAL",{"$f":"SUM(F47:F52)","v":0},{"$f":"SUM(G47:G52)","v":0},"","TOTAL",{"$f":"SUM(J47:J52)","v":0},0,"","TOTAL",{"$f":"SUM(N47:N52)","v":0},0,"","TOTAL",{"$f":"SUM(R47:R52)","v":0},0,"","TOTAL",{"$f":"SUM(V47:V52)","v":0},0,"","TOTAL",{"$f":"SUM(Z47:Z52)","v":0},0,""]
["This Delivery",{"$f":"SUM(B55:B58)","v":0},null,{"$f":"SUM(D55:D58)","v":0},null,{"$f":"SUM(F55:F58)","v":0},null,{"$f":"SUM(H55:H58)","v":0},null,{"$f":"SUM(J55:J58)","v":0},null,{"$f":"SUM(L55:L58)","v":0},null,{"$f":"SUM(N55:N58)","v":0},null,{"$f":"SUM(P55:P58)","v":0},null,{"$f":"SUM(R55:R58)","v":0},null,{"$f":"SUM(T55:T58)","v":0},null,{"$f":"SUM(V55:V58)","v":0},null,{"$f":"SUM(X55:X58)","v":0},null,{"$f":"SUM(Z55:Z58)","v":0},null,{"$f":"SUM(AB55:AB58)","v":0}]
["Oct-Dec",{"$f":"IF(C$2=$A55,(COUNTIF(B$40,\">0\")+COUNTIF(B$26,\">0\")+COUNTIF(B$12,\">0\")),\"\")","v":""},null,{"$f":"IF(C$2=$A55,(COUNTIF(D$40,\">=\"&LISTS!$B$12)+COUNTIF(D$26,\">=\"&LISTS!$B$12)+COUNTIF(D$12,\">=\"&LISTS!$B$12)),\"\")","v":""},null,{"$f":"IF(G$2=$A55,(COUNTIF(F$40,\">0\")+COUNTIF(F$26,\">0\")+COUNTIF(F$12,\">0\")),\"\")","v":""},null,{"$f":"IF(G$2=$A55,(COUNTIF(H$40,\">=\"&LISTS!$B$12)+COUNTIF(H$26,\">=\"&LISTS!$B$12)+COUNTIF(H$12,\">=\"&LISTS!$B$12)),\"\")","v":""},null,{"$f":"IF(K$2=$A55,(COUNTIF(J$40,\">0\")+COUNTIF(J$26,\">0\")+COUNTIF(J$12,\">0\")),\"\")","v":""},null,{"$f":"IF(K$2=$A55,(COUNTIF(L$40,\">=\"&LISTS!$B$12)+COUNTIF(L$26,\">=\"&LISTS!$B$12)+COUNTIF(L$12,\">=\"&LISTS!$B$12)),\"\")","v":""},null,{"$f":"IF(O$2=$A55,(COUNTIF(N$40,\">0\")+COUNTIF(N$26,\">0\")+COUNTIF(N$12,\">0\")),\"\")","v":""},null,{"$f":"IF(O$2=$A55,(COUNTIF(P$40,\">=\"&LISTS!$B$12)+COUNTIF(P$26,\">=\"&LISTS!$B$12)+COUNTIF(P$12,\">=\"&LISTS!$B$12)),\"\")","v":""},null,{"$f":"IF(S$2=$A55,(COUNTIF(R$40,\">0\")+COUNTIF(R$26,\">0\")+COUNTIF(R$12,\">0\")),\"\")","v":""},null,{"$f":"IF(S$2=$A55,(COUNTIF(T$40,\">=\"&LISTS!$B$12)+COUNTIF(T$26,\">=\"&LISTS!$B$12)+COUNTIF(T$12,\">=\"&LISTS!$B$12)),\"\")","v":""},null,{"$f":"IF(W$2=$A55,(COUNTIF(V$40,\">0\")+COUNTIF(V$26,\">0\")+COUNTIF(V$12,\">0\")),\"\")","v":""},null,{"$f":"IF(W$2=$A55,(COUNTIF(X$40,\">=\"&LISTS!$B$12)+COUNTIF(X$26,\">=\"&LISTS!$B$12)+COUNTIF(X$12,\">=\"&LISTS!$B$12)),\"\")","v":""},null,{"$f":"IF(AA$2=$A55,(COUNTIF(Z$40,\">0\")+COUNTIF(Z$26,\">0\")+COUNTIF(Z$12,\">0\")),\"\")","v":""},null,{"$f":"IF(AA$2=$A55,(COUNTIF(AB$40,\">=\"&LISTS!$B$12)+COUNTIF(AB$26,\">=\"&LISTS!$B$12)+COUNTIF(AB$12,\">=\"&LISTS!$B$12)),\"\")","v":""}]
["Jan-Mar",{"$f":"IF(C$2=$A56,(COUNTIF(B$40,\">0\")+COUNTIF(B$26,\">0\")+COUNTIF(B$12,\">0\")),\"\")","v":""},null,{"$f":"IF(C$2=$A56,(COUNTIF(D$40,\">=\"&LISTS!$B$12)+COUNTIF(D$26,\">=\"&LISTS!$B$12)+COUNTIF(D$12,\">=\"&LISTS!$B$12)),\"\")","v":""},null,{"$f":"IF(G$2=$A56,(COUNTIF(F$40,\">0\")+COUNTIF(F$26,\">0\")+COUNTIF(F$12,\">0\")),\"\")","v":""},null,{"$f":"IF(G$2=$A56,(COUNTIF(H$40,\">=\"&LISTS!$B$12)+COUNTIF(H$26,\">=\"&LISTS!$B$12)+COUNTIF(H$12,\">=\"&LISTS!$B$12)),\"\")","v":""},null,"",null,{"$f":"IF(K$2=$A56,(COUNTIF(L$40,\">=\"&LISTS!$B$12)+COUNTIF(L$26,\">=\"&LISTS!$B$12)+COUNTIF(L$12,\">=\"&LISTS!$B$12)),\"\")","v":""},null,"",null,{"$f":"IF(O$2=$A56,(COUNTIF(P$40,\">=\"&LISTS!$B$12)+COUNTIF(P$26,\">=\"&LISTS!$B$12)+COUNTIF(P$12,\">=\"&LISTS!$B$12)),\"\")","v":""},null,"",null,{"$f":"IF(S$2=$A56,(COUNTIF(T$40,\">=\"&LISTS!$B$12)+COUNTIF(T$26,\">=\"&LISTS!$B$12)+COUNTIF(T$12,\">=\"&LISTS!$B$12)),\"\")","v":""},null,"",null,{"$f":"IF(W$2=$A56,(COUNTIF(X$40,\">=\"&LISTS!$B$12)+COUNTIF(X$26,\">=\"&LISTS!$B$12)+COUNTIF(X$12,\">=\"&LISTS!$B$12)),\"\")","v":""},null,"",null,{"$f":"IF(AA$2=$A56,(COUNTIF(AB$40,\">=\"&LISTS!$B$12)+COUNTIF(AB$26,\">=\"&LISTS!$B$12)+COUNTIF(AB$12,\">=\"&LISTS!$B$12)),\"\")","v":""}]
["Apr-Jun","",null,{"$f":"IF(C$2=$A57,(COUNTIF(D$40,\">=\"&LISTS!$B$12)+COUNTIF(D$26,\">=\"&LISTS!$B$12)+COUNTIF(D$12,\">=\"&LISTS!$B$12)),\"\")","v":""},null,"",null,{"$f":"IF(G$2=$A57,(COUNTIF(H$40,\">=\"&LISTS!$B$12)+COUNTIF(H$26,\">=\"&LISTS!$B$12)+COUNTIF(H$12,\">=\"&LISTS!$B$12)),\"\")","v":""},null,"",null,{"$f":"IF(K$2=$A57,(COUNTIF(L$40,\">=\"&LISTS!$B$12)+COUNTIF(L$26,\">=\"&LISTS!$B$12)+COUNTIF(L$12,\">=\"&LISTS!$B$12)),\"\")","v":""},null,"",null,{"$f":"IF(O$2=$A57,(COUNTIF(P$40,\">=\"&LISTS!$B$12)+COUNTIF(P$26,\">=\"&LISTS!$B$12)+COUNTIF(P$12,\">=\"&LISTS!$B$12)),\"\")","v":""},null,"",null,{"$f":"IF(S$2=$A57,(COUNTIF(T$40,\">=\"&LISTS!$B$12)+COUNTIF(T$26,\">=\"&LISTS!$B$12)+COUNTIF(T$12,\">=\"&LISTS!$B$12)),\"\")","v":""},null,"",null,{"$f":"IF(W$2=$A57,(COUNTIF(X$40,\">=\"&LISTS!$B$12)+COUNTIF(X$26,\">=\"&LISTS!$B$12)+COUNTIF(X$12,\">=\"&LISTS!$B$12)),\"\")","v":""},null,"",null,{"$f":"IF(AA$2=$A57,(COUNTIF(AB$40,\">=\"&LISTS!$B$12)+COUNTIF(AB$26,\">=\"&LISTS!$B$12)+COUNTIF(AB$12,\">=\"&LISTS!$B$12)),\"\")","v":""}]
["Jul-Sep","",null,{"$f":"IF(C$2=$A58,(COUNTIF(D$40,\">=\"&LISTS!$B$12)+COUNTIF(D$26,\">=\"&LISTS!$B$12)+COUNTIF(D$12,\">=\"&LISTS!$B$12)),\"\")","v":""},null,"",null,{"$f":"IF(G$2=$A58,(COUNTIF(H$40,\">=\"&LISTS!$B$12)+COUNTIF(H$26,\">=\"&LISTS!$B$12)+COUNTIF(H$12,\">=\"&LISTS!$B$12)),\"\")","v":""},null,"",null,{"$f":"IF(K$2=$A58,(COUNTIF(L$40,\">=\"&LISTS!$B$12)+COUNTIF(L$26,\">=\"&LISTS!$B$12)+COUNTIF(L$12,\">=\"&LISTS!$B$12)),\"\")","v":""},null,"",null,{"$f":"IF(O$2=$A58,(COUNTIF(P$40,\">=\"&LISTS!$B$12)+COUNTIF(P$26,\">=\"&LISTS!$B$12)+COUNTIF(P$12,\">=\"&LISTS!$B$12)),\"\")","v":""},null,"",null,{"$f":"IF(S$2=$A58,(COUNTIF(T$40,\">=\"&LISTS!$B$12)+COUNTIF(T$26,\">=\"&LISTS!$B$12)+COUNTIF(T$12,\">=\"&LISTS!$B$12)),\"\")","v":""},null,"",null,{"$f":"IF(W$2=$A58,(COUNTIF(X$40,\">=\"&LISTS!$B$12)+COUNTIF(X$26,\">=\"&LISTS!$B$12)+COUNTIF(X$12,\">=\"&LISTS!$B$12)),\"\")","v":""},null,"",null,{"$f":"IF(AA$2=$A58,(COUNTIF(AB$40,\">=\"&LISTS!$B$12)+COUNTIF(AB$26,\">=\"&LISTS!$B$12)+COUNTIF(AB$12,\">=\"&LISTS!$B$12)),\"\")","v":""}]
["TOTAL all Deliveries",{"$f":"SUM(B60:B63)","v":0},null,{"$f":"SUM(D60:D63)","v":0},null,{"$f":"SUM(F60:F63)","v":0},null,{"$f":"SUM(H60:H63)","v":0},null,{"$f":"SUM(J60:J63)","v":0},null,{"$f":"SUM(L60:L63)","v":0},null,{"$f":"SUM(N60:N63)","v":0},null,{"$f":"SUM(P60:P63)","v":0},null,{"$f":"SUM(R60:R63)","v":0},null,{"$f":"SUM(T60:T63)","v":0},null,{"$f":"SUM(V60:V63)","v":0},null,{"$f":"SUM(X60:X63)","v":0},null,{"$f":"SUM(Z60:Z63)","v":0},null,{"$f":"SUM(AB60:AB63)","v":0}]
["Oct-Dec",{"$f":"SUM(B55,F55,J55,N55,R55,V55,Z55)","v":0},null,{"$f":"SUM(D55,H55,L55,P55,T55,X55,AB55)","v":0}]
["Jan-Mar",{"$f":"SUM(B56,F56,J56,N56,R56,V56,Z56)","v":0},null,0]
["Apr-Jun",0,null,0]
["Jul-Sep",0,null,0]
[]
["Fam Sess 2 - Appreciating Family Members",null,{"$f":"COUNTIF(B$3:D$31,$A65)","v":0},null,null,null,{"$f":"COUNTIF(F$3:H$31,$A65)","v":0},null,null,null,{"$f":"COUNTIF(J$3:L$31,$A65)","v":0},null,null,null,{"$f":"COUNTIF(N$3:P$31,$A65)","v":0},null,null,null,{"$f":"COUNTIF(R$3:T$31,$A65)","v":0},null,null,null,{"$f":"COUNTIF(V$3:X$31,$A65)","v":0},null,null,null,{"$f":"COUNTIF(Z$3:AB$31,$A65)","v":0},null,null,null,{"$f":"COUNTIF(AD$3:AF$31,$A65)","v":0},null,null,null,{"$f":"COUNTIF(AH$3:AJ$31,$A65)","v":0},null,null,null,{"$f":"COUNTIF(AL$3:AN$31,$A65)","v":0},null,null,null,{"$f":"COUNTIF(AP$3:AR$31,$A65)","v":0},null,null,null,{"$f":"COUNTIF(AT$3:AV$31,$A65)","v":0},null,null,null,{"$f":"COUNTIF(AX$3:AZ$31,$A65)","v":0},null,null,null,{"$f":"COUNTIF(BB$3:BD$31,$A65)","v":0},null,null,null,{"$f":"COUNTIF(BF$3:BH$31,$A65)","v":0},null,null,null,{"$f":"COUNTIF(BJ$3:BL$31,$A65)","v":0},null,null,null,{"$f":"COUNTIF(BN$3:BP$31,$A65)","v":0},null,null,null,{"$f":"COUNTIF(BR$3:BT$31,$A65)","v":0},null,null,null,{"$f":"COUNTIF(BV$3:BX$31,$A65)","v":0},null,null,null,{"$f":"COUNTIF(BZ$3:CB$31,$A65)","v":0},null,null,null,{"$f":"COUNTIF(CD$3:CF$31,$A65)","v":0},null,null,null,{"$f":"COUNTIF(CH$3:CJ$31,$A65)","v":0},null,null,null,{"$f":"COUNTIF(CL$3:CN$31,$A65)","v":0},null,null,null,{"$f":"COUNTIF(CP$3:CR$31,$A65)","v":0},null,null,null,{"$f":"COUNTIF(CT$3:CV$31,$A65)","v":0},null,null,null,{"$f":"COUNTIF(CX$3:CZ$31,$A65)","v":0},null,null,null,{"$f":"COUNTIF(DB$3:DD$31,$A65)","v":0},null,null,null,{"$f":"COUNTIF(DF$3:DH$31,$A65)","v":0},null,null,null,{"$f":"COUNTIF(DJ$3:DL$31,$A65)","v":0},null,null,null,{"$f":"COUNTIF(DN$3:DP$31,$A65)","v":0},null,null,null,{"$f":"COUNTIF(DR$3:DT$31,$A65)","v":0},null,null,null,{"$f":"COUNTIF(DV$3:DX$31,$A65)","v":0},null,null,null,{"$f":"COUNTIF(DZ$3:EB$31,$A65)","v":0},null,null,null,{"$f":"COUNTIF(ED$3:EF$31,$A65)","v":0},null,null,null,{"$f":"COUNTIF(EH$3:EJ$31,$A65)","v":0},null,null,null,{"$f":"COUNTIF(EL$3:EN$31,$A65)","v":0},null,null,null,{"$f":"COUNTIF(EP$3:ER$31,$A65)","v":0},null,null,null,{"$f":"COUNTIF(ET$3:EV$31,$A65)","v":0},null,null,null,{"$f":"COUNTIF(EX$3:EZ$31,$A65)","v":0},null,null,null,{"$f":"COUNTIF(FB$3:FD$31,$A65)","v":0},null,null,null,{"$f":"COUNTIF(FF$3:FH$31,$A65)","v":0},null,null,null,{"$f":"COUNTIF(FJ$3:FL$31,$A65)","v":0},null,null,null,{"$f":"COUNTIF(FN$3:FP$31,$A65)","v":0},null,null,null,{"$f":"COUNTIF(FR$3:FT$31,$A65)","v":0},null,null,null,{"$f":"COUNTIF(FV$3:FX$31,$A65)","v":0},null,null,null,{"$f":"COUNTIF(FZ$3:GB$31,$A65)","v":0},null,null,null,{"$f":"COUNTIF(GD$3:GF$31,$A65)","v":0},null,null,null,{"$f":"COUNTIF(GH$3:GJ$31,$A65)","v":0},null,null,null,{"$f":"COUNTIF(GL$3:GN$31,$A65)","v":0},null,null,null,{"$f":"COUNTIF(GP$3:GR$31,$A65)","v":0},null,null,null,{"$f":"COUNTIF(GT$3:GV$31,$A65)","v":0},null,null,null,{"$f":"COUNTIF(GX$3:GZ$31,$A65)","v":0},null,null,null,{"$f":"COUNTIF(HB$3:HD$31,$A65)","v":0},null,null,null,{"$f":"COUNTIF(HF$3:HH$31,$A65)","v":0},null,null,null,{"$f":"COUNTIF(HJ$3:HL$31,$A65)","v":0},null,null,null,{"$f":"COUNTIF(HN$3:HP$31,$A65)","v":0},null,null,null,{"$f":"COUNTIF(HR$3:HT$31,$A65)","v":0},null,null,null,{"$f":"COUNTIF(HV$3:HX$31,$A65)","v":0},null,null,null,{"$f":"COUNTIF(HZ$3:IB$31,$A65)","v":0},null,null,null,{"$f":"COUNTIF(ID$3:IF$31,$A65)","v":0},null,null,null,{"$f":"COUNTIF(IH$3:IJ$31,$A65)","v":0},null,null,null,{"$f":"COUNTIF(IL$3:IN$31,$A65)","v":0},null,null,null,{"$f":"COUNTIF(IP$3:IR$31,$A65)","v":0},null,null,null,{"$f":"COUNTIF(IT$3:IV$31,$A65)","v":0},null,null,null,{"$f":"COUNTIF(IX$3:IZ$31,$A65)","v":0},null,null,null,{"$f":"COUNTIF(JB$3:JD$31,$A65)","v":0},null,null,null,{"$f":"COUNTIF(JF$3:JH$31,$A65)","v":0},null,null,null,{"$f":"COUNTIF(JJ$3:JL$31,$A65)","v":0},null,null,null,{"$f":"COUNTIF(JN$3:JP$31,$A65)","v":0},null,null,null,{"$f":"COUNTIF(JR$3:JT$31,$A65)","v":0},null,null,null,{"$f":"COUNTIF(JV$3:JX$31,$A65)","v":0},null,null,null,{"$f":"COUNTIF(JZ$3:KB$31,$A65)","v":0},null,null,null,{"$f":"COUNTIF(KD$3:KF$31,$A65)","v":0},null,null,null,{"$f":"COUNTIF(KH$3:KJ$31,$A65)","v":0},null,null,null,{"$f":"COUNTIF(KL$3:KN$31,$A65)","v":0},null,null,null,{"$f":"COUNTIF(KP$3:KR$31,$A65)","v":0},null,null,null,{"$f":"COUNTIF(KT$3:KV$31,$A65)","v":0},null,null,null,{"$f":"COUNTIF(KX$3:KZ$31,$A65)","v":0},null,null,null,{"$f":"COUNTIF(LB$3:LD$31,$A65)","v":0},null,null,null,{"$f":"COUNTIF(LF$3:LH$31,$A65)","v":0},null,null,null,{"$f":"COUNTIF(LJ$3:LL$31,$A65)","v":0},null,null,null,{"$f":"COUNTIF(LN$3:LP$31,$A65)","v":0},null,null,null,{"$f":"COUNTIF(LR$3:LT$31,$A65)","v":0},null,null,null,{"$f":"COUNTIF(LV$3:LX$31,$A65)","v":0},null,null,null,{"$f":"COUNTIF(LZ$3:MB$31,$A65)","v":0},null,null,null,{"$f":"COUNTIF(MD$3:MF$31,$A65)","v":0},null,null,null,{"$f":"COUNTIF(MH$3:MJ$31,$A65)","v":0},null,null,null,{"$f":"COUNTIF(ML$3:MN$31,$A65)","v":0},null,null,null,{"$f":"COUNTIF(MP$3:MR$31,$A65)","v":0},null,null,null,{"$f":"COUNTIF(MT$3:MV$31,$A65)","v":0},null,null,null,{"$f":"COUNTIF(MX$3:MZ$31,$A65)","v":0},null,null,null,{"$f":"COUNTIF(NB$3:ND$31,$A65)","v":0},null,null,null,{"$f":"COUNTIF(NF$3:NH$31,$A65)","v":0},null,null,null,{"$f":"COUNTIF(NJ$3:NL$31,$A65)","v":0},null,null,null,{"$f":"COUNTIF(NN$3:NP$31,$A65)","v":0},null,null,null,{"$f":"COUNTIF(NR$3:NT$31,$A65)","v":0},null,null,null,{"$f":"COUNTIF(NV$3:NX$31,$A65)","v":0},null,null,null,{"$f":"COUNTIF(NZ$3:OB$31,$A65)","v":0},null,null,null,{"$f":"COUNTIF(OD$3:OF$31,$A65)","v":0},null,null,null,{"$f":"COUNTIF(OH$3:OJ$31,$A65)","v":0},null,null,null,{"$f":"COUNTIF(OL$3:ON$31,$A65)","v":0},null,null,null,{"$f":"COUNTIF(OP$3:OR$31,$A65)","v":0},null,null,null,{"$f":"COUNTIF(OT$3:OV$31,$A65)","v":0},null,null,null,{"$f":"COUNTIF(OX$3:OZ$31,$A65)","v":0},null,null,null,{"$f":"COUNTIF(PB$3:PD$31,$A65)","v":0},null,null,null,{"$f":"COUNTIF(PF$3:PH$31,$A65)","v":0},null,null,null,{"$f":"COUNTIF(PJ$3:PL$31,$A65)","v":0},null,null,null,{"$f":"COUNTIF(PN$3:PP$31,$A65)","v":0},null,null,null,{"$f":"COUNTIF(PR$3:PT$31,$A65)","v":0},null,null,null,{"$f":"COUNTIF(PV$3:PX$31,$A65)","v":0},null,null,null,{"$f":"COUNTIF(PZ$3:QB$31,$A65)","v":0},null,null,null,{"$f":"COUNTIF(QD$3:QF$31,$A65)","v":0},null,null,null,{"$f":"COUNTIF(QH$3:QJ$31,$A65)","v":0},null,null,null,{"$f":"COUNTIF(QL$3:QN$31,$A65)","v":0},null,null,null,{"$f":"COUNTIF(QP$3:QR$31,$A65)","v":0},null,null,null,{"$f":"COUNTIF(QT$3:QV$31,$A65)","v":0},null,null,null,{"$f":"COUNTIF(QX$3:QZ$31,$A65)","v":0},null,null,null,{"$f":"COUNTIF(RB$3:RD$31,$A65)","v":0},null,null,null,{"$f":"COUNTIF(RF$3:RH$31,$A65)","v":0},null,null,null,{"$f":"COUNTIF(RJ$3:RL$31,$A65)","v":0},null,null,null,{"$f":"COUNTIF(RN$3:RP$31,$A65)","v":0},null,null,null,{"$f":"COUNTIF(RR$3:RT$31,$A65)","v":0},null,null,null,{"$f":"COUNTIF(RV$3:RX$31,$A65)","v":0},null,null,null,{"$f":"COUNTIF(RZ$3:SB$31,$A65)","v":0},null,null,null,{"$f":"COUNTIF(SD$3:SF$31,$A65)","v":0},null,null,null,{"$f":"COUNTIF(SH$3:SJ$31,$A65)","v":0},null,null,null,{"$f":"COUNTIF(SL$3:SN$31,$A65)","v":0},null,null,null,{"$f":"COUNTIF(SP$3:SR$31,$A65)","v":0},null,null,null,{"$f":"COUNTIF(ST$3:SV$31,$A65)","v":0},null,null,null,{"$f":"COUNTIF(SX$3:SZ$31,$A65)","v":0},null,null,null,{"$f":"COUNTIF(TB$3:TD$31,$A65)","v":0},null,null,null,{"$f":"COUNTIF(TF$3:TH$31,$A65)","v":0},null,null,null,{"$f":"COUNTIF(TJ$3:TL$31,$A65)","v":0},null,null,null,{"$f":"COUNTIF(TN$3:TP$31,$A65)","v":0},null,null,null,{"$f":"COUNTIF(TR$3:TT$31,$A65)","v":0},null,null,null,{"$f":"COUNTIF(TV$3:TX$31,$A65)","v":0},null,null,null,{"$f":"COUNTIF(TZ$3:UB$31,$A65)","v":0},null,null,null,{"$f":"COUNTIF(UD$3:UF$31,$A65)","v":0},null,null,null,{"$f":"COUNTIF(UH$3:UJ$31,$A65)","v":0},null,null,null,{"$f":"COUNTIF(UL$3:UN$31,$A65)","v":0},null,null,null,{"$f":"COUNTIF(UP$3:UR$31,$A65)","v":0},null,null,null,{"$f":"COUNTIF(UT$3:UV$31,$A65)","v":0},null,null,null,{"$f":"COUNTIF(UX$3:UZ$31,$A65)","v":0},null,null,null,{"$f":"COUNTIF(VB$3:VD$31,$A65)","v":0},null,null,null,{"$f":"COUNTIF(VF$3:VH$31,$A65)","v":0},null,null,null,{"$f":"COUNTIF(VJ$3:VL$31,$A65)","v":0},null,null,null,{"$f":"COUNTIF(VN$3:VP$31,$A65)","v":0},null,null,null,{"$f":"COUNTIF(VR$3:VT$31,$A65)","v":0},null,null,null,{"$f":"COUNTIF(VV$3:VX$31,$A65)","v":0},null,null,null,{"$f":"COUNTIF(VZ$3:WB$31,$A65)","v":0},null,null,null,{"$f":"COUNTIF(WD$3:WF$31,$A65)","v":0},null,null,null,{"$f":"COUNTIF(WH$3:WJ$31,$A65)","v":0},null,null,null,{"$f":"COUNTIF(WL$3:WN$31,$A65)","v":0},null,null,null,{"$f":"COUNTIF(WP$3:WR$31,$A65)","v":0},null,null,null,{"$f":"COUNTIF(WT$3:WV$31,$A65)","v":0},null,null,null,{"$f":"COUNTIF(WX$3:WZ$31,$A65)","v":0},null,null,null,{"$f":"COUNTIF(XB$3:XD$31,$A65)","v":0},null,null,null,{"$f":"COUNTIF(XF$3:XH$31,$A65)","v":0},null,null,null,{"$f":"COUNTIF(XJ$3:XL$31,$A65)","v":0},null,null,null,{"$f":"COUNTIF(XN$3:XP$31,$A65)","v":0},null,null,null,{"$f":"COUNTIF(XR$3:XT$31,$A65)","v":0},null,null,null,{"$f":"COUNTIF(XV$3:XX$31,$A65)","v":0},null,null,null,{"$f":"COUNTIF(XZ$3:YB$31,$A65)","v":0},null,null,null,{"$f":"COUNTIF(YD$3:YF$31,$A65)","v":0},null,null,null,{"$f":"COUNTIF(YH$3:YJ$31,$A65)","v":0},null,null,null,{"$f":"COUNTIF(YL$3:YN$31,$A65)","v":0},null,null,null,{"$f":"COUNTIF(YP$3:YR$31,$A65)","v":0},null,null,null,{"$f":"COUNTIF(YT$3:YV$31,$A65)","v":0},null,null,null,{"$f":"COUNTIF(YX$3:YZ$31,$A65)","v":0},null,null,null,{"$f":"COUNTIF(ZB$3:ZD$31,$A65)","v":0},null,null,null,{"$f":"COUNTIF(ZF$3:ZH$31,$A65)","v":0},null,null,null,{"$f":"COUNTIF(ZJ$3:ZL$31,$A65)","v":0},null,null,null,{"$f":"COUNTIF(ZN$3:ZP$31,$A65)","v":0},null,null,null,{"$f":"COUNTIF(ZR$3:ZT$31,$A65)","v":0},null,null,null,{"$f":"COUNTIF(ZV$3:ZX$31,$A65)","v":0},null,null,null,{"$f":"COUNTIF(ZZ$3:AAB$31,$A65)","v":0},null,null,null,{"$f":"COUNTIF(AAD$3:AAF$31,$A65)","v":0},null,null,null,{"$f":"COUNTIF(AAH$3:AAJ$31,$A65)","v":0},null,null,null,{"$f":"COUNTIF(AAL$3:AAN$31,$A65)","v":0},null,null,null,{"$f":"COUNTIF(AAP$3:AAR$31,$A65)","v":0},null,null,null,{"$f":"COUNTIF(AAT$3:AAV$31,$A65)","v":0},null,null,null,{"$f":"COUNTIF(AAX$3:AAZ$31,$A65)","v":0},null,null,null,{"$f":"COUNTIF(ABB$3:ABD$31,$A65)","v":0},null,null,null,{"$f":"COUNTIF(ABF$3:ABH$31,$A65)","v":0},null,null,null,{"$f":"COUNTIF(ABJ$3:ABL$31,$A65)","v":0},null,null,null,{"$f":"COUNTIF(ABN$3:ABP$31,$A65)","v":0},null,null,null,{"$f":"COUNTIF(ABR$3:ABT$31,$A65)","v":0},null,null,null,{"$f":"COUNTIF(ABV$3:ABX$31,$A65)","v":0},null,null,null,{"$f":"COUNTIF(ABZ$3:ACB$31,$A65)","v":0},null,null,null,{"$f":"COUNTIF(ACD$3:ACF$31,$A65)","v":0},null,null,null,{"$f":"COUNTIF(ACH$3:ACJ$31,$A65)","v":0},null,null,null,{"$f":"COUNTIF(ACL$3:ACN$31,$A65)","v":0},null,null,null,{"$f":"COUNTIF(ACP$3:ACR$31,$A65)","v":0},null,null,null,{"$f":"COUNTIF(ACT$3:ACV$31,$A65)","v":0},null,null,null,{"$f":"COUNTIF(ACX$3:ACZ$31,$A65)","v":0},null,null,null,{"$f":"COUNTIF(ADB$3:ADD$31,$A65)","v":0},null,null,null,{"$f":"COUNTIF(ADF$3:ADH$31,$A65)","v":0},null,null,null,{"$f":"COUNTIF(ADJ$3:ADL$31,$A65)","v":0},null,null,null,{"$f":"COUNTIF(ADN$3:ADP$31,$A65)","v":0},null,null,null,{"$f":"COUNTIF(ADR$3:ADT$31,$A65)","v":0},null,null,null,{"$f":"COUNTIF(ADV$3:ADX$31,$A65)","v":0},null,null,null,{"$f":"COUNTIF(ADZ$3:AEB$31,$A65)","v":0},null,null,null,{"$f":"COUNTIF(AED$3:AEF$31,$A65)","v":0},null,null,null,{"$f":"COUNTIF(AEH$3:AEJ$31,$A65)","v":0},null,null,null,{"$f":"COUNTIF(AEL$3:AEN$31,$A65)","v":0},null,null,null,{"$f":"COUNTIF(AEP$3:AER$31,$A65)","v":0},null,null,null,{"$f":"COUNTIF(AET$3:AEV$31,$A65)","v":0},null,null,null,{"$f":"COUNTIF(AEX$3:AEZ$31,$A65)","v":0},null,null,null,{"$f":"COUNTIF(AFB$3:AFD$31,$A65)","v":0},null,null,null,{"$f":"COUNTIF(AFF$3:AFH$31,$A65)","v":0},null,null,null,{"$f":"COUNTIF(AFJ$3:AFL$31,$A65)","v":0},null,null,null,{"$f":"COUNTIF(AFN$3:AFP$31,$A65)","v":0},null,null,null,{"$f":"COUNTIF(AFR$3:AFT$31,$A65)","v":0},null,null,null,{"$f":"COUNTIF(AFV$3:AFX$31,$A65)","v":0},null,null,null,{"$f":"COUNTIF(AFZ$3:AGB$31,$A65)","v":0},null,null,null,{"$f":"COUNTIF(AGD$3:AGF$31,$A65)","v":0},null,null,null,{"$f":"COUNTIF(AGH$3:AGJ$31,$A65)","v":0},null,null,null,{"$f":"COUNTIF(AGL$3:AGN$31,$A65)","v":0},null,null,null,{"$f":"COUNTIF(AGP$3:AGR$31,$A65)","v":0},null,null,null,{"$f":"COUNTIF(AGT$3:AGV$31,$A65)","v":0},null,null,null,{"$f":"COUNTIF(AGX$3:AGZ$31,$A65)","v":0},null,null,null,{"$f":"COUNTIF(AHB$3:AHD$31,$A65)","v":0},null,null,null,{"$f":"COUNTIF(AHF$3:AHH$31,$A65)","v":0},null,null,null,{"$f":"COUNTIF(AHJ$3:AHL$31,$A65)","v":0},null,null,null,{"$f":"COUNTIF(AHN$3:AHP$31,$A65)","v":0},null,null,null,{"$f":"COUNTIF(AHR$3:AHT$31,$A65)","v":0},null,null,null,{"$f":"COUNTIF(AHV$3:AHX$31,$A65)","v":0},null,null,null,{"$f":"COUNTIF(AHZ$3:AIB$31,$A65)","v":0},null,null,null,{"$f":"COUNTIF(AID$3:AIF$31,$A65)","v":0},null,null,null,{"$f":"COUNTIF(AIH$3:AIJ$31,$A65)","v":0},null,null,null,{"$f":"COUNTIF(AIL$3:AIN$31,$A65)","v":0},null,null,null,{"$f":"COUNTIF(AIP$3:AIR$31,$A65)","v":0},null,null,null,{"$f":"COUNTIF(AIT$3:AIV$31,$A65)","v":0},null,null,null,{"$f":"COUNTIF(AIX$3:AIZ$31,$A65)","v":0},null,null,null,{"$f":"COUNTIF(AJB$3:AJD$31,$A65)","v":0},null,null,null,{"$f":"COUNTIF(AJF$3:AJH$31,$A65)","v":0},null,null,null,{"$f":"COUNTIF(AJJ$3:AJL$31,$A65)","v":0},null,null,null,{"$f":"COUNTIF(AJN$3:AJP$31,$A65)","v":0},null,null,null,{"$f":"COUNTIF(AJR$3:AJT$31,$A65)","v":0},null,null,null,{"$f":"COUNTIF(AJV$3:AJX$31,$A65)","v":0},null,null,null,{"$f":"COUNTIF(AJZ$3:AKB$31,$A65)","v":0},null,null,null,{"$f":"COUNTIF(AKD$3:AKF$31,$A65)","v":0},null,null,null,{"$f":"COUNTIF(AKH$3:AKJ$31,$A65)","v":0},null,null,null,{"$f":"COUNTIF(AKL$3:AKN$31,$A65)","v":0},null,null,null,{"$f":"COUNTIF(AKP$3:AKR$31,$A65)","v":0},null,null,null,{"$f":"COUNTIF(AKT$3:AKV$31,$A65)","v":0},null,null,null,{"$f":"COUNTIF(AKX$3:AKZ$31,$A65)","v":0},null,null,null,{"$f":"COUNTIF(ALB$3:ALD$31,$A65)","v":0},null,null,null,{"$f":"COUNTIF(ALF$3:ALH$31,$A65)","v":0},null,null,null,{"$f":"COUNTIF(ALJ$3:ALL$31,$A65)","v":0},null,null,null,{"$f":"COUNTIF(ALN$3:ALP$31,$A65)","v":0},null,null,null,{"$f":"COUNTIF(ALR$3:ALT$31,$A65)","v":0},null,null,null,{"$f":"COUNTIF(ALV$3:ALX$31,$A65)","v":0},null,null,null,{"$f":"COUNTIF(ALZ$3:AMB$31,$A65)","v":0},null,null,null,{"$f":"COUNTIF(AMD$3:AMF$31,$A65)","v":0},null,null,null,{"$f":"COUNTIF(AMH$3:AMJ$31,$A65)","v":0},null,null,null,{"$f":"COUNTIF(AML$3:AMN$31,$A65)","v":0},null,null,null,{"$f":"COUNTIF(AMP$3:AMR$31,$A65)","v":0},null,null,null,{"$f":"COUNTIF(AMT$3:AMV$31,$A65)","v":0},null,null,null,{"$f":"COUNTIF(AMX$3:AMZ$31,$A65)","v":0},null,null,null,{"$f":"COUNTIF(ANB$3:AND$31,$A65)","v":0},null,null,null,{"$f":"COUNTIF(ANF$3:ANH$31,$A65)","v":0},null,null,null,{"$f":"COUNTIF(ANJ$3:ANL$31,$A65)","v":0},null,null,null,{"$f":"COUNTIF(ANN$3:ANP$31,$A65)","v":0},null,null,null,{"$f":"COUNTIF(ANR$3:ANT$31,$A65)","v":0},null,null,null,{"$f":"COUNTIF(ANV$3:ANX$31,$A65)","v":0},null,null,null,{"$f":"COUNTIF(ANZ$3:AOB$31,$A65)","v":0},null,null,null,{"$f":"COUNTIF(AOD$3:AOF$31,$A65)","v":0},null,null,null,{"$f":"COUNTIF(AOH$3:AOJ$31,$A65)","v":0},null,null,null,{"$f":"COUNTIF(AOL$3:AON$31,$A65)","v":0},null,null,null,{"$f":"COUNTIF(AOP$3:AOR$31,$A65)","v":0},null,null,null,{"$f":"COUNTIF(AOT$3:AOV$31,$A65)","v":0},null,null,null,{"$f":"COUNTIF(AOX$3:AOZ$31,$A65)","v":0},null,null,null,{"$f":"COUNTIF(APB$3:APD$31,$A65)","v":0},null,null,null,{"$f":"COUNTIF(APF$3:APH$31,$A65)","v":0},null,null,null,{"$f":"COUNTIF(APJ$3:APL$31,$A65)","v":0},null,null,null,{"$f":"COUNTIF(APN$3:APP$31,$A65)","v":0},null,null,null,{"$f":"COUNTIF(APR$3:APT$31,$A65)","v":0},null,null,null,{"$f":"COUNTIF(APV$3:APX$31,$A65)","v":0},null,null,null,{"$f":"COUNTIF(APZ$3:AQB$31,$A65)","v":0},null,null,null,{"$f":"COUNTIF(AQD$3:AQF$31,$A65)","v":0},null,null,null,{"$f":"COUNTIF(AQH$3:AQJ$31,$A65)","v":0},null,null,null,{"$f":"COUNTIF(AQL$3:AQN$31,$A65)","v":0},null,null,null,{"$f":"COUNTIF(AQP$3:AQR$31,$A65)","v":0},null,null,null,{"$f":"COUNTIF(AQT$3:AQV$31,$A65)","v":0},null,null,null,{"$f":"COUNTIF(AQX$3:AQZ$31,$A65)","v":0},null,null,null,{"$f":"COUNTIF(ARB$3:ARD$31,$A65)","v":0},null,null,null,{"$f":"COUNTIF(ARF$3:ARH$31,$A65)","v":0},null,null,null,{"$f":"COUNTIF(ARJ$3:ARL$31,$A65)","v":0},null,null,null,{"$f":"COUNTIF(ARN$3:ARP$31,$A65)","v":0},null,null,null,{"$f":"COUNTIF(ARR$3:ART$31,$A65)","v":0},null,null,null,{"$f":"COUNTIF(ARV$3:ARX$31,$A65)","v":0},null,null,null,{"$f":"COUNTIF(ARZ$3:ASB$31,$A65)","v":0},null,null,null,{"$f":"COUNTIF(ASD$3:ASF$31,$A65)","v":0},null,null,null,{"$f":"COUNTIF(ASH$3:ASJ$31,$A65)","v":0},null,null,null,{"$f":"COUNTIF(ASL$3:ASN$31,$A65)","v":0},null,null,null,{"$f":"COUNTIF(ASP$3:ASR$31,$A65)","v":0},null,null,null,{"$f":"COUNTIF(AST$3:ASV$31,$A65)","v":0},null,null,null,{"$f":"COUNTIF(ASX$3:ASZ$31,$A65)","v":0},null,null,null,{"$f":"COUNTIF(ATB$3:ATD$31,$A65)","v":0},null,null,null,{"$f":"COUNTIF(ATF$3:ATH$31,$A65)","v":0},null,null,null,{"$f":"COUNTIF(ATJ$3:ATL$31,$A65)","v":0},null,null,null,{"$f":"COUNTIF(ATN$3:ATP$31,$A65)","v":0},null,null,null,{"$f":"COUNTIF(ATR$3:ATT$31,$A65)","v":0},null,null,null,{"$f":"COUNTIF(ATV$3:ATX$31,$A65)","v":0},null,null,null,{"$f":"COUNTIF(ATZ$3:AUB$31,$A65)","v":0},null,null,null,{"$f":"COUNTIF(AUD$3:AUF$31,$A65)","v":0},null,null,null,{"$f":"COUNTIF(AUH$3:AUJ$31,$A65)","v":0},null,null,null,{"$f":"COUNTIF(AUL$3:AUN$31,$A65)","v":0},null,null,null,{"$f":"COUNTIF(AUP$3:AUR$31,$A65)","v":0},null,null,null,{"$f":"COUNTIF(AUT$3:AUV$31,$A65)","v":0},null,null,null,{"$f":"COUNTIF(AUX$3:AUZ$31,$A65)","v":0},null,null,null,{"$f":"COUNTIF(AVB$3:AVD$31,$A65)","v":0},null,null,null,{"$f":"COUNTIF(AVF$3:AVH$31,$A65)","v":0},null,null,null,{"$f":"COUNTIF(AVJ$3:AVL$31,$A65)","v":0},null,null,null,{"$f":"COUNTIF(AVN$3:AVP$31,$A65)","v":0},null,null,null,{"$f":"COUNTIF(AVR$3:AVT$31,$A65)","v":0},null,null,null,{"$f":"COUNTIF(AVV$3:AVX$31,$A65)","v":0},null,null,null,{"$f":"COUNTIF(AVZ$3:AWB$31,$A65)","v":0},null,null,null,{"$f":"COUNTIF(AWD$3:AWF$31,$A65)","v":0},null,null,null,{"$f":"COUNTIF(AWH$3:AWJ$31,$A65)","v":0},null,null,null,{"$f":"COUNTIF(AWL$3:AWN$31,$A65)","v":0},null,null,null,{"$f":"COUNTIF(AWP$3:AWR$31,$A65)","v":0},null,null,null,{"$f":"COUNTIF(AWT$3:AWV$31,$A65)","v":0},null,null,null,{"$f":"COUNTIF(AWX$3:AWZ$31,$A65)","v":0},null,null,null,{"$f":"COUNTIF(AXB$3:AXD$31,$A65)","v":0},null,null,null,{"$f":"COUNTIF(AXF$3:AXH$31,$A65)","v":0},null,null,null,{"$f":"COUNTIF(AXJ$3:AXL$31,$A65)","v":0},null,null,null,{"$f":"COUNTIF(AXN$3:AXP$31,$A65)","v":0},null,null,null,{"$f":"COUNTIF(AXR$3:AXT$31,$A65)","v":0},null,null,null,{"$f":"COUNTIF(AXV$3:AXX$31,$A65)","v":0},null,null,null,{"$f":"COUNTIF(AXZ$3:AYB$31,$A65)","v":0},null,null,null,{"$f":"COUNTIF(AYD$3:AYF$31,$A65)","v":0},null,null,null,{"$f":"COUNTIF(AYH$3:AYJ$31,$A65)","v":0},null,null,null,{"$f":"COUNTIF(AYL$3:AYN$31,$A65)","v":0},null,null,null,{"$f":"COUNTIF(AYP$3:AYR$31,$A65)","v":0},null,null,null,{"$f":"COUNTIF(AYT$3:AYV$31,$A65)","v":0},null,null,null,{"$f":"COUNTIF(AYX$3:AYZ$31,$A65)","v":0},null,null,null,{"$f":"COUNTIF(AZB$3:AZD$31,$A65)","v":0},null,null,null,{"$f":"COUNTIF(AZF$3:AZH$31,$A65)","v":0},null,null,null,{"$f":"COUNTIF(AZJ$3:AZL$31,$A65)","v":0},null,null,null,{"$f":"COUNTIF(AZN$3:AZP$31,$A65)","v":0},null,null,null,{"$f":"COUNTIF(AZR$3:AZT$31,$A65)","v":0},null,null,null,{"$f":"COUNTIF(AZV$3:AZX$31,$A65)","v":0},null,null,null,{"$f":"COUNTIF(AZZ$3:BAB$31,$A65)","v":0},null,null,null,{"$f":"COUNTIF(BAD$3:BAF$31,$A65)","v":0},null,null,null,{"$f":"COUNTIF(BAH$3:BAJ$31,$A65)","v":0},null,null,null,{"$f":"COUNTIF(BAL$3:BAN$31,$A65)","v":0},null,null,null,{"$f":"COUNTIF(BAP$3:BAR$31,$A65)","v":0},null,null,null,{"$f":"COUNTIF(BAT$3:BAV$31,$A65)","v":0},null,null,null,{"$f":"COUNTIF(BAX$3:BAZ$31,$A65)","v":0},null,null,null,{"$f":"COUNTIF(BBB$3:BBD$31,$A65)","v":0},null,null,null,{"$f":"COUNTIF(BBF$3:BBH$31,$A65)","v":0},null,null,null,{"$f":"COUNTIF(BBJ$3:BBL$31,$A65)","v":0},null,null,null,{"$f":"COUNTIF(BBN$3:BBP$31,$A65)","v":0},null,null,null,{"$f":"COUNTIF(BBR$3:BBT$31,$A65)","v":0},null,null,null,{"$f":"COUNTIF(BBV$3:BBX$31,$A65)","v":0},null,null,null,{"$f":"COUNTIF(BBZ$3:BCB$31,$A65)","v":0},null,null,null,{"$f":"COUNTIF(BCD$3:BCF$31,$A65)","v":0},null,null,null,{"$f":"COUNTIF(BCH$3:BCJ$31,$A65)","v":0},null,null,null,{"$f":"COUNTIF(BCL$3:BCN$31,$A65)","v":0},null,null,null,{"$f":"COUNTIF(BCP$3:BCR$31,$A65)","v":0},null,null,null,{"$f":"COUNTIF(BCT$3:BCV$31,$A65)","v":0},null,null,null,{"$f":"COUNTIF(BCX$3:BCZ$31,$A65)","v":0},null,null,null,{"$f":"COUNTIF(BDB$3:BDD$31,$A65)","v":0},null,null,null,{"$f":"COUNTIF(BDF$3:BDH$31,$A65)","v":0},null,null,null,{"$f":"COUNTIF(BDJ$3:BDL$31,$A65)","v":0},null,null,null,{"$f":"COUNTIF(BDN$3:BDP$31,$A65)","v":0},null,null,null,{"$f":"COUNTIF(BDR$3:BDT$31,$A65)","v":0},null,null,null,{"$f":"COUNTIF(BDV$3:BDX$31,$A65)","v":0},null,null,null,{"$f":"COUNTIF(BDZ$3:BEB$31,$A65)","v":0},null,null,null,{"$f":"COUNTIF(BED$3:BEF$31,$A65)","v":0},null,null,null,{"$f":"COUNTIF(BEH$3:BEJ$31,$A65)","v":0},null,null,null,{"$f":"COUNTIF(BEL$3:BEN$31,$A65)","v":0},null,null,null,{"$f":"COUNTIF(BEP$3:BER$31,$A65)","v":0},null,null,null,{"$f":"COUNTIF(BET$3:BEV$31,$A65)","v":0},null,null,null,{"$f":"COUNTIF(BEX$3:BEZ$31,$A65)","v":0},null,null,null,{"$f":"COUNTIF(BFB$3:BFD$31,$A65)","v":0},null,null,null,{"$f":"COUNTIF(BFF$3:BFH$31,$A65)","v":0},null,null,null,{"$f":"COUNTIF(BFJ$3:BFL$31,$A65)","v":0},null,null,null,{"$f":"COUNTIF(BFN$3:BFP$31,$A65)","v":0},null,null,null,{"$f":"COUNTIF(BFR$3:BFT$31,$A65)","v":0},null,null,null,{"$f":"COUNTIF(BFV$3:BFX$31,$A65)","v":0},null,null,null,{"$f":"COUNTIF(BFZ$3:BGB$31,$A65)","v":0},null,null,null,{"$f":"COUNTIF(BGD$3:BGF$31,$A65)","v":0},null,null,null,{"$f":"COUNTIF(BGH$3:BGJ$31,$A65)","v":0},null,null,null,{"$f":"COUNTIF(BGL$3:BGN$31,$A65)","v":0},null,null,null,{"$f":"COUNTIF(BGP$3:BGR$31,$A65)","v":0},null,null,null,{"$f":"COUNTIF(BGT$3:BGV$31,$A65)","v":0},null,null,null,{"$f":"COUNTIF(BGX$3:BGZ$31,$A65)","v":0},null,null,null,{"$f":"COUNTIF(BHB$3:BHD$31,$A65)","v":0},null,null,null,{"$f":"COUNTIF(BHF$3:BHH$31,$A65)","v":0},null,null,null,{"$f":"COUNTIF(BHJ$3:BHL$31,$A65)","v":0},null,null,null,{"$f":"COUNTIF(BHN$3:BHP$31,$A65)","v":0},null,null,null,{"$f":"COUNTIF(BHR$3:BHT$31,$A65)","v":0},null,null,null,{"$f":"COUNTIF(BHV$3:BHX$31,$A65)","v":0},null,null,null,{"$f":"COUNTIF(BHZ$3:BIB$31,$A65)","v":0},null,null,null,{"$f":"COUNTIF(BID$3:BIF$31,$A65)","v":0},null,null,null,{"$f":"COUNTIF(BIH$3:BIJ$31,$A65)","v":0},null,null,null,{"$f":"COUNTIF(BIL$3:BIN$31,$A65)","v":0},null,null,null,{"$f":"COUNTIF(BIP$3:BIR$31,$A65)","v":0},null,null,null,{"$f":"COUNTIF(BIT$3:BIV$31,$A65)","v":0},null,null,null,{"$f":"COUNTIF(BIX$3:BIZ$31,$A65)","v":0},null,null,null,{"$f":"COUNTIF(BJB$3:BJD$31,$A65)","v":0},null,null,null,{"$f":"COUNTIF(BJF$3:BJH$31,$A65)","v":0},null,null,null,{"$f":"COUNTIF(BJJ$3:BJL$31,$A65)","v":0},null,null,null,{"$f":"COUNTIF(BJN$3:BJP$31,$A65)","v":0},null,null,null,{"$f":"COUNTIF(BJR$3:BJT$31,$A65)","v":0},null,null,null,{"$f":"COUNTIF(BJV$3:BJX$31,$A65)","v":0},null,null,null,{"$f":"COUNTIF(BJZ$3:BKB$31,$A65)","v":0},null,null,null,{"$f":"COUNTIF(BKD$3:BKF$31,$A65)","v":0},null,null,null,{"$f":"COUNTIF(BKH$3:BKJ$31,$A65)","v":0},null,null,null,{"$f":"COUNTIF(BKL$3:BKN$31,$A65)","v":0},null,null,null,{"$f":"COUNTIF(BKP$3:BKR$31,$A65)","v":0},null,null,null,{"$f":"COUNTIF(BKT$3:BKV$31,$A65)","v":0},null,null,null,{"$f":"COUNTIF(BKX$3:BKZ$31,$A65)","v":0},null,null,null,{"$f":"COUNTIF(BLB$3:BLD$31,$A65)","v":0},null,null,null,{"$f":"COUNTIF(BLF$3:BLH$31,$A65)","v":0},null,null,null,{"$f":"COUNTIF(BLJ$3:BLL$31,$A65)","v":0},null,null,null,{"$f":"COUNTIF(BLN$3:BLP$31,$A65)","v":0},null,null,null,{"$f":"COUNTIF(BLR$3:BLT$31,$A65)","v":0},null,null,null,{"$f":"COUNTIF(BLV$3:BLX$31,$A65)","v":0},null,null,null,{"$f":"COUNTIF(BLZ$3:BMB$31,$A65)","v":0},null,null,null,{"$f":"COUNTIF(BMD$3:BMF$31,$A65)","v":0},null,null,null,{"$f":"COUNTIF(BMH$3:BMJ$31,$A65)","v":0},null,null,null,{"$f":"COUNTIF(BML$3:BMN$31,$A65)","v":0},null,null,null,{"$f":"COUNTIF(BMP$3:BMR$31,$A65)","v":0},null,null,null,{"$f":"COUNTIF(BMT$3:BMV$31,$A65)","v":0},null,null,null,{"$f":"COUNTIF(BMX$3:BMZ$31,$A65)","v":0},null,null,null,{"$f":"COUNTIF(BNB$3:BND$31,$A65)","v":0},null,null,null,{"$f":"COUNTIF(BNF$3:BNH$31,$A65)","v":0},null,null,null,{"$f":"COUNTIF(BNJ$3:BNL$31,$A65)","v":0},null,null,null,{"$f":"COUNTIF(BNN$3:BNP$31,$A65)","v":0},null,null,null,{"$f":"COUNTIF(BNR$3:BNT$31,$A65)","v":0},null,null,null,{"$f":"COUNTIF(BNV$3:BNX$31,$A65)","v":0},null,null,null,{"$f":"COUNTIF(BNZ$3:BOB$31,$A65)","v":0},null,null,null,{"$f":"COUNTIF(BOD$3:BOF$31,$A65)","v":0},null,null,null,{"$f":"COUNTIF(BOH$3:BOJ$31,$A65)","v":0},null,null,null,{"$f":"COUNTIF(BOL$3:BON$31,$A65)","v":0},null,null,null,{"$f":"COUNTIF(BOP$3:BOR$31,$A65)","v":0},null,null,null,{"$f":"COUNTIF(BOT$3:BOV$31,$A65)","v":0},null,null,null,{"$f":"COUNTIF(BOX$3:BOZ$31,$A65)","v":0},null,null,null,{"$f":"COUNTIF(BPB$3:BPD$31,$A65)","v":0},null,null,null,{"$f":"COUNTIF(BPF$3:BPH$31,$A65)","v":0},null,null,null,{"$f":"COUNTIF(BPJ$3:BPL$31,$A65)","v":0},null,null,null,{"$f":"COUNTIF(BPN$3:BPP$31,$A65)","v":0},null,null,null,{"$f":"COUNTIF(BPR$3:BPT$31,$A65)","v":0},null,null,null,{"$f":"COUNTIF(BPV$3:BPX$31,$A65)","v":0},null,null,null,{"$f":"COUNTIF(BPZ$3:BQB$31,$A65)","v":0},null,null,null,{"$f":"COUNTIF(BQD$3:BQF$31,$A65)","v":0},null,null,null,{"$f":"COUNTIF(BQH$3:BQJ$31,$A65)","v":0},null,null,null,{"$f":"COUNTIF(BQL$3:BQN$31,$A65)","v":0},null,null,null,{"$f":"COUNTIF(BQP$3:BQR$31,$A65)","v":0},null,null,null,{"$f":"COUNTIF(BQT$3:BQV$31,$A65)","v":0},null,null,null,{"$f":"COUNTIF(BQX$3:BQZ$31,$A65)","v":0},null,null,null,{"$f":"COUNTIF(BRB$3:BRD$31,$A65)","v":0},null,null,null,{"$f":"COUNTIF(BRF$3:BRH$31,$A65)","v":0},null,null,null,{"$f":"COUNTIF(BRJ$3:BRL$31,$A65)","v":0},null,null,null,{"$f":"COUNTIF(BRN$3:BRP$31,$A65)","v":0},null,null,null,{"$f":"COUNTIF(BRR$3:BRT$31,$A65)","v":0},null,null,null,{"$f":"COUNTIF(BRV$3:BRX$31,$A65)","v":0},null,null,null,{"$f":"COUNTIF(BRZ$3:BSB$31,$A65)","v":0},null,null,null,{"$f":"COUNTIF(BSD$3:BSF$31,$A65)","v":0},null,null,null,{"$f":"COUNTIF(BSH$3:BSJ$31,$A65)","v":0},null,null,null,{"$f":"COUNTIF(BSL$3:BSN$31,$A65)","v":0},null,null,null,{"$f":"COUNTIF(BSP$3:BSR$31,$A65)","v":0},null,null,null,{"$f":"COUNTIF(BST$3:BSV$31,$A65)","v":0},null,null,null,{"$f":"COUNTIF(BSX$3:BSZ$31,$A65)","v":0},null,null,null,{"$f":"COUNTIF(BTB$3:BTD$31,$A65)","v":0},null,null,null,{"$f":"COUNTIF(BTF$3:BTH$31,$A65)","v":0},null,null,null,{"$f":"COUNTIF(BTJ$3:BTL$31,$A65)","v":0},null,null,null,{"$f":"COUNTIF(BTN$3:BTP$31,$A65)","v":0},null,null,null,{"$f":"COUNTIF(BTR$3:BTT$31,$A65)","v":0},null,null,null,{"$f":"COUNTIF(BTV$3:BTX$31,$A65)","v":0},null,null,null,{"$f":"COUNTIF(BTZ$3:BUB$31,$A65)","v":0},null,null,null,{"$f":"COUNTIF(BUD$3:BUF$31,$A65)","v":0},null,null,null,{"$f":"COUNTIF(BUH$3:BUJ$31,$A65)","v":0},null,null,null,{"$f":"COUNTIF(BUL$3:BUN$31,$A65)","v":0},null,null,null,{"$f":"COUNTIF(BUP$3:BUR$31,$A65)","v":0},null,null,null,{"$f":"COUNTIF(BUT$3:BUV$31,$A65)","v":0},null,null,null,{"$f":"COUNTIF(BUX$3:BUZ$31,$A65)","v":0},null,null,null,{"$f":"COUNTIF(BVB$3:BVD$31,$A65)","v":0},null,null,null,{"$f":"COUNTIF(BVF$3:BVH$31,$A65)","v":0},null,null,null,{"$f":"COUNTIF(BVJ$3:BVL$31,$A65)","v":0},null,null,null,{"$f":"COUNTIF(BVN$3:BVP$31,$A65)","v":0},null,null,null,{"$f":"COUNTIF(BVR$3:BVT$31,$A65)","v":0},null,null,null,{"$f":"COUNTIF(BVV$3:BVX$31,$A65)","v":0},null,null,null,{"$f":"COUNTIF(BVZ$3:BWB$31,$A65)","v":0},null,null,null,{"$f":"COUNTIF(BWD$3:BWF$31,$A65)","v":0},null,null,null,{"$f":"COUNTIF(BWH$3:BWJ$31,$A65)","v":0},null,null,null,{"$f":"COUNTIF(BWL$3:BWN$31,$A65)","v":0},null,null,null,{"$f":"COUNTIF(BWP$3:BWR$31,$A65)","v":0},null,null,null,{"$f":"COUNTIF(BWT$3:BWV$31,$A65)","v":0},null,null,null,{"$f":"COUNTIF(BWX$3:BWZ$31,$A65)","v":0},null,null,null,{"$f":"COUNTIF(BXB$3:BXD$31,$A65)","v":0},null,null,null,{"$f":"COUNTIF(BXF$3:BXH$31,$A65)","v":0},null,null,null,{"$f":"COUNTIF(BXJ$3:BXL$31,$A65)","v":0},null,null,null,{"$f":"COUNTIF(BXN$3:BXP$31,$A65)","v":0},null,null,null,{"$f":"COUNTIF(BXR$3:BXT$31,$A65)","v":0},null,null,null,{"$f":"COUNTIF(BXV$3:BXX$31,$A65)","v":0},null,null,null,{"$f":"COUNTIF(BXZ$3:BYB$31,$A65)","v":0},null,null,null,{"$f":"COUNTIF(BYD$3:BYF$31,$A65)","v":0},null,null,null,{"$f":"COUNTIF(BYH$3:BYJ$31,$A65)","v":0},null,null,null,{"$f":"COUNTIF(BYL$3:BYN$31,$A65)","v":0},null,null,null,{"$f":"COUNTIF(BYP$3:BYR$31,$A65)","v":0},null,null,null,{"$f":"COUNTIF(BYT$3:BYV$31,$A65)","v":0},null,null,null,{"$f":"COUNTIF(BYX$3:BYZ$31,$A65)","v":0},null,null,null,{"$f":"COUNTIF(BZB$3:BZD$31,$A65)","v":0},null,null,null,{"$f":"COUNTIF(BZF$3:BZH$31,$A65)","v":0},null,null,null,{"$f":"COUNTIF(BZJ$3:BZL$31,$A65)","v":0},null,null,null,{"$f":"COUNTIF(BZN$3:BZP$31,$A65)","v":0},null,null,null,{"$f":"COUNTIF(BZR$3:BZT$31,$A65)","v":0},null,null,null,{"$f":"COUNTIF(BZV$3:BZX$31,$A65)","v":0},null,null,null,{"$f":"COUNTIF(BZZ$3:CAB$31,$A65)","v":0},null,null,null,{"$f":"COUNTIF(CAD$3:CAF$31,$A65)","v":0},null,null,null,{"$f":"COUNTIF(CAH$3:CAJ$31,$A65)","v":0},null,null,null,{"$f":"COUNTIF(CAL$3:CAN$31,$A65)","v":0},null,null,null,{"$f":"COUNTIF(CAP$3:CAR$31,$A65)","v":0},null,null,null,{"$f":"COUNTIF(CAT$3:CAV$31,$A65)","v":0},null,null,null,{"$f":"COUNTIF(CAX$3:CAZ$31,$A65)","v":0},null,null,null,{"$f":"COUNTIF(CBB$3:CBD$31,$A65)","v":0},null,null,null,{"$f":"COUNTIF(CBF$3:CBH$31,$A65)","v":0},null,null,null,{"$f":"COUNTIF(CBJ$3:CBL$31,$A65)","v":0},null,null,null,{"$f":"COUNTIF(CBN$3:CBP$31,$A65)","v":0},null,null,null,{"$f":"COUNTIF(CBR$3:CBT$31,$A65)","v":0},null,null,null,{"$f":"COUNTIF(CBV$3:CBX$31,$A65)","v":0},null,null,null,{"$f":"COUNTIF(CBZ$3:CCB$31,$A65)","v":0},null,null,null,{"$f":"COUNTIF(CCD$3:CCF$31,$A65)","v":0},null,null,null,{"$f":"COUNTIF(CCH$3:CCJ$31,$A65)","v":0},null,null,null,{"$f":"COUNTIF(CCL$3:CCN$31,$A65)","v":0},null,null,null,{"$f":"COUNTIF(CCP$3:CCR$31,$A65)","v":0},null,null,null,{"$f":"COUNTIF(CCT$3:CCV$31,$A65)","v":0},null,null,null,{"$f":"COUNTIF(CCX$3:CCZ$31,$A65)","v":0},null,null,null,{"$f":"COUNTIF(CDB$3:CDD$31,$A65)","v":0},null,null,null,{"$f":"COUNTIF(CDF$3:CDH$31,$A65)","v":0},null,null,null,{"$f":"COUNTIF(CDJ$3:CDL$31,$A65)","v":0},null,null,null,{"$f":"COUNTIF(CDN$3:CDP$31,$A65)","v":0},null,null,null,{"$f":"COUNTIF(CDR$3:CDT$31,$A65)","v":0},null,null,null,{"$f":"COUNTIF(CDV$3:CDX$31,$A65)","v":0},null,null,null,{"$f":"COUNTIF(CDZ$3:CEB$31,$A65)","v":0},null,null,null,{"$f":"COUNTIF(CED$3:CEF$31,$A65)","v":0},null,null,null,{"$f":"COUNTIF(CEH$3:CEJ$31,$A65)","v":0},null,null,null,{"$f":"COUNTIF(CEL$3:CEN$31,$A65)","v":0},null,null,null,{"$f":"COUNTIF(CEP$3:CER$31,$A65)","v":0},null,null,null,{"$f":"COUNTIF(CET$3:CEV$31,$A65)","v":0},null,null,null,{"$f":"COUNTIF(CEX$3:CEZ$31,$A65)","v":0},null,null,null,{"$f":"COUNTIF(CFB$3:CFD$31,$A65)","v":0},null,null,null,{"$f":"COUNTIF(CFF$3:CFH$31,$A65)","v":0},null,null,null,{"$f":"COUNTIF(CFJ$3:CFL$31,$A65)","v":0},null,null,null,{"$f":"COUNTIF(CFN$3:CFP$31,$A65)","v":0},null,null,null,{"$f":"COUNTIF(CFR$3:CFT$31,$A65)","v":0},null,null,null,{"$f":"COUNTIF(CFV$3:CFX$31,$A65)","v":0},null,null,null,{"$f":"COUNTIF(CFZ$3:CGB$31,$A65)","v":0},null,null,null,{"$f":"COUNTIF(CGD$3:CGF$31,$A65)","v":0},null,null,null,{"$f":"COUNTIF(CGH$3:CGJ$31,$A65)","v":0},null,null,null,{"$f":"COUNTIF(CGL$3:CGN$31,$A65)","v":0},null,null,null,{"$f":"COUNTIF(CGP$3:CGR$31,$A65)","v":0},null,null,null,{"$f":"COUNTIF(CGT$3:CGV$31,$A65)","v":0},null,null,null,{"$f":"COUNTIF(CGX$3:CGZ$31,$A65)","v":0},null,null,null,{"$f":"COUNTIF(CHB$3:CHD$31,$A65)","v":0},null,null,null,{"$f":"COUNTIF(CHF$3:CHH$31,$A65)","v":0},null,null,null,{"$f":"COUNTIF(CHJ$3:CHL$31,$A65)","v":0},null,null,null,{"$f":"COUNTIF(CHN$3:CHP$31,$A65)","v":0},null,null,null,{"$f":"COUNTIF(CHR$3:CHT$31,$A65)","v":0},null,null,null,{"$f":"COUNTIF(CHV$3:CHX$31,$A65)","v":0},null,null,null,{"$f":"COUNTIF(CHZ$3:CIB$31,$A65)","v":0},null,null,null,{"$f":"COUNTIF(CID$3:CIF$31,$A65)","v":0},null,null,null,{"$f":"COUNTIF(CIH$3:CIJ$31,$A65)","v":0},null,null,null,{"$f":"COUNTIF(CIL$3:CIN$31,$A65)","v":0},null,null,null,{"$f":"COUNTIF(CIP$3:CIR$31,$A65)","v":0},null,null,null,{"$f":"COUNTIF(CIT$3:CIV$31,$A65)","v":0},null,null,null,{"$f":"COUNTIF(CIX$3:CIZ$31,$A65)","v":0},null,null,null,{"$f":"COUNTIF(CJB$3:CJD$31,$A65)","v":0},null,null,null,{"$f":"COUNTIF(CJF$3:CJH$31,$A65)","v":0},null,null,null,{"$f":"COUNTIF(CJJ$3:CJL$31,$A65)","v":0},null,null,null,{"$f":"COUNTIF(CJN$3:CJP$31,$A65)","v":0},null,null,null,{"$f":"COUNTIF(CJR$3:CJT$31,$A65)","v":0},null,null,null,{"$f":"COUNTIF(CJV$3:CJX$31,$A65)","v":0},null,null,null,{"$f":"COUNTIF(CJZ$3:CKB$31,$A65)","v":0},null,null,null,{"$f":"COUNTIF(CKD$3:CKF$31,$A65)","v":0},null,null,null,{"$f":"COUNTIF(CKH$3:CKJ$31,$A65)","v":0},null,null,null,{"$f":"COUNTIF(CKL$3:CKN$31,$A65)","v":0},null,null,null,{"$f":"COUNTIF(CKP$3:CKR$31,$A65)","v":0},null,null,null,{"$f":"COUNTIF(CKT$3:CKV$31,$A65)","v":0},null,null,null,{"$f":"COUNTIF(CKX$3:CKZ$31,$A65)","v":0},null,null,null,{"$f":"COUNTIF(CLB$3:CLD$31,$A65)","v":0},null,null,null,{"$f":"COUNTIF(CLF$3:CLH$31,$A65)","v":0},null,null,null,{"$f":"COUNTIF(CLJ$3:CLL$31,$A65)","v":0},null,null,null,{"$f":"COUNTIF(CLN$3:CLP$31,$A65)","v":0},null,null,null,{"$f":"COUNTIF(CLR$3:CLT$31,$A65)","v":0},null,null,null,{"$f":"COUNTIF(CLV$3:CLX$31,$A65)","v":0},null,null,null,{"$f":"COUNTIF(CLZ$3:CMB$31,$A65)","v":0},null,null,null,{"$f":"COUNTIF(CMD$3:CMF$31,$A65)","v":0},null,null,null,{"$f":"COUNTIF(CMH$3:CMJ$31,$A65)","v":0},null,null,null,{"$f":"COUNTIF(CML$3:CMN$31,$A65)","v":0},null,null,null,{"$f":"COUNTIF(CMP$3:CMR$31,$A65)","v":0},null,null,null,{"$f":"COUNTIF(CMT$3:CMV$31,$A65)","v":0},null,null,null,{"$f":"COUNTIF(CMX$3:CMZ$31,$A65)","v":0},null,null,null,{"$f":"COUNTIF(CNB$3:CND$31,$A65)","v":0},null,null,null,{"$f":"COUNTIF(CNF$3:CNH$31,$A65)","v":0},null,null,null,{"$f":"COUNTIF(CNJ$3:CNL$31,$A65)","v":0},null,null,null,{"$f":"COUNTIF(CNN$3:CNP$31,$A65)","v":0},null,null,null,{"$f":"COUNTIF(CNR$3:CNT$31,$A65)","v":0},null,null,null,{"$f":"COUNTIF(CNV$3:CNX$31,$A65)","v":0},null,null,null,{"$f":"COUNTIF(CNZ$3:COB$31,$A65)","v":0},null,null,null,{"$f":"COUNTIF(COD$3:COF$31,$A65)","v":0},null,null,null,{"$f":"COUNTIF(COH$3:COJ$31,$A65)","v":0},null,null,null,{"$f":"COUNTIF(COL$3:CON$31,$A65)","v":0},null,null,null,{"$f":"COUNTIF(COP$3:COR$31,$A65)","v":0},null,null,null,{"$f":"COUNTIF(COT$3:COV$31,$A65)","v":0},null,null,null,{"$f":"COUNTIF(COX$3:COZ$31,$A65)","v":0},null,null,null,{"$f":"COUNTIF(CPB$3:CPD$31,$A65)","v":0},null,null,null,{"$f":"COUNTIF(CPF$3:CPH$31,$A65)","v":0},null,null,null,{"$f":"COUNTIF(CPJ$3:CPL$31,$A65)","v":0},null,null,null,{"$f":"COUNTIF(CPN$3:CPP$31,$A65)","v":0},null,null,null,{"$f":"COUNTIF(CPR$3:CPT$31,$A65)","v":0},null,null,null,{"$f":"COUNTIF(CPV$3:CPX$31,$A65)","v":0},null,null,null,{"$f":"COUNTIF(CPZ$3:CQB$31,$A65)","v":0},null,null,null,{"$f":"COUNTIF(CQD$3:CQF$31,$A65)","v":0},null,null,null,{"$f":"COUNTIF(CQH$3:CQJ$31,$A65)","v":0},null,null,null,{"$f":"COUNTIF(CQL$3:CQN$31,$A65)","v":0},null,null,null,{"$f":"COUNTIF(CQP$3:CQR$31,$A65)","v":0},null,null,null,{"$f":"COUNTIF(CQT$3:CQV$31,$A65)","v":0},null,null,null,{"$f":"COUNTIF(CQX$3:CQZ$31,$A65)","v":0},null,null,null,{"$f":"COUNTIF(CRB$3:CRD$31,$A65)","v":0},null,null,null,{"$f":"COUNTIF(CRF$3:CRH$31,$A65)","v":0},null,null,null,{"$f":"COUNTIF(CRJ$3:CRL$31,$A65)","v":0},null,null,null,{"$f":"COUNTIF(CRN$3:CRP$31,$A65)","v":0},null,null,null,{"$f":"COUNTIF(CRR$3:CRT$31,$A65)","v":0},null,null,null,{"$f":"COUNTIF(CRV$3:CRX$31,$A65)","v":0},null,null,null,{"$f":"COUNTIF(CRZ$3:CSB$31,$A65)","v":0},null,null,null,{"$f":"COUNTIF(CSD$3:CSF$31,$A65)","v":0},null,null,null,{"$f":"COUNTIF(CSH$3:CSJ$31,$A65)","v":0},null,null,null,{"$f":"COUNTIF(CSL$3:CSN$31,$A65)","v":0},null,null,null,{"$f":"COUNTIF(CSP$3:CSR$31,$A65)","v":0},null,null,null,{"$f":"COUNTIF(CST$3:CSV$31,$A65)","v":0},null,null,null,{"$f":"COUNTIF(CSX$3:CSZ$31,$A65)","v":0},null,null,null,{"$f":"COUNTIF(CTB$3:CTD$31,$A65)","v":0},null,null,null,{"$f":"COUNTIF(CTF$3:CTH$31,$A65)","v":0},null,null,null,{"$f":"COUNTIF(CTJ$3:CTL$31,$A65)","v":0},null,null,null,{"$f":"COUNTIF(CTN$3:CTP$31,$A65)","v":0},null,null,null,{"$f":"COUNTIF(CTR$3:CTT$31,$A65)","v":0},null,null,null,{"$f":"COUNTIF(CTV$3:CTX$31,$A65)","v":0},null,null,null,{"$f":"COUNTIF(CTZ$3:CUB$31,$A65)","v":0},null,null,null,{"$f":"COUNTIF(CUD$3:CUF$31,$A65)","v":0},null,null,null,{"$f":"COUNTIF(CUH$3:CUJ$31,$A65)","v":0},null,null,null,{"$f":"COUNTIF(CUL$3:CUN$31,$A65)","v":0},null,null,null,{"$f":"COUNTIF(CUP$3:CUR$31,$A65)","v":0},null,null,null,{"$f":"COUNTIF(CUT$3:CUV$31,$A65)","v":0},null,null,null,{"$f":"COUNTIF(CUX$3:CUZ$31,$A65)","v":0},null,null,null,{"$f":"COUNTIF(CVB$3:CVD$31,$A65)","v":0},null,null,null,{"$f":"COUNTIF(CVF$3:CVH$31,$A65)","v":0},null,null,null,{"$f":"COUNTIF(CVJ$3:CVL$31,$A65)","v":0},null,null,null,{"$f":"COUNTIF(CVN$3:CVP$31,$A65)","v":0},null,null,null,{"$f":"COUNTIF(CVR$3:CVT$31,$A65)","v":0},null,null,null,{"$f":"COUNTIF(CVV$3:CVX$31,$A65)","v":0},null,null,null,{"$f":"COUNTIF(CVZ$3:CWB$31,$A65)","v":0},null,null,null,{"$f":"COUNTIF(CWD$3:CWF$31,$A65)","v":0},null,null,null,{"$f":"COUNTIF(CWH$3:CWJ$31,$A65)","v":0},null,null,null,{"$f":"COUNTIF(CWL$3:CWN$31,$A65)","v":0},null,null,null,{"$f":"COUNTIF(CWP$3:CWR$31,$A65)","v":0},null,null,null,{"$f":"COUNTIF(CWT$3:CWV$31,$A65)","v":0},null,null,null,{"$f":"COUNTIF(CWX$3:CWZ$31,$A65)","v":0},null,null,null,{"$f":"COUNTIF(CXB$3:CXD$31,$A65)","v":0},null,null,null,{"$f":"COUNTIF(CXF$3:CXH$31,$A65)","v":0},null,null,null,{"$f":"COUNTIF(CXJ$3:CXL$31,$A65)","v":0},null,null,null,{"$f":"COUNTIF(CXN$3:CXP$31,$A65)","v":0},null,null,null,{"$f":"COUNTIF(CXR$3:CXT$31,$A65)","v":0},null,null,null,{"$f":"COUNTIF(CXV$3:CXX$31,$A65)","v":0},null,null,null,{"$f":"COUNTIF(CXZ$3:CYB$31,$A65)","v":0},null,null,null,{"$f":"COUNTIF(CYD$3:CYF$31,$A65)","v":0},null,null,null,{"$f":"COUNTIF(CYH$3:CYJ$31,$A65)","v":0},null,null,null,{"$f":"COUNTIF(CYL$3:CYN$31,$A65)","v":0},null,null,null,{"$f":"COUNTIF(CYP$3:CYR$31,$A65)","v":0},null,null,null,{"$f":"COUNTIF(CYT$3:CYV$31,$A65)","v":0},null,null,null,{"$f":"COUNTIF(CYX$3:CYZ$31,$A65)","v":0},null,null,null,{"$f":"COUNTIF(CZB$3:CZD$31,$A65)","v":0},null,null,null,{"$f":"COUNTIF(CZF$3:CZH$31,$A65)","v":0},null,null,null,{"$f":"COUNTIF(CZJ$3:CZL$31,$A65)","v":0},null,null,null,{"$f":"COUNTIF(CZN$3:CZP$31,$A65)","v":0},null,null,null,{"$f":"COUNTIF(CZR$3:CZT$31,$A65)","v":0},null,null,null,{"$f":"COUNTIF(CZV$3:CZX$31,$A65)","v":0},null,null,null,{"$f":"COUNTIF(CZZ$3:DAB$31,$A65)","v":0},null,null,null,{"$f":"COUNTIF(DAD$3:DAF$31,$A65)","v":0},null,null,null,{"$f":"COUNTIF(DAH$3:DAJ$31,$A65)","v":0},null,null,null,{"$f":"COUNTIF(DAL$3:DAN$31,$A65)","v":0},null,null,null,{"$f":"COUNTIF(DAP$3:DAR$31,$A65)","v":0},null,null,null,{"$f":"COUNTIF(DAT$3:DAV$31,$A65)","v":0},null,null,null,{"$f":"COUNTIF(DAX$3:DAZ$31,$A65)","v":0},null,null,null,{"$f":"COUNTIF(DBB$3:DBD$31,$A65)","v":0},null,null,null,{"$f":"COUNTIF(DBF$3:DBH$31,$A65)","v":0},null,null,null,{"$f":"COUNTIF(DBJ$3:DBL$31,$A65)","v":0},null,null,null,{"$f":"COUNTIF(DBN$3:DBP$31,$A65)","v":0},null,null,null,{"$f":"COUNTIF(DBR$3:DBT$31,$A65)","v":0},null,null,null,{"$f":"COUNTIF(DBV$3:DBX$31,$A65)","v":0},null,null,null,{"$f":"COUNTIF(DBZ$3:DCB$31,$A65)","v":0},null,null,null,{"$f":"COUNTIF(DCD$3:DCF$31,$A65)","v":0},null,null,null,{"$f":"COUNTIF(DCH$3:DCJ$31,$A65)","v":0},null,null,null,{"$f":"COUNTIF(DCL$3:DCN$31,$A65)","v":0},null,null,null,{"$f":"COUNTIF(DCP$3:DCR$31,$A65)","v":0},null,null,null,{"$f":"COUNTIF(DCT$3:DCV$31,$A65)","v":0},null,null,null,{"$f":"COUNTIF(DCX$3:DCZ$31,$A65)","v":0},null,null,null,{"$f":"COUNTIF(DDB$3:DDD$31,$A65)","v":0},null,null,null,{"$f":"COUNTIF(DDF$3:DDH$31,$A65)","v":0},null,null,null,{"$f":"COUNTIF(DDJ$3:DDL$31,$A65)","v":0},null,null,null,{"$f":"COUNTIF(DDN$3:DDP$31,$A65)","v":0},null,null,null,{"$f":"COUNTIF(DDR$3:DDT$31,$A65)","v":0},null,null,null,{"$f":"COUNTIF(DDV$3:DDX$31,$A65)","v":0},null,null,null,{"$f":"COUNTIF(DDZ$3:DEB$31,$A65)","v":0},null,null,null,{"$f":"COUNTIF(DED$3:DEF$31,$A65)","v":0},null,null,null,{"$f":"COUNTIF(DEH$3:DEJ$31,$A65)","v":0},null,null,null,{"$f":"COUNTIF(DEL$3:DEN$31,$A65)","v":0},null,null,null,{"$f":"COUNTIF(DEP$3:DER$31,$A65)","v":0},null,null,null,{"$f":"COUNTIF(DET$3:DEV$31,$A65)","v":0},null,null,null,{"$f":"COUNTIF(DEX$3:DEZ$31,$A65)","v":0},null,null,null,{"$f":"COUNTIF(DFB$3:DFD$31,$A65)","v":0},null,null,null,{"$f":"COUNTIF(DFF$3:DFH$31,$A65)","v":0},null,null,null,{"$f":"COUNTIF(DFJ$3:DFL$31,$A65)","v":0},null,null,null,{"$f":"COUNTIF(DFN$3:DFP$31,$A65)","v":0},null,null,null,{"$f":"COUNTIF(DFR$3:DFT$31,$A65)","v":0},null,null,null,{"$f":"COUNTIF(DFV$3:DFX$31,$A65)","v":0},null,null,null,{"$f":"COUNTIF(DFZ$3:DGB$31,$A65)","v":0},null,null,null,{"$f":"COUNTIF(DGD$3:DGF$31,$A65)","v":0},null,null,null,{"$f":"COUNTIF(DGH$3:DGJ$31,$A65)","v":0},null,null,null,{"$f":"COUNTIF(DGL$3:DGN$31,$A65)","v":0},null,null,null,{"$f":"COUNTIF(DGP$3:DGR$31,$A65)","v":0},null,null,null,{"$f":"COUNTIF(DGT$3:DGV$31,$A65)","v":0},null,null,null,{"$f":"COUNTIF(DGX$3:DGZ$31,$A65)","v":0},null,null,null,{"$f":"COUNTIF(DHB$3:DHD$31,$A65)","v":0},null,null,null,{"$f":"COUNTIF(DHF$3:DHH$31,$A65)","v":0},null,null,null,{"$f":"COUNTIF(DHJ$3:DHL$31,$A65)","v":0},null,null,null,{"$f":"COUNTIF(DHN$3:DHP$31,$A65)","v":0},null,null,null,{"$f":"COUNTIF(DHR$3:DHT$31,$A65)","v":0},null,null,null,{"$f":"COUNTIF(DHV$3:DHX$31,$A65)","v":0},null,null,null,{"$f":"COUNTIF(DHZ$3:DIB$31,$A65)","v":0},null,null,null,{"$f":"COUNTIF(DID$3:DIF$31,$A65)","v":0},null,null,null,{"$f":"COUNTIF(DIH$3:DIJ$31,$A65)","v":0},null,null,null,{"$f":"COUNTIF(DIL$3:DIN$31,$A65)","v":0},null,null,null,{"$f":"COUNTIF(DIP$3:DIR$31,$A65)","v":0},null,null,null,{"$f":"COUNTIF(DIT$3:DIV$31,$A65)","v":0},null,null,null,{"$f":"COUNTIF(DIX$3:DIZ$31,$A65)","v":0},null,null,null,{"$f":"COUNTIF(DJB$3:DJD$31,$A65)","v":0},null,null,null,{"$f":"COUNTIF(DJF$3:DJH$31,$A65)","v":0},null,null,null,{"$f":"COUNTIF(DJJ$3:DJL$31,$A65)","v":0},null,null,null,{"$f":"COUNTIF(DJN$3:DJP$31,$A65)","v":0},null,null,null,{"$f":"COUNTIF(DJR$3:DJT$31,$A65)","v":0},null,null,null,{"$f":"COUNTIF(DJV$3:DJX$31,$A65)","v":0},null,null,null,{"$f":"COUNTIF(DJZ$3:DKB$31,$A65)","v":0},null,null,null,{"$f":"COUNTIF(DKD$3:DKF$31,$A65)","v":0},null,null,null,{"$f":"COUNTIF(DKH$3:DKJ$31,$A65)","v":0},null,null,null,{"$f":"COUNTIF(DKL$3:DKN$31,$A65)","v":0},null,null,null,{"$f":"COUNTIF(DKP$3:DKR$31,$A65)","v":0},null,null,null,{"$f":"COUNTIF(DKT$3:DKV$31,$A65)","v":0},null,null,null,{"$f":"COUNTIF(DKX$3:DKZ$31,$A65)","v":0},null,null,null,{"$f":"COUNTIF(DLB$3:DLD$31,$A65)","v":0},null,null,null,{"$f":"COUNTIF(DLF$3:DLH$31,$A65)","v":0},null,null,null,{"$f":"COUNTIF(DLJ$3:DLL$31,$A65)","v":0},null,null,null,{"$f":"COUNTIF(DLN$3:DLP$31,$A65)","v":0},null,null,null,{"$f":"COUNTIF(DLR$3:DLT$31,$A65)","v":0},null,null,null,{"$f":"COUNTIF(DLV$3:DLX$31,$A65)","v":0},null,null,null,{"$f":"COUNTIF(DLZ$3:DMB$31,$A65)","v":0},null,null,null,{"$f":"COUNTIF(DMD$3:DMF$31,$A65)","v":0},null,null,null,{"$f":"COUNTIF(DMH$3:DMJ$31,$A65)","v":0},null,null,null,{"$f":"COUNTIF(DML$3:DMN$31,$A65)","v":0},null,null,null,{"$f":"COUNTIF(DMP$3:DMR$31,$A65)","v":0},null,null,null,{"$f":"COUNTIF(DMT$3:DMV$31,$A65)","v":0},null,null,null,{"$f":"COUNTIF(DMX$3:DMZ$31,$A65)","v":0},null,null,null,{"$f":"COUNTIF(DNB$3:DND$31,$A65)","v":0},null,null,null,{"$f":"COUNTIF(DNF$3:DNH$31,$A65)","v":0},null,null,null,{"$f":"COUNTIF(DNJ$3:DNL$31,$A65)","v":0},null,null,null,{"$f":"COUNTIF(DNN$3:DNP$31,$A65)","v":0},null,null,null,{"$f":"COUNTIF(DNR$3:DNT$31,$A65)","v":0},null,null,null,{"$f":"COUNTIF(DNV$3:DNX$31,$A65)","v":0},null,null,null,{"$f":"COUNTIF(DNZ$3:DOB$31,$A65)","v":0},null,null,null,{"$f":"COUNTIF(DOD$3:DOF$31,$A65)","v":0},null,null,null,{"$f":"COUNTIF(DOH$3:DOJ$31,$A65)","v":0},null,null,null,{"$f":"COUNTIF(DOL$3:DON$31,$A65)","v":0},null,null,null,{"$f":"COUNTIF(DOP$3:DOR$31,$A65)","v":0},null,null,null,{"$f":"COUNTIF(DOT$3:DOV$31,$A65)","v":0},null,null,null,{"$f":"COUNTIF(DOX$3:DOZ$31,$A65)","v":0},null,null,null,{"$f":"COUNTIF(DPB$3:DPD$31,$A65)","v":0},null,null,null,{"$f":"COUNTIF(DPF$3:DPH$31,$A65)","v":0},null,null,null,{"$f":"COUNTIF(DPJ$3:DPL$31,$A65)","v":0},null,null,null,{"$f":"COUNTIF(DPN$3:DPP$31,$A65)","v":0},null,null,null,{"$f":"COUNTIF(DPR$3:DPT$31,$A65)","v":0},null,null,null,{"$f":"COUNTIF(DPV$3:DPX$31,$A65)","v":0},null,null,null,{"$f":"COUNTIF(DPZ$3:DQB$31,$A65)","v":0},null,null,null,{"$f":"COUNTIF(DQD$3:DQF$31,$A65)","v":0},null,null,null,{"$f":"COUNTIF(DQH$3:DQJ$31,$A65)","v":0},null,null,null,{"$f":"COUNTIF(DQL$3:DQN$31,$A65)","v":0},null,null,null,{"$f":"COUNTIF(DQP$3:DQR$31,$A65)","v":0},null,null,null,{"$f":"COUNTIF(DQT$3:DQV$31,$A65)","v":0},null,null,null,{"$f":"COUNTIF(DQX$3:DQZ$31,$A65)","v":0},null,null,null,{"$f":"COUNTIF(DRB$3:DRD$31,$A65)","v":0},null,null,null,{"$f":"COUNTIF(DRF$3:DRH$31,$A65)","v":0},null,null,null,{"$f":"COUNTIF(DRJ$3:DRL$31,$A65)","v":0},null,null,null,{"$f":"COUNTIF(DRN$3:DRP$31,$A65)","v":0},null,null,null,{"$f":"COUNTIF(DRR$3:DRT$31,$A65)","v":0},null,null,null,{"$f":"COUNTIF(DRV$3:DRX$31,$A65)","v":0},null,null,null,{"$f":"COUNTIF(DRZ$3:DSB$31,$A65)","v":0},null,null,null,{"$f":"COUNTIF(DSD$3:DSF$31,$A65)","v":0},null,null,null,{"$f":"COUNTIF(DSH$3:DSJ$31,$A65)","v":0},null,null,null,{"$f":"COUNTIF(DSL$3:DSN$31,$A65)","v":0},null,null,null,{"$f":"COUNTIF(DSP$3:DSR$31,$A65)","v":0},null,null,null,{"$f":"COUNTIF(DST$3:DSV$31,$A65)","v":0},null,null,null,{"$f":"COUNTIF(DSX$3:DSZ$31,$A65)","v":0},null,null,null,{"$f":"COUNTIF(DTB$3:DTD$31,$A65)","v":0},null,null,null,{"$f":"COUNTIF(DTF$3:DTH$31,$A65)","v":0},null,null,null,{"$f":"COUNTIF(DTJ$3:DTL$31,$A65)","v":0},null,null,null,{"$f":"COUNTIF(DTN$3:DTP$31,$A65)","v":0},null,null,null,{"$f":"COUNTIF(DTR$3:DTT$31,$A65)","v":0},null,null,null,{"$f":"COUNTIF(DTV$3:DTX$31,$A65)","v":0},null,null,null,{"$f":"COUNTIF(DTZ$3:DUB$31,$A65)","v":0},null,null,null,{"$f":"COUNTIF(DUD$3:DUF$31,$A65)","v":0},null,null,null,{"$f":"COUNTIF(DUH$3:DUJ$31,$A65)","v":0},null,null,null,{"$f":"COUNTIF(DUL$3:DUN$31,$A65)","v":0},null,null,null,{"$f":"COUNTIF(DUP$3:DUR$31,$A65)","v":0},null,null,null,{"$f":"COUNTIF(DUT$3:DUV$31,$A65)","v":0},null,null,null,{"$f":"COUNTIF(DUX$3:DUZ$31,$A65)","v":0},null,null,null,{"$f":"COUNTIF(DVB$3:DVD$31,$A65)","v":0},null,null,null,{"$f":"COUNTIF(DVF$3:DVH$31,$A65)","v":0},null,null,null,{"$f":"COUNTIF(DVJ$3:DVL$31,$A65)","v":0},null,null,null,{"$f":"COUNTIF(DVN$3:DVP$31,$A65)","v":0},null,null,null,{"$f":"COUNTIF(DVR$3:DVT$31,$A65)","v":0},null,null,null,{"$f":"COUNTIF(DVV$3:DVX$31,$A65)","v":0},null,null,null,{"$f":"COUNTIF(DVZ$3:DWB$31,$A65)","v":0},null,null,null,{"$f":"COUNTIF(DWD$3:DWF$31,$A65)","v":0},null,null,null,{"$f":"COUNTIF(DWH$3:DWJ$31,$A65)","v":0},null,null,null,{"$f":"COUNTIF(DWL$3:DWN$31,$A65)","v":0},null,null,null,{"$f":"COUNTIF(DWP$3:DWR$31,$A65)","v":0},null,null,null,{"$f":"COUNTIF(DWT$3:DWV$31,$A65)","v":0},null,null,null,{"$f":"COUNTIF(DWX$3:DWZ$31,$A65)","v":0},null,null,null,{"$f":"COUNTIF(DXB$3:DXD$31,$A65)","v":0},null,null,null,{"$f":"COUNTIF(DXF$3:DXH$31,$A65)","v":0},null,null,null,{"$f":"COUNTIF(DXJ$3:DXL$31,$A65)","v":0},null,null,null,{"$f":"COUNTIF(DXN$3:DXP$31,$A65)","v":0},null,null,null,{"$f":"COUNTIF(DXR$3:DXT$31,$A65)","v":0},null,null,null,{"$f":"COUNTIF(DXV$3:DXX$31,$A65)","v":0},null,null,null,{"$f":"COUNTIF(DXZ$3:DYB$31,$A65)","v":0},null,null,null,{"$f":"COUNTIF(DYD$3:DYF$31,$A65)","v":0},null,null,null,{"$f":"COUNTIF(DYH$3:DYJ$31,$A65)","v":0},null,null,null,{"$f":"COUNTIF(DYL$3:DYN$31,$A65)","v":0},null,null,null,{"$f":"COUNTIF(DYP$3:DYR$31,$A65)","v":0},null,null,null,{"$f":"COUNTIF(DYT$3:DYV$31,$A65)","v":0},null,null,null,{"$f":"COUNTIF(DYX$3:DYZ$31,$A65)","v":0},null,null,null,{"$f":"COUNTIF(DZB$3:DZD$31,$A65)","v":0},null,null,null,{"$f":"COUNTIF(DZF$3:DZH$31,$A65)","v":0},null,null,null,{"$f":"COUNTIF(DZJ$3:DZL$31,$A65)","v":0},null,null,null,{"$f":"COUNTIF(DZN$3:DZP$31,$A65)","v":0},null,null,null,{"$f":"COUNTIF(DZR$3:DZT$31,$A65)","v":0},null,null,null,{"$f":"COUNTIF(DZV$3:DZX$31,$A65)","v":0},null,null,null,{"$f":"COUNTIF(DZZ$3:EAB$31,$A65)","v":0},null,null,null,{"$f":"COUNTIF(EAD$3:EAF$31,$A65)","v":0},null,null,null,{"$f":"COUNTIF(EAH$3:EAJ$31,$A65)","v":0},null,null,null,{"$f":"COUNTIF(EAL$3:EAN$31,$A65)","v":0},null,null,null,{"$f":"COUNTIF(EAP$3:EAR$31,$A65)","v":0},null,null,null,{"$f":"COUNTIF(EAT$3:EAV$31,$A65)","v":0},null,null,null,{"$f":"COUNTIF(EAX$3:EAZ$31,$A65)","v":0},null,null,null,{"$f":"COUNTIF(EBB$3:EBD$31,$A65)","v":0},null,null,null,{"$f":"COUNTIF(EBF$3:EBH$31,$A65)","v":0},null,null,null,{"$f":"COUNTIF(EBJ$3:EBL$31,$A65)","v":0},null,null,null,{"$f":"COUNTIF(EBN$3:EBP$31,$A65)","v":0},null,null,null,{"$f":"COUNTIF(EBR$3:EBT$31,$A65)","v":0},null,null,null,{"$f":"COUNTIF(EBV$3:EBX$31,$A65)","v":0},null,null,null,{"$f":"COUNTIF(EBZ$3:ECB$31,$A65)","v":0},null,null,null,{"$f":"COUNTIF(ECD$3:ECF$31,$A65)","v":0},null,null,null,{"$f":"COUNTIF(ECH$3:ECJ$31,$A65)","v":0},null,null,null,{"$f":"COUNTIF(ECL$3:ECN$31,$A65)","v":0},null,null,null,{"$f":"COUNTIF(ECP$3:ECR$31,$A65)","v":0},null,null,null,{"$f":"COUNTIF(ECT$3:ECV$31,$A65)","v":0},null,null,null,{"$f":"COUNTIF(ECX$3:ECZ$31,$A65)","v":0},null,null,null,{"$f":"COUNTIF(EDB$3:EDD$31,$A65)","v":0},null,null,null,{"$f":"COUNTIF(EDF$3:EDH$31,$A65)","v":0},null,null,null,{"$f":"COUNTIF(EDJ$3:EDL$31,$A65)","v":0},null,null,null,{"$f":"COUNTIF(EDN$3:EDP$31,$A65)","v":0},null,null,null,{"$f":"COUNTIF(EDR$3:EDT$31,$A65)","v":0},null,null,null,{"$f":"COUNTIF(EDV$3:EDX$31,$A65)","v":0},null,null,null,{"$f":"COUNTIF(EDZ$3:EEB$31,$A65)","v":0},null,null,null,{"$f":"COUNTIF(EED$3:EEF$31,$A65)","v":0},null,null,null,{"$f":"COUNTIF(EEH$3:EEJ$31,$A65)","v":0},null,null,null,{"$f":"COUNTIF(EEL$3:EEN$31,$A65)","v":0},null,null,null,{"$f":"COUNTIF(EEP$3:EER$31,$A65)","v":0},null,null,null,{"$f":"COUNTIF(EET$3:EEV$31,$A65)","v":0},null,null,null,{"$f":"COUNTIF(EEX$3:EEZ$31,$A65)","v":0},null,null,null,{"$f":"COUNTIF(EFB$3:EFD$31,$A65)","v":0},null,null,null,{"$f":"COUNTIF(EFF$3:EFH$31,$A65)","v":0},null,null,null,{"$f":"COUNTIF(EFJ$3:EFL$31,$A65)","v":0},null,null,null,{"$f":"COUNTIF(EFN$3:EFP$31,$A65)","v":0},null,null,null,{"$f":"COUNTIF(EFR$3:EFT$31,$A65)","v":0},null,null,null,{"$f":"COUNTIF(EFV$3:EFX$31,$A65)","v":0},null,null,null,{"$f":"COUNTIF(EFZ$3:EGB$31,$A65)","v":0},null,null,null,{"$f":"COUNTIF(EGD$3:EGF$31,$A65)","v":0},null,null,null,{"$f":"COUNTIF(EGH$3:EGJ$31,$A65)","v":0},null,null,null,{"$f":"COUNTIF(EGL$3:EGN$31,$A65)","v":0},null,null,null,{"$f":"COUNTIF(EGP$3:EGR$31,$A65)","v":0},null,null,null,{"$f":"COUNTIF(EGT$3:EGV$31,$A65)","v":0},null,null,null,{"$f":"COUNTIF(EGX$3:EGZ$31,$A65)","v":0},null,null,null,{"$f":"COUNTIF(EHB$3:EHD$31,$A65)","v":0},null,null,null,{"$f":"COUNTIF(EHF$3:EHH$31,$A65)","v":0},null,null,null,{"$f":"COUNTIF(EHJ$3:EHL$31,$A65)","v":0},null,null,null,{"$f":"COUNTIF(EHN$3:EHP$31,$A65)","v":0},null,null,null,{"$f":"COUNTIF(EHR$3:EHT$31,$A65)","v":0},null,null,null,{"$f":"COUNTIF(EHV$3:EHX$31,$A65)","v":0},null,null,null,{"$f":"COUNTIF(EHZ$3:EIB$31,$A65)","v":0},null,null,null,{"$f":"COUNTIF(EID$3:EIF$31,$A65)","v":0},null,null,null,{"$f":"COUNTIF(EIH$3:EIJ$31,$A65)","v":0},null,null,null,{"$f":"COUNTIF(EIL$3:EIN$31,$A65)","v":0},null,null,null,{"$f":"COUNTIF(EIP$3:EIR$31,$A65)","v":0},null,null,null,{"$f":"COUNTIF(EIT$3:EIV$31,$A65)","v":0},null,null,null,{"$f":"COUNTIF(EIX$3:EIZ$31,$A65)","v":0},null,null,null,{"$f":"COUNTIF(EJB$3:EJD$31,$A65)","v":0},null,null,null,{"$f":"COUNTIF(EJF$3:EJH$31,$A65)","v":0},null,null,null,{"$f":"COUNTIF(EJJ$3:EJL$31,$A65)","v":0},null,null,null,{"$f":"COUNTIF(EJN$3:EJP$31,$A65)","v":0},null,null,null,{"$f":"COUNTIF(EJR$3:EJT$31,$A65)","v":0},null,null,null,{"$f":"COUNTIF(EJV$3:EJX$31,$A65)","v":0},null,null,null,{"$f":"COUNTIF(EJZ$3:EKB$31,$A65)","v":0},null,null,null,{"$f":"COUNTIF(EKD$3:EKF$31,$A65)","v":0},null,null,null,{"$f":"COUNTIF(EKH$3:EKJ$31,$A65)","v":0},null,null,null,{"$f":"COUNTIF(EKL$3:EKN$31,$A65)","v":0},null,null,null,{"$f":"COUNTIF(EKP$3:EKR$31,$A65)","v":0},null,null,null,{"$f":"COUNTIF(EKT$3:EKV$31,$A65)","v":0},null,null,null,{"$f":"COUNTIF(EKX$3:EKZ$31,$A65)","v":0},null,null,null,{"$f":"COUNTIF(ELB$3:ELD$31,$A65)","v":0},null,null,null,{"$f":"COUNTIF(ELF$3:ELH$31,$A65)","v":0},null,null,null,{"$f":"COUNTIF(ELJ$3:ELL$31,$A65)","v":0},null,null,null,{"$f":"COUNTIF(ELN$3:ELP$31,$A65)","v":0},null,null,null,{"$f":"COUNTIF(ELR$3:ELT$31,$A65)","v":0},null,null,null,{"$f":"COUNTIF(ELV$3:ELX$31,$A65)","v":0},null,null,null,{"$f":"COUNTIF(ELZ$3:EMB$31,$A65)","v":0},null,null,null,{"$f":"COUNTIF(EMD$3:EMF$31,$A65)","v":0},null,null,null,{"$f":"COUNTIF(EMH$3:EMJ$31,$A65)","v":0},null,null,null,{"$f":"COUNTIF(EML$3:EMN$31,$A65)","v":0},null,null,null,{"$f":"COUNTIF(EMP$3:EMR$31,$A65)","v":0},null,null,null,{"$f":"COUNTIF(EMT$3:EMV$31,$A65)","v":0},null,null,null,{"$f":"COUNTIF(EMX$3:EMZ$31,$A65)","v":0},null,null,null,{"$f":"COUNTIF(ENB$3:END$31,$A65)","v":0},null,null,null,{"$f":"COUNTIF(ENF$3:ENH$31,$A65)","v":0},null,null,null,{"$f":"COUNTIF(ENJ$3:ENL$31,$A65)","v":0},null,null,null,{"$f":"COUNTIF(ENN$3:ENP$31,$A65)","v":0},null,null,null,{"$f":"COUNTIF(ENR$3:ENT$31,$A65)","v":0},null,null,null,{"$f":"COUNTIF(ENV$3:ENX$31,$A65)","v":0},null,null,null,{"$f":"COUNTIF(ENZ$3:EOB$31,$A65)","v":0},null,null,null,{"$f":"COUNTIF(EOD$3:EOF$31,$A65)","v":0},null,null,null,{"$f":"COUNTIF(EOH$3:EOJ$31,$A65)","v":0},null,null,null,{"$f":"COUNTIF(EOL$3:EON$31,$A65)","v":0},null,null,null,{"$f":"COUNTIF(EOP$3:EOR$31,$A65)","v":0},null,null,null,{"$f":"COUNTIF(EOT$3:EOV$31,$A65)","v":0},null,null,null,{"$f":"COUNTIF(EOX$3:EOZ$31,$A65)","v":0},null,null,null,{"$f":"COUNTIF(EPB$3:EPD$31,$A65)","v":0},null,null,null,{"$f":"COUNTIF(EPF$3:EPH$31,$A65)","v":0},null,null,null,{"$f":"COUNTIF(EPJ$3:EPL$31,$A65)","v":0},null,null,null,{"$f":"COUNTIF(EPN$3:EPP$31,$A65)","v":0},null,null,null,{"$f":"COUNTIF(EPR$3:EPT$31,$A65)","v":0},null,null,null,{"$f":"COUNTIF(EPV$3:EPX$31,$A65)","v":0},null,null,null,{"$f":"COUNTIF(EPZ$3:EQB$31,$A65)","v":0},null,null,null,{"$f":"COUNTIF(EQD$3:EQF$31,$A65)","v":0},null,null,null,{"$f":"COUNTIF(EQH$3:EQJ$31,$A65)","v":0},null,null,null,{"$f":"COUNTIF(EQL$3:EQN$31,$A65)","v":0},null,null,null,{"$f":"COUNTIF(EQP$3:EQR$31,$A65)","v":0},null,null,null,{"$f":"COUNTIF(EQT$3:EQV$31,$A65)","v":0},null,null,null,{"$f":"COUNTIF(EQX$3:EQZ$31,$A65)","v":0},null,null,null,{"$f":"COUNTIF(ERB$3:ERD$31,$A65)","v":0},null,null,null,{"$f":"COUNTIF(ERF$3:ERH$31,$A65)","v":0},null,null,null,{"$f":"COUNTIF(ERJ$3:ERL$31,$A65)","v":0},null,null,null,{"$f":"COUNTIF(ERN$3:ERP$31,$A65)","v":0},null,null,null,{"$f":"COUNTIF(ERR$3:ERT$31,$A65)","v":0},null,null,null,{"$f":"COUNTIF(ERV$3:ERX$31,$A65)","v":0},null,null,null,{"$f":"COUNTIF(ERZ$3:ESB$31,$A65)","v":0},null,null,null,{"$f":"COUNTIF(ESD$3:ESF$31,$A65)","v":0},null,null,null,{"$f":"COUNTIF(ESH$3:ESJ$31,$A65)","v":0},null,null,null,{"$f":"COUNTIF(ESL$3:ESN$31,$A65)","v":0},null,null,null,{"$f":"COUNTIF(ESP$3:ESR$31,$A65)","v":0},null,null,null,{"$f":"COUNTIF(EST$3:ESV$31,$A65)","v":0},null,null,null,{"$f":"COUNTIF(ESX$3:ESZ$31,$A65)","v":0},null,null,null,{"$f":"COUNTIF(ETB$3:ETD$31,$A65)","v":0},null,null,null,{"$f":"COUNTIF(ETF$3:ETH$31,$A65)","v":0},null,null,null,{"$f":"COUNTIF(ETJ$3:ETL$31,$A65)","v":0},null,null,null,{"$f":"COUNTIF(ETN$3:ETP$31,$A65)","v":0},null,null,null,{"$f":"COUNTIF(ETR$3:ETT$31,$A65)","v":0},null,null,null,{"$f":"COUNTIF(ETV$3:ETX$31,$A65)","v":0},null,null,null,{"$f":"COUNTIF(ETZ$3:EUB$31,$A65)","v":0},null,null,null,{"$f":"COUNTIF(EUD$3:EUF$31,$A65)","v":0},null,null,null,{"$f":"COUNTIF(EUH$3:EUJ$31,$A65)","v":0},null,null,null,{"$f":"COUNTIF(EUL$3:EUN$31,$A65)","v":0},null,null,null,{"$f":"COUNTIF(EUP$3:EUR$31,$A65)","v":0},null,null,null,{"$f":"COUNTIF(EUT$3:EUV$31,$A65)","v":0},null,null,null,{"$f":"COUNTIF(EUX$3:EUZ$31,$A65)","v":0},null,null,null,{"$f":"COUNTIF(EVB$3:EVD$31,$A65)","v":0},null,null,null,{"$f":"COUNTIF(EVF$3:EVH$31,$A65)","v":0},null,null,null,{"$f":"COUNTIF(EVJ$3:EVL$31,$A65)","v":0},null,null,null,{"$f":"COUNTIF(EVN$3:EVP$31,$A65)","v":0},null,null,null,{"$f":"COUNTIF(EVR$3:EVT$31,$A65)","v":0},null,null,null,{"$f":"COUNTIF(EVV$3:EVX$31,$A65)","v":0},null,null,null,{"$f":"COUNTIF(EVZ$3:EWB$31,$A65)","v":0},null,null,null,{"$f":"COUNTIF(EWD$3:EWF$31,$A65)","v":0},null,null,null,{"$f":"COUNTIF(EWH$3:EWJ$31,$A65)","v":0},null,null,null,{"$f":"COUNTIF(EWL$3:EWN$31,$A65)","v":0},null,null,null,{"$f":"COUNTIF(EWP$3:EWR$31,$A65)","v":0},null,null,null,{"$f":"COUNTIF(EWT$3:EWV$31,$A65)","v":0},null,null,null,{"$f":"COUNTIF(EWX$3:EWZ$31,$A65)","v":0},null,null,null,{"$f":"COUNTIF(EXB$3:EXD$31,$A65)","v":0},null,null,null,{"$f":"COUNTIF(EXF$3:EXH$31,$A65)","v":0},null,null,null,{"$f":"COUNTIF(EXJ$3:EXL$31,$A65)","v":0},null,null,null,{"$f":"COUNTIF(EXN$3:EXP$31,$A65)","v":0},null,null,null,{"$f":"COUNTIF(EXR$3:EXT$31,$A65)","v":0},null,null,null,{"$f":"COUNTIF(EXV$3:EXX$31,$A65)","v":0},null,null,null,{"$f":"COUNTIF(EXZ$3:EYB$31,$A65)","v":0},null,null,null,{"$f":"COUNTIF(EYD$3:EYF$31,$A65)","v":0},null,null,null,{"$f":"COUNTIF(EYH$3:EYJ$31,$A65)","v":0},null,null,null,{"$f":"COUNTIF(EYL$3:EYN$31,$A65)","v":0},null,null,null,{"$f":"COUNTIF(EYP$3:EYR$31,$A65)","v":0},null,null,null,{"$f":"COUNTIF(EYT$3:EYV$31,$A65)","v":0},null,null,null,{"$f":"COUNTIF(EYX$3:EYZ$31,$A65)","v":0},null,null,null,{"$f":"COUNTIF(EZB$3:EZD$31,$A65)","v":0},null,null,null,{"$f":"COUNTIF(EZF$3:EZH$31,$A65)","v":0},null,null,null,{"$f":"COUNTIF(EZJ$3:EZL$31,$A65)","v":0},null,null,null,{"$f":"COUNTIF(EZN$3:EZP$31,$A65)","v":0},null,null,null,{"$f":"COUNTIF(EZR$3:EZT$31,$A65)","v":0},null,null,null,{"$f":"COUNTIF(EZV$3:EZX$31,$A65)","v":0},null,null,null,{"$f":"COUNTIF(EZZ$3:FAB$31,$A65)","v":0},null,null,null,{"$f":"COUNTIF(FAD$3:FAF$31,$A65)","v":0},null,null,null,{"$f":"COUNTIF(FAH$3:FAJ$31,$A65)","v":0},null,null,null,{"$f":"COUNTIF(FAL$3:FAN$31,$A65)","v":0},null,null,null,{"$f":"COUNTIF(FAP$3:FAR$31,$A65)","v":0},null,null,null,{"$f":"COUNTIF(FAT$3:FAV$31,$A65)","v":0},null,null,null,{"$f":"COUNTIF(FAX$3:FAZ$31,$A65)","v":0},null,null,null,{"$f":"COUNTIF(FBB$3:FBD$31,$A65)","v":0},null,null,null,{"$f":"COUNTIF(FBF$3:FBH$31,$A65)","v":0},null,null,null,{"$f":"COUNTIF(FBJ$3:FBL$31,$A65)","v":0},null,null,null,{"$f":"COUNTIF(FBN$3:FBP$31,$A65)","v":0},null,null,null,{"$f":"COUNTIF(FBR$3:FBT$31,$A65)","v":0},null,null,null,{"$f":"COUNTIF(FBV$3:FBX$31,$A65)","v":0},null,null,null,{"$f":"COUNTIF(FBZ$3:FCB$31,$A65)","v":0},null,null,null,{"$f":"COUNTIF(FCD$3:FCF$31,$A65)","v":0},null,null,null,{"$f":"COUNTIF(FCH$3:FCJ$31,$A65)","v":0},null,null,null,{"$f":"COUNTIF(FCL$3:FCN$31,$A65)","v":0},null,null,null,{"$f":"COUNTIF(FCP$3:FCR$31,$A65)","v":0},null,null,null,{"$f":"COUNTIF(FCT$3:FCV$31,$A65)","v":0},null,null,null,{"$f":"COUNTIF(FCX$3:FCZ$31,$A65)","v":0},null,null,null,{"$f":"COUNTIF(FDB$3:FDD$31,$A65)","v":0},null,null,null,{"$f":"COUNTIF(FDF$3:FDH$31,$A65)","v":0},null,null,null,{"$f":"COUNTIF(FDJ$3:FDL$31,$A65)","v":0},null,null,null,{"$f":"COUNTIF(FDN$3:FDP$31,$A65)","v":0},null,null,null,{"$f":"COUNTIF(FDR$3:FDT$31,$A65)","v":0},null,null,null,{"$f":"COUNTIF(FDV$3:FDX$31,$A65)","v":0},null,null,null,{"$f":"COUNTIF(FDZ$3:FEB$31,$A65)","v":0},null,null,null,{"$f":"COUNTIF(FED$3:FEF$31,$A65)","v":0},null,null,null,{"$f":"COUNTIF(FEH$3:FEJ$31,$A65)","v":0},null,null,null,{"$f":"COUNTIF(FEL$3:FEN$31,$A65)","v":0},null,null,null,{"$f":"COUNTIF(FEP$3:FER$31,$A65)","v":0},null,null,null,{"$f":"COUNTIF(FET$3:FEV$31,$A65)","v":0},null,null,null,{"$f":"COUNTIF(FEX$3:FEZ$31,$A65)","v":0},null,null,null,{"$f":"COUNTIF(FFB$3:FFD$31,$A65)","v":0},null,null,null,{"$f":"COUNTIF(FFF$3:FFH$31,$A65)","v":0},null,null,null,{"$f":"COUNTIF(FFJ$3:FFL$31,$A65)","v":0},null,null,null,{"$f":"COUNTIF(FFN$3:FFP$31,$A65)","v":0},null,null,null,{"$f":"COUNTIF(FFR$3:FFT$31,$A65)","v":0},null,null,null,{"$f":"COUNTIF(FFV$3:FFX$31,$A65)","v":0},null,null,null,{"$f":"COUNTIF(FFZ$3:FGB$31,$A65)","v":0},null,null,null,{"$f":"COUNTIF(FGD$3:FGF$31,$A65)","v":0},null,null,null,{"$f":"COUNTIF(FGH$3:FGJ$31,$A65)","v":0},null,null,null,{"$f":"COUNTIF(FGL$3:FGN$31,$A65)","v":0},null,null,null,{"$f":"COUNTIF(FGP$3:FGR$31,$A65)","v":0},null,null,null,{"$f":"COUNTIF(FGT$3:FGV$31,$A65)","v":0},null,null,null,{"$f":"COUNTIF(FGX$3:FGZ$31,$A65)","v":0},null,null,null,{"$f":"COUNTIF(FHB$3:FHD$31,$A65)","v":0},null,null,null,{"$f":"COUNTIF(FHF$3:FHH$31,$A65)","v":0},null,null,null,{"$f":"COUNTIF(FHJ$3:FHL$31,$A65)","v":0},null,null,null,{"$f":"COUNTIF(FHN$3:FHP$31,$A65)","v":0},null,null,null,{"$f":"COUNTIF(FHR$3:FHT$31,$A65)","v":0},null,null,null,{"$f":"COUNTIF(FHV$3:FHX$31,$A65)","v":0},null,null,null,{"$f":"COUNTIF(FHZ$3:FIB$31,$A65)","v":0},null,null,null,{"$f":"COUNTIF(FID$3:FIF$31,$A65)","v":0},null,null,null,{"$f":"COUNTIF(FIH$3:FIJ$31,$A65)","v":0},null,null,null,{"$f":"COUNTIF(FIL$3:FIN$31,$A65)","v":0},null,null,null,{"$f":"COUNTIF(FIP$3:FIR$31,$A65)","v":0},null,null,null,{"$f":"COUNTIF(FIT$3:FIV$31,$A65)","v":0},null,null,null,{"$f":"COUNTIF(FIX$3:FIZ$31,$A65)","v":0},null,null,null,{"$f":"COUNTIF(FJB$3:FJD$31,$A65)","v":0},null,null,null,{"$f":"COUNTIF(FJF$3:FJH$31,$A65)","v":0},null,null,null,{"$f":"COUNTIF(FJJ$3:FJL$31,$A65)","v":0},null,null,null,{"$f":"COUNTIF(FJN$3:FJP$31,$A65)","v":0},null,null,null,{"$f":"COUNTIF(FJR$3:FJT$31,$A65)","v":0},null,null,null,{"$f":"COUNTIF(FJV$3:FJX$31,$A65)","v":0},null,null,null,{"$f":"COUNTIF(FJZ$3:FKB$31,$A65)","v":0},null,null,null,{"$f":"COUNTIF(FKD$3:FKF$31,$A65)","v":0},null,null,null,{"$f":"COUNTIF(FKH$3:FKJ$31,$A65)","v":0},null,null,null,{"$f":"COUNTIF(FKL$3:FKN$31,$A65)","v":0},null,null,null,{"$f":"COUNTIF(FKP$3:FKR$31,$A65)","v":0},null,null,null,{"$f":"COUNTIF(FKT$3:FKV$31,$A65)","v":0},null,null,null,{"$f":"COUNTIF(FKX$3:FKZ$31,$A65)","v":0},null,null,null,{"$f":"COUNTIF(FLB$3:FLD$31,$A65)","v":0},null,null,null,{"$f":"COUNTIF(FLF$3:FLH$31,$A65)","v":0},null,null,null,{"$f":"COUNTIF(FLJ$3:FLL$31,$A65)","v":0},null,null,null,{"$f":"COUNTIF(FLN$3:FLP$31,$A65)","v":0},null,null,null,{"$f":"COUNTIF(FLR$3:FLT$31,$A65)","v":0},null,null,null,{"$f":"COUNTIF(FLV$3:FLX$31,$A65)","v":0},null,null,null,{"$f":"COUNTIF(FLZ$3:FMB$31,$A65)","v":0},null,null,null,{"$f":"COUNTIF(FMD$3:FMF$31,$A65)","v":0},null,null,null,{"$f":"COUNTIF(FMH$3:FMJ$31,$A65)","v":0},null,null,null,{"$f":"COUNTIF(FML$3:FMN$31,$A65)","v":0},null,null,null,{"$f":"COUNTIF(FMP$3:FMR$31,$A65)","v":0},null,null,null,{"$f":"COUNTIF(FMT$3:FMV$31,$A65)","v":0},null,null,null,{"$f":"COUNTIF(FMX$3:FMZ$31,$A65)","v":0},null,null,null,{"$f":"COUNTIF(FNB$3:FND$31,$A65)","v":0},null,null,null,{"$f":"COUNTIF(FNF$3:FNH$31,$A65)","v":0},null,null,null,{"$f":"COUNTIF(FNJ$3:FNL$31,$A65)","v":0},null,null,null,{"$f":"COUNTIF(FNN$3:FNP$31,$A65)","v":0},null,null,null,{"$f":"COUNTIF(FNR$3:FNT$31,$A65)","v":0},null,null,null,{"$f":"COUNTIF(FNV$3:FNX$31,$A65)","v":0},null,null,null,{"$f":"COUNTIF(FNZ$3:FOB$31,$A65)","v":0},null,null,null,{"$f":"COUNTIF(FOD$3:FOF$31,$A65)","v":0},null,null,null,{"$f":"COUNTIF(FOH$3:FOJ$31,$A65)","v":0},null,null,null,{"$f":"COUNTIF(FOL$3:FON$31,$A65)","v":0},null,null,null,{"$f":"COUNTIF(FOP$3:FOR$31,$A65)","v":0},null,null,null,{"$f":"COUNTIF(FOT$3:FOV$31,$A65)","v":0},null,null,null,{"$f":"COUNTIF(FOX$3:FOZ$31,$A65)","v":0},null,null,null,{"$f":"COUNTIF(FPB$3:FPD$31,$A65)","v":0},null,null,null,{"$f":"COUNTIF(FPF$3:FPH$31,$A65)","v":0},null,null,null,{"$f":"COUNTIF(FPJ$3:FPL$31,$A65)","v":0},null,null,null,{"$f":"COUNTIF(FPN$3:FPP$31,$A65)","v":0},null,null,null,{"$f":"COUNTIF(FPR$3:FPT$31,$A65)","v":0},null,null,null,{"$f":"COUNTIF(FPV$3:FPX$31,$A65)","v":0},null,null,null,{"$f":"COUNTIF(FPZ$3:FQB$31,$A65)","v":0},null,null,null,{"$f":"COUNTIF(FQD$3:FQF$31,$A65)","v":0},null,null,null,{"$f":"COUNTIF(FQH$3:FQJ$31,$A65)","v":0},null,null,null,{"$f":"COUNTIF(FQL$3:FQN$31,$A65)","v":0},null,null,null,{"$f":"COUNTIF(FQP$3:FQR$31,$A65)","v":0},null,null,null,{"$f":"COUNTIF(FQT$3:FQV$31,$A65)","v":0},null,null,null,{"$f":"COUNTIF(FQX$3:FQZ$31,$A65)","v":0},null,null,null,{"$f":"COUNTIF(FRB$3:FRD$31,$A65)","v":0},null,null,null,{"$f":"COUNTIF(FRF$3:FRH$31,$A65)","v":0},null,null,null,{"$f":"COUNTIF(FRJ$3:FRL$31,$A65)","v":0},null,null,null,{"$f":"COUNTIF(FRN$3:FRP$31,$A65)","v":0},null,null,null,{"$f":"COUNTIF(FRR$3:FRT$31,$A65)","v":0},null,null,null,{"$f":"COUNTIF(FRV$3:FRX$31,$A65)","v":0},null,null,null,{"$f":"COUNTIF(FRZ$3:FSB$31,$A65)","v":0},null,null,null,{"$f":"COUNTIF(FSD$3:FSF$31,$A65)","v":0},null,null,null,{"$f":"COUNTIF(FSH$3:FSJ$31,$A65)","v":0},null,null,null,{"$f":"COUNTIF(FSL$3:FSN$31,$A65)","v":0},null,null,null,{"$f":"COUNTIF(FSP$3:FSR$31,$A65)","v":0},null,null,null,{"$f":"COUNTIF(FST$3:FSV$31,$A65)","v":0},null,null,null,{"$f":"COUNTIF(FSX$3:FSZ$31,$A65)","v":0},null,null,null,{"$f":"COUNTIF(FTB$3:FTD$31,$A65)","v":0},null,null,null,{"$f":"COUNTIF(FTF$3:FTH$31,$A65)","v":0},null,null,null,{"$f":"COUNTIF(FTJ$3:FTL$31,$A65)","v":0},null,null,null,{"$f":"COUNTIF(FTN$3:FTP$31,$A65)","v":0},null,null,null,{"$f":"COUNTIF(FTR$3:FTT$31,$A65)","v":0},null,null,null,{"$f":"COUNTIF(FTV$3:FTX$31,$A65)","v":0},null,null,null,{"$f":"COUNTIF(FTZ$3:FUB$31,$A65)","v":0},null,null,null,{"$f":"COUNTIF(FUD$3:FUF$31,$A65)","v":0},null,null,null,{"$f":"COUNTIF(FUH$3:FUJ$31,$A65)","v":0},null,null,null,{"$f":"COUNTIF(FUL$3:FUN$31,$A65)","v":0},null,null,null,{"$f":"COUNTIF(FUP$3:FUR$31,$A65)","v":0},null,null,null,{"$f":"COUNTIF(FUT$3:FUV$31,$A65)","v":0},null,null,null,{"$f":"COUNTIF(FUX$3:FUZ$31,$A65)","v":0},null,null,null,{"$f":"COUNTIF(FVB$3:FVD$31,$A65)","v":0},null,null,null,{"$f":"COUNTIF(FVF$3:FVH$31,$A65)","v":0},null,null,null,{"$f":"COUNTIF(FVJ$3:FVL$31,$A65)","v":0},null,null,null,{"$f":"COUNTIF(FVN$3:FVP$31,$A65)","v":0},null,null,null,{"$f":"COUNTIF(FVR$3:FVT$31,$A65)","v":0},null,null,null,{"$f":"COUNTIF(FVV$3:FVX$31,$A65)","v":0},null,null,null,{"$f":"COUNTIF(FVZ$3:FWB$31,$A65)","v":0},null,null,null,{"$f":"COUNTIF(FWD$3:FWF$31,$A65)","v":0},null,null,null,{"$f":"COUNTIF(FWH$3:FWJ$31,$A65)","v":0},null,null,null,{"$f":"COUNTIF(FWL$3:FWN$31,$A65)","v":0},null,null,null,{"$f":"COUNTIF(FWP$3:FWR$31,$A65)","v":0},null,null,null,{"$f":"COUNTIF(FWT$3:FWV$31,$A65)","v":0},null,null,null,{"$f":"COUNTIF(FWX$3:FWZ$31,$A65)","v":0},null,null,null,{"$f":"COUNTIF(FXB$3:FXD$31,$A65)","v":0},null,null,null,{"$f":"COUNTIF(FXF$3:FXH$31,$A65)","v":0},null,null,null,{"$f":"COUNTIF(FXJ$3:FXL$31,$A65)","v":0},null,null,null,{"$f":"COUNTIF(FXN$3:FXP$31,$A65)","v":0},null,null,null,{"$f":"COUNTIF(FXR$3:FXT$31,$A65)","v":0},null,null,null,{"$f":"COUNTIF(FXV$3:FXX$31,$A65)","v":0},null,null,null,{"$f":"COUNTIF(FXZ$3:FYB$31,$A65)","v":0},null,null,null,{"$f":"COUNTIF(FYD$3:FYF$31,$A65)","v":0},null,null,null,{"$f":"COUNTIF(FYH$3:FYJ$31,$A65)","v":0},null,null,null,{"$f":"COUNTIF(FYL$3:FYN$31,$A65)","v":0},null,null,null,{"$f":"COUNTIF(FYP$3:FYR$31,$A65)","v":0},null,null,null,{"$f":"COUNTIF(FYT$3:FYV$31,$A65)","v":0},null,null,null,{"$f":"COUNTIF(FYX$3:FYZ$31,$A65)","v":0},null,null,null,{"$f":"COUNTIF(FZB$3:FZD$31,$A65)","v":0},null,null,null,{"$f":"COUNTIF(FZF$3:FZH$31,$A65)","v":0},null,null,null,{"$f":"COUNTIF(FZJ$3:FZL$31,$A65)","v":0},null,null,null,{"$f":"COUNTIF(FZN$3:FZP$31,$A65)","v":0},null,null,null,{"$f":"COUNTIF(FZR$3:FZT$31,$A65)","v":0},null,null,null,{"$f":"COUNTIF(FZV$3:FZX$31,$A65)","v":0},null,null,null,{"$f":"COUNTIF(FZZ$3:GAB$31,$A65)","v":0},null,null,null,{"$f":"COUNTIF(GAD$3:GAF$31,$A65)","v":0},null,null,null,{"$f":"COUNTIF(GAH$3:GAJ$31,$A65)","v":0},null,null,null,{"$f":"COUNTIF(GAL$3:GAN$31,$A65)","v":0},null,null,null,{"$f":"COUNTIF(GAP$3:GAR$31,$A65)","v":0},null,null,null,{"$f":"COUNTIF(GAT$3:GAV$31,$A65)","v":0},null,null,null,{"$f":"COUNTIF(GAX$3:GAZ$31,$A65)","v":0},null,null,null,{"$f":"COUNTIF(GBB$3:GBD$31,$A65)","v":0},null,null,null,{"$f":"COUNTIF(GBF$3:GBH$31,$A65)","v":0},null,null,null,{"$f":"COUNTIF(GBJ$3:GBL$31,$A65)","v":0},null,null,null,{"$f":"COUNTIF(GBN$3:GBP$31,$A65)","v":0},null,null,null,{"$f":"COUNTIF(GBR$3:GBT$31,$A65)","v":0},null,null,null,{"$f":"COUNTIF(GBV$3:GBX$31,$A65)","v":0},null,null,null,{"$f":"COUNTIF(GBZ$3:GCB$31,$A65)","v":0},null,null,null,{"$f":"COUNTIF(GCD$3:GCF$31,$A65)","v":0},null,null,null,{"$f":"COUNTIF(GCH$3:GCJ$31,$A65)","v":0},null,null,null,{"$f":"COUNTIF(GCL$3:GCN$31,$A65)","v":0},null,null,null,{"$f":"COUNTIF(GCP$3:GCR$31,$A65)","v":0},null,null,null,{"$f":"COUNTIF(GCT$3:GCV$31,$A65)","v":0},null,null,null,{"$f":"COUNTIF(GCX$3:GCZ$31,$A65)","v":0},null,null,null,{"$f":"COUNTIF(GDB$3:GDD$31,$A65)","v":0},null,null,null,{"$f":"COUNTIF(GDF$3:GDH$31,$A65)","v":0},null,null,null,{"$f":"COUNTIF(GDJ$3:GDL$31,$A65)","v":0},null,null,null,{"$f":"COUNTIF(GDN$3:GDP$31,$A65)","v":0},null,null,null,{"$f":"COUNTIF(GDR$3:GDT$31,$A65)","v":0},null,null,null,{"$f":"COUNTIF(GDV$3:GDX$31,$A65)","v":0},null,null,null,{"$f":"COUNTIF(GDZ$3:GEB$31,$A65)","v":0},null,null,null,{"$f":"COUNTIF(GED$3:GEF$31,$A65)","v":0},null,null,null,{"$f":"COUNTIF(GEH$3:GEJ$31,$A65)","v":0},null,null,null,{"$f":"COUNTIF(GEL$3:GEN$31,$A65)","v":0},null,null,null,{"$f":"COUNTIF(GEP$3:GER$31,$A65)","v":0},null,null,null,{"$f":"COUNTIF(GET$3:GEV$31,$A65)","v":0},null,null,null,{"$f":"COUNTIF(GEX$3:GEZ$31,$A65)","v":0},null,null,null,{"$f":"COUNTIF(GFB$3:GFD$31,$A65)","v":0},null,null,null,{"$f":"COUNTIF(GFF$3:GFH$31,$A65)","v":0},null,null,null,{"$f":"COUNTIF(GFJ$3:GFL$31,$A65)","v":0},null,null,null,{"$f":"COUNTIF(GFN$3:GFP$31,$A65)","v":0},null,null,null,{"$f":"COUNTIF(GFR$3:GFT$31,$A65)","v":0},null,null,null,{"$f":"COUNTIF(GFV$3:GFX$31,$A65)","v":0},null,null,null,{"$f":"COUNTIF(GFZ$3:GGB$31,$A65)","v":0},null,null,null,{"$f":"COUNTIF(GGD$3:GGF$31,$A65)","v":0},null,null,null,{"$f":"COUNTIF(GGH$3:GGJ$31,$A65)","v":0},null,null,null,{"$f":"COUNTIF(GGL$3:GGN$31,$A65)","v":0},null,null,null,{"$f":"COUNTIF(GGP$3:GGR$31,$A65)","v":0},null,null,null,{"$f":"COUNTIF(GGT$3:GGV$31,$A65)","v":0},null,null,null,{"$f":"COUNTIF(GGX$3:GGZ$31,$A65)","v":0},null,null,null,{"$f":"COUNTIF(GHB$3:GHD$31,$A65)","v":0},null,null,null,{"$f":"COUNTIF(GHF$3:GHH$31,$A65)","v":0},null,null,null,{"$f":"COUNTIF(GHJ$3:GHL$31,$A65)","v":0},null,null,null,{"$f":"COUNTIF(GHN$3:GHP$31,$A65)","v":0},null,null,null,{"$f":"COUNTIF(GHR$3:GHT$31,$A65)","v":0},null,null,null,{"$f":"COUNTIF(GHV$3:GHX$31,$A65)","v":0},null,null,null,{"$f":"COUNTIF(GHZ$3:GIB$31,$A65)","v":0},null,null,null,{"$f":"COUNTIF(GID$3:GIF$31,$A65)","v":0},null,null,null,{"$f":"COUNTIF(GIH$3:GIJ$31,$A65)","v":0},null,null,null,{"$f":"COUNTIF(GIL$3:GIN$31,$A65)","v":0},null,null,null,{"$f":"COUNTIF(GIP$3:GIR$31,$A65)","v":0},null,null,null,{"$f":"COUNTIF(GIT$3:GIV$31,$A65)","v":0},null,null,null,{"$f":"COUNTIF(GIX$3:GIZ$31,$A65)","v":0},null,null,null,{"$f":"COUNTIF(GJB$3:GJD$31,$A65)","v":0},null,null,null,{"$f":"COUNTIF(GJF$3:GJH$31,$A65)","v":0},null,null,null,{"$f":"COUNTIF(GJJ$3:GJL$31,$A65)","v":0},null,null,null,{"$f":"COUNTIF(GJN$3:GJP$31,$A65)","v":0},null,null,null,{"$f":"COUNTIF(GJR$3:GJT$31,$A65)","v":0},null,null,null,{"$f":"COUNTIF(GJV$3:GJX$31,$A65)","v":0},null,null,null,{"$f":"COUNTIF(GJZ$3:GKB$31,$A65)","v":0},null,null,null,{"$f":"COUNTIF(GKD$3:GKF$31,$A65)","v":0},null,null,null,{"$f":"COUNTIF(GKH$3:GKJ$31,$A65)","v":0},null,null,null,{"$f":"COUNTIF(GKL$3:GKN$31,$A65)","v":0},null,null,null,{"$f":"COUNTIF(GKP$3:GKR$31,$A65)","v":0},null,null,null,{"$f":"COUNTIF(GKT$3:GKV$31,$A65)","v":0},null,null,null,{"$f":"COUNTIF(GKX$3:GKZ$31,$A65)","v":0},null,null,null,{"$f":"COUNTIF(GLB$3:GLD$31,$A65)","v":0},null,null,null,{"$f":"COUNTIF(GLF$3:GLH$31,$A65)","v":0},null,null,null,{"$f":"COUNTIF(GLJ$3:GLL$31,$A65)","v":0},null,null,null,{"$f":"COUNTIF(GLN$3:GLP$31,$A65)","v":0},null,null,null,{"$f":"COUNTIF(GLR$3:GLT$31,$A65)","v":0},null,null,null,{"$f":"COUNTIF(GLV$3:GLX$31,$A65)","v":0},null,null,null,{"$f":"COUNTIF(GLZ$3:GMB$31,$A65)","v":0},null,null,null,{"$f":"COUNTIF(GMD$3:GMF$31,$A65)","v":0},null,null,null,{"$f":"COUNTIF(GMH$3:GMJ$31,$A65)","v":0},null,null,null,{"$f":"COUNTIF(GML$3:GMN$31,$A65)","v":0},null,null,null,{"$f":"COUNTIF(GMP$3:GMR$31,$A65)","v":0},null,null,null,{"$f":"COUNTIF(GMT$3:GMV$31,$A65)","v":0},null,null,null,{"$f":"COUNTIF(GMX$3:GMZ$31,$A65)","v":0},null,null,null,{"$f":"COUNTIF(GNB$3:GND$31,$A65)","v":0},null,null,null,{"$f":"COUNTIF(GNF$3:GNH$31,$A65)","v":0},null,null,null,{"$f":"COUNTIF(GNJ$3:GNL$31,$A65)","v":0},null,null,null,{"$f":"COUNTIF(GNN$3:GNP$31,$A65)","v":0},null,null,null,{"$f":"COUNTIF(GNR$3:GNT$31,$A65)","v":0},null,null,null,{"$f":"COUNTIF(GNV$3:GNX$31,$A65)","v":0},null,null,null,{"$f":"COUNTIF(GNZ$3:GOB$31,$A65)","v":0},null,null,null,{"$f":"COUNTIF(GOD$3:GOF$31,$A65)","v":0},null,null,null,{"$f":"COUNTIF(GOH$3:GOJ$31,$A65)","v":0},null,null,null,{"$f":"COUNTIF(GOL$3:GON$31,$A65)","v":0},null,null,null,{"$f":"COUNTIF(GOP$3:GOR$31,$A65)","v":0},null,null,null,{"$f":"COUNTIF(GOT$3:GOV$31,$A65)","v":0},null,null,null,{"$f":"COUNTIF(GOX$3:GOZ$31,$A65)","v":0},null,null,null,{"$f":"COUNTIF(GPB$3:GPD$31,$A65)","v":0},null,null,null,{"$f":"COUNTIF(GPF$3:GPH$31,$A65)","v":0},null,null,null,{"$f":"COUNTIF(GPJ$3:GPL$31,$A65)","v":0},null,null,null,{"$f":"COUNTIF(GPN$3:GPP$31,$A65)","v":0},null,null,null,{"$f":"COUNTIF(GPR$3:GPT$31,$A65)","v":0},null,null,null,{"$f":"COUNTIF(GPV$3:GPX$31,$A65)","v":0},null,null,null,{"$f":"COUNTIF(GPZ$3:GQB$31,$A65)","v":0},null,null,null,{"$f":"COUNTIF(GQD$3:GQF$31,$A65)","v":0},null,null,null,{"$f":"COUNTIF(GQH$3:GQJ$31,$A65)","v":0},null,null,null,{"$f":"COUNTIF(GQL$3:GQN$31,$A65)","v":0},null,null,null,{"$f":"COUNTIF(GQP$3:GQR$31,$A65)","v":0},null,null,null,{"$f":"COUNTIF(GQT$3:GQV$31,$A65)","v":0},null,null,null,{"$f":"COUNTIF(GQX$3:GQZ$31,$A65)","v":0},null,null,null,{"$f":"COUNTIF(GRB$3:GRD$31,$A65)","v":0},null,null,null,{"$f":"COUNTIF(GRF$3:GRH$31,$A65)","v":0},null,null,null,{"$f":"COUNTIF(GRJ$3:GRL$31,$A65)","v":0},null,null,null,{"$f":"COUNTIF(GRN$3:GRP$31,$A65)","v":0},null,null,null,{"$f":"COUNTIF(GRR$3:GRT$31,$A65)","v":0},null,null,null,{"$f":"COUNTIF(GRV$3:GRX$31,$A65)","v":0},null,null,null,{"$f":"COUNTIF(GRZ$3:GSB$31,$A65)","v":0},null,null,null,{"$f":"COUNTIF(GSD$3:GSF$31,$A65)","v":0},null,null,null,{"$f":"COUNTIF(GSH$3:GSJ$31,$A65)","v":0},null,null,null,{"$f":"COUNTIF(GSL$3:GSN$31,$A65)","v":0},null,null,null,{"$f":"COUNTIF(GSP$3:GSR$31,$A65)","v":0},null,null,null,{"$f":"COUNTIF(GST$3:GSV$31,$A65)","v":0},null,null,null,{"$f":"COUNTIF(GSX$3:GSZ$31,$A65)","v":0},null,null,null,{"$f":"COUNTIF(GTB$3:GTD$31,$A65)","v":0},null,null,null,{"$f":"COUNTIF(GTF$3:GTH$31,$A65)","v":0},null,null,null,{"$f":"COUNTIF(GTJ$3:GTL$31,$A65)","v":0},null,null,null,{"$f":"COUNTIF(GTN$3:GTP$31,$A65)","v":0},null,null,null,{"$f":"COUNTIF(GTR$3:GTT$31,$A65)","v":0},null,null,null,{"$f":"COUNTIF(GTV$3:GTX$31,$A65)","v":0},null,null,null,{"$f":"COUNTIF(GTZ$3:GUB$31,$A65)","v":0},null,null,null,{"$f":"COUNTIF(GUD$3:GUF$31,$A65)","v":0},null,null,null,{"$f":"COUNTIF(GUH$3:GUJ$31,$A65)","v":0},null,null,null,{"$f":"COUNTIF(GUL$3:GUN$31,$A65)","v":0},null,null,null,{"$f":"COUNTIF(GUP$3:GUR$31,$A65)","v":0},null,null,null,{"$f":"COUNTIF(GUT$3:GUV$31,$A65)","v":0},null,null,null,{"$f":"COUNTIF(GUX$3:GUZ$31,$A65)","v":0},null,null,null,{"$f":"COUNTIF(GVB$3:GVD$31,$A65)","v":0},null,null,null,{"$f":"COUNTIF(GVF$3:GVH$31,$A65)","v":0},null,null,null,{"$f":"COUNTIF(GVJ$3:GVL$31,$A65)","v":0},null,null,null,{"$f":"COUNTIF(GVN$3:GVP$31,$A65)","v":0},null,null,null,{"$f":"COUNTIF(GVR$3:GVT$31,$A65)","v":0},null,null,null,{"$f":"COUNTIF(GVV$3:GVX$31,$A65)","v":0},null,null,null,{"$f":"COUNTIF(GVZ$3:GWB$31,$A65)","v":0},null,null,null,{"$f":"COUNTIF(GWD$3:GWF$31,$A65)","v":0},null,null,null,{"$f":"COUNTIF(GWH$3:GWJ$31,$A65)","v":0},null,null,null,{"$f":"COUNTIF(GWL$3:GWN$31,$A65)","v":0},null,null,null,{"$f":"COUNTIF(GWP$3:GWR$31,$A65)","v":0},null,null,null,{"$f":"COUNTIF(GWT$3:GWV$31,$A65)","v":0},null,null,null,{"$f":"COUNTIF(GWX$3:GWZ$31,$A65)","v":0},null,null,null,{"$f":"COUNTIF(GXB$3:GXD$31,$A65)","v":0},null,null,null,{"$f":"COUNTIF(GXF$3:GXH$31,$A65)","v":0},null,null,null,{"$f":"COUNTIF(GXJ$3:GXL$31,$A65)","v":0},null,null,null,{"$f":"COUNTIF(GXN$3:GXP$31,$A65)","v":0},null,null,null,{"$f":"COUNTIF(GXR$3:GXT$31,$A65)","v":0},null,null,null,{"$f":"COUNTIF(GXV$3:GXX$31,$A65)","v":0},null,null,null,{"$f":"COUNTIF(GXZ$3:GYB$31,$A65)","v":0},null,null,null,{"$f":"COUNTIF(GYD$3:GYF$31,$A65)","v":0},null,null,null,{"$f":"COUNTIF(GYH$3:GYJ$31,$A65)","v":0},null,null,null,{"$f":"COUNTIF(GYL$3:GYN$31,$A65)","v":0},null,null,null,{"$f":"COUNTIF(GYP$3:GYR$31,$A65)","v":0},null,null,null,{"$f":"COUNTIF(GYT$3:GYV$31,$A65)","v":0},null,null,null,{"$f":"COUNTIF(GYX$3:GYZ$31,$A65)","v":0},null,null,null,{"$f":"COUNTIF(GZB$3:GZD$31,$A65)","v":0},null,null,null,{"$f":"COUNTIF(GZF$3:GZH$31,$A65)","v":0},null,null,null,{"$f":"COUNTIF(GZJ$3:GZL$31,$A65)","v":0},null,null,null,{"$f":"COUNTIF(GZN$3:GZP$31,$A65)","v":0},null,null,null,{"$f":"COUNTIF(GZR$3:GZT$31,$A65)","v":0},null,null,null,{"$f":"COUNTIF(GZV$3:GZX$31,$A65)","v":0},null,null,null,{"$f":"COUNTIF(GZZ$3:HAB$31,$A65)","v":0},null,null,null,{"$f":"COUNTIF(HAD$3:HAF$31,$A65)","v":0},null,null,null,{"$f":"COUNTIF(HAH$3:HAJ$31,$A65)","v":0},null,null,null,{"$f":"COUNTIF(HAL$3:HAN$31,$A65)","v":0},null,null,null,{"$f":"COUNTIF(HAP$3:HAR$31,$A65)","v":0},null,null,null,{"$f":"COUNTIF(HAT$3:HAV$31,$A65)","v":0},null,null,null,{"$f":"COUNTIF(HAX$3:HAZ$31,$A65)","v":0},null,null,null,{"$f":"COUNTIF(HBB$3:HBD$31,$A65)","v":0},null,null,null,{"$f":"COUNTIF(HBF$3:HBH$31,$A65)","v":0},null,null,null,{"$f":"COUNTIF(HBJ$3:HBL$31,$A65)","v":0},null,null,null,{"$f":"COUNTIF(HBN$3:HBP$31,$A65)","v":0},null,null,null,{"$f":"COUNTIF(HBR$3:HBT$31,$A65)","v":0},null,null,null,{"$f":"COUNTIF(HBV$3:HBX$31,$A65)","v":0},null,null,null,{"$f":"COUNTIF(HBZ$3:HCB$31,$A65)","v":0},null,null,null,{"$f":"COUNTIF(HCD$3:HCF$31,$A65)","v":0},null,null,null,{"$f":"COUNTIF(HCH$3:HCJ$31,$A65)","v":0},null,null,null,{"$f":"COUNTIF(HCL$3:HCN$31,$A65)","v":0},null,null,null,{"$f":"COUNTIF(HCP$3:HCR$31,$A65)","v":0},null,null,null,{"$f":"COUNTIF(HCT$3:HCV$31,$A65)","v":0},null,null,null,{"$f":"COUNTIF(HCX$3:HCZ$31,$A65)","v":0},null,null,null,{"$f":"COUNTIF(HDB$3:HDD$31,$A65)","v":0},null,null,null,{"$f":"COUNTIF(HDF$3:HDH$31,$A65)","v":0},null,null,null,{"$f":"COUNTIF(HDJ$3:HDL$31,$A65)","v":0},null,null,null,{"$f":"COUNTIF(HDN$3:HDP$31,$A65)","v":0},null,null,null,{"$f":"COUNTIF(HDR$3:HDT$31,$A65)","v":0},null,null,null,{"$f":"COUNTIF(HDV$3:HDX$31,$A65)","v":0},null,null,null,{"$f":"COUNTIF(HDZ$3:HEB$31,$A65)","v":0},null,null,null,{"$f":"COUNTIF(HED$3:HEF$31,$A65)","v":0},null,null,null,{"$f":"COUNTIF(HEH$3:HEJ$31,$A65)","v":0},null,null,null,{"$f":"COUNTIF(HEL$3:HEN$31,$A65)","v":0},null,null,null,{"$f":"COUNTIF(HEP$3:HER$31,$A65)","v":0},null,null,null,{"$f":"COUNTIF(HET$3:HEV$31,$A65)","v":0},null,null,null,{"$f":"COUNTIF(HEX$3:HEZ$31,$A65)","v":0},null,null,null,{"$f":"COUNTIF(HFB$3:HFD$31,$A65)","v":0},null,null,null,{"$f":"COUNTIF(HFF$3:HFH$31,$A65)","v":0},null,null,null,{"$f":"COUNTIF(HFJ$3:HFL$31,$A65)","v":0},null,null,null,{"$f":"COUNTIF(HFN$3:HFP$31,$A65)","v":0},null,null,null,{"$f":"COUNTIF(HFR$3:HFT$31,$A65)","v":0},null,null,null,{"$f":"COUNTIF(HFV$3:HFX$31,$A65)","v":0},null,null,null,{"$f":"COUNTIF(HFZ$3:HGB$31,$A65)","v":0},null,null,null,{"$f":"COUNTIF(HGD$3:HGF$31,$A65)","v":0},null,null,null,{"$f":"COUNTIF(HGH$3:HGJ$31,$A65)","v":0},null,null,null,{"$f":"COUNTIF(HGL$3:HGN$31,$A65)","v":0},null,null,null,{"$f":"COUNTIF(HGP$3:HGR$31,$A65)","v":0},null,null,null,{"$f":"COUNTIF(HGT$3:HGV$31,$A65)","v":0},null,null,null,{"$f":"COUNTIF(HGX$3:HGZ$31,$A65)","v":0},null,null,null,{"$f":"COUNTIF(HHB$3:HHD$31,$A65)","v":0},null,null,null,{"$f":"COUNTIF(HHF$3:HHH$31,$A65)","v":0},null,null,null,{"$f":"COUNTIF(HHJ$3:HHL$31,$A65)","v":0},null,null,null,{"$f":"COUNTIF(HHN$3:HHP$31,$A65)","v":0},null,null,null,{"$f":"COUNTIF(HHR$3:HHT$31,$A65)","v":0},null,null,null,{"$f":"COUNTIF(HHV$3:HHX$31,$A65)","v":0},null,null,null,{"$f":"COUNTIF(HHZ$3:HIB$31,$A65)","v":0},null,null,null,{"$f":"COUNTIF(HID$3:HIF$31,$A65)","v":0},null,null,null,{"$f":"COUNTIF(HIH$3:HIJ$31,$A65)","v":0},null,null,null,{"$f":"COUNTIF(HIL$3:HIN$31,$A65)","v":0},null,null,null,{"$f":"COUNTIF(HIP$3:HIR$31,$A65)","v":0},null,null,null,{"$f":"COUNTIF(HIT$3:HIV$31,$A65)","v":0},null,null,null,{"$f":"COUNTIF(HIX$3:HIZ$31,$A65)","v":0},null,null,null,{"$f":"COUNTIF(HJB$3:HJD$31,$A65)","v":0},null,null,null,{"$f":"COUNTIF(HJF$3:HJH$31,$A65)","v":0},null,null,null,{"$f":"COUNTIF(HJJ$3:HJL$31,$A65)","v":0},null,null,null,{"$f":"COUNTIF(HJN$3:HJP$31,$A65)","v":0},null,null,null,{"$f":"COUNTIF(HJR$3:HJT$31,$A65)","v":0},null,null,null,{"$f":"COUNTIF(HJV$3:HJX$31,$A65)","v":0},null,null,null,{"$f":"COUNTIF(HJZ$3:HKB$31,$A65)","v":0},null,null,null,{"$f":"COUNTIF(HKD$3:HKF$31,$A65)","v":0},null,null,null,{"$f":"COUNTIF(HKH$3:HKJ$31,$A65)","v":0},null,null,null,{"$f":"COUNTIF(HKL$3:HKN$31,$A65)","v":0},null,null,null,{"$f":"COUNTIF(HKP$3:HKR$31,$A65)","v":0},null,null,null,{"$f":"COUNTIF(HKT$3:HKV$31,$A65)","v":0},null,null,null,{"$f":"COUNTIF(HKX$3:HKZ$31,$A65)","v":0},null,null,null,{"$f":"COUNTIF(HLB$3:HLD$31,$A65)","v":0},null,null,null,{"$f":"COUNTIF(HLF$3:HLH$31,$A65)","v":0},null,null,null,{"$f":"COUNTIF(HLJ$3:HLL$31,$A65)","v":0},null,null,null,{"$f":"COUNTIF(HLN$3:HLP$31,$A65)","v":0},null,null,null,{"$f":"COUNTIF(HLR$3:HLT$31,$A65)","v":0},null,null,null,{"$f":"COUNTIF(HLV$3:HLX$31,$A65)","v":0},null,null,null,{"$f":"COUNTIF(HLZ$3:HMB$31,$A65)","v":0},null,null,null,{"$f":"COUNTIF(HMD$3:HMF$31,$A65)","v":0},null,null,null,{"$f":"COUNTIF(HMH$3:HMJ$31,$A65)","v":0},null,null,null,{"$f":"COUNTIF(HML$3:HMN$31,$A65)","v":0},null,null,null,{"$f":"COUNTIF(HMP$3:HMR$31,$A65)","v":0},null,null,null,{"$f":"COUNTIF(HMT$3:HMV$31,$A65)","v":0},null,null,null,{"$f":"COUNTIF(HMX$3:HMZ$31,$A65)","v":0},null,null,null,{"$f":"COUNTIF(HNB$3:HND$31,$A65)","v":0},null,null,null,{"$f":"COUNTIF(HNF$3:HNH$31,$A65)","v":0},null,null,null,{"$f":"COUNTIF(HNJ$3:HNL$31,$A65)","v":0},null,null,null,{"$f":"COUNTIF(HNN$3:HNP$31,$A65)","v":0},null,null,null,{"$f":"COUNTIF(HNR$3:HNT$31,$A65)","v":0},null,null,null,{"$f":"COUNTIF(HNV$3:HNX$31,$A65)","v":0},null,null,null,{"$f":"COUNTIF(HNZ$3:HOB$31,$A65)","v":0},null,null,null,{"$f":"COUNTIF(HOD$3:HOF$31,$A65)","v":0},null,null,null,{"$f":"COUNTIF(HOH$3:HOJ$31,$A65)","v":0},null,null,null,{"$f":"COUNTIF(HOL$3:HON$31,$A65)","v":0},null,null,null,{"$f":"COUNTIF(HOP$3:HOR$31,$A65)","v":0},null,null,null,{"$f":"COUNTIF(HOT$3:HOV$31,$A65)","v":0},null,null,null,{"$f":"COUNTIF(HOX$3:HOZ$31,$A65)","v":0},null,null,null,{"$f":"COUNTIF(HPB$3:HPD$31,$A65)","v":0},null,null,null,{"$f":"COUNTIF(HPF$3:HPH$31,$A65)","v":0},null,null,null,{"$f":"COUNTIF(HPJ$3:HPL$31,$A65)","v":0},null,null,null,{"$f":"COUNTIF(HPN$3:HPP$31,$A65)","v":0},null,null,null,{"$f":"COUNTIF(HPR$3:HPT$31,$A65)","v":0},null,null,null,{"$f":"COUNTIF(HPV$3:HPX$31,$A65)","v":0},null,null,null,{"$f":"COUNTIF(HPZ$3:HQB$31,$A65)","v":0},null,null,null,{"$f":"COUNTIF(HQD$3:HQF$31,$A65)","v":0},null,null,null,{"$f":"COUNTIF(HQH$3:HQJ$31,$A65)","v":0},null,null,null,{"$f":"COUNTIF(HQL$3:HQN$31,$A65)","v":0},null,null,null,{"$f":"COUNTIF(HQP$3:HQR$31,$A65)","v":0},null,null,null,{"$f":"COUNTIF(HQT$3:HQV$31,$A65)","v":0},null,null,null,{"$f":"COUNTIF(HQX$3:HQZ$31,$A65)","v":0},null,null,null,{"$f":"COUNTIF(HRB$3:HRD$31,$A65)","v":0},null,null,null,{"$f":"COUNTIF(HRF$3:HRH$31,$A65)","v":0},null,null,null,{"$f":"COUNTIF(HRJ$3:HRL$31,$A65)","v":0},null,null,null,{"$f":"COUNTIF(HRN$3:HRP$31,$A65)","v":0},null,null,null,{"$f":"COUNTIF(HRR$3:HRT$31,$A65)","v":0},null,null,null,{"$f":"COUNTIF(HRV$3:HRX$31,$A65)","v":0},null,null,null,{"$f":"COUNTIF(HRZ$3:HSB$31,$A65)","v":0},null,null,null,{"$f":"COUNTIF(HSD$3:HSF$31,$A65)","v":0},null,null,null,{"$f":"COUNTIF(HSH$3:HSJ$31,$A65)","v":0},null,null,null,{"$f":"COUNTIF(HSL$3:HSN$31,$A65)","v":0},null,null,null,{"$f":"COUNTIF(HSP$3:HSR$31,$A65)","v":0},null,null,null,{"$f":"COUNTIF(HST$3:HSV$31,$A65)","v":0},null,null,null,{"$f":"COUNTIF(HSX$3:HSZ$31,$A65)","v":0},null,null,null,{"$f":"COUNTIF(HTB$3:HTD$31,$A65)","v":0},null,null,null,{"$f":"COUNTIF(HTF$3:HTH$31,$A65)","v":0},null,null,null,{"$f":"COUNTIF(HTJ$3:HTL$31,$A65)","v":0},null,null,null,{"$f":"COUNTIF(HTN$3:HTP$31,$A65)","v":0},null,null,null,{"$f":"COUNTIF(HTR$3:HTT$31,$A65)","v":0},null,null,null,{"$f":"COUNTIF(HTV$3:HTX$31,$A65)","v":0},null,null,null,{"$f":"COUNTIF(HTZ$3:HUB$31,$A65)","v":0},null,null,null,{"$f":"COUNTIF(HUD$3:HUF$31,$A65)","v":0},null,null,null,{"$f":"COUNTIF(HUH$3:HUJ$31,$A65)","v":0},null,null,null,{"$f":"COUNTIF(HUL$3:HUN$31,$A65)","v":0},null,null,null,{"$f":"COUNTIF(HUP$3:HUR$31,$A65)","v":0},null,null,null,{"$f":"COUNTIF(HUT$3:HUV$31,$A65)","v":0},null,null,null,{"$f":"COUNTIF(HUX$3:HUZ$31,$A65)","v":0},null,null,null,{"$f":"COUNTIF(HVB$3:HVD$31,$A65)","v":0},null,null,null,{"$f":"COUNTIF(HVF$3:HVH$31,$A65)","v":0},null,null,null,{"$f":"COUNTIF(HVJ$3:HVL$31,$A65)","v":0},null,null,null,{"$f":"COUNTIF(HVN$3:HVP$31,$A65)","v":0},null,null,null,{"$f":"COUNTIF(HVR$3:HVT$31,$A65)","v":0},null,null,null,{"$f":"COUNTIF(HVV$3:HVX$31,$A65)","v":0},null,null,null,{"$f":"COUNTIF(HVZ$3:HWB$31,$A65)","v":0},null,null,null,{"$f":"COUNTIF(HWD$3:HWF$31,$A65)","v":0},null,null,null,{"$f":"COUNTIF(HWH$3:HWJ$31,$A65)","v":0},null,null,null,{"$f":"COUNTIF(HWL$3:HWN$31,$A65)","v":0},null,null,null,{"$f":"COUNTIF(HWP$3:HWR$31,$A65)","v":0},null,null,null,{"$f":"COUNTIF(HWT$3:HWV$31,$A65)","v":0},null,null,null,{"$f":"COUNTIF(HWX$3:HWZ$31,$A65)","v":0},null,null,null,{"$f":"COUNTIF(HXB$3:HXD$31,$A65)","v":0},null,null,null,{"$f":"COUNTIF(HXF$3:HXH$31,$A65)","v":0},null,null,null,{"$f":"COUNTIF(HXJ$3:HXL$31,$A65)","v":0},null,null,null,{"$f":"COUNTIF(HXN$3:HXP$31,$A65)","v":0},null,null,null,{"$f":"COUNTIF(HXR$3:HXT$31,$A65)","v":0},null,null,null,{"$f":"COUNTIF(HXV$3:HXX$31,$A65)","v":0},null,null,null,{"$f":"COUNTIF(HXZ$3:HYB$31,$A65)","v":0},null,null,null,{"$f":"COUNTIF(HYD$3:HYF$31,$A65)","v":0},null,null,null,{"$f":"COUNTIF(HYH$3:HYJ$31,$A65)","v":0},null,null,null,{"$f":"COUNTIF(HYL$3:HYN$31,$A65)","v":0},null,null,null,{"$f":"COUNTIF(HYP$3:HYR$31,$A65)","v":0},null,null,null,{"$f":"COUNTIF(HYT$3:HYV$31,$A65)","v":0},null,null,null,{"$f":"COUNTIF(HYX$3:HYZ$31,$A65)","v":0},null,null,null,{"$f":"COUNTIF(HZB$3:HZD$31,$A65)","v":0},null,null,null,{"$f":"COUNTIF(HZF$3:HZH$31,$A65)","v":0},null,null,null,{"$f":"COUNTIF(HZJ$3:HZL$31,$A65)","v":0},null,null,null,{"$f":"COUNTIF(HZN$3:HZP$31,$A65)","v":0},null,null,null,{"$f":"COUNTIF(HZR$3:HZT$31,$A65)","v":0},null,null,null,{"$f":"COUNTIF(HZV$3:HZX$31,$A65)","v":0},null,null,null,{"$f":"COUNTIF(HZZ$3:IAB$31,$A65)","v":0},null,null,null,{"$f":"COUNTIF(IAD$3:IAF$31,$A65)","v":0},null,null,null,{"$f":"COUNTIF(IAH$3:IAJ$31,$A65)","v":0},null,null,null,{"$f":"COUNTIF(IAL$3:IAN$31,$A65)","v":0},null,null,null,{"$f":"COUNTIF(IAP$3:IAR$31,$A65)","v":0},null,null,null,{"$f":"COUNTIF(IAT$3:IAV$31,$A65)","v":0},null,null,null,{"$f":"COUNTIF(IAX$3:IAZ$31,$A65)","v":0},null,null,null,{"$f":"COUNTIF(IBB$3:IBD$31,$A65)","v":0},null,null,null,{"$f":"COUNTIF(IBF$3:IBH$31,$A65)","v":0},null,null,null,{"$f":"COUNTIF(IBJ$3:IBL$31,$A65)","v":0},null,null,null,{"$f":"COUNTIF(IBN$3:IBP$31,$A65)","v":0},null,null,null,{"$f":"COUNTIF(IBR$3:IBT$31,$A65)","v":0},null,null,null,{"$f":"COUNTIF(IBV$3:IBX$31,$A65)","v":0},null,null,null,{"$f":"COUNTIF(IBZ$3:ICB$31,$A65)","v":0},null,null,null,{"$f":"COUNTIF(ICD$3:ICF$31,$A65)","v":0},null,null,null,{"$f":"COUNTIF(ICH$3:ICJ$31,$A65)","v":0},null,null,null,{"$f":"COUNTIF(ICL$3:ICN$31,$A65)","v":0},null,null,null,{"$f":"COUNTIF(ICP$3:ICR$31,$A65)","v":0},null,null,null,{"$f":"COUNTIF(ICT$3:ICV$31,$A65)","v":0},null,null,null,{"$f":"COUNTIF(ICX$3:ICZ$31,$A65)","v":0},null,null,null,{"$f":"COUNTIF(IDB$3:IDD$31,$A65)","v":0},null,null,null,{"$f":"COUNTIF(IDF$3:IDH$31,$A65)","v":0},null,null,null,{"$f":"COUNTIF(IDJ$3:IDL$31,$A65)","v":0},null,null,null,{"$f":"COUNTIF(IDN$3:IDP$31,$A65)","v":0},null,null,null,{"$f":"COUNTIF(IDR$3:IDT$31,$A65)","v":0},null,null,null,{"$f":"COUNTIF(IDV$3:IDX$31,$A65)","v":0},null,null,null,{"$f":"COUNTIF(IDZ$3:IEB$31,$A65)","v":0},null,null,null,{"$f":"COUNTIF(IED$3:IEF$31,$A65)","v":0},null,null,null,{"$f":"COUNTIF(IEH$3:IEJ$31,$A65)","v":0},null,null,null,{"$f":"COUNTIF(IEL$3:IEN$31,$A65)","v":0},null,null,null,{"$f":"COUNTIF(IEP$3:IER$31,$A65)","v":0},null,null,null,{"$f":"COUNTIF(IET$3:IEV$31,$A65)","v":0},null,null,null,{"$f":"COUNTIF(IEX$3:IEZ$31,$A65)","v":0},null,null,null,{"$f":"COUNTIF(IFB$3:IFD$31,$A65)","v":0},null,null,null,{"$f":"COUNTIF(IFF$3:IFH$31,$A65)","v":0},null,null,null,{"$f":"COUNTIF(IFJ$3:IFL$31,$A65)","v":0},null,null,null,{"$f":"COUNTIF(IFN$3:IFP$31,$A65)","v":0},null,null,null,{"$f":"COUNTIF(IFR$3:IFT$31,$A65)","v":0},null,null,null,{"$f":"COUNTIF(IFV$3:IFX$31,$A65)","v":0},null,null,null,{"$f":"COUNTIF(IFZ$3:IGB$31,$A65)","v":0},null,null,null,{"$f":"COUNTIF(IGD$3:IGF$31,$A65)","v":0},null,null,null,{"$f":"COUNTIF(IGH$3:IGJ$31,$A65)","v":0},null,null,null,{"$f":"COUNTIF(IGL$3:IGN$31,$A65)","v":0},null,null,null,{"$f":"COUNTIF(IGP$3:IGR$31,$A65)","v":0},null,null,null,{"$f":"COUNTIF(IGT$3:IGV$31,$A65)","v":0},null,null,null,{"$f":"COUNTIF(IGX$3:IGZ$31,$A65)","v":0},null,null,null,{"$f":"COUNTIF(IHB$3:IHD$31,$A65)","v":0},null,null,null,{"$f":"COUNTIF(IHF$3:IHH$31,$A65)","v":0},null,null,null,{"$f":"COUNTIF(IHJ$3:IHL$31,$A65)","v":0},null,null,null,{"$f":"COUNTIF(IHN$3:IHP$31,$A65)","v":0},null,null,null,{"$f":"COUNTIF(IHR$3:IHT$31,$A65)","v":0},null,null,null,{"$f":"COUNTIF(IHV$3:IHX$31,$A65)","v":0},null,null,null,{"$f":"COUNTIF(IHZ$3:IIB$31,$A65)","v":0},null,null,null,{"$f":"COUNTIF(IID$3:IIF$31,$A65)","v":0},null,null,null,{"$f":"COUNTIF(IIH$3:IIJ$31,$A65)","v":0},null,null,null,{"$f":"COUNTIF(IIL$3:IIN$31,$A65)","v":0},null,null,null,{"$f":"COUNTIF(IIP$3:IIR$31,$A65)","v":0},null,null,null,{"$f":"COUNTIF(IIT$3:IIV$31,$A65)","v":0},null,null,null,{"$f":"COUNTIF(IIX$3:IIZ$31,$A65)","v":0},null,null,null,{"$f":"COUNTIF(IJB$3:IJD$31,$A65)","v":0},null,null,null,{"$f":"COUNTIF(IJF$3:IJH$31,$A65)","v":0},null,null,null,{"$f":"COUNTIF(IJJ$3:IJL$31,$A65)","v":0},null,null,null,{"$f":"COUNTIF(IJN$3:IJP$31,$A65)","v":0},null,null,null,{"$f":"COUNTIF(IJR$3:IJT$31,$A65)","v":0},null,null,null,{"$f":"COUNTIF(IJV$3:IJX$31,$A65)","v":0},null,null,null,{"$f":"COUNTIF(IJZ$3:IKB$31,$A65)","v":0},null,null,null,{"$f":"COUNTIF(IKD$3:IKF$31,$A65)","v":0},null,null,null,{"$f":"COUNTIF(IKH$3:IKJ$31,$A65)","v":0},null,null,null,{"$f":"COUNTIF(IKL$3:IKN$31,$A65)","v":0},null,null,null,{"$f":"COUNTIF(IKP$3:IKR$31,$A65)","v":0},null,null,null,{"$f":"COUNTIF(IKT$3:IKV$31,$A65)","v":0},null,null,null,{"$f":"COUNTIF(IKX$3:IKZ$31,$A65)","v":0},null,null,null,{"$f":"COUNTIF(ILB$3:ILD$31,$A65)","v":0},null,null,null,{"$f":"COUNTIF(ILF$3:ILH$31,$A65)","v":0},null,null,null,{"$f":"COUNTIF(ILJ$3:ILL$31,$A65)","v":0},null,null,null,{"$f":"COUNTIF(ILN$3:ILP$31,$A65)","v":0},null,null,null,{"$f":"COUNTIF(ILR$3:ILT$31,$A65)","v":0},null,null,null,{"$f":"COUNTIF(ILV$3:ILX$31,$A65)","v":0},null,null,null,{"$f":"COUNTIF(ILZ$3:IMB$31,$A65)","v":0},null,null,null,{"$f":"COUNTIF(IMD$3:IMF$31,$A65)","v":0},null,null,null,{"$f":"COUNTIF(IMH$3:IMJ$31,$A65)","v":0},null,null,null,{"$f":"COUNTIF(IML$3:IMN$31,$A65)","v":0},null,null,null,{"$f":"COUNTIF(IMP$3:IMR$31,$A65)","v":0},null,null,null,{"$f":"COUNTIF(IMT$3:IMV$31,$A65)","v":0},null,null,null,{"$f":"COUNTIF(IMX$3:IMZ$31,$A65)","v":0},null,null,null,{"$f":"COUNTIF(INB$3:IND$31,$A65)","v":0},null,null,null,{"$f":"COUNTIF(INF$3:INH$31,$A65)","v":0},null,null,null,{"$f":"COUNTIF(INJ$3:INL$31,$A65)","v":0},null,null,null,{"$f":"COUNTIF(INN$3:INP$31,$A65)","v":0},null,null,null,{"$f":"COUNTIF(INR$3:INT$31,$A65)","v":0},null,null,null,{"$f":"COUNTIF(INV$3:INX$31,$A65)","v":0},null,null,null,{"$f":"COUNTIF(INZ$3:IOB$31,$A65)","v":0},null,null,null,{"$f":"COUNTIF(IOD$3:IOF$31,$A65)","v":0},null,null,null,{"$f":"COUNTIF(IOH$3:IOJ$31,$A65)","v":0},null,null,null,{"$f":"COUNTIF(IOL$3:ION$31,$A65)","v":0},null,null,null,{"$f":"COUNTIF(IOP$3:IOR$31,$A65)","v":0},null,null,null,{"$f":"COUNTIF(IOT$3:IOV$31,$A65)","v":0},null,null,null,{"$f":"COUNTIF(IOX$3:IOZ$31,$A65)","v":0},null,null,null,{"$f":"COUNTIF(IPB$3:IPD$31,$A65)","v":0},null,null,null,{"$f":"COUNTIF(IPF$3:IPH$31,$A65)","v":0},null,null,null,{"$f":"COUNTIF(IPJ$3:IPL$31,$A65)","v":0},null,null,null,{"$f":"COUNTIF(IPN$3:IPP$31,$A65)","v":0},null,null,null,{"$f":"COUNTIF(IPR$3:IPT$31,$A65)","v":0},null,null,null,{"$f":"COUNTIF(IPV$3:IPX$31,$A65)","v":0},null,null,null,{"$f":"COUNTIF(IPZ$3:IQB$31,$A65)","v":0},null,null,null,{"$f":"COUNTIF(IQD$3:IQF$31,$A65)","v":0},null,null,null,{"$f":"COUNTIF(IQH$3:IQJ$31,$A65)","v":0},null,null,null,{"$f":"COUNTIF(IQL$3:IQN$31,$A65)","v":0},null,null,null,{"$f":"COUNTIF(IQP$3:IQR$31,$A65)","v":0},null,null,null,{"$f":"COUNTIF(IQT$3:IQV$31,$A65)","v":0},null,null,null,{"$f":"COUNTIF(IQX$3:IQZ$31,$A65)","v":0},null,null,null,{"$f":"COUNTIF(IRB$3:IRD$31,$A65)","v":0},null,null,null,{"$f":"COUNTIF(IRF$3:IRH$31,$A65)","v":0},null,null,null,{"$f":"COUNTIF(IRJ$3:IRL$31,$A65)","v":0},null,null,null,{"$f":"COUNTIF(IRN$3:IRP$31,$A65)","v":0},null,null,null,{"$f":"COUNTIF(IRR$3:IRT$31,$A65)","v":0},null,null,null,{"$f":"COUNTIF(IRV$3:IRX$31,$A65)","v":0},null,null,null,{"$f":"COUNTIF(IRZ$3:ISB$31,$A65)","v":0},null,null,null,{"$f":"COUNTIF(ISD$3:ISF$31,$A65)","v":0},null,null,null,{"$f":"COUNTIF(ISH$3:ISJ$31,$A65)","v":0},null,null,null,{"$f":"COUNTIF(ISL$3:ISN$31,$A65)","v":0},null,null,null,{"$f":"COUNTIF(ISP$3:ISR$31,$A65)","v":0},null,null,null,{"$f":"COUNTIF(IST$3:ISV$31,$A65)","v":0},null,null,null,{"$f":"COUNTIF(ISX$3:ISZ$31,$A65)","v":0},null,null,null,{"$f":"COUNTIF(ITB$3:ITD$31,$A65)","v":0},null,null,null,{"$f":"COUNTIF(ITF$3:ITH$31,$A65)","v":0},null,null,null,{"$f":"COUNTIF(ITJ$3:ITL$31,$A65)","v":0},null,null,null,{"$f":"COUNTIF(ITN$3:ITP$31,$A65)","v":0},null,null,null,{"$f":"COUNTIF(ITR$3:ITT$31,$A65)","v":0},null,null,null,{"$f":"COUNTIF(ITV$3:ITX$31,$A65)","v":0},null,null,null,{"$f":"COUNTIF(ITZ$3:IUB$31,$A65)","v":0},null,null,null,{"$f":"COUNTIF(IUD$3:IUF$31,$A65)","v":0},null,null,null,{"$f":"COUNTIF(IUH$3:IUJ$31,$A65)","v":0},null,null,null,{"$f":"COUNTIF(IUL$3:IUN$31,$A65)","v":0},null,null,null,{"$f":"COUNTIF(IUP$3:IUR$31,$A65)","v":0},null,null,null,{"$f":"COUNTIF(IUT$3:IUV$31,$A65)","v":0},null,null,null,{"$f":"COUNTIF(IUX$3:IUZ$31,$A65)","v":0},null,null,null,{"$f":"COUNTIF(IVB$3:IVD$31,$A65)","v":0},null,null,null,{"$f":"COUNTIF(IVF$3:IVH$31,$A65)","v":0},null,null,null,{"$f":"COUNTIF(IVJ$3:IVL$31,$A65)","v":0},null,null,null,{"$f":"COUNTIF(IVN$3:IVP$31,$A65)","v":0},null,null,null,{"$f":"COUNTIF(IVR$3:IVT$31,$A65)","v":0},null,null,null,{"$f":"COUNTIF(IVV$3:IVX$31,$A65)","v":0},null,null,null,{"$f":"COUNTIF(IVZ$3:IWB$31,$A65)","v":0},null,null,null,{"$f":"COUNTIF(IWD$3:IWF$31,$A65)","v":0},null,null,null,{"$f":"COUNTIF(IWH$3:IWJ$31,$A65)","v":0},null,null,null,{"$f":"COUNTIF(IWL$3:IWN$31,$A65)","v":0},null,null,null,{"$f":"COUNTIF(IWP$3:IWR$31,$A65)","v":0},null,null,null,{"$f":"COUNTIF(IWT$3:IWV$31,$A65)","v":0},null,null,null,{"$f":"COUNTIF(IWX$3:IWZ$31,$A65)","v":0},null,null,null,{"$f":"COUNTIF(IXB$3:IXD$31,$A65)","v":0},null,null,null,{"$f":"COUNTIF(IXF$3:IXH$31,$A65)","v":0},null,null,null,{"$f":"COUNTIF(IXJ$3:IXL$31,$A65)","v":0},null,null,null,{"$f":"COUNTIF(IXN$3:IXP$31,$A65)","v":0},null,null,null,{"$f":"COUNTIF(IXR$3:IXT$31,$A65)","v":0},null,null,null,{"$f":"COUNTIF(IXV$3:IXX$31,$A65)","v":0},null,null,null,{"$f":"COUNTIF(IXZ$3:IYB$31,$A65)","v":0},null,null,null,{"$f":"COUNTIF(IYD$3:IYF$31,$A65)","v":0},null,null,null,{"$f":"COUNTIF(IYH$3:IYJ$31,$A65)","v":0},null,null,null,{"$f":"COUNTIF(IYL$3:IYN$31,$A65)","v":0},null,null,null,{"$f":"COUNTIF(IYP$3:IYR$31,$A65)","v":0},null,null,null,{"$f":"COUNTIF(IYT$3:IYV$31,$A65)","v":0},null,null,null,{"$f":"COUNTIF(IYX$3:IYZ$31,$A65)","v":0},null,null,null,{"$f":"COUNTIF(IZB$3:IZD$31,$A65)","v":0},null,null,null,{"$f":"COUNTIF(IZF$3:IZH$31,$A65)","v":0},null,null,null,{"$f":"COUNTIF(IZJ$3:IZL$31,$A65)","v":0},null,null,null,{"$f":"COUNTIF(IZN$3:IZP$31,$A65)","v":0},null,null,null,{"$f":"COUNTIF(IZR$3:IZT$31,$A65)","v":0},null,null,null,{"$f":"COUNTIF(IZV$3:IZX$31,$A65)","v":0},null,null,null,{"$f":"COUNTIF(IZZ$3:JAB$31,$A65)","v":0},null,null,null,{"$f":"COUNTIF(JAD$3:JAF$31,$A65)","v":0},null,null,null,{"$f":"COUNTIF(JAH$3:JAJ$31,$A65)","v":0},null,null,null,{"$f":"COUNTIF(JAL$3:JAN$31,$A65)","v":0},null,null,null,{"$f":"COUNTIF(JAP$3:JAR$31,$A65)","v":0},null,null,null,{"$f":"COUNTIF(JAT$3:JAV$31,$A65)","v":0},null,null,null,{"$f":"COUNTIF(JAX$3:JAZ$31,$A65)","v":0},null,null,null,{"$f":"COUNTIF(JBB$3:JBD$31,$A65)","v":0},null,null,null,{"$f":"COUNTIF(JBF$3:JBH$31,$A65)","v":0},null,null,null,{"$f":"COUNTIF(JBJ$3:JBL$31,$A65)","v":0},null,null,null,{"$f":"COUNTIF(JBN$3:JBP$31,$A65)","v":0},null,null,null,{"$f":"COUNTIF(JBR$3:JBT$31,$A65)","v":0},null,null,null,{"$f":"COUNTIF(JBV$3:JBX$31,$A65)","v":0},null,null,null,{"$f":"COUNTIF(JBZ$3:JCB$31,$A65)","v":0},null,null,null,{"$f":"COUNTIF(JCD$3:JCF$31,$A65)","v":0},null,null,null,{"$f":"COUNTIF(JCH$3:JCJ$31,$A65)","v":0},null,null,null,{"$f":"COUNTIF(JCL$3:JCN$31,$A65)","v":0},null,null,null,{"$f":"COUNTIF(JCP$3:JCR$31,$A65)","v":0},null,null,null,{"$f":"COUNTIF(JCT$3:JCV$31,$A65)","v":0},null,null,null,{"$f":"COUNTIF(JCX$3:JCZ$31,$A65)","v":0},null,null,null,{"$f":"COUNTIF(JDB$3:JDD$31,$A65)","v":0},null,null,null,{"$f":"COUNTIF(JDF$3:JDH$31,$A65)","v":0},null,null,null,{"$f":"COUNTIF(JDJ$3:JDL$31,$A65)","v":0},null,null,null,{"$f":"COUNTIF(JDN$3:JDP$31,$A65)","v":0},null,null,null,{"$f":"COUNTIF(JDR$3:JDT$31,$A65)","v":0},null,null,null,{"$f":"COUNTIF(JDV$3:JDX$31,$A65)","v":0},null,null,null,{"$f":"COUNTIF(JDZ$3:JEB$31,$A65)","v":0},null,null,null,{"$f":"COUNTIF(JED$3:JEF$31,$A65)","v":0},null,null,null,{"$f":"COUNTIF(JEH$3:JEJ$31,$A65)","v":0},null,null,null,{"$f":"COUNTIF(JEL$3:JEN$31,$A65)","v":0},null,null,null,{"$f":"COUNTIF(JEP$3:JER$31,$A65)","v":0},null,null,null,{"$f":"COUNTIF(JET$3:JEV$31,$A65)","v":0},null,null,null,{"$f":"COUNTIF(JEX$3:JEZ$31,$A65)","v":0},null,null,null,{"$f":"COUNTIF(JFB$3:JFD$31,$A65)","v":0},null,null,null,{"$f":"COUNTIF(JFF$3:JFH$31,$A65)","v":0},null,null,null,{"$f":"COUNTIF(JFJ$3:JFL$31,$A65)","v":0},null,null,null,{"$f":"COUNTIF(JFN$3:JFP$31,$A65)","v":0},null,null,null,{"$f":"COUNTIF(JFR$3:JFT$31,$A65)","v":0},null,null,null,{"$f":"COUNTIF(JFV$3:JFX$31,$A65)","v":0},null,null,null,{"$f":"COUNTIF(JFZ$3:JGB$31,$A65)","v":0},null,null,null,{"$f":"COUNTIF(JGD$3:JGF$31,$A65)","v":0},null,null,null,{"$f":"COUNTIF(JGH$3:JGJ$31,$A65)","v":0},null,null,null,{"$f":"COUNTIF(JGL$3:JGN$31,$A65)","v":0},null,null,null,{"$f":"COUNTIF(JGP$3:JGR$31,$A65)","v":0},null,null,null,{"$f":"COUNTIF(JGT$3:JGV$31,$A65)","v":0},null,null,null,{"$f":"COUNTIF(JGX$3:JGZ$31,$A65)","v":0},null,null,null,{"$f":"COUNTIF(JHB$3:JHD$31,$A65)","v":0},null,null,null,{"$f":"COUNTIF(JHF$3:JHH$31,$A65)","v":0},null,null,null,{"$f":"COUNTIF(JHJ$3:JHL$31,$A65)","v":0},null,null,null,{"$f":"COUNTIF(JHN$3:JHP$31,$A65)","v":0},null,null,null,{"$f":"COUNTIF(JHR$3:JHT$31,$A65)","v":0},null,null,null,{"$f":"COUNTIF(JHV$3:JHX$31,$A65)","v":0},null,null,null,{"$f":"COUNTIF(JHZ$3:JIB$31,$A65)","v":0},null,null,null,{"$f":"COUNTIF(JID$3:JIF$31,$A65)","v":0},null,null,null,{"$f":"COUNTIF(JIH$3:JIJ$31,$A65)","v":0},null,null,null,{"$f":"COUNTIF(JIL$3:JIN$31,$A65)","v":0},null,null,null,{"$f":"COUNTIF(JIP$3:JIR$31,$A65)","v":0},null,null,null,{"$f":"COUNTIF(JIT$3:JIV$31,$A65)","v":0},null,null,null,{"$f":"COUNTIF(JIX$3:JIZ$31,$A65)","v":0},null,null,null,{"$f":"COUNTIF(JJB$3:JJD$31,$A65)","v":0},null,null,null,{"$f":"COUNTIF(JJF$3:JJH$31,$A65)","v":0},null,null,null,{"$f":"COUNTIF(JJJ$3:JJL$31,$A65)","v":0},null,null,null,{"$f":"COUNTIF(JJN$3:JJP$31,$A65)","v":0},null,null,null,{"$f":"COUNTIF(JJR$3:JJT$31,$A65)","v":0},null,null,null,{"$f":"COUNTIF(JJV$3:JJX$31,$A65)","v":0},null,null,null,{"$f":"COUNTIF(JJZ$3:JKB$31,$A65)","v":0},null,null,null,{"$f":"COUNTIF(JKD$3:JKF$31,$A65)","v":0},null,null,null,{"$f":"COUNTIF(JKH$3:JKJ$31,$A65)","v":0},null,null,null,{"$f":"COUNTIF(JKL$3:JKN$31,$A65)","v":0},null,null,null,{"$f":"COUNTIF(JKP$3:JKR$31,$A65)","v":0},null,null,null,{"$f":"COUNTIF(JKT$3:JKV$31,$A65)","v":0},null,null,null,{"$f":"COUNTIF(JKX$3:JKZ$31,$A65)","v":0},null,null,null,{"$f":"COUNTIF(JLB$3:JLD$31,$A65)","v":0},null,null,null,{"$f":"COUNTIF(JLF$3:JLH$31,$A65)","v":0},null,null,null,{"$f":"COUNTIF(JLJ$3:JLL$31,$A65)","v":0},null,null,null,{"$f":"COUNTIF(JLN$3:JLP$31,$A65)","v":0},null,null,null,{"$f":"COUNTIF(JLR$3:JLT$31,$A65)","v":0},null,null,null,{"$f":"COUNTIF(JLV$3:JLX$31,$A65)","v":0},null,null,null,{"$f":"COUNTIF(JLZ$3:JMB$31,$A65)","v":0},null,null,null,{"$f":"COUNTIF(JMD$3:JMF$31,$A65)","v":0},null,null,null,{"$f":"COUNTIF(JMH$3:JMJ$31,$A65)","v":0},null,null,null,{"$f":"COUNTIF(JML$3:JMN$31,$A65)","v":0},null,null,null,{"$f":"COUNTIF(JMP$3:JMR$31,$A65)","v":0},null,null,null,{"$f":"COUNTIF(JMT$3:JMV$31,$A65)","v":0},null,null,null,{"$f":"COUNTIF(JMX$3:JMZ$31,$A65)","v":0},null,null,null,{"$f":"COUNTIF(JNB$3:JND$31,$A65)","v":0},null,null,null,{"$f":"COUNTIF(JNF$3:JNH$31,$A65)","v":0},null,null,null,{"$f":"COUNTIF(JNJ$3:JNL$31,$A65)","v":0},null,null,null,{"$f":"COUNTIF(JNN$3:JNP$31,$A65)","v":0},null,null,null,{"$f":"COUNTIF(JNR$3:JNT$31,$A65)","v":0},null,null,null,{"$f":"COUNTIF(JNV$3:JNX$31,$A65)","v":0},null,null,null,{"$f":"COUNTIF(JNZ$3:JOB$31,$A65)","v":0},null,null,null,{"$f":"COUNTIF(JOD$3:JOF$31,$A65)","v":0},null,null,null,{"$f":"COUNTIF(JOH$3:JOJ$31,$A65)","v":0},null,null,null,{"$f":"COUNTIF(JOL$3:JON$31,$A65)","v":0},null,null,null,{"$f":"COUNTIF(JOP$3:JOR$31,$A65)","v":0},null,null,null,{"$f":"COUNTIF(JOT$3:JOV$31,$A65)","v":0},null,null,null,{"$f":"COUNTIF(JOX$3:JOZ$31,$A65)","v":0},null,null,null,{"$f":"COUNTIF(JPB$3:JPD$31,$A65)","v":0},null,null,null,{"$f":"COUNTIF(JPF$3:JPH$31,$A65)","v":0},null,null,null,{"$f":"COUNTIF(JPJ$3:JPL$31,$A65)","v":0},null,null,null,{"$f":"COUNTIF(JPN$3:JPP$31,$A65)","v":0},null,null,null,{"$f":"COUNTIF(JPR$3:JPT$31,$A65)","v":0},null,null,null,{"$f":"COUNTIF(JPV$3:JPX$31,$A65)","v":0},null,null,null,{"$f":"COUNTIF(JPZ$3:JQB$31,$A65)","v":0},null,null,null,{"$f":"COUNTIF(JQD$3:JQF$31,$A65)","v":0},null,null,null,{"$f":"COUNTIF(JQH$3:JQJ$31,$A65)","v":0},null,null,null,{"$f":"COUNTIF(JQL$3:JQN$31,$A65)","v":0},null,null,null,{"$f":"COUNTIF(JQP$3:JQR$31,$A65)","v":0},null,null,null,{"$f":"COUNTIF(JQT$3:JQV$31,$A65)","v":0},null,null,null,{"$f":"COUNTIF(JQX$3:JQZ$31,$A65)","v":0},null,null,null,{"$f":"COUNTIF(JRB$3:JRD$31,$A65)","v":0},null,null,null,{"$f":"COUNTIF(JRF$3:JRH$31,$A65)","v":0},null,null,null,{"$f":"COUNTIF(JRJ$3:JRL$31,$A65)","v":0},null,null,null,{"$f":"COUNTIF(JRN$3:JRP$31,$A65)","v":0},null,null,null,{"$f":"COUNTIF(JRR$3:JRT$31,$A65)","v":0},null,null,null,{"$f":"COUNTIF(JRV$3:JRX$31,$A65)","v":0},null,null,null,{"$f":"COUNTIF(JRZ$3:JSB$31,$A65)","v":0},null,null,null,{"$f":"COUNTIF(JSD$3:JSF$31,$A65)","v":0},null,null,null,{"$f":"COUNTIF(JSH$3:JSJ$31,$A65)","v":0},null,null,null,{"$f":"COUNTIF(JSL$3:JSN$31,$A65)","v":0},null,null,null,{"$f":"COUNTIF(JSP$3:JSR$31,$A65)","v":0},null,null,null,{"$f":"COUNTIF(JST$3:JSV$31,$A65)","v":0},null,null,null,{"$f":"COUNTIF(JSX$3:JSZ$31,$A65)","v":0},null,null,null,{"$f":"COUNTIF(JTB$3:JTD$31,$A65)","v":0},null,null,null,{"$f":"COUNTIF(JTF$3:JTH$31,$A65)","v":0},null,null,null,{"$f":"COUNTIF(JTJ$3:JTL$31,$A65)","v":0},null,null,null,{"$f":"COUNTIF(JTN$3:JTP$31,$A65)","v":0},null,null,null,{"$f":"COUNTIF(JTR$3:JTT$31,$A65)","v":0},null,null,null,{"$f":"COUNTIF(JTV$3:JTX$31,$A65)","v":0},null,null,null,{"$f":"COUNTIF(JTZ$3:JUB$31,$A65)","v":0},null,null,null,{"$f":"COUNTIF(JUD$3:JUF$31,$A65)","v":0},null,null,null,{"$f":"COUNTIF(JUH$3:JUJ$31,$A65)","v":0},null,null,null,{"$f":"COUNTIF(JUL$3:JUN$31,$A65)","v":0},null,null,null,{"$f":"COUNTIF(JUP$3:JUR$31,$A65)","v":0},null,null,null,{"$f":"COUNTIF(JUT$3:JUV$31,$A65)","v":0},null,null,null,{"$f":"COUNTIF(JUX$3:JUZ$31,$A65)","v":0},null,null,null,{"$f":"COUNTIF(JVB$3:JVD$31,$A65)","v":0},null,null,null,{"$f":"COUNTIF(JVF$3:JVH$31,$A65)","v":0},null,null,null,{"$f":"COUNTIF(JVJ$3:JVL$31,$A65)","v":0},null,null,null,{"$f":"COUNTIF(JVN$3:JVP$31,$A65)","v":0},null,null,null,{"$f":"COUNTIF(JVR$3:JVT$31,$A65)","v":0},null,null,null,{"$f":"COUNTIF(JVV$3:JVX$31,$A65)","v":0},null,null,null,{"$f":"COUNTIF(JVZ$3:JWB$31,$A65)","v":0},null,null,null,{"$f":"COUNTIF(JWD$3:JWF$31,$A65)","v":0},null,null,null,{"$f":"COUNTIF(JWH$3:JWJ$31,$A65)","v":0},null,null,null,{"$f":"COUNTIF(JWL$3:JWN$31,$A65)","v":0},null,null,null,{"$f":"COUNTIF(JWP$3:JWR$31,$A65)","v":0},null,null,null,{"$f":"COUNTIF(JWT$3:JWV$31,$A65)","v":0},null,null,null,{"$f":"COUNTIF(JWX$3:JWZ$31,$A65)","v":0},null,null,null,{"$f":"COUNTIF(JXB$3:JXD$31,$A65)","v":0},null,null,null,{"$f":"COUNTIF(JXF$3:JXH$31,$A65)","v":0},null,null,null,{"$f":"COUNTIF(JXJ$3:JXL$31,$A65)","v":0},null,null,null,{"$f":"COUNTIF(JXN$3:JXP$31,$A65)","v":0},null,null,null,{"$f":"COUNTIF(JXR$3:JXT$31,$A65)","v":0},null,null,null,{"$f":"COUNTIF(JXV$3:JXX$31,$A65)","v":0},null,null,null,{"$f":"COUNTIF(JXZ$3:JYB$31,$A65)","v":0},null,null,null,{"$f":"COUNTIF(JYD$3:JYF$31,$A65)","v":0},null,null,null,{"$f":"COUNTIF(JYH$3:JYJ$31,$A65)","v":0},null,null,null,{"$f":"COUNTIF(JYL$3:JYN$31,$A65)","v":0},null,null,null,{"$f":"COUNTIF(JYP$3:JYR$31,$A65)","v":0},null,null,null,{"$f":"COUNTIF(JYT$3:JYV$31,$A65)","v":0},null,null,null,{"$f":"COUNTIF(JYX$3:JYZ$31,$A65)","v":0},null,null,null,{"$f":"COUNTIF(JZB$3:JZD$31,$A65)","v":0},null,null,null,{"$f":"COUNTIF(JZF$3:JZH$31,$A65)","v":0},null,null,null,{"$f":"COUNTIF(JZJ$3:JZL$31,$A65)","v":0},null,null,null,{"$f":"COUNTIF(JZN$3:JZP$31,$A65)","v":0},null,null,null,{"$f":"COUNTIF(JZR$3:JZT$31,$A65)","v":0},null,null,null,{"$f":"COUNTIF(JZV$3:JZX$31,$A65)","v":0},null,null,null,{"$f":"COUNTIF(JZZ$3:KAB$31,$A65)","v":0},null,null,null,{"$f":"COUNTIF(KAD$3:KAF$31,$A65)","v":0},null,null,null,{"$f":"COUNTIF(KAH$3:KAJ$31,$A65)","v":0},null,null,null,{"$f":"COUNTIF(KAL$3:KAN$31,$A65)","v":0},null,null,null,{"$f":"COUNTIF(KAP$3:KAR$31,$A65)","v":0},null,null,null,{"$f":"COUNTIF(KAT$3:KAV$31,$A65)","v":0},null,null,null,{"$f":"COUNTIF(KAX$3:KAZ$31,$A65)","v":0},null,null,null,{"$f":"COUNTIF(KBB$3:KBD$31,$A65)","v":0},null,null,null,{"$f":"COUNTIF(KBF$3:KBH$31,$A65)","v":0},null,null,null,{"$f":"COUNTIF(KBJ$3:KBL$31,$A65)","v":0},null,null,null,{"$f":"COUNTIF(KBN$3:KBP$31,$A65)","v":0},null,null,null,{"$f":"COUNTIF(KBR$3:KBT$31,$A65)","v":0},null,null,null,{"$f":"COUNTIF(KBV$3:KBX$31,$A65)","v":0},null,null,null,{"$f":"COUNTIF(KBZ$3:KCB$31,$A65)","v":0},null,null,null,{"$f":"COUNTIF(KCD$3:KCF$31,$A65)","v":0},null,null,null,{"$f":"COUNTIF(KCH$3:KCJ$31,$A65)","v":0},null,null,null,{"$f":"COUNTIF(KCL$3:KCN$31,$A65)","v":0},null,null,null,{"$f":"COUNTIF(KCP$3:KCR$31,$A65)","v":0},null,null,null,{"$f":"COUNTIF(KCT$3:KCV$31,$A65)","v":0},null,null,null,{"$f":"COUNTIF(KCX$3:KCZ$31,$A65)","v":0},null,null,null,{"$f":"COUNTIF(KDB$3:KDD$31,$A65)","v":0},null,null,null,{"$f":"COUNTIF(KDF$3:KDH$31,$A65)","v":0},null,null,null,{"$f":"COUNTIF(KDJ$3:KDL$31,$A65)","v":0},null,null,null,{"$f":"COUNTIF(KDN$3:KDP$31,$A65)","v":0},null,null,null,{"$f":"COUNTIF(KDR$3:KDT$31,$A65)","v":0},null,null,null,{"$f":"COUNTIF(KDV$3:KDX$31,$A65)","v":0},null,null,null,{"$f":"COUNTIF(KDZ$3:KEB$31,$A65)","v":0},null,null,null,{"$f":"COUNTIF(KED$3:KEF$31,$A65)","v":0},null,null,null,{"$f":"COUNTIF(KEH$3:KEJ$31,$A65)","v":0},null,null,null,{"$f":"COUNTIF(KEL$3:KEN$31,$A65)","v":0},null,null,null,{"$f":"COUNTIF(KEP$3:KER$31,$A65)","v":0},null,null,null,{"$f":"COUNTIF(KET$3:KEV$31,$A65)","v":0},null,null,null,{"$f":"COUNTIF(KEX$3:KEZ$31,$A65)","v":0},null,null,null,{"$f":"COUNTIF(KFB$3:KFD$31,$A65)","v":0},null,null,null,{"$f":"COUNTIF(KFF$3:KFH$31,$A65)","v":0},null,null,null,{"$f":"COUNTIF(KFJ$3:KFL$31,$A65)","v":0},null,null,null,{"$f":"COUNTIF(KFN$3:KFP$31,$A65)","v":0},null,null,null,{"$f":"COUNTIF(KFR$3:KFT$31,$A65)","v":0},null,null,null,{"$f":"COUNTIF(KFV$3:KFX$31,$A65)","v":0},null,null,null,{"$f":"COUNTIF(KFZ$3:KGB$31,$A65)","v":0},null,null,null,{"$f":"COUNTIF(KGD$3:KGF$31,$A65)","v":0},null,null,null,{"$f":"COUNTIF(KGH$3:KGJ$31,$A65)","v":0},null,null,null,{"$f":"COUNTIF(KGL$3:KGN$31,$A65)","v":0},null,null,null,{"$f":"COUNTIF(KGP$3:KGR$31,$A65)","v":0},null,null,null,{"$f":"COUNTIF(KGT$3:KGV$31,$A65)","v":0},null,null,null,{"$f":"COUNTIF(KGX$3:KGZ$31,$A65)","v":0},null,null,null,{"$f":"COUNTIF(KHB$3:KHD$31,$A65)","v":0},null,null,null,{"$f":"COUNTIF(KHF$3:KHH$31,$A65)","v":0},null,null,null,{"$f":"COUNTIF(KHJ$3:KHL$31,$A65)","v":0},null,null,null,{"$f":"COUNTIF(KHN$3:KHP$31,$A65)","v":0},null,null,null,{"$f":"COUNTIF(KHR$3:KHT$31,$A65)","v":0},null,null,null,{"$f":"COUNTIF(KHV$3:KHX$31,$A65)","v":0},null,null,null,{"$f":"COUNTIF(KHZ$3:KIB$31,$A65)","v":0},null,null,null,{"$f":"COUNTIF(KID$3:KIF$31,$A65)","v":0},null,null,null,{"$f":"COUNTIF(KIH$3:KIJ$31,$A65)","v":0},null,null,null,{"$f":"COUNTIF(KIL$3:KIN$31,$A65)","v":0},null,null,null,{"$f":"COUNTIF(KIP$3:KIR$31,$A65)","v":0},null,null,null,{"$f":"COUNTIF(KIT$3:KIV$31,$A65)","v":0},null,null,null,{"$f":"COUNTIF(KIX$3:KIZ$31,$A65)","v":0},null,null,null,{"$f":"COUNTIF(KJB$3:KJD$31,$A65)","v":0},null,null,null,{"$f":"COUNTIF(KJF$3:KJH$31,$A65)","v":0},null,null,null,{"$f":"COUNTIF(KJJ$3:KJL$31,$A65)","v":0},null,null,null,{"$f":"COUNTIF(KJN$3:KJP$31,$A65)","v":0},null,null,null,{"$f":"COUNTIF(KJR$3:KJT$31,$A65)","v":0},null,null,null,{"$f":"COUNTIF(KJV$3:KJX$31,$A65)","v":0},null,null,null,{"$f":"COUNTIF(KJZ$3:KKB$31,$A65)","v":0},null,null,null,{"$f":"COUNTIF(KKD$3:KKF$31,$A65)","v":0},null,null,null,{"$f":"COUNTIF(KKH$3:KKJ$31,$A65)","v":0},null,null,null,{"$f":"COUNTIF(KKL$3:KKN$31,$A65)","v":0},null,null,null,{"$f":"COUNTIF(KKP$3:KKR$31,$A65)","v":0},null,null,null,{"$f":"COUNTIF(KKT$3:KKV$31,$A65)","v":0},null,null,null,{"$f":"COUNTIF(KKX$3:KKZ$31,$A65)","v":0},null,null,null,{"$f":"COUNTIF(KLB$3:KLD$31,$A65)","v":0},null,null,null,{"$f":"COUNTIF(KLF$3:KLH$31,$A65)","v":0},null,null,null,{"$f":"COUNTIF(KLJ$3:KLL$31,$A65)","v":0},null,null,null,{"$f":"COUNTIF(KLN$3:KLP$31,$A65)","v":0},null,null,null,{"$f":"COUNTIF(KLR$3:KLT$31,$A65)","v":0},null,null,null,{"$f":"COUNTIF(KLV$3:KLX$31,$A65)","v":0},null,null,null,{"$f":"COUNTIF(KLZ$3:KMB$31,$A65)","v":0},null,null,null,{"$f":"COUNTIF(KMD$3:KMF$31,$A65)","v":0},null,null,null,{"$f":"COUNTIF(KMH$3:KMJ$31,$A65)","v":0},null,null,null,{"$f":"COUNTIF(KML$3:KMN$31,$A65)","v":0},null,null,null,{"$f":"COUNTIF(KMP$3:KMR$31,$A65)","v":0},null,null,null,{"$f":"COUNTIF(KMT$3:KMV$31,$A65)","v":0},null,null,null,{"$f":"COUNTIF(KMX$3:KMZ$31,$A65)","v":0},null,null,null,{"$f":"COUNTIF(KNB$3:KND$31,$A65)","v":0},null,null,null,{"$f":"COUNTIF(KNF$3:KNH$31,$A65)","v":0},null,null,null,{"$f":"COUNTIF(KNJ$3:KNL$31,$A65)","v":0},null,null,null,{"$f":"COUNTIF(KNN$3:KNP$31,$A65)","v":0},null,null,null,{"$f":"COUNTIF(KNR$3:KNT$31,$A65)","v":0},null,null,null,{"$f":"COUNTIF(KNV$3:KNX$31,$A65)","v":0},null,null,null,{"$f":"COUNTIF(KNZ$3:KOB$31,$A65)","v":0},null,null,null,{"$f":"COUNTIF(KOD$3:KOF$31,$A65)","v":0},null,null,null,{"$f":"COUNTIF(KOH$3:KOJ$31,$A65)","v":0},null,null,null,{"$f":"COUNTIF(KOL$3:KON$31,$A65)","v":0},null,null,null,{"$f":"COUNTIF(KOP$3:KOR$31,$A65)","v":0},null,null,null,{"$f":"COUNTIF(KOT$3:KOV$31,$A65)","v":0},null,null,null,{"$f":"COUNTIF(KOX$3:KOZ$31,$A65)","v":0},null,null,null,{"$f":"COUNTIF(KPB$3:KPD$31,$A65)","v":0},null,null,null,{"$f":"COUNTIF(KPF$3:KPH$31,$A65)","v":0},null,null,null,{"$f":"COUNTIF(KPJ$3:KPL$31,$A65)","v":0},null,null,null,{"$f":"COUNTIF(KPN$3:KPP$31,$A65)","v":0},null,null,null,{"$f":"COUNTIF(KPR$3:KPT$31,$A65)","v":0},null,null,null,{"$f":"COUNTIF(KPV$3:KPX$31,$A65)","v":0},null,null,null,{"$f":"COUNTIF(KPZ$3:KQB$31,$A65)","v":0},null,null,null,{"$f":"COUNTIF(KQD$3:KQF$31,$A65)","v":0},null,null,null,{"$f":"COUNTIF(KQH$3:KQJ$31,$A65)","v":0},null,null,null,{"$f":"COUNTIF(KQL$3:KQN$31,$A65)","v":0},null,null,null,{"$f":"COUNTIF(KQP$3:KQR$31,$A65)","v":0},null,null,null,{"$f":"COUNTIF(KQT$3:KQV$31,$A65)","v":0},null,null,null,{"$f":"COUNTIF(KQX$3:KQZ$31,$A65)","v":0},null,null,null,{"$f":"COUNTIF(KRB$3:KRD$31,$A65)","v":0},null,null,null,{"$f":"COUNTIF(KRF$3:KRH$31,$A65)","v":0},null,null,null,{"$f":"COUNTIF(KRJ$3:KRL$31,$A65)","v":0},null,null,null,{"$f":"COUNTIF(KRN$3:KRP$31,$A65)","v":0},null,null,null,{"$f":"COUNTIF(KRR$3:KRT$31,$A65)","v":0},null,null,null,{"$f":"COUNTIF(KRV$3:KRX$31,$A65)","v":0},null,null,null,{"$f":"COUNTIF(KRZ$3:KSB$31,$A65)","v":0},null,null,null,{"$f":"COUNTIF(KSD$3:KSF$31,$A65)","v":0},null,null,null,{"$f":"COUNTIF(KSH$3:KSJ$31,$A65)","v":0},null,null,null,{"$f":"COUNTIF(KSL$3:KSN$31,$A65)","v":0},null,null,null,{"$f":"COUNTIF(KSP$3:KSR$31,$A65)","v":0},null,null,null,{"$f":"COUNTIF(KST$3:KSV$31,$A65)","v":0},null,null,null,{"$f":"COUNTIF(KSX$3:KSZ$31,$A65)","v":0},null,null,null,{"$f":"COUNTIF(KTB$3:KTD$31,$A65)","v":0},null,null,null,{"$f":"COUNTIF(KTF$3:KTH$31,$A65)","v":0},null,null,null,{"$f":"COUNTIF(KTJ$3:KTL$31,$A65)","v":0},null,null,null,{"$f":"COUNTIF(KTN$3:KTP$31,$A65)","v":0},null,null,null,{"$f":"COUNTIF(KTR$3:KTT$31,$A65)","v":0},null,null,null,{"$f":"COUNTIF(KTV$3:KTX$31,$A65)","v":0},null,null,null,{"$f":"COUNTIF(KTZ$3:KUB$31,$A65)","v":0},null,null,null,{"$f":"COUNTIF(KUD$3:KUF$31,$A65)","v":0},null,null,null,{"$f":"COUNTIF(KUH$3:KUJ$31,$A65)","v":0},null,null,null,{"$f":"COUNTIF(KUL$3:KUN$31,$A65)","v":0},null,null,null,{"$f":"COUNTIF(KUP$3:KUR$31,$A65)","v":0},null,null,null,{"$f":"COUNTIF(KUT$3:KUV$31,$A65)","v":0},null,null,null,{"$f":"COUNTIF(KUX$3:KUZ$31,$A65)","v":0},null,null,null,{"$f":"COUNTIF(KVB$3:KVD$31,$A65)","v":0},null,null,null,{"$f":"COUNTIF(KVF$3:KVH$31,$A65)","v":0},null,null,null,{"$f":"COUNTIF(KVJ$3:KVL$31,$A65)","v":0},null,null,null,{"$f":"COUNTIF(KVN$3:KVP$31,$A65)","v":0},null,null,null,{"$f":"COUNTIF(KVR$3:KVT$31,$A65)","v":0},null,null,null,{"$f":"COUNTIF(KVV$3:KVX$31,$A65)","v":0},null,null,null,{"$f":"COUNTIF(KVZ$3:KWB$31,$A65)","v":0},null,null,null,{"$f":"COUNTIF(KWD$3:KWF$31,$A65)","v":0},null,null,null,{"$f":"COUNTIF(KWH$3:KWJ$31,$A65)","v":0},null,null,null,{"$f":"COUNTIF(KWL$3:KWN$31,$A65)","v":0},null,null,null,{"$f":"COUNTIF(KWP$3:KWR$31,$A65)","v":0},null,null,null,{"$f":"COUNTIF(KWT$3:KWV$31,$A65)","v":0},null,null,null,{"$f":"COUNTIF(KWX$3:KWZ$31,$A65)","v":0},null,null,null,{"$f":"COUNTIF(KXB$3:KXD$31,$A65)","v":0},null,null,null,{"$f":"COUNTIF(KXF$3:KXH$31,$A65)","v":0},null,null,null,{"$f":"COUNTIF(KXJ$3:KXL$31,$A65)","v":0},null,null,null,{"$f":"COUNTIF(KXN$3:KXP$31,$A65)","v":0},null,null,null,{"$f":"COUNTIF(KXR$3:KXT$31,$A65)","v":0},null,null,null,{"$f":"COUNTIF(KXV$3:KXX$31,$A65)","v":0},null,null,null,{"$f":"COUNTIF(KXZ$3:KYB$31,$A65)","v":0},null,null,null,{"$f":"COUNTIF(KYD$3:KYF$31,$A65)","v":0},null,null,null,{"$f":"COUNTIF(KYH$3:KYJ$31,$A65)","v":0},null,null,null,{"$f":"COUNTIF(KYL$3:KYN$31,$A65)","v":0},null,null,null,{"$f":"COUNTIF(KYP$3:KYR$31,$A65)","v":0},null,null,null,{"$f":"COUNTIF(KYT$3:KYV$31,$A65)","v":0},null,null,null,{"$f":"COUNTIF(KYX$3:KYZ$31,$A65)","v":0},null,null,null,{"$f":"COUNTIF(KZB$3:KZD$31,$A65)","v":0},null,null,null,{"$f":"COUNTIF(KZF$3:KZH$31,$A65)","v":0},null,null,null,{"$f":"COUNTIF(KZJ$3:KZL$31,$A65)","v":0},null,null,null,{"$f":"COUNTIF(KZN$3:KZP$31,$A65)","v":0},null,null,null,{"$f":"COUNTIF(KZR$3:KZT$31,$A65)","v":0},null,null,null,{"$f":"COUNTIF(KZV$3:KZX$31,$A65)","v":0},null,null,null,{"$f":"COUNTIF(KZZ$3:LAB$31,$A65)","v":0},null,null,null,{"$f":"COUNTIF(LAD$3:LAF$31,$A65)","v":0},null,null,null,{"$f":"COUNTIF(LAH$3:LAJ$31,$A65)","v":0},null,null,null,{"$f":"COUNTIF(LAL$3:LAN$31,$A65)","v":0},null,null,null,{"$f":"COUNTIF(LAP$3:LAR$31,$A65)","v":0},null,null,null,{"$f":"COUNTIF(LAT$3:LAV$31,$A65)","v":0},null,null,null,{"$f":"COUNTIF(LAX$3:LAZ$31,$A65)","v":0},null,null,null,{"$f":"COUNTIF(LBB$3:LBD$31,$A65)","v":0},null,null,null,{"$f":"COUNTIF(LBF$3:LBH$31,$A65)","v":0},null,null,null,{"$f":"COUNTIF(LBJ$3:LBL$31,$A65)","v":0},null,null,null,{"$f":"COUNTIF(LBN$3:LBP$31,$A65)","v":0},null,null,null,{"$f":"COUNTIF(LBR$3:LBT$31,$A65)","v":0},null,null,null,{"$f":"COUNTIF(LBV$3:LBX$31,$A65)","v":0},null,null,null,{"$f":"COUNTIF(LBZ$3:LCB$31,$A65)","v":0},null,null,null,{"$f":"COUNTIF(LCD$3:LCF$31,$A65)","v":0},null,null,null,{"$f":"COUNTIF(LCH$3:LCJ$31,$A65)","v":0},null,null,null,{"$f":"COUNTIF(LCL$3:LCN$31,$A65)","v":0},null,null,null,{"$f":"COUNTIF(LCP$3:LCR$31,$A65)","v":0},null,null,null,{"$f":"COUNTIF(LCT$3:LCV$31,$A65)","v":0},null,null,null,{"$f":"COUNTIF(LCX$3:LCZ$31,$A65)","v":0},null,null,null,{"$f":"COUNTIF(LDB$3:LDD$31,$A65)","v":0},null,null,null,{"$f":"COUNTIF(LDF$3:LDH$31,$A65)","v":0},null,null,null,{"$f":"COUNTIF(LDJ$3:LDL$31,$A65)","v":0},null,null,null,{"$f":"COUNTIF(LDN$3:LDP$31,$A65)","v":0},null,null,null,{"$f":"COUNTIF(LDR$3:LDT$31,$A65)","v":0},null,null,null,{"$f":"COUNTIF(LDV$3:LDX$31,$A65)","v":0},null,null,null,{"$f":"COUNTIF(LDZ$3:LEB$31,$A65)","v":0},null,null,null,{"$f":"COUNTIF(LED$3:LEF$31,$A65)","v":0},null,null,null,{"$f":"COUNTIF(LEH$3:LEJ$31,$A65)","v":0},null,null,null,{"$f":"COUNTIF(LEL$3:LEN$31,$A65)","v":0},null,null,null,{"$f":"COUNTIF(LEP$3:LER$31,$A65)","v":0},null,null,null,{"$f":"COUNTIF(LET$3:LEV$31,$A65)","v":0},null,null,null,{"$f":"COUNTIF(LEX$3:LEZ$31,$A65)","v":0},null,null,null,{"$f":"COUNTIF(LFB$3:LFD$31,$A65)","v":0},null,null,null,{"$f":"COUNTIF(LFF$3:LFH$31,$A65)","v":0},null,null,null,{"$f":"COUNTIF(LFJ$3:LFL$31,$A65)","v":0},null,null,null,{"$f":"COUNTIF(LFN$3:LFP$31,$A65)","v":0},null,null,null,{"$f":"COUNTIF(LFR$3:LFT$31,$A65)","v":0},null,null,null,{"$f":"COUNTIF(LFV$3:LFX$31,$A65)","v":0},null,null,null,{"$f":"COUNTIF(LFZ$3:LGB$31,$A65)","v":0},null,null,null,{"$f":"COUNTIF(LGD$3:LGF$31,$A65)","v":0},null,null,null,{"$f":"COUNTIF(LGH$3:LGJ$31,$A65)","v":0},null,null,null,{"$f":"COUNTIF(LGL$3:LGN$31,$A65)","v":0},null,null,null,{"$f":"COUNTIF(LGP$3:LGR$31,$A65)","v":0},null,null,null,{"$f":"COUNTIF(LGT$3:LGV$31,$A65)","v":0},null,null,null,{"$f":"COUNTIF(LGX$3:LGZ$31,$A65)","v":0},null,null,null,{"$f":"COUNTIF(LHB$3:LHD$31,$A65)","v":0},null,null,null,{"$f":"COUNTIF(LHF$3:LHH$31,$A65)","v":0},null,null,null,{"$f":"COUNTIF(LHJ$3:LHL$31,$A65)","v":0},null,null,null,{"$f":"COUNTIF(LHN$3:LHP$31,$A65)","v":0},null,null,null,{"$f":"COUNTIF(LHR$3:LHT$31,$A65)","v":0},null,null,null,{"$f":"COUNTIF(LHV$3:LHX$31,$A65)","v":0},null,null,null,{"$f":"COUNTIF(LHZ$3:LIB$31,$A65)","v":0},null,null,null,{"$f":"COUNTIF(LID$3:LIF$31,$A65)","v":0},null,null,null,{"$f":"COUNTIF(LIH$3:LIJ$31,$A65)","v":0},null,null,null,{"$f":"COUNTIF(LIL$3:LIN$31,$A65)","v":0},null,null,null,{"$f":"COUNTIF(LIP$3:LIR$31,$A65)","v":0},null,null,null,{"$f":"COUNTIF(LIT$3:LIV$31,$A65)","v":0},null,null,null,{"$f":"COUNTIF(LIX$3:LIZ$31,$A65)","v":0},null,null,null,{"$f":"COUNTIF(LJB$3:LJD$31,$A65)","v":0},null,null,null,{"$f":"COUNTIF(LJF$3:LJH$31,$A65)","v":0},null,null,null,{"$f":"COUNTIF(LJJ$3:LJL$31,$A65)","v":0},null,null,null,{"$f":"COUNTIF(LJN$3:LJP$31,$A65)","v":0},null,null,null,{"$f":"COUNTIF(LJR$3:LJT$31,$A65)","v":0},null,null,null,{"$f":"COUNTIF(LJV$3:LJX$31,$A65)","v":0},null,null,null,{"$f":"COUNTIF(LJZ$3:LKB$31,$A65)","v":0},null,null,null,{"$f":"COUNTIF(LKD$3:LKF$31,$A65)","v":0},null,null,null,{"$f":"COUNTIF(LKH$3:LKJ$31,$A65)","v":0},null,null,null,{"$f":"COUNTIF(LKL$3:LKN$31,$A65)","v":0},null,null,null,{"$f":"COUNTIF(LKP$3:LKR$31,$A65)","v":0},null,null,null,{"$f":"COUNTIF(LKT$3:LKV$31,$A65)","v":0},null,null,null,{"$f":"COUNTIF(LKX$3:LKZ$31,$A65)","v":0},null,null,null,{"$f":"COUNTIF(LLB$3:LLD$31,$A65)","v":0},null,null,null,{"$f":"COUNTIF(LLF$3:LLH$31,$A65)","v":0},null,null,null,{"$f":"COUNTIF(LLJ$3:LLL$31,$A65)","v":0},null,null,null,{"$f":"COUNTIF(LLN$3:LLP$31,$A65)","v":0},null,null,null,{"$f":"COUNTIF(LLR$3:LLT$31,$A65)","v":0},null,null,null,{"$f":"COUNTIF(LLV$3:LLX$31,$A65)","v":0},null,null,null,{"$f":"COUNTIF(LLZ$3:LMB$31,$A65)","v":0},null,null,null,{"$f":"COUNTIF(LMD$3:LMF$31,$A65)","v":0},null,null,null,{"$f":"COUNTIF(LMH$3:LMJ$31,$A65)","v":0},null,null,null,{"$f":"COUNTIF(LML$3:LMN$31,$A65)","v":0},null,null,null,{"$f":"COUNTIF(LMP$3:LMR$31,$A65)","v":0},null,null,null,{"$f":"COUNTIF(LMT$3:LMV$31,$A65)","v":0},null,null,null,{"$f":"COUNTIF(LMX$3:LMZ$31,$A65)","v":0},null,null,null,{"$f":"COUNTIF(LNB$3:LND$31,$A65)","v":0},null,null,null,{"$f":"COUNTIF(LNF$3:LNH$31,$A65)","v":0},null,null,null,{"$f":"COUNTIF(LNJ$3:LNL$31,$A65)","v":0},null,null,null,{"$f":"COUNTIF(LNN$3:LNP$31,$A65)","v":0},null,null,null,{"$f":"COUNTIF(LNR$3:LNT$31,$A65)","v":0},null,null,null,{"$f":"COUNTIF(LNV$3:LNX$31,$A65)","v":0},null,null,null,{"$f":"COUNTIF(LNZ$3:LOB$31,$A65)","v":0},null,null,null,{"$f":"COUNTIF(LOD$3:LOF$31,$A65)","v":0},null,null,null,{"$f":"COUNTIF(LOH$3:LOJ$31,$A65)","v":0},null,null,null,{"$f":"COUNTIF(LOL$3:LON$31,$A65)","v":0},null,null,null,{"$f":"COUNTIF(LOP$3:LOR$31,$A65)","v":0},null,null,null,{"$f":"COUNTIF(LOT$3:LOV$31,$A65)","v":0},null,null,null,{"$f":"COUNTIF(LOX$3:LOZ$31,$A65)","v":0},null,null,null,{"$f":"COUNTIF(LPB$3:LPD$31,$A65)","v":0},null,null,null,{"$f":"COUNTIF(LPF$3:LPH$31,$A65)","v":0},null,null,null,{"$f":"COUNTIF(LPJ$3:LPL$31,$A65)","v":0},null,null,null,{"$f":"COUNTIF(LPN$3:LPP$31,$A65)","v":0},null,null,null,{"$f":"COUNTIF(LPR$3:LPT$31,$A65)","v":0},null,null,null,{"$f":"COUNTIF(LPV$3:LPX$31,$A65)","v":0},null,null,null,{"$f":"COUNTIF(LPZ$3:LQB$31,$A65)","v":0},null,null,null,{"$f":"COUNTIF(LQD$3:LQF$31,$A65)","v":0},null,null,null,{"$f":"COUNTIF(LQH$3:LQJ$31,$A65)","v":0},null,null,null,{"$f":"COUNTIF(LQL$3:LQN$31,$A65)","v":0},null,null,null,{"$f":"COUNTIF(LQP$3:LQR$31,$A65)","v":0},null,null,null,{"$f":"COUNTIF(LQT$3:LQV$31,$A65)","v":0},null,null,null,{"$f":"COUNTIF(LQX$3:LQZ$31,$A65)","v":0},null,null,null,{"$f":"COUNTIF(LRB$3:LRD$31,$A65)","v":0},null,null,null,{"$f":"COUNTIF(LRF$3:LRH$31,$A65)","v":0},null,null,null,{"$f":"COUNTIF(LRJ$3:LRL$31,$A65)","v":0},null,null,null,{"$f":"COUNTIF(LRN$3:LRP$31,$A65)","v":0},null,null,null,{"$f":"COUNTIF(LRR$3:LRT$31,$A65)","v":0},null,null,null,{"$f":"COUNTIF(LRV$3:LRX$31,$A65)","v":0},null,null,null,{"$f":"COUNTIF(LRZ$3:LSB$31,$A65)","v":0},null,null,null,{"$f":"COUNTIF(LSD$3:LSF$31,$A65)","v":0},null,null,null,{"$f":"COUNTIF(LSH$3:LSJ$31,$A65)","v":0},null,null,null,{"$f":"COUNTIF(LSL$3:LSN$31,$A65)","v":0},null,null,null,{"$f":"COUNTIF(LSP$3:LSR$31,$A65)","v":0},null,null,null,{"$f":"COUNTIF(LST$3:LSV$31,$A65)","v":0},null,null,null,{"$f":"COUNTIF(LSX$3:LSZ$31,$A65)","v":0},null,null,null,{"$f":"COUNTIF(LTB$3:LTD$31,$A65)","v":0},null,null,null,{"$f":"COUNTIF(LTF$3:LTH$31,$A65)","v":0},null,null,null,{"$f":"COUNTIF(LTJ$3:LTL$31,$A65)","v":0},null,null,null,{"$f":"COUNTIF(LTN$3:LTP$31,$A65)","v":0},null,null,null,{"$f":"COUNTIF(LTR$3:LTT$31,$A65)","v":0},null,null,null,{"$f":"COUNTIF(LTV$3:LTX$31,$A65)","v":0},null,null,null,{"$f":"COUNTIF(LTZ$3:LUB$31,$A65)","v":0},null,null,null,{"$f":"COUNTIF(LUD$3:LUF$31,$A65)","v":0},null,null,null,{"$f":"COUNTIF(LUH$3:LUJ$31,$A65)","v":0},null,null,null,{"$f":"COUNTIF(LUL$3:LUN$31,$A65)","v":0},null,null,null,{"$f":"COUNTIF(LUP$3:LUR$31,$A65)","v":0},null,null,null,{"$f":"COUNTIF(LUT$3:LUV$31,$A65)","v":0},null,null,null,{"$f":"COUNTIF(LUX$3:LUZ$31,$A65)","v":0},null,null,null,{"$f":"COUNTIF(LVB$3:LVD$31,$A65)","v":0},null,null,null,{"$f":"COUNTIF(LVF$3:LVH$31,$A65)","v":0},null,null,null,{"$f":"COUNTIF(LVJ$3:LVL$31,$A65)","v":0},null,null,null,{"$f":"COUNTIF(LVN$3:LVP$31,$A65)","v":0},null,null,null,{"$f":"COUNTIF(LVR$3:LVT$31,$A65)","v":0},null,null,null,{"$f":"COUNTIF(LVV$3:LVX$31,$A65)","v":0},null,null,null,{"$f":"COUNTIF(LVZ$3:LWB$31,$A65)","v":0},null,null,null,{"$f":"COUNTIF(LWD$3:LWF$31,$A65)","v":0},null,null,null,{"$f":"COUNTIF(LWH$3:LWJ$31,$A65)","v":0},null,null,null,{"$f":"COUNTIF(LWL$3:LWN$31,$A65)","v":0},null,null,null,{"$f":"COUNTIF(LWP$3:LWR$31,$A65)","v":0},null,null,null,{"$f":"COUNTIF(LWT$3:LWV$31,$A65)","v":0},null,null,null,{"$f":"COUNTIF(LWX$3:LWZ$31,$A65)","v":0},null,null,null,{"$f":"COUNTIF(LXB$3:LXD$31,$A65)","v":0},null,null,null,{"$f":"COUNTIF(LXF$3:LXH$31,$A65)","v":0},null,null,null,{"$f":"COUNTIF(LXJ$3:LXL$31,$A65)","v":0},null,null,null,{"$f":"COUNTIF(LXN$3:LXP$31,$A65)","v":0},null,null,null,{"$f":"COUNTIF(LXR$3:LXT$31,$A65)","v":0},null,null,null,{"$f":"COUNTIF(LXV$3:LXX$31,$A65)","v":0},null,null,null,{"$f":"COUNTIF(LXZ$3:LYB$31,$A65)","v":0},null,null,null,{"$f":"COUNTIF(LYD$3:LYF$31,$A65)","v":0},null,null,null,{"$f":"COUNTIF(LYH$3:LYJ$31,$A65)","v":0},null,null,null,{"$f":"COUNTIF(LYL$3:LYN$31,$A65)","v":0},null,null,null,{"$f":"COUNTIF(LYP$3:LYR$31,$A65)","v":0},null,null,null,{"$f":"COUNTIF(LYT$3:LYV$31,$A65)","v":0},null,null,null,{"$f":"COUNTIF(LYX$3:LYZ$31,$A65)","v":0},null,null,null,{"$f":"COUNTIF(LZB$3:LZD$31,$A65)","v":0},null,null,null,{"$f":"COUNTIF(LZF$3:LZH$31,$A65)","v":0},null,null,null,{"$f":"COUNTIF(LZJ$3:LZL$31,$A65)","v":0},null,null,null,{"$f":"COUNTIF(LZN$3:LZP$31,$A65)","v":0},null,null,null,{"$f":"COUNTIF(LZR$3:LZT$31,$A65)","v":0},null,null,null,{"$f":"COUNTIF(LZV$3:LZX$31,$A65)","v":0},null,null,null,{"$f":"COUNTIF(LZZ$3:MAB$31,$A65)","v":0},null,null,null,{"$f":"COUNTIF(MAD$3:MAF$31,$A65)","v":0},null,null,null,{"$f":"COUNTIF(MAH$3:MAJ$31,$A65)","v":0},null,null,null,{"$f":"COUNTIF(MAL$3:MAN$31,$A65)","v":0},null,null,null,{"$f":"COUNTIF(MAP$3:MAR$31,$A65)","v":0},null,null,null,{"$f":"COUNTIF(MAT$3:MAV$31,$A65)","v":0},null,null,null,{"$f":"COUNTIF(MAX$3:MAZ$31,$A65)","v":0},null,null,null,{"$f":"COUNTIF(MBB$3:MBD$31,$A65)","v":0},null,null,null,{"$f":"COUNTIF(MBF$3:MBH$31,$A65)","v":0},null,null,null,{"$f":"COUNTIF(MBJ$3:MBL$31,$A65)","v":0},null,null,null,{"$f":"COUNTIF(MBN$3:MBP$31,$A65)","v":0},null,null,null,{"$f":"COUNTIF(MBR$3:MBT$31,$A65)","v":0},null,null,null,{"$f":"COUNTIF(MBV$3:MBX$31,$A65)","v":0},null,null,null,{"$f":"COUNTIF(MBZ$3:MCB$31,$A65)","v":0},null,null,null,{"$f":"COUNTIF(MCD$3:MCF$31,$A65)","v":0},null,null,null,{"$f":"COUNTIF(MCH$3:MCJ$31,$A65)","v":0},null,null,null,{"$f":"COUNTIF(MCL$3:MCN$31,$A65)","v":0},null,null,null,{"$f":"COUNTIF(MCP$3:MCR$31,$A65)","v":0},null,null,null,{"$f":"COUNTIF(MCT$3:MCV$31,$A65)","v":0},null,null,null,{"$f":"COUNTIF(MCX$3:MCZ$31,$A65)","v":0},null,null,null,{"$f":"COUNTIF(MDB$3:MDD$31,$A65)","v":0},null,null,null,{"$f":"COUNTIF(MDF$3:MDH$31,$A65)","v":0},null,null,null,{"$f":"COUNTIF(MDJ$3:MDL$31,$A65)","v":0},null,null,null,{"$f":"COUNTIF(MDN$3:MDP$31,$A65)","v":0},null,null,null,{"$f":"COUNTIF(MDR$3:MDT$31,$A65)","v":0},null,null,null,{"$f":"COUNTIF(MDV$3:MDX$31,$A65)","v":0},null,null,null,{"$f":"COUNTIF(MDZ$3:MEB$31,$A65)","v":0},null,null,null,{"$f":"COUNTIF(MED$3:MEF$31,$A65)","v":0},null,null,null,{"$f":"COUNTIF(MEH$3:MEJ$31,$A65)","v":0},null,null,null,{"$f":"COUNTIF(MEL$3:MEN$31,$A65)","v":0},null,null,null,{"$f":"COUNTIF(MEP$3:MER$31,$A65)","v":0},null,null,null,{"$f":"COUNTIF(MET$3:MEV$31,$A65)","v":0},null,null,null,{"$f":"COUNTIF(MEX$3:MEZ$31,$A65)","v":0},null,null,null,{"$f":"COUNTIF(MFB$3:MFD$31,$A65)","v":0},null,null,null,{"$f":"COUNTIF(MFF$3:MFH$31,$A65)","v":0},null,null,null,{"$f":"COUNTIF(MFJ$3:MFL$31,$A65)","v":0},null,null,null,{"$f":"COUNTIF(MFN$3:MFP$31,$A65)","v":0},null,null,null,{"$f":"COUNTIF(MFR$3:MFT$31,$A65)","v":0},null,null,null,{"$f":"COUNTIF(MFV$3:MFX$31,$A65)","v":0},null,null,null,{"$f":"COUNTIF(MFZ$3:MGB$31,$A65)","v":0},null,null,null,{"$f":"COUNTIF(MGD$3:MGF$31,$A65)","v":0},null,null,null,{"$f":"COUNTIF(MGH$3:MGJ$31,$A65)","v":0},null,null,null,{"$f":"COUNTIF(MGL$3:MGN$31,$A65)","v":0},null,null,null,{"$f":"COUNTIF(MGP$3:MGR$31,$A65)","v":0},null,null,null,{"$f":"COUNTIF(MGT$3:MGV$31,$A65)","v":0},null,null,null,{"$f":"COUNTIF(MGX$3:MGZ$31,$A65)","v":0},null,null,null,{"$f":"COUNTIF(MHB$3:MHD$31,$A65)","v":0},null,null,null,{"$f":"COUNTIF(MHF$3:MHH$31,$A65)","v":0},null,null,null,{"$f":"COUNTIF(MHJ$3:MHL$31,$A65)","v":0},null,null,null,{"$f":"COUNTIF(MHN$3:MHP$31,$A65)","v":0},null,null,null,{"$f":"COUNTIF(MHR$3:MHT$31,$A65)","v":0},null,null,null,{"$f":"COUNTIF(MHV$3:MHX$31,$A65)","v":0},null,null,null,{"$f":"COUNTIF(MHZ$3:MIB$31,$A65)","v":0},null,null,null,{"$f":"COUNTIF(MID$3:MIF$31,$A65)","v":0},null,null,null,{"$f":"COUNTIF(MIH$3:MIJ$31,$A65)","v":0},null,null,null,{"$f":"COUNTIF(MIL$3:MIN$31,$A65)","v":0},null,null,null,{"$f":"COUNTIF(MIP$3:MIR$31,$A65)","v":0},null,null,null,{"$f":"COUNTIF(MIT$3:MIV$31,$A65)","v":0},null,null,null,{"$f":"COUNTIF(MIX$3:MIZ$31,$A65)","v":0},null,null,null,{"$f":"COUNTIF(MJB$3:MJD$31,$A65)","v":0},null,null,null,{"$f":"COUNTIF(MJF$3:MJH$31,$A65)","v":0},null,null,null,{"$f":"COUNTIF(MJJ$3:MJL$31,$A65)","v":0},null,null,null,{"$f":"COUNTIF(MJN$3:MJP$31,$A65)","v":0},null,null,null,{"$f":"COUNTIF(MJR$3:MJT$31,$A65)","v":0},null,null,null,{"$f":"COUNTIF(MJV$3:MJX$31,$A65)","v":0},null,null,null,{"$f":"COUNTIF(MJZ$3:MKB$31,$A65)","v":0},null,null,null,{"$f":"COUNTIF(MKD$3:MKF$31,$A65)","v":0},null,null,null,{"$f":"COUNTIF(MKH$3:MKJ$31,$A65)","v":0},null,null,null,{"$f":"COUNTIF(MKL$3:MKN$31,$A65)","v":0},null,null,null,{"$f":"COUNTIF(MKP$3:MKR$31,$A65)","v":0},null,null,null,{"$f":"COUNTIF(MKT$3:MKV$31,$A65)","v":0},null,null,null,{"$f":"COUNTIF(MKX$3:MKZ$31,$A65)","v":0},null,null,null,{"$f":"COUNTIF(MLB$3:MLD$31,$A65)","v":0},null,null,null,{"$f":"COUNTIF(MLF$3:MLH$31,$A65)","v":0},null,null,null,{"$f":"COUNTIF(MLJ$3:MLL$31,$A65)","v":0},null,null,null,{"$f":"COUNTIF(MLN$3:MLP$31,$A65)","v":0},null,null,null,{"$f":"COUNTIF(MLR$3:MLT$31,$A65)","v":0},null,null,null,{"$f":"COUNTIF(MLV$3:MLX$31,$A65)","v":0},null,null,null,{"$f":"COUNTIF(MLZ$3:MMB$31,$A65)","v":0},null,null,null,{"$f":"COUNTIF(MMD$3:MMF$31,$A65)","v":0},null,null,null,{"$f":"COUNTIF(MMH$3:MMJ$31,$A65)","v":0},null,null,null,{"$f":"COUNTIF(MML$3:MMN$31,$A65)","v":0},null,null,null,{"$f":"COUNTIF(MMP$3:MMR$31,$A65)","v":0},null,null,null,{"$f":"COUNTIF(MMT$3:MMV$31,$A65)","v":0},null,null,null,{"$f":"COUNTIF(MMX$3:MMZ$31,$A65)","v":0},null,null,null,{"$f":"COUNTIF(MNB$3:MND$31,$A65)","v":0},null,null,null,{"$f":"COUNTIF(MNF$3:MNH$31,$A65)","v":0},null,null,null,{"$f":"COUNTIF(MNJ$3:MNL$31,$A65)","v":0},null,null,null,{"$f":"COUNTIF(MNN$3:MNP$31,$A65)","v":0},null,null,null,{"$f":"COUNTIF(MNR$3:MNT$31,$A65)","v":0},null,null,null,{"$f":"COUNTIF(MNV$3:MNX$31,$A65)","v":0},null,null,null,{"$f":"COUNTIF(MNZ$3:MOB$31,$A65)","v":0},null,null,null,{"$f":"COUNTIF(MOD$3:MOF$31,$A65)","v":0},null,null,null,{"$f":"COUNTIF(MOH$3:MOJ$31,$A65)","v":0},null,null,null,{"$f":"COUNTIF(MOL$3:MON$31,$A65)","v":0},null,null,null,{"$f":"COUNTIF(MOP$3:MOR$31,$A65)","v":0},null,null,null,{"$f":"COUNTIF(MOT$3:MOV$31,$A65)","v":0},null,null,null,{"$f":"COUNTIF(MOX$3:MOZ$31,$A65)","v":0},null,null,null,{"$f":"COUNTIF(MPB$3:MPD$31,$A65)","v":0},null,null,null,{"$f":"COUNTIF(MPF$3:MPH$31,$A65)","v":0},null,null,null,{"$f":"COUNTIF(MPJ$3:MPL$31,$A65)","v":0},null,null,null,{"$f":"COUNTIF(MPN$3:MPP$31,$A65)","v":0},null,null,null,{"$f":"COUNTIF(MPR$3:MPT$31,$A65)","v":0},null,null,null,{"$f":"COUNTIF(MPV$3:MPX$31,$A65)","v":0},null,null,null,{"$f":"COUNTIF(MPZ$3:MQB$31,$A65)","v":0},null,null,null,{"$f":"COUNTIF(MQD$3:MQF$31,$A65)","v":0},null,null,null,{"$f":"COUNTIF(MQH$3:MQJ$31,$A65)","v":0},null,null,null,{"$f":"COUNTIF(MQL$3:MQN$31,$A65)","v":0},null,null,null,{"$f":"COUNTIF(MQP$3:MQR$31,$A65)","v":0},null,null,null,{"$f":"COUNTIF(MQT$3:MQV$31,$A65)","v":0},null,null,null,{"$f":"COUNTIF(MQX$3:MQZ$31,$A65)","v":0},null,null,null,{"$f":"COUNTIF(MRB$3:MRD$31,$A65)","v":0},null,null,null,{"$f":"COUNTIF(MRF$3:MRH$31,$A65)","v":0},null,null,null,{"$f":"COUNTIF(MRJ$3:MRL$31,$A65)","v":0},null,null,null,{"$f":"COUNTIF(MRN$3:MRP$31,$A65)","v":0},null,null,null,{"$f":"COUNTIF(MRR$3:MRT$31,$A65)","v":0},null,null,null,{"$f":"COUNTIF(MRV$3:MRX$31,$A65)","v":0},null,null,null,{"$f":"COUNTIF(MRZ$3:MSB$31,$A65)","v":0},null,null,null,{"$f":"COUNTIF(MSD$3:MSF$31,$A65)","v":0},null,null,null,{"$f":"COUNTIF(MSH$3:MSJ$31,$A65)","v":0},null,null,null,{"$f":"COUNTIF(MSL$3:MSN$31,$A65)","v":0},null,null,null,{"$f":"COUNTIF(MSP$3:MSR$31,$A65)","v":0},null,null,null,{"$f":"COUNTIF(MST$3:MSV$31,$A65)","v":0},null,null,null,{"$f":"COUNTIF(MSX$3:MSZ$31,$A65)","v":0},null,null,null,{"$f":"COUNTIF(MTB$3:MTD$31,$A65)","v":0},null,null,null,{"$f":"COUNTIF(MTF$3:MTH$31,$A65)","v":0},null,null,null,{"$f":"COUNTIF(MTJ$3:MTL$31,$A65)","v":0},null,null,null,{"$f":"COUNTIF(MTN$3:MTP$31,$A65)","v":0},null,null,null,{"$f":"COUNTIF(MTR$3:MTT$31,$A65)","v":0},null,null,null,{"$f":"COUNTIF(MTV$3:MTX$31,$A65)","v":0},null,null,null,{"$f":"COUNTIF(MTZ$3:MUB$31,$A65)","v":0},null,null,null,{"$f":"COUNTIF(MUD$3:MUF$31,$A65)","v":0},null,null,null,{"$f":"COUNTIF(MUH$3:MUJ$31,$A65)","v":0},null,null,null,{"$f":"COUNTIF(MUL$3:MUN$31,$A65)","v":0},null,null,null,{"$f":"COUNTIF(MUP$3:MUR$31,$A65)","v":0},null,null,null,{"$f":"COUNTIF(MUT$3:MUV$31,$A65)","v":0},null,null,null,{"$f":"COUNTIF(MUX$3:MUZ$31,$A65)","v":0},null,null,null,{"$f":"COUNTIF(MVB$3:MVD$31,$A65)","v":0},null,null,null,{"$f":"COUNTIF(MVF$3:MVH$31,$A65)","v":0},null,null,null,{"$f":"COUNTIF(MVJ$3:MVL$31,$A65)","v":0},null,null,null,{"$f":"COUNTIF(MVN$3:MVP$31,$A65)","v":0},null,null,null,{"$f":"COUNTIF(MVR$3:MVT$31,$A65)","v":0},null,null,null,{"$f":"COUNTIF(MVV$3:MVX$31,$A65)","v":0},null,null,null,{"$f":"COUNTIF(MVZ$3:MWB$31,$A65)","v":0},null,null,null,{"$f":"COUNTIF(MWD$3:MWF$31,$A65)","v":0},null,null,null,{"$f":"COUNTIF(MWH$3:MWJ$31,$A65)","v":0},null,null,null,{"$f":"COUNTIF(MWL$3:MWN$31,$A65)","v":0},null,null,null,{"$f":"COUNTIF(MWP$3:MWR$31,$A65)","v":0},null,null,null,{"$f":"COUNTIF(MWT$3:MWV$31,$A65)","v":0},null,null,null,{"$f":"COUNTIF(MWX$3:MWZ$31,$A65)","v":0},null,null,null,{"$f":"COUNTIF(MXB$3:MXD$31,$A65)","v":0},null,null,null,{"$f":"COUNTIF(MXF$3:MXH$31,$A65)","v":0},null,null,null,{"$f":"COUNTIF(MXJ$3:MXL$31,$A65)","v":0},null,null,null,{"$f":"COUNTIF(MXN$3:MXP$31,$A65)","v":0},null,null,null,{"$f":"COUNTIF(MXR$3:MXT$31,$A65)","v":0},null,null,null,{"$f":"COUNTIF(MXV$3:MXX$31,$A65)","v":0},null,null,null,{"$f":"COUNTIF(MXZ$3:MYB$31,$A65)","v":0},null,null,null,{"$f":"COUNTIF(MYD$3:MYF$31,$A65)","v":0},null,null,null,{"$f":"COUNTIF(MYH$3:MYJ$31,$A65)","v":0},null,null,null,{"$f":"COUNTIF(MYL$3:MYN$31,$A65)","v":0},null,null,null,{"$f":"COUNTIF(MYP$3:MYR$31,$A65)","v":0},null,null,null,{"$f":"COUNTIF(MYT$3:MYV$31,$A65)","v":0},null,null,null,{"$f":"COUNTIF(MYX$3:MYZ$31,$A65)","v":0},null,null,null,{"$f":"COUNTIF(MZB$3:MZD$31,$A65)","v":0},null,null,null,{"$f":"COUNTIF(MZF$3:MZH$31,$A65)","v":0},null,null,null,{"$f":"COUNTIF(MZJ$3:MZL$31,$A65)","v":0},null,null,null,{"$f":"COUNTIF(MZN$3:MZP$31,$A65)","v":0},null,null,null,{"$f":"COUNTIF(MZR$3:MZT$31,$A65)","v":0},null,null,null,{"$f":"COUNTIF(MZV$3:MZX$31,$A65)","v":0},null,null,null,{"$f":"COUNTIF(MZZ$3:NAB$31,$A65)","v":0},null,null,null,{"$f":"COUNTIF(NAD$3:NAF$31,$A65)","v":0},null,null,null,{"$f":"COUNTIF(NAH$3:NAJ$31,$A65)","v":0},null,null,null,{"$f":"COUNTIF(NAL$3:NAN$31,$A65)","v":0},null,null,null,{"$f":"COUNTIF(NAP$3:NAR$31,$A65)","v":0},null,null,null,{"$f":"COUNTIF(NAT$3:NAV$31,$A65)","v":0},null,null,null,{"$f":"COUNTIF(NAX$3:NAZ$31,$A65)","v":0},null,null,null,{"$f":"COUNTIF(NBB$3:NBD$31,$A65)","v":0},null,null,null,{"$f":"COUNTIF(NBF$3:NBH$31,$A65)","v":0},null,null,null,{"$f":"COUNTIF(NBJ$3:NBL$31,$A65)","v":0},null,null,null,{"$f":"COUNTIF(NBN$3:NBP$31,$A65)","v":0},null,null,null,{"$f":"COUNTIF(NBR$3:NBT$31,$A65)","v":0},null,null,null,{"$f":"COUNTIF(NBV$3:NBX$31,$A65)","v":0},null,null,null,{"$f":"COUNTIF(NBZ$3:NCB$31,$A65)","v":0},null,null,null,{"$f":"COUNTIF(NCD$3:NCF$31,$A65)","v":0},null,null,null,{"$f":"COUNTIF(NCH$3:NCJ$31,$A65)","v":0},null,null,null,{"$f":"COUNTIF(NCL$3:NCN$31,$A65)","v":0},null,null,null,{"$f":"COUNTIF(NCP$3:NCR$31,$A65)","v":0},null,null,null,{"$f":"COUNTIF(NCT$3:NCV$31,$A65)","v":0},null,null,null,{"$f":"COUNTIF(NCX$3:NCZ$31,$A65)","v":0},null,null,null,{"$f":"COUNTIF(NDB$3:NDD$31,$A65)","v":0},null,null,null,{"$f":"COUNTIF(NDF$3:NDH$31,$A65)","v":0},null,null,null,{"$f":"COUNTIF(NDJ$3:NDL$31,$A65)","v":0},null,null,null,{"$f":"COUNTIF(NDN$3:NDP$31,$A65)","v":0},null,null,null,{"$f":"COUNTIF(NDR$3:NDT$31,$A65)","v":0},null,null,null,{"$f":"COUNTIF(NDV$3:NDX$31,$A65)","v":0},null,null,null,{"$f":"COUNTIF(NDZ$3:NEB$31,$A65)","v":0},null,null,null,{"$f":"COUNTIF(NED$3:NEF$31,$A65)","v":0},null,null,null,{"$f":"COUNTIF(NEH$3:NEJ$31,$A65)","v":0},null,null,null,{"$f":"COUNTIF(NEL$3:NEN$31,$A65)","v":0},null,null,null,{"$f":"COUNTIF(NEP$3:NER$31,$A65)","v":0},null,null,null,{"$f":"COUNTIF(NET$3:NEV$31,$A65)","v":0},null,null,null,{"$f":"COUNTIF(NEX$3:NEZ$31,$A65)","v":0},null,null,null,{"$f":"COUNTIF(NFB$3:NFD$31,$A65)","v":0},null,null,null,{"$f":"COUNTIF(NFF$3:NFH$31,$A65)","v":0},null,null,null,{"$f":"COUNTIF(NFJ$3:NFL$31,$A65)","v":0},null,null,null,{"$f":"COUNTIF(NFN$3:NFP$31,$A65)","v":0},null,null,null,{"$f":"COUNTIF(NFR$3:NFT$31,$A65)","v":0},null,null,null,{"$f":"COUNTIF(NFV$3:NFX$31,$A65)","v":0},null,null,null,{"$f":"COUNTIF(NFZ$3:NGB$31,$A65)","v":0},null,null,null,{"$f":"COUNTIF(NGD$3:NGF$31,$A65)","v":0},null,null,null,{"$f":"COUNTIF(NGH$3:NGJ$31,$A65)","v":0},null,null,null,{"$f":"COUNTIF(NGL$3:NGN$31,$A65)","v":0},null,null,null,{"$f":"COUNTIF(NGP$3:NGR$31,$A65)","v":0},null,null,null,{"$f":"COUNTIF(NGT$3:NGV$31,$A65)","v":0},null,null,null,{"$f":"COUNTIF(NGX$3:NGZ$31,$A65)","v":0},null,null,null,{"$f":"COUNTIF(NHB$3:NHD$31,$A65)","v":0},null,null,null,{"$f":"COUNTIF(NHF$3:NHH$31,$A65)","v":0},null,null,null,{"$f":"COUNTIF(NHJ$3:NHL$31,$A65)","v":0},null,null,null,{"$f":"COUNTIF(NHN$3:NHP$31,$A65)","v":0},null,null,null,{"$f":"COUNTIF(NHR$3:NHT$31,$A65)","v":0},null,null,null,{"$f":"COUNTIF(NHV$3:NHX$31,$A65)","v":0},null,null,null,{"$f":"COUNTIF(NHZ$3:NIB$31,$A65)","v":0},null,null,null,{"$f":"COUNTIF(NID$3:NIF$31,$A65)","v":0},null,null,null,{"$f":"COUNTIF(NIH$3:NIJ$31,$A65)","v":0},null,null,null,{"$f":"COUNTIF(NIL$3:NIN$31,$A65)","v":0},null,null,null,{"$f":"COUNTIF(NIP$3:NIR$31,$A65)","v":0},null,null,null,{"$f":"COUNTIF(NIT$3:NIV$31,$A65)","v":0},null,null,null,{"$f":"COUNTIF(NIX$3:NIZ$31,$A65)","v":0},null,null,null,{"$f":"COUNTIF(NJB$3:NJD$31,$A65)","v":0},null,null,null,{"$f":"COUNTIF(NJF$3:NJH$31,$A65)","v":0},null,null,null,{"$f":"COUNTIF(NJJ$3:NJL$31,$A65)","v":0},null,null,null,{"$f":"COUNTIF(NJN$3:NJP$31,$A65)","v":0},null,null,null,{"$f":"COUNTIF(NJR$3:NJT$31,$A65)","v":0},null,null,null,{"$f":"COUNTIF(NJV$3:NJX$31,$A65)","v":0},null,null,null,{"$f":"COUNTIF(NJZ$3:NKB$31,$A65)","v":0},null,null,null,{"$f":"COUNTIF(NKD$3:NKF$31,$A65)","v":0},null,null,null,{"$f":"COUNTIF(NKH$3:NKJ$31,$A65)","v":0},null,null,null,{"$f":"COUNTIF(NKL$3:NKN$31,$A65)","v":0},null,null,null,{"$f":"COUNTIF(NKP$3:NKR$31,$A65)","v":0},null,null,null,{"$f":"COUNTIF(NKT$3:NKV$31,$A65)","v":0},null,null,null,{"$f":"COUNTIF(NKX$3:NKZ$31,$A65)","v":0},null,null,null,{"$f":"COUNTIF(NLB$3:NLD$31,$A65)","v":0},null,null,null,{"$f":"COUNTIF(NLF$3:NLH$31,$A65)","v":0},null,null,null,{"$f":"COUNTIF(NLJ$3:NLL$31,$A65)","v":0},null,null,null,{"$f":"COUNTIF(NLN$3:NLP$31,$A65)","v":0},null,null,null,{"$f":"COUNTIF(NLR$3:NLT$31,$A65)","v":0},null,null,null,{"$f":"COUNTIF(NLV$3:NLX$31,$A65)","v":0},null,null,null,{"$f":"COUNTIF(NLZ$3:NMB$31,$A65)","v":0},null,null,null,{"$f":"COUNTIF(NMD$3:NMF$31,$A65)","v":0},null,null,null,{"$f":"COUNTIF(NMH$3:NMJ$31,$A65)","v":0},null,null,null,{"$f":"COUNTIF(NML$3:NMN$31,$A65)","v":0},null,null,null,{"$f":"COUNTIF(NMP$3:NMR$31,$A65)","v":0},null,null,null,{"$f":"COUNTIF(NMT$3:NMV$31,$A65)","v":0},null,null,null,{"$f":"COUNTIF(NMX$3:NMZ$31,$A65)","v":0},null,null,null,{"$f":"COUNTIF(NNB$3:NND$31,$A65)","v":0},null,null,null,{"$f":"COUNTIF(NNF$3:NNH$31,$A65)","v":0},null,null,null,{"$f":"COUNTIF(NNJ$3:NNL$31,$A65)","v":0},null,null,null,{"$f":"COUNTIF(NNN$3:NNP$31,$A65)","v":0},null,null,null,{"$f":"COUNTIF(NNR$3:NNT$31,$A65)","v":0},null,null,null,{"$f":"COUNTIF(NNV$3:NNX$31,$A65)","v":0},null,null,null,{"$f":"COUNTIF(NNZ$3:NOB$31,$A65)","v":0},null,null,null,{"$f":"COUNTIF(NOD$3:NOF$31,$A65)","v":0},null,null,null,{"$f":"COUNTIF(NOH$3:NOJ$31,$A65)","v":0},null,null,null,{"$f":"COUNTIF(NOL$3:NON$31,$A65)","v":0},null,null,null,{"$f":"COUNTIF(NOP$3:NOR$31,$A65)","v":0},null,null,null,{"$f":"COUNTIF(NOT$3:NOV$31,$A65)","v":0},null,null,null,{"$f":"COUNTIF(NOX$3:NOZ$31,$A65)","v":0},null,null,null,{"$f":"COUNTIF(NPB$3:NPD$31,$A65)","v":0},null,null,null,{"$f":"COUNTIF(NPF$3:NPH$31,$A65)","v":0},null,null,null,{"$f":"COUNTIF(NPJ$3:NPL$31,$A65)","v":0},null,null,null,{"$f":"COUNTIF(NPN$3:NPP$31,$A65)","v":0},null,null,null,{"$f":"COUNTIF(NPR$3:NPT$31,$A65)","v":0},null,null,null,{"$f":"COUNTIF(NPV$3:NPX$31,$A65)","v":0},null,null,null,{"$f":"COUNTIF(NPZ$3:NQB$31,$A65)","v":0},null,null,null,{"$f":"COUNTIF(NQD$3:NQF$31,$A65)","v":0},null,null,null,{"$f":"COUNTIF(NQH$3:NQJ$31,$A65)","v":0},null,null,null,{"$f":"COUNTIF(NQL$3:NQN$31,$A65)","v":0},null,null,null,{"$f":"COUNTIF(NQP$3:NQR$31,$A65)","v":0},null,null,null,{"$f":"COUNTIF(NQT$3:NQV$31,$A65)","v":0},null,null,null,{"$f":"COUNTIF(NQX$3:NQZ$31,$A65)","v":0},null,null,null,{"$f":"COUNTIF(NRB$3:NRD$31,$A65)","v":0},null,null,null,{"$f":"COUNTIF(NRF$3:NRH$31,$A65)","v":0},null,null,null,{"$f":"COUNTIF(NRJ$3:NRL$31,$A65)","v":0},null,null,null,{"$f":"COUNTIF(NRN$3:NRP$31,$A65)","v":0},null,null,null,{"$f":"COUNTIF(NRR$3:NRT$31,$A65)","v":0},null,null,null,{"$f":"COUNTIF(NRV$3:NRX$31,$A65)","v":0},null,null,null,{"$f":"COUNTIF(NRZ$3:NSB$31,$A65)","v":0},null,null,null,{"$f":"COUNTIF(NSD$3:NSF$31,$A65)","v":0},null,null,null,{"$f":"COUNTIF(NSH$3:NSJ$31,$A65)","v":0},null,null,null,{"$f":"COUNTIF(NSL$3:NSN$31,$A65)","v":0},null,null,null,{"$f":"COUNTIF(NSP$3:NSR$31,$A65)","v":0},null,null,null,{"$f":"COUNTIF(NST$3:NSV$31,$A65)","v":0},null,null,null,{"$f":"COUNTIF(NSX$3:NSZ$31,$A65)","v":0},null,null,null,{"$f":"COUNTIF(NTB$3:NTD$31,$A65)","v":0},null,null,null,{"$f":"COUNTIF(NTF$3:NTH$31,$A65)","v":0},null,null,null,{"$f":"COUNTIF(NTJ$3:NTL$31,$A65)","v":0},null,null,null,{"$f":"COUNTIF(NTN$3:NTP$31,$A65)","v":0},null,null,null,{"$f":"COUNTIF(NTR$3:NTT$31,$A65)","v":0},null,null,null,{"$f":"COUNTIF(NTV$3:NTX$31,$A65)","v":0},null,null,null,{"$f":"COUNTIF(NTZ$3:NUB$31,$A65)","v":0},null,null,null,{"$f":"COUNTIF(NUD$3:NUF$31,$A65)","v":0},null,null,null,{"$f":"COUNTIF(NUH$3:NUJ$31,$A65)","v":0},null,null,null,{"$f":"COUNTIF(NUL$3:NUN$31,$A65)","v":0},null,null,null,{"$f":"COUNTIF(NUP$3:NUR$31,$A65)","v":0},null,null,null,{"$f":"COUNTIF(NUT$3:NUV$31,$A65)","v":0},null,null,null,{"$f":"COUNTIF(NUX$3:NUZ$31,$A65)","v":0},null,null,null,{"$f":"COUNTIF(NVB$3:NVD$31,$A65)","v":0},null,null,null,{"$f":"COUNTIF(NVF$3:NVH$31,$A65)","v":0},null,null,null,{"$f":"COUNTIF(NVJ$3:NVL$31,$A65)","v":0},null,null,null,{"$f":"COUNTIF(NVN$3:NVP$31,$A65)","v":0},null,null,null,{"$f":"COUNTIF(NVR$3:NVT$31,$A65)","v":0},null,null,null,{"$f":"COUNTIF(NVV$3:NVX$31,$A65)","v":0},null,null,null,{"$f":"COUNTIF(NVZ$3:NWB$31,$A65)","v":0},null,null,null,{"$f":"COUNTIF(NWD$3:NWF$31,$A65)","v":0},null,null,null,{"$f":"COUNTIF(NWH$3:NWJ$31,$A65)","v":0},null,null,null,{"$f":"COUNTIF(NWL$3:NWN$31,$A65)","v":0},null,null,null,{"$f":"COUNTIF(NWP$3:NWR$31,$A65)","v":0},null,null,null,{"$f":"COUNTIF(NWT$3:NWV$31,$A65)","v":0},null,null,null,{"$f":"COUNTIF(NWX$3:NWZ$31,$A65)","v":0},null,null,null,{"$f":"COUNTIF(NXB$3:NXD$31,$A65)","v":0},null,null,null,{"$f":"COUNTIF(NXF$3:NXH$31,$A65)","v":0},null,null,null,{"$f":"COUNTIF(NXJ$3:NXL$31,$A65)","v":0},null,null,null,{"$f":"COUNTIF(NXN$3:NXP$31,$A65)","v":0},null,null,null,{"$f":"COUNTIF(NXR$3:NXT$31,$A65)","v":0},null,null,null,{"$f":"COUNTIF(NXV$3:NXX$31,$A65)","v":0},null,null,null,{"$f":"COUNTIF(NXZ$3:NYB$31,$A65)","v":0},null,null,null,{"$f":"COUNTIF(NYD$3:NYF$31,$A65)","v":0},null,null,null,{"$f":"COUNTIF(NYH$3:NYJ$31,$A65)","v":0},null,null,null,{"$f":"COUNTIF(NYL$3:NYN$31,$A65)","v":0},null,null,null,{"$f":"COUNTIF(NYP$3:NYR$31,$A65)","v":0},null,null,null,{"$f":"COUNTIF(NYT$3:NYV$31,$A65)","v":0},null,null,null,{"$f":"COUNTIF(NYX$3:NYZ$31,$A65)","v":0},null,null,null,{"$f":"COUNTIF(NZB$3:NZD$31,$A65)","v":0},null,null,null,{"$f":"COUNTIF(NZF$3:NZH$31,$A65)","v":0},null,null,null,{"$f":"COUNTIF(NZJ$3:NZL$31,$A65)","v":0},null,null,null,{"$f":"COUNTIF(NZN$3:NZP$31,$A65)","v":0},null,null,null,{"$f":"COUNTIF(NZR$3:NZT$31,$A65)","v":0},null,null,null,{"$f":"COUNTIF(NZV$3:NZX$31,$A65)","v":0},null,null,null,{"$f":"COUNTIF(NZZ$3:OAB$31,$A65)","v":0},null,null,null,{"$f":"COUNTIF(OAD$3:OAF$31,$A65)","v":0},null,null,null,{"$f":"COUNTIF(OAH$3:OAJ$31,$A65)","v":0},null,null,null,{"$f":"COUNTIF(OAL$3:OAN$31,$A65)","v":0},null,null,null,{"$f":"COUNTIF(OAP$3:OAR$31,$A65)","v":0},null,null,null,{"$f":"COUNTIF(OAT$3:OAV$31,$A65)","v":0},null,null,null,{"$f":"COUNTIF(OAX$3:OAZ$31,$A65)","v":0},null,null,null,{"$f":"COUNTIF(OBB$3:OBD$31,$A65)","v":0},null,null,null,{"$f":"COUNTIF(OBF$3:OBH$31,$A65)","v":0},null,null,null,{"$f":"COUNTIF(OBJ$3:OBL$31,$A65)","v":0},null,null,null,{"$f":"COUNTIF(OBN$3:OBP$31,$A65)","v":0},null,null,null,{"$f":"COUNTIF(OBR$3:OBT$31,$A65)","v":0},null,null,null,{"$f":"COUNTIF(OBV$3:OBX$31,$A65)","v":0},null,null,null,{"$f":"COUNTIF(OBZ$3:OCB$31,$A65)","v":0},null,null,null,{"$f":"COUNTIF(OCD$3:OCF$31,$A65)","v":0},null,null,null,{"$f":"COUNTIF(OCH$3:OCJ$31,$A65)","v":0},null,null,null,{"$f":"COUNTIF(OCL$3:OCN$31,$A65)","v":0},null,null,null,{"$f":"COUNTIF(OCP$3:OCR$31,$A65)","v":0},null,null,null,{"$f":"COUNTIF(OCT$3:OCV$31,$A65)","v":0},null,null,null,{"$f":"COUNTIF(OCX$3:OCZ$31,$A65)","v":0},null,null,null,{"$f":"COUNTIF(ODB$3:ODD$31,$A65)","v":0},null,null,null,{"$f":"COUNTIF(ODF$3:ODH$31,$A65)","v":0},null,null,null,{"$f":"COUNTIF(ODJ$3:ODL$31,$A65)","v":0},null,null,null,{"$f":"COUNTIF(ODN$3:ODP$31,$A65)","v":0},null,null,null,{"$f":"COUNTIF(ODR$3:ODT$31,$A65)","v":0},null,null,null,{"$f":"COUNTIF(ODV$3:ODX$31,$A65)","v":0},null,null,null,{"$f":"COUNTIF(ODZ$3:OEB$31,$A65)","v":0},null,null,null,{"$f":"COUNTIF(OED$3:OEF$31,$A65)","v":0},null,null,null,{"$f":"COUNTIF(OEH$3:OEJ$31,$A65)","v":0},null,null,null,{"$f":"COUNTIF(OEL$3:OEN$31,$A65)","v":0},null,null,null,{"$f":"COUNTIF(OEP$3:OER$31,$A65)","v":0},null,null,null,{"$f":"COUNTIF(OET$3:OEV$31,$A65)","v":0},null,null,null,{"$f":"COUNTIF(OEX$3:OEZ$31,$A65)","v":0},null,null,null,{"$f":"COUNTIF(OFB$3:OFD$31,$A65)","v":0},null,null,null,{"$f":"COUNTIF(OFF$3:OFH$31,$A65)","v":0},null,null,null,{"$f":"COUNTIF(OFJ$3:OFL$31,$A65)","v":0},null,null,null,{"$f":"COUNTIF(OFN$3:OFP$31,$A65)","v":0},null,null,null,{"$f":"COUNTIF(OFR$3:OFT$31,$A65)","v":0},null,null,null,{"$f":"COUNTIF(OFV$3:OFX$31,$A65)","v":0},null,null,null,{"$f":"COUNTIF(OFZ$3:OGB$31,$A65)","v":0},null,null,null,{"$f":"COUNTIF(OGD$3:OGF$31,$A65)","v":0},null,null,null,{"$f":"COUNTIF(OGH$3:OGJ$31,$A65)","v":0},null,null,null,{"$f":"COUNTIF(OGL$3:OGN$31,$A65)","v":0},null,null,null,{"$f":"COUNTIF(OGP$3:OGR$31,$A65)","v":0},null,null,null,{"$f":"COUNTIF(OGT$3:OGV$31,$A65)","v":0},null,null,null,{"$f":"COUNTIF(OGX$3:OGZ$31,$A65)","v":0},null,null,null,{"$f":"COUNTIF(OHB$3:OHD$31,$A65)","v":0},null,null,null,{"$f":"COUNTIF(OHF$3:OHH$31,$A65)","v":0},null,null,null,{"$f":"COUNTIF(OHJ$3:OHL$31,$A65)","v":0},null,null,null,{"$f":"COUNTIF(OHN$3:OHP$31,$A65)","v":0},null,null,null,{"$f":"COUNTIF(OHR$3:OHT$31,$A65)","v":0},null,null,null,{"$f":"COUNTIF(OHV$3:OHX$31,$A65)","v":0},null,null,null,{"$f":"COUNTIF(OHZ$3:OIB$31,$A65)","v":0},null,null,null,{"$f":"COUNTIF(OID$3:OIF$31,$A65)","v":0},null,null,null,{"$f":"COUNTIF(OIH$3:OIJ$31,$A65)","v":0},null,null,null,{"$f":"COUNTIF(OIL$3:OIN$31,$A65)","v":0},null,null,null,{"$f":"COUNTIF(OIP$3:OIR$31,$A65)","v":0},null,null,null,{"$f":"COUNTIF(OIT$3:OIV$31,$A65)","v":0},null,null,null,{"$f":"COUNTIF(OIX$3:OIZ$31,$A65)","v":0},null,null,null,{"$f":"COUNTIF(OJB$3:OJD$31,$A65)","v":0},null,null,null,{"$f":"COUNTIF(OJF$3:OJH$31,$A65)","v":0},null,null,null,{"$f":"COUNTIF(OJJ$3:OJL$31,$A65)","v":0},null,null,null,{"$f":"COUNTIF(OJN$3:OJP$31,$A65)","v":0},null,null,null,{"$f":"COUNTIF(OJR$3:OJT$31,$A65)","v":0},null,null,null,{"$f":"COUNTIF(OJV$3:OJX$31,$A65)","v":0},null,null,null,{"$f":"COUNTIF(OJZ$3:OKB$31,$A65)","v":0},null,null,null,{"$f":"COUNTIF(OKD$3:OKF$31,$A65)","v":0},null,null,null,{"$f":"COUNTIF(OKH$3:OKJ$31,$A65)","v":0},null,null,null,{"$f":"COUNTIF(OKL$3:OKN$31,$A65)","v":0},null,null,null,{"$f":"COUNTIF(OKP$3:OKR$31,$A65)","v":0},null,null,null,{"$f":"COUNTIF(OKT$3:OKV$31,$A65)","v":0},null,null,null,{"$f":"COUNTIF(OKX$3:OKZ$31,$A65)","v":0},null,null,null,{"$f":"COUNTIF(OLB$3:OLD$31,$A65)","v":0},null,null,null,{"$f":"COUNTIF(OLF$3:OLH$31,$A65)","v":0},null,null,null,{"$f":"COUNTIF(OLJ$3:OLL$31,$A65)","v":0},null,null,null,{"$f":"COUNTIF(OLN$3:OLP$31,$A65)","v":0},null,null,null,{"$f":"COUNTIF(OLR$3:OLT$31,$A65)","v":0},null,null,null,{"$f":"COUNTIF(OLV$3:OLX$31,$A65)","v":0},null,null,null,{"$f":"COUNTIF(OLZ$3:OMB$31,$A65)","v":0},null,null,null,{"$f":"COUNTIF(OMD$3:OMF$31,$A65)","v":0},null,null,null,{"$f":"COUNTIF(OMH$3:OMJ$31,$A65)","v":0},null,null,null,{"$f":"COUNTIF(OML$3:OMN$31,$A65)","v":0},null,null,null,{"$f":"COUNTIF(OMP$3:OMR$31,$A65)","v":0},null,null,null,{"$f":"COUNTIF(OMT$3:OMV$31,$A65)","v":0},null,null,null,{"$f":"COUNTIF(OMX$3:OMZ$31,$A65)","v":0},null,null,null,{"$f":"COUNTIF(ONB$3:OND$31,$A65)","v":0},null,null,null,{"$f":"COUNTIF(ONF$3:ONH$31,$A65)","v":0},null,null,null,{"$f":"COUNTIF(ONJ$3:ONL$31,$A65)","v":0},null,null,null,{"$f":"COUNTIF(ONN$3:ONP$31,$A65)","v":0},null,null,null,{"$f":"COUNTIF(ONR$3:ONT$31,$A65)","v":0},null,null,null,{"$f":"COUNTIF(ONV$3:ONX$31,$A65)","v":0},null,null,null,{"$f":"COUNTIF(ONZ$3:OOB$31,$A65)","v":0},null,null,null,{"$f":"COUNTIF(OOD$3:OOF$31,$A65)","v":0},null,null,null,{"$f":"COUNTIF(OOH$3:OOJ$31,$A65)","v":0},null,null,null,{"$f":"COUNTIF(OOL$3:OON$31,$A65)","v":0},null,null,null,{"$f":"COUNTIF(OOP$3:OOR$31,$A65)","v":0},null,null,null,{"$f":"COUNTIF(OOT$3:OOV$31,$A65)","v":0},null,null,null,{"$f":"COUNTIF(OOX$3:OOZ$31,$A65)","v":0},null,null,null,{"$f":"COUNTIF(OPB$3:OPD$31,$A65)","v":0},null,null,null,{"$f":"COUNTIF(OPF$3:OPH$31,$A65)","v":0},null,null,null,{"$f":"COUNTIF(OPJ$3:OPL$31,$A65)","v":0},null,null,null,{"$f":"COUNTIF(OPN$3:OPP$31,$A65)","v":0},null,null,null,{"$f":"COUNTIF(OPR$3:OPT$31,$A65)","v":0},null,null,null,{"$f":"COUNTIF(OPV$3:OPX$31,$A65)","v":0},null,null,null,{"$f":"COUNTIF(OPZ$3:OQB$31,$A65)","v":0},null,null,null,{"$f":"COUNTIF(OQD$3:OQF$31,$A65)","v":0},null,null,null,{"$f":"COUNTIF(OQH$3:OQJ$31,$A65)","v":0},null,null,null,{"$f":"COUNTIF(OQL$3:OQN$31,$A65)","v":0},null,null,null,{"$f":"COUNTIF(OQP$3:OQR$31,$A65)","v":0},null,null,null,{"$f":"COUNTIF(OQT$3:OQV$31,$A65)","v":0},null,null,null,{"$f":"COUNTIF(OQX$3:OQZ$31,$A65)","v":0},null,null,null,{"$f":"COUNTIF(ORB$3:ORD$31,$A65)","v":0},null,null,null,{"$f":"COUNTIF(ORF$3:ORH$31,$A65)","v":0},null,null,null,{"$f":"COUNTIF(ORJ$3:ORL$31,$A65)","v":0},null,null,null,{"$f":"COUNTIF(ORN$3:ORP$31,$A65)","v":0},null,null,null,{"$f":"COUNTIF(ORR$3:ORT$31,$A65)","v":0},null,null,null,{"$f":"COUNTIF(ORV$3:ORX$31,$A65)","v":0},null,null,null,{"$f":"COUNTIF(ORZ$3:OSB$31,$A65)","v":0},null,null,null,{"$f":"COUNTIF(OSD$3:OSF$31,$A65)","v":0},null,null,null,{"$f":"COUNTIF(OSH$3:OSJ$31,$A65)","v":0},null,null,null,{"$f":"COUNTIF(OSL$3:OSN$31,$A65)","v":0},null,null,null,{"$f":"COUNTIF(OSP$3:OSR$31,$A65)","v":0},null,null,null,{"$f":"COUNTIF(OST$3:OSV$31,$A65)","v":0},null,null,null,{"$f":"COUNTIF(OSX$3:OSZ$31,$A65)","v":0},null,null,null,{"$f":"COUNTIF(OTB$3:OTD$31,$A65)","v":0},null,null,null,{"$f":"COUNTIF(OTF$3:OTH$31,$A65)","v":0},null,null,null,{"$f":"COUNTIF(OTJ$3:OTL$31,$A65)","v":0},null,null,null,{"$f":"COUNTIF(OTN$3:OTP$31,$A65)","v":0},null,null,null,{"$f":"COUNTIF(OTR$3:OTT$31,$A65)","v":0},null,null,null,{"$f":"COUNTIF(OTV$3:OTX$31,$A65)","v":0},null,null,null,{"$f":"COUNTIF(OTZ$3:OUB$31,$A65)","v":0},null,null,null,{"$f":"COUNTIF(OUD$3:OUF$31,$A65)","v":0},null,null,null,{"$f":"COUNTIF(OUH$3:OUJ$31,$A65)","v":0},null,null,null,{"$f":"COUNTIF(OUL$3:OUN$31,$A65)","v":0},null,null,null,{"$f":"COUNTIF(OUP$3:OUR$31,$A65)","v":0},null,null,null,{"$f":"COUNTIF(OUT$3:OUV$31,$A65)","v":0},null,null,null,{"$f":"COUNTIF(OUX$3:OUZ$31,$A65)","v":0},null,null,null,{"$f":"COUNTIF(OVB$3:OVD$31,$A65)","v":0},null,null,null,{"$f":"COUNTIF(OVF$3:OVH$31,$A65)","v":0},null,null,null,{"$f":"COUNTIF(OVJ$3:OVL$31,$A65)","v":0},null,null,null,{"$f":"COUNTIF(OVN$3:OVP$31,$A65)","v":0},null,null,null,{"$f":"COUNTIF(OVR$3:OVT$31,$A65)","v":0},null,null,null,{"$f":"COUNTIF(OVV$3:OVX$31,$A65)","v":0},null,null,null,{"$f":"COUNTIF(OVZ$3:OWB$31,$A65)","v":0},null,null,null,{"$f":"COUNTIF(OWD$3:OWF$31,$A65)","v":0},null,null,null,{"$f":"COUNTIF(OWH$3:OWJ$31,$A65)","v":0},null,null,null,{"$f":"COUNTIF(OWL$3:OWN$31,$A65)","v":0},null,null,null,{"$f":"COUNTIF(OWP$3:OWR$31,$A65)","v":0},null,null,null,{"$f":"COUNTIF(OWT$3:OWV$31,$A65)","v":0},null,null,null,{"$f":"COUNTIF(OWX$3:OWZ$31,$A65)","v":0},null,null,null,{"$f":"COUNTIF(OXB$3:OXD$31,$A65)","v":0},null,null,null,{"$f":"COUNTIF(OXF$3:OXH$31,$A65)","v":0},null,null,null,{"$f":"COUNTIF(OXJ$3:OXL$31,$A65)","v":0},null,null,null,{"$f":"COUNTIF(OXN$3:OXP$31,$A65)","v":0},null,null,null,{"$f":"COUNTIF(OXR$3:OXT$31,$A65)","v":0},null,null,null,{"$f":"COUNTIF(OXV$3:OXX$31,$A65)","v":0},null,null,null,{"$f":"COUNTIF(OXZ$3:OYB$31,$A65)","v":0},null,null,null,{"$f":"COUNTIF(OYD$3:OYF$31,$A65)","v":0},null,null,null,{"$f":"COUNTIF(OYH$3:OYJ$31,$A65)","v":0},null,null,null,{"$f":"COUNTIF(OYL$3:OYN$31,$A65)","v":0},null,null,null,{"$f":"COUNTIF(OYP$3:OYR$31,$A65)","v":0},null,null,null,{"$f":"COUNTIF(OYT$3:OYV$31,$A65)","v":0},null,null,null,{"$f":"COUNTIF(OYX$3:OYZ$31,$A65)","v":0},null,null,null,{"$f":"COUNTIF(OZB$3:OZD$31,$A65)","v":0},null,null,null,{"$f":"COUNTIF(OZF$3:OZH$31,$A65)","v":0},null,null,null,{"$f":"COUNTIF(OZJ$3:OZL$31,$A65)","v":0},null,null,null,{"$f":"COUNTIF(OZN$3:OZP$31,$A65)","v":0},null,null,null,{"$f":"COUNTIF(OZR$3:OZT$31,$A65)","v":0},null,null,null,{"$f":"COUNTIF(OZV$3:OZX$31,$A65)","v":0},null,null,null,{"$f":"COUNTIF(OZZ$3:PAB$31,$A65)","v":0},null,null,null,{"$f":"COUNTIF(PAD$3:PAF$31,$A65)","v":0},null,null,null,{"$f":"COUNTIF(PAH$3:PAJ$31,$A65)","v":0},null,null,null,{"$f":"COUNTIF(PAL$3:PAN$31,$A65)","v":0},null,null,null,{"$f":"COUNTIF(PAP$3:PAR$31,$A65)","v":0},null,null,null,{"$f":"COUNTIF(PAT$3:PAV$31,$A65)","v":0},null,null,null,{"$f":"COUNTIF(PAX$3:PAZ$31,$A65)","v":0},null,null,null,{"$f":"COUNTIF(PBB$3:PBD$31,$A65)","v":0},null,null,null,{"$f":"COUNTIF(PBF$3:PBH$31,$A65)","v":0},null,null,null,{"$f":"COUNTIF(PBJ$3:PBL$31,$A65)","v":0},null,null,null,{"$f":"COUNTIF(PBN$3:PBP$31,$A65)","v":0},null,null,null,{"$f":"COUNTIF(PBR$3:PBT$31,$A65)","v":0},null,null,null,{"$f":"COUNTIF(PBV$3:PBX$31,$A65)","v":0},null,null,null,{"$f":"COUNTIF(PBZ$3:PCB$31,$A65)","v":0},null,null,null,{"$f":"COUNTIF(PCD$3:PCF$31,$A65)","v":0},null,null,null,{"$f":"COUNTIF(PCH$3:PCJ$31,$A65)","v":0},null,null,null,{"$f":"COUNTIF(PCL$3:PCN$31,$A65)","v":0},null,null,null,{"$f":"COUNTIF(PCP$3:PCR$31,$A65)","v":0},null,null,null,{"$f":"COUNTIF(PCT$3:PCV$31,$A65)","v":0},null,null,null,{"$f":"COUNTIF(PCX$3:PCZ$31,$A65)","v":0},null,null,null,{"$f":"COUNTIF(PDB$3:PDD$31,$A65)","v":0},null,null,null,{"$f":"COUNTIF(PDF$3:PDH$31,$A65)","v":0},null,null,null,{"$f":"COUNTIF(PDJ$3:PDL$31,$A65)","v":0},null,null,null,{"$f":"COUNTIF(PDN$3:PDP$31,$A65)","v":0},null,null,null,{"$f":"COUNTIF(PDR$3:PDT$31,$A65)","v":0},null,null,null,{"$f":"COUNTIF(PDV$3:PDX$31,$A65)","v":0},null,null,null,{"$f":"COUNTIF(PDZ$3:PEB$31,$A65)","v":0},null,null,null,{"$f":"COUNTIF(PED$3:PEF$31,$A65)","v":0},null,null,null,{"$f":"COUNTIF(PEH$3:PEJ$31,$A65)","v":0},null,null,null,{"$f":"COUNTIF(PEL$3:PEN$31,$A65)","v":0},null,null,null,{"$f":"COUNTIF(PEP$3:PER$31,$A65)","v":0},null,null,null,{"$f":"COUNTIF(PET$3:PEV$31,$A65)","v":0},null,null,null,{"$f":"COUNTIF(PEX$3:PEZ$31,$A65)","v":0},null,null,null,{"$f":"COUNTIF(PFB$3:PFD$31,$A65)","v":0},null,null,null,{"$f":"COUNTIF(PFF$3:PFH$31,$A65)","v":0},null,null,null,{"$f":"COUNTIF(PFJ$3:PFL$31,$A65)","v":0},null,null,null,{"$f":"COUNTIF(PFN$3:PFP$31,$A65)","v":0},null,null,null,{"$f":"COUNTIF(PFR$3:PFT$31,$A65)","v":0},null,null,null,{"$f":"COUNTIF(PFV$3:PFX$31,$A65)","v":0},null,null,null,{"$f":"COUNTIF(PFZ$3:PGB$31,$A65)","v":0},null,null,null,{"$f":"COUNTIF(PGD$3:PGF$31,$A65)","v":0},null,null,null,{"$f":"COUNTIF(PGH$3:PGJ$31,$A65)","v":0},null,null,null,{"$f":"COUNTIF(PGL$3:PGN$31,$A65)","v":0},null,null,null,{"$f":"COUNTIF(PGP$3:PGR$31,$A65)","v":0},null,null,null,{"$f":"COUNTIF(PGT$3:PGV$31,$A65)","v":0},null,null,null,{"$f":"COUNTIF(PGX$3:PGZ$31,$A65)","v":0},null,null,null,{"$f":"COUNTIF(PHB$3:PHD$31,$A65)","v":0},null,null,null,{"$f":"COUNTIF(PHF$3:PHH$31,$A65)","v":0},null,null,null,{"$f":"COUNTIF(PHJ$3:PHL$31,$A65)","v":0},null,null,null,{"$f":"COUNTIF(PHN$3:PHP$31,$A65)","v":0},null,null,null,{"$f":"COUNTIF(PHR$3:PHT$31,$A65)","v":0},null,null,null,{"$f":"COUNTIF(PHV$3:PHX$31,$A65)","v":0},null,null,null,{"$f":"COUNTIF(PHZ$3:PIB$31,$A65)","v":0},null,null,null,{"$f":"COUNTIF(PID$3:PIF$31,$A65)","v":0},null,null,null,{"$f":"COUNTIF(PIH$3:PIJ$31,$A65)","v":0},null,null,null,{"$f":"COUNTIF(PIL$3:PIN$31,$A65)","v":0},null,null,null,{"$f":"COUNTIF(PIP$3:PIR$31,$A65)","v":0},null,null,null,{"$f":"COUNTIF(PIT$3:PIV$31,$A65)","v":0},null,null,null,{"$f":"COUNTIF(PIX$3:PIZ$31,$A65)","v":0},null,null,null,{"$f":"COUNTIF(PJB$3:PJD$31,$A65)","v":0},null,null,null,{"$f":"COUNTIF(PJF$3:PJH$31,$A65)","v":0},null,null,null,{"$f":"COUNTIF(PJJ$3:PJL$31,$A65)","v":0},null,null,null,{"$f":"COUNTIF(PJN$3:PJP$31,$A65)","v":0},null,null,null,{"$f":"COUNTIF(PJR$3:PJT$31,$A65)","v":0},null,null,null,{"$f":"COUNTIF(PJV$3:PJX$31,$A65)","v":0},null,null,null,{"$f":"COUNTIF(PJZ$3:PKB$31,$A65)","v":0},null,null,null,{"$f":"COUNTIF(PKD$3:PKF$31,$A65)","v":0},null,null,null,{"$f":"COUNTIF(PKH$3:PKJ$31,$A65)","v":0},null,null,null,{"$f":"COUNTIF(PKL$3:PKN$31,$A65)","v":0},null,null,null,{"$f":"COUNTIF(PKP$3:PKR$31,$A65)","v":0},null,null,null,{"$f":"COUNTIF(PKT$3:PKV$31,$A65)","v":0},null,null,null,{"$f":"COUNTIF(PKX$3:PKZ$31,$A65)","v":0},null,null,null,{"$f":"COUNTIF(PLB$3:PLD$31,$A65)","v":0},null,null,null,{"$f":"COUNTIF(PLF$3:PLH$31,$A65)","v":0},null,null,null,{"$f":"COUNTIF(PLJ$3:PLL$31,$A65)","v":0},null,null,null,{"$f":"COUNTIF(PLN$3:PLP$31,$A65)","v":0},null,null,null,{"$f":"COUNTIF(PLR$3:PLT$31,$A65)","v":0},null,null,null,{"$f":"COUNTIF(PLV$3:PLX$31,$A65)","v":0},null,null,null,{"$f":"COUNTIF(PLZ$3:PMB$31,$A65)","v":0},null,null,null,{"$f":"COUNTIF(PMD$3:PMF$31,$A65)","v":0},null,null,null,{"$f":"COUNTIF(PMH$3:PMJ$31,$A65)","v":0},null,null,null,{"$f":"COUNTIF(PML$3:PMN$31,$A65)","v":0},null,null,null,{"$f":"COUNTIF(PMP$3:PMR$31,$A65)","v":0},null,null,null,{"$f":"COUNTIF(PMT$3:PMV$31,$A65)","v":0},null,null,null,{"$f":"COUNTIF(PMX$3:PMZ$31,$A65)","v":0},null,null,null,{"$f":"COUNTIF(PNB$3:PND$31,$A65)","v":0},null,null,null,{"$f":"COUNTIF(PNF$3:PNH$31,$A65)","v":0},null,null,null,{"$f":"COUNTIF(PNJ$3:PNL$31,$A65)","v":0},null,null,null,{"$f":"COUNTIF(PNN$3:PNP$31,$A65)","v":0},null,null,null,{"$f":"COUNTIF(PNR$3:PNT$31,$A65)","v":0},null,null,null,{"$f":"COUNTIF(PNV$3:PNX$31,$A65)","v":0},null,null,null,{"$f":"COUNTIF(PNZ$3:POB$31,$A65)","v":0},null,null,null,{"$f":"COUNTIF(POD$3:POF$31,$A65)","v":0},null,null,null,{"$f":"COUNTIF(POH$3:POJ$31,$A65)","v":0},null,null,null,{"$f":"COUNTIF(POL$3:PON$31,$A65)","v":0},null,null,null,{"$f":"COUNTIF(POP$3:POR$31,$A65)","v":0},null,null,null,{"$f":"COUNTIF(POT$3:POV$31,$A65)","v":0},null,null,null,{"$f":"COUNTIF(POX$3:POZ$31,$A65)","v":0},null,null,null,{"$f":"COUNTIF(PPB$3:PPD$31,$A65)","v":0},null,null,null,{"$f":"COUNTIF(PPF$3:PPH$31,$A65)","v":0},null,null,null,{"$f":"COUNTIF(PPJ$3:PPL$31,$A65)","v":0},null,null,null,{"$f":"COUNTIF(PPN$3:PPP$31,$A65)","v":0},null,null,null,{"$f":"COUNTIF(PPR$3:PPT$31,$A65)","v":0},null,null,null,{"$f":"COUNTIF(PPV$3:PPX$31,$A65)","v":0},null,null,null,{"$f":"COUNTIF(PPZ$3:PQB$31,$A65)","v":0},null,null,null,{"$f":"COUNTIF(PQD$3:PQF$31,$A65)","v":0},null,null,null,{"$f":"COUNTIF(PQH$3:PQJ$31,$A65)","v":0},null,null,null,{"$f":"COUNTIF(PQL$3:PQN$31,$A65)","v":0},null,null,null,{"$f":"COUNTIF(PQP$3:PQR$31,$A65)","v":0},null,null,null,{"$f":"COUNTIF(PQT$3:PQV$31,$A65)","v":0},null,null,null,{"$f":"COUNTIF(PQX$3:PQZ$31,$A65)","v":0},null,null,null,{"$f":"COUNTIF(PRB$3:PRD$31,$A65)","v":0},null,null,null,{"$f":"COUNTIF(PRF$3:PRH$31,$A65)","v":0},null,null,null,{"$f":"COUNTIF(PRJ$3:PRL$31,$A65)","v":0},null,null,null,{"$f":"COUNTIF(PRN$3:PRP$31,$A65)","v":0},null,null,null,{"$f":"COUNTIF(PRR$3:PRT$31,$A65)","v":0},null,null,null,{"$f":"COUNTIF(PRV$3:PRX$31,$A65)","v":0},null,null,null,{"$f":"COUNTIF(PRZ$3:PSB$31,$A65)","v":0},null,null,null,{"$f":"COUNTIF(PSD$3:PSF$31,$A65)","v":0},null,null,null,{"$f":"COUNTIF(PSH$3:PSJ$31,$A65)","v":0},null,null,null,{"$f":"COUNTIF(PSL$3:PSN$31,$A65)","v":0},null,null,null,{"$f":"COUNTIF(PSP$3:PSR$31,$A65)","v":0},null,null,null,{"$f":"COUNTIF(PST$3:PSV$31,$A65)","v":0},null,null,null,{"$f":"COUNTIF(PSX$3:PSZ$31,$A65)","v":0},null,null,null,{"$f":"COUNTIF(PTB$3:PTD$31,$A65)","v":0},null,null,null,{"$f":"COUNTIF(PTF$3:PTH$31,$A65)","v":0},null,null,null,{"$f":"COUNTIF(PTJ$3:PTL$31,$A65)","v":0},null,null,null,{"$f":"COUNTIF(PTN$3:PTP$31,$A65)","v":0},null,null,null,{"$f":"COUNTIF(PTR$3:PTT$31,$A65)","v":0},null,null,null,{"$f":"COUNTIF(PTV$3:PTX$31,$A65)","v":0},null,null,null,{"$f":"COUNTIF(PTZ$3:PUB$31,$A65)","v":0},null,null,null,{"$f":"COUNTIF(PUD$3:PUF$31,$A65)","v":0},null,null,null,{"$f":"COUNTIF(PUH$3:PUJ$31,$A65)","v":0},null,null,null,{"$f":"COUNTIF(PUL$3:PUN$31,$A65)","v":0},null,null,null,{"$f":"COUNTIF(PUP$3:PUR$31,$A65)","v":0},null,null,null,{"$f":"COUNTIF(PUT$3:PUV$31,$A65)","v":0},null,null,null,{"$f":"COUNTIF(PUX$3:PUZ$31,$A65)","v":0},null,null,null,{"$f":"COUNTIF(PVB$3:PVD$31,$A65)","v":0},null,null,null,{"$f":"COUNTIF(PVF$3:PVH$31,$A65)","v":0},null,null,null,{"$f":"COUNTIF(PVJ$3:PVL$31,$A65)","v":0},null,null,null,{"$f":"COUNTIF(PVN$3:PVP$31,$A65)","v":0},null,null,null,{"$f":"COUNTIF(PVR$3:PVT$31,$A65)","v":0},null,null,null,{"$f":"COUNTIF(PVV$3:PVX$31,$A65)","v":0},null,null,null,{"$f":"COUNTIF(PVZ$3:PWB$31,$A65)","v":0},null,null,null,{"$f":"COUNTIF(PWD$3:PWF$31,$A65)","v":0},null,null,null,{"$f":"COUNTIF(PWH$3:PWJ$31,$A65)","v":0},null,null,null,{"$f":"COUNTIF(PWL$3:PWN$31,$A65)","v":0},null,null,null,{"$f":"COUNTIF(PWP$3:PWR$31,$A65)","v":0},null,null,null,{"$f":"COUNTIF(PWT$3:PWV$31,$A65)","v":0},null,null,null,{"$f":"COUNTIF(PWX$3:PWZ$31,$A65)","v":0},null,null,null,{"$f":"COUNTIF(PXB$3:PXD$31,$A65)","v":0},null,null,null,{"$f":"COUNTIF(PXF$3:PXH$31,$A65)","v":0},null,null,null,{"$f":"COUNTIF(PXJ$3:PXL$31,$A65)","v":0},null,null,null,{"$f":"COUNTIF(PXN$3:PXP$31,$A65)","v":0},null,null,null,{"$f":"COUNTIF(PXR$3:PXT$31,$A65)","v":0},null,null,null,{"$f":"COUNTIF(PXV$3:PXX$31,$A65)","v":0},null,null,null,{"$f":"COUNTIF(PXZ$3:PYB$31,$A65)","v":0},null,null,null,{"$f":"COUNTIF(PYD$3:PYF$31,$A65)","v":0},null,null,null,{"$f":"COUNTIF(PYH$3:PYJ$31,$A65)","v":0},null,null,null,{"$f":"COUNTIF(PYL$3:PYN$31,$A65)","v":0},null,null,null,{"$f":"COUNTIF(PYP$3:PYR$31,$A65)","v":0},null,null,null,{"$f":"COUNTIF(PYT$3:PYV$31,$A65)","v":0},null,null,null,{"$f":"COUNTIF(PYX$3:PYZ$31,$A65)","v":0},null,null,null,{"$f":"COUNTIF(PZB$3:PZD$31,$A65)","v":0},null,null,null,{"$f":"COUNTIF(PZF$3:PZH$31,$A65)","v":0},null,null,null,{"$f":"COUNTIF(PZJ$3:PZL$31,$A65)","v":0},null,null,null,{"$f":"COUNTIF(PZN$3:PZP$31,$A65)","v":0},null,null,null,{"$f":"COUNTIF(PZR$3:PZT$31,$A65)","v":0},null,null,null,{"$f":"COUNTIF(PZV$3:PZX$31,$A65)","v":0},null,null,null,{"$f":"COUNTIF(PZZ$3:QAB$31,$A65)","v":0},null,null,null,{"$f":"COUNTIF(QAD$3:QAF$31,$A65)","v":0},null,null,null,{"$f":"COUNTIF(QAH$3:QAJ$31,$A65)","v":0},null,null,null,{"$f":"COUNTIF(QAL$3:QAN$31,$A65)","v":0},null,null,null,{"$f":"COUNTIF(QAP$3:QAR$31,$A65)","v":0},null,null,null,{"$f":"COUNTIF(QAT$3:QAV$31,$A65)","v":0},null,null,null,{"$f":"COUNTIF(QAX$3:QAZ$31,$A65)","v":0},null,null,null,{"$f":"COUNTIF(QBB$3:QBD$31,$A65)","v":0},null,null,null,{"$f":"COUNTIF(QBF$3:QBH$31,$A65)","v":0},null,null,null,{"$f":"COUNTIF(QBJ$3:QBL$31,$A65)","v":0},null,null,null,{"$f":"COUNTIF(QBN$3:QBP$31,$A65)","v":0},null,null,null,{"$f":"COUNTIF(QBR$3:QBT$31,$A65)","v":0},null,null,null,{"$f":"COUNTIF(QBV$3:QBX$31,$A65)","v":0},null,null,null,{"$f":"COUNTIF(QBZ$3:QCB$31,$A65)","v":0},null,null,null,{"$f":"COUNTIF(QCD$3:QCF$31,$A65)","v":0},null,null,null,{"$f":"COUNTIF(QCH$3:QCJ$31,$A65)","v":0},null,null,null,{"$f":"COUNTIF(QCL$3:QCN$31,$A65)","v":0},null,null,null,{"$f":"COUNTIF(QCP$3:QCR$31,$A65)","v":0},null,null,null,{"$f":"COUNTIF(QCT$3:QCV$31,$A65)","v":0},null,null,null,{"$f":"COUNTIF(QCX$3:QCZ$31,$A65)","v":0},null,null,null,{"$f":"COUNTIF(QDB$3:QDD$31,$A65)","v":0},null,null,null,{"$f":"COUNTIF(QDF$3:QDH$31,$A65)","v":0},null,null,null,{"$f":"COUNTIF(QDJ$3:QDL$31,$A65)","v":0},null,null,null,{"$f":"COUNTIF(QDN$3:QDP$31,$A65)","v":0},null,null,null,{"$f":"COUNTIF(QDR$3:QDT$31,$A65)","v":0},null,null,null,{"$f":"COUNTIF(QDV$3:QDX$31,$A65)","v":0},null,null,null,{"$f":"COUNTIF(QDZ$3:QEB$31,$A65)","v":0},null,null,null,{"$f":"COUNTIF(QED$3:QEF$31,$A65)","v":0},null,null,null,{"$f":"COUNTIF(QEH$3:QEJ$31,$A65)","v":0},null,null,null,{"$f":"COUNTIF(QEL$3:QEN$31,$A65)","v":0},null,null,null,{"$f":"COUNTIF(QEP$3:QER$31,$A65)","v":0},null,null,null,{"$f":"COUNTIF(QET$3:QEV$31,$A65)","v":0},null,null,null,{"$f":"COUNTIF(QEX$3:QEZ$31,$A65)","v":0},null,null,null,{"$f":"COUNTIF(QFB$3:QFD$31,$A65)","v":0},null,null,null,{"$f":"COUNTIF(QFF$3:QFH$31,$A65)","v":0},null,null,null,{"$f":"COUNTIF(QFJ$3:QFL$31,$A65)","v":0},null,null,null,{"$f":"COUNTIF(QFN$3:QFP$31,$A65)","v":0},null,null,null,{"$f":"COUNTIF(QFR$3:QFT$31,$A65)","v":0},null,null,null,{"$f":"COUNTIF(QFV$3:QFX$31,$A65)","v":0},null,null,null,{"$f":"COUNTIF(QFZ$3:QGB$31,$A65)","v":0},null,null,null,{"$f":"COUNTIF(QGD$3:QGF$31,$A65)","v":0},null,null,null,{"$f":"COUNTIF(QGH$3:QGJ$31,$A65)","v":0},null,null,null,{"$f":"COUNTIF(QGL$3:QGN$31,$A65)","v":0},null,null,null,{"$f":"COUNTIF(QGP$3:QGR$31,$A65)","v":0},null,null,null,{"$f":"COUNTIF(QGT$3:QGV$31,$A65)","v":0},null,null,null,{"$f":"COUNTIF(QGX$3:QGZ$31,$A65)","v":0},null,null,null,{"$f":"COUNTIF(QHB$3:QHD$31,$A65)","v":0},null,null,null,{"$f":"COUNTIF(QHF$3:QHH$31,$A65)","v":0},null,null,null,{"$f":"COUNTIF(QHJ$3:QHL$31,$A65)","v":0},null,null,null,{"$f":"COUNTIF(QHN$3:QHP$31,$A65)","v":0},null,null,null,{"$f":"COUNTIF(QHR$3:QHT$31,$A65)","v":0},null,null,null,{"$f":"COUNTIF(QHV$3:QHX$31,$A65)","v":0},null,null,null,{"$f":"COUNTIF(QHZ$3:QIB$31,$A65)","v":0},null,null,null,{"$f":"COUNTIF(QID$3:QIF$31,$A65)","v":0},null,null,null,{"$f":"COUNTIF(QIH$3:QIJ$31,$A65)","v":0},null,null,null,{"$f":"COUNTIF(QIL$3:QIN$31,$A65)","v":0},null,null,null,{"$f":"COUNTIF(QIP$3:QIR$31,$A65)","v":0},null,null,null,{"$f":"COUNTIF(QIT$3:QIV$31,$A65)","v":0},null,null,null,{"$f":"COUNTIF(QIX$3:QIZ$31,$A65)","v":0},null,null,null,{"$f":"COUNTIF(QJB$3:QJD$31,$A65)","v":0},null,null,null,{"$f":"COUNTIF(QJF$3:QJH$31,$A65)","v":0},null,null,null,{"$f":"COUNTIF(QJJ$3:QJL$31,$A65)","v":0},null,null,null,{"$f":"COUNTIF(QJN$3:QJP$31,$A65)","v":0},null,null,null,{"$f":"COUNTIF(QJR$3:QJT$31,$A65)","v":0},null,null,null,{"$f":"COUNTIF(QJV$3:QJX$31,$A65)","v":0},null,null,null,{"$f":"COUNTIF(QJZ$3:QKB$31,$A65)","v":0},null,null,null,{"$f":"COUNTIF(QKD$3:QKF$31,$A65)","v":0},null,null,null,{"$f":"COUNTIF(QKH$3:QKJ$31,$A65)","v":0},null,null,null,{"$f":"COUNTIF(QKL$3:QKN$31,$A65)","v":0},null,null,null,{"$f":"COUNTIF(QKP$3:QKR$31,$A65)","v":0},null,null,null,{"$f":"COUNTIF(QKT$3:QKV$31,$A65)","v":0},null,null,null,{"$f":"COUNTIF(QKX$3:QKZ$31,$A65)","v":0},null,null,null,{"$f":"COUNTIF(QLB$3:QLD$31,$A65)","v":0},null,null,null,{"$f":"COUNTIF(QLF$3:QLH$31,$A65)","v":0},null,null,null,{"$f":"COUNTIF(QLJ$3:QLL$31,$A65)","v":0},null,null,null,{"$f":"COUNTIF(QLN$3:QLP$31,$A65)","v":0},null,null,null,{"$f":"COUNTIF(QLR$3:QLT$31,$A65)","v":0},null,null,null,{"$f":"COUNTIF(QLV$3:QLX$31,$A65)","v":0},null,null,null,{"$f":"COUNTIF(QLZ$3:QMB$31,$A65)","v":0},null,null,null,{"$f":"COUNTIF(QMD$3:QMF$31,$A65)","v":0},null,null,null,{"$f":"COUNTIF(QMH$3:QMJ$31,$A65)","v":0},null,null,null,{"$f":"COUNTIF(QML$3:QMN$31,$A65)","v":0},null,null,null,{"$f":"COUNTIF(QMP$3:QMR$31,$A65)","v":0},null,null,null,{"$f":"COUNTIF(QMT$3:QMV$31,$A65)","v":0},null,null,null,{"$f":"COUNTIF(QMX$3:QMZ$31,$A65)","v":0},null,null,null,{"$f":"COUNTIF(QNB$3:QND$31,$A65)","v":0},null,null,null,{"$f":"COUNTIF(QNF$3:QNH$31,$A65)","v":0},null,null,null,{"$f":"COUNTIF(QNJ$3:QNL$31,$A65)","v":0},null,null,null,{"$f":"COUNTIF(QNN$3:QNP$31,$A65)","v":0},null,null,null,{"$f":"COUNTIF(QNR$3:QNT$31,$A65)","v":0},null,null,null,{"$f":"COUNTIF(QNV$3:QNX$31,$A65)","v":0},null,null,null,{"$f":"COUNTIF(QNZ$3:QOB$31,$A65)","v":0},null,null,null,{"$f":"COUNTIF(QOD$3:QOF$31,$A65)","v":0},null,null,null,{"$f":"COUNTIF(QOH$3:QOJ$31,$A65)","v":0},null,null,null,{"$f":"COUNTIF(QOL$3:QON$31,$A65)","v":0},null,null,null,{"$f":"COUNTIF(QOP$3:QOR$31,$A65)","v":0},null,null,null,{"$f":"COUNTIF(QOT$3:QOV$31,$A65)","v":0},null,null,null,{"$f":"COUNTIF(QOX$3:QOZ$31,$A65)","v":0},null,null,null,{"$f":"COUNTIF(QPB$3:QPD$31,$A65)","v":0},null,null,null,{"$f":"COUNTIF(QPF$3:QPH$31,$A65)","v":0},null,null,null,{"$f":"COUNTIF(QPJ$3:QPL$31,$A65)","v":0},null,null,null,{"$f":"COUNTIF(QPN$3:QPP$31,$A65)","v":0},null,null,null,{"$f":"COUNTIF(QPR$3:QPT$31,$A65)","v":0},null,null,null,{"$f":"COUNTIF(QPV$3:QPX$31,$A65)","v":0},null,null,null,{"$f":"COUNTIF(QPZ$3:QQB$31,$A65)","v":0},null,null,null,{"$f":"COUNTIF(QQD$3:QQF$31,$A65)","v":0},null,null,null,{"$f":"COUNTIF(QQH$3:QQJ$31,$A65)","v":0},null,null,null,{"$f":"COUNTIF(QQL$3:QQN$31,$A65)","v":0},null,null,null,{"$f":"COUNTIF(QQP$3:QQR$31,$A65)","v":0},null,null,null,{"$f":"COUNTIF(QQT$3:QQV$31,$A65)","v":0},null,null,null,{"$f":"COUNTIF(QQX$3:QQZ$31,$A65)","v":0},null,null,null,{"$f":"COUNTIF(QRB$3:QRD$31,$A65)","v":0},null,null,null,{"$f":"COUNTIF(QRF$3:QRH$31,$A65)","v":0},null,null,null,{"$f":"COUNTIF(QRJ$3:QRL$31,$A65)","v":0},null,null,null,{"$f":"COUNTIF(QRN$3:QRP$31,$A65)","v":0},null,null,null,{"$f":"COUNTIF(QRR$3:QRT$31,$A65)","v":0},null,null,null,{"$f":"COUNTIF(QRV$3:QRX$31,$A65)","v":0},null,null,null,{"$f":"COUNTIF(QRZ$3:QSB$31,$A65)","v":0},null,null,null,{"$f":"COUNTIF(QSD$3:QSF$31,$A65)","v":0},null,null,null,{"$f":"COUNTIF(QSH$3:QSJ$31,$A65)","v":0},null,null,null,{"$f":"COUNTIF(QSL$3:QSN$31,$A65)","v":0},null,null,null,{"$f":"COUNTIF(QSP$3:QSR$31,$A65)","v":0},null,null,null,{"$f":"COUNTIF(QST$3:QSV$31,$A65)","v":0},null,null,null,{"$f":"COUNTIF(QSX$3:QSZ$31,$A65)","v":0},null,null,null,{"$f":"COUNTIF(QTB$3:QTD$31,$A65)","v":0},null,null,null,{"$f":"COUNTIF(QTF$3:QTH$31,$A65)","v":0},null,null,null,{"$f":"COUNTIF(QTJ$3:QTL$31,$A65)","v":0},null,null,null,{"$f":"COUNTIF(QTN$3:QTP$31,$A65)","v":0},null,null,null,{"$f":"COUNTIF(QTR$3:QTT$31,$A65)","v":0},null,null,null,{"$f":"COUNTIF(QTV$3:QTX$31,$A65)","v":0},null,null,null,{"$f":"COUNTIF(QTZ$3:QUB$31,$A65)","v":0},null,null,null,{"$f":"COUNTIF(QUD$3:QUF$31,$A65)","v":0},null,null,null,{"$f":"COUNTIF(QUH$3:QUJ$31,$A65)","v":0},null,null,null,{"$f":"COUNTIF(QUL$3:QUN$31,$A65)","v":0},null,null,null,{"$f":"COUNTIF(QUP$3:QUR$31,$A65)","v":0},null,null,null,{"$f":"COUNTIF(QUT$3:QUV$31,$A65)","v":0},null,null,null,{"$f":"COUNTIF(QUX$3:QUZ$31,$A65)","v":0},null,null,null,{"$f":"COUNTIF(QVB$3:QVD$31,$A65)","v":0},null,null,null,{"$f":"COUNTIF(QVF$3:QVH$31,$A65)","v":0},null,null,null,{"$f":"COUNTIF(QVJ$3:QVL$31,$A65)","v":0},null,null,null,{"$f":"COUNTIF(QVN$3:QVP$31,$A65)","v":0},null,null,null,{"$f":"COUNTIF(QVR$3:QVT$31,$A65)","v":0},null,null,null,{"$f":"COUNTIF(QVV$3:QVX$31,$A65)","v":0},null,null,null,{"$f":"COUNTIF(QVZ$3:QWB$31,$A65)","v":0},null,null,null,{"$f":"COUNTIF(QWD$3:QWF$31,$A65)","v":0},null,null,null,{"$f":"COUNTIF(QWH$3:QWJ$31,$A65)","v":0},null,null,null,{"$f":"COUNTIF(QWL$3:QWN$31,$A65)","v":0},null,null,null,{"$f":"COUNTIF(QWP$3:QWR$31,$A65)","v":0},null,null,null,{"$f":"COUNTIF(QWT$3:QWV$31,$A65)","v":0},null,null,null,{"$f":"COUNTIF(QWX$3:QWZ$31,$A65)","v":0},null,null,null,{"$f":"COUNTIF(QXB$3:QXD$31,$A65)","v":0},null,null,null,{"$f":"COUNTIF(QXF$3:QXH$31,$A65)","v":0},null,null,null,{"$f":"COUNTIF(QXJ$3:QXL$31,$A65)","v":0},null,null,null,{"$f":"COUNTIF(QXN$3:QXP$31,$A65)","v":0},null,null,null,{"$f":"COUNTIF(QXR$3:QXT$31,$A65)","v":0},null,null,null,{"$f":"COUNTIF(QXV$3:QXX$31,$A65)","v":0},null,null,null,{"$f":"COUNTIF(QXZ$3:QYB$31,$A65)","v":0},null,null,null,{"$f":"COUNTIF(QYD$3:QYF$31,$A65)","v":0},null,null,null,{"$f":"COUNTIF(QYH$3:QYJ$31,$A65)","v":0},null,null,null,{"$f":"COUNTIF(QYL$3:QYN$31,$A65)","v":0},null,null,null,{"$f":"COUNTIF(QYP$3:QYR$31,$A65)","v":0},null,null,null,{"$f":"COUNTIF(QYT$3:QYV$31,$A65)","v":0},null,null,null,{"$f":"COUNTIF(QYX$3:QYZ$31,$A65)","v":0},null,null,null,{"$f":"COUNTIF(QZB$3:QZD$31,$A65)","v":0},null,null,null,{"$f":"COUNTIF(QZF$3:QZH$31,$A65)","v":0},null,null,null,{"$f":"COUNTIF(QZJ$3:QZL$31,$A65)","v":0},null,null,null,{"$f":"COUNTIF(QZN$3:QZP$31,$A65)","v":0},null,null,null,{"$f":"COUNTIF(QZR$3:QZT$31,$A65)","v":0},null,null,null,{"$f":"COUNTIF(QZV$3:QZX$31,$A65)","v":0},null,null,null,{"$f":"COUNTIF(QZZ$3:RAB$31,$A65)","v":0},null,null,null,{"$f":"COUNTIF(RAD$3:RAF$31,$A65)","v":0},null,null,null,{"$f":"COUNTIF(RAH$3:RAJ$31,$A65)","v":0},null,null,null,{"$f":"COUNTIF(RAL$3:RAN$31,$A65)","v":0},null,null,null,{"$f":"COUNTIF(RAP$3:RAR$31,$A65)","v":0},null,null,null,{"$f":"COUNTIF(RAT$3:RAV$31,$A65)","v":0},null,null,null,{"$f":"COUNTIF(RAX$3:RAZ$31,$A65)","v":0},null,null,null,{"$f":"COUNTIF(RBB$3:RBD$31,$A65)","v":0},null,null,null,{"$f":"COUNTIF(RBF$3:RBH$31,$A65)","v":0},null,null,null,{"$f":"COUNTIF(RBJ$3:RBL$31,$A65)","v":0},null,null,null,{"$f":"COUNTIF(RBN$3:RBP$31,$A65)","v":0},null,null,null,{"$f":"COUNTIF(RBR$3:RBT$31,$A65)","v":0},null,null,null,{"$f":"COUNTIF(RBV$3:RBX$31,$A65)","v":0},null,null,null,{"$f":"COUNTIF(RBZ$3:RCB$31,$A65)","v":0},null,null,null,{"$f":"COUNTIF(RCD$3:RCF$31,$A65)","v":0},null,null,null,{"$f":"COUNTIF(RCH$3:RCJ$31,$A65)","v":0},null,null,null,{"$f":"COUNTIF(RCL$3:RCN$31,$A65)","v":0},null,null,null,{"$f":"COUNTIF(RCP$3:RCR$31,$A65)","v":0},null,null,null,{"$f":"COUNTIF(RCT$3:RCV$31,$A65)","v":0},null,null,null,{"$f":"COUNTIF(RCX$3:RCZ$31,$A65)","v":0},null,null,null,{"$f":"COUNTIF(RDB$3:RDD$31,$A65)","v":0},null,null,null,{"$f":"COUNTIF(RDF$3:RDH$31,$A65)","v":0},null,null,null,{"$f":"COUNTIF(RDJ$3:RDL$31,$A65)","v":0},null,null,null,{"$f":"COUNTIF(RDN$3:RDP$31,$A65)","v":0},null,null,null,{"$f":"COUNTIF(RDR$3:RDT$31,$A65)","v":0},null,null,null,{"$f":"COUNTIF(RDV$3:RDX$31,$A65)","v":0},null,null,null,{"$f":"COUNTIF(RDZ$3:REB$31,$A65)","v":0},null,null,null,{"$f":"COUNTIF(RED$3:REF$31,$A65)","v":0},null,null,null,{"$f":"COUNTIF(REH$3:REJ$31,$A65)","v":0},null,null,null,{"$f":"COUNTIF(REL$3:REN$31,$A65)","v":0},null,null,null,{"$f":"COUNTIF(REP$3:RER$31,$A65)","v":0},null,null,null,{"$f":"COUNTIF(RET$3:REV$31,$A65)","v":0},null,null,null,{"$f":"COUNTIF(REX$3:REZ$31,$A65)","v":0},null,null,null,{"$f":"COUNTIF(RFB$3:RFD$31,$A65)","v":0},null,null,null,{"$f":"COUNTIF(RFF$3:RFH$31,$A65)","v":0},null,null,null,{"$f":"COUNTIF(RFJ$3:RFL$31,$A65)","v":0},null,null,null,{"$f":"COUNTIF(RFN$3:RFP$31,$A65)","v":0},null,null,null,{"$f":"COUNTIF(RFR$3:RFT$31,$A65)","v":0},null,null,null,{"$f":"COUNTIF(RFV$3:RFX$31,$A65)","v":0},null,null,null,{"$f":"COUNTIF(RFZ$3:RGB$31,$A65)","v":0},null,null,null,{"$f":"COUNTIF(RGD$3:RGF$31,$A65)","v":0},null,null,null,{"$f":"COUNTIF(RGH$3:RGJ$31,$A65)","v":0},null,null,null,{"$f":"COUNTIF(RGL$3:RGN$31,$A65)","v":0},null,null,null,{"$f":"COUNTIF(RGP$3:RGR$31,$A65)","v":0},null,null,null,{"$f":"COUNTIF(RGT$3:RGV$31,$A65)","v":0},null,null,null,{"$f":"COUNTIF(RGX$3:RGZ$31,$A65)","v":0},null,null,null,{"$f":"COUNTIF(RHB$3:RHD$31,$A65)","v":0},null,null,null,{"$f":"COUNTIF(RHF$3:RHH$31,$A65)","v":0},null,null,null,{"$f":"COUNTIF(RHJ$3:RHL$31,$A65)","v":0},null,null,null,{"$f":"COUNTIF(RHN$3:RHP$31,$A65)","v":0},null,null,null,{"$f":"COUNTIF(RHR$3:RHT$31,$A65)","v":0},null,null,null,{"$f":"COUNTIF(RHV$3:RHX$31,$A65)","v":0},null,null,null,{"$f":"COUNTIF(RHZ$3:RIB$31,$A65)","v":0},null,null,null,{"$f":"COUNTIF(RID$3:RIF$31,$A65)","v":0},null,null,null,{"$f":"COUNTIF(RIH$3:RIJ$31,$A65)","v":0},null,null,null,{"$f":"COUNTIF(RIL$3:RIN$31,$A65)","v":0},null,null,null,{"$f":"COUNTIF(RIP$3:RIR$31,$A65)","v":0},null,null,null,{"$f":"COUNTIF(RIT$3:RIV$31,$A65)","v":0},null,null,null,{"$f":"COUNTIF(RIX$3:RIZ$31,$A65)","v":0},null,null,null,{"$f":"COUNTIF(RJB$3:RJD$31,$A65)","v":0},null,null,null,{"$f":"COUNTIF(RJF$3:RJH$31,$A65)","v":0},null,null,null,{"$f":"COUNTIF(RJJ$3:RJL$31,$A65)","v":0},null,null,null,{"$f":"COUNTIF(RJN$3:RJP$31,$A65)","v":0},null,null,null,{"$f":"COUNTIF(RJR$3:RJT$31,$A65)","v":0},null,null,null,{"$f":"COUNTIF(RJV$3:RJX$31,$A65)","v":0},null,null,null,{"$f":"COUNTIF(RJZ$3:RKB$31,$A65)","v":0},null,null,null,{"$f":"COUNTIF(RKD$3:RKF$31,$A65)","v":0},null,null,null,{"$f":"COUNTIF(RKH$3:RKJ$31,$A65)","v":0},null,null,null,{"$f":"COUNTIF(RKL$3:RKN$31,$A65)","v":0},null,null,null,{"$f":"COUNTIF(RKP$3:RKR$31,$A65)","v":0},null,null,null,{"$f":"COUNTIF(RKT$3:RKV$31,$A65)","v":0},null,null,null,{"$f":"COUNTIF(RKX$3:RKZ$31,$A65)","v":0},null,null,null,{"$f":"COUNTIF(RLB$3:RLD$31,$A65)","v":0},null,null,null,{"$f":"COUNTIF(RLF$3:RLH$31,$A65)","v":0},null,null,null,{"$f":"COUNTIF(RLJ$3:RLL$31,$A65)","v":0},null,null,null,{"$f":"COUNTIF(RLN$3:RLP$31,$A65)","v":0},null,null,null,{"$f":"COUNTIF(RLR$3:RLT$31,$A65)","v":0},null,null,null,{"$f":"COUNTIF(RLV$3:RLX$31,$A65)","v":0},null,null,null,{"$f":"COUNTIF(RLZ$3:RMB$31,$A65)","v":0},null,null,null,{"$f":"COUNTIF(RMD$3:RMF$31,$A65)","v":0},null,null,null,{"$f":"COUNTIF(RMH$3:RMJ$31,$A65)","v":0},null,null,null,{"$f":"COUNTIF(RML$3:RMN$31,$A65)","v":0},null,null,null,{"$f":"COUNTIF(RMP$3:RMR$31,$A65)","v":0},null,null,null,{"$f":"COUNTIF(RMT$3:RMV$31,$A65)","v":0},null,null,null,{"$f":"COUNTIF(RMX$3:RMZ$31,$A65)","v":0},null,null,null,{"$f":"COUNTIF(RNB$3:RND$31,$A65)","v":0},null,null,null,{"$f":"COUNTIF(RNF$3:RNH$31,$A65)","v":0},null,null,null,{"$f":"COUNTIF(RNJ$3:RNL$31,$A65)","v":0},null,null,null,{"$f":"COUNTIF(RNN$3:RNP$31,$A65)","v":0},null,null,null,{"$f":"COUNTIF(RNR$3:RNT$31,$A65)","v":0},null,null,null,{"$f":"COUNTIF(RNV$3:RNX$31,$A65)","v":0},null,null,null,{"$f":"COUNTIF(RNZ$3:ROB$31,$A65)","v":0},null,null,null,{"$f":"COUNTIF(ROD$3:ROF$31,$A65)","v":0},null,null,null,{"$f":"COUNTIF(ROH$3:ROJ$31,$A65)","v":0},null,null,null,{"$f":"COUNTIF(ROL$3:RON$31,$A65)","v":0},null,null,null,{"$f":"COUNTIF(ROP$3:ROR$31,$A65)","v":0},null,null,null,{"$f":"COUNTIF(ROT$3:ROV$31,$A65)","v":0},null,null,null,{"$f":"COUNTIF(ROX$3:ROZ$31,$A65)","v":0},null,null,null,{"$f":"COUNTIF(RPB$3:RPD$31,$A65)","v":0},null,null,null,{"$f":"COUNTIF(RPF$3:RPH$31,$A65)","v":0},null,null,null,{"$f":"COUNTIF(RPJ$3:RPL$31,$A65)","v":0},null,null,null,{"$f":"COUNTIF(RPN$3:RPP$31,$A65)","v":0},null,null,null,{"$f":"COUNTIF(RPR$3:RPT$31,$A65)","v":0},null,null,null,{"$f":"COUNTIF(RPV$3:RPX$31,$A65)","v":0},null,null,null,{"$f":"COUNTIF(RPZ$3:RQB$31,$A65)","v":0},null,null,null,{"$f":"COUNTIF(RQD$3:RQF$31,$A65)","v":0},null,null,null,{"$f":"COUNTIF(RQH$3:RQJ$31,$A65)","v":0},null,null,null,{"$f":"COUNTIF(RQL$3:RQN$31,$A65)","v":0},null,null,null,{"$f":"COUNTIF(RQP$3:RQR$31,$A65)","v":0},null,null,null,{"$f":"COUNTIF(RQT$3:RQV$31,$A65)","v":0},null,null,null,{"$f":"COUNTIF(RQX$3:RQZ$31,$A65)","v":0},null,null,null,{"$f":"COUNTIF(RRB$3:RRD$31,$A65)","v":0},null,null,null,{"$f":"COUNTIF(RRF$3:RRH$31,$A65)","v":0},null,null,null,{"$f":"COUNTIF(RRJ$3:RRL$31,$A65)","v":0},null,null,null,{"$f":"COUNTIF(RRN$3:RRP$31,$A65)","v":0},null,null,null,{"$f":"COUNTIF(RRR$3:RRT$31,$A65)","v":0},null,null,null,{"$f":"COUNTIF(RRV$3:RRX$31,$A65)","v":0},null,null,null,{"$f":"COUNTIF(RRZ$3:RSB$31,$A65)","v":0},null,null,null,{"$f":"COUNTIF(RSD$3:RSF$31,$A65)","v":0},null,null,null,{"$f":"COUNTIF(RSH$3:RSJ$31,$A65)","v":0},null,null,null,{"$f":"COUNTIF(RSL$3:RSN$31,$A65)","v":0},null,null,null,{"$f":"COUNTIF(RSP$3:RSR$31,$A65)","v":0},null,null,null,{"$f":"COUNTIF(RST$3:RSV$31,$A65)","v":0},null,null,null,{"$f":"COUNTIF(RSX$3:RSZ$31,$A65)","v":0},null,null,null,{"$f":"COUNTIF(RTB$3:RTD$31,$A65)","v":0},null,null,null,{"$f":"COUNTIF(RTF$3:RTH$31,$A65)","v":0},null,null,null,{"$f":"COUNTIF(RTJ$3:RTL$31,$A65)","v":0},null,null,null,{"$f":"COUNTIF(RTN$3:RTP$31,$A65)","v":0},null,null,null,{"$f":"COUNTIF(RTR$3:RTT$31,$A65)","v":0},null,null,null,{"$f":"COUNTIF(RTV$3:RTX$31,$A65)","v":0},null,null,null,{"$f":"COUNTIF(RTZ$3:RUB$31,$A65)","v":0},null,null,null,{"$f":"COUNTIF(RUD$3:RUF$31,$A65)","v":0},null,null,null,{"$f":"COUNTIF(RUH$3:RUJ$31,$A65)","v":0},null,null,null,{"$f":"COUNTIF(RUL$3:RUN$31,$A65)","v":0},null,null,null,{"$f":"COUNTIF(RUP$3:RUR$31,$A65)","v":0},null,null,null,{"$f":"COUNTIF(RUT$3:RUV$31,$A65)","v":0},null,null,null,{"$f":"COUNTIF(RUX$3:RUZ$31,$A65)","v":0},null,null,null,{"$f":"COUNTIF(RVB$3:RVD$31,$A65)","v":0},null,null,null,{"$f":"COUNTIF(RVF$3:RVH$31,$A65)","v":0},null,null,null,{"$f":"COUNTIF(RVJ$3:RVL$31,$A65)","v":0},null,null,null,{"$f":"COUNTIF(RVN$3:RVP$31,$A65)","v":0},null,null,null,{"$f":"COUNTIF(RVR$3:RVT$31,$A65)","v":0},null,null,null,{"$f":"COUNTIF(RVV$3:RVX$31,$A65)","v":0},null,null,null,{"$f":"COUNTIF(RVZ$3:RWB$31,$A65)","v":0},null,null,null,{"$f":"COUNTIF(RWD$3:RWF$31,$A65)","v":0},null,null,null,{"$f":"COUNTIF(RWH$3:RWJ$31,$A65)","v":0},null,null,null,{"$f":"COUNTIF(RWL$3:RWN$31,$A65)","v":0},null,null,null,{"$f":"COUNTIF(RWP$3:RWR$31,$A65)","v":0},null,null,null,{"$f":"COUNTIF(RWT$3:RWV$31,$A65)","v":0},null,null,null,{"$f":"COUNTIF(RWX$3:RWZ$31,$A65)","v":0},null,null,null,{"$f":"COUNTIF(RXB$3:RXD$31,$A65)","v":0},null,null,null,{"$f":"COUNTIF(RXF$3:RXH$31,$A65)","v":0},null,null,null,{"$f":"COUNTIF(RXJ$3:RXL$31,$A65)","v":0},null,null,null,{"$f":"COUNTIF(RXN$3:RXP$31,$A65)","v":0},null,null,null,{"$f":"COUNTIF(RXR$3:RXT$31,$A65)","v":0},null,null,null,{"$f":"COUNTIF(RXV$3:RXX$31,$A65)","v":0},null,null,null,{"$f":"COUNTIF(RXZ$3:RYB$31,$A65)","v":0},null,null,null,{"$f":"COUNTIF(RYD$3:RYF$31,$A65)","v":0},null,null,null,{"$f":"COUNTIF(RYH$3:RYJ$31,$A65)","v":0},null,null,null,{"$f":"COUNTIF(RYL$3:RYN$31,$A65)","v":0},null,null,null,{"$f":"COUNTIF(RYP$3:RYR$31,$A65)","v":0},null,null,null,{"$f":"COUNTIF(RYT$3:RYV$31,$A65)","v":0},null,null,null,{"$f":"COUNTIF(RYX$3:RYZ$31,$A65)","v":0},null,null,null,{"$f":"COUNTIF(RZB$3:RZD$31,$A65)","v":0},null,null,null,{"$f":"COUNTIF(RZF$3:RZH$31,$A65)","v":0},null,null,null,{"$f":"COUNTIF(RZJ$3:RZL$31,$A65)","v":0},null,null,null,{"$f":"COUNTIF(RZN$3:RZP$31,$A65)","v":0},null,null,null,{"$f":"COUNTIF(RZR$3:RZT$31,$A65)","v":0},null,null,null,{"$f":"COUNTIF(RZV$3:RZX$31,$A65)","v":0},null,null,null,{"$f":"COUNTIF(RZZ$3:SAB$31,$A65)","v":0},null,null,null,{"$f":"COUNTIF(SAD$3:SAF$31,$A65)","v":0},null,null,null,{"$f":"COUNTIF(SAH$3:SAJ$31,$A65)","v":0},null,null,null,{"$f":"COUNTIF(SAL$3:SAN$31,$A65)","v":0},null,null,null,{"$f":"COUNTIF(SAP$3:SAR$31,$A65)","v":0},null,null,null,{"$f":"COUNTIF(SAT$3:SAV$31,$A65)","v":0},null,null,null,{"$f":"COUNTIF(SAX$3:SAZ$31,$A65)","v":0},null,null,null,{"$f":"COUNTIF(SBB$3:SBD$31,$A65)","v":0},null,null,null,{"$f":"COUNTIF(SBF$3:SBH$31,$A65)","v":0},null,null,null,{"$f":"COUNTIF(SBJ$3:SBL$31,$A65)","v":0},null,null,null,{"$f":"COUNTIF(SBN$3:SBP$31,$A65)","v":0},null,null,null,{"$f":"COUNTIF(SBR$3:SBT$31,$A65)","v":0},null,null,null,{"$f":"COUNTIF(SBV$3:SBX$31,$A65)","v":0},null,null,null,{"$f":"COUNTIF(SBZ$3:SCB$31,$A65)","v":0},null,null,null,{"$f":"COUNTIF(SCD$3:SCF$31,$A65)","v":0},null,null,null,{"$f":"COUNTIF(SCH$3:SCJ$31,$A65)","v":0},null,null,null,{"$f":"COUNTIF(SCL$3:SCN$31,$A65)","v":0},null,null,null,{"$f":"COUNTIF(SCP$3:SCR$31,$A65)","v":0},null,null,null,{"$f":"COUNTIF(SCT$3:SCV$31,$A65)","v":0},null,null,null,{"$f":"COUNTIF(SCX$3:SCZ$31,$A65)","v":0},null,null,null,{"$f":"COUNTIF(SDB$3:SDD$31,$A65)","v":0},null,null,null,{"$f":"COUNTIF(SDF$3:SDH$31,$A65)","v":0},null,null,null,{"$f":"COUNTIF(SDJ$3:SDL$31,$A65)","v":0},null,null,null,{"$f":"COUNTIF(SDN$3:SDP$31,$A65)","v":0},null,null,null,{"$f":"COUNTIF(SDR$3:SDT$31,$A65)","v":0},null,null,null,{"$f":"COUNTIF(SDV$3:SDX$31,$A65)","v":0},null,null,null,{"$f":"COUNTIF(SDZ$3:SEB$31,$A65)","v":0},null,null,null,{"$f":"COUNTIF(SED$3:SEF$31,$A65)","v":0},null,null,null,{"$f":"COUNTIF(SEH$3:SEJ$31,$A65)","v":0},null,null,null,{"$f":"COUNTIF(SEL$3:SEN$31,$A65)","v":0},null,null,null,{"$f":"COUNTIF(SEP$3:SER$31,$A65)","v":0},null,null,null,{"$f":"COUNTIF(SET$3:SEV$31,$A65)","v":0},null,null,null,{"$f":"COUNTIF(SEX$3:SEZ$31,$A65)","v":0},null,null,null,{"$f":"COUNTIF(SFB$3:SFD$31,$A65)","v":0},null,null,null,{"$f":"COUNTIF(SFF$3:SFH$31,$A65)","v":0},null,null,null,{"$f":"COUNTIF(SFJ$3:SFL$31,$A65)","v":0},null,null,null,{"$f":"COUNTIF(SFN$3:SFP$31,$A65)","v":0},null,null,null,{"$f":"COUNTIF(SFR$3:SFT$31,$A65)","v":0},null,null,null,{"$f":"COUNTIF(SFV$3:SFX$31,$A65)","v":0},null,null,null,{"$f":"COUNTIF(SFZ$3:SGB$31,$A65)","v":0},null,null,null,{"$f":"COUNTIF(SGD$3:SGF$31,$A65)","v":0},null,null,null,{"$f":"COUNTIF(SGH$3:SGJ$31,$A65)","v":0},null,null,null,{"$f":"COUNTIF(SGL$3:SGN$31,$A65)","v":0},null,null,null,{"$f":"COUNTIF(SGP$3:SGR$31,$A65)","v":0},null,null,null,{"$f":"COUNTIF(SGT$3:SGV$31,$A65)","v":0},null,null,null,{"$f":"COUNTIF(SGX$3:SGZ$31,$A65)","v":0},null,null,null,{"$f":"COUNTIF(SHB$3:SHD$31,$A65)","v":0},null,null,null,{"$f":"COUNTIF(SHF$3:SHH$31,$A65)","v":0},null,null,null,{"$f":"COUNTIF(SHJ$3:SHL$31,$A65)","v":0},null,null,null,{"$f":"COUNTIF(SHN$3:SHP$31,$A65)","v":0},null,null,null,{"$f":"COUNTIF(SHR$3:SHT$31,$A65)","v":0},null,null,null,{"$f":"COUNTIF(SHV$3:SHX$31,$A65)","v":0},null,null,null,{"$f":"COUNTIF(SHZ$3:SIB$31,$A65)","v":0},null,null,null,{"$f":"COUNTIF(SID$3:SIF$31,$A65)","v":0},null,null,null,{"$f":"COUNTIF(SIH$3:SIJ$31,$A65)","v":0},null,null,null,{"$f":"COUNTIF(SIL$3:SIN$31,$A65)","v":0},null,null,null,{"$f":"COUNTIF(SIP$3:SIR$31,$A65)","v":0},null,null,null,{"$f":"COUNTIF(SIT$3:SIV$31,$A65)","v":0},null,null,null,{"$f":"COUNTIF(SIX$3:SIZ$31,$A65)","v":0},null,null,null,{"$f":"COUNTIF(SJB$3:SJD$31,$A65)","v":0},null,null,null,{"$f":"COUNTIF(SJF$3:SJH$31,$A65)","v":0},null,null,null,{"$f":"COUNTIF(SJJ$3:SJL$31,$A65)","v":0},null,null,null,{"$f":"COUNTIF(SJN$3:SJP$31,$A65)","v":0},null,null,null,{"$f":"COUNTIF(SJR$3:SJT$31,$A65)","v":0},null,null,null,{"$f":"COUNTIF(SJV$3:SJX$31,$A65)","v":0},null,null,null,{"$f":"COUNTIF(SJZ$3:SKB$31,$A65)","v":0},null,null,null,{"$f":"COUNTIF(SKD$3:SKF$31,$A65)","v":0},null,null,null,{"$f":"COUNTIF(SKH$3:SKJ$31,$A65)","v":0},null,null,null,{"$f":"COUNTIF(SKL$3:SKN$31,$A65)","v":0},null,null,null,{"$f":"COUNTIF(SKP$3:SKR$31,$A65)","v":0},null,null,null,{"$f":"COUNTIF(SKT$3:SKV$31,$A65)","v":0},null,null,null,{"$f":"COUNTIF(SKX$3:SKZ$31,$A65)","v":0},null,null,null,{"$f":"COUNTIF(SLB$3:SLD$31,$A65)","v":0},null,null,null,{"$f":"COUNTIF(SLF$3:SLH$31,$A65)","v":0},null,null,null,{"$f":"COUNTIF(SLJ$3:SLL$31,$A65)","v":0},null,null,null,{"$f":"COUNTIF(SLN$3:SLP$31,$A65)","v":0},null,null,null,{"$f":"COUNTIF(SLR$3:SLT$31,$A65)","v":0},null,null,null,{"$f":"COUNTIF(SLV$3:SLX$31,$A65)","v":0},null,null,null,{"$f":"COUNTIF(SLZ$3:SMB$31,$A65)","v":0},null,null,null,{"$f":"COUNTIF(SMD$3:SMF$31,$A65)","v":0},null,null,null,{"$f":"COUNTIF(SMH$3:SMJ$31,$A65)","v":0},null,null,null,{"$f":"COUNTIF(SML$3:SMN$31,$A65)","v":0},null,null,null,{"$f":"COUNTIF(SMP$3:SMR$31,$A65)","v":0},null,null,null,{"$f":"COUNTIF(SMT$3:SMV$31,$A65)","v":0},null,null,null,{"$f":"COUNTIF(SMX$3:SMZ$31,$A65)","v":0},null,null,null,{"$f":"COUNTIF(SNB$3:SND$31,$A65)","v":0},null,null,null,{"$f":"COUNTIF(SNF$3:SNH$31,$A65)","v":0},null,null,null,{"$f":"COUNTIF(SNJ$3:SNL$31,$A65)","v":0},null,null,null,{"$f":"COUNTIF(SNN$3:SNP$31,$A65)","v":0},null,null,null,{"$f":"COUNTIF(SNR$3:SNT$31,$A65)","v":0},null,null,null,{"$f":"COUNTIF(SNV$3:SNX$31,$A65)","v":0},null,null,null,{"$f":"COUNTIF(SNZ$3:SOB$31,$A65)","v":0},null,null,null,{"$f":"COUNTIF(SOD$3:SOF$31,$A65)","v":0},null,null,null,{"$f":"COUNTIF(SOH$3:SOJ$31,$A65)","v":0},null,null,null,{"$f":"COUNTIF(SOL$3:SON$31,$A65)","v":0},null,null,null,{"$f":"COUNTIF(SOP$3:SOR$31,$A65)","v":0},null,null,null,{"$f":"COUNTIF(SOT$3:SOV$31,$A65)","v":0},null,null,null,{"$f":"COUNTIF(SOX$3:SOZ$31,$A65)","v":0},null,null,null,{"$f":"COUNTIF(SPB$3:SPD$31,$A65)","v":0},null,null,null,{"$f":"COUNTIF(SPF$3:SPH$31,$A65)","v":0},null,null,null,{"$f":"COUNTIF(SPJ$3:SPL$31,$A65)","v":0},null,null,null,{"$f":"COUNTIF(SPN$3:SPP$31,$A65)","v":0},null,null,null,{"$f":"COUNTIF(SPR$3:SPT$31,$A65)","v":0},null,null,null,{"$f":"COUNTIF(SPV$3:SPX$31,$A65)","v":0},null,null,null,{"$f":"COUNTIF(SPZ$3:SQB$31,$A65)","v":0},null,null,null,{"$f":"COUNTIF(SQD$3:SQF$31,$A65)","v":0},null,null,null,{"$f":"COUNTIF(SQH$3:SQJ$31,$A65)","v":0},null,null,null,{"$f":"COUNTIF(SQL$3:SQN$31,$A65)","v":0},null,null,null,{"$f":"COUNTIF(SQP$3:SQR$31,$A65)","v":0},null,null,null,{"$f":"COUNTIF(SQT$3:SQV$31,$A65)","v":0},null,null,null,{"$f":"COUNTIF(SQX$3:SQZ$31,$A65)","v":0},null,null,null,{"$f":"COUNTIF(SRB$3:SRD$31,$A65)","v":0},null,null,null,{"$f":"COUNTIF(SRF$3:SRH$31,$A65)","v":0},null,null,null,{"$f":"COUNTIF(SRJ$3:SRL$31,$A65)","v":0},null,null,null,{"$f":"COUNTIF(SRN$3:SRP$31,$A65)","v":0},null,null,null,{"$f":"COUNTIF(SRR$3:SRT$31,$A65)","v":0},null,null,null,{"$f":"COUNTIF(SRV$3:SRX$31,$A65)","v":0},null,null,null,{"$f":"COUNTIF(SRZ$3:SSB$31,$A65)","v":0},null,null,null,{"$f":"COUNTIF(SSD$3:SSF$31,$A65)","v":0},null,null,null,{"$f":"COUNTIF(SSH$3:SSJ$31,$A65)","v":0},null,null,null,{"$f":"COUNTIF(SSL$3:SSN$31,$A65)","v":0},null,null,null,{"$f":"COUNTIF(SSP$3:SSR$31,$A65)","v":0},null,null,null,{"$f":"COUNTIF(SST$3:SSV$31,$A65)","v":0},null,null,null,{"$f":"COUNTIF(SSX$3:SSZ$31,$A65)","v":0},null,null,null,{"$f":"COUNTIF(STB$3:STD$31,$A65)","v":0},null,null,null,{"$f":"COUNTIF(STF$3:STH$31,$A65)","v":0},null,null,null,{"$f":"COUNTIF(STJ$3:STL$31,$A65)","v":0},null,null,null,{"$f":"COUNTIF(STN$3:STP$31,$A65)","v":0},null,null,null,{"$f":"COUNTIF(STR$3:STT$31,$A65)","v":0},null,null,null,{"$f":"COUNTIF(STV$3:STX$31,$A65)","v":0},null,null,null,{"$f":"COUNTIF(STZ$3:SUB$31,$A65)","v":0},null,null,null,{"$f":"COUNTIF(SUD$3:SUF$31,$A65)","v":0},null,null,null,{"$f":"COUNTIF(SUH$3:SUJ$31,$A65)","v":0},null,null,null,{"$f":"COUNTIF(SUL$3:SUN$31,$A65)","v":0},null,null,null,{"$f":"COUNTIF(SUP$3:SUR$31,$A65)","v":0},null,null,null,{"$f":"COUNTIF(SUT$3:SUV$31,$A65)","v":0},null,null,null,{"$f":"COUNTIF(SUX$3:SUZ$31,$A65)","v":0},null,null,null,{"$f":"COUNTIF(SVB$3:SVD$31,$A65)","v":0},null,null,null,{"$f":"COUNTIF(SVF$3:SVH$31,$A65)","v":0},null,null,null,{"$f":"COUNTIF(SVJ$3:SVL$31,$A65)","v":0},null,null,null,{"$f":"COUNTIF(SVN$3:SVP$31,$A65)","v":0},null,null,null,{"$f":"COUNTIF(SVR$3:SVT$31,$A65)","v":0},null,null,null,{"$f":"COUNTIF(SVV$3:SVX$31,$A65)","v":0},null,null,null,{"$f":"COUNTIF(SVZ$3:SWB$31,$A65)","v":0},null,null,null,{"$f":"COUNTIF(SWD$3:SWF$31,$A65)","v":0},null,null,null,{"$f":"COUNTIF(SWH$3:SWJ$31,$A65)","v":0},null,null,null,{"$f":"COUNTIF(SWL$3:SWN$31,$A65)","v":0},null,null,null,{"$f":"COUNTIF(SWP$3:SWR$31,$A65)","v":0},null,null,null,{"$f":"COUNTIF(SWT$3:SWV$31,$A65)","v":0},null,null,null,{"$f":"COUNTIF(SWX$3:SWZ$31,$A65)","v":0},null,null,null,{"$f":"COUNTIF(SXB$3:SXD$31,$A65)","v":0},null,null,null,{"$f":"COUNTIF(SXF$3:SXH$31,$A65)","v":0},null,null,null,{"$f":"COUNTIF(SXJ$3:SXL$31,$A65)","v":0},null,null,null,{"$f":"COUNTIF(SXN$3:SXP$31,$A65)","v":0},null,null,null,{"$f":"COUNTIF(SXR$3:SXT$31,$A65)","v":0},null,null,null,{"$f":"COUNTIF(SXV$3:SXX$31,$A65)","v":0},null,null,null,{"$f":"COUNTIF(SXZ$3:SYB$31,$A65)","v":0},null,null,null,{"$f":"COUNTIF(SYD$3:SYF$31,$A65)","v":0},null,null,null,{"$f":"COUNTIF(SYH$3:SYJ$31,$A65)","v":0},null,null,null,{"$f":"COUNTIF(SYL$3:SYN$31,$A65)","v":0},null,null,null,{"$f":"COUNTIF(SYP$3:SYR$31,$A65)","v":0},null,null,null,{"$f":"COUNTIF(SYT$3:SYV$31,$A65)","v":0},null,null,null,{"$f":"COUNTIF(SYX$3:SYZ$31,$A65)","v":0},null,null,null,{"$f":"COUNTIF(SZB$3:SZD$31,$A65)","v":0},null,null,null,{"$f":"COUNTIF(SZF$3:SZH$31,$A65)","v":0},null,null,null,{"$f":"COUNTIF(SZJ$3:SZL$31,$A65)","v":0},null,null,null,{"$f":"COUNTIF(SZN$3:SZP$31,$A65)","v":0},null,null,null,{"$f":"COUNTIF(SZR$3:SZT$31,$A65)","v":0},null,null,null,{"$f":"COUNTIF(SZV$3:SZX$31,$A65)","v":0},null,null,null,{"$f":"COUNTIF(SZZ$3:TAB$31,$A65)","v":0},null,null,null,{"$f":"COUNTIF(TAD$3:TAF$31,$A65)","v":0},null,null,null,{"$f":"COUNTIF(TAH$3:TAJ$31,$A65)","v":0},null,null,null,{"$f":"COUNTIF(TAL$3:TAN$31,$A65)","v":0},null,null,null,{"$f":"COUNTIF(TAP$3:TAR$31,$A65)","v":0},null,null,null,{"$f":"COUNTIF(TAT$3:TAV$31,$A65)","v":0},null,null,null,{"$f":"COUNTIF(TAX$3:TAZ$31,$A65)","v":0},null,null,null,{"$f":"COUNTIF(TBB$3:TBD$31,$A65)","v":0},null,null,null,{"$f":"COUNTIF(TBF$3:TBH$31,$A65)","v":0},null,null,null,{"$f":"COUNTIF(TBJ$3:TBL$31,$A65)","v":0},null,null,null,{"$f":"COUNTIF(TBN$3:TBP$31,$A65)","v":0},null,null,null,{"$f":"COUNTIF(TBR$3:TBT$31,$A65)","v":0},null,null,null,{"$f":"COUNTIF(TBV$3:TBX$31,$A65)","v":0},null,null,null,{"$f":"COUNTIF(TBZ$3:TCB$31,$A65)","v":0},null,null,null,{"$f":"COUNTIF(TCD$3:TCF$31,$A65)","v":0},null,null,null,{"$f":"COUNTIF(TCH$3:TCJ$31,$A65)","v":0},null,null,null,{"$f":"COUNTIF(TCL$3:TCN$31,$A65)","v":0},null,null,null,{"$f":"COUNTIF(TCP$3:TCR$31,$A65)","v":0},null,null,null,{"$f":"COUNTIF(TCT$3:TCV$31,$A65)","v":0},null,null,null,{"$f":"COUNTIF(TCX$3:TCZ$31,$A65)","v":0},null,null,null,{"$f":"COUNTIF(TDB$3:TDD$31,$A65)","v":0},null,null,null,{"$f":"COUNTIF(TDF$3:TDH$31,$A65)","v":0},null,null,null,{"$f":"COUNTIF(TDJ$3:TDL$31,$A65)","v":0},null,null,null,{"$f":"COUNTIF(TDN$3:TDP$31,$A65)","v":0},null,null,null,{"$f":"COUNTIF(TDR$3:TDT$31,$A65)","v":0},null,null,null,{"$f":"COUNTIF(TDV$3:TDX$31,$A65)","v":0},null,null,null,{"$f":"COUNTIF(TDZ$3:TEB$31,$A65)","v":0},null,null,null,{"$f":"COUNTIF(TED$3:TEF$31,$A65)","v":0},null,null,null,{"$f":"COUNTIF(TEH$3:TEJ$31,$A65)","v":0},null,null,null,{"$f":"COUNTIF(TEL$3:TEN$31,$A65)","v":0},null,null,null,{"$f":"COUNTIF(TEP$3:TER$31,$A65)","v":0},null,null,null,{"$f":"COUNTIF(TET$3:TEV$31,$A65)","v":0},null,null,null,{"$f":"COUNTIF(TEX$3:TEZ$31,$A65)","v":0},null,null,null,{"$f":"COUNTIF(TFB$3:TFD$31,$A65)","v":0},null,null,null,{"$f":"COUNTIF(TFF$3:TFH$31,$A65)","v":0},null,null,null,{"$f":"COUNTIF(TFJ$3:TFL$31,$A65)","v":0},null,null,null,{"$f":"COUNTIF(TFN$3:TFP$31,$A65)","v":0},null,null,null,{"$f":"COUNTIF(TFR$3:TFT$31,$A65)","v":0},null,null,null,{"$f":"COUNTIF(TFV$3:TFX$31,$A65)","v":0},null,null,null,{"$f":"COUNTIF(TFZ$3:TGB$31,$A65)","v":0},null,null,null,{"$f":"COUNTIF(TGD$3:TGF$31,$A65)","v":0},null,null,null,{"$f":"COUNTIF(TGH$3:TGJ$31,$A65)","v":0},null,null,null,{"$f":"COUNTIF(TGL$3:TGN$31,$A65)","v":0},null,null,null,{"$f":"COUNTIF(TGP$3:TGR$31,$A65)","v":0},null,null,null,{"$f":"COUNTIF(TGT$3:TGV$31,$A65)","v":0},null,null,null,{"$f":"COUNTIF(TGX$3:TGZ$31,$A65)","v":0},null,null,null,{"$f":"COUNTIF(THB$3:THD$31,$A65)","v":0},null,null,null,{"$f":"COUNTIF(THF$3:THH$31,$A65)","v":0},null,null,null,{"$f":"COUNTIF(THJ$3:THL$31,$A65)","v":0},null,null,null,{"$f":"COUNTIF(THN$3:THP$31,$A65)","v":0},null,null,null,{"$f":"COUNTIF(THR$3:THT$31,$A65)","v":0},null,null,null,{"$f":"COUNTIF(THV$3:THX$31,$A65)","v":0},null,null,null,{"$f":"COUNTIF(THZ$3:TIB$31,$A65)","v":0},null,null,null,{"$f":"COUNTIF(TID$3:TIF$31,$A65)","v":0},null,null,null,{"$f":"COUNTIF(TIH$3:TIJ$31,$A65)","v":0},null,null,null,{"$f":"COUNTIF(TIL$3:TIN$31,$A65)","v":0},null,null,null,{"$f":"COUNTIF(TIP$3:TIR$31,$A65)","v":0},null,null,null,{"$f":"COUNTIF(TIT$3:TIV$31,$A65)","v":0},null,null,null,{"$f":"COUNTIF(TIX$3:TIZ$31,$A65)","v":0},null,null,null,{"$f":"COUNTIF(TJB$3:TJD$31,$A65)","v":0},null,null,null,{"$f":"COUNTIF(TJF$3:TJH$31,$A65)","v":0},null,null,null,{"$f":"COUNTIF(TJJ$3:TJL$31,$A65)","v":0},null,null,null,{"$f":"COUNTIF(TJN$3:TJP$31,$A65)","v":0},null,null,null,{"$f":"COUNTIF(TJR$3:TJT$31,$A65)","v":0},null,null,null,{"$f":"COUNTIF(TJV$3:TJX$31,$A65)","v":0},null,null,null,{"$f":"COUNTIF(TJZ$3:TKB$31,$A65)","v":0},null,null,null,{"$f":"COUNTIF(TKD$3:TKF$31,$A65)","v":0},null,null,null,{"$f":"COUNTIF(TKH$3:TKJ$31,$A65)","v":0},null,null,null,{"$f":"COUNTIF(TKL$3:TKN$31,$A65)","v":0},null,null,null,{"$f":"COUNTIF(TKP$3:TKR$31,$A65)","v":0},null,null,null,{"$f":"COUNTIF(TKT$3:TKV$31,$A65)","v":0},null,null,null,{"$f":"COUNTIF(TKX$3:TKZ$31,$A65)","v":0},null,null,null,{"$f":"COUNTIF(TLB$3:TLD$31,$A65)","v":0},null,null,null,{"$f":"COUNTIF(TLF$3:TLH$31,$A65)","v":0},null,null,null,{"$f":"COUNTIF(TLJ$3:TLL$31,$A65)","v":0},null,null,null,{"$f":"COUNTIF(TLN$3:TLP$31,$A65)","v":0},null,null,null,{"$f":"COUNTIF(TLR$3:TLT$31,$A65)","v":0},null,null,null,{"$f":"COUNTIF(TLV$3:TLX$31,$A65)","v":0},null,null,null,{"$f":"COUNTIF(TLZ$3:TMB$31,$A65)","v":0},null,null,null,{"$f":"COUNTIF(TMD$3:TMF$31,$A65)","v":0},null,null,null,{"$f":"COUNTIF(TMH$3:TMJ$31,$A65)","v":0},null,null,null,{"$f":"COUNTIF(TML$3:TMN$31,$A65)","v":0},null,null,null,{"$f":"COUNTIF(TMP$3:TMR$31,$A65)","v":0},null,null,null,{"$f":"COUNTIF(TMT$3:TMV$31,$A65)","v":0},null,null,null,{"$f":"COUNTIF(TMX$3:TMZ$31,$A65)","v":0},null,null,null,{"$f":"COUNTIF(TNB$3:TND$31,$A65)","v":0},null,null,null,{"$f":"COUNTIF(TNF$3:TNH$31,$A65)","v":0},null,null,null,{"$f":"COUNTIF(TNJ$3:TNL$31,$A65)","v":0},null,null,null,{"$f":"COUNTIF(TNN$3:TNP$31,$A65)","v":0},null,null,null,{"$f":"COUNTIF(TNR$3:TNT$31,$A65)","v":0},null,null,null,{"$f":"COUNTIF(TNV$3:TNX$31,$A65)","v":0},null,null,null,{"$f":"COUNTIF(TNZ$3:TOB$31,$A65)","v":0},null,null,null,{"$f":"COUNTIF(TOD$3:TOF$31,$A65)","v":0},null,null,null,{"$f":"COUNTIF(TOH$3:TOJ$31,$A65)","v":0},null,null,null,{"$f":"COUNTIF(TOL$3:TON$31,$A65)","v":0},null,null,null,{"$f":"COUNTIF(TOP$3:TOR$31,$A65)","v":0},null,null,null,{"$f":"COUNTIF(TOT$3:TOV$31,$A65)","v":0},null,null,null,{"$f":"COUNTIF(TOX$3:TOZ$31,$A65)","v":0},null,null,null,{"$f":"COUNTIF(TPB$3:TPD$31,$A65)","v":0},null,null,null,{"$f":"COUNTIF(TPF$3:TPH$31,$A65)","v":0},null,null,null,{"$f":"COUNTIF(TPJ$3:TPL$31,$A65)","v":0},null,null,null,{"$f":"COUNTIF(TPN$3:TPP$31,$A65)","v":0},null,null,null,{"$f":"COUNTIF(TPR$3:TPT$31,$A65)","v":0},null,null,null,{"$f":"COUNTIF(TPV$3:TPX$31,$A65)","v":0},null,null,null,{"$f":"COUNTIF(TPZ$3:TQB$31,$A65)","v":0},null,null,null,{"$f":"COUNTIF(TQD$3:TQF$31,$A65)","v":0},null,null,null,{"$f":"COUNTIF(TQH$3:TQJ$31,$A65)","v":0},null,null,null,{"$f":"COUNTIF(TQL$3:TQN$31,$A65)","v":0},null,null,null,{"$f":"COUNTIF(TQP$3:TQR$31,$A65)","v":0},null,null,null,{"$f":"COUNTIF(TQT$3:TQV$31,$A65)","v":0},null,null,null,{"$f":"COUNTIF(TQX$3:TQZ$31,$A65)","v":0},null,null,null,{"$f":"COUNTIF(TRB$3:TRD$31,$A65)","v":0},null,null,null,{"$f":"COUNTIF(TRF$3:TRH$31,$A65)","v":0},null,null,null,{"$f":"COUNTIF(TRJ$3:TRL$31,$A65)","v":0},null,null,null,{"$f":"COUNTIF(TRN$3:TRP$31,$A65)","v":0},null,null,null,{"$f":"COUNTIF(TRR$3:TRT$31,$A65)","v":0},null,null,null,{"$f":"COUNTIF(TRV$3:TRX$31,$A65)","v":0},null,null,null,{"$f":"COUNTIF(TRZ$3:TSB$31,$A65)","v":0},null,null,null,{"$f":"COUNTIF(TSD$3:TSF$31,$A65)","v":0},null,null,null,{"$f":"COUNTIF(TSH$3:TSJ$31,$A65)","v":0},null,null,null,{"$f":"COUNTIF(TSL$3:TSN$31,$A65)","v":0},null,null,null,{"$f":"COUNTIF(TSP$3:TSR$31,$A65)","v":0},null,null,null,{"$f":"COUNTIF(TST$3:TSV$31,$A65)","v":0},null,null,null,{"$f":"COUNTIF(TSX$3:TSZ$31,$A65)","v":0},null,null,null,{"$f":"COUNTIF(TTB$3:TTD$31,$A65)","v":0},null,null,null,{"$f":"COUNTIF(TTF$3:TTH$31,$A65)","v":0},null,null,null,{"$f":"COUNTIF(TTJ$3:TTL$31,$A65)","v":0},null,null,null,{"$f":"COUNTIF(TTN$3:TTP$31,$A65)","v":0},null,null,null,{"$f":"COUNTIF(TTR$3:TTT$31,$A65)","v":0},null,null,null,{"$f":"COUNTIF(TTV$3:TTX$31,$A65)","v":0},null,null,null,{"$f":"COUNTIF(TTZ$3:TUB$31,$A65)","v":0},null,null,null,{"$f":"COUNTIF(TUD$3:TUF$31,$A65)","v":0},null,null,null,{"$f":"COUNTIF(TUH$3:TUJ$31,$A65)","v":0},null,null,null,{"$f":"COUNTIF(TUL$3:TUN$31,$A65)","v":0},null,null,null,{"$f":"COUNTIF(TUP$3:TUR$31,$A65)","v":0},null,null,null,{"$f":"COUNTIF(TUT$3:TUV$31,$A65)","v":0},null,null,null,{"$f":"COUNTIF(TUX$3:TUZ$31,$A65)","v":0},null,null,null,{"$f":"COUNTIF(TVB$3:TVD$31,$A65)","v":0},null,null,null,{"$f":"COUNTIF(TVF$3:TVH$31,$A65)","v":0},null,null,null,{"$f":"COUNTIF(TVJ$3:TVL$31,$A65)","v":0},null,null,null,{"$f":"COUNTIF(TVN$3:TVP$31,$A65)","v":0},null,null,null,{"$f":"COUNTIF(TVR$3:TVT$31,$A65)","v":0},null,null,null,{"$f":"COUNTIF(TVV$3:TVX$31,$A65)","v":0},null,null,null,{"$f":"COUNTIF(TVZ$3:TWB$31,$A65)","v":0},null,null,null,{"$f":"COUNTIF(TWD$3:TWF$31,$A65)","v":0},null,null,null,{"$f":"COUNTIF(TWH$3:TWJ$31,$A65)","v":0},null,null,null,{"$f":"COUNTIF(TWL$3:TWN$31,$A65)","v":0},null,null,null,{"$f":"COUNTIF(TWP$3:TWR$31,$A65)","v":0},null,null,null,{"$f":"COUNTIF(TWT$3:TWV$31,$A65)","v":0},null,null,null,{"$f":"COUNTIF(TWX$3:TWZ$31,$A65)","v":0},null,null,null,{"$f":"COUNTIF(TXB$3:TXD$31,$A65)","v":0},null,null,null,{"$f":"COUNTIF(TXF$3:TXH$31,$A65)","v":0},null,null,null,{"$f":"COUNTIF(TXJ$3:TXL$31,$A65)","v":0},null,null,null,{"$f":"COUNTIF(TXN$3:TXP$31,$A65)","v":0},null,null,null,{"$f":"COUNTIF(TXR$3:TXT$31,$A65)","v":0},null,null,null,{"$f":"COUNTIF(TXV$3:TXX$31,$A65)","v":0},null,null,null,{"$f":"COUNTIF(TXZ$3:TYB$31,$A65)","v":0},null,null,null,{"$f":"COUNTIF(TYD$3:TYF$31,$A65)","v":0},null,null,null,{"$f":"COUNTIF(TYH$3:TYJ$31,$A65)","v":0},null,null,null,{"$f":"COUNTIF(TYL$3:TYN$31,$A65)","v":0},null,null,null,{"$f":"COUNTIF(TYP$3:TYR$31,$A65)","v":0},null,null,null,{"$f":"COUNTIF(TYT$3:TYV$31,$A65)","v":0},null,null,null,{"$f":"COUNTIF(TYX$3:TYZ$31,$A65)","v":0},null,null,null,{"$f":"COUNTIF(TZB$3:TZD$31,$A65)","v":0},null,null,null,{"$f":"COUNTIF(TZF$3:TZH$31,$A65)","v":0},null,null,null,{"$f":"COUNTIF(TZJ$3:TZL$31,$A65)","v":0},null,null,null,{"$f":"COUNTIF(TZN$3:TZP$31,$A65)","v":0},null,null,null,{"$f":"COUNTIF(TZR$3:TZT$31,$A65)","v":0},null,null,null,{"$f":"COUNTIF(TZV$3:TZX$31,$A65)","v":0},null,null,null,{"$f":"COUNTIF(TZZ$3:UAB$31,$A65)","v":0},null,null,null,{"$f":"COUNTIF(UAD$3:UAF$31,$A65)","v":0},null,null,null,{"$f":"COUNTIF(UAH$3:UAJ$31,$A65)","v":0},null,null,null,{"$f":"COUNTIF(UAL$3:UAN$31,$A65)","v":0},null,null,null,{"$f":"COUNTIF(UAP$3:UAR$31,$A65)","v":0},null,null,null,{"$f":"COUNTIF(UAT$3:UAV$31,$A65)","v":0},null,null,null,{"$f":"COUNTIF(UAX$3:UAZ$31,$A65)","v":0},null,null,null,{"$f":"COUNTIF(UBB$3:UBD$31,$A65)","v":0},null,null,null,{"$f":"COUNTIF(UBF$3:UBH$31,$A65)","v":0},null,null,null,{"$f":"COUNTIF(UBJ$3:UBL$31,$A65)","v":0},null,null,null,{"$f":"COUNTIF(UBN$3:UBP$31,$A65)","v":0},null,null,null,{"$f":"COUNTIF(UBR$3:UBT$31,$A65)","v":0},null,null,null,{"$f":"COUNTIF(UBV$3:UBX$31,$A65)","v":0},null,null,null,{"$f":"COUNTIF(UBZ$3:UCB$31,$A65)","v":0},null,null,null,{"$f":"COUNTIF(UCD$3:UCF$31,$A65)","v":0},null,null,null,{"$f":"COUNTIF(UCH$3:UCJ$31,$A65)","v":0},null,null,null,{"$f":"COUNTIF(UCL$3:UCN$31,$A65)","v":0},null,null,null,{"$f":"COUNTIF(UCP$3:UCR$31,$A65)","v":0},null,null,null,{"$f":"COUNTIF(UCT$3:UCV$31,$A65)","v":0},null,null,null,{"$f":"COUNTIF(UCX$3:UCZ$31,$A65)","v":0},null,null,null,{"$f":"COUNTIF(UDB$3:UDD$31,$A65)","v":0},null,null,null,{"$f":"COUNTIF(UDF$3:UDH$31,$A65)","v":0},null,null,null,{"$f":"COUNTIF(UDJ$3:UDL$31,$A65)","v":0},null,null,null,{"$f":"COUNTIF(UDN$3:UDP$31,$A65)","v":0},null,null,null,{"$f":"COUNTIF(UDR$3:UDT$31,$A65)","v":0},null,null,null,{"$f":"COUNTIF(UDV$3:UDX$31,$A65)","v":0},null,null,null,{"$f":"COUNTIF(UDZ$3:UEB$31,$A65)","v":0},null,null,null,{"$f":"COUNTIF(UED$3:UEF$31,$A65)","v":0},null,null,null,{"$f":"COUNTIF(UEH$3:UEJ$31,$A65)","v":0},null,null,null,{"$f":"COUNTIF(UEL$3:UEN$31,$A65)","v":0},null,null,null,{"$f":"COUNTIF(UEP$3:UER$31,$A65)","v":0},null,null,null,{"$f":"COUNTIF(UET$3:UEV$31,$A65)","v":0},null,null,null,{"$f":"COUNTIF(UEX$3:UEZ$31,$A65)","v":0},null,null,null,{"$f":"COUNTIF(UFB$3:UFD$31,$A65)","v":0},null,null,null,{"$f":"COUNTIF(UFF$3:UFH$31,$A65)","v":0},null,null,null,{"$f":"COUNTIF(UFJ$3:UFL$31,$A65)","v":0},null,null,null,{"$f":"COUNTIF(UFN$3:UFP$31,$A65)","v":0},null,null,null,{"$f":"COUNTIF(UFR$3:UFT$31,$A65)","v":0},null,null,null,{"$f":"COUNTIF(UFV$3:UFX$31,$A65)","v":0},null,null,null,{"$f":"COUNTIF(UFZ$3:UGB$31,$A65)","v":0},null,null,null,{"$f":"COUNTIF(UGD$3:UGF$31,$A65)","v":0},null,null,null,{"$f":"COUNTIF(UGH$3:UGJ$31,$A65)","v":0},null,null,null,{"$f":"COUNTIF(UGL$3:UGN$31,$A65)","v":0},null,null,null,{"$f":"COUNTIF(UGP$3:UGR$31,$A65)","v":0},null,null,null,{"$f":"COUNTIF(UGT$3:UGV$31,$A65)","v":0},null,null,null,{"$f":"COUNTIF(UGX$3:UGZ$31,$A65)","v":0},null,null,null,{"$f":"COUNTIF(UHB$3:UHD$31,$A65)","v":0},null,null,null,{"$f":"COUNTIF(UHF$3:UHH$31,$A65)","v":0},null,null,null,{"$f":"COUNTIF(UHJ$3:UHL$31,$A65)","v":0},null,null,null,{"$f":"COUNTIF(UHN$3:UHP$31,$A65)","v":0},null,null,null,{"$f":"COUNTIF(UHR$3:UHT$31,$A65)","v":0},null,null,null,{"$f":"COUNTIF(UHV$3:UHX$31,$A65)","v":0},null,null,null,{"$f":"COUNTIF(UHZ$3:UIB$31,$A65)","v":0},null,null,null,{"$f":"COUNTIF(UID$3:UIF$31,$A65)","v":0},null,null,null,{"$f":"COUNTIF(UIH$3:UIJ$31,$A65)","v":0},null,null,null,{"$f":"COUNTIF(UIL$3:UIN$31,$A65)","v":0},null,null,null,{"$f":"COUNTIF(UIP$3:UIR$31,$A65)","v":0},null,null,null,{"$f":"COUNTIF(UIT$3:UIV$31,$A65)","v":0},null,null,null,{"$f":"COUNTIF(UIX$3:UIZ$31,$A65)","v":0},null,null,null,{"$f":"COUNTIF(UJB$3:UJD$31,$A65)","v":0},null,null,null,{"$f":"COUNTIF(UJF$3:UJH$31,$A65)","v":0},null,null,null,{"$f":"COUNTIF(UJJ$3:UJL$31,$A65)","v":0},null,null,null,{"$f":"COUNTIF(UJN$3:UJP$31,$A65)","v":0},null,null,null,{"$f":"COUNTIF(UJR$3:UJT$31,$A65)","v":0},null,null,null,{"$f":"COUNTIF(UJV$3:UJX$31,$A65)","v":0},null,null,null,{"$f":"COUNTIF(UJZ$3:UKB$31,$A65)","v":0},null,null,null,{"$f":"COUNTIF(UKD$3:UKF$31,$A65)","v":0},null,null,null,{"$f":"COUNTIF(UKH$3:UKJ$31,$A65)","v":0},null,null,null,{"$f":"COUNTIF(UKL$3:UKN$31,$A65)","v":0},null,null,null,{"$f":"COUNTIF(UKP$3:UKR$31,$A65)","v":0},null,null,null,{"$f":"COUNTIF(UKT$3:UKV$31,$A65)","v":0},null,null,null,{"$f":"COUNTIF(UKX$3:UKZ$31,$A65)","v":0},null,null,null,{"$f":"COUNTIF(ULB$3:ULD$31,$A65)","v":0},null,null,null,{"$f":"COUNTIF(ULF$3:ULH$31,$A65)","v":0},null,null,null,{"$f":"COUNTIF(ULJ$3:ULL$31,$A65)","v":0},null,null,null,{"$f":"COUNTIF(ULN$3:ULP$31,$A65)","v":0},null,null,null,{"$f":"COUNTIF(ULR$3:ULT$31,$A65)","v":0},null,null,null,{"$f":"COUNTIF(ULV$3:ULX$31,$A65)","v":0},null,null,null,{"$f":"COUNTIF(ULZ$3:UMB$31,$A65)","v":0},null,null,null,{"$f":"COUNTIF(UMD$3:UMF$31,$A65)","v":0},null,null,null,{"$f":"COUNTIF(UMH$3:UMJ$31,$A65)","v":0},null,null,null,{"$f":"COUNTIF(UML$3:UMN$31,$A65)","v":0},null,null,null,{"$f":"COUNTIF(UMP$3:UMR$31,$A65)","v":0},null,null,null,{"$f":"COUNTIF(UMT$3:UMV$31,$A65)","v":0},null,null,null,{"$f":"COUNTIF(UMX$3:UMZ$31,$A65)","v":0},null,null,null,{"$f":"COUNTIF(UNB$3:UND$31,$A65)","v":0},null,null,null,{"$f":"COUNTIF(UNF$3:UNH$31,$A65)","v":0},null,null,null,{"$f":"COUNTIF(UNJ$3:UNL$31,$A65)","v":0},null,null,null,{"$f":"COUNTIF(UNN$3:UNP$31,$A65)","v":0},null,null,null,{"$f":"COUNTIF(UNR$3:UNT$31,$A65)","v":0},null,null,null,{"$f":"COUNTIF(UNV$3:UNX$31,$A65)","v":0},null,null,null,{"$f":"COUNTIF(UNZ$3:UOB$31,$A65)","v":0},null,null,null,{"$f":"COUNTIF(UOD$3:UOF$31,$A65)","v":0},null,null,null,{"$f":"COUNTIF(UOH$3:UOJ$31,$A65)","v":0},null,null,null,{"$f":"COUNTIF(UOL$3:UON$31,$A65)","v":0},null,null,null,{"$f":"COUNTIF(UOP$3:UOR$31,$A65)","v":0},null,null,null,{"$f":"COUNTIF(UOT$3:UOV$31,$A65)","v":0},null,null,null,{"$f":"COUNTIF(UOX$3:UOZ$31,$A65)","v":0},null,null,null,{"$f":"COUNTIF(UPB$3:UPD$31,$A65)","v":0},null,null,null,{"$f":"COUNTIF(UPF$3:UPH$31,$A65)","v":0},null,null,null,{"$f":"COUNTIF(UPJ$3:UPL$31,$A65)","v":0},null,null,null,{"$f":"COUNTIF(UPN$3:UPP$31,$A65)","v":0},null,null,null,{"$f":"COUNTIF(UPR$3:UPT$31,$A65)","v":0},null,null,null,{"$f":"COUNTIF(UPV$3:UPX$31,$A65)","v":0},null,null,null,{"$f":"COUNTIF(UPZ$3:UQB$31,$A65)","v":0},null,null,null,{"$f":"COUNTIF(UQD$3:UQF$31,$A65)","v":0},null,null,null,{"$f":"COUNTIF(UQH$3:UQJ$31,$A65)","v":0},null,null,null,{"$f":"COUNTIF(UQL$3:UQN$31,$A65)","v":0},null,null,null,{"$f":"COUNTIF(UQP$3:UQR$31,$A65)","v":0},null,null,null,{"$f":"COUNTIF(UQT$3:UQV$31,$A65)","v":0},null,null,null,{"$f":"COUNTIF(UQX$3:UQZ$31,$A65)","v":0},null,null,null,{"$f":"COUNTIF(URB$3:URD$31,$A65)","v":0},null,null,null,{"$f":"COUNTIF(URF$3:URH$31,$A65)","v":0},null,null,null,{"$f":"COUNTIF(URJ$3:URL$31,$A65)","v":0},null,null,null,{"$f":"COUNTIF(URN$3:URP$31,$A65)","v":0},null,null,null,{"$f":"COUNTIF(URR$3:URT$31,$A65)","v":0},null,null,null,{"$f":"COUNTIF(URV$3:URX$31,$A65)","v":0},null,null,null,{"$f":"COUNTIF(URZ$3:USB$31,$A65)","v":0},null,null,null,{"$f":"COUNTIF(USD$3:USF$31,$A65)","v":0},null,null,null,{"$f":"COUNTIF(USH$3:USJ$31,$A65)","v":0},null,null,null,{"$f":"COUNTIF(USL$3:USN$31,$A65)","v":0},null,null,null,{"$f":"COUNTIF(USP$3:USR$31,$A65)","v":0},null,null,null,{"$f":"COUNTIF(UST$3:USV$31,$A65)","v":0},null,null,null,{"$f":"COUNTIF(USX$3:USZ$31,$A65)","v":0},null,null,null,{"$f":"COUNTIF(UTB$3:UTD$31,$A65)","v":0},null,null,null,{"$f":"COUNTIF(UTF$3:UTH$31,$A65)","v":0},null,null,null,{"$f":"COUNTIF(UTJ$3:UTL$31,$A65)","v":0},null,null,null,{"$f":"COUNTIF(UTN$3:UTP$31,$A65)","v":0},null,null,null,{"$f":"COUNTIF(UTR$3:UTT$31,$A65)","v":0},null,null,null,{"$f":"COUNTIF(UTV$3:UTX$31,$A65)","v":0},null,null,null,{"$f":"COUNTIF(UTZ$3:UUB$31,$A65)","v":0},null,null,null,{"$f":"COUNTIF(UUD$3:UUF$31,$A65)","v":0},null,null,null,{"$f":"COUNTIF(UUH$3:UUJ$31,$A65)","v":0},null,null,null,{"$f":"COUNTIF(UUL$3:UUN$31,$A65)","v":0},null,null,null,{"$f":"COUNTIF(UUP$3:UUR$31,$A65)","v":0},null,null,null,{"$f":"COUNTIF(UUT$3:UUV$31,$A65)","v":0},null,null,null,{"$f":"COUNTIF(UUX$3:UUZ$31,$A65)","v":0},null,null,null,{"$f":"COUNTIF(UVB$3:UVD$31,$A65)","v":0},null,null,null,{"$f":"COUNTIF(UVF$3:UVH$31,$A65)","v":0},null,null,null,{"$f":"COUNTIF(UVJ$3:UVL$31,$A65)","v":0},null,null,null,{"$f":"COUNTIF(UVN$3:UVP$31,$A65)","v":0},null,null,null,{"$f":"COUNTIF(UVR$3:UVT$31,$A65)","v":0},null,null,null,{"$f":"COUNTIF(UVV$3:UVX$31,$A65)","v":0},null,null,null,{"$f":"COUNTIF(UVZ$3:UWB$31,$A65)","v":0},null,null,null,{"$f":"COUNTIF(UWD$3:UWF$31,$A65)","v":0},null,null,null,{"$f":"COUNTIF(UWH$3:UWJ$31,$A65)","v":0},null,null,null,{"$f":"COUNTIF(UWL$3:UWN$31,$A65)","v":0},null,null,null,{"$f":"COUNTIF(UWP$3:UWR$31,$A65)","v":0},null,null,null,{"$f":"COUNTIF(UWT$3:UWV$31,$A65)","v":0},null,null,null,{"$f":"COUNTIF(UWX$3:UWZ$31,$A65)","v":0},null,null,null,{"$f":"COUNTIF(UXB$3:UXD$31,$A65)","v":0},null,null,null,{"$f":"COUNTIF(UXF$3:UXH$31,$A65)","v":0},null,null,null,{"$f":"COUNTIF(UXJ$3:UXL$31,$A65)","v":0},null,null,null,{"$f":"COUNTIF(UXN$3:UXP$31,$A65)","v":0},null,null,null,{"$f":"COUNTIF(UXR$3:UXT$31,$A65)","v":0},null,null,null,{"$f":"COUNTIF(UXV$3:UXX$31,$A65)","v":0},null,null,null,{"$f":"COUNTIF(UXZ$3:UYB$31,$A65)","v":0},null,null,null,{"$f":"COUNTIF(UYD$3:UYF$31,$A65)","v":0},null,null,null,{"$f":"COUNTIF(UYH$3:UYJ$31,$A65)","v":0},null,null,null,{"$f":"COUNTIF(UYL$3:UYN$31,$A65)","v":0},null,null,null,{"$f":"COUNTIF(UYP$3:UYR$31,$A65)","v":0},null,null,null,{"$f":"COUNTIF(UYT$3:UYV$31,$A65)","v":0},null,null,null,{"$f":"COUNTIF(UYX$3:UYZ$31,$A65)","v":0},null,null,null,{"$f":"COUNTIF(UZB$3:UZD$31,$A65)","v":0},null,null,null,{"$f":"COUNTIF(UZF$3:UZH$31,$A65)","v":0},null,null,null,{"$f":"COUNTIF(UZJ$3:UZL$31,$A65)","v":0},null,null,null,{"$f":"COUNTIF(UZN$3:UZP$31,$A65)","v":0},null,null,null,{"$f":"COUNTIF(UZR$3:UZT$31,$A65)","v":0},null,null,null,{"$f":"COUNTIF(UZV$3:UZX$31,$A65)","v":0},null,null,null,{"$f":"COUNTIF(UZZ$3:VAB$31,$A65)","v":0},null,null,null,{"$f":"COUNTIF(VAD$3:VAF$31,$A65)","v":0},null,null,null,{"$f":"COUNTIF(VAH$3:VAJ$31,$A65)","v":0},null,null,null,{"$f":"COUNTIF(VAL$3:VAN$31,$A65)","v":0},null,null,null,{"$f":"COUNTIF(VAP$3:VAR$31,$A65)","v":0},null,null,null,{"$f":"COUNTIF(VAT$3:VAV$31,$A65)","v":0},null,null,null,{"$f":"COUNTIF(VAX$3:VAZ$31,$A65)","v":0},null,null,null,{"$f":"COUNTIF(VBB$3:VBD$31,$A65)","v":0},null,null,null,{"$f":"COUNTIF(VBF$3:VBH$31,$A65)","v":0},null,null,null,{"$f":"COUNTIF(VBJ$3:VBL$31,$A65)","v":0},null,null,null,{"$f":"COUNTIF(VBN$3:VBP$31,$A65)","v":0},null,null,null,{"$f":"COUNTIF(VBR$3:VBT$31,$A65)","v":0},null,null,null,{"$f":"COUNTIF(VBV$3:VBX$31,$A65)","v":0},null,null,null,{"$f":"COUNTIF(VBZ$3:VCB$31,$A65)","v":0},null,null,null,{"$f":"COUNTIF(VCD$3:VCF$31,$A65)","v":0},null,null,null,{"$f":"COUNTIF(VCH$3:VCJ$31,$A65)","v":0},null,null,null,{"$f":"COUNTIF(VCL$3:VCN$31,$A65)","v":0},null,null,null,{"$f":"COUNTIF(VCP$3:VCR$31,$A65)","v":0},null,null,null,{"$f":"COUNTIF(VCT$3:VCV$31,$A65)","v":0},null,null,null,{"$f":"COUNTIF(VCX$3:VCZ$31,$A65)","v":0},null,null,null,{"$f":"COUNTIF(VDB$3:VDD$31,$A65)","v":0},null,null,null,{"$f":"COUNTIF(VDF$3:VDH$31,$A65)","v":0},null,null,null,{"$f":"COUNTIF(VDJ$3:VDL$31,$A65)","v":0},null,null,null,{"$f":"COUNTIF(VDN$3:VDP$31,$A65)","v":0},null,null,null,{"$f":"COUNTIF(VDR$3:VDT$31,$A65)","v":0},null,null,null,{"$f":"COUNTIF(VDV$3:VDX$31,$A65)","v":0},null,null,null,{"$f":"COUNTIF(VDZ$3:VEB$31,$A65)","v":0},null,null,null,{"$f":"COUNTIF(VED$3:VEF$31,$A65)","v":0},null,null,null,{"$f":"COUNTIF(VEH$3:VEJ$31,$A65)","v":0},null,null,null,{"$f":"COUNTIF(VEL$3:VEN$31,$A65)","v":0},null,null,null,{"$f":"COUNTIF(VEP$3:VER$31,$A65)","v":0},null,null,null,{"$f":"COUNTIF(VET$3:VEV$31,$A65)","v":0},null,null,null,{"$f":"COUNTIF(VEX$3:VEZ$31,$A65)","v":0},null,null,null,{"$f":"COUNTIF(VFB$3:VFD$31,$A65)","v":0},null,null,null,{"$f":"COUNTIF(VFF$3:VFH$31,$A65)","v":0},null,null,null,{"$f":"COUNTIF(VFJ$3:VFL$31,$A65)","v":0},null,null,null,{"$f":"COUNTIF(VFN$3:VFP$31,$A65)","v":0},null,null,null,{"$f":"COUNTIF(VFR$3:VFT$31,$A65)","v":0},null,null,null,{"$f":"COUNTIF(VFV$3:VFX$31,$A65)","v":0},null,null,null,{"$f":"COUNTIF(VFZ$3:VGB$31,$A65)","v":0},null,null,null,{"$f":"COUNTIF(VGD$3:VGF$31,$A65)","v":0},null,null,null,{"$f":"COUNTIF(VGH$3:VGJ$31,$A65)","v":0},null,null,null,{"$f":"COUNTIF(VGL$3:VGN$31,$A65)","v":0},null,null,null,{"$f":"COUNTIF(VGP$3:VGR$31,$A65)","v":0},null,null,null,{"$f":"COUNTIF(VGT$3:VGV$31,$A65)","v":0},null,null,null,{"$f":"COUNTIF(VGX$3:VGZ$31,$A65)","v":0},null,null,null,{"$f":"COUNTIF(VHB$3:VHD$31,$A65)","v":0},null,null,null,{"$f":"COUNTIF(VHF$3:VHH$31,$A65)","v":0},null,null,null,{"$f":"COUNTIF(VHJ$3:VHL$31,$A65)","v":0},null,null,null,{"$f":"COUNTIF(VHN$3:VHP$31,$A65)","v":0},null,null,null,{"$f":"COUNTIF(VHR$3:VHT$31,$A65)","v":0},null,null,null,{"$f":"COUNTIF(VHV$3:VHX$31,$A65)","v":0},null,null,null,{"$f":"COUNTIF(VHZ$3:VIB$31,$A65)","v":0},null,null,null,{"$f":"COUNTIF(VID$3:VIF$31,$A65)","v":0},null,null,null,{"$f":"COUNTIF(VIH$3:VIJ$31,$A65)","v":0},null,null,null,{"$f":"COUNTIF(VIL$3:VIN$31,$A65)","v":0},null,null,null,{"$f":"COUNTIF(VIP$3:VIR$31,$A65)","v":0},null,null,null,{"$f":"COUNTIF(VIT$3:VIV$31,$A65)","v":0},null,null,null,{"$f":"COUNTIF(VIX$3:VIZ$31,$A65)","v":0},null,null,null,{"$f":"COUNTIF(VJB$3:VJD$31,$A65)","v":0},null,null,null,{"$f":"COUNTIF(VJF$3:VJH$31,$A65)","v":0},null,null,null,{"$f":"COUNTIF(VJJ$3:VJL$31,$A65)","v":0},null,null,null,{"$f":"COUNTIF(VJN$3:VJP$31,$A65)","v":0},null,null,null,{"$f":"COUNTIF(VJR$3:VJT$31,$A65)","v":0},null,null,null,{"$f":"COUNTIF(VJV$3:VJX$31,$A65)","v":0},null,null,null,{"$f":"COUNTIF(VJZ$3:VKB$31,$A65)","v":0},null,null,null,{"$f":"COUNTIF(VKD$3:VKF$31,$A65)","v":0},null,null,null,{"$f":"COUNTIF(VKH$3:VKJ$31,$A65)","v":0},null,null,null,{"$f":"COUNTIF(VKL$3:VKN$31,$A65)","v":0},null,null,null,{"$f":"COUNTIF(VKP$3:VKR$31,$A65)","v":0},null,null,null,{"$f":"COUNTIF(VKT$3:VKV$31,$A65)","v":0},null,null,null,{"$f":"COUNTIF(VKX$3:VKZ$31,$A65)","v":0},null,null,null,{"$f":"COUNTIF(VLB$3:VLD$31,$A65)","v":0},null,null,null,{"$f":"COUNTIF(VLF$3:VLH$31,$A65)","v":0},null,null,null,{"$f":"COUNTIF(VLJ$3:VLL$31,$A65)","v":0},null,null,null,{"$f":"COUNTIF(VLN$3:VLP$31,$A65)","v":0},null,null,null,{"$f":"COUNTIF(VLR$3:VLT$31,$A65)","v":0},null,null,null,{"$f":"COUNTIF(VLV$3:VLX$31,$A65)","v":0},null,null,null,{"$f":"COUNTIF(VLZ$3:VMB$31,$A65)","v":0},null,null,null,{"$f":"COUNTIF(VMD$3:VMF$31,$A65)","v":0},null,null,null,{"$f":"COUNTIF(VMH$3:VMJ$31,$A65)","v":0},null,null,null,{"$f":"COUNTIF(VML$3:VMN$31,$A65)","v":0},null,null,null,{"$f":"COUNTIF(VMP$3:VMR$31,$A65)","v":0},null,null,null,{"$f":"COUNTIF(VMT$3:VMV$31,$A65)","v":0},null,null,null,{"$f":"COUNTIF(VMX$3:VMZ$31,$A65)","v":0},null,null,null,{"$f":"COUNTIF(VNB$3:VND$31,$A65)","v":0},null,null,null,{"$f":"COUNTIF(VNF$3:VNH$31,$A65)","v":0},null,null,null,{"$f":"COUNTIF(VNJ$3:VNL$31,$A65)","v":0},null,null,null,{"$f":"COUNTIF(VNN$3:VNP$31,$A65)","v":0},null,null,null,{"$f":"COUNTIF(VNR$3:VNT$31,$A65)","v":0},null,null,null,{"$f":"COUNTIF(VNV$3:VNX$31,$A65)","v":0},null,null,null,{"$f":"COUNTIF(VNZ$3:VOB$31,$A65)","v":0},null,null,null,{"$f":"COUNTIF(VOD$3:VOF$31,$A65)","v":0},null,null,null,{"$f":"COUNTIF(VOH$3:VOJ$31,$A65)","v":0},null,null,null,{"$f":"COUNTIF(VOL$3:VON$31,$A65)","v":0},null,null,null,{"$f":"COUNTIF(VOP$3:VOR$31,$A65)","v":0},null,null,null,{"$f":"COUNTIF(VOT$3:VOV$31,$A65)","v":0},null,null,null,{"$f":"COUNTIF(VOX$3:VOZ$31,$A65)","v":0},null,null,null,{"$f":"COUNTIF(VPB$3:VPD$31,$A65)","v":0},null,null,null,{"$f":"COUNTIF(VPF$3:VPH$31,$A65)","v":0},null,null,null,{"$f":"COUNTIF(VPJ$3:VPL$31,$A65)","v":0},null,null,null,{"$f":"COUNTIF(VPN$3:VPP$31,$A65)","v":0},null,null,null,{"$f":"COUNTIF(VPR$3:VPT$31,$A65)","v":0},null,null,null,{"$f":"COUNTIF(VPV$3:VPX$31,$A65)","v":0},null,null,null,{"$f":"COUNTIF(VPZ$3:VQB$31,$A65)","v":0},null,null,null,{"$f":"COUNTIF(VQD$3:VQF$31,$A65)","v":0},null,null,null,{"$f":"COUNTIF(VQH$3:VQJ$31,$A65)","v":0},null,null,null,{"$f":"COUNTIF(VQL$3:VQN$31,$A65)","v":0},null,null,null,{"$f":"COUNTIF(VQP$3:VQR$31,$A65)","v":0},null,null,null,{"$f":"COUNTIF(VQT$3:VQV$31,$A65)","v":0},null,null,null,{"$f":"COUNTIF(VQX$3:VQZ$31,$A65)","v":0},null,null,null,{"$f":"COUNTIF(VRB$3:VRD$31,$A65)","v":0},null,null,null,{"$f":"COUNTIF(VRF$3:VRH$31,$A65)","v":0},null,null,null,{"$f":"COUNTIF(VRJ$3:VRL$31,$A65)","v":0},null,null,null,{"$f":"COUNTIF(VRN$3:VRP$31,$A65)","v":0},null,null,null,{"$f":"COUNTIF(VRR$3:VRT$31,$A65)","v":0},null,null,null,{"$f":"COUNTIF(VRV$3:VRX$31,$A65)","v":0},null,null,null,{"$f":"COUNTIF(VRZ$3:VSB$31,$A65)","v":0},null,null,null,{"$f":"COUNTIF(VSD$3:VSF$31,$A65)","v":0},null,null,null,{"$f":"COUNTIF(VSH$3:VSJ$31,$A65)","v":0},null,null,null,{"$f":"COUNTIF(VSL$3:VSN$31,$A65)","v":0},null,null,null,{"$f":"COUNTIF(VSP$3:VSR$31,$A65)","v":0},null,null,null,{"$f":"COUNTIF(VST$3:VSV$31,$A65)","v":0},null,null,null,{"$f":"COUNTIF(VSX$3:VSZ$31,$A65)","v":0},null,null,null,{"$f":"COUNTIF(VTB$3:VTD$31,$A65)","v":0},null,null,null,{"$f":"COUNTIF(VTF$3:VTH$31,$A65)","v":0},null,null,null,{"$f":"COUNTIF(VTJ$3:VTL$31,$A65)","v":0},null,null,null,{"$f":"COUNTIF(VTN$3:VTP$31,$A65)","v":0},null,null,null,{"$f":"COUNTIF(VTR$3:VTT$31,$A65)","v":0},null,null,null,{"$f":"COUNTIF(VTV$3:VTX$31,$A65)","v":0},null,null,null,{"$f":"COUNTIF(VTZ$3:VUB$31,$A65)","v":0},null,null,null,{"$f":"COUNTIF(VUD$3:VUF$31,$A65)","v":0},null,null,null,{"$f":"COUNTIF(VUH$3:VUJ$31,$A65)","v":0},null,null,null,{"$f":"COUNTIF(VUL$3:VUN$31,$A65)","v":0},null,null,null,{"$f":"COUNTIF(VUP$3:VUR$31,$A65)","v":0},null,null,null,{"$f":"COUNTIF(VUT$3:VUV$31,$A65)","v":0},null,null,null,{"$f":"COUNTIF(VUX$3:VUZ$31,$A65)","v":0},null,null,null,{"$f":"COUNTIF(VVB$3:VVD$31,$A65)","v":0},null,null,null,{"$f":"COUNTIF(VVF$3:VVH$31,$A65)","v":0},null,null,null,{"$f":"COUNTIF(VVJ$3:VVL$31,$A65)","v":0},null,null,null,{"$f":"COUNTIF(VVN$3:VVP$31,$A65)","v":0},null,null,null,{"$f":"COUNTIF(VVR$3:VVT$31,$A65)","v":0},null,null,null,{"$f":"COUNTIF(VVV$3:VVX$31,$A65)","v":0},null,null,null,{"$f":"COUNTIF(VVZ$3:VWB$31,$A65)","v":0},null,null,null,{"$f":"COUNTIF(VWD$3:VWF$31,$A65)","v":0},null,null,null,{"$f":"COUNTIF(VWH$3:VWJ$31,$A65)","v":0},null,null,null,{"$f":"COUNTIF(VWL$3:VWN$31,$A65)","v":0},null,null,null,{"$f":"COUNTIF(VWP$3:VWR$31,$A65)","v":0},null,null,null,{"$f":"COUNTIF(VWT$3:VWV$31,$A65)","v":0},null,null,null,{"$f":"COUNTIF(VWX$3:VWZ$31,$A65)","v":0},null,null,null,{"$f":"COUNTIF(VXB$3:VXD$31,$A65)","v":0},null,null,null,{"$f":"COUNTIF(VXF$3:VXH$31,$A65)","v":0},null,null,null,{"$f":"COUNTIF(VXJ$3:VXL$31,$A65)","v":0},null,null,null,{"$f":"COUNTIF(VXN$3:VXP$31,$A65)","v":0},null,null,null,{"$f":"COUNTIF(VXR$3:VXT$31,$A65)","v":0},null,null,null,{"$f":"COUNTIF(VXV$3:VXX$31,$A65)","v":0},null,null,null,{"$f":"COUNTIF(VXZ$3:VYB$31,$A65)","v":0},null,null,null,{"$f":"COUNTIF(VYD$3:VYF$31,$A65)","v":0},null,null,null,{"$f":"COUNTIF(VYH$3:VYJ$31,$A65)","v":0},null,null,null,{"$f":"COUNTIF(VYL$3:VYN$31,$A65)","v":0},null,null,null,{"$f":"COUNTIF(VYP$3:VYR$31,$A65)","v":0},null,null,null,{"$f":"COUNTIF(VYT$3:VYV$31,$A65)","v":0},null,null,null,{"$f":"COUNTIF(VYX$3:VYZ$31,$A65)","v":0},null,null,null,{"$f":"COUNTIF(VZB$3:VZD$31,$A65)","v":0},null,null,null,{"$f":"COUNTIF(VZF$3:VZH$31,$A65)","v":0},null,null,null,{"$f":"COUNTIF(VZJ$3:VZL$31,$A65)","v":0},null,null,null,{"$f":"COUNTIF(VZN$3:VZP$31,$A65)","v":0},null,null,null,{"$f":"COUNTIF(VZR$3:VZT$31,$A65)","v":0},null,null,null,{"$f":"COUNTIF(VZV$3:VZX$31,$A65)","v":0},null,null,null,{"$f":"COUNTIF(VZZ$3:WAB$31,$A65)","v":0},null,null,null,{"$f":"COUNTIF(WAD$3:WAF$31,$A65)","v":0},null,null,null,{"$f":"COUNTIF(WAH$3:WAJ$31,$A65)","v":0},null,null,null,{"$f":"COUNTIF(WAL$3:WAN$31,$A65)","v":0},null,null,null,{"$f":"COUNTIF(WAP$3:WAR$31,$A65)","v":0},null,null,null,{"$f":"COUNTIF(WAT$3:WAV$31,$A65)","v":0},null,null,null,{"$f":"COUNTIF(WAX$3:WAZ$31,$A65)","v":0},null,null,null,{"$f":"COUNTIF(WBB$3:WBD$31,$A65)","v":0},null,null,null,{"$f":"COUNTIF(WBF$3:WBH$31,$A65)","v":0},null,null,null,{"$f":"COUNTIF(WBJ$3:WBL$31,$A65)","v":0},null,null,null,{"$f":"COUNTIF(WBN$3:WBP$31,$A65)","v":0},null,null,null,{"$f":"COUNTIF(WBR$3:WBT$31,$A65)","v":0},null,null,null,{"$f":"COUNTIF(WBV$3:WBX$31,$A65)","v":0},null,null,null,{"$f":"COUNTIF(WBZ$3:WCB$31,$A65)","v":0},null,null,null,{"$f":"COUNTIF(WCD$3:WCF$31,$A65)","v":0},null,null,null,{"$f":"COUNTIF(WCH$3:WCJ$31,$A65)","v":0},null,null,null,{"$f":"COUNTIF(WCL$3:WCN$31,$A65)","v":0},null,null,null,{"$f":"COUNTIF(WCP$3:WCR$31,$A65)","v":0},null,null,null,{"$f":"COUNTIF(WCT$3:WCV$31,$A65)","v":0},null,null,null,{"$f":"COUNTIF(WCX$3:WCZ$31,$A65)","v":0},null,null,null,{"$f":"COUNTIF(WDB$3:WDD$31,$A65)","v":0},null,null,null,{"$f":"COUNTIF(WDF$3:WDH$31,$A65)","v":0},null,null,null,{"$f":"COUNTIF(WDJ$3:WDL$31,$A65)","v":0},null,null,null,{"$f":"COUNTIF(WDN$3:WDP$31,$A65)","v":0},null,null,null,{"$f":"COUNTIF(WDR$3:WDT$31,$A65)","v":0},null,null,null,{"$f":"COUNTIF(WDV$3:WDX$31,$A65)","v":0},null,null,null,{"$f":"COUNTIF(WDZ$3:WEB$31,$A65)","v":0},null,null,null,{"$f":"COUNTIF(WED$3:WEF$31,$A65)","v":0},null,null,null,{"$f":"COUNTIF(WEH$3:WEJ$31,$A65)","v":0},null,null,null,{"$f":"COUNTIF(WEL$3:WEN$31,$A65)","v":0},null,null,null,{"$f":"COUNTIF(WEP$3:WER$31,$A65)","v":0},null,null,null,{"$f":"COUNTIF(WET$3:WEV$31,$A65)","v":0},null,null,null,{"$f":"COUNTIF(WEX$3:WEZ$31,$A65)","v":0},null,null,null,{"$f":"COUNTIF(WFB$3:WFD$31,$A65)","v":0},null,null,null,{"$f":"COUNTIF(WFF$3:WFH$31,$A65)","v":0},null,null,null,{"$f":"COUNTIF(WFJ$3:WFL$31,$A65)","v":0},null,null,null,{"$f":"COUNTIF(WFN$3:WFP$31,$A65)","v":0},null,null,null,{"$f":"COUNTIF(WFR$3:WFT$31,$A65)","v":0},null,null,null,{"$f":"COUNTIF(WFV$3:WFX$31,$A65)","v":0},null,null,null,{"$f":"COUNTIF(WFZ$3:WGB$31,$A65)","v":0},null,null,null,{"$f":"COUNTIF(WGD$3:WGF$31,$A65)","v":0},null,null,null,{"$f":"COUNTIF(WGH$3:WGJ$31,$A65)","v":0},null,null,null,{"$f":"COUNTIF(WGL$3:WGN$31,$A65)","v":0},null,null,null,{"$f":"COUNTIF(WGP$3:WGR$31,$A65)","v":0},null,null,null,{"$f":"COUNTIF(WGT$3:WGV$31,$A65)","v":0},null,null,null,{"$f":"COUNTIF(WGX$3:WGZ$31,$A65)","v":0},null,null,null,{"$f":"COUNTIF(WHB$3:WHD$31,$A65)","v":0},null,null,null,{"$f":"COUNTIF(WHF$3:WHH$31,$A65)","v":0},null,null,null,{"$f":"COUNTIF(WHJ$3:WHL$31,$A65)","v":0},null,null,null,{"$f":"COUNTIF(WHN$3:WHP$31,$A65)","v":0},null,null,null,{"$f":"COUNTIF(WHR$3:WHT$31,$A65)","v":0},null,null,null,{"$f":"COUNTIF(WHV$3:WHX$31,$A65)","v":0},null,null,null,{"$f":"COUNTIF(WHZ$3:WIB$31,$A65)","v":0},null,null,null,{"$f":"COUNTIF(WID$3:WIF$31,$A65)","v":0},null,null,null,{"$f":"COUNTIF(WIH$3:WIJ$31,$A65)","v":0},null,null,null,{"$f":"COUNTIF(WIL$3:WIN$31,$A65)","v":0},null,null,null,{"$f":"COUNTIF(WIP$3:WIR$31,$A65)","v":0},null,null,null,{"$f":"COUNTIF(WIT$3:WIV$31,$A65)","v":0},null,null,null,{"$f":"COUNTIF(WIX$3:WIZ$31,$A65)","v":0},null,null,null,{"$f":"COUNTIF(WJB$3:WJD$31,$A65)","v":0},null,null,null,{"$f":"COUNTIF(WJF$3:WJH$31,$A65)","v":0},null,null,null,{"$f":"COUNTIF(WJJ$3:WJL$31,$A65)","v":0},null,null,null,{"$f":"COUNTIF(WJN$3:WJP$31,$A65)","v":0},null,null,null,{"$f":"COUNTIF(WJR$3:WJT$31,$A65)","v":0},null,null,null,{"$f":"COUNTIF(WJV$3:WJX$31,$A65)","v":0},null,null,null,{"$f":"COUNTIF(WJZ$3:WKB$31,$A65)","v":0},null,null,null,{"$f":"COUNTIF(WKD$3:WKF$31,$A65)","v":0},null,null,null,{"$f":"COUNTIF(WKH$3:WKJ$31,$A65)","v":0},null,null,null,{"$f":"COUNTIF(WKL$3:WKN$31,$A65)","v":0},null,null,null,{"$f":"COUNTIF(WKP$3:WKR$31,$A65)","v":0},null,null,null,{"$f":"COUNTIF(WKT$3:WKV$31,$A65)","v":0},null,null,null,{"$f":"COUNTIF(WKX$3:WKZ$31,$A65)","v":0},null,null,null,{"$f":"COUNTIF(WLB$3:WLD$31,$A65)","v":0},null,null,null,{"$f":"COUNTIF(WLF$3:WLH$31,$A65)","v":0},null,null,null,{"$f":"COUNTIF(WLJ$3:WLL$31,$A65)","v":0},null,null,null,{"$f":"COUNTIF(WLN$3:WLP$31,$A65)","v":0},null,null,null,{"$f":"COUNTIF(WLR$3:WLT$31,$A65)","v":0},null,null,null,{"$f":"COUNTIF(WLV$3:WLX$31,$A65)","v":0},null,null,null,{"$f":"COUNTIF(WLZ$3:WMB$31,$A65)","v":0},null,null,null,{"$f":"COUNTIF(WMD$3:WMF$31,$A65)","v":0},null,null,null,{"$f":"COUNTIF(WMH$3:WMJ$31,$A65)","v":0},null,null,null,{"$f":"COUNTIF(WML$3:WMN$31,$A65)","v":0},null,null,null,{"$f":"COUNTIF(WMP$3:WMR$31,$A65)","v":0},null,null,null,{"$f":"COUNTIF(WMT$3:WMV$31,$A65)","v":0},null,null,null,{"$f":"COUNTIF(WMX$3:WMZ$31,$A65)","v":0},null,null,null,{"$f":"COUNTIF(WNB$3:WND$31,$A65)","v":0},null,null,null,{"$f":"COUNTIF(WNF$3:WNH$31,$A65)","v":0},null,null,null,{"$f":"COUNTIF(WNJ$3:WNL$31,$A65)","v":0},null,null,null,{"$f":"COUNTIF(WNN$3:WNP$31,$A65)","v":0},null,null,null,{"$f":"COUNTIF(WNR$3:WNT$31,$A65)","v":0},null,null,null,{"$f":"COUNTIF(WNV$3:WNX$31,$A65)","v":0},null,null,null,{"$f":"COUNTIF(WNZ$3:WOB$31,$A65)","v":0},null,null,null,{"$f":"COUNTIF(WOD$3:WOF$31,$A65)","v":0},null,null,null,{"$f":"COUNTIF(WOH$3:WOJ$31,$A65)","v":0},null,null,null,{"$f":"COUNTIF(WOL$3:WON$31,$A65)","v":0},null,null,null,{"$f":"COUNTIF(WOP$3:WOR$31,$A65)","v":0},null,null,null,{"$f":"COUNTIF(WOT$3:WOV$31,$A65)","v":0},null,null,null,{"$f":"COUNTIF(WOX$3:WOZ$31,$A65)","v":0},null,null,null,{"$f":"COUNTIF(WPB$3:WPD$31,$A65)","v":0},null,null,null,{"$f":"COUNTIF(WPF$3:WPH$31,$A65)","v":0},null,null,null,{"$f":"COUNTIF(WPJ$3:WPL$31,$A65)","v":0},null,null,null,{"$f":"COUNTIF(WPN$3:WPP$31,$A65)","v":0},null,null,null,{"$f":"COUNTIF(WPR$3:WPT$31,$A65)","v":0},null,null,null,{"$f":"COUNTIF(WPV$3:WPX$31,$A65)","v":0},null,null,null,{"$f":"COUNTIF(WPZ$3:WQB$31,$A65)","v":0},null,null,null,{"$f":"COUNTIF(WQD$3:WQF$31,$A65)","v":0},null,null,null,{"$f":"COUNTIF(WQH$3:WQJ$31,$A65)","v":0},null,null,null,{"$f":"COUNTIF(WQL$3:WQN$31,$A65)","v":0},null,null,null,{"$f":"COUNTIF(WQP$3:WQR$31,$A65)","v":0},null,null,null,{"$f":"COUNTIF(WQT$3:WQV$31,$A65)","v":0},null,null,null,{"$f":"COUNTIF(WQX$3:WQZ$31,$A65)","v":0},null,null,null,{"$f":"COUNTIF(WRB$3:WRD$31,$A65)","v":0},null,null,null,{"$f":"COUNTIF(WRF$3:WRH$31,$A65)","v":0},null,null,null,{"$f":"COUNTIF(WRJ$3:WRL$31,$A65)","v":0},null,null,null,{"$f":"COUNTIF(WRN$3:WRP$31,$A65)","v":0},null,null,null,{"$f":"COUNTIF(WRR$3:WRT$31,$A65)","v":0},null,null,null,{"$f":"COUNTIF(WRV$3:WRX$31,$A65)","v":0},null,null,null,{"$f":"COUNTIF(WRZ$3:WSB$31,$A65)","v":0},null,null,null,{"$f":"COUNTIF(WSD$3:WSF$31,$A65)","v":0},null,null,null,{"$f":"COUNTIF(WSH$3:WSJ$31,$A65)","v":0},null,null,null,{"$f":"COUNTIF(WSL$3:WSN$31,$A65)","v":0},null,null,null,{"$f":"COUNTIF(WSP$3:WSR$31,$A65)","v":0},null,null,null,{"$f":"COUNTIF(WST$3:WSV$31,$A65)","v":0},null,null,null,{"$f":"COUNTIF(WSX$3:WSZ$31,$A65)","v":0},null,null,null,{"$f":"COUNTIF(WTB$3:WTD$31,$A65)","v":0},null,null,null,{"$f":"COUNTIF(WTF$3:WTH$31,$A65)","v":0},null,null,null,{"$f":"COUNTIF(WTJ$3:WTL$31,$A65)","v":0},null,null,null,{"$f":"COUNTIF(WTN$3:WTP$31,$A65)","v":0},null,null,null,{"$f":"COUNTIF(WTR$3:WTT$31,$A65)","v":0},null,null,null,{"$f":"COUNTIF(WTV$3:WTX$31,$A65)","v":0},null,null,null,{"$f":"COUNTIF(WTZ$3:WUB$31,$A65)","v":0},null,null,null,{"$f":"COUNTIF(WUD$3:WUF$31,$A65)","v":0},null,null,null,{"$f":"COUNTIF(WUH$3:WUJ$31,$A65)","v":0},null,null,null,{"$f":"COUNTIF(WUL$3:WUN$31,$A65)","v":0},null,null,null,{"$f":"COUNTIF(WUP$3:WUR$31,$A65)","v":0},null,null,null,{"$f":"COUNTIF(WUT$3:WUV$31,$A65)","v":0},null,null,null,{"$f":"COUNTIF(WUX$3:WUZ$31,$A65)","v":0},null,null,null,{"$f":"COUNTIF(WVB$3:WVD$31,$A65)","v":0},null,null,null,{"$f":"COUNTIF(WVF$3:WVH$31,$A65)","v":0},null,null,null,{"$f":"COUNTIF(WVJ$3:WVL$31,$A65)","v":0},null,null,null,{"$f":"COUNTIF(WVN$3:WVP$31,$A65)","v":0},null,null,null,{"$f":"COUNTIF(WVR$3:WVT$31,$A65)","v":0},null,null,null,{"$f":"COUNTIF(WVV$3:WVX$31,$A65)","v":0},null,null,null,{"$f":"COUNTIF(WVZ$3:WWB$31,$A65)","v":0},null,null,null,{"$f":"COUNTIF(WWD$3:WWF$31,$A65)","v":0},null,null,null,{"$f":"COUNTIF(WWH$3:WWJ$31,$A65)","v":0},null,null,null,{"$f":"COUNTIF(WWL$3:WWN$31,$A65)","v":0},null,null,null,{"$f":"COUNTIF(WWP$3:WWR$31,$A65)","v":0},null,null,null,{"$f":"COUNTIF(WWT$3:WWV$31,$A65)","v":0},null,null,null,{"$f":"COUNTIF(WWX$3:WWZ$31,$A65)","v":0},null,null,null,{"$f":"COUNTIF(WXB$3:WXD$31,$A65)","v":0},null,null,null,{"$f":"COUNTIF(WXF$3:WXH$31,$A65)","v":0},null,null,null,{"$f":"COUNTIF(WXJ$3:WXL$31,$A65)","v":0},null,null,null,{"$f":"COUNTIF(WXN$3:WXP$31,$A65)","v":0},null,null,null,{"$f":"COUNTIF(WXR$3:WXT$31,$A65)","v":0},null,null,null,{"$f":"COUNTIF(WXV$3:WXX$31,$A65)","v":0},null,null,null,{"$f":"COUNTIF(WXZ$3:WYB$31,$A65)","v":0},null,null,null,{"$f":"COUNTIF(WYD$3:WYF$31,$A65)","v":0},null,null,null,{"$f":"COUNTIF(WYH$3:WYJ$31,$A65)","v":0},null,null,null,{"$f":"COUNTIF(WYL$3:WYN$31,$A65)","v":0},null,null,null,{"$f":"COUNTIF(WYP$3:WYR$31,$A65)","v":0},null,null,null,{"$f":"COUNTIF(WYT$3:WYV$31,$A65)","v":0},null,null,null,{"$f":"COUNTIF(WYX$3:WYZ$31,$A65)","v":0},null,null,null,{"$f":"COUNTIF(WZB$3:WZD$31,$A65)","v":0},null,null,null,{"$f":"COUNTIF(WZF$3:WZH$31,$A65)","v":0},null,null,null,{"$f":"COUNTIF(WZJ$3:WZL$31,$A65)","v":0},null,null,null,{"$f":"COUNTIF(WZN$3:WZP$31,$A65)","v":0},null,null,null,{"$f":"COUNTIF(WZR$3:WZT$31,$A65)","v":0},null,null,null,{"$f":"COUNTIF(WZV$3:WZX$31,$A65)","v":0},null,null,null,{"$f":"COUNTIF(WZZ$3:XAB$31,$A65)","v":0},null,null,null,{"$f":"COUNTIF(XAD$3:XAF$31,$A65)","v":0},null,null,null,{"$f":"COUNTIF(XAH$3:XAJ$31,$A65)","v":0},null,null,null,{"$f":"COUNTIF(XAL$3:XAN$31,$A65)","v":0},null,null,null,{"$f":"COUNTIF(XAP$3:XAR$31,$A65)","v":0},null,null,null,{"$f":"COUNTIF(XAT$3:XAV$31,$A65)","v":0},null,null,null,{"$f":"COUNTIF(XAX$3:XAZ$31,$A65)","v":0},null,null,null,{"$f":"COUNTIF(XBB$3:XBD$31,$A65)","v":0},null,null,null,{"$f":"COUNTIF(XBF$3:XBH$31,$A65)","v":0},null,null,null,{"$f":"COUNTIF(XBJ$3:XBL$31,$A65)","v":0},null,null,null,{"$f":"COUNTIF(XBN$3:XBP$31,$A65)","v":0},null,null,null,{"$f":"COUNTIF(XBR$3:XBT$31,$A65)","v":0},null,null,null,{"$f":"COUNTIF(XBV$3:XBX$31,$A65)","v":0},null,null,null,{"$f":"COUNTIF(XBZ$3:XCB$31,$A65)","v":0},null,null,null,{"$f":"COUNTIF(XCD$3:XCF$31,$A65)","v":0},null,null,null,{"$f":"COUNTIF(XCH$3:XCJ$31,$A65)","v":0},null,null,null,{"$f":"COUNTIF(XCL$3:XCN$31,$A65)","v":0},null,null,null,{"$f":"COUNTIF(XCP$3:XCR$31,$A65)","v":0},null,null,null,{"$f":"COUNTIF(XCT$3:XCV$31,$A65)","v":0},null,null,null,{"$f":"COUNTIF(XCX$3:XCZ$31,$A65)","v":0},null,null,null,{"$f":"COUNTIF(XDB$3:XDD$31,$A65)","v":0},null,null,null,{"$f":"COUNTIF(XDF$3:XDH$31,$A65)","v":0},null,null,null,{"$f":"COUNTIF(XDJ$3:XDL$31,$A65)","v":0},null,null,null,{"$f":"COUNTIF(XDN$3:XDP$31,$A65)","v":0},null,null,null,{"$f":"COUNTIF(XDR$3:XDT$31,$A65)","v":0},null,null,null,{"$f":"COUNTIF(XDV$3:XDX$31,$A65)","v":0},null,null,null,{"$f":"COUNTIF(XDZ$3:XEB$31,$A65)","v":0},null,null,null,{"$f":"COUNTIF(XED$3:XEF$31,$A65)","v":0},null,null,null,{"$f":"COUNTIF(XEH$3:XEJ$31,$A65)","v":0},null,null,null,{"$f":"COUNTIF(XEL$3:XEN$31,$A65)","v":0},null,null,null,{"$f":"COUNTIF(XEP$3:XER$31,$A65)","v":0},null,null,null,{"$f":"COUNTIF(XET$3:XEV$31,$A65)","v":0},null,null,null,{"$f":"COUNTIF(XEX$3:XEZ$31,$A65)","v":0},null,null,null,{"$f":"COUNTIF(XFB$3:XFD$31,$A65)","v":0}]
["Fam Sess 3 - Using Family Meetings",null,{"$f":"COUNTIF(B$3:D$31,$A66)","v":0},null,null,null,{"$f":"COUNTIF(F$3:H$31,$A66)","v":0},null,null,null,{"$f":"COUNTIF(J$3:L$31,$A66)","v":0},null,null,null,{"$f":"COUNTIF(N$3:P$31,$A66)","v":0},null,null,null,{"$f":"COUNTIF(R$3:T$31,$A66)","v":0},null,null,null,{"$f":"COUNTIF(V$3:X$31,$A66)","v":0},null,null,null,{"$f":"COUNTIF(Z$3:AB$31,$A66)","v":0},null,null,null,{"$f":"COUNTIF(AD$3:AF$31,$A66)","v":0},null,null,null,{"$f":"COUNTIF(AH$3:AJ$31,$A66)","v":0},null,null,null,{"$f":"COUNTIF(AL$3:AN$31,$A66)","v":0},null,null,null,{"$f":"COUNTIF(AP$3:AR$31,$A66)","v":0},null,null,null,{"$f":"COUNTIF(AT$3:AV$31,$A66)","v":0},null,null,null,{"$f":"COUNTIF(AX$3:AZ$31,$A66)","v":0},null,null,null,{"$f":"COUNTIF(BB$3:BD$31,$A66)","v":0},null,null,null,{"$f":"COUNTIF(BF$3:BH$31,$A66)","v":0},null,null,null,{"$f":"COUNTIF(BJ$3:BL$31,$A66)","v":0},null,null,null,{"$f":"COUNTIF(BN$3:BP$31,$A66)","v":0},null,null,null,{"$f":"COUNTIF(BR$3:BT$31,$A66)","v":0},null,null,null,{"$f":"COUNTIF(BV$3:BX$31,$A66)","v":0},null,null,null,{"$f":"COUNTIF(BZ$3:CB$31,$A66)","v":0},null,null,null,{"$f":"COUNTIF(CD$3:CF$31,$A66)","v":0},null,null,null,{"$f":"COUNTIF(CH$3:CJ$31,$A66)","v":0},null,null,null,{"$f":"COUNTIF(CL$3:CN$31,$A66)","v":0},null,null,null,{"$f":"COUNTIF(CP$3:CR$31,$A66)","v":0},null,null,null,{"$f":"COUNTIF(CT$3:CV$31,$A66)","v":0},null,null,null,{"$f":"COUNTIF(CX$3:CZ$31,$A66)","v":0},null,null,null,{"$f":"COUNTIF(DB$3:DD$31,$A66)","v":0},null,null,null,{"$f":"COUNTIF(DF$3:DH$31,$A66)","v":0},null,null,null,{"$f":"COUNTIF(DJ$3:DL$31,$A66)","v":0},null,null,null,{"$f":"COUNTIF(DN$3:DP$31,$A66)","v":0},null,null,null,{"$f":"COUNTIF(DR$3:DT$31,$A66)","v":0},null,null,null,{"$f":"COUNTIF(DV$3:DX$31,$A66)","v":0},null,null,null,{"$f":"COUNTIF(DZ$3:EB$31,$A66)","v":0},null,null,null,{"$f":"COUNTIF(ED$3:EF$31,$A66)","v":0},null,null,null,{"$f":"COUNTIF(EH$3:EJ$31,$A66)","v":0},null,null,null,{"$f":"COUNTIF(EL$3:EN$31,$A66)","v":0},null,null,null,{"$f":"COUNTIF(EP$3:ER$31,$A66)","v":0},null,null,null,{"$f":"COUNTIF(ET$3:EV$31,$A66)","v":0},null,null,null,{"$f":"COUNTIF(EX$3:EZ$31,$A66)","v":0},null,null,null,{"$f":"COUNTIF(FB$3:FD$31,$A66)","v":0},null,null,null,{"$f":"COUNTIF(FF$3:FH$31,$A66)","v":0},null,null,null,{"$f":"COUNTIF(FJ$3:FL$31,$A66)","v":0},null,null,null,{"$f":"COUNTIF(FN$3:FP$31,$A66)","v":0},null,null,null,{"$f":"COUNTIF(FR$3:FT$31,$A66)","v":0},null,null,null,{"$f":"COUNTIF(FV$3:FX$31,$A66)","v":0},null,null,null,{"$f":"COUNTIF(FZ$3:GB$31,$A66)","v":0},null,null,null,{"$f":"COUNTIF(GD$3:GF$31,$A66)","v":0},null,null,null,{"$f":"COUNTIF(GH$3:GJ$31,$A66)","v":0},null,null,null,{"$f":"COUNTIF(GL$3:GN$31,$A66)","v":0},null,null,null,{"$f":"COUNTIF(GP$3:GR$31,$A66)","v":0},null,null,null,{"$f":"COUNTIF(GT$3:GV$31,$A66)","v":0},null,null,null,{"$f":"COUNTIF(GX$3:GZ$31,$A66)","v":0},null,null,null,{"$f":"COUNTIF(HB$3:HD$31,$A66)","v":0},null,null,null,{"$f":"COUNTIF(HF$3:HH$31,$A66)","v":0},null,null,null,{"$f":"COUNTIF(HJ$3:HL$31,$A66)","v":0},null,null,null,{"$f":"COUNTIF(HN$3:HP$31,$A66)","v":0},null,null,null,{"$f":"COUNTIF(HR$3:HT$31,$A66)","v":0},null,null,null,{"$f":"COUNTIF(HV$3:HX$31,$A66)","v":0},null,null,null,{"$f":"COUNTIF(HZ$3:IB$31,$A66)","v":0},null,null,null,{"$f":"COUNTIF(ID$3:IF$31,$A66)","v":0},null,null,null,{"$f":"COUNTIF(IH$3:IJ$31,$A66)","v":0},null,null,null,{"$f":"COUNTIF(IL$3:IN$31,$A66)","v":0},null,null,null,{"$f":"COUNTIF(IP$3:IR$31,$A66)","v":0},null,null,null,{"$f":"COUNTIF(IT$3:IV$31,$A66)","v":0},null,null,null,{"$f":"COUNTIF(IX$3:IZ$31,$A66)","v":0},null,null,null,{"$f":"COUNTIF(JB$3:JD$31,$A66)","v":0},null,null,null,{"$f":"COUNTIF(JF$3:JH$31,$A66)","v":0},null,null,null,{"$f":"COUNTIF(JJ$3:JL$31,$A66)","v":0},null,null,null,{"$f":"COUNTIF(JN$3:JP$31,$A66)","v":0},null,null,null,{"$f":"COUNTIF(JR$3:JT$31,$A66)","v":0},null,null,null,{"$f":"COUNTIF(JV$3:JX$31,$A66)","v":0},null,null,null,{"$f":"COUNTIF(JZ$3:KB$31,$A66)","v":0},null,null,null,{"$f":"COUNTIF(KD$3:KF$31,$A66)","v":0},null,null,null,{"$f":"COUNTIF(KH$3:KJ$31,$A66)","v":0},null,null,null,{"$f":"COUNTIF(KL$3:KN$31,$A66)","v":0},null,null,null,{"$f":"COUNTIF(KP$3:KR$31,$A66)","v":0},null,null,null,{"$f":"COUNTIF(KT$3:KV$31,$A66)","v":0},null,null,null,{"$f":"COUNTIF(KX$3:KZ$31,$A66)","v":0},null,null,null,{"$f":"COUNTIF(LB$3:LD$31,$A66)","v":0},null,null,null,{"$f":"COUNTIF(LF$3:LH$31,$A66)","v":0},null,null,null,{"$f":"COUNTIF(LJ$3:LL$31,$A66)","v":0},null,null,null,{"$f":"COUNTIF(LN$3:LP$31,$A66)","v":0},null,null,null,{"$f":"COUNTIF(LR$3:LT$31,$A66)","v":0},null,null,null,{"$f":"COUNTIF(LV$3:LX$31,$A66)","v":0},null,null,null,{"$f":"COUNTIF(LZ$3:MB$31,$A66)","v":0},null,null,null,{"$f":"COUNTIF(MD$3:MF$31,$A66)","v":0},null,null,null,{"$f":"COUNTIF(MH$3:MJ$31,$A66)","v":0},null,null,null,{"$f":"COUNTIF(ML$3:MN$31,$A66)","v":0},null,null,null,{"$f":"COUNTIF(MP$3:MR$31,$A66)","v":0},null,null,null,{"$f":"COUNTIF(MT$3:MV$31,$A66)","v":0},null,null,null,{"$f":"COUNTIF(MX$3:MZ$31,$A66)","v":0},null,null,null,{"$f":"COUNTIF(NB$3:ND$31,$A66)","v":0},null,null,null,{"$f":"COUNTIF(NF$3:NH$31,$A66)","v":0},null,null,null,{"$f":"COUNTIF(NJ$3:NL$31,$A66)","v":0},null,null,null,{"$f":"COUNTIF(NN$3:NP$31,$A66)","v":0},null,null,null,{"$f":"COUNTIF(NR$3:NT$31,$A66)","v":0},null,null,null,{"$f":"COUNTIF(NV$3:NX$31,$A66)","v":0},null,null,null,{"$f":"COUNTIF(NZ$3:OB$31,$A66)","v":0},null,null,null,{"$f":"COUNTIF(OD$3:OF$31,$A66)","v":0},null,null,null,{"$f":"COUNTIF(OH$3:OJ$31,$A66)","v":0},null,null,null,{"$f":"COUNTIF(OL$3:ON$31,$A66)","v":0},null,null,null,{"$f":"COUNTIF(OP$3:OR$31,$A66)","v":0},null,null,null,{"$f":"COUNTIF(OT$3:OV$31,$A66)","v":0},null,null,null,{"$f":"COUNTIF(OX$3:OZ$31,$A66)","v":0},null,null,null,{"$f":"COUNTIF(PB$3:PD$31,$A66)","v":0},null,null,null,{"$f":"COUNTIF(PF$3:PH$31,$A66)","v":0},null,null,null,{"$f":"COUNTIF(PJ$3:PL$31,$A66)","v":0},null,null,null,{"$f":"COUNTIF(PN$3:PP$31,$A66)","v":0},null,null,null,{"$f":"COUNTIF(PR$3:PT$31,$A66)","v":0},null,null,null,{"$f":"COUNTIF(PV$3:PX$31,$A66)","v":0},null,null,null,{"$f":"COUNTIF(PZ$3:QB$31,$A66)","v":0},null,null,null,{"$f":"COUNTIF(QD$3:QF$31,$A66)","v":0},null,null,null,{"$f":"COUNTIF(QH$3:QJ$31,$A66)","v":0},null,null,null,{"$f":"COUNTIF(QL$3:QN$31,$A66)","v":0},null,null,null,{"$f":"COUNTIF(QP$3:QR$31,$A66)","v":0},null,null,null,{"$f":"COUNTIF(QT$3:QV$31,$A66)","v":0},null,null,null,{"$f":"COUNTIF(QX$3:QZ$31,$A66)","v":0},null,null,null,{"$f":"COUNTIF(RB$3:RD$31,$A66)","v":0},null,null,null,{"$f":"COUNTIF(RF$3:RH$31,$A66)","v":0},null,null,null,{"$f":"COUNTIF(RJ$3:RL$31,$A66)","v":0},null,null,null,{"$f":"COUNTIF(RN$3:RP$31,$A66)","v":0},null,null,null,{"$f":"COUNTIF(RR$3:RT$31,$A66)","v":0},null,null,null,{"$f":"COUNTIF(RV$3:RX$31,$A66)","v":0},null,null,null,{"$f":"COUNTIF(RZ$3:SB$31,$A66)","v":0},null,null,null,{"$f":"COUNTIF(SD$3:SF$31,$A66)","v":0},null,null,null,{"$f":"COUNTIF(SH$3:SJ$31,$A66)","v":0},null,null,null,{"$f":"COUNTIF(SL$3:SN$31,$A66)","v":0},null,null,null,{"$f":"COUNTIF(SP$3:SR$31,$A66)","v":0},null,null,null,{"$f":"COUNTIF(ST$3:SV$31,$A66)","v":0},null,null,null,{"$f":"COUNTIF(SX$3:SZ$31,$A66)","v":0},null,null,null,{"$f":"COUNTIF(TB$3:TD$31,$A66)","v":0},null,null,null,{"$f":"COUNTIF(TF$3:TH$31,$A66)","v":0},null,null,null,{"$f":"COUNTIF(TJ$3:TL$31,$A66)","v":0},null,null,null,{"$f":"COUNTIF(TN$3:TP$31,$A66)","v":0},null,null,null,{"$f":"COUNTIF(TR$3:TT$31,$A66)","v":0},null,null,null,{"$f":"COUNTIF(TV$3:TX$31,$A66)","v":0},null,null,null,{"$f":"COUNTIF(TZ$3:UB$31,$A66)","v":0},null,null,null,{"$f":"COUNTIF(UD$3:UF$31,$A66)","v":0},null,null,null,{"$f":"COUNTIF(UH$3:UJ$31,$A66)","v":0},null,null,null,{"$f":"COUNTIF(UL$3:UN$31,$A66)","v":0},null,null,null,{"$f":"COUNTIF(UP$3:UR$31,$A66)","v":0},null,null,null,{"$f":"COUNTIF(UT$3:UV$31,$A66)","v":0},null,null,null,{"$f":"COUNTIF(UX$3:UZ$31,$A66)","v":0},null,null,null,{"$f":"COUNTIF(VB$3:VD$31,$A66)","v":0},null,null,null,{"$f":"COUNTIF(VF$3:VH$31,$A66)","v":0},null,null,null,{"$f":"COUNTIF(VJ$3:VL$31,$A66)","v":0},null,null,null,{"$f":"COUNTIF(VN$3:VP$31,$A66)","v":0},null,null,null,{"$f":"COUNTIF(VR$3:VT$31,$A66)","v":0},null,null,null,{"$f":"COUNTIF(VV$3:VX$31,$A66)","v":0},null,null,null,{"$f":"COUNTIF(VZ$3:WB$31,$A66)","v":0},null,null,null,{"$f":"COUNTIF(WD$3:WF$31,$A66)","v":0},null,null,null,{"$f":"COUNTIF(WH$3:WJ$31,$A66)","v":0},null,null,null,{"$f":"COUNTIF(WL$3:WN$31,$A66)","v":0},null,null,null,{"$f":"COUNTIF(WP$3:WR$31,$A66)","v":0},null,null,null,{"$f":"COUNTIF(WT$3:WV$31,$A66)","v":0},null,null,null,{"$f":"COUNTIF(WX$3:WZ$31,$A66)","v":0},null,null,null,{"$f":"COUNTIF(XB$3:XD$31,$A66)","v":0},null,null,null,{"$f":"COUNTIF(XF$3:XH$31,$A66)","v":0},null,null,null,{"$f":"COUNTIF(XJ$3:XL$31,$A66)","v":0},null,null,null,{"$f":"COUNTIF(XN$3:XP$31,$A66)","v":0},null,null,null,{"$f":"COUNTIF(XR$3:XT$31,$A66)","v":0},null,null,null,{"$f":"COUNTIF(XV$3:XX$31,$A66)","v":0},null,null,null,{"$f":"COUNTIF(XZ$3:YB$31,$A66)","v":0},null,null,null,{"$f":"COUNTIF(YD$3:YF$31,$A66)","v":0},null,null,null,{"$f":"COUNTIF(YH$3:YJ$31,$A66)","v":0},null,null,null,{"$f":"COUNTIF(YL$3:YN$31,$A66)","v":0},null,null,null,{"$f":"COUNTIF(YP$3:YR$31,$A66)","v":0},null,null,null,{"$f":"COUNTIF(YT$3:YV$31,$A66)","v":0},null,null,null,{"$f":"COUNTIF(YX$3:YZ$31,$A66)","v":0},null,null,null,{"$f":"COUNTIF(ZB$3:ZD$31,$A66)","v":0},null,null,null,{"$f":"COUNTIF(ZF$3:ZH$31,$A66)","v":0},null,null,null,{"$f":"COUNTIF(ZJ$3:ZL$31,$A66)","v":0},null,null,null,{"$f":"COUNTIF(ZN$3:ZP$31,$A66)","v":0},null,null,null,{"$f":"COUNTIF(ZR$3:ZT$31,$A66)","v":0},null,null,null,{"$f":"COUNTIF(ZV$3:ZX$31,$A66)","v":0},null,null,null,{"$f":"COUNTIF(ZZ$3:AAB$31,$A66)","v":0},null,null,null,{"$f":"COUNTIF(AAD$3:AAF$31,$A66)","v":0},null,null,null,{"$f":"COUNTIF(AAH$3:AAJ$31,$A66)","v":0},null,null,null,{"$f":"COUNTIF(AAL$3:AAN$31,$A66)","v":0},null,null,null,{"$f":"COUNTIF(AAP$3:AAR$31,$A66)","v":0},null,null,null,{"$f":"COUNTIF(AAT$3:AAV$31,$A66)","v":0},null,null,null,{"$f":"COUNTIF(AAX$3:AAZ$31,$A66)","v":0},null,null,null,{"$f":"COUNTIF(ABB$3:ABD$31,$A66)","v":0},null,null,null,{"$f":"COUNTIF(ABF$3:ABH$31,$A66)","v":0},null,null,null,{"$f":"COUNTIF(ABJ$3:ABL$31,$A66)","v":0},null,null,null,{"$f":"COUNTIF(ABN$3:ABP$31,$A66)","v":0},null,null,null,{"$f":"COUNTIF(ABR$3:ABT$31,$A66)","v":0},null,null,null,{"$f":"COUNTIF(ABV$3:ABX$31,$A66)","v":0},null,null,null,{"$f":"COUNTIF(ABZ$3:ACB$31,$A66)","v":0},null,null,null,{"$f":"COUNTIF(ACD$3:ACF$31,$A66)","v":0},null,null,null,{"$f":"COUNTIF(ACH$3:ACJ$31,$A66)","v":0},null,null,null,{"$f":"COUNTIF(ACL$3:ACN$31,$A66)","v":0},null,null,null,{"$f":"COUNTIF(ACP$3:ACR$31,$A66)","v":0},null,null,null,{"$f":"COUNTIF(ACT$3:ACV$31,$A66)","v":0},null,null,null,{"$f":"COUNTIF(ACX$3:ACZ$31,$A66)","v":0},null,null,null,{"$f":"COUNTIF(ADB$3:ADD$31,$A66)","v":0},null,null,null,{"$f":"COUNTIF(ADF$3:ADH$31,$A66)","v":0},null,null,null,{"$f":"COUNTIF(ADJ$3:ADL$31,$A66)","v":0},null,null,null,{"$f":"COUNTIF(ADN$3:ADP$31,$A66)","v":0},null,null,null,{"$f":"COUNTIF(ADR$3:ADT$31,$A66)","v":0},null,null,null,{"$f":"COUNTIF(ADV$3:ADX$31,$A66)","v":0},null,null,null,{"$f":"COUNTIF(ADZ$3:AEB$31,$A66)","v":0},null,null,null,{"$f":"COUNTIF(AED$3:AEF$31,$A66)","v":0},null,null,null,{"$f":"COUNTIF(AEH$3:AEJ$31,$A66)","v":0},null,null,null,{"$f":"COUNTIF(AEL$3:AEN$31,$A66)","v":0},null,null,null,{"$f":"COUNTIF(AEP$3:AER$31,$A66)","v":0},null,null,null,{"$f":"COUNTIF(AET$3:AEV$31,$A66)","v":0},null,null,null,{"$f":"COUNTIF(AEX$3:AEZ$31,$A66)","v":0},null,null,null,{"$f":"COUNTIF(AFB$3:AFD$31,$A66)","v":0},null,null,null,{"$f":"COUNTIF(AFF$3:AFH$31,$A66)","v":0},null,null,null,{"$f":"COUNTIF(AFJ$3:AFL$31,$A66)","v":0},null,null,null,{"$f":"COUNTIF(AFN$3:AFP$31,$A66)","v":0},null,null,null,{"$f":"COUNTIF(AFR$3:AFT$31,$A66)","v":0},null,null,null,{"$f":"COUNTIF(AFV$3:AFX$31,$A66)","v":0},null,null,null,{"$f":"COUNTIF(AFZ$3:AGB$31,$A66)","v":0},null,null,null,{"$f":"COUNTIF(AGD$3:AGF$31,$A66)","v":0},null,null,null,{"$f":"COUNTIF(AGH$3:AGJ$31,$A66)","v":0},null,null,null,{"$f":"COUNTIF(AGL$3:AGN$31,$A66)","v":0},null,null,null,{"$f":"COUNTIF(AGP$3:AGR$31,$A66)","v":0},null,null,null,{"$f":"COUNTIF(AGT$3:AGV$31,$A66)","v":0},null,null,null,{"$f":"COUNTIF(AGX$3:AGZ$31,$A66)","v":0},null,null,null,{"$f":"COUNTIF(AHB$3:AHD$31,$A66)","v":0},null,null,null,{"$f":"COUNTIF(AHF$3:AHH$31,$A66)","v":0},null,null,null,{"$f":"COUNTIF(AHJ$3:AHL$31,$A66)","v":0},null,null,null,{"$f":"COUNTIF(AHN$3:AHP$31,$A66)","v":0},null,null,null,{"$f":"COUNTIF(AHR$3:AHT$31,$A66)","v":0},null,null,null,{"$f":"COUNTIF(AHV$3:AHX$31,$A66)","v":0},null,null,null,{"$f":"COUNTIF(AHZ$3:AIB$31,$A66)","v":0},null,null,null,{"$f":"COUNTIF(AID$3:AIF$31,$A66)","v":0},null,null,null,{"$f":"COUNTIF(AIH$3:AIJ$31,$A66)","v":0},null,null,null,{"$f":"COUNTIF(AIL$3:AIN$31,$A66)","v":0},null,null,null,{"$f":"COUNTIF(AIP$3:AIR$31,$A66)","v":0},null,null,null,{"$f":"COUNTIF(AIT$3:AIV$31,$A66)","v":0},null,null,null,{"$f":"COUNTIF(AIX$3:AIZ$31,$A66)","v":0},null,null,null,{"$f":"COUNTIF(AJB$3:AJD$31,$A66)","v":0},null,null,null,{"$f":"COUNTIF(AJF$3:AJH$31,$A66)","v":0},null,null,null,{"$f":"COUNTIF(AJJ$3:AJL$31,$A66)","v":0},null,null,null,{"$f":"COUNTIF(AJN$3:AJP$31,$A66)","v":0},null,null,null,{"$f":"COUNTIF(AJR$3:AJT$31,$A66)","v":0},null,null,null,{"$f":"COUNTIF(AJV$3:AJX$31,$A66)","v":0},null,null,null,{"$f":"COUNTIF(AJZ$3:AKB$31,$A66)","v":0},null,null,null,{"$f":"COUNTIF(AKD$3:AKF$31,$A66)","v":0},null,null,null,{"$f":"COUNTIF(AKH$3:AKJ$31,$A66)","v":0},null,null,null,{"$f":"COUNTIF(AKL$3:AKN$31,$A66)","v":0},null,null,null,{"$f":"COUNTIF(AKP$3:AKR$31,$A66)","v":0},null,null,null,{"$f":"COUNTIF(AKT$3:AKV$31,$A66)","v":0},null,null,null,{"$f":"COUNTIF(AKX$3:AKZ$31,$A66)","v":0},null,null,null,{"$f":"COUNTIF(ALB$3:ALD$31,$A66)","v":0},null,null,null,{"$f":"COUNTIF(ALF$3:ALH$31,$A66)","v":0},null,null,null,{"$f":"COUNTIF(ALJ$3:ALL$31,$A66)","v":0},null,null,null,{"$f":"COUNTIF(ALN$3:ALP$31,$A66)","v":0},null,null,null,{"$f":"COUNTIF(ALR$3:ALT$31,$A66)","v":0},null,null,null,{"$f":"COUNTIF(ALV$3:ALX$31,$A66)","v":0},null,null,null,{"$f":"COUNTIF(ALZ$3:AMB$31,$A66)","v":0},null,null,null,{"$f":"COUNTIF(AMD$3:AMF$31,$A66)","v":0},null,null,null,{"$f":"COUNTIF(AMH$3:AMJ$31,$A66)","v":0},null,null,null,{"$f":"COUNTIF(AML$3:AMN$31,$A66)","v":0},null,null,null,{"$f":"COUNTIF(AMP$3:AMR$31,$A66)","v":0},null,null,null,{"$f":"COUNTIF(AMT$3:AMV$31,$A66)","v":0},null,null,null,{"$f":"COUNTIF(AMX$3:AMZ$31,$A66)","v":0},null,null,null,{"$f":"COUNTIF(ANB$3:AND$31,$A66)","v":0},null,null,null,{"$f":"COUNTIF(ANF$3:ANH$31,$A66)","v":0},null,null,null,{"$f":"COUNTIF(ANJ$3:ANL$31,$A66)","v":0},null,null,null,{"$f":"COUNTIF(ANN$3:ANP$31,$A66)","v":0},null,null,null,{"$f":"COUNTIF(ANR$3:ANT$31,$A66)","v":0},null,null,null,{"$f":"COUNTIF(ANV$3:ANX$31,$A66)","v":0},null,null,null,{"$f":"COUNTIF(ANZ$3:AOB$31,$A66)","v":0},null,null,null,{"$f":"COUNTIF(AOD$3:AOF$31,$A66)","v":0},null,null,null,{"$f":"COUNTIF(AOH$3:AOJ$31,$A66)","v":0},null,null,null,{"$f":"COUNTIF(AOL$3:AON$31,$A66)","v":0},null,null,null,{"$f":"COUNTIF(AOP$3:AOR$31,$A66)","v":0},null,null,null,{"$f":"COUNTIF(AOT$3:AOV$31,$A66)","v":0},null,null,null,{"$f":"COUNTIF(AOX$3:AOZ$31,$A66)","v":0},null,null,null,{"$f":"COUNTIF(APB$3:APD$31,$A66)","v":0},null,null,null,{"$f":"COUNTIF(APF$3:APH$31,$A66)","v":0},null,null,null,{"$f":"COUNTIF(APJ$3:APL$31,$A66)","v":0},null,null,null,{"$f":"COUNTIF(APN$3:APP$31,$A66)","v":0},null,null,null,{"$f":"COUNTIF(APR$3:APT$31,$A66)","v":0},null,null,null,{"$f":"COUNTIF(APV$3:APX$31,$A66)","v":0},null,null,null,{"$f":"COUNTIF(APZ$3:AQB$31,$A66)","v":0},null,null,null,{"$f":"COUNTIF(AQD$3:AQF$31,$A66)","v":0},null,null,null,{"$f":"COUNTIF(AQH$3:AQJ$31,$A66)","v":0},null,null,null,{"$f":"COUNTIF(AQL$3:AQN$31,$A66)","v":0},null,null,null,{"$f":"COUNTIF(AQP$3:AQR$31,$A66)","v":0},null,null,null,{"$f":"COUNTIF(AQT$3:AQV$31,$A66)","v":0},null,null,null,{"$f":"COUNTIF(AQX$3:AQZ$31,$A66)","v":0},null,null,null,{"$f":"COUNTIF(ARB$3:ARD$31,$A66)","v":0},null,null,null,{"$f":"COUNTIF(ARF$3:ARH$31,$A66)","v":0},null,null,null,{"$f":"COUNTIF(ARJ$3:ARL$31,$A66)","v":0},null,null,null,{"$f":"COUNTIF(ARN$3:ARP$31,$A66)","v":0},null,null,null,{"$f":"COUNTIF(ARR$3:ART$31,$A66)","v":0},null,null,null,{"$f":"COUNTIF(ARV$3:ARX$31,$A66)","v":0},null,null,null,{"$f":"COUNTIF(ARZ$3:ASB$31,$A66)","v":0},null,null,null,{"$f":"COUNTIF(ASD$3:ASF$31,$A66)","v":0},null,null,null,{"$f":"COUNTIF(ASH$3:ASJ$31,$A66)","v":0},null,null,null,{"$f":"COUNTIF(ASL$3:ASN$31,$A66)","v":0},null,null,null,{"$f":"COUNTIF(ASP$3:ASR$31,$A66)","v":0},null,null,null,{"$f":"COUNTIF(AST$3:ASV$31,$A66)","v":0},null,null,null,{"$f":"COUNTIF(ASX$3:ASZ$31,$A66)","v":0},null,null,null,{"$f":"COUNTIF(ATB$3:ATD$31,$A66)","v":0},null,null,null,{"$f":"COUNTIF(ATF$3:ATH$31,$A66)","v":0},null,null,null,{"$f":"COUNTIF(ATJ$3:ATL$31,$A66)","v":0},null,null,null,{"$f":"COUNTIF(ATN$3:ATP$31,$A66)","v":0},null,null,null,{"$f":"COUNTIF(ATR$3:ATT$31,$A66)","v":0},null,null,null,{"$f":"COUNTIF(ATV$3:ATX$31,$A66)","v":0},null,null,null,{"$f":"COUNTIF(ATZ$3:AUB$31,$A66)","v":0},null,null,null,{"$f":"COUNTIF(AUD$3:AUF$31,$A66)","v":0},null,null,null,{"$f":"COUNTIF(AUH$3:AUJ$31,$A66)","v":0},null,null,null,{"$f":"COUNTIF(AUL$3:AUN$31,$A66)","v":0},null,null,null,{"$f":"COUNTIF(AUP$3:AUR$31,$A66)","v":0},null,null,null,{"$f":"COUNTIF(AUT$3:AUV$31,$A66)","v":0},null,null,null,{"$f":"COUNTIF(AUX$3:AUZ$31,$A66)","v":0},null,null,null,{"$f":"COUNTIF(AVB$3:AVD$31,$A66)","v":0},null,null,null,{"$f":"COUNTIF(AVF$3:AVH$31,$A66)","v":0},null,null,null,{"$f":"COUNTIF(AVJ$3:AVL$31,$A66)","v":0},null,null,null,{"$f":"COUNTIF(AVN$3:AVP$31,$A66)","v":0},null,null,null,{"$f":"COUNTIF(AVR$3:AVT$31,$A66)","v":0},null,null,null,{"$f":"COUNTIF(AVV$3:AVX$31,$A66)","v":0},null,null,null,{"$f":"COUNTIF(AVZ$3:AWB$31,$A66)","v":0},null,null,null,{"$f":"COUNTIF(AWD$3:AWF$31,$A66)","v":0},null,null,null,{"$f":"COUNTIF(AWH$3:AWJ$31,$A66)","v":0},null,null,null,{"$f":"COUNTIF(AWL$3:AWN$31,$A66)","v":0},null,null,null,{"$f":"COUNTIF(AWP$3:AWR$31,$A66)","v":0},null,null,null,{"$f":"COUNTIF(AWT$3:AWV$31,$A66)","v":0},null,null,null,{"$f":"COUNTIF(AWX$3:AWZ$31,$A66)","v":0},null,null,null,{"$f":"COUNTIF(AXB$3:AXD$31,$A66)","v":0},null,null,null,{"$f":"COUNTIF(AXF$3:AXH$31,$A66)","v":0},null,null,null,{"$f":"COUNTIF(AXJ$3:AXL$31,$A66)","v":0},null,null,null,{"$f":"COUNTIF(AXN$3:AXP$31,$A66)","v":0},null,null,null,{"$f":"COUNTIF(AXR$3:AXT$31,$A66)","v":0},null,null,null,{"$f":"COUNTIF(AXV$3:AXX$31,$A66)","v":0},null,null,null,{"$f":"COUNTIF(AXZ$3:AYB$31,$A66)","v":0},null,null,null,{"$f":"COUNTIF(AYD$3:AYF$31,$A66)","v":0},null,null,null,{"$f":"COUNTIF(AYH$3:AYJ$31,$A66)","v":0},null,null,null,{"$f":"COUNTIF(AYL$3:AYN$31,$A66)","v":0},null,null,null,{"$f":"COUNTIF(AYP$3:AYR$31,$A66)","v":0},null,null,null,{"$f":"COUNTIF(AYT$3:AYV$31,$A66)","v":0},null,null,null,{"$f":"COUNTIF(AYX$3:AYZ$31,$A66)","v":0},null,null,null,{"$f":"COUNTIF(AZB$3:AZD$31,$A66)","v":0},null,null,null,{"$f":"COUNTIF(AZF$3:AZH$31,$A66)","v":0},null,null,null,{"$f":"COUNTIF(AZJ$3:AZL$31,$A66)","v":0},null,null,null,{"$f":"COUNTIF(AZN$3:AZP$31,$A66)","v":0},null,null,null,{"$f":"COUNTIF(AZR$3:AZT$31,$A66)","v":0},null,null,null,{"$f":"COUNTIF(AZV$3:AZX$31,$A66)","v":0},null,null,null,{"$f":"COUNTIF(AZZ$3:BAB$31,$A66)","v":0},null,null,null,{"$f":"COUNTIF(BAD$3:BAF$31,$A66)","v":0},null,null,null,{"$f":"COUNTIF(BAH$3:BAJ$31,$A66)","v":0},null,null,null,{"$f":"COUNTIF(BAL$3:BAN$31,$A66)","v":0},null,null,null,{"$f":"COUNTIF(BAP$3:BAR$31,$A66)","v":0},null,null,null,{"$f":"COUNTIF(BAT$3:BAV$31,$A66)","v":0},null,null,null,{"$f":"COUNTIF(BAX$3:BAZ$31,$A66)","v":0},null,null,null,{"$f":"COUNTIF(BBB$3:BBD$31,$A66)","v":0},null,null,null,{"$f":"COUNTIF(BBF$3:BBH$31,$A66)","v":0},null,null,null,{"$f":"COUNTIF(BBJ$3:BBL$31,$A66)","v":0},null,null,null,{"$f":"COUNTIF(BBN$3:BBP$31,$A66)","v":0},null,null,null,{"$f":"COUNTIF(BBR$3:BBT$31,$A66)","v":0},null,null,null,{"$f":"COUNTIF(BBV$3:BBX$31,$A66)","v":0},null,null,null,{"$f":"COUNTIF(BBZ$3:BCB$31,$A66)","v":0},null,null,null,{"$f":"COUNTIF(BCD$3:BCF$31,$A66)","v":0},null,null,null,{"$f":"COUNTIF(BCH$3:BCJ$31,$A66)","v":0},null,null,null,{"$f":"COUNTIF(BCL$3:BCN$31,$A66)","v":0},null,null,null,{"$f":"COUNTIF(BCP$3:BCR$31,$A66)","v":0},null,null,null,{"$f":"COUNTIF(BCT$3:BCV$31,$A66)","v":0},null,null,null,{"$f":"COUNTIF(BCX$3:BCZ$31,$A66)","v":0},null,null,null,{"$f":"COUNTIF(BDB$3:BDD$31,$A66)","v":0},null,null,null,{"$f":"COUNTIF(BDF$3:BDH$31,$A66)","v":0},null,null,null,{"$f":"COUNTIF(BDJ$3:BDL$31,$A66)","v":0},null,null,null,{"$f":"COUNTIF(BDN$3:BDP$31,$A66)","v":0},null,null,null,{"$f":"COUNTIF(BDR$3:BDT$31,$A66)","v":0},null,null,null,{"$f":"COUNTIF(BDV$3:BDX$31,$A66)","v":0},null,null,null,{"$f":"COUNTIF(BDZ$3:BEB$31,$A66)","v":0},null,null,null,{"$f":"COUNTIF(BED$3:BEF$31,$A66)","v":0},null,null,null,{"$f":"COUNTIF(BEH$3:BEJ$31,$A66)","v":0},null,null,null,{"$f":"COUNTIF(BEL$3:BEN$31,$A66)","v":0},null,null,null,{"$f":"COUNTIF(BEP$3:BER$31,$A66)","v":0},null,null,null,{"$f":"COUNTIF(BET$3:BEV$31,$A66)","v":0},null,null,null,{"$f":"COUNTIF(BEX$3:BEZ$31,$A66)","v":0},null,null,null,{"$f":"COUNTIF(BFB$3:BFD$31,$A66)","v":0},null,null,null,{"$f":"COUNTIF(BFF$3:BFH$31,$A66)","v":0},null,null,null,{"$f":"COUNTIF(BFJ$3:BFL$31,$A66)","v":0},null,null,null,{"$f":"COUNTIF(BFN$3:BFP$31,$A66)","v":0},null,null,null,{"$f":"COUNTIF(BFR$3:BFT$31,$A66)","v":0},null,null,null,{"$f":"COUNTIF(BFV$3:BFX$31,$A66)","v":0},null,null,null,{"$f":"COUNTIF(BFZ$3:BGB$31,$A66)","v":0},null,null,null,{"$f":"COUNTIF(BGD$3:BGF$31,$A66)","v":0},null,null,null,{"$f":"COUNTIF(BGH$3:BGJ$31,$A66)","v":0},null,null,null,{"$f":"COUNTIF(BGL$3:BGN$31,$A66)","v":0},null,null,null,{"$f":"COUNTIF(BGP$3:BGR$31,$A66)","v":0},null,null,null,{"$f":"COUNTIF(BGT$3:BGV$31,$A66)","v":0},null,null,null,{"$f":"COUNTIF(BGX$3:BGZ$31,$A66)","v":0},null,null,null,{"$f":"COUNTIF(BHB$3:BHD$31,$A66)","v":0},null,null,null,{"$f":"COUNTIF(BHF$3:BHH$31,$A66)","v":0},null,null,null,{"$f":"COUNTIF(BHJ$3:BHL$31,$A66)","v":0},null,null,null,{"$f":"COUNTIF(BHN$3:BHP$31,$A66)","v":0},null,null,null,{"$f":"COUNTIF(BHR$3:BHT$31,$A66)","v":0},null,null,null,{"$f":"COUNTIF(BHV$3:BHX$31,$A66)","v":0},null,null,null,{"$f":"COUNTIF(BHZ$3:BIB$31,$A66)","v":0},null,null,null,{"$f":"COUNTIF(BID$3:BIF$31,$A66)","v":0},null,null,null,{"$f":"COUNTIF(BIH$3:BIJ$31,$A66)","v":0},null,null,null,{"$f":"COUNTIF(BIL$3:BIN$31,$A66)","v":0},null,null,null,{"$f":"COUNTIF(BIP$3:BIR$31,$A66)","v":0},null,null,null,{"$f":"COUNTIF(BIT$3:BIV$31,$A66)","v":0},null,null,null,{"$f":"COUNTIF(BIX$3:BIZ$31,$A66)","v":0},null,null,null,{"$f":"COUNTIF(BJB$3:BJD$31,$A66)","v":0},null,null,null,{"$f":"COUNTIF(BJF$3:BJH$31,$A66)","v":0},null,null,null,{"$f":"COUNTIF(BJJ$3:BJL$31,$A66)","v":0},null,null,null,{"$f":"COUNTIF(BJN$3:BJP$31,$A66)","v":0},null,null,null,{"$f":"COUNTIF(BJR$3:BJT$31,$A66)","v":0},null,null,null,{"$f":"COUNTIF(BJV$3:BJX$31,$A66)","v":0},null,null,null,{"$f":"COUNTIF(BJZ$3:BKB$31,$A66)","v":0},null,null,null,{"$f":"COUNTIF(BKD$3:BKF$31,$A66)","v":0},null,null,null,{"$f":"COUNTIF(BKH$3:BKJ$31,$A66)","v":0},null,null,null,{"$f":"COUNTIF(BKL$3:BKN$31,$A66)","v":0},null,null,null,{"$f":"COUNTIF(BKP$3:BKR$31,$A66)","v":0},null,null,null,{"$f":"COUNTIF(BKT$3:BKV$31,$A66)","v":0},null,null,null,{"$f":"COUNTIF(BKX$3:BKZ$31,$A66)","v":0},null,null,null,{"$f":"COUNTIF(BLB$3:BLD$31,$A66)","v":0},null,null,null,{"$f":"COUNTIF(BLF$3:BLH$31,$A66)","v":0},null,null,null,{"$f":"COUNTIF(BLJ$3:BLL$31,$A66)","v":0},null,null,null,{"$f":"COUNTIF(BLN$3:BLP$31,$A66)","v":0},null,null,null,{"$f":"COUNTIF(BLR$3:BLT$31,$A66)","v":0},null,null,null,{"$f":"COUNTIF(BLV$3:BLX$31,$A66)","v":0},null,null,null,{"$f":"COUNTIF(BLZ$3:BMB$31,$A66)","v":0},null,null,null,{"$f":"COUNTIF(BMD$3:BMF$31,$A66)","v":0},null,null,null,{"$f":"COUNTIF(BMH$3:BMJ$31,$A66)","v":0},null,null,null,{"$f":"COUNTIF(BML$3:BMN$31,$A66)","v":0},null,null,null,{"$f":"COUNTIF(BMP$3:BMR$31,$A66)","v":0},null,null,null,{"$f":"COUNTIF(BMT$3:BMV$31,$A66)","v":0},null,null,null,{"$f":"COUNTIF(BMX$3:BMZ$31,$A66)","v":0},null,null,null,{"$f":"COUNTIF(BNB$3:BND$31,$A66)","v":0},null,null,null,{"$f":"COUNTIF(BNF$3:BNH$31,$A66)","v":0},null,null,null,{"$f":"COUNTIF(BNJ$3:BNL$31,$A66)","v":0},null,null,null,{"$f":"COUNTIF(BNN$3:BNP$31,$A66)","v":0},null,null,null,{"$f":"COUNTIF(BNR$3:BNT$31,$A66)","v":0},null,null,null,{"$f":"COUNTIF(BNV$3:BNX$31,$A66)","v":0},null,null,null,{"$f":"COUNTIF(BNZ$3:BOB$31,$A66)","v":0},null,null,null,{"$f":"COUNTIF(BOD$3:BOF$31,$A66)","v":0},null,null,null,{"$f":"COUNTIF(BOH$3:BOJ$31,$A66)","v":0},null,null,null,{"$f":"COUNTIF(BOL$3:BON$31,$A66)","v":0},null,null,null,{"$f":"COUNTIF(BOP$3:BOR$31,$A66)","v":0},null,null,null,{"$f":"COUNTIF(BOT$3:BOV$31,$A66)","v":0},null,null,null,{"$f":"COUNTIF(BOX$3:BOZ$31,$A66)","v":0},null,null,null,{"$f":"COUNTIF(BPB$3:BPD$31,$A66)","v":0},null,null,null,{"$f":"COUNTIF(BPF$3:BPH$31,$A66)","v":0},null,null,null,{"$f":"COUNTIF(BPJ$3:BPL$31,$A66)","v":0},null,null,null,{"$f":"COUNTIF(BPN$3:BPP$31,$A66)","v":0},null,null,null,{"$f":"COUNTIF(BPR$3:BPT$31,$A66)","v":0},null,null,null,{"$f":"COUNTIF(BPV$3:BPX$31,$A66)","v":0},null,null,null,{"$f":"COUNTIF(BPZ$3:BQB$31,$A66)","v":0},null,null,null,{"$f":"COUNTIF(BQD$3:BQF$31,$A66)","v":0},null,null,null,{"$f":"COUNTIF(BQH$3:BQJ$31,$A66)","v":0},null,null,null,{"$f":"COUNTIF(BQL$3:BQN$31,$A66)","v":0},null,null,null,{"$f":"COUNTIF(BQP$3:BQR$31,$A66)","v":0},null,null,null,{"$f":"COUNTIF(BQT$3:BQV$31,$A66)","v":0},null,null,null,{"$f":"COUNTIF(BQX$3:BQZ$31,$A66)","v":0},null,null,null,{"$f":"COUNTIF(BRB$3:BRD$31,$A66)","v":0},null,null,null,{"$f":"COUNTIF(BRF$3:BRH$31,$A66)","v":0},null,null,null,{"$f":"COUNTIF(BRJ$3:BRL$31,$A66)","v":0},null,null,null,{"$f":"COUNTIF(BRN$3:BRP$31,$A66)","v":0},null,null,null,{"$f":"COUNTIF(BRR$3:BRT$31,$A66)","v":0},null,null,null,{"$f":"COUNTIF(BRV$3:BRX$31,$A66)","v":0},null,null,null,{"$f":"COUNTIF(BRZ$3:BSB$31,$A66)","v":0},null,null,null,{"$f":"COUNTIF(BSD$3:BSF$31,$A66)","v":0},null,null,null,{"$f":"COUNTIF(BSH$3:BSJ$31,$A66)","v":0},null,null,null,{"$f":"COUNTIF(BSL$3:BSN$31,$A66)","v":0},null,null,null,{"$f":"COUNTIF(BSP$3:BSR$31,$A66)","v":0},null,null,null,{"$f":"COUNTIF(BST$3:BSV$31,$A66)","v":0},null,null,null,{"$f":"COUNTIF(BSX$3:BSZ$31,$A66)","v":0},null,null,null,{"$f":"COUNTIF(BTB$3:BTD$31,$A66)","v":0},null,null,null,{"$f":"COUNTIF(BTF$3:BTH$31,$A66)","v":0},null,null,null,{"$f":"COUNTIF(BTJ$3:BTL$31,$A66)","v":0},null,null,null,{"$f":"COUNTIF(BTN$3:BTP$31,$A66)","v":0},null,null,null,{"$f":"COUNTIF(BTR$3:BTT$31,$A66)","v":0},null,null,null,{"$f":"COUNTIF(BTV$3:BTX$31,$A66)","v":0},null,null,null,{"$f":"COUNTIF(BTZ$3:BUB$31,$A66)","v":0},null,null,null,{"$f":"COUNTIF(BUD$3:BUF$31,$A66)","v":0},null,null,null,{"$f":"COUNTIF(BUH$3:BUJ$31,$A66)","v":0},null,null,null,{"$f":"COUNTIF(BUL$3:BUN$31,$A66)","v":0},null,null,null,{"$f":"COUNTIF(BUP$3:BUR$31,$A66)","v":0},null,null,null,{"$f":"COUNTIF(BUT$3:BUV$31,$A66)","v":0},null,null,null,{"$f":"COUNTIF(BUX$3:BUZ$31,$A66)","v":0},null,null,null,{"$f":"COUNTIF(BVB$3:BVD$31,$A66)","v":0},null,null,null,{"$f":"COUNTIF(BVF$3:BVH$31,$A66)","v":0},null,null,null,{"$f":"COUNTIF(BVJ$3:BVL$31,$A66)","v":0},null,null,null,{"$f":"COUNTIF(BVN$3:BVP$31,$A66)","v":0},null,null,null,{"$f":"COUNTIF(BVR$3:BVT$31,$A66)","v":0},null,null,null,{"$f":"COUNTIF(BVV$3:BVX$31,$A66)","v":0},null,null,null,{"$f":"COUNTIF(BVZ$3:BWB$31,$A66)","v":0},null,null,null,{"$f":"COUNTIF(BWD$3:BWF$31,$A66)","v":0},null,null,null,{"$f":"COUNTIF(BWH$3:BWJ$31,$A66)","v":0},null,null,null,{"$f":"COUNTIF(BWL$3:BWN$31,$A66)","v":0},null,null,null,{"$f":"COUNTIF(BWP$3:BWR$31,$A66)","v":0},null,null,null,{"$f":"COUNTIF(BWT$3:BWV$31,$A66)","v":0},null,null,null,{"$f":"COUNTIF(BWX$3:BWZ$31,$A66)","v":0},null,null,null,{"$f":"COUNTIF(BXB$3:BXD$31,$A66)","v":0},null,null,null,{"$f":"COUNTIF(BXF$3:BXH$31,$A66)","v":0},null,null,null,{"$f":"COUNTIF(BXJ$3:BXL$31,$A66)","v":0},null,null,null,{"$f":"COUNTIF(BXN$3:BXP$31,$A66)","v":0},null,null,null,{"$f":"COUNTIF(BXR$3:BXT$31,$A66)","v":0},null,null,null,{"$f":"COUNTIF(BXV$3:BXX$31,$A66)","v":0},null,null,null,{"$f":"COUNTIF(BXZ$3:BYB$31,$A66)","v":0},null,null,null,{"$f":"COUNTIF(BYD$3:BYF$31,$A66)","v":0},null,null,null,{"$f":"COUNTIF(BYH$3:BYJ$31,$A66)","v":0},null,null,null,{"$f":"COUNTIF(BYL$3:BYN$31,$A66)","v":0},null,null,null,{"$f":"COUNTIF(BYP$3:BYR$31,$A66)","v":0},null,null,null,{"$f":"COUNTIF(BYT$3:BYV$31,$A66)","v":0},null,null,null,{"$f":"COUNTIF(BYX$3:BYZ$31,$A66)","v":0},null,null,null,{"$f":"COUNTIF(BZB$3:BZD$31,$A66)","v":0},null,null,null,{"$f":"COUNTIF(BZF$3:BZH$31,$A66)","v":0},null,null,null,{"$f":"COUNTIF(BZJ$3:BZL$31,$A66)","v":0},null,null,null,{"$f":"COUNTIF(BZN$3:BZP$31,$A66)","v":0},null,null,null,{"$f":"COUNTIF(BZR$3:BZT$31,$A66)","v":0},null,null,null,{"$f":"COUNTIF(BZV$3:BZX$31,$A66)","v":0},null,null,null,{"$f":"COUNTIF(BZZ$3:CAB$31,$A66)","v":0},null,null,null,{"$f":"COUNTIF(CAD$3:CAF$31,$A66)","v":0},null,null,null,{"$f":"COUNTIF(CAH$3:CAJ$31,$A66)","v":0},null,null,null,{"$f":"COUNTIF(CAL$3:CAN$31,$A66)","v":0},null,null,null,{"$f":"COUNTIF(CAP$3:CAR$31,$A66)","v":0},null,null,null,{"$f":"COUNTIF(CAT$3:CAV$31,$A66)","v":0},null,null,null,{"$f":"COUNTIF(CAX$3:CAZ$31,$A66)","v":0},null,null,null,{"$f":"COUNTIF(CBB$3:CBD$31,$A66)","v":0},null,null,null,{"$f":"COUNTIF(CBF$3:CBH$31,$A66)","v":0},null,null,null,{"$f":"COUNTIF(CBJ$3:CBL$31,$A66)","v":0},null,null,null,{"$f":"COUNTIF(CBN$3:CBP$31,$A66)","v":0},null,null,null,{"$f":"COUNTIF(CBR$3:CBT$31,$A66)","v":0},null,null,null,{"$f":"COUNTIF(CBV$3:CBX$31,$A66)","v":0},null,null,null,{"$f":"COUNTIF(CBZ$3:CCB$31,$A66)","v":0},null,null,null,{"$f":"COUNTIF(CCD$3:CCF$31,$A66)","v":0},null,null,null,{"$f":"COUNTIF(CCH$3:CCJ$31,$A66)","v":0},null,null,null,{"$f":"COUNTIF(CCL$3:CCN$31,$A66)","v":0},null,null,null,{"$f":"COUNTIF(CCP$3:CCR$31,$A66)","v":0},null,null,null,{"$f":"COUNTIF(CCT$3:CCV$31,$A66)","v":0},null,null,null,{"$f":"COUNTIF(CCX$3:CCZ$31,$A66)","v":0},null,null,null,{"$f":"COUNTIF(CDB$3:CDD$31,$A66)","v":0},null,null,null,{"$f":"COUNTIF(CDF$3:CDH$31,$A66)","v":0},null,null,null,{"$f":"COUNTIF(CDJ$3:CDL$31,$A66)","v":0},null,null,null,{"$f":"COUNTIF(CDN$3:CDP$31,$A66)","v":0},null,null,null,{"$f":"COUNTIF(CDR$3:CDT$31,$A66)","v":0},null,null,null,{"$f":"COUNTIF(CDV$3:CDX$31,$A66)","v":0},null,null,null,{"$f":"COUNTIF(CDZ$3:CEB$31,$A66)","v":0},null,null,null,{"$f":"COUNTIF(CED$3:CEF$31,$A66)","v":0},null,null,null,{"$f":"COUNTIF(CEH$3:CEJ$31,$A66)","v":0},null,null,null,{"$f":"COUNTIF(CEL$3:CEN$31,$A66)","v":0},null,null,null,{"$f":"COUNTIF(CEP$3:CER$31,$A66)","v":0},null,null,null,{"$f":"COUNTIF(CET$3:CEV$31,$A66)","v":0},null,null,null,{"$f":"COUNTIF(CEX$3:CEZ$31,$A66)","v":0},null,null,null,{"$f":"COUNTIF(CFB$3:CFD$31,$A66)","v":0},null,null,null,{"$f":"COUNTIF(CFF$3:CFH$31,$A66)","v":0},null,null,null,{"$f":"COUNTIF(CFJ$3:CFL$31,$A66)","v":0},null,null,null,{"$f":"COUNTIF(CFN$3:CFP$31,$A66)","v":0},null,null,null,{"$f":"COUNTIF(CFR$3:CFT$31,$A66)","v":0},null,null,null,{"$f":"COUNTIF(CFV$3:CFX$31,$A66)","v":0},null,null,null,{"$f":"COUNTIF(CFZ$3:CGB$31,$A66)","v":0},null,null,null,{"$f":"COUNTIF(CGD$3:CGF$31,$A66)","v":0},null,null,null,{"$f":"COUNTIF(CGH$3:CGJ$31,$A66)","v":0},null,null,null,{"$f":"COUNTIF(CGL$3:CGN$31,$A66)","v":0},null,null,null,{"$f":"COUNTIF(CGP$3:CGR$31,$A66)","v":0},null,null,null,{"$f":"COUNTIF(CGT$3:CGV$31,$A66)","v":0},null,null,null,{"$f":"COUNTIF(CGX$3:CGZ$31,$A66)","v":0},null,null,null,{"$f":"COUNTIF(CHB$3:CHD$31,$A66)","v":0},null,null,null,{"$f":"COUNTIF(CHF$3:CHH$31,$A66)","v":0},null,null,null,{"$f":"COUNTIF(CHJ$3:CHL$31,$A66)","v":0},null,null,null,{"$f":"COUNTIF(CHN$3:CHP$31,$A66)","v":0},null,null,null,{"$f":"COUNTIF(CHR$3:CHT$31,$A66)","v":0},null,null,null,{"$f":"COUNTIF(CHV$3:CHX$31,$A66)","v":0},null,null,null,{"$f":"COUNTIF(CHZ$3:CIB$31,$A66)","v":0},null,null,null,{"$f":"COUNTIF(CID$3:CIF$31,$A66)","v":0},null,null,null,{"$f":"COUNTIF(CIH$3:CIJ$31,$A66)","v":0},null,null,null,{"$f":"COUNTIF(CIL$3:CIN$31,$A66)","v":0},null,null,null,{"$f":"COUNTIF(CIP$3:CIR$31,$A66)","v":0},null,null,null,{"$f":"COUNTIF(CIT$3:CIV$31,$A66)","v":0},null,null,null,{"$f":"COUNTIF(CIX$3:CIZ$31,$A66)","v":0},null,null,null,{"$f":"COUNTIF(CJB$3:CJD$31,$A66)","v":0},null,null,null,{"$f":"COUNTIF(CJF$3:CJH$31,$A66)","v":0},null,null,null,{"$f":"COUNTIF(CJJ$3:CJL$31,$A66)","v":0},null,null,null,{"$f":"COUNTIF(CJN$3:CJP$31,$A66)","v":0},null,null,null,{"$f":"COUNTIF(CJR$3:CJT$31,$A66)","v":0},null,null,null,{"$f":"COUNTIF(CJV$3:CJX$31,$A66)","v":0},null,null,null,{"$f":"COUNTIF(CJZ$3:CKB$31,$A66)","v":0},null,null,null,{"$f":"COUNTIF(CKD$3:CKF$31,$A66)","v":0},null,null,null,{"$f":"COUNTIF(CKH$3:CKJ$31,$A66)","v":0},null,null,null,{"$f":"COUNTIF(CKL$3:CKN$31,$A66)","v":0},null,null,null,{"$f":"COUNTIF(CKP$3:CKR$31,$A66)","v":0},null,null,null,{"$f":"COUNTIF(CKT$3:CKV$31,$A66)","v":0},null,null,null,{"$f":"COUNTIF(CKX$3:CKZ$31,$A66)","v":0},null,null,null,{"$f":"COUNTIF(CLB$3:CLD$31,$A66)","v":0},null,null,null,{"$f":"COUNTIF(CLF$3:CLH$31,$A66)","v":0},null,null,null,{"$f":"COUNTIF(CLJ$3:CLL$31,$A66)","v":0},null,null,null,{"$f":"COUNTIF(CLN$3:CLP$31,$A66)","v":0},null,null,null,{"$f":"COUNTIF(CLR$3:CLT$31,$A66)","v":0},null,null,null,{"$f":"COUNTIF(CLV$3:CLX$31,$A66)","v":0},null,null,null,{"$f":"COUNTIF(CLZ$3:CMB$31,$A66)","v":0},null,null,null,{"$f":"COUNTIF(CMD$3:CMF$31,$A66)","v":0},null,null,null,{"$f":"COUNTIF(CMH$3:CMJ$31,$A66)","v":0},null,null,null,{"$f":"COUNTIF(CML$3:CMN$31,$A66)","v":0},null,null,null,{"$f":"COUNTIF(CMP$3:CMR$31,$A66)","v":0},null,null,null,{"$f":"COUNTIF(CMT$3:CMV$31,$A66)","v":0},null,null,null,{"$f":"COUNTIF(CMX$3:CMZ$31,$A66)","v":0},null,null,null,{"$f":"COUNTIF(CNB$3:CND$31,$A66)","v":0},null,null,null,{"$f":"COUNTIF(CNF$3:CNH$31,$A66)","v":0},null,null,null,{"$f":"COUNTIF(CNJ$3:CNL$31,$A66)","v":0},null,null,null,{"$f":"COUNTIF(CNN$3:CNP$31,$A66)","v":0},null,null,null,{"$f":"COUNTIF(CNR$3:CNT$31,$A66)","v":0},null,null,null,{"$f":"COUNTIF(CNV$3:CNX$31,$A66)","v":0},null,null,null,{"$f":"COUNTIF(CNZ$3:COB$31,$A66)","v":0},null,null,null,{"$f":"COUNTIF(COD$3:COF$31,$A66)","v":0},null,null,null,{"$f":"COUNTIF(COH$3:COJ$31,$A66)","v":0},null,null,null,{"$f":"COUNTIF(COL$3:CON$31,$A66)","v":0},null,null,null,{"$f":"COUNTIF(COP$3:COR$31,$A66)","v":0},null,null,null,{"$f":"COUNTIF(COT$3:COV$31,$A66)","v":0},null,null,null,{"$f":"COUNTIF(COX$3:COZ$31,$A66)","v":0},null,null,null,{"$f":"COUNTIF(CPB$3:CPD$31,$A66)","v":0},null,null,null,{"$f":"COUNTIF(CPF$3:CPH$31,$A66)","v":0},null,null,null,{"$f":"COUNTIF(CPJ$3:CPL$31,$A66)","v":0},null,null,null,{"$f":"COUNTIF(CPN$3:CPP$31,$A66)","v":0},null,null,null,{"$f":"COUNTIF(CPR$3:CPT$31,$A66)","v":0},null,null,null,{"$f":"COUNTIF(CPV$3:CPX$31,$A66)","v":0},null,null,null,{"$f":"COUNTIF(CPZ$3:CQB$31,$A66)","v":0},null,null,null,{"$f":"COUNTIF(CQD$3:CQF$31,$A66)","v":0},null,null,null,{"$f":"COUNTIF(CQH$3:CQJ$31,$A66)","v":0},null,null,null,{"$f":"COUNTIF(CQL$3:CQN$31,$A66)","v":0},null,null,null,{"$f":"COUNTIF(CQP$3:CQR$31,$A66)","v":0},null,null,null,{"$f":"COUNTIF(CQT$3:CQV$31,$A66)","v":0},null,null,null,{"$f":"COUNTIF(CQX$3:CQZ$31,$A66)","v":0},null,null,null,{"$f":"COUNTIF(CRB$3:CRD$31,$A66)","v":0},null,null,null,{"$f":"COUNTIF(CRF$3:CRH$31,$A66)","v":0},null,null,null,{"$f":"COUNTIF(CRJ$3:CRL$31,$A66)","v":0},null,null,null,{"$f":"COUNTIF(CRN$3:CRP$31,$A66)","v":0},null,null,null,{"$f":"COUNTIF(CRR$3:CRT$31,$A66)","v":0},null,null,null,{"$f":"COUNTIF(CRV$3:CRX$31,$A66)","v":0},null,null,null,{"$f":"COUNTIF(CRZ$3:CSB$31,$A66)","v":0},null,null,null,{"$f":"COUNTIF(CSD$3:CSF$31,$A66)","v":0},null,null,null,{"$f":"COUNTIF(CSH$3:CSJ$31,$A66)","v":0},null,null,null,{"$f":"COUNTIF(CSL$3:CSN$31,$A66)","v":0},null,null,null,{"$f":"COUNTIF(CSP$3:CSR$31,$A66)","v":0},null,null,null,{"$f":"COUNTIF(CST$3:CSV$31,$A66)","v":0},null,null,null,{"$f":"COUNTIF(CSX$3:CSZ$31,$A66)","v":0},null,null,null,{"$f":"COUNTIF(CTB$3:CTD$31,$A66)","v":0},null,null,null,{"$f":"COUNTIF(CTF$3:CTH$31,$A66)","v":0},null,null,null,{"$f":"COUNTIF(CTJ$3:CTL$31,$A66)","v":0},null,null,null,{"$f":"COUNTIF(CTN$3:CTP$31,$A66)","v":0},null,null,null,{"$f":"COUNTIF(CTR$3:CTT$31,$A66)","v":0},null,null,null,{"$f":"COUNTIF(CTV$3:CTX$31,$A66)","v":0},null,null,null,{"$f":"COUNTIF(CTZ$3:CUB$31,$A66)","v":0},null,null,null,{"$f":"COUNTIF(CUD$3:CUF$31,$A66)","v":0},null,null,null,{"$f":"COUNTIF(CUH$3:CUJ$31,$A66)","v":0},null,null,null,{"$f":"COUNTIF(CUL$3:CUN$31,$A66)","v":0},null,null,null,{"$f":"COUNTIF(CUP$3:CUR$31,$A66)","v":0},null,null,null,{"$f":"COUNTIF(CUT$3:CUV$31,$A66)","v":0},null,null,null,{"$f":"COUNTIF(CUX$3:CUZ$31,$A66)","v":0},null,null,null,{"$f":"COUNTIF(CVB$3:CVD$31,$A66)","v":0},null,null,null,{"$f":"COUNTIF(CVF$3:CVH$31,$A66)","v":0},null,null,null,{"$f":"COUNTIF(CVJ$3:CVL$31,$A66)","v":0},null,null,null,{"$f":"COUNTIF(CVN$3:CVP$31,$A66)","v":0},null,null,null,{"$f":"COUNTIF(CVR$3:CVT$31,$A66)","v":0},null,null,null,{"$f":"COUNTIF(CVV$3:CVX$31,$A66)","v":0},null,null,null,{"$f":"COUNTIF(CVZ$3:CWB$31,$A66)","v":0},null,null,null,{"$f":"COUNTIF(CWD$3:CWF$31,$A66)","v":0},null,null,null,{"$f":"COUNTIF(CWH$3:CWJ$31,$A66)","v":0},null,null,null,{"$f":"COUNTIF(CWL$3:CWN$31,$A66)","v":0},null,null,null,{"$f":"COUNTIF(CWP$3:CWR$31,$A66)","v":0},null,null,null,{"$f":"COUNTIF(CWT$3:CWV$31,$A66)","v":0},null,null,null,{"$f":"COUNTIF(CWX$3:CWZ$31,$A66)","v":0},null,null,null,{"$f":"COUNTIF(CXB$3:CXD$31,$A66)","v":0},null,null,null,{"$f":"COUNTIF(CXF$3:CXH$31,$A66)","v":0},null,null,null,{"$f":"COUNTIF(CXJ$3:CXL$31,$A66)","v":0},null,null,null,{"$f":"COUNTIF(CXN$3:CXP$31,$A66)","v":0},null,null,null,{"$f":"COUNTIF(CXR$3:CXT$31,$A66)","v":0},null,null,null,{"$f":"COUNTIF(CXV$3:CXX$31,$A66)","v":0},null,null,null,{"$f":"COUNTIF(CXZ$3:CYB$31,$A66)","v":0},null,null,null,{"$f":"COUNTIF(CYD$3:CYF$31,$A66)","v":0},null,null,null,{"$f":"COUNTIF(CYH$3:CYJ$31,$A66)","v":0},null,null,null,{"$f":"COUNTIF(CYL$3:CYN$31,$A66)","v":0},null,null,null,{"$f":"COUNTIF(CYP$3:CYR$31,$A66)","v":0},null,null,null,{"$f":"COUNTIF(CYT$3:CYV$31,$A66)","v":0},null,null,null,{"$f":"COUNTIF(CYX$3:CYZ$31,$A66)","v":0},null,null,null,{"$f":"COUNTIF(CZB$3:CZD$31,$A66)","v":0},null,null,null,{"$f":"COUNTIF(CZF$3:CZH$31,$A66)","v":0},null,null,null,{"$f":"COUNTIF(CZJ$3:CZL$31,$A66)","v":0},null,null,null,{"$f":"COUNTIF(CZN$3:CZP$31,$A66)","v":0},null,null,null,{"$f":"COUNTIF(CZR$3:CZT$31,$A66)","v":0},null,null,null,{"$f":"COUNTIF(CZV$3:CZX$31,$A66)","v":0},null,null,null,{"$f":"COUNTIF(CZZ$3:DAB$31,$A66)","v":0},null,null,null,{"$f":"COUNTIF(DAD$3:DAF$31,$A66)","v":0},null,null,null,{"$f":"COUNTIF(DAH$3:DAJ$31,$A66)","v":0},null,null,null,{"$f":"COUNTIF(DAL$3:DAN$31,$A66)","v":0},null,null,null,{"$f":"COUNTIF(DAP$3:DAR$31,$A66)","v":0},null,null,null,{"$f":"COUNTIF(DAT$3:DAV$31,$A66)","v":0},null,null,null,{"$f":"COUNTIF(DAX$3:DAZ$31,$A66)","v":0},null,null,null,{"$f":"COUNTIF(DBB$3:DBD$31,$A66)","v":0},null,null,null,{"$f":"COUNTIF(DBF$3:DBH$31,$A66)","v":0},null,null,null,{"$f":"COUNTIF(DBJ$3:DBL$31,$A66)","v":0},null,null,null,{"$f":"COUNTIF(DBN$3:DBP$31,$A66)","v":0},null,null,null,{"$f":"COUNTIF(DBR$3:DBT$31,$A66)","v":0},null,null,null,{"$f":"COUNTIF(DBV$3:DBX$31,$A66)","v":0},null,null,null,{"$f":"COUNTIF(DBZ$3:DCB$31,$A66)","v":0},null,null,null,{"$f":"COUNTIF(DCD$3:DCF$31,$A66)","v":0},null,null,null,{"$f":"COUNTIF(DCH$3:DCJ$31,$A66)","v":0},null,null,null,{"$f":"COUNTIF(DCL$3:DCN$31,$A66)","v":0},null,null,null,{"$f":"COUNTIF(DCP$3:DCR$31,$A66)","v":0},null,null,null,{"$f":"COUNTIF(DCT$3:DCV$31,$A66)","v":0},null,null,null,{"$f":"COUNTIF(DCX$3:DCZ$31,$A66)","v":0},null,null,null,{"$f":"COUNTIF(DDB$3:DDD$31,$A66)","v":0},null,null,null,{"$f":"COUNTIF(DDF$3:DDH$31,$A66)","v":0},null,null,null,{"$f":"COUNTIF(DDJ$3:DDL$31,$A66)","v":0},null,null,null,{"$f":"COUNTIF(DDN$3:DDP$31,$A66)","v":0},null,null,null,{"$f":"COUNTIF(DDR$3:DDT$31,$A66)","v":0},null,null,null,{"$f":"COUNTIF(DDV$3:DDX$31,$A66)","v":0},null,null,null,{"$f":"COUNTIF(DDZ$3:DEB$31,$A66)","v":0},null,null,null,{"$f":"COUNTIF(DED$3:DEF$31,$A66)","v":0},null,null,null,{"$f":"COUNTIF(DEH$3:DEJ$31,$A66)","v":0},null,null,null,{"$f":"COUNTIF(DEL$3:DEN$31,$A66)","v":0},null,null,null,{"$f":"COUNTIF(DEP$3:DER$31,$A66)","v":0},null,null,null,{"$f":"COUNTIF(DET$3:DEV$31,$A66)","v":0},null,null,null,{"$f":"COUNTIF(DEX$3:DEZ$31,$A66)","v":0},null,null,null,{"$f":"COUNTIF(DFB$3:DFD$31,$A66)","v":0},null,null,null,{"$f":"COUNTIF(DFF$3:DFH$31,$A66)","v":0},null,null,null,{"$f":"COUNTIF(DFJ$3:DFL$31,$A66)","v":0},null,null,null,{"$f":"COUNTIF(DFN$3:DFP$31,$A66)","v":0},null,null,null,{"$f":"COUNTIF(DFR$3:DFT$31,$A66)","v":0},null,null,null,{"$f":"COUNTIF(DFV$3:DFX$31,$A66)","v":0},null,null,null,{"$f":"COUNTIF(DFZ$3:DGB$31,$A66)","v":0},null,null,null,{"$f":"COUNTIF(DGD$3:DGF$31,$A66)","v":0},null,null,null,{"$f":"COUNTIF(DGH$3:DGJ$31,$A66)","v":0},null,null,null,{"$f":"COUNTIF(DGL$3:DGN$31,$A66)","v":0},null,null,null,{"$f":"COUNTIF(DGP$3:DGR$31,$A66)","v":0},null,null,null,{"$f":"COUNTIF(DGT$3:DGV$31,$A66)","v":0},null,null,null,{"$f":"COUNTIF(DGX$3:DGZ$31,$A66)","v":0},null,null,null,{"$f":"COUNTIF(DHB$3:DHD$31,$A66)","v":0},null,null,null,{"$f":"COUNTIF(DHF$3:DHH$31,$A66)","v":0},null,null,null,{"$f":"COUNTIF(DHJ$3:DHL$31,$A66)","v":0},null,null,null,{"$f":"COUNTIF(DHN$3:DHP$31,$A66)","v":0},null,null,null,{"$f":"COUNTIF(DHR$3:DHT$31,$A66)","v":0},null,null,null,{"$f":"COUNTIF(DHV$3:DHX$31,$A66)","v":0},null,null,null,{"$f":"COUNTIF(DHZ$3:DIB$31,$A66)","v":0},null,null,null,{"$f":"COUNTIF(DID$3:DIF$31,$A66)","v":0},null,null,null,{"$f":"COUNTIF(DIH$3:DIJ$31,$A66)","v":0},null,null,null,{"$f":"COUNTIF(DIL$3:DIN$31,$A66)","v":0},null,null,null,{"$f":"COUNTIF(DIP$3:DIR$31,$A66)","v":0},null,null,null,{"$f":"COUNTIF(DIT$3:DIV$31,$A66)","v":0},null,null,null,{"$f":"COUNTIF(DIX$3:DIZ$31,$A66)","v":0},null,null,null,{"$f":"COUNTIF(DJB$3:DJD$31,$A66)","v":0},null,null,null,{"$f":"COUNTIF(DJF$3:DJH$31,$A66)","v":0},null,null,null,{"$f":"COUNTIF(DJJ$3:DJL$31,$A66)","v":0},null,null,null,{"$f":"COUNTIF(DJN$3:DJP$31,$A66)","v":0},null,null,null,{"$f":"COUNTIF(DJR$3:DJT$31,$A66)","v":0},null,null,null,{"$f":"COUNTIF(DJV$3:DJX$31,$A66)","v":0},null,null,null,{"$f":"COUNTIF(DJZ$3:DKB$31,$A66)","v":0},null,null,null,{"$f":"COUNTIF(DKD$3:DKF$31,$A66)","v":0},null,null,null,{"$f":"COUNTIF(DKH$3:DKJ$31,$A66)","v":0},null,null,null,{"$f":"COUNTIF(DKL$3:DKN$31,$A66)","v":0},null,null,null,{"$f":"COUNTIF(DKP$3:DKR$31,$A66)","v":0},null,null,null,{"$f":"COUNTIF(DKT$3:DKV$31,$A66)","v":0},null,null,null,{"$f":"COUNTIF(DKX$3:DKZ$31,$A66)","v":0},null,null,null,{"$f":"COUNTIF(DLB$3:DLD$31,$A66)","v":0},null,null,null,{"$f":"COUNTIF(DLF$3:DLH$31,$A66)","v":0},null,null,null,{"$f":"COUNTIF(DLJ$3:DLL$31,$A66)","v":0},null,null,null,{"$f":"COUNTIF(DLN$3:DLP$31,$A66)","v":0},null,null,null,{"$f":"COUNTIF(DLR$3:DLT$31,$A66)","v":0},null,null,null,{"$f":"COUNTIF(DLV$3:DLX$31,$A66)","v":0},null,null,null,{"$f":"COUNTIF(DLZ$3:DMB$31,$A66)","v":0},null,null,null,{"$f":"COUNTIF(DMD$3:DMF$31,$A66)","v":0},null,null,null,{"$f":"COUNTIF(DMH$3:DMJ$31,$A66)","v":0},null,null,null,{"$f":"COUNTIF(DML$3:DMN$31,$A66)","v":0},null,null,null,{"$f":"COUNTIF(DMP$3:DMR$31,$A66)","v":0},null,null,null,{"$f":"COUNTIF(DMT$3:DMV$31,$A66)","v":0},null,null,null,{"$f":"COUNTIF(DMX$3:DMZ$31,$A66)","v":0},null,null,null,{"$f":"COUNTIF(DNB$3:DND$31,$A66)","v":0},null,null,null,{"$f":"COUNTIF(DNF$3:DNH$31,$A66)","v":0},null,null,null,{"$f":"COUNTIF(DNJ$3:DNL$31,$A66)","v":0},null,null,null,{"$f":"COUNTIF(DNN$3:DNP$31,$A66)","v":0},null,null,null,{"$f":"COUNTIF(DNR$3:DNT$31,$A66)","v":0},null,null,null,{"$f":"COUNTIF(DNV$3:DNX$31,$A66)","v":0},null,null,null,{"$f":"COUNTIF(DNZ$3:DOB$31,$A66)","v":0},null,null,null,{"$f":"COUNTIF(DOD$3:DOF$31,$A66)","v":0},null,null,null,{"$f":"COUNTIF(DOH$3:DOJ$31,$A66)","v":0},null,null,null,{"$f":"COUNTIF(DOL$3:DON$31,$A66)","v":0},null,null,null,{"$f":"COUNTIF(DOP$3:DOR$31,$A66)","v":0},null,null,null,{"$f":"COUNTIF(DOT$3:DOV$31,$A66)","v":0},null,null,null,{"$f":"COUNTIF(DOX$3:DOZ$31,$A66)","v":0},null,null,null,{"$f":"COUNTIF(DPB$3:DPD$31,$A66)","v":0},null,null,null,{"$f":"COUNTIF(DPF$3:DPH$31,$A66)","v":0},null,null,null,{"$f":"COUNTIF(DPJ$3:DPL$31,$A66)","v":0},null,null,null,{"$f":"COUNTIF(DPN$3:DPP$31,$A66)","v":0},null,null,null,{"$f":"COUNTIF(DPR$3:DPT$31,$A66)","v":0},null,null,null,{"$f":"COUNTIF(DPV$3:DPX$31,$A66)","v":0},null,null,null,{"$f":"COUNTIF(DPZ$3:DQB$31,$A66)","v":0},null,null,null,{"$f":"COUNTIF(DQD$3:DQF$31,$A66)","v":0},null,null,null,{"$f":"COUNTIF(DQH$3:DQJ$31,$A66)","v":0},null,null,null,{"$f":"COUNTIF(DQL$3:DQN$31,$A66)","v":0},null,null,null,{"$f":"COUNTIF(DQP$3:DQR$31,$A66)","v":0},null,null,null,{"$f":"COUNTIF(DQT$3:DQV$31,$A66)","v":0},null,null,null,{"$f":"COUNTIF(DQX$3:DQZ$31,$A66)","v":0},null,null,null,{"$f":"COUNTIF(DRB$3:DRD$31,$A66)","v":0},null,null,null,{"$f":"COUNTIF(DRF$3:DRH$31,$A66)","v":0},null,null,null,{"$f":"COUNTIF(DRJ$3:DRL$31,$A66)","v":0},null,null,null,{"$f":"COUNTIF(DRN$3:DRP$31,$A66)","v":0},null,null,null,{"$f":"COUNTIF(DRR$3:DRT$31,$A66)","v":0},null,null,null,{"$f":"COUNTIF(DRV$3:DRX$31,$A66)","v":0},null,null,null,{"$f":"COUNTIF(DRZ$3:DSB$31,$A66)","v":0},null,null,null,{"$f":"COUNTIF(DSD$3:DSF$31,$A66)","v":0},null,null,null,{"$f":"COUNTIF(DSH$3:DSJ$31,$A66)","v":0},null,null,null,{"$f":"COUNTIF(DSL$3:DSN$31,$A66)","v":0},null,null,null,{"$f":"COUNTIF(DSP$3:DSR$31,$A66)","v":0},null,null,null,{"$f":"COUNTIF(DST$3:DSV$31,$A66)","v":0},null,null,null,{"$f":"COUNTIF(DSX$3:DSZ$31,$A66)","v":0},null,null,null,{"$f":"COUNTIF(DTB$3:DTD$31,$A66)","v":0},null,null,null,{"$f":"COUNTIF(DTF$3:DTH$31,$A66)","v":0},null,null,null,{"$f":"COUNTIF(DTJ$3:DTL$31,$A66)","v":0},null,null,null,{"$f":"COUNTIF(DTN$3:DTP$31,$A66)","v":0},null,null,null,{"$f":"COUNTIF(DTR$3:DTT$31,$A66)","v":0},null,null,null,{"$f":"COUNTIF(DTV$3:DTX$31,$A66)","v":0},null,null,null,{"$f":"COUNTIF(DTZ$3:DUB$31,$A66)","v":0},null,null,null,{"$f":"COUNTIF(DUD$3:DUF$31,$A66)","v":0},null,null,null,{"$f":"COUNTIF(DUH$3:DUJ$31,$A66)","v":0},null,null,null,{"$f":"COUNTIF(DUL$3:DUN$31,$A66)","v":0},null,null,null,{"$f":"COUNTIF(DUP$3:DUR$31,$A66)","v":0},null,null,null,{"$f":"COUNTIF(DUT$3:DUV$31,$A66)","v":0},null,null,null,{"$f":"COUNTIF(DUX$3:DUZ$31,$A66)","v":0},null,null,null,{"$f":"COUNTIF(DVB$3:DVD$31,$A66)","v":0},null,null,null,{"$f":"COUNTIF(DVF$3:DVH$31,$A66)","v":0},null,null,null,{"$f":"COUNTIF(DVJ$3:DVL$31,$A66)","v":0},null,null,null,{"$f":"COUNTIF(DVN$3:DVP$31,$A66)","v":0},null,null,null,{"$f":"COUNTIF(DVR$3:DVT$31,$A66)","v":0},null,null,null,{"$f":"COUNTIF(DVV$3:DVX$31,$A66)","v":0},null,null,null,{"$f":"COUNTIF(DVZ$3:DWB$31,$A66)","v":0},null,null,null,{"$f":"COUNTIF(DWD$3:DWF$31,$A66)","v":0},null,null,null,{"$f":"COUNTIF(DWH$3:DWJ$31,$A66)","v":0},null,null,null,{"$f":"COUNTIF(DWL$3:DWN$31,$A66)","v":0},null,null,null,{"$f":"COUNTIF(DWP$3:DWR$31,$A66)","v":0},null,null,null,{"$f":"COUNTIF(DWT$3:DWV$31,$A66)","v":0},null,null,null,{"$f":"COUNTIF(DWX$3:DWZ$31,$A66)","v":0},null,null,null,{"$f":"COUNTIF(DXB$3:DXD$31,$A66)","v":0},null,null,null,{"$f":"COUNTIF(DXF$3:DXH$31,$A66)","v":0},null,null,null,{"$f":"COUNTIF(DXJ$3:DXL$31,$A66)","v":0},null,null,null,{"$f":"COUNTIF(DXN$3:DXP$31,$A66)","v":0},null,null,null,{"$f":"COUNTIF(DXR$3:DXT$31,$A66)","v":0},null,null,null,{"$f":"COUNTIF(DXV$3:DXX$31,$A66)","v":0},null,null,null,{"$f":"COUNTIF(DXZ$3:DYB$31,$A66)","v":0},null,null,null,{"$f":"COUNTIF(DYD$3:DYF$31,$A66)","v":0},null,null,null,{"$f":"COUNTIF(DYH$3:DYJ$31,$A66)","v":0},null,null,null,{"$f":"COUNTIF(DYL$3:DYN$31,$A66)","v":0},null,null,null,{"$f":"COUNTIF(DYP$3:DYR$31,$A66)","v":0},null,null,null,{"$f":"COUNTIF(DYT$3:DYV$31,$A66)","v":0},null,null,null,{"$f":"COUNTIF(DYX$3:DYZ$31,$A66)","v":0},null,null,null,{"$f":"COUNTIF(DZB$3:DZD$31,$A66)","v":0},null,null,null,{"$f":"COUNTIF(DZF$3:DZH$31,$A66)","v":0},null,null,null,{"$f":"COUNTIF(DZJ$3:DZL$31,$A66)","v":0},null,null,null,{"$f":"COUNTIF(DZN$3:DZP$31,$A66)","v":0},null,null,null,{"$f":"COUNTIF(DZR$3:DZT$31,$A66)","v":0},null,null,null,{"$f":"COUNTIF(DZV$3:DZX$31,$A66)","v":0},null,null,null,{"$f":"COUNTIF(DZZ$3:EAB$31,$A66)","v":0},null,null,null,{"$f":"COUNTIF(EAD$3:EAF$31,$A66)","v":0},null,null,null,{"$f":"COUNTIF(EAH$3:EAJ$31,$A66)","v":0},null,null,null,{"$f":"COUNTIF(EAL$3:EAN$31,$A66)","v":0},null,null,null,{"$f":"COUNTIF(EAP$3:EAR$31,$A66)","v":0},null,null,null,{"$f":"COUNTIF(EAT$3:EAV$31,$A66)","v":0},null,null,null,{"$f":"COUNTIF(EAX$3:EAZ$31,$A66)","v":0},null,null,null,{"$f":"COUNTIF(EBB$3:EBD$31,$A66)","v":0},null,null,null,{"$f":"COUNTIF(EBF$3:EBH$31,$A66)","v":0},null,null,null,{"$f":"COUNTIF(EBJ$3:EBL$31,$A66)","v":0},null,null,null,{"$f":"COUNTIF(EBN$3:EBP$31,$A66)","v":0},null,null,null,{"$f":"COUNTIF(EBR$3:EBT$31,$A66)","v":0},null,null,null,{"$f":"COUNTIF(EBV$3:EBX$31,$A66)","v":0},null,null,null,{"$f":"COUNTIF(EBZ$3:ECB$31,$A66)","v":0},null,null,null,{"$f":"COUNTIF(ECD$3:ECF$31,$A66)","v":0},null,null,null,{"$f":"COUNTIF(ECH$3:ECJ$31,$A66)","v":0},null,null,null,{"$f":"COUNTIF(ECL$3:ECN$31,$A66)","v":0},null,null,null,{"$f":"COUNTIF(ECP$3:ECR$31,$A66)","v":0},null,null,null,{"$f":"COUNTIF(ECT$3:ECV$31,$A66)","v":0},null,null,null,{"$f":"COUNTIF(ECX$3:ECZ$31,$A66)","v":0},null,null,null,{"$f":"COUNTIF(EDB$3:EDD$31,$A66)","v":0},null,null,null,{"$f":"COUNTIF(EDF$3:EDH$31,$A66)","v":0},null,null,null,{"$f":"COUNTIF(EDJ$3:EDL$31,$A66)","v":0},null,null,null,{"$f":"COUNTIF(EDN$3:EDP$31,$A66)","v":0},null,null,null,{"$f":"COUNTIF(EDR$3:EDT$31,$A66)","v":0},null,null,null,{"$f":"COUNTIF(EDV$3:EDX$31,$A66)","v":0},null,null,null,{"$f":"COUNTIF(EDZ$3:EEB$31,$A66)","v":0},null,null,null,{"$f":"COUNTIF(EED$3:EEF$31,$A66)","v":0},null,null,null,{"$f":"COUNTIF(EEH$3:EEJ$31,$A66)","v":0},null,null,null,{"$f":"COUNTIF(EEL$3:EEN$31,$A66)","v":0},null,null,null,{"$f":"COUNTIF(EEP$3:EER$31,$A66)","v":0},null,null,null,{"$f":"COUNTIF(EET$3:EEV$31,$A66)","v":0},null,null,null,{"$f":"COUNTIF(EEX$3:EEZ$31,$A66)","v":0},null,null,null,{"$f":"COUNTIF(EFB$3:EFD$31,$A66)","v":0},null,null,null,{"$f":"COUNTIF(EFF$3:EFH$31,$A66)","v":0},null,null,null,{"$f":"COUNTIF(EFJ$3:EFL$31,$A66)","v":0},null,null,null,{"$f":"COUNTIF(EFN$3:EFP$31,$A66)","v":0},null,null,null,{"$f":"COUNTIF(EFR$3:EFT$31,$A66)","v":0},null,null,null,{"$f":"COUNTIF(EFV$3:EFX$31,$A66)","v":0},null,null,null,{"$f":"COUNTIF(EFZ$3:EGB$31,$A66)","v":0},null,null,null,{"$f":"COUNTIF(EGD$3:EGF$31,$A66)","v":0},null,null,null,{"$f":"COUNTIF(EGH$3:EGJ$31,$A66)","v":0},null,null,null,{"$f":"COUNTIF(EGL$3:EGN$31,$A66)","v":0},null,null,null,{"$f":"COUNTIF(EGP$3:EGR$31,$A66)","v":0},null,null,null,{"$f":"COUNTIF(EGT$3:EGV$31,$A66)","v":0},null,null,null,{"$f":"COUNTIF(EGX$3:EGZ$31,$A66)","v":0},null,null,null,{"$f":"COUNTIF(EHB$3:EHD$31,$A66)","v":0},null,null,null,{"$f":"COUNTIF(EHF$3:EHH$31,$A66)","v":0},null,null,null,{"$f":"COUNTIF(EHJ$3:EHL$31,$A66)","v":0},null,null,null,{"$f":"COUNTIF(EHN$3:EHP$31,$A66)","v":0},null,null,null,{"$f":"COUNTIF(EHR$3:EHT$31,$A66)","v":0},null,null,null,{"$f":"COUNTIF(EHV$3:EHX$31,$A66)","v":0},null,null,null,{"$f":"COUNTIF(EHZ$3:EIB$31,$A66)","v":0},null,null,null,{"$f":"COUNTIF(EID$3:EIF$31,$A66)","v":0},null,null,null,{"$f":"COUNTIF(EIH$3:EIJ$31,$A66)","v":0},null,null,null,{"$f":"COUNTIF(EIL$3:EIN$31,$A66)","v":0},null,null,null,{"$f":"COUNTIF(EIP$3:EIR$31,$A66)","v":0},null,null,null,{"$f":"COUNTIF(EIT$3:EIV$31,$A66)","v":0},null,null,null,{"$f":"COUNTIF(EIX$3:EIZ$31,$A66)","v":0},null,null,null,{"$f":"COUNTIF(EJB$3:EJD$31,$A66)","v":0},null,null,null,{"$f":"COUNTIF(EJF$3:EJH$31,$A66)","v":0},null,null,null,{"$f":"COUNTIF(EJJ$3:EJL$31,$A66)","v":0},null,null,null,{"$f":"COUNTIF(EJN$3:EJP$31,$A66)","v":0},null,null,null,{"$f":"COUNTIF(EJR$3:EJT$31,$A66)","v":0},null,null,null,{"$f":"COUNTIF(EJV$3:EJX$31,$A66)","v":0},null,null,null,{"$f":"COUNTIF(EJZ$3:EKB$31,$A66)","v":0},null,null,null,{"$f":"COUNTIF(EKD$3:EKF$31,$A66)","v":0},null,null,null,{"$f":"COUNTIF(EKH$3:EKJ$31,$A66)","v":0},null,null,null,{"$f":"COUNTIF(EKL$3:EKN$31,$A66)","v":0},null,null,null,{"$f":"COUNTIF(EKP$3:EKR$31,$A66)","v":0},null,null,null,{"$f":"COUNTIF(EKT$3:EKV$31,$A66)","v":0},null,null,null,{"$f":"COUNTIF(EKX$3:EKZ$31,$A66)","v":0},null,null,null,{"$f":"COUNTIF(ELB$3:ELD$31,$A66)","v":0},null,null,null,{"$f":"COUNTIF(ELF$3:ELH$31,$A66)","v":0},null,null,null,{"$f":"COUNTIF(ELJ$3:ELL$31,$A66)","v":0},null,null,null,{"$f":"COUNTIF(ELN$3:ELP$31,$A66)","v":0},null,null,null,{"$f":"COUNTIF(ELR$3:ELT$31,$A66)","v":0},null,null,null,{"$f":"COUNTIF(ELV$3:ELX$31,$A66)","v":0},null,null,null,{"$f":"COUNTIF(ELZ$3:EMB$31,$A66)","v":0},null,null,null,{"$f":"COUNTIF(EMD$3:EMF$31,$A66)","v":0},null,null,null,{"$f":"COUNTIF(EMH$3:EMJ$31,$A66)","v":0},null,null,null,{"$f":"COUNTIF(EML$3:EMN$31,$A66)","v":0},null,null,null,{"$f":"COUNTIF(EMP$3:EMR$31,$A66)","v":0},null,null,null,{"$f":"COUNTIF(EMT$3:EMV$31,$A66)","v":0},null,null,null,{"$f":"COUNTIF(EMX$3:EMZ$31,$A66)","v":0},null,null,null,{"$f":"COUNTIF(ENB$3:END$31,$A66)","v":0},null,null,null,{"$f":"COUNTIF(ENF$3:ENH$31,$A66)","v":0},null,null,null,{"$f":"COUNTIF(ENJ$3:ENL$31,$A66)","v":0},null,null,null,{"$f":"COUNTIF(ENN$3:ENP$31,$A66)","v":0},null,null,null,{"$f":"COUNTIF(ENR$3:ENT$31,$A66)","v":0},null,null,null,{"$f":"COUNTIF(ENV$3:ENX$31,$A66)","v":0},null,null,null,{"$f":"COUNTIF(ENZ$3:EOB$31,$A66)","v":0},null,null,null,{"$f":"COUNTIF(EOD$3:EOF$31,$A66)","v":0},null,null,null,{"$f":"COUNTIF(EOH$3:EOJ$31,$A66)","v":0},null,null,null,{"$f":"COUNTIF(EOL$3:EON$31,$A66)","v":0},null,null,null,{"$f":"COUNTIF(EOP$3:EOR$31,$A66)","v":0},null,null,null,{"$f":"COUNTIF(EOT$3:EOV$31,$A66)","v":0},null,null,null,{"$f":"COUNTIF(EOX$3:EOZ$31,$A66)","v":0},null,null,null,{"$f":"COUNTIF(EPB$3:EPD$31,$A66)","v":0},null,null,null,{"$f":"COUNTIF(EPF$3:EPH$31,$A66)","v":0},null,null,null,{"$f":"COUNTIF(EPJ$3:EPL$31,$A66)","v":0},null,null,null,{"$f":"COUNTIF(EPN$3:EPP$31,$A66)","v":0},null,null,null,{"$f":"COUNTIF(EPR$3:EPT$31,$A66)","v":0},null,null,null,{"$f":"COUNTIF(EPV$3:EPX$31,$A66)","v":0},null,null,null,{"$f":"COUNTIF(EPZ$3:EQB$31,$A66)","v":0},null,null,null,{"$f":"COUNTIF(EQD$3:EQF$31,$A66)","v":0},null,null,null,{"$f":"COUNTIF(EQH$3:EQJ$31,$A66)","v":0},null,null,null,{"$f":"COUNTIF(EQL$3:EQN$31,$A66)","v":0},null,null,null,{"$f":"COUNTIF(EQP$3:EQR$31,$A66)","v":0},null,null,null,{"$f":"COUNTIF(EQT$3:EQV$31,$A66)","v":0},null,null,null,{"$f":"COUNTIF(EQX$3:EQZ$31,$A66)","v":0},null,null,null,{"$f":"COUNTIF(ERB$3:ERD$31,$A66)","v":0},null,null,null,{"$f":"COUNTIF(ERF$3:ERH$31,$A66)","v":0},null,null,null,{"$f":"COUNTIF(ERJ$3:ERL$31,$A66)","v":0},null,null,null,{"$f":"COUNTIF(ERN$3:ERP$31,$A66)","v":0},null,null,null,{"$f":"COUNTIF(ERR$3:ERT$31,$A66)","v":0},null,null,null,{"$f":"COUNTIF(ERV$3:ERX$31,$A66)","v":0},null,null,null,{"$f":"COUNTIF(ERZ$3:ESB$31,$A66)","v":0},null,null,null,{"$f":"COUNTIF(ESD$3:ESF$31,$A66)","v":0},null,null,null,{"$f":"COUNTIF(ESH$3:ESJ$31,$A66)","v":0},null,null,null,{"$f":"COUNTIF(ESL$3:ESN$31,$A66)","v":0},null,null,null,{"$f":"COUNTIF(ESP$3:ESR$31,$A66)","v":0},null,null,null,{"$f":"COUNTIF(EST$3:ESV$31,$A66)","v":0},null,null,null,{"$f":"COUNTIF(ESX$3:ESZ$31,$A66)","v":0},null,null,null,{"$f":"COUNTIF(ETB$3:ETD$31,$A66)","v":0},null,null,null,{"$f":"COUNTIF(ETF$3:ETH$31,$A66)","v":0},null,null,null,{"$f":"COUNTIF(ETJ$3:ETL$31,$A66)","v":0},null,null,null,{"$f":"COUNTIF(ETN$3:ETP$31,$A66)","v":0},null,null,null,{"$f":"COUNTIF(ETR$3:ETT$31,$A66)","v":0},null,null,null,{"$f":"COUNTIF(ETV$3:ETX$31,$A66)","v":0},null,null,null,{"$f":"COUNTIF(ETZ$3:EUB$31,$A66)","v":0},null,null,null,{"$f":"COUNTIF(EUD$3:EUF$31,$A66)","v":0},null,null,null,{"$f":"COUNTIF(EUH$3:EUJ$31,$A66)","v":0},null,null,null,{"$f":"COUNTIF(EUL$3:EUN$31,$A66)","v":0},null,null,null,{"$f":"COUNTIF(EUP$3:EUR$31,$A66)","v":0},null,null,null,{"$f":"COUNTIF(EUT$3:EUV$31,$A66)","v":0},null,null,null,{"$f":"COUNTIF(EUX$3:EUZ$31,$A66)","v":0},null,null,null,{"$f":"COUNTIF(EVB$3:EVD$31,$A66)","v":0},null,null,null,{"$f":"COUNTIF(EVF$3:EVH$31,$A66)","v":0},null,null,null,{"$f":"COUNTIF(EVJ$3:EVL$31,$A66)","v":0},null,null,null,{"$f":"COUNTIF(EVN$3:EVP$31,$A66)","v":0},null,null,null,{"$f":"COUNTIF(EVR$3:EVT$31,$A66)","v":0},null,null,null,{"$f":"COUNTIF(EVV$3:EVX$31,$A66)","v":0},null,null,null,{"$f":"COUNTIF(EVZ$3:EWB$31,$A66)","v":0},null,null,null,{"$f":"COUNTIF(EWD$3:EWF$31,$A66)","v":0},null,null,null,{"$f":"COUNTIF(EWH$3:EWJ$31,$A66)","v":0},null,null,null,{"$f":"COUNTIF(EWL$3:EWN$31,$A66)","v":0},null,null,null,{"$f":"COUNTIF(EWP$3:EWR$31,$A66)","v":0},null,null,null,{"$f":"COUNTIF(EWT$3:EWV$31,$A66)","v":0},null,null,null,{"$f":"COUNTIF(EWX$3:EWZ$31,$A66)","v":0},null,null,null,{"$f":"COUNTIF(EXB$3:EXD$31,$A66)","v":0},null,null,null,{"$f":"COUNTIF(EXF$3:EXH$31,$A66)","v":0},null,null,null,{"$f":"COUNTIF(EXJ$3:EXL$31,$A66)","v":0},null,null,null,{"$f":"COUNTIF(EXN$3:EXP$31,$A66)","v":0},null,null,null,{"$f":"COUNTIF(EXR$3:EXT$31,$A66)","v":0},null,null,null,{"$f":"COUNTIF(EXV$3:EXX$31,$A66)","v":0},null,null,null,{"$f":"COUNTIF(EXZ$3:EYB$31,$A66)","v":0},null,null,null,{"$f":"COUNTIF(EYD$3:EYF$31,$A66)","v":0},null,null,null,{"$f":"COUNTIF(EYH$3:EYJ$31,$A66)","v":0},null,null,null,{"$f":"COUNTIF(EYL$3:EYN$31,$A66)","v":0},null,null,null,{"$f":"COUNTIF(EYP$3:EYR$31,$A66)","v":0},null,null,null,{"$f":"COUNTIF(EYT$3:EYV$31,$A66)","v":0},null,null,null,{"$f":"COUNTIF(EYX$3:EYZ$31,$A66)","v":0},null,null,null,{"$f":"COUNTIF(EZB$3:EZD$31,$A66)","v":0},null,null,null,{"$f":"COUNTIF(EZF$3:EZH$31,$A66)","v":0},null,null,null,{"$f":"COUNTIF(EZJ$3:EZL$31,$A66)","v":0},null,null,null,{"$f":"COUNTIF(EZN$3:EZP$31,$A66)","v":0},null,null,null,{"$f":"COUNTIF(EZR$3:EZT$31,$A66)","v":0},null,null,null,{"$f":"COUNTIF(EZV$3:EZX$31,$A66)","v":0},null,null,null,{"$f":"COUNTIF(EZZ$3:FAB$31,$A66)","v":0},null,null,null,{"$f":"COUNTIF(FAD$3:FAF$31,$A66)","v":0},null,null,null,{"$f":"COUNTIF(FAH$3:FAJ$31,$A66)","v":0},null,null,null,{"$f":"COUNTIF(FAL$3:FAN$31,$A66)","v":0},null,null,null,{"$f":"COUNTIF(FAP$3:FAR$31,$A66)","v":0},null,null,null,{"$f":"COUNTIF(FAT$3:FAV$31,$A66)","v":0},null,null,null,{"$f":"COUNTIF(FAX$3:FAZ$31,$A66)","v":0},null,null,null,{"$f":"COUNTIF(FBB$3:FBD$31,$A66)","v":0},null,null,null,{"$f":"COUNTIF(FBF$3:FBH$31,$A66)","v":0},null,null,null,{"$f":"COUNTIF(FBJ$3:FBL$31,$A66)","v":0},null,null,null,{"$f":"COUNTIF(FBN$3:FBP$31,$A66)","v":0},null,null,null,{"$f":"COUNTIF(FBR$3:FBT$31,$A66)","v":0},null,null,null,{"$f":"COUNTIF(FBV$3:FBX$31,$A66)","v":0},null,null,null,{"$f":"COUNTIF(FBZ$3:FCB$31,$A66)","v":0},null,null,null,{"$f":"COUNTIF(FCD$3:FCF$31,$A66)","v":0},null,null,null,{"$f":"COUNTIF(FCH$3:FCJ$31,$A66)","v":0},null,null,null,{"$f":"COUNTIF(FCL$3:FCN$31,$A66)","v":0},null,null,null,{"$f":"COUNTIF(FCP$3:FCR$31,$A66)","v":0},null,null,null,{"$f":"COUNTIF(FCT$3:FCV$31,$A66)","v":0},null,null,null,{"$f":"COUNTIF(FCX$3:FCZ$31,$A66)","v":0},null,null,null,{"$f":"COUNTIF(FDB$3:FDD$31,$A66)","v":0},null,null,null,{"$f":"COUNTIF(FDF$3:FDH$31,$A66)","v":0},null,null,null,{"$f":"COUNTIF(FDJ$3:FDL$31,$A66)","v":0},null,null,null,{"$f":"COUNTIF(FDN$3:FDP$31,$A66)","v":0},null,null,null,{"$f":"COUNTIF(FDR$3:FDT$31,$A66)","v":0},null,null,null,{"$f":"COUNTIF(FDV$3:FDX$31,$A66)","v":0},null,null,null,{"$f":"COUNTIF(FDZ$3:FEB$31,$A66)","v":0},null,null,null,{"$f":"COUNTIF(FED$3:FEF$31,$A66)","v":0},null,null,null,{"$f":"COUNTIF(FEH$3:FEJ$31,$A66)","v":0},null,null,null,{"$f":"COUNTIF(FEL$3:FEN$31,$A66)","v":0},null,null,null,{"$f":"COUNTIF(FEP$3:FER$31,$A66)","v":0},null,null,null,{"$f":"COUNTIF(FET$3:FEV$31,$A66)","v":0},null,null,null,{"$f":"COUNTIF(FEX$3:FEZ$31,$A66)","v":0},null,null,null,{"$f":"COUNTIF(FFB$3:FFD$31,$A66)","v":0},null,null,null,{"$f":"COUNTIF(FFF$3:FFH$31,$A66)","v":0},null,null,null,{"$f":"COUNTIF(FFJ$3:FFL$31,$A66)","v":0},null,null,null,{"$f":"COUNTIF(FFN$3:FFP$31,$A66)","v":0},null,null,null,{"$f":"COUNTIF(FFR$3:FFT$31,$A66)","v":0},null,null,null,{"$f":"COUNTIF(FFV$3:FFX$31,$A66)","v":0},null,null,null,{"$f":"COUNTIF(FFZ$3:FGB$31,$A66)","v":0},null,null,null,{"$f":"COUNTIF(FGD$3:FGF$31,$A66)","v":0},null,null,null,{"$f":"COUNTIF(FGH$3:FGJ$31,$A66)","v":0},null,null,null,{"$f":"COUNTIF(FGL$3:FGN$31,$A66)","v":0},null,null,null,{"$f":"COUNTIF(FGP$3:FGR$31,$A66)","v":0},null,null,null,{"$f":"COUNTIF(FGT$3:FGV$31,$A66)","v":0},null,null,null,{"$f":"COUNTIF(FGX$3:FGZ$31,$A66)","v":0},null,null,null,{"$f":"COUNTIF(FHB$3:FHD$31,$A66)","v":0},null,null,null,{"$f":"COUNTIF(FHF$3:FHH$31,$A66)","v":0},null,null,null,{"$f":"COUNTIF(FHJ$3:FHL$31,$A66)","v":0},null,null,null,{"$f":"COUNTIF(FHN$3:FHP$31,$A66)","v":0},null,null,null,{"$f":"COUNTIF(FHR$3:FHT$31,$A66)","v":0},null,null,null,{"$f":"COUNTIF(FHV$3:FHX$31,$A66)","v":0},null,null,null,{"$f":"COUNTIF(FHZ$3:FIB$31,$A66)","v":0},null,null,null,{"$f":"COUNTIF(FID$3:FIF$31,$A66)","v":0},null,null,null,{"$f":"COUNTIF(FIH$3:FIJ$31,$A66)","v":0},null,null,null,{"$f":"COUNTIF(FIL$3:FIN$31,$A66)","v":0},null,null,null,{"$f":"COUNTIF(FIP$3:FIR$31,$A66)","v":0},null,null,null,{"$f":"COUNTIF(FIT$3:FIV$31,$A66)","v":0},null,null,null,{"$f":"COUNTIF(FIX$3:FIZ$31,$A66)","v":0},null,null,null,{"$f":"COUNTIF(FJB$3:FJD$31,$A66)","v":0},null,null,null,{"$f":"COUNTIF(FJF$3:FJH$31,$A66)","v":0},null,null,null,{"$f":"COUNTIF(FJJ$3:FJL$31,$A66)","v":0},null,null,null,{"$f":"COUNTIF(FJN$3:FJP$31,$A66)","v":0},null,null,null,{"$f":"COUNTIF(FJR$3:FJT$31,$A66)","v":0},null,null,null,{"$f":"COUNTIF(FJV$3:FJX$31,$A66)","v":0},null,null,null,{"$f":"COUNTIF(FJZ$3:FKB$31,$A66)","v":0},null,null,null,{"$f":"COUNTIF(FKD$3:FKF$31,$A66)","v":0},null,null,null,{"$f":"COUNTIF(FKH$3:FKJ$31,$A66)","v":0},null,null,null,{"$f":"COUNTIF(FKL$3:FKN$31,$A66)","v":0},null,null,null,{"$f":"COUNTIF(FKP$3:FKR$31,$A66)","v":0},null,null,null,{"$f":"COUNTIF(FKT$3:FKV$31,$A66)","v":0},null,null,null,{"$f":"COUNTIF(FKX$3:FKZ$31,$A66)","v":0},null,null,null,{"$f":"COUNTIF(FLB$3:FLD$31,$A66)","v":0},null,null,null,{"$f":"COUNTIF(FLF$3:FLH$31,$A66)","v":0},null,null,null,{"$f":"COUNTIF(FLJ$3:FLL$31,$A66)","v":0},null,null,null,{"$f":"COUNTIF(FLN$3:FLP$31,$A66)","v":0},null,null,null,{"$f":"COUNTIF(FLR$3:FLT$31,$A66)","v":0},null,null,null,{"$f":"COUNTIF(FLV$3:FLX$31,$A66)","v":0},null,null,null,{"$f":"COUNTIF(FLZ$3:FMB$31,$A66)","v":0},null,null,null,{"$f":"COUNTIF(FMD$3:FMF$31,$A66)","v":0},null,null,null,{"$f":"COUNTIF(FMH$3:FMJ$31,$A66)","v":0},null,null,null,{"$f":"COUNTIF(FML$3:FMN$31,$A66)","v":0},null,null,null,{"$f":"COUNTIF(FMP$3:FMR$31,$A66)","v":0},null,null,null,{"$f":"COUNTIF(FMT$3:FMV$31,$A66)","v":0},null,null,null,{"$f":"COUNTIF(FMX$3:FMZ$31,$A66)","v":0},null,null,null,{"$f":"COUNTIF(FNB$3:FND$31,$A66)","v":0},null,null,null,{"$f":"COUNTIF(FNF$3:FNH$31,$A66)","v":0},null,null,null,{"$f":"COUNTIF(FNJ$3:FNL$31,$A66)","v":0},null,null,null,{"$f":"COUNTIF(FNN$3:FNP$31,$A66)","v":0},null,null,null,{"$f":"COUNTIF(FNR$3:FNT$31,$A66)","v":0},null,null,null,{"$f":"COUNTIF(FNV$3:FNX$31,$A66)","v":0},null,null,null,{"$f":"COUNTIF(FNZ$3:FOB$31,$A66)","v":0},null,null,null,{"$f":"COUNTIF(FOD$3:FOF$31,$A66)","v":0},null,null,null,{"$f":"COUNTIF(FOH$3:FOJ$31,$A66)","v":0},null,null,null,{"$f":"COUNTIF(FOL$3:FON$31,$A66)","v":0},null,null,null,{"$f":"COUNTIF(FOP$3:FOR$31,$A66)","v":0},null,null,null,{"$f":"COUNTIF(FOT$3:FOV$31,$A66)","v":0},null,null,null,{"$f":"COUNTIF(FOX$3:FOZ$31,$A66)","v":0},null,null,null,{"$f":"COUNTIF(FPB$3:FPD$31,$A66)","v":0},null,null,null,{"$f":"COUNTIF(FPF$3:FPH$31,$A66)","v":0},null,null,null,{"$f":"COUNTIF(FPJ$3:FPL$31,$A66)","v":0},null,null,null,{"$f":"COUNTIF(FPN$3:FPP$31,$A66)","v":0},null,null,null,{"$f":"COUNTIF(FPR$3:FPT$31,$A66)","v":0},null,null,null,{"$f":"COUNTIF(FPV$3:FPX$31,$A66)","v":0},null,null,null,{"$f":"COUNTIF(FPZ$3:FQB$31,$A66)","v":0},null,null,null,{"$f":"COUNTIF(FQD$3:FQF$31,$A66)","v":0},null,null,null,{"$f":"COUNTIF(FQH$3:FQJ$31,$A66)","v":0},null,null,null,{"$f":"COUNTIF(FQL$3:FQN$31,$A66)","v":0},null,null,null,{"$f":"COUNTIF(FQP$3:FQR$31,$A66)","v":0},null,null,null,{"$f":"COUNTIF(FQT$3:FQV$31,$A66)","v":0},null,null,null,{"$f":"COUNTIF(FQX$3:FQZ$31,$A66)","v":0},null,null,null,{"$f":"COUNTIF(FRB$3:FRD$31,$A66)","v":0},null,null,null,{"$f":"COUNTIF(FRF$3:FRH$31,$A66)","v":0},null,null,null,{"$f":"COUNTIF(FRJ$3:FRL$31,$A66)","v":0},null,null,null,{"$f":"COUNTIF(FRN$3:FRP$31,$A66)","v":0},null,null,null,{"$f":"COUNTIF(FRR$3:FRT$31,$A66)","v":0},null,null,null,{"$f":"COUNTIF(FRV$3:FRX$31,$A66)","v":0},null,null,null,{"$f":"COUNTIF(FRZ$3:FSB$31,$A66)","v":0},null,null,null,{"$f":"COUNTIF(FSD$3:FSF$31,$A66)","v":0},null,null,null,{"$f":"COUNTIF(FSH$3:FSJ$31,$A66)","v":0},null,null,null,{"$f":"COUNTIF(FSL$3:FSN$31,$A66)","v":0},null,null,null,{"$f":"COUNTIF(FSP$3:FSR$31,$A66)","v":0},null,null,null,{"$f":"COUNTIF(FST$3:FSV$31,$A66)","v":0},null,null,null,{"$f":"COUNTIF(FSX$3:FSZ$31,$A66)","v":0},null,null,null,{"$f":"COUNTIF(FTB$3:FTD$31,$A66)","v":0},null,null,null,{"$f":"COUNTIF(FTF$3:FTH$31,$A66)","v":0},null,null,null,{"$f":"COUNTIF(FTJ$3:FTL$31,$A66)","v":0},null,null,null,{"$f":"COUNTIF(FTN$3:FTP$31,$A66)","v":0},null,null,null,{"$f":"COUNTIF(FTR$3:FTT$31,$A66)","v":0},null,null,null,{"$f":"COUNTIF(FTV$3:FTX$31,$A66)","v":0},null,null,null,{"$f":"COUNTIF(FTZ$3:FUB$31,$A66)","v":0},null,null,null,{"$f":"COUNTIF(FUD$3:FUF$31,$A66)","v":0},null,null,null,{"$f":"COUNTIF(FUH$3:FUJ$31,$A66)","v":0},null,null,null,{"$f":"COUNTIF(FUL$3:FUN$31,$A66)","v":0},null,null,null,{"$f":"COUNTIF(FUP$3:FUR$31,$A66)","v":0},null,null,null,{"$f":"COUNTIF(FUT$3:FUV$31,$A66)","v":0},null,null,null,{"$f":"COUNTIF(FUX$3:FUZ$31,$A66)","v":0},null,null,null,{"$f":"COUNTIF(FVB$3:FVD$31,$A66)","v":0},null,null,null,{"$f":"COUNTIF(FVF$3:FVH$31,$A66)","v":0},null,null,null,{"$f":"COUNTIF(FVJ$3:FVL$31,$A66)","v":0},null,null,null,{"$f":"COUNTIF(FVN$3:FVP$31,$A66)","v":0},null,null,null,{"$f":"COUNTIF(FVR$3:FVT$31,$A66)","v":0},null,null,null,{"$f":"COUNTIF(FVV$3:FVX$31,$A66)","v":0},null,null,null,{"$f":"COUNTIF(FVZ$3:FWB$31,$A66)","v":0},null,null,null,{"$f":"COUNTIF(FWD$3:FWF$31,$A66)","v":0},null,null,null,{"$f":"COUNTIF(FWH$3:FWJ$31,$A66)","v":0},null,null,null,{"$f":"COUNTIF(FWL$3:FWN$31,$A66)","v":0},null,null,null,{"$f":"COUNTIF(FWP$3:FWR$31,$A66)","v":0},null,null,null,{"$f":"COUNTIF(FWT$3:FWV$31,$A66)","v":0},null,null,null,{"$f":"COUNTIF(FWX$3:FWZ$31,$A66)","v":0},null,null,null,{"$f":"COUNTIF(FXB$3:FXD$31,$A66)","v":0},null,null,null,{"$f":"COUNTIF(FXF$3:FXH$31,$A66)","v":0},null,null,null,{"$f":"COUNTIF(FXJ$3:FXL$31,$A66)","v":0},null,null,null,{"$f":"COUNTIF(FXN$3:FXP$31,$A66)","v":0},null,null,null,{"$f":"COUNTIF(FXR$3:FXT$31,$A66)","v":0},null,null,null,{"$f":"COUNTIF(FXV$3:FXX$31,$A66)","v":0},null,null,null,{"$f":"COUNTIF(FXZ$3:FYB$31,$A66)","v":0},null,null,null,{"$f":"COUNTIF(FYD$3:FYF$31,$A66)","v":0},null,null,null,{"$f":"COUNTIF(FYH$3:FYJ$31,$A66)","v":0},null,null,null,{"$f":"COUNTIF(FYL$3:FYN$31,$A66)","v":0},null,null,null,{"$f":"COUNTIF(FYP$3:FYR$31,$A66)","v":0},null,null,null,{"$f":"COUNTIF(FYT$3:FYV$31,$A66)","v":0},null,null,null,{"$f":"COUNTIF(FYX$3:FYZ$31,$A66)","v":0},null,null,null,{"$f":"COUNTIF(FZB$3:FZD$31,$A66)","v":0},null,null,null,{"$f":"COUNTIF(FZF$3:FZH$31,$A66)","v":0},null,null,null,{"$f":"COUNTIF(FZJ$3:FZL$31,$A66)","v":0},null,null,null,{"$f":"COUNTIF(FZN$3:FZP$31,$A66)","v":0},null,null,null,{"$f":"COUNTIF(FZR$3:FZT$31,$A66)","v":0},null,null,null,{"$f":"COUNTIF(FZV$3:FZX$31,$A66)","v":0},null,null,null,{"$f":"COUNTIF(FZZ$3:GAB$31,$A66)","v":0},null,null,null,{"$f":"COUNTIF(GAD$3:GAF$31,$A66)","v":0},null,null,null,{"$f":"COUNTIF(GAH$3:GAJ$31,$A66)","v":0},null,null,null,{"$f":"COUNTIF(GAL$3:GAN$31,$A66)","v":0},null,null,null,{"$f":"COUNTIF(GAP$3:GAR$31,$A66)","v":0},null,null,null,{"$f":"COUNTIF(GAT$3:GAV$31,$A66)","v":0},null,null,null,{"$f":"COUNTIF(GAX$3:GAZ$31,$A66)","v":0},null,null,null,{"$f":"COUNTIF(GBB$3:GBD$31,$A66)","v":0},null,null,null,{"$f":"COUNTIF(GBF$3:GBH$31,$A66)","v":0},null,null,null,{"$f":"COUNTIF(GBJ$3:GBL$31,$A66)","v":0},null,null,null,{"$f":"COUNTIF(GBN$3:GBP$31,$A66)","v":0},null,null,null,{"$f":"COUNTIF(GBR$3:GBT$31,$A66)","v":0},null,null,null,{"$f":"COUNTIF(GBV$3:GBX$31,$A66)","v":0},null,null,null,{"$f":"COUNTIF(GBZ$3:GCB$31,$A66)","v":0},null,null,null,{"$f":"COUNTIF(GCD$3:GCF$31,$A66)","v":0},null,null,null,{"$f":"COUNTIF(GCH$3:GCJ$31,$A66)","v":0},null,null,null,{"$f":"COUNTIF(GCL$3:GCN$31,$A66)","v":0},null,null,null,{"$f":"COUNTIF(GCP$3:GCR$31,$A66)","v":0},null,null,null,{"$f":"COUNTIF(GCT$3:GCV$31,$A66)","v":0},null,null,null,{"$f":"COUNTIF(GCX$3:GCZ$31,$A66)","v":0},null,null,null,{"$f":"COUNTIF(GDB$3:GDD$31,$A66)","v":0},null,null,null,{"$f":"COUNTIF(GDF$3:GDH$31,$A66)","v":0},null,null,null,{"$f":"COUNTIF(GDJ$3:GDL$31,$A66)","v":0},null,null,null,{"$f":"COUNTIF(GDN$3:GDP$31,$A66)","v":0},null,null,null,{"$f":"COUNTIF(GDR$3:GDT$31,$A66)","v":0},null,null,null,{"$f":"COUNTIF(GDV$3:GDX$31,$A66)","v":0},null,null,null,{"$f":"COUNTIF(GDZ$3:GEB$31,$A66)","v":0},null,null,null,{"$f":"COUNTIF(GED$3:GEF$31,$A66)","v":0},null,null,null,{"$f":"COUNTIF(GEH$3:GEJ$31,$A66)","v":0},null,null,null,{"$f":"COUNTIF(GEL$3:GEN$31,$A66)","v":0},null,null,null,{"$f":"COUNTIF(GEP$3:GER$31,$A66)","v":0},null,null,null,{"$f":"COUNTIF(GET$3:GEV$31,$A66)","v":0},null,null,null,{"$f":"COUNTIF(GEX$3:GEZ$31,$A66)","v":0},null,null,null,{"$f":"COUNTIF(GFB$3:GFD$31,$A66)","v":0},null,null,null,{"$f":"COUNTIF(GFF$3:GFH$31,$A66)","v":0},null,null,null,{"$f":"COUNTIF(GFJ$3:GFL$31,$A66)","v":0},null,null,null,{"$f":"COUNTIF(GFN$3:GFP$31,$A66)","v":0},null,null,null,{"$f":"COUNTIF(GFR$3:GFT$31,$A66)","v":0},null,null,null,{"$f":"COUNTIF(GFV$3:GFX$31,$A66)","v":0},null,null,null,{"$f":"COUNTIF(GFZ$3:GGB$31,$A66)","v":0},null,null,null,{"$f":"COUNTIF(GGD$3:GGF$31,$A66)","v":0},null,null,null,{"$f":"COUNTIF(GGH$3:GGJ$31,$A66)","v":0},null,null,null,{"$f":"COUNTIF(GGL$3:GGN$31,$A66)","v":0},null,null,null,{"$f":"COUNTIF(GGP$3:GGR$31,$A66)","v":0},null,null,null,{"$f":"COUNTIF(GGT$3:GGV$31,$A66)","v":0},null,null,null,{"$f":"COUNTIF(GGX$3:GGZ$31,$A66)","v":0},null,null,null,{"$f":"COUNTIF(GHB$3:GHD$31,$A66)","v":0},null,null,null,{"$f":"COUNTIF(GHF$3:GHH$31,$A66)","v":0},null,null,null,{"$f":"COUNTIF(GHJ$3:GHL$31,$A66)","v":0},null,null,null,{"$f":"COUNTIF(GHN$3:GHP$31,$A66)","v":0},null,null,null,{"$f":"COUNTIF(GHR$3:GHT$31,$A66)","v":0},null,null,null,{"$f":"COUNTIF(GHV$3:GHX$31,$A66)","v":0},null,null,null,{"$f":"COUNTIF(GHZ$3:GIB$31,$A66)","v":0},null,null,null,{"$f":"COUNTIF(GID$3:GIF$31,$A66)","v":0},null,null,null,{"$f":"COUNTIF(GIH$3:GIJ$31,$A66)","v":0},null,null,null,{"$f":"COUNTIF(GIL$3:GIN$31,$A66)","v":0},null,null,null,{"$f":"COUNTIF(GIP$3:GIR$31,$A66)","v":0},null,null,null,{"$f":"COUNTIF(GIT$3:GIV$31,$A66)","v":0},null,null,null,{"$f":"COUNTIF(GIX$3:GIZ$31,$A66)","v":0},null,null,null,{"$f":"COUNTIF(GJB$3:GJD$31,$A66)","v":0},null,null,null,{"$f":"COUNTIF(GJF$3:GJH$31,$A66)","v":0},null,null,null,{"$f":"COUNTIF(GJJ$3:GJL$31,$A66)","v":0},null,null,null,{"$f":"COUNTIF(GJN$3:GJP$31,$A66)","v":0},null,null,null,{"$f":"COUNTIF(GJR$3:GJT$31,$A66)","v":0},null,null,null,{"$f":"COUNTIF(GJV$3:GJX$31,$A66)","v":0},null,null,null,{"$f":"COUNTIF(GJZ$3:GKB$31,$A66)","v":0},null,null,null,{"$f":"COUNTIF(GKD$3:GKF$31,$A66)","v":0},null,null,null,{"$f":"COUNTIF(GKH$3:GKJ$31,$A66)","v":0},null,null,null,{"$f":"COUNTIF(GKL$3:GKN$31,$A66)","v":0},null,null,null,{"$f":"COUNTIF(GKP$3:GKR$31,$A66)","v":0},null,null,null,{"$f":"COUNTIF(GKT$3:GKV$31,$A66)","v":0},null,null,null,{"$f":"COUNTIF(GKX$3:GKZ$31,$A66)","v":0},null,null,null,{"$f":"COUNTIF(GLB$3:GLD$31,$A66)","v":0},null,null,null,{"$f":"COUNTIF(GLF$3:GLH$31,$A66)","v":0},null,null,null,{"$f":"COUNTIF(GLJ$3:GLL$31,$A66)","v":0},null,null,null,{"$f":"COUNTIF(GLN$3:GLP$31,$A66)","v":0},null,null,null,{"$f":"COUNTIF(GLR$3:GLT$31,$A66)","v":0},null,null,null,{"$f":"COUNTIF(GLV$3:GLX$31,$A66)","v":0},null,null,null,{"$f":"COUNTIF(GLZ$3:GMB$31,$A66)","v":0},null,null,null,{"$f":"COUNTIF(GMD$3:GMF$31,$A66)","v":0},null,null,null,{"$f":"COUNTIF(GMH$3:GMJ$31,$A66)","v":0},null,null,null,{"$f":"COUNTIF(GML$3:GMN$31,$A66)","v":0},null,null,null,{"$f":"COUNTIF(GMP$3:GMR$31,$A66)","v":0},null,null,null,{"$f":"COUNTIF(GMT$3:GMV$31,$A66)","v":0},null,null,null,{"$f":"COUNTIF(GMX$3:GMZ$31,$A66)","v":0},null,null,null,{"$f":"COUNTIF(GNB$3:GND$31,$A66)","v":0},null,null,null,{"$f":"COUNTIF(GNF$3:GNH$31,$A66)","v":0},null,null,null,{"$f":"COUNTIF(GNJ$3:GNL$31,$A66)","v":0},null,null,null,{"$f":"COUNTIF(GNN$3:GNP$31,$A66)","v":0},null,null,null,{"$f":"COUNTIF(GNR$3:GNT$31,$A66)","v":0},null,null,null,{"$f":"COUNTIF(GNV$3:GNX$31,$A66)","v":0},null,null,null,{"$f":"COUNTIF(GNZ$3:GOB$31,$A66)","v":0},null,null,null,{"$f":"COUNTIF(GOD$3:GOF$31,$A66)","v":0},null,null,null,{"$f":"COUNTIF(GOH$3:GOJ$31,$A66)","v":0},null,null,null,{"$f":"COUNTIF(GOL$3:GON$31,$A66)","v":0},null,null,null,{"$f":"COUNTIF(GOP$3:GOR$31,$A66)","v":0},null,null,null,{"$f":"COUNTIF(GOT$3:GOV$31,$A66)","v":0},null,null,null,{"$f":"COUNTIF(GOX$3:GOZ$31,$A66)","v":0},null,null,null,{"$f":"COUNTIF(GPB$3:GPD$31,$A66)","v":0},null,null,null,{"$f":"COUNTIF(GPF$3:GPH$31,$A66)","v":0},null,null,null,{"$f":"COUNTIF(GPJ$3:GPL$31,$A66)","v":0},null,null,null,{"$f":"COUNTIF(GPN$3:GPP$31,$A66)","v":0},null,null,null,{"$f":"COUNTIF(GPR$3:GPT$31,$A66)","v":0},null,null,null,{"$f":"COUNTIF(GPV$3:GPX$31,$A66)","v":0},null,null,null,{"$f":"COUNTIF(GPZ$3:GQB$31,$A66)","v":0},null,null,null,{"$f":"COUNTIF(GQD$3:GQF$31,$A66)","v":0},null,null,null,{"$f":"COUNTIF(GQH$3:GQJ$31,$A66)","v":0},null,null,null,{"$f":"COUNTIF(GQL$3:GQN$31,$A66)","v":0},null,null,null,{"$f":"COUNTIF(GQP$3:GQR$31,$A66)","v":0},null,null,null,{"$f":"COUNTIF(GQT$3:GQV$31,$A66)","v":0},null,null,null,{"$f":"COUNTIF(GQX$3:GQZ$31,$A66)","v":0},null,null,null,{"$f":"COUNTIF(GRB$3:GRD$31,$A66)","v":0},null,null,null,{"$f":"COUNTIF(GRF$3:GRH$31,$A66)","v":0},null,null,null,{"$f":"COUNTIF(GRJ$3:GRL$31,$A66)","v":0},null,null,null,{"$f":"COUNTIF(GRN$3:GRP$31,$A66)","v":0},null,null,null,{"$f":"COUNTIF(GRR$3:GRT$31,$A66)","v":0},null,null,null,{"$f":"COUNTIF(GRV$3:GRX$31,$A66)","v":0},null,null,null,{"$f":"COUNTIF(GRZ$3:GSB$31,$A66)","v":0},null,null,null,{"$f":"COUNTIF(GSD$3:GSF$31,$A66)","v":0},null,null,null,{"$f":"COUNTIF(GSH$3:GSJ$31,$A66)","v":0},null,null,null,{"$f":"COUNTIF(GSL$3:GSN$31,$A66)","v":0},null,null,null,{"$f":"COUNTIF(GSP$3:GSR$31,$A66)","v":0},null,null,null,{"$f":"COUNTIF(GST$3:GSV$31,$A66)","v":0},null,null,null,{"$f":"COUNTIF(GSX$3:GSZ$31,$A66)","v":0},null,null,null,{"$f":"COUNTIF(GTB$3:GTD$31,$A66)","v":0},null,null,null,{"$f":"COUNTIF(GTF$3:GTH$31,$A66)","v":0},null,null,null,{"$f":"COUNTIF(GTJ$3:GTL$31,$A66)","v":0},null,null,null,{"$f":"COUNTIF(GTN$3:GTP$31,$A66)","v":0},null,null,null,{"$f":"COUNTIF(GTR$3:GTT$31,$A66)","v":0},null,null,null,{"$f":"COUNTIF(GTV$3:GTX$31,$A66)","v":0},null,null,null,{"$f":"COUNTIF(GTZ$3:GUB$31,$A66)","v":0},null,null,null,{"$f":"COUNTIF(GUD$3:GUF$31,$A66)","v":0},null,null,null,{"$f":"COUNTIF(GUH$3:GUJ$31,$A66)","v":0},null,null,null,{"$f":"COUNTIF(GUL$3:GUN$31,$A66)","v":0},null,null,null,{"$f":"COUNTIF(GUP$3:GUR$31,$A66)","v":0},null,null,null,{"$f":"COUNTIF(GUT$3:GUV$31,$A66)","v":0},null,null,null,{"$f":"COUNTIF(GUX$3:GUZ$31,$A66)","v":0},null,null,null,{"$f":"COUNTIF(GVB$3:GVD$31,$A66)","v":0},null,null,null,{"$f":"COUNTIF(GVF$3:GVH$31,$A66)","v":0},null,null,null,{"$f":"COUNTIF(GVJ$3:GVL$31,$A66)","v":0},null,null,null,{"$f":"COUNTIF(GVN$3:GVP$31,$A66)","v":0},null,null,null,{"$f":"COUNTIF(GVR$3:GVT$31,$A66)","v":0},null,null,null,{"$f":"COUNTIF(GVV$3:GVX$31,$A66)","v":0},null,null,null,{"$f":"COUNTIF(GVZ$3:GWB$31,$A66)","v":0},null,null,null,{"$f":"COUNTIF(GWD$3:GWF$31,$A66)","v":0},null,null,null,{"$f":"COUNTIF(GWH$3:GWJ$31,$A66)","v":0},null,null,null,{"$f":"COUNTIF(GWL$3:GWN$31,$A66)","v":0},null,null,null,{"$f":"COUNTIF(GWP$3:GWR$31,$A66)","v":0},null,null,null,{"$f":"COUNTIF(GWT$3:GWV$31,$A66)","v":0},null,null,null,{"$f":"COUNTIF(GWX$3:GWZ$31,$A66)","v":0},null,null,null,{"$f":"COUNTIF(GXB$3:GXD$31,$A66)","v":0},null,null,null,{"$f":"COUNTIF(GXF$3:GXH$31,$A66)","v":0},null,null,null,{"$f":"COUNTIF(GXJ$3:GXL$31,$A66)","v":0},null,null,null,{"$f":"COUNTIF(GXN$3:GXP$31,$A66)","v":0},null,null,null,{"$f":"COUNTIF(GXR$3:GXT$31,$A66)","v":0},null,null,null,{"$f":"COUNTIF(GXV$3:GXX$31,$A66)","v":0},null,null,null,{"$f":"COUNTIF(GXZ$3:GYB$31,$A66)","v":0},null,null,null,{"$f":"COUNTIF(GYD$3:GYF$31,$A66)","v":0},null,null,null,{"$f":"COUNTIF(GYH$3:GYJ$31,$A66)","v":0},null,null,null,{"$f":"COUNTIF(GYL$3:GYN$31,$A66)","v":0},null,null,null,{"$f":"COUNTIF(GYP$3:GYR$31,$A66)","v":0},null,null,null,{"$f":"COUNTIF(GYT$3:GYV$31,$A66)","v":0},null,null,null,{"$f":"COUNTIF(GYX$3:GYZ$31,$A66)","v":0},null,null,null,{"$f":"COUNTIF(GZB$3:GZD$31,$A66)","v":0},null,null,null,{"$f":"COUNTIF(GZF$3:GZH$31,$A66)","v":0},null,null,null,{"$f":"COUNTIF(GZJ$3:GZL$31,$A66)","v":0},null,null,null,{"$f":"COUNTIF(GZN$3:GZP$31,$A66)","v":0},null,null,null,{"$f":"COUNTIF(GZR$3:GZT$31,$A66)","v":0},null,null,null,{"$f":"COUNTIF(GZV$3:GZX$31,$A66)","v":0},null,null,null,{"$f":"COUNTIF(GZZ$3:HAB$31,$A66)","v":0},null,null,null,{"$f":"COUNTIF(HAD$3:HAF$31,$A66)","v":0},null,null,null,{"$f":"COUNTIF(HAH$3:HAJ$31,$A66)","v":0},null,null,null,{"$f":"COUNTIF(HAL$3:HAN$31,$A66)","v":0},null,null,null,{"$f":"COUNTIF(HAP$3:HAR$31,$A66)","v":0},null,null,null,{"$f":"COUNTIF(HAT$3:HAV$31,$A66)","v":0},null,null,null,{"$f":"COUNTIF(HAX$3:HAZ$31,$A66)","v":0},null,null,null,{"$f":"COUNTIF(HBB$3:HBD$31,$A66)","v":0},null,null,null,{"$f":"COUNTIF(HBF$3:HBH$31,$A66)","v":0},null,null,null,{"$f":"COUNTIF(HBJ$3:HBL$31,$A66)","v":0},null,null,null,{"$f":"COUNTIF(HBN$3:HBP$31,$A66)","v":0},null,null,null,{"$f":"COUNTIF(HBR$3:HBT$31,$A66)","v":0},null,null,null,{"$f":"COUNTIF(HBV$3:HBX$31,$A66)","v":0},null,null,null,{"$f":"COUNTIF(HBZ$3:HCB$31,$A66)","v":0},null,null,null,{"$f":"COUNTIF(HCD$3:HCF$31,$A66)","v":0},null,null,null,{"$f":"COUNTIF(HCH$3:HCJ$31,$A66)","v":0},null,null,null,{"$f":"COUNTIF(HCL$3:HCN$31,$A66)","v":0},null,null,null,{"$f":"COUNTIF(HCP$3:HCR$31,$A66)","v":0},null,null,null,{"$f":"COUNTIF(HCT$3:HCV$31,$A66)","v":0},null,null,null,{"$f":"COUNTIF(HCX$3:HCZ$31,$A66)","v":0},null,null,null,{"$f":"COUNTIF(HDB$3:HDD$31,$A66)","v":0},null,null,null,{"$f":"COUNTIF(HDF$3:HDH$31,$A66)","v":0},null,null,null,{"$f":"COUNTIF(HDJ$3:HDL$31,$A66)","v":0},null,null,null,{"$f":"COUNTIF(HDN$3:HDP$31,$A66)","v":0},null,null,null,{"$f":"COUNTIF(HDR$3:HDT$31,$A66)","v":0},null,null,null,{"$f":"COUNTIF(HDV$3:HDX$31,$A66)","v":0},null,null,null,{"$f":"COUNTIF(HDZ$3:HEB$31,$A66)","v":0},null,null,null,{"$f":"COUNTIF(HED$3:HEF$31,$A66)","v":0},null,null,null,{"$f":"COUNTIF(HEH$3:HEJ$31,$A66)","v":0},null,null,null,{"$f":"COUNTIF(HEL$3:HEN$31,$A66)","v":0},null,null,null,{"$f":"COUNTIF(HEP$3:HER$31,$A66)","v":0},null,null,null,{"$f":"COUNTIF(HET$3:HEV$31,$A66)","v":0},null,null,null,{"$f":"COUNTIF(HEX$3:HEZ$31,$A66)","v":0},null,null,null,{"$f":"COUNTIF(HFB$3:HFD$31,$A66)","v":0},null,null,null,{"$f":"COUNTIF(HFF$3:HFH$31,$A66)","v":0},null,null,null,{"$f":"COUNTIF(HFJ$3:HFL$31,$A66)","v":0},null,null,null,{"$f":"COUNTIF(HFN$3:HFP$31,$A66)","v":0},null,null,null,{"$f":"COUNTIF(HFR$3:HFT$31,$A66)","v":0},null,null,null,{"$f":"COUNTIF(HFV$3:HFX$31,$A66)","v":0},null,null,null,{"$f":"COUNTIF(HFZ$3:HGB$31,$A66)","v":0},null,null,null,{"$f":"COUNTIF(HGD$3:HGF$31,$A66)","v":0},null,null,null,{"$f":"COUNTIF(HGH$3:HGJ$31,$A66)","v":0},null,null,null,{"$f":"COUNTIF(HGL$3:HGN$31,$A66)","v":0},null,null,null,{"$f":"COUNTIF(HGP$3:HGR$31,$A66)","v":0},null,null,null,{"$f":"COUNTIF(HGT$3:HGV$31,$A66)","v":0},null,null,null,{"$f":"COUNTIF(HGX$3:HGZ$31,$A66)","v":0},null,null,null,{"$f":"COUNTIF(HHB$3:HHD$31,$A66)","v":0},null,null,null,{"$f":"COUNTIF(HHF$3:HHH$31,$A66)","v":0},null,null,null,{"$f":"COUNTIF(HHJ$3:HHL$31,$A66)","v":0},null,null,null,{"$f":"COUNTIF(HHN$3:HHP$31,$A66)","v":0},null,null,null,{"$f":"COUNTIF(HHR$3:HHT$31,$A66)","v":0},null,null,null,{"$f":"COUNTIF(HHV$3:HHX$31,$A66)","v":0},null,null,null,{"$f":"COUNTIF(HHZ$3:HIB$31,$A66)","v":0},null,null,null,{"$f":"COUNTIF(HID$3:HIF$31,$A66)","v":0},null,null,null,{"$f":"COUNTIF(HIH$3:HIJ$31,$A66)","v":0},null,null,null,{"$f":"COUNTIF(HIL$3:HIN$31,$A66)","v":0},null,null,null,{"$f":"COUNTIF(HIP$3:HIR$31,$A66)","v":0},null,null,null,{"$f":"COUNTIF(HIT$3:HIV$31,$A66)","v":0},null,null,null,{"$f":"COUNTIF(HIX$3:HIZ$31,$A66)","v":0},null,null,null,{"$f":"COUNTIF(HJB$3:HJD$31,$A66)","v":0},null,null,null,{"$f":"COUNTIF(HJF$3:HJH$31,$A66)","v":0},null,null,null,{"$f":"COUNTIF(HJJ$3:HJL$31,$A66)","v":0},null,null,null,{"$f":"COUNTIF(HJN$3:HJP$31,$A66)","v":0},null,null,null,{"$f":"COUNTIF(HJR$3:HJT$31,$A66)","v":0},null,null,null,{"$f":"COUNTIF(HJV$3:HJX$31,$A66)","v":0},null,null,null,{"$f":"COUNTIF(HJZ$3:HKB$31,$A66)","v":0},null,null,null,{"$f":"COUNTIF(HKD$3:HKF$31,$A66)","v":0},null,null,null,{"$f":"COUNTIF(HKH$3:HKJ$31,$A66)","v":0},null,null,null,{"$f":"COUNTIF(HKL$3:HKN$31,$A66)","v":0},null,null,null,{"$f":"COUNTIF(HKP$3:HKR$31,$A66)","v":0},null,null,null,{"$f":"COUNTIF(HKT$3:HKV$31,$A66)","v":0},null,null,null,{"$f":"COUNTIF(HKX$3:HKZ$31,$A66)","v":0},null,null,null,{"$f":"COUNTIF(HLB$3:HLD$31,$A66)","v":0},null,null,null,{"$f":"COUNTIF(HLF$3:HLH$31,$A66)","v":0},null,null,null,{"$f":"COUNTIF(HLJ$3:HLL$31,$A66)","v":0},null,null,null,{"$f":"COUNTIF(HLN$3:HLP$31,$A66)","v":0},null,null,null,{"$f":"COUNTIF(HLR$3:HLT$31,$A66)","v":0},null,null,null,{"$f":"COUNTIF(HLV$3:HLX$31,$A66)","v":0},null,null,null,{"$f":"COUNTIF(HLZ$3:HMB$31,$A66)","v":0},null,null,null,{"$f":"COUNTIF(HMD$3:HMF$31,$A66)","v":0},null,null,null,{"$f":"COUNTIF(HMH$3:HMJ$31,$A66)","v":0},null,null,null,{"$f":"COUNTIF(HML$3:HMN$31,$A66)","v":0},null,null,null,{"$f":"COUNTIF(HMP$3:HMR$31,$A66)","v":0},null,null,null,{"$f":"COUNTIF(HMT$3:HMV$31,$A66)","v":0},null,null,null,{"$f":"COUNTIF(HMX$3:HMZ$31,$A66)","v":0},null,null,null,{"$f":"COUNTIF(HNB$3:HND$31,$A66)","v":0},null,null,null,{"$f":"COUNTIF(HNF$3:HNH$31,$A66)","v":0},null,null,null,{"$f":"COUNTIF(HNJ$3:HNL$31,$A66)","v":0},null,null,null,{"$f":"COUNTIF(HNN$3:HNP$31,$A66)","v":0},null,null,null,{"$f":"COUNTIF(HNR$3:HNT$31,$A66)","v":0},null,null,null,{"$f":"COUNTIF(HNV$3:HNX$31,$A66)","v":0},null,null,null,{"$f":"COUNTIF(HNZ$3:HOB$31,$A66)","v":0},null,null,null,{"$f":"COUNTIF(HOD$3:HOF$31,$A66)","v":0},null,null,null,{"$f":"COUNTIF(HOH$3:HOJ$31,$A66)","v":0},null,null,null,{"$f":"COUNTIF(HOL$3:HON$31,$A66)","v":0},null,null,null,{"$f":"COUNTIF(HOP$3:HOR$31,$A66)","v":0},null,null,null,{"$f":"COUNTIF(HOT$3:HOV$31,$A66)","v":0},null,null,null,{"$f":"COUNTIF(HOX$3:HOZ$31,$A66)","v":0},null,null,null,{"$f":"COUNTIF(HPB$3:HPD$31,$A66)","v":0},null,null,null,{"$f":"COUNTIF(HPF$3:HPH$31,$A66)","v":0},null,null,null,{"$f":"COUNTIF(HPJ$3:HPL$31,$A66)","v":0},null,null,null,{"$f":"COUNTIF(HPN$3:HPP$31,$A66)","v":0},null,null,null,{"$f":"COUNTIF(HPR$3:HPT$31,$A66)","v":0},null,null,null,{"$f":"COUNTIF(HPV$3:HPX$31,$A66)","v":0},null,null,null,{"$f":"COUNTIF(HPZ$3:HQB$31,$A66)","v":0},null,null,null,{"$f":"COUNTIF(HQD$3:HQF$31,$A66)","v":0},null,null,null,{"$f":"COUNTIF(HQH$3:HQJ$31,$A66)","v":0},null,null,null,{"$f":"COUNTIF(HQL$3:HQN$31,$A66)","v":0},null,null,null,{"$f":"COUNTIF(HQP$3:HQR$31,$A66)","v":0},null,null,null,{"$f":"COUNTIF(HQT$3:HQV$31,$A66)","v":0},null,null,null,{"$f":"COUNTIF(HQX$3:HQZ$31,$A66)","v":0},null,null,null,{"$f":"COUNTIF(HRB$3:HRD$31,$A66)","v":0},null,null,null,{"$f":"COUNTIF(HRF$3:HRH$31,$A66)","v":0},null,null,null,{"$f":"COUNTIF(HRJ$3:HRL$31,$A66)","v":0},null,null,null,{"$f":"COUNTIF(HRN$3:HRP$31,$A66)","v":0},null,null,null,{"$f":"COUNTIF(HRR$3:HRT$31,$A66)","v":0},null,null,null,{"$f":"COUNTIF(HRV$3:HRX$31,$A66)","v":0},null,null,null,{"$f":"COUNTIF(HRZ$3:HSB$31,$A66)","v":0},null,null,null,{"$f":"COUNTIF(HSD$3:HSF$31,$A66)","v":0},null,null,null,{"$f":"COUNTIF(HSH$3:HSJ$31,$A66)","v":0},null,null,null,{"$f":"COUNTIF(HSL$3:HSN$31,$A66)","v":0},null,null,null,{"$f":"COUNTIF(HSP$3:HSR$31,$A66)","v":0},null,null,null,{"$f":"COUNTIF(HST$3:HSV$31,$A66)","v":0},null,null,null,{"$f":"COUNTIF(HSX$3:HSZ$31,$A66)","v":0},null,null,null,{"$f":"COUNTIF(HTB$3:HTD$31,$A66)","v":0},null,null,null,{"$f":"COUNTIF(HTF$3:HTH$31,$A66)","v":0},null,null,null,{"$f":"COUNTIF(HTJ$3:HTL$31,$A66)","v":0},null,null,null,{"$f":"COUNTIF(HTN$3:HTP$31,$A66)","v":0},null,null,null,{"$f":"COUNTIF(HTR$3:HTT$31,$A66)","v":0},null,null,null,{"$f":"COUNTIF(HTV$3:HTX$31,$A66)","v":0},null,null,null,{"$f":"COUNTIF(HTZ$3:HUB$31,$A66)","v":0},null,null,null,{"$f":"COUNTIF(HUD$3:HUF$31,$A66)","v":0},null,null,null,{"$f":"COUNTIF(HUH$3:HUJ$31,$A66)","v":0},null,null,null,{"$f":"COUNTIF(HUL$3:HUN$31,$A66)","v":0},null,null,null,{"$f":"COUNTIF(HUP$3:HUR$31,$A66)","v":0},null,null,null,{"$f":"COUNTIF(HUT$3:HUV$31,$A66)","v":0},null,null,null,{"$f":"COUNTIF(HUX$3:HUZ$31,$A66)","v":0},null,null,null,{"$f":"COUNTIF(HVB$3:HVD$31,$A66)","v":0},null,null,null,{"$f":"COUNTIF(HVF$3:HVH$31,$A66)","v":0},null,null,null,{"$f":"COUNTIF(HVJ$3:HVL$31,$A66)","v":0},null,null,null,{"$f":"COUNTIF(HVN$3:HVP$31,$A66)","v":0},null,null,null,{"$f":"COUNTIF(HVR$3:HVT$31,$A66)","v":0},null,null,null,{"$f":"COUNTIF(HVV$3:HVX$31,$A66)","v":0},null,null,null,{"$f":"COUNTIF(HVZ$3:HWB$31,$A66)","v":0},null,null,null,{"$f":"COUNTIF(HWD$3:HWF$31,$A66)","v":0},null,null,null,{"$f":"COUNTIF(HWH$3:HWJ$31,$A66)","v":0},null,null,null,{"$f":"COUNTIF(HWL$3:HWN$31,$A66)","v":0},null,null,null,{"$f":"COUNTIF(HWP$3:HWR$31,$A66)","v":0},null,null,null,{"$f":"COUNTIF(HWT$3:HWV$31,$A66)","v":0},null,null,null,{"$f":"COUNTIF(HWX$3:HWZ$31,$A66)","v":0},null,null,null,{"$f":"COUNTIF(HXB$3:HXD$31,$A66)","v":0},null,null,null,{"$f":"COUNTIF(HXF$3:HXH$31,$A66)","v":0},null,null,null,{"$f":"COUNTIF(HXJ$3:HXL$31,$A66)","v":0},null,null,null,{"$f":"COUNTIF(HXN$3:HXP$31,$A66)","v":0},null,null,null,{"$f":"COUNTIF(HXR$3:HXT$31,$A66)","v":0},null,null,null,{"$f":"COUNTIF(HXV$3:HXX$31,$A66)","v":0},null,null,null,{"$f":"COUNTIF(HXZ$3:HYB$31,$A66)","v":0},null,null,null,{"$f":"COUNTIF(HYD$3:HYF$31,$A66)","v":0},null,null,null,{"$f":"COUNTIF(HYH$3:HYJ$31,$A66)","v":0},null,null,null,{"$f":"COUNTIF(HYL$3:HYN$31,$A66)","v":0},null,null,null,{"$f":"COUNTIF(HYP$3:HYR$31,$A66)","v":0},null,null,null,{"$f":"COUNTIF(HYT$3:HYV$31,$A66)","v":0},null,null,null,{"$f":"COUNTIF(HYX$3:HYZ$31,$A66)","v":0},null,null,null,{"$f":"COUNTIF(HZB$3:HZD$31,$A66)","v":0},null,null,null,{"$f":"COUNTIF(HZF$3:HZH$31,$A66)","v":0},null,null,null,{"$f":"COUNTIF(HZJ$3:HZL$31,$A66)","v":0},null,null,null,{"$f":"COUNTIF(HZN$3:HZP$31,$A66)","v":0},null,null,null,{"$f":"COUNTIF(HZR$3:HZT$31,$A66)","v":0},null,null,null,{"$f":"COUNTIF(HZV$3:HZX$31,$A66)","v":0},null,null,null,{"$f":"COUNTIF(HZZ$3:IAB$31,$A66)","v":0},null,null,null,{"$f":"COUNTIF(IAD$3:IAF$31,$A66)","v":0},null,null,null,{"$f":"COUNTIF(IAH$3:IAJ$31,$A66)","v":0},null,null,null,{"$f":"COUNTIF(IAL$3:IAN$31,$A66)","v":0},null,null,null,{"$f":"COUNTIF(IAP$3:IAR$31,$A66)","v":0},null,null,null,{"$f":"COUNTIF(IAT$3:IAV$31,$A66)","v":0},null,null,null,{"$f":"COUNTIF(IAX$3:IAZ$31,$A66)","v":0},null,null,null,{"$f":"COUNTIF(IBB$3:IBD$31,$A66)","v":0},null,null,null,{"$f":"COUNTIF(IBF$3:IBH$31,$A66)","v":0},null,null,null,{"$f":"COUNTIF(IBJ$3:IBL$31,$A66)","v":0},null,null,null,{"$f":"COUNTIF(IBN$3:IBP$31,$A66)","v":0},null,null,null,{"$f":"COUNTIF(IBR$3:IBT$31,$A66)","v":0},null,null,null,{"$f":"COUNTIF(IBV$3:IBX$31,$A66)","v":0},null,null,null,{"$f":"COUNTIF(IBZ$3:ICB$31,$A66)","v":0},null,null,null,{"$f":"COUNTIF(ICD$3:ICF$31,$A66)","v":0},null,null,null,{"$f":"COUNTIF(ICH$3:ICJ$31,$A66)","v":0},null,null,null,{"$f":"COUNTIF(ICL$3:ICN$31,$A66)","v":0},null,null,null,{"$f":"COUNTIF(ICP$3:ICR$31,$A66)","v":0},null,null,null,{"$f":"COUNTIF(ICT$3:ICV$31,$A66)","v":0},null,null,null,{"$f":"COUNTIF(ICX$3:ICZ$31,$A66)","v":0},null,null,null,{"$f":"COUNTIF(IDB$3:IDD$31,$A66)","v":0},null,null,null,{"$f":"COUNTIF(IDF$3:IDH$31,$A66)","v":0},null,null,null,{"$f":"COUNTIF(IDJ$3:IDL$31,$A66)","v":0},null,null,null,{"$f":"COUNTIF(IDN$3:IDP$31,$A66)","v":0},null,null,null,{"$f":"COUNTIF(IDR$3:IDT$31,$A66)","v":0},null,null,null,{"$f":"COUNTIF(IDV$3:IDX$31,$A66)","v":0},null,null,null,{"$f":"COUNTIF(IDZ$3:IEB$31,$A66)","v":0},null,null,null,{"$f":"COUNTIF(IED$3:IEF$31,$A66)","v":0},null,null,null,{"$f":"COUNTIF(IEH$3:IEJ$31,$A66)","v":0},null,null,null,{"$f":"COUNTIF(IEL$3:IEN$31,$A66)","v":0},null,null,null,{"$f":"COUNTIF(IEP$3:IER$31,$A66)","v":0},null,null,null,{"$f":"COUNTIF(IET$3:IEV$31,$A66)","v":0},null,null,null,{"$f":"COUNTIF(IEX$3:IEZ$31,$A66)","v":0},null,null,null,{"$f":"COUNTIF(IFB$3:IFD$31,$A66)","v":0},null,null,null,{"$f":"COUNTIF(IFF$3:IFH$31,$A66)","v":0},null,null,null,{"$f":"COUNTIF(IFJ$3:IFL$31,$A66)","v":0},null,null,null,{"$f":"COUNTIF(IFN$3:IFP$31,$A66)","v":0},null,null,null,{"$f":"COUNTIF(IFR$3:IFT$31,$A66)","v":0},null,null,null,{"$f":"COUNTIF(IFV$3:IFX$31,$A66)","v":0},null,null,null,{"$f":"COUNTIF(IFZ$3:IGB$31,$A66)","v":0},null,null,null,{"$f":"COUNTIF(IGD$3:IGF$31,$A66)","v":0},null,null,null,{"$f":"COUNTIF(IGH$3:IGJ$31,$A66)","v":0},null,null,null,{"$f":"COUNTIF(IGL$3:IGN$31,$A66)","v":0},null,null,null,{"$f":"COUNTIF(IGP$3:IGR$31,$A66)","v":0},null,null,null,{"$f":"COUNTIF(IGT$3:IGV$31,$A66)","v":0},null,null,null,{"$f":"COUNTIF(IGX$3:IGZ$31,$A66)","v":0},null,null,null,{"$f":"COUNTIF(IHB$3:IHD$31,$A66)","v":0},null,null,null,{"$f":"COUNTIF(IHF$3:IHH$31,$A66)","v":0},null,null,null,{"$f":"COUNTIF(IHJ$3:IHL$31,$A66)","v":0},null,null,null,{"$f":"COUNTIF(IHN$3:IHP$31,$A66)","v":0},null,null,null,{"$f":"COUNTIF(IHR$3:IHT$31,$A66)","v":0},null,null,null,{"$f":"COUNTIF(IHV$3:IHX$31,$A66)","v":0},null,null,null,{"$f":"COUNTIF(IHZ$3:IIB$31,$A66)","v":0},null,null,null,{"$f":"COUNTIF(IID$3:IIF$31,$A66)","v":0},null,null,null,{"$f":"COUNTIF(IIH$3:IIJ$31,$A66)","v":0},null,null,null,{"$f":"COUNTIF(IIL$3:IIN$31,$A66)","v":0},null,null,null,{"$f":"COUNTIF(IIP$3:IIR$31,$A66)","v":0},null,null,null,{"$f":"COUNTIF(IIT$3:IIV$31,$A66)","v":0},null,null,null,{"$f":"COUNTIF(IIX$3:IIZ$31,$A66)","v":0},null,null,null,{"$f":"COUNTIF(IJB$3:IJD$31,$A66)","v":0},null,null,null,{"$f":"COUNTIF(IJF$3:IJH$31,$A66)","v":0},null,null,null,{"$f":"COUNTIF(IJJ$3:IJL$31,$A66)","v":0},null,null,null,{"$f":"COUNTIF(IJN$3:IJP$31,$A66)","v":0},null,null,null,{"$f":"COUNTIF(IJR$3:IJT$31,$A66)","v":0},null,null,null,{"$f":"COUNTIF(IJV$3:IJX$31,$A66)","v":0},null,null,null,{"$f":"COUNTIF(IJZ$3:IKB$31,$A66)","v":0},null,null,null,{"$f":"COUNTIF(IKD$3:IKF$31,$A66)","v":0},null,null,null,{"$f":"COUNTIF(IKH$3:IKJ$31,$A66)","v":0},null,null,null,{"$f":"COUNTIF(IKL$3:IKN$31,$A66)","v":0},null,null,null,{"$f":"COUNTIF(IKP$3:IKR$31,$A66)","v":0},null,null,null,{"$f":"COUNTIF(IKT$3:IKV$31,$A66)","v":0},null,null,null,{"$f":"COUNTIF(IKX$3:IKZ$31,$A66)","v":0},null,null,null,{"$f":"COUNTIF(ILB$3:ILD$31,$A66)","v":0},null,null,null,{"$f":"COUNTIF(ILF$3:ILH$31,$A66)","v":0},null,null,null,{"$f":"COUNTIF(ILJ$3:ILL$31,$A66)","v":0},null,null,null,{"$f":"COUNTIF(ILN$3:ILP$31,$A66)","v":0},null,null,null,{"$f":"COUNTIF(ILR$3:ILT$31,$A66)","v":0},null,null,null,{"$f":"COUNTIF(ILV$3:ILX$31,$A66)","v":0},null,null,null,{"$f":"COUNTIF(ILZ$3:IMB$31,$A66)","v":0},null,null,null,{"$f":"COUNTIF(IMD$3:IMF$31,$A66)","v":0},null,null,null,{"$f":"COUNTIF(IMH$3:IMJ$31,$A66)","v":0},null,null,null,{"$f":"COUNTIF(IML$3:IMN$31,$A66)","v":0},null,null,null,{"$f":"COUNTIF(IMP$3:IMR$31,$A66)","v":0},null,null,null,{"$f":"COUNTIF(IMT$3:IMV$31,$A66)","v":0},null,null,null,{"$f":"COUNTIF(IMX$3:IMZ$31,$A66)","v":0},null,null,null,{"$f":"COUNTIF(INB$3:IND$31,$A66)","v":0},null,null,null,{"$f":"COUNTIF(INF$3:INH$31,$A66)","v":0},null,null,null,{"$f":"COUNTIF(INJ$3:INL$31,$A66)","v":0},null,null,null,{"$f":"COUNTIF(INN$3:INP$31,$A66)","v":0},null,null,null,{"$f":"COUNTIF(INR$3:INT$31,$A66)","v":0},null,null,null,{"$f":"COUNTIF(INV$3:INX$31,$A66)","v":0},null,null,null,{"$f":"COUNTIF(INZ$3:IOB$31,$A66)","v":0},null,null,null,{"$f":"COUNTIF(IOD$3:IOF$31,$A66)","v":0},null,null,null,{"$f":"COUNTIF(IOH$3:IOJ$31,$A66)","v":0},null,null,null,{"$f":"COUNTIF(IOL$3:ION$31,$A66)","v":0},null,null,null,{"$f":"COUNTIF(IOP$3:IOR$31,$A66)","v":0},null,null,null,{"$f":"COUNTIF(IOT$3:IOV$31,$A66)","v":0},null,null,null,{"$f":"COUNTIF(IOX$3:IOZ$31,$A66)","v":0},null,null,null,{"$f":"COUNTIF(IPB$3:IPD$31,$A66)","v":0},null,null,null,{"$f":"COUNTIF(IPF$3:IPH$31,$A66)","v":0},null,null,null,{"$f":"COUNTIF(IPJ$3:IPL$31,$A66)","v":0},null,null,null,{"$f":"COUNTIF(IPN$3:IPP$31,$A66)","v":0},null,null,null,{"$f":"COUNTIF(IPR$3:IPT$31,$A66)","v":0},null,null,null,{"$f":"COUNTIF(IPV$3:IPX$31,$A66)","v":0},null,null,null,{"$f":"COUNTIF(IPZ$3:IQB$31,$A66)","v":0},null,null,null,{"$f":"COUNTIF(IQD$3:IQF$31,$A66)","v":0},null,null,null,{"$f":"COUNTIF(IQH$3:IQJ$31,$A66)","v":0},null,null,null,{"$f":"COUNTIF(IQL$3:IQN$31,$A66)","v":0},null,null,null,{"$f":"COUNTIF(IQP$3:IQR$31,$A66)","v":0},null,null,null,{"$f":"COUNTIF(IQT$3:IQV$31,$A66)","v":0},null,null,null,{"$f":"COUNTIF(IQX$3:IQZ$31,$A66)","v":0},null,null,null,{"$f":"COUNTIF(IRB$3:IRD$31,$A66)","v":0},null,null,null,{"$f":"COUNTIF(IRF$3:IRH$31,$A66)","v":0},null,null,null,{"$f":"COUNTIF(IRJ$3:IRL$31,$A66)","v":0},null,null,null,{"$f":"COUNTIF(IRN$3:IRP$31,$A66)","v":0},null,null,null,{"$f":"COUNTIF(IRR$3:IRT$31,$A66)","v":0},null,null,null,{"$f":"COUNTIF(IRV$3:IRX$31,$A66)","v":0},null,null,null,{"$f":"COUNTIF(IRZ$3:ISB$31,$A66)","v":0},null,null,null,{"$f":"COUNTIF(ISD$3:ISF$31,$A66)","v":0},null,null,null,{"$f":"COUNTIF(ISH$3:ISJ$31,$A66)","v":0},null,null,null,{"$f":"COUNTIF(ISL$3:ISN$31,$A66)","v":0},null,null,null,{"$f":"COUNTIF(ISP$3:ISR$31,$A66)","v":0},null,null,null,{"$f":"COUNTIF(IST$3:ISV$31,$A66)","v":0},null,null,null,{"$f":"COUNTIF(ISX$3:ISZ$31,$A66)","v":0},null,null,null,{"$f":"COUNTIF(ITB$3:ITD$31,$A66)","v":0},null,null,null,{"$f":"COUNTIF(ITF$3:ITH$31,$A66)","v":0},null,null,null,{"$f":"COUNTIF(ITJ$3:ITL$31,$A66)","v":0},null,null,null,{"$f":"COUNTIF(ITN$3:ITP$31,$A66)","v":0},null,null,null,{"$f":"COUNTIF(ITR$3:ITT$31,$A66)","v":0},null,null,null,{"$f":"COUNTIF(ITV$3:ITX$31,$A66)","v":0},null,null,null,{"$f":"COUNTIF(ITZ$3:IUB$31,$A66)","v":0},null,null,null,{"$f":"COUNTIF(IUD$3:IUF$31,$A66)","v":0},null,null,null,{"$f":"COUNTIF(IUH$3:IUJ$31,$A66)","v":0},null,null,null,{"$f":"COUNTIF(IUL$3:IUN$31,$A66)","v":0},null,null,null,{"$f":"COUNTIF(IUP$3:IUR$31,$A66)","v":0},null,null,null,{"$f":"COUNTIF(IUT$3:IUV$31,$A66)","v":0},null,null,null,{"$f":"COUNTIF(IUX$3:IUZ$31,$A66)","v":0},null,null,null,{"$f":"COUNTIF(IVB$3:IVD$31,$A66)","v":0},null,null,null,{"$f":"COUNTIF(IVF$3:IVH$31,$A66)","v":0},null,null,null,{"$f":"COUNTIF(IVJ$3:IVL$31,$A66)","v":0},null,null,null,{"$f":"COUNTIF(IVN$3:IVP$31,$A66)","v":0},null,null,null,{"$f":"COUNTIF(IVR$3:IVT$31,$A66)","v":0},null,null,null,{"$f":"COUNTIF(IVV$3:IVX$31,$A66)","v":0},null,null,null,{"$f":"COUNTIF(IVZ$3:IWB$31,$A66)","v":0},null,null,null,{"$f":"COUNTIF(IWD$3:IWF$31,$A66)","v":0},null,null,null,{"$f":"COUNTIF(IWH$3:IWJ$31,$A66)","v":0},null,null,null,{"$f":"COUNTIF(IWL$3:IWN$31,$A66)","v":0},null,null,null,{"$f":"COUNTIF(IWP$3:IWR$31,$A66)","v":0},null,null,null,{"$f":"COUNTIF(IWT$3:IWV$31,$A66)","v":0},null,null,null,{"$f":"COUNTIF(IWX$3:IWZ$31,$A66)","v":0},null,null,null,{"$f":"COUNTIF(IXB$3:IXD$31,$A66)","v":0},null,null,null,{"$f":"COUNTIF(IXF$3:IXH$31,$A66)","v":0},null,null,null,{"$f":"COUNTIF(IXJ$3:IXL$31,$A66)","v":0},null,null,null,{"$f":"COUNTIF(IXN$3:IXP$31,$A66)","v":0},null,null,null,{"$f":"COUNTIF(IXR$3:IXT$31,$A66)","v":0},null,null,null,{"$f":"COUNTIF(IXV$3:IXX$31,$A66)","v":0},null,null,null,{"$f":"COUNTIF(IXZ$3:IYB$31,$A66)","v":0},null,null,null,{"$f":"COUNTIF(IYD$3:IYF$31,$A66)","v":0},null,null,null,{"$f":"COUNTIF(IYH$3:IYJ$31,$A66)","v":0},null,null,null,{"$f":"COUNTIF(IYL$3:IYN$31,$A66)","v":0},null,null,null,{"$f":"COUNTIF(IYP$3:IYR$31,$A66)","v":0},null,null,null,{"$f":"COUNTIF(IYT$3:IYV$31,$A66)","v":0},null,null,null,{"$f":"COUNTIF(IYX$3:IYZ$31,$A66)","v":0},null,null,null,{"$f":"COUNTIF(IZB$3:IZD$31,$A66)","v":0},null,null,null,{"$f":"COUNTIF(IZF$3:IZH$31,$A66)","v":0},null,null,null,{"$f":"COUNTIF(IZJ$3:IZL$31,$A66)","v":0},null,null,null,{"$f":"COUNTIF(IZN$3:IZP$31,$A66)","v":0},null,null,null,{"$f":"COUNTIF(IZR$3:IZT$31,$A66)","v":0},null,null,null,{"$f":"COUNTIF(IZV$3:IZX$31,$A66)","v":0},null,null,null,{"$f":"COUNTIF(IZZ$3:JAB$31,$A66)","v":0},null,null,null,{"$f":"COUNTIF(JAD$3:JAF$31,$A66)","v":0},null,null,null,{"$f":"COUNTIF(JAH$3:JAJ$31,$A66)","v":0},null,null,null,{"$f":"COUNTIF(JAL$3:JAN$31,$A66)","v":0},null,null,null,{"$f":"COUNTIF(JAP$3:JAR$31,$A66)","v":0},null,null,null,{"$f":"COUNTIF(JAT$3:JAV$31,$A66)","v":0},null,null,null,{"$f":"COUNTIF(JAX$3:JAZ$31,$A66)","v":0},null,null,null,{"$f":"COUNTIF(JBB$3:JBD$31,$A66)","v":0},null,null,null,{"$f":"COUNTIF(JBF$3:JBH$31,$A66)","v":0},null,null,null,{"$f":"COUNTIF(JBJ$3:JBL$31,$A66)","v":0},null,null,null,{"$f":"COUNTIF(JBN$3:JBP$31,$A66)","v":0},null,null,null,{"$f":"COUNTIF(JBR$3:JBT$31,$A66)","v":0},null,null,null,{"$f":"COUNTIF(JBV$3:JBX$31,$A66)","v":0},null,null,null,{"$f":"COUNTIF(JBZ$3:JCB$31,$A66)","v":0},null,null,null,{"$f":"COUNTIF(JCD$3:JCF$31,$A66)","v":0},null,null,null,{"$f":"COUNTIF(JCH$3:JCJ$31,$A66)","v":0},null,null,null,{"$f":"COUNTIF(JCL$3:JCN$31,$A66)","v":0},null,null,null,{"$f":"COUNTIF(JCP$3:JCR$31,$A66)","v":0},null,null,null,{"$f":"COUNTIF(JCT$3:JCV$31,$A66)","v":0},null,null,null,{"$f":"COUNTIF(JCX$3:JCZ$31,$A66)","v":0},null,null,null,{"$f":"COUNTIF(JDB$3:JDD$31,$A66)","v":0},null,null,null,{"$f":"COUNTIF(JDF$3:JDH$31,$A66)","v":0},null,null,null,{"$f":"COUNTIF(JDJ$3:JDL$31,$A66)","v":0},null,null,null,{"$f":"COUNTIF(JDN$3:JDP$31,$A66)","v":0},null,null,null,{"$f":"COUNTIF(JDR$3:JDT$31,$A66)","v":0},null,null,null,{"$f":"COUNTIF(JDV$3:JDX$31,$A66)","v":0},null,null,null,{"$f":"COUNTIF(JDZ$3:JEB$31,$A66)","v":0},null,null,null,{"$f":"COUNTIF(JED$3:JEF$31,$A66)","v":0},null,null,null,{"$f":"COUNTIF(JEH$3:JEJ$31,$A66)","v":0},null,null,null,{"$f":"COUNTIF(JEL$3:JEN$31,$A66)","v":0},null,null,null,{"$f":"COUNTIF(JEP$3:JER$31,$A66)","v":0},null,null,null,{"$f":"COUNTIF(JET$3:JEV$31,$A66)","v":0},null,null,null,{"$f":"COUNTIF(JEX$3:JEZ$31,$A66)","v":0},null,null,null,{"$f":"COUNTIF(JFB$3:JFD$31,$A66)","v":0},null,null,null,{"$f":"COUNTIF(JFF$3:JFH$31,$A66)","v":0},null,null,null,{"$f":"COUNTIF(JFJ$3:JFL$31,$A66)","v":0},null,null,null,{"$f":"COUNTIF(JFN$3:JFP$31,$A66)","v":0},null,null,null,{"$f":"COUNTIF(JFR$3:JFT$31,$A66)","v":0},null,null,null,{"$f":"COUNTIF(JFV$3:JFX$31,$A66)","v":0},null,null,null,{"$f":"COUNTIF(JFZ$3:JGB$31,$A66)","v":0},null,null,null,{"$f":"COUNTIF(JGD$3:JGF$31,$A66)","v":0},null,null,null,{"$f":"COUNTIF(JGH$3:JGJ$31,$A66)","v":0},null,null,null,{"$f":"COUNTIF(JGL$3:JGN$31,$A66)","v":0},null,null,null,{"$f":"COUNTIF(JGP$3:JGR$31,$A66)","v":0},null,null,null,{"$f":"COUNTIF(JGT$3:JGV$31,$A66)","v":0},null,null,null,{"$f":"COUNTIF(JGX$3:JGZ$31,$A66)","v":0},null,null,null,{"$f":"COUNTIF(JHB$3:JHD$31,$A66)","v":0},null,null,null,{"$f":"COUNTIF(JHF$3:JHH$31,$A66)","v":0},null,null,null,{"$f":"COUNTIF(JHJ$3:JHL$31,$A66)","v":0},null,null,null,{"$f":"COUNTIF(JHN$3:JHP$31,$A66)","v":0},null,null,null,{"$f":"COUNTIF(JHR$3:JHT$31,$A66)","v":0},null,null,null,{"$f":"COUNTIF(JHV$3:JHX$31,$A66)","v":0},null,null,null,{"$f":"COUNTIF(JHZ$3:JIB$31,$A66)","v":0},null,null,null,{"$f":"COUNTIF(JID$3:JIF$31,$A66)","v":0},null,null,null,{"$f":"COUNTIF(JIH$3:JIJ$31,$A66)","v":0},null,null,null,{"$f":"COUNTIF(JIL$3:JIN$31,$A66)","v":0},null,null,null,{"$f":"COUNTIF(JIP$3:JIR$31,$A66)","v":0},null,null,null,{"$f":"COUNTIF(JIT$3:JIV$31,$A66)","v":0},null,null,null,{"$f":"COUNTIF(JIX$3:JIZ$31,$A66)","v":0},null,null,null,{"$f":"COUNTIF(JJB$3:JJD$31,$A66)","v":0},null,null,null,{"$f":"COUNTIF(JJF$3:JJH$31,$A66)","v":0},null,null,null,{"$f":"COUNTIF(JJJ$3:JJL$31,$A66)","v":0},null,null,null,{"$f":"COUNTIF(JJN$3:JJP$31,$A66)","v":0},null,null,null,{"$f":"COUNTIF(JJR$3:JJT$31,$A66)","v":0},null,null,null,{"$f":"COUNTIF(JJV$3:JJX$31,$A66)","v":0},null,null,null,{"$f":"COUNTIF(JJZ$3:JKB$31,$A66)","v":0},null,null,null,{"$f":"COUNTIF(JKD$3:JKF$31,$A66)","v":0},null,null,null,{"$f":"COUNTIF(JKH$3:JKJ$31,$A66)","v":0},null,null,null,{"$f":"COUNTIF(JKL$3:JKN$31,$A66)","v":0},null,null,null,{"$f":"COUNTIF(JKP$3:JKR$31,$A66)","v":0},null,null,null,{"$f":"COUNTIF(JKT$3:JKV$31,$A66)","v":0},null,null,null,{"$f":"COUNTIF(JKX$3:JKZ$31,$A66)","v":0},null,null,null,{"$f":"COUNTIF(JLB$3:JLD$31,$A66)","v":0},null,null,null,{"$f":"COUNTIF(JLF$3:JLH$31,$A66)","v":0},null,null,null,{"$f":"COUNTIF(JLJ$3:JLL$31,$A66)","v":0},null,null,null,{"$f":"COUNTIF(JLN$3:JLP$31,$A66)","v":0},null,null,null,{"$f":"COUNTIF(JLR$3:JLT$31,$A66)","v":0},null,null,null,{"$f":"COUNTIF(JLV$3:JLX$31,$A66)","v":0},null,null,null,{"$f":"COUNTIF(JLZ$3:JMB$31,$A66)","v":0},null,null,null,{"$f":"COUNTIF(JMD$3:JMF$31,$A66)","v":0},null,null,null,{"$f":"COUNTIF(JMH$3:JMJ$31,$A66)","v":0},null,null,null,{"$f":"COUNTIF(JML$3:JMN$31,$A66)","v":0},null,null,null,{"$f":"COUNTIF(JMP$3:JMR$31,$A66)","v":0},null,null,null,{"$f":"COUNTIF(JMT$3:JMV$31,$A66)","v":0},null,null,null,{"$f":"COUNTIF(JMX$3:JMZ$31,$A66)","v":0},null,null,null,{"$f":"COUNTIF(JNB$3:JND$31,$A66)","v":0},null,null,null,{"$f":"COUNTIF(JNF$3:JNH$31,$A66)","v":0},null,null,null,{"$f":"COUNTIF(JNJ$3:JNL$31,$A66)","v":0},null,null,null,{"$f":"COUNTIF(JNN$3:JNP$31,$A66)","v":0},null,null,null,{"$f":"COUNTIF(JNR$3:JNT$31,$A66)","v":0},null,null,null,{"$f":"COUNTIF(JNV$3:JNX$31,$A66)","v":0},null,null,null,{"$f":"COUNTIF(JNZ$3:JOB$31,$A66)","v":0},null,null,null,{"$f":"COUNTIF(JOD$3:JOF$31,$A66)","v":0},null,null,null,{"$f":"COUNTIF(JOH$3:JOJ$31,$A66)","v":0},null,null,null,{"$f":"COUNTIF(JOL$3:JON$31,$A66)","v":0},null,null,null,{"$f":"COUNTIF(JOP$3:JOR$31,$A66)","v":0},null,null,null,{"$f":"COUNTIF(JOT$3:JOV$31,$A66)","v":0},null,null,null,{"$f":"COUNTIF(JOX$3:JOZ$31,$A66)","v":0},null,null,null,{"$f":"COUNTIF(JPB$3:JPD$31,$A66)","v":0},null,null,null,{"$f":"COUNTIF(JPF$3:JPH$31,$A66)","v":0},null,null,null,{"$f":"COUNTIF(JPJ$3:JPL$31,$A66)","v":0},null,null,null,{"$f":"COUNTIF(JPN$3:JPP$31,$A66)","v":0},null,null,null,{"$f":"COUNTIF(JPR$3:JPT$31,$A66)","v":0},null,null,null,{"$f":"COUNTIF(JPV$3:JPX$31,$A66)","v":0},null,null,null,{"$f":"COUNTIF(JPZ$3:JQB$31,$A66)","v":0},null,null,null,{"$f":"COUNTIF(JQD$3:JQF$31,$A66)","v":0},null,null,null,{"$f":"COUNTIF(JQH$3:JQJ$31,$A66)","v":0},null,null,null,{"$f":"COUNTIF(JQL$3:JQN$31,$A66)","v":0},null,null,null,{"$f":"COUNTIF(JQP$3:JQR$31,$A66)","v":0},null,null,null,{"$f":"COUNTIF(JQT$3:JQV$31,$A66)","v":0},null,null,null,{"$f":"COUNTIF(JQX$3:JQZ$31,$A66)","v":0},null,null,null,{"$f":"COUNTIF(JRB$3:JRD$31,$A66)","v":0},null,null,null,{"$f":"COUNTIF(JRF$3:JRH$31,$A66)","v":0},null,null,null,{"$f":"COUNTIF(JRJ$3:JRL$31,$A66)","v":0},null,null,null,{"$f":"COUNTIF(JRN$3:JRP$31,$A66)","v":0},null,null,null,{"$f":"COUNTIF(JRR$3:JRT$31,$A66)","v":0},null,null,null,{"$f":"COUNTIF(JRV$3:JRX$31,$A66)","v":0},null,null,null,{"$f":"COUNTIF(JRZ$3:JSB$31,$A66)","v":0},null,null,null,{"$f":"COUNTIF(JSD$3:JSF$31,$A66)","v":0},null,null,null,{"$f":"COUNTIF(JSH$3:JSJ$31,$A66)","v":0},null,null,null,{"$f":"COUNTIF(JSL$3:JSN$31,$A66)","v":0},null,null,null,{"$f":"COUNTIF(JSP$3:JSR$31,$A66)","v":0},null,null,null,{"$f":"COUNTIF(JST$3:JSV$31,$A66)","v":0},null,null,null,{"$f":"COUNTIF(JSX$3:JSZ$31,$A66)","v":0},null,null,null,{"$f":"COUNTIF(JTB$3:JTD$31,$A66)","v":0},null,null,null,{"$f":"COUNTIF(JTF$3:JTH$31,$A66)","v":0},null,null,null,{"$f":"COUNTIF(JTJ$3:JTL$31,$A66)","v":0},null,null,null,{"$f":"COUNTIF(JTN$3:JTP$31,$A66)","v":0},null,null,null,{"$f":"COUNTIF(JTR$3:JTT$31,$A66)","v":0},null,null,null,{"$f":"COUNTIF(JTV$3:JTX$31,$A66)","v":0},null,null,null,{"$f":"COUNTIF(JTZ$3:JUB$31,$A66)","v":0},null,null,null,{"$f":"COUNTIF(JUD$3:JUF$31,$A66)","v":0},null,null,null,{"$f":"COUNTIF(JUH$3:JUJ$31,$A66)","v":0},null,null,null,{"$f":"COUNTIF(JUL$3:JUN$31,$A66)","v":0},null,null,null,{"$f":"COUNTIF(JUP$3:JUR$31,$A66)","v":0},null,null,null,{"$f":"COUNTIF(JUT$3:JUV$31,$A66)","v":0},null,null,null,{"$f":"COUNTIF(JUX$3:JUZ$31,$A66)","v":0},null,null,null,{"$f":"COUNTIF(JVB$3:JVD$31,$A66)","v":0},null,null,null,{"$f":"COUNTIF(JVF$3:JVH$31,$A66)","v":0},null,null,null,{"$f":"COUNTIF(JVJ$3:JVL$31,$A66)","v":0},null,null,null,{"$f":"COUNTIF(JVN$3:JVP$31,$A66)","v":0},null,null,null,{"$f":"COUNTIF(JVR$3:JVT$31,$A66)","v":0},null,null,null,{"$f":"COUNTIF(JVV$3:JVX$31,$A66)","v":0},null,null,null,{"$f":"COUNTIF(JVZ$3:JWB$31,$A66)","v":0},null,null,null,{"$f":"COUNTIF(JWD$3:JWF$31,$A66)","v":0},null,null,null,{"$f":"COUNTIF(JWH$3:JWJ$31,$A66)","v":0},null,null,null,{"$f":"COUNTIF(JWL$3:JWN$31,$A66)","v":0},null,null,null,{"$f":"COUNTIF(JWP$3:JWR$31,$A66)","v":0},null,null,null,{"$f":"COUNTIF(JWT$3:JWV$31,$A66)","v":0},null,null,null,{"$f":"COUNTIF(JWX$3:JWZ$31,$A66)","v":0},null,null,null,{"$f":"COUNTIF(JXB$3:JXD$31,$A66)","v":0},null,null,null,{"$f":"COUNTIF(JXF$3:JXH$31,$A66)","v":0},null,null,null,{"$f":"COUNTIF(JXJ$3:JXL$31,$A66)","v":0},null,null,null,{"$f":"COUNTIF(JXN$3:JXP$31,$A66)","v":0},null,null,null,{"$f":"COUNTIF(JXR$3:JXT$31,$A66)","v":0},null,null,null,{"$f":"COUNTIF(JXV$3:JXX$31,$A66)","v":0},null,null,null,{"$f":"COUNTIF(JXZ$3:JYB$31,$A66)","v":0},null,null,null,{"$f":"COUNTIF(JYD$3:JYF$31,$A66)","v":0},null,null,null,{"$f":"COUNTIF(JYH$3:JYJ$31,$A66)","v":0},null,null,null,{"$f":"COUNTIF(JYL$3:JYN$31,$A66)","v":0},null,null,null,{"$f":"COUNTIF(JYP$3:JYR$31,$A66)","v":0},null,null,null,{"$f":"COUNTIF(JYT$3:JYV$31,$A66)","v":0},null,null,null,{"$f":"COUNTIF(JYX$3:JYZ$31,$A66)","v":0},null,null,null,{"$f":"COUNTIF(JZB$3:JZD$31,$A66)","v":0},null,null,null,{"$f":"COUNTIF(JZF$3:JZH$31,$A66)","v":0},null,null,null,{"$f":"COUNTIF(JZJ$3:JZL$31,$A66)","v":0},null,null,null,{"$f":"COUNTIF(JZN$3:JZP$31,$A66)","v":0},null,null,null,{"$f":"COUNTIF(JZR$3:JZT$31,$A66)","v":0},null,null,null,{"$f":"COUNTIF(JZV$3:JZX$31,$A66)","v":0},null,null,null,{"$f":"COUNTIF(JZZ$3:KAB$31,$A66)","v":0},null,null,null,{"$f":"COUNTIF(KAD$3:KAF$31,$A66)","v":0},null,null,null,{"$f":"COUNTIF(KAH$3:KAJ$31,$A66)","v":0},null,null,null,{"$f":"COUNTIF(KAL$3:KAN$31,$A66)","v":0},null,null,null,{"$f":"COUNTIF(KAP$3:KAR$31,$A66)","v":0},null,null,null,{"$f":"COUNTIF(KAT$3:KAV$31,$A66)","v":0},null,null,null,{"$f":"COUNTIF(KAX$3:KAZ$31,$A66)","v":0},null,null,null,{"$f":"COUNTIF(KBB$3:KBD$31,$A66)","v":0},null,null,null,{"$f":"COUNTIF(KBF$3:KBH$31,$A66)","v":0},null,null,null,{"$f":"COUNTIF(KBJ$3:KBL$31,$A66)","v":0},null,null,null,{"$f":"COUNTIF(KBN$3:KBP$31,$A66)","v":0},null,null,null,{"$f":"COUNTIF(KBR$3:KBT$31,$A66)","v":0},null,null,null,{"$f":"COUNTIF(KBV$3:KBX$31,$A66)","v":0},null,null,null,{"$f":"COUNTIF(KBZ$3:KCB$31,$A66)","v":0},null,null,null,{"$f":"COUNTIF(KCD$3:KCF$31,$A66)","v":0},null,null,null,{"$f":"COUNTIF(KCH$3:KCJ$31,$A66)","v":0},null,null,null,{"$f":"COUNTIF(KCL$3:KCN$31,$A66)","v":0},null,null,null,{"$f":"COUNTIF(KCP$3:KCR$31,$A66)","v":0},null,null,null,{"$f":"COUNTIF(KCT$3:KCV$31,$A66)","v":0},null,null,null,{"$f":"COUNTIF(KCX$3:KCZ$31,$A66)","v":0},null,null,null,{"$f":"COUNTIF(KDB$3:KDD$31,$A66)","v":0},null,null,null,{"$f":"COUNTIF(KDF$3:KDH$31,$A66)","v":0},null,null,null,{"$f":"COUNTIF(KDJ$3:KDL$31,$A66)","v":0},null,null,null,{"$f":"COUNTIF(KDN$3:KDP$31,$A66)","v":0},null,null,null,{"$f":"COUNTIF(KDR$3:KDT$31,$A66)","v":0},null,null,null,{"$f":"COUNTIF(KDV$3:KDX$31,$A66)","v":0},null,null,null,{"$f":"COUNTIF(KDZ$3:KEB$31,$A66)","v":0},null,null,null,{"$f":"COUNTIF(KED$3:KEF$31,$A66)","v":0},null,null,null,{"$f":"COUNTIF(KEH$3:KEJ$31,$A66)","v":0},null,null,null,{"$f":"COUNTIF(KEL$3:KEN$31,$A66)","v":0},null,null,null,{"$f":"COUNTIF(KEP$3:KER$31,$A66)","v":0},null,null,null,{"$f":"COUNTIF(KET$3:KEV$31,$A66)","v":0},null,null,null,{"$f":"COUNTIF(KEX$3:KEZ$31,$A66)","v":0},null,null,null,{"$f":"COUNTIF(KFB$3:KFD$31,$A66)","v":0},null,null,null,{"$f":"COUNTIF(KFF$3:KFH$31,$A66)","v":0},null,null,null,{"$f":"COUNTIF(KFJ$3:KFL$31,$A66)","v":0},null,null,null,{"$f":"COUNTIF(KFN$3:KFP$31,$A66)","v":0},null,null,null,{"$f":"COUNTIF(KFR$3:KFT$31,$A66)","v":0},null,null,null,{"$f":"COUNTIF(KFV$3:KFX$31,$A66)","v":0},null,null,null,{"$f":"COUNTIF(KFZ$3:KGB$31,$A66)","v":0},null,null,null,{"$f":"COUNTIF(KGD$3:KGF$31,$A66)","v":0},null,null,null,{"$f":"COUNTIF(KGH$3:KGJ$31,$A66)","v":0},null,null,null,{"$f":"COUNTIF(KGL$3:KGN$31,$A66)","v":0},null,null,null,{"$f":"COUNTIF(KGP$3:KGR$31,$A66)","v":0},null,null,null,{"$f":"COUNTIF(KGT$3:KGV$31,$A66)","v":0},null,null,null,{"$f":"COUNTIF(KGX$3:KGZ$31,$A66)","v":0},null,null,null,{"$f":"COUNTIF(KHB$3:KHD$31,$A66)","v":0},null,null,null,{"$f":"COUNTIF(KHF$3:KHH$31,$A66)","v":0},null,null,null,{"$f":"COUNTIF(KHJ$3:KHL$31,$A66)","v":0},null,null,null,{"$f":"COUNTIF(KHN$3:KHP$31,$A66)","v":0},null,null,null,{"$f":"COUNTIF(KHR$3:KHT$31,$A66)","v":0},null,null,null,{"$f":"COUNTIF(KHV$3:KHX$31,$A66)","v":0},null,null,null,{"$f":"COUNTIF(KHZ$3:KIB$31,$A66)","v":0},null,null,null,{"$f":"COUNTIF(KID$3:KIF$31,$A66)","v":0},null,null,null,{"$f":"COUNTIF(KIH$3:KIJ$31,$A66)","v":0},null,null,null,{"$f":"COUNTIF(KIL$3:KIN$31,$A66)","v":0},null,null,null,{"$f":"COUNTIF(KIP$3:KIR$31,$A66)","v":0},null,null,null,{"$f":"COUNTIF(KIT$3:KIV$31,$A66)","v":0},null,null,null,{"$f":"COUNTIF(KIX$3:KIZ$31,$A66)","v":0},null,null,null,{"$f":"COUNTIF(KJB$3:KJD$31,$A66)","v":0},null,null,null,{"$f":"COUNTIF(KJF$3:KJH$31,$A66)","v":0},null,null,null,{"$f":"COUNTIF(KJJ$3:KJL$31,$A66)","v":0},null,null,null,{"$f":"COUNTIF(KJN$3:KJP$31,$A66)","v":0},null,null,null,{"$f":"COUNTIF(KJR$3:KJT$31,$A66)","v":0},null,null,null,{"$f":"COUNTIF(KJV$3:KJX$31,$A66)","v":0},null,null,null,{"$f":"COUNTIF(KJZ$3:KKB$31,$A66)","v":0},null,null,null,{"$f":"COUNTIF(KKD$3:KKF$31,$A66)","v":0},null,null,null,{"$f":"COUNTIF(KKH$3:KKJ$31,$A66)","v":0},null,null,null,{"$f":"COUNTIF(KKL$3:KKN$31,$A66)","v":0},null,null,null,{"$f":"COUNTIF(KKP$3:KKR$31,$A66)","v":0},null,null,null,{"$f":"COUNTIF(KKT$3:KKV$31,$A66)","v":0},null,null,null,{"$f":"COUNTIF(KKX$3:KKZ$31,$A66)","v":0},null,null,null,{"$f":"COUNTIF(KLB$3:KLD$31,$A66)","v":0},null,null,null,{"$f":"COUNTIF(KLF$3:KLH$31,$A66)","v":0},null,null,null,{"$f":"COUNTIF(KLJ$3:KLL$31,$A66)","v":0},null,null,null,{"$f":"COUNTIF(KLN$3:KLP$31,$A66)","v":0},null,null,null,{"$f":"COUNTIF(KLR$3:KLT$31,$A66)","v":0},null,null,null,{"$f":"COUNTIF(KLV$3:KLX$31,$A66)","v":0},null,null,null,{"$f":"COUNTIF(KLZ$3:KMB$31,$A66)","v":0},null,null,null,{"$f":"COUNTIF(KMD$3:KMF$31,$A66)","v":0},null,null,null,{"$f":"COUNTIF(KMH$3:KMJ$31,$A66)","v":0},null,null,null,{"$f":"COUNTIF(KML$3:KMN$31,$A66)","v":0},null,null,null,{"$f":"COUNTIF(KMP$3:KMR$31,$A66)","v":0},null,null,null,{"$f":"COUNTIF(KMT$3:KMV$31,$A66)","v":0},null,null,null,{"$f":"COUNTIF(KMX$3:KMZ$31,$A66)","v":0},null,null,null,{"$f":"COUNTIF(KNB$3:KND$31,$A66)","v":0},null,null,null,{"$f":"COUNTIF(KNF$3:KNH$31,$A66)","v":0},null,null,null,{"$f":"COUNTIF(KNJ$3:KNL$31,$A66)","v":0},null,null,null,{"$f":"COUNTIF(KNN$3:KNP$31,$A66)","v":0},null,null,null,{"$f":"COUNTIF(KNR$3:KNT$31,$A66)","v":0},null,null,null,{"$f":"COUNTIF(KNV$3:KNX$31,$A66)","v":0},null,null,null,{"$f":"COUNTIF(KNZ$3:KOB$31,$A66)","v":0},null,null,null,{"$f":"COUNTIF(KOD$3:KOF$31,$A66)","v":0},null,null,null,{"$f":"COUNTIF(KOH$3:KOJ$31,$A66)","v":0},null,null,null,{"$f":"COUNTIF(KOL$3:KON$31,$A66)","v":0},null,null,null,{"$f":"COUNTIF(KOP$3:KOR$31,$A66)","v":0},null,null,null,{"$f":"COUNTIF(KOT$3:KOV$31,$A66)","v":0},null,null,null,{"$f":"COUNTIF(KOX$3:KOZ$31,$A66)","v":0},null,null,null,{"$f":"COUNTIF(KPB$3:KPD$31,$A66)","v":0},null,null,null,{"$f":"COUNTIF(KPF$3:KPH$31,$A66)","v":0},null,null,null,{"$f":"COUNTIF(KPJ$3:KPL$31,$A66)","v":0},null,null,null,{"$f":"COUNTIF(KPN$3:KPP$31,$A66)","v":0},null,null,null,{"$f":"COUNTIF(KPR$3:KPT$31,$A66)","v":0},null,null,null,{"$f":"COUNTIF(KPV$3:KPX$31,$A66)","v":0},null,null,null,{"$f":"COUNTIF(KPZ$3:KQB$31,$A66)","v":0},null,null,null,{"$f":"COUNTIF(KQD$3:KQF$31,$A66)","v":0},null,null,null,{"$f":"COUNTIF(KQH$3:KQJ$31,$A66)","v":0},null,null,null,{"$f":"COUNTIF(KQL$3:KQN$31,$A66)","v":0},null,null,null,{"$f":"COUNTIF(KQP$3:KQR$31,$A66)","v":0},null,null,null,{"$f":"COUNTIF(KQT$3:KQV$31,$A66)","v":0},null,null,null,{"$f":"COUNTIF(KQX$3:KQZ$31,$A66)","v":0},null,null,null,{"$f":"COUNTIF(KRB$3:KRD$31,$A66)","v":0},null,null,null,{"$f":"COUNTIF(KRF$3:KRH$31,$A66)","v":0},null,null,null,{"$f":"COUNTIF(KRJ$3:KRL$31,$A66)","v":0},null,null,null,{"$f":"COUNTIF(KRN$3:KRP$31,$A66)","v":0},null,null,null,{"$f":"COUNTIF(KRR$3:KRT$31,$A66)","v":0},null,null,null,{"$f":"COUNTIF(KRV$3:KRX$31,$A66)","v":0},null,null,null,{"$f":"COUNTIF(KRZ$3:KSB$31,$A66)","v":0},null,null,null,{"$f":"COUNTIF(KSD$3:KSF$31,$A66)","v":0},null,null,null,{"$f":"COUNTIF(KSH$3:KSJ$31,$A66)","v":0},null,null,null,{"$f":"COUNTIF(KSL$3:KSN$31,$A66)","v":0},null,null,null,{"$f":"COUNTIF(KSP$3:KSR$31,$A66)","v":0},null,null,null,{"$f":"COUNTIF(KST$3:KSV$31,$A66)","v":0},null,null,null,{"$f":"COUNTIF(KSX$3:KSZ$31,$A66)","v":0},null,null,null,{"$f":"COUNTIF(KTB$3:KTD$31,$A66)","v":0},null,null,null,{"$f":"COUNTIF(KTF$3:KTH$31,$A66)","v":0},null,null,null,{"$f":"COUNTIF(KTJ$3:KTL$31,$A66)","v":0},null,null,null,{"$f":"COUNTIF(KTN$3:KTP$31,$A66)","v":0},null,null,null,{"$f":"COUNTIF(KTR$3:KTT$31,$A66)","v":0},null,null,null,{"$f":"COUNTIF(KTV$3:KTX$31,$A66)","v":0},null,null,null,{"$f":"COUNTIF(KTZ$3:KUB$31,$A66)","v":0},null,null,null,{"$f":"COUNTIF(KUD$3:KUF$31,$A66)","v":0},null,null,null,{"$f":"COUNTIF(KUH$3:KUJ$31,$A66)","v":0},null,null,null,{"$f":"COUNTIF(KUL$3:KUN$31,$A66)","v":0},null,null,null,{"$f":"COUNTIF(KUP$3:KUR$31,$A66)","v":0},null,null,null,{"$f":"COUNTIF(KUT$3:KUV$31,$A66)","v":0},null,null,null,{"$f":"COUNTIF(KUX$3:KUZ$31,$A66)","v":0},null,null,null,{"$f":"COUNTIF(KVB$3:KVD$31,$A66)","v":0},null,null,null,{"$f":"COUNTIF(KVF$3:KVH$31,$A66)","v":0},null,null,null,{"$f":"COUNTIF(KVJ$3:KVL$31,$A66)","v":0},null,null,null,{"$f":"COUNTIF(KVN$3:KVP$31,$A66)","v":0},null,null,null,{"$f":"COUNTIF(KVR$3:KVT$31,$A66)","v":0},null,null,null,{"$f":"COUNTIF(KVV$3:KVX$31,$A66)","v":0},null,null,null,{"$f":"COUNTIF(KVZ$3:KWB$31,$A66)","v":0},null,null,null,{"$f":"COUNTIF(KWD$3:KWF$31,$A66)","v":0},null,null,null,{"$f":"COUNTIF(KWH$3:KWJ$31,$A66)","v":0},null,null,null,{"$f":"COUNTIF(KWL$3:KWN$31,$A66)","v":0},null,null,null,{"$f":"COUNTIF(KWP$3:KWR$31,$A66)","v":0},null,null,null,{"$f":"COUNTIF(KWT$3:KWV$31,$A66)","v":0},null,null,null,{"$f":"COUNTIF(KWX$3:KWZ$31,$A66)","v":0},null,null,null,{"$f":"COUNTIF(KXB$3:KXD$31,$A66)","v":0},null,null,null,{"$f":"COUNTIF(KXF$3:KXH$31,$A66)","v":0},null,null,null,{"$f":"COUNTIF(KXJ$3:KXL$31,$A66)","v":0},null,null,null,{"$f":"COUNTIF(KXN$3:KXP$31,$A66)","v":0},null,null,null,{"$f":"COUNTIF(KXR$3:KXT$31,$A66)","v":0},null,null,null,{"$f":"COUNTIF(KXV$3:KXX$31,$A66)","v":0},null,null,null,{"$f":"COUNTIF(KXZ$3:KYB$31,$A66)","v":0},null,null,null,{"$f":"COUNTIF(KYD$3:KYF$31,$A66)","v":0},null,null,null,{"$f":"COUNTIF(KYH$3:KYJ$31,$A66)","v":0},null,null,null,{"$f":"COUNTIF(KYL$3:KYN$31,$A66)","v":0},null,null,null,{"$f":"COUNTIF(KYP$3:KYR$31,$A66)","v":0},null,null,null,{"$f":"COUNTIF(KYT$3:KYV$31,$A66)","v":0},null,null,null,{"$f":"COUNTIF(KYX$3:KYZ$31,$A66)","v":0},null,null,null,{"$f":"COUNTIF(KZB$3:KZD$31,$A66)","v":0},null,null,null,{"$f":"COUNTIF(KZF$3:KZH$31,$A66)","v":0},null,null,null,{"$f":"COUNTIF(KZJ$3:KZL$31,$A66)","v":0},null,null,null,{"$f":"COUNTIF(KZN$3:KZP$31,$A66)","v":0},null,null,null,{"$f":"COUNTIF(KZR$3:KZT$31,$A66)","v":0},null,null,null,{"$f":"COUNTIF(KZV$3:KZX$31,$A66)","v":0},null,null,null,{"$f":"COUNTIF(KZZ$3:LAB$31,$A66)","v":0},null,null,null,{"$f":"COUNTIF(LAD$3:LAF$31,$A66)","v":0},null,null,null,{"$f":"COUNTIF(LAH$3:LAJ$31,$A66)","v":0},null,null,null,{"$f":"COUNTIF(LAL$3:LAN$31,$A66)","v":0},null,null,null,{"$f":"COUNTIF(LAP$3:LAR$31,$A66)","v":0},null,null,null,{"$f":"COUNTIF(LAT$3:LAV$31,$A66)","v":0},null,null,null,{"$f":"COUNTIF(LAX$3:LAZ$31,$A66)","v":0},null,null,null,{"$f":"COUNTIF(LBB$3:LBD$31,$A66)","v":0},null,null,null,{"$f":"COUNTIF(LBF$3:LBH$31,$A66)","v":0},null,null,null,{"$f":"COUNTIF(LBJ$3:LBL$31,$A66)","v":0},null,null,null,{"$f":"COUNTIF(LBN$3:LBP$31,$A66)","v":0},null,null,null,{"$f":"COUNTIF(LBR$3:LBT$31,$A66)","v":0},null,null,null,{"$f":"COUNTIF(LBV$3:LBX$31,$A66)","v":0},null,null,null,{"$f":"COUNTIF(LBZ$3:LCB$31,$A66)","v":0},null,null,null,{"$f":"COUNTIF(LCD$3:LCF$31,$A66)","v":0},null,null,null,{"$f":"COUNTIF(LCH$3:LCJ$31,$A66)","v":0},null,null,null,{"$f":"COUNTIF(LCL$3:LCN$31,$A66)","v":0},null,null,null,{"$f":"COUNTIF(LCP$3:LCR$31,$A66)","v":0},null,null,null,{"$f":"COUNTIF(LCT$3:LCV$31,$A66)","v":0},null,null,null,{"$f":"COUNTIF(LCX$3:LCZ$31,$A66)","v":0},null,null,null,{"$f":"COUNTIF(LDB$3:LDD$31,$A66)","v":0},null,null,null,{"$f":"COUNTIF(LDF$3:LDH$31,$A66)","v":0},null,null,null,{"$f":"COUNTIF(LDJ$3:LDL$31,$A66)","v":0},null,null,null,{"$f":"COUNTIF(LDN$3:LDP$31,$A66)","v":0},null,null,null,{"$f":"COUNTIF(LDR$3:LDT$31,$A66)","v":0},null,null,null,{"$f":"COUNTIF(LDV$3:LDX$31,$A66)","v":0},null,null,null,{"$f":"COUNTIF(LDZ$3:LEB$31,$A66)","v":0},null,null,null,{"$f":"COUNTIF(LED$3:LEF$31,$A66)","v":0},null,null,null,{"$f":"COUNTIF(LEH$3:LEJ$31,$A66)","v":0},null,null,null,{"$f":"COUNTIF(LEL$3:LEN$31,$A66)","v":0},null,null,null,{"$f":"COUNTIF(LEP$3:LER$31,$A66)","v":0},null,null,null,{"$f":"COUNTIF(LET$3:LEV$31,$A66)","v":0},null,null,null,{"$f":"COUNTIF(LEX$3:LEZ$31,$A66)","v":0},null,null,null,{"$f":"COUNTIF(LFB$3:LFD$31,$A66)","v":0},null,null,null,{"$f":"COUNTIF(LFF$3:LFH$31,$A66)","v":0},null,null,null,{"$f":"COUNTIF(LFJ$3:LFL$31,$A66)","v":0},null,null,null,{"$f":"COUNTIF(LFN$3:LFP$31,$A66)","v":0},null,null,null,{"$f":"COUNTIF(LFR$3:LFT$31,$A66)","v":0},null,null,null,{"$f":"COUNTIF(LFV$3:LFX$31,$A66)","v":0},null,null,null,{"$f":"COUNTIF(LFZ$3:LGB$31,$A66)","v":0},null,null,null,{"$f":"COUNTIF(LGD$3:LGF$31,$A66)","v":0},null,null,null,{"$f":"COUNTIF(LGH$3:LGJ$31,$A66)","v":0},null,null,null,{"$f":"COUNTIF(LGL$3:LGN$31,$A66)","v":0},null,null,null,{"$f":"COUNTIF(LGP$3:LGR$31,$A66)","v":0},null,null,null,{"$f":"COUNTIF(LGT$3:LGV$31,$A66)","v":0},null,null,null,{"$f":"COUNTIF(LGX$3:LGZ$31,$A66)","v":0},null,null,null,{"$f":"COUNTIF(LHB$3:LHD$31,$A66)","v":0},null,null,null,{"$f":"COUNTIF(LHF$3:LHH$31,$A66)","v":0},null,null,null,{"$f":"COUNTIF(LHJ$3:LHL$31,$A66)","v":0},null,null,null,{"$f":"COUNTIF(LHN$3:LHP$31,$A66)","v":0},null,null,null,{"$f":"COUNTIF(LHR$3:LHT$31,$A66)","v":0},null,null,null,{"$f":"COUNTIF(LHV$3:LHX$31,$A66)","v":0},null,null,null,{"$f":"COUNTIF(LHZ$3:LIB$31,$A66)","v":0},null,null,null,{"$f":"COUNTIF(LID$3:LIF$31,$A66)","v":0},null,null,null,{"$f":"COUNTIF(LIH$3:LIJ$31,$A66)","v":0},null,null,null,{"$f":"COUNTIF(LIL$3:LIN$31,$A66)","v":0},null,null,null,{"$f":"COUNTIF(LIP$3:LIR$31,$A66)","v":0},null,null,null,{"$f":"COUNTIF(LIT$3:LIV$31,$A66)","v":0},null,null,null,{"$f":"COUNTIF(LIX$3:LIZ$31,$A66)","v":0},null,null,null,{"$f":"COUNTIF(LJB$3:LJD$31,$A66)","v":0},null,null,null,{"$f":"COUNTIF(LJF$3:LJH$31,$A66)","v":0},null,null,null,{"$f":"COUNTIF(LJJ$3:LJL$31,$A66)","v":0},null,null,null,{"$f":"COUNTIF(LJN$3:LJP$31,$A66)","v":0},null,null,null,{"$f":"COUNTIF(LJR$3:LJT$31,$A66)","v":0},null,null,null,{"$f":"COUNTIF(LJV$3:LJX$31,$A66)","v":0},null,null,null,{"$f":"COUNTIF(LJZ$3:LKB$31,$A66)","v":0},null,null,null,{"$f":"COUNTIF(LKD$3:LKF$31,$A66)","v":0},null,null,null,{"$f":"COUNTIF(LKH$3:LKJ$31,$A66)","v":0},null,null,null,{"$f":"COUNTIF(LKL$3:LKN$31,$A66)","v":0},null,null,null,{"$f":"COUNTIF(LKP$3:LKR$31,$A66)","v":0},null,null,null,{"$f":"COUNTIF(LKT$3:LKV$31,$A66)","v":0},null,null,null,{"$f":"COUNTIF(LKX$3:LKZ$31,$A66)","v":0},null,null,null,{"$f":"COUNTIF(LLB$3:LLD$31,$A66)","v":0},null,null,null,{"$f":"COUNTIF(LLF$3:LLH$31,$A66)","v":0},null,null,null,{"$f":"COUNTIF(LLJ$3:LLL$31,$A66)","v":0},null,null,null,{"$f":"COUNTIF(LLN$3:LLP$31,$A66)","v":0},null,null,null,{"$f":"COUNTIF(LLR$3:LLT$31,$A66)","v":0},null,null,null,{"$f":"COUNTIF(LLV$3:LLX$31,$A66)","v":0},null,null,null,{"$f":"COUNTIF(LLZ$3:LMB$31,$A66)","v":0},null,null,null,{"$f":"COUNTIF(LMD$3:LMF$31,$A66)","v":0},null,null,null,{"$f":"COUNTIF(LMH$3:LMJ$31,$A66)","v":0},null,null,null,{"$f":"COUNTIF(LML$3:LMN$31,$A66)","v":0},null,null,null,{"$f":"COUNTIF(LMP$3:LMR$31,$A66)","v":0},null,null,null,{"$f":"COUNTIF(LMT$3:LMV$31,$A66)","v":0},null,null,null,{"$f":"COUNTIF(LMX$3:LMZ$31,$A66)","v":0},null,null,null,{"$f":"COUNTIF(LNB$3:LND$31,$A66)","v":0},null,null,null,{"$f":"COUNTIF(LNF$3:LNH$31,$A66)","v":0},null,null,null,{"$f":"COUNTIF(LNJ$3:LNL$31,$A66)","v":0},null,null,null,{"$f":"COUNTIF(LNN$3:LNP$31,$A66)","v":0},null,null,null,{"$f":"COUNTIF(LNR$3:LNT$31,$A66)","v":0},null,null,null,{"$f":"COUNTIF(LNV$3:LNX$31,$A66)","v":0},null,null,null,{"$f":"COUNTIF(LNZ$3:LOB$31,$A66)","v":0},null,null,null,{"$f":"COUNTIF(LOD$3:LOF$31,$A66)","v":0},null,null,null,{"$f":"COUNTIF(LOH$3:LOJ$31,$A66)","v":0},null,null,null,{"$f":"COUNTIF(LOL$3:LON$31,$A66)","v":0},null,null,null,{"$f":"COUNTIF(LOP$3:LOR$31,$A66)","v":0},null,null,null,{"$f":"COUNTIF(LOT$3:LOV$31,$A66)","v":0},null,null,null,{"$f":"COUNTIF(LOX$3:LOZ$31,$A66)","v":0},null,null,null,{"$f":"COUNTIF(LPB$3:LPD$31,$A66)","v":0},null,null,null,{"$f":"COUNTIF(LPF$3:LPH$31,$A66)","v":0},null,null,null,{"$f":"COUNTIF(LPJ$3:LPL$31,$A66)","v":0},null,null,null,{"$f":"COUNTIF(LPN$3:LPP$31,$A66)","v":0},null,null,null,{"$f":"COUNTIF(LPR$3:LPT$31,$A66)","v":0},null,null,null,{"$f":"COUNTIF(LPV$3:LPX$31,$A66)","v":0},null,null,null,{"$f":"COUNTIF(LPZ$3:LQB$31,$A66)","v":0},null,null,null,{"$f":"COUNTIF(LQD$3:LQF$31,$A66)","v":0},null,null,null,{"$f":"COUNTIF(LQH$3:LQJ$31,$A66)","v":0},null,null,null,{"$f":"COUNTIF(LQL$3:LQN$31,$A66)","v":0},null,null,null,{"$f":"COUNTIF(LQP$3:LQR$31,$A66)","v":0},null,null,null,{"$f":"COUNTIF(LQT$3:LQV$31,$A66)","v":0},null,null,null,{"$f":"COUNTIF(LQX$3:LQZ$31,$A66)","v":0},null,null,null,{"$f":"COUNTIF(LRB$3:LRD$31,$A66)","v":0},null,null,null,{"$f":"COUNTIF(LRF$3:LRH$31,$A66)","v":0},null,null,null,{"$f":"COUNTIF(LRJ$3:LRL$31,$A66)","v":0},null,null,null,{"$f":"COUNTIF(LRN$3:LRP$31,$A66)","v":0},null,null,null,{"$f":"COUNTIF(LRR$3:LRT$31,$A66)","v":0},null,null,null,{"$f":"COUNTIF(LRV$3:LRX$31,$A66)","v":0},null,null,null,{"$f":"COUNTIF(LRZ$3:LSB$31,$A66)","v":0},null,null,null,{"$f":"COUNTIF(LSD$3:LSF$31,$A66)","v":0},null,null,null,{"$f":"COUNTIF(LSH$3:LSJ$31,$A66)","v":0},null,null,null,{"$f":"COUNTIF(LSL$3:LSN$31,$A66)","v":0},null,null,null,{"$f":"COUNTIF(LSP$3:LSR$31,$A66)","v":0},null,null,null,{"$f":"COUNTIF(LST$3:LSV$31,$A66)","v":0},null,null,null,{"$f":"COUNTIF(LSX$3:LSZ$31,$A66)","v":0},null,null,null,{"$f":"COUNTIF(LTB$3:LTD$31,$A66)","v":0},null,null,null,{"$f":"COUNTIF(LTF$3:LTH$31,$A66)","v":0},null,null,null,{"$f":"COUNTIF(LTJ$3:LTL$31,$A66)","v":0},null,null,null,{"$f":"COUNTIF(LTN$3:LTP$31,$A66)","v":0},null,null,null,{"$f":"COUNTIF(LTR$3:LTT$31,$A66)","v":0},null,null,null,{"$f":"COUNTIF(LTV$3:LTX$31,$A66)","v":0},null,null,null,{"$f":"COUNTIF(LTZ$3:LUB$31,$A66)","v":0},null,null,null,{"$f":"COUNTIF(LUD$3:LUF$31,$A66)","v":0},null,null,null,{"$f":"COUNTIF(LUH$3:LUJ$31,$A66)","v":0},null,null,null,{"$f":"COUNTIF(LUL$3:LUN$31,$A66)","v":0},null,null,null,{"$f":"COUNTIF(LUP$3:LUR$31,$A66)","v":0},null,null,null,{"$f":"COUNTIF(LUT$3:LUV$31,$A66)","v":0},null,null,null,{"$f":"COUNTIF(LUX$3:LUZ$31,$A66)","v":0},null,null,null,{"$f":"COUNTIF(LVB$3:LVD$31,$A66)","v":0},null,null,null,{"$f":"COUNTIF(LVF$3:LVH$31,$A66)","v":0},null,null,null,{"$f":"COUNTIF(LVJ$3:LVL$31,$A66)","v":0},null,null,null,{"$f":"COUNTIF(LVN$3:LVP$31,$A66)","v":0},null,null,null,{"$f":"COUNTIF(LVR$3:LVT$31,$A66)","v":0},null,null,null,{"$f":"COUNTIF(LVV$3:LVX$31,$A66)","v":0},null,null,null,{"$f":"COUNTIF(LVZ$3:LWB$31,$A66)","v":0},null,null,null,{"$f":"COUNTIF(LWD$3:LWF$31,$A66)","v":0},null,null,null,{"$f":"COUNTIF(LWH$3:LWJ$31,$A66)","v":0},null,null,null,{"$f":"COUNTIF(LWL$3:LWN$31,$A66)","v":0},null,null,null,{"$f":"COUNTIF(LWP$3:LWR$31,$A66)","v":0},null,null,null,{"$f":"COUNTIF(LWT$3:LWV$31,$A66)","v":0},null,null,null,{"$f":"COUNTIF(LWX$3:LWZ$31,$A66)","v":0},null,null,null,{"$f":"COUNTIF(LXB$3:LXD$31,$A66)","v":0},null,null,null,{"$f":"COUNTIF(LXF$3:LXH$31,$A66)","v":0},null,null,null,{"$f":"COUNTIF(LXJ$3:LXL$31,$A66)","v":0},null,null,null,{"$f":"COUNTIF(LXN$3:LXP$31,$A66)","v":0},null,null,null,{"$f":"COUNTIF(LXR$3:LXT$31,$A66)","v":0},null,null,null,{"$f":"COUNTIF(LXV$3:LXX$31,$A66)","v":0},null,null,null,{"$f":"COUNTIF(LXZ$3:LYB$31,$A66)","v":0},null,null,null,{"$f":"COUNTIF(LYD$3:LYF$31,$A66)","v":0},null,null,null,{"$f":"COUNTIF(LYH$3:LYJ$31,$A66)","v":0},null,null,null,{"$f":"COUNTIF(LYL$3:LYN$31,$A66)","v":0},null,null,null,{"$f":"COUNTIF(LYP$3:LYR$31,$A66)","v":0},null,null,null,{"$f":"COUNTIF(LYT$3:LYV$31,$A66)","v":0},null,null,null,{"$f":"COUNTIF(LYX$3:LYZ$31,$A66)","v":0},null,null,null,{"$f":"COUNTIF(LZB$3:LZD$31,$A66)","v":0},null,null,null,{"$f":"COUNTIF(LZF$3:LZH$31,$A66)","v":0},null,null,null,{"$f":"COUNTIF(LZJ$3:LZL$31,$A66)","v":0},null,null,null,{"$f":"COUNTIF(LZN$3:LZP$31,$A66)","v":0},null,null,null,{"$f":"COUNTIF(LZR$3:LZT$31,$A66)","v":0},null,null,null,{"$f":"COUNTIF(LZV$3:LZX$31,$A66)","v":0},null,null,null,{"$f":"COUNTIF(LZZ$3:MAB$31,$A66)","v":0},null,null,null,{"$f":"COUNTIF(MAD$3:MAF$31,$A66)","v":0},null,null,null,{"$f":"COUNTIF(MAH$3:MAJ$31,$A66)","v":0},null,null,null,{"$f":"COUNTIF(MAL$3:MAN$31,$A66)","v":0},null,null,null,{"$f":"COUNTIF(MAP$3:MAR$31,$A66)","v":0},null,null,null,{"$f":"COUNTIF(MAT$3:MAV$31,$A66)","v":0},null,null,null,{"$f":"COUNTIF(MAX$3:MAZ$31,$A66)","v":0},null,null,null,{"$f":"COUNTIF(MBB$3:MBD$31,$A66)","v":0},null,null,null,{"$f":"COUNTIF(MBF$3:MBH$31,$A66)","v":0},null,null,null,{"$f":"COUNTIF(MBJ$3:MBL$31,$A66)","v":0},null,null,null,{"$f":"COUNTIF(MBN$3:MBP$31,$A66)","v":0},null,null,null,{"$f":"COUNTIF(MBR$3:MBT$31,$A66)","v":0},null,null,null,{"$f":"COUNTIF(MBV$3:MBX$31,$A66)","v":0},null,null,null,{"$f":"COUNTIF(MBZ$3:MCB$31,$A66)","v":0},null,null,null,{"$f":"COUNTIF(MCD$3:MCF$31,$A66)","v":0},null,null,null,{"$f":"COUNTIF(MCH$3:MCJ$31,$A66)","v":0},null,null,null,{"$f":"COUNTIF(MCL$3:MCN$31,$A66)","v":0},null,null,null,{"$f":"COUNTIF(MCP$3:MCR$31,$A66)","v":0},null,null,null,{"$f":"COUNTIF(MCT$3:MCV$31,$A66)","v":0},null,null,null,{"$f":"COUNTIF(MCX$3:MCZ$31,$A66)","v":0},null,null,null,{"$f":"COUNTIF(MDB$3:MDD$31,$A66)","v":0},null,null,null,{"$f":"COUNTIF(MDF$3:MDH$31,$A66)","v":0},null,null,null,{"$f":"COUNTIF(MDJ$3:MDL$31,$A66)","v":0},null,null,null,{"$f":"COUNTIF(MDN$3:MDP$31,$A66)","v":0},null,null,null,{"$f":"COUNTIF(MDR$3:MDT$31,$A66)","v":0},null,null,null,{"$f":"COUNTIF(MDV$3:MDX$31,$A66)","v":0},null,null,null,{"$f":"COUNTIF(MDZ$3:MEB$31,$A66)","v":0},null,null,null,{"$f":"COUNTIF(MED$3:MEF$31,$A66)","v":0},null,null,null,{"$f":"COUNTIF(MEH$3:MEJ$31,$A66)","v":0},null,null,null,{"$f":"COUNTIF(MEL$3:MEN$31,$A66)","v":0},null,null,null,{"$f":"COUNTIF(MEP$3:MER$31,$A66)","v":0},null,null,null,{"$f":"COUNTIF(MET$3:MEV$31,$A66)","v":0},null,null,null,{"$f":"COUNTIF(MEX$3:MEZ$31,$A66)","v":0},null,null,null,{"$f":"COUNTIF(MFB$3:MFD$31,$A66)","v":0},null,null,null,{"$f":"COUNTIF(MFF$3:MFH$31,$A66)","v":0},null,null,null,{"$f":"COUNTIF(MFJ$3:MFL$31,$A66)","v":0},null,null,null,{"$f":"COUNTIF(MFN$3:MFP$31,$A66)","v":0},null,null,null,{"$f":"COUNTIF(MFR$3:MFT$31,$A66)","v":0},null,null,null,{"$f":"COUNTIF(MFV$3:MFX$31,$A66)","v":0},null,null,null,{"$f":"COUNTIF(MFZ$3:MGB$31,$A66)","v":0},null,null,null,{"$f":"COUNTIF(MGD$3:MGF$31,$A66)","v":0},null,null,null,{"$f":"COUNTIF(MGH$3:MGJ$31,$A66)","v":0},null,null,null,{"$f":"COUNTIF(MGL$3:MGN$31,$A66)","v":0},null,null,null,{"$f":"COUNTIF(MGP$3:MGR$31,$A66)","v":0},null,null,null,{"$f":"COUNTIF(MGT$3:MGV$31,$A66)","v":0},null,null,null,{"$f":"COUNTIF(MGX$3:MGZ$31,$A66)","v":0},null,null,null,{"$f":"COUNTIF(MHB$3:MHD$31,$A66)","v":0},null,null,null,{"$f":"COUNTIF(MHF$3:MHH$31,$A66)","v":0},null,null,null,{"$f":"COUNTIF(MHJ$3:MHL$31,$A66)","v":0},null,null,null,{"$f":"COUNTIF(MHN$3:MHP$31,$A66)","v":0},null,null,null,{"$f":"COUNTIF(MHR$3:MHT$31,$A66)","v":0},null,null,null,{"$f":"COUNTIF(MHV$3:MHX$31,$A66)","v":0},null,null,null,{"$f":"COUNTIF(MHZ$3:MIB$31,$A66)","v":0},null,null,null,{"$f":"COUNTIF(MID$3:MIF$31,$A66)","v":0},null,null,null,{"$f":"COUNTIF(MIH$3:MIJ$31,$A66)","v":0},null,null,null,{"$f":"COUNTIF(MIL$3:MIN$31,$A66)","v":0},null,null,null,{"$f":"COUNTIF(MIP$3:MIR$31,$A66)","v":0},null,null,null,{"$f":"COUNTIF(MIT$3:MIV$31,$A66)","v":0},null,null,null,{"$f":"COUNTIF(MIX$3:MIZ$31,$A66)","v":0},null,null,null,{"$f":"COUNTIF(MJB$3:MJD$31,$A66)","v":0},null,null,null,{"$f":"COUNTIF(MJF$3:MJH$31,$A66)","v":0},null,null,null,{"$f":"COUNTIF(MJJ$3:MJL$31,$A66)","v":0},null,null,null,{"$f":"COUNTIF(MJN$3:MJP$31,$A66)","v":0},null,null,null,{"$f":"COUNTIF(MJR$3:MJT$31,$A66)","v":0},null,null,null,{"$f":"COUNTIF(MJV$3:MJX$31,$A66)","v":0},null,null,null,{"$f":"COUNTIF(MJZ$3:MKB$31,$A66)","v":0},null,null,null,{"$f":"COUNTIF(MKD$3:MKF$31,$A66)","v":0},null,null,null,{"$f":"COUNTIF(MKH$3:MKJ$31,$A66)","v":0},null,null,null,{"$f":"COUNTIF(MKL$3:MKN$31,$A66)","v":0},null,null,null,{"$f":"COUNTIF(MKP$3:MKR$31,$A66)","v":0},null,null,null,{"$f":"COUNTIF(MKT$3:MKV$31,$A66)","v":0},null,null,null,{"$f":"COUNTIF(MKX$3:MKZ$31,$A66)","v":0},null,null,null,{"$f":"COUNTIF(MLB$3:MLD$31,$A66)","v":0},null,null,null,{"$f":"COUNTIF(MLF$3:MLH$31,$A66)","v":0},null,null,null,{"$f":"COUNTIF(MLJ$3:MLL$31,$A66)","v":0},null,null,null,{"$f":"COUNTIF(MLN$3:MLP$31,$A66)","v":0},null,null,null,{"$f":"COUNTIF(MLR$3:MLT$31,$A66)","v":0},null,null,null,{"$f":"COUNTIF(MLV$3:MLX$31,$A66)","v":0},null,null,null,{"$f":"COUNTIF(MLZ$3:MMB$31,$A66)","v":0},null,null,null,{"$f":"COUNTIF(MMD$3:MMF$31,$A66)","v":0},null,null,null,{"$f":"COUNTIF(MMH$3:MMJ$31,$A66)","v":0},null,null,null,{"$f":"COUNTIF(MML$3:MMN$31,$A66)","v":0},null,null,null,{"$f":"COUNTIF(MMP$3:MMR$31,$A66)","v":0},null,null,null,{"$f":"COUNTIF(MMT$3:MMV$31,$A66)","v":0},null,null,null,{"$f":"COUNTIF(MMX$3:MMZ$31,$A66)","v":0},null,null,null,{"$f":"COUNTIF(MNB$3:MND$31,$A66)","v":0},null,null,null,{"$f":"COUNTIF(MNF$3:MNH$31,$A66)","v":0},null,null,null,{"$f":"COUNTIF(MNJ$3:MNL$31,$A66)","v":0},null,null,null,{"$f":"COUNTIF(MNN$3:MNP$31,$A66)","v":0},null,null,null,{"$f":"COUNTIF(MNR$3:MNT$31,$A66)","v":0},null,null,null,{"$f":"COUNTIF(MNV$3:MNX$31,$A66)","v":0},null,null,null,{"$f":"COUNTIF(MNZ$3:MOB$31,$A66)","v":0},null,null,null,{"$f":"COUNTIF(MOD$3:MOF$31,$A66)","v":0},null,null,null,{"$f":"COUNTIF(MOH$3:MOJ$31,$A66)","v":0},null,null,null,{"$f":"COUNTIF(MOL$3:MON$31,$A66)","v":0},null,null,null,{"$f":"COUNTIF(MOP$3:MOR$31,$A66)","v":0},null,null,null,{"$f":"COUNTIF(MOT$3:MOV$31,$A66)","v":0},null,null,null,{"$f":"COUNTIF(MOX$3:MOZ$31,$A66)","v":0},null,null,null,{"$f":"COUNTIF(MPB$3:MPD$31,$A66)","v":0},null,null,null,{"$f":"COUNTIF(MPF$3:MPH$31,$A66)","v":0},null,null,null,{"$f":"COUNTIF(MPJ$3:MPL$31,$A66)","v":0},null,null,null,{"$f":"COUNTIF(MPN$3:MPP$31,$A66)","v":0},null,null,null,{"$f":"COUNTIF(MPR$3:MPT$31,$A66)","v":0},null,null,null,{"$f":"COUNTIF(MPV$3:MPX$31,$A66)","v":0},null,null,null,{"$f":"COUNTIF(MPZ$3:MQB$31,$A66)","v":0},null,null,null,{"$f":"COUNTIF(MQD$3:MQF$31,$A66)","v":0},null,null,null,{"$f":"COUNTIF(MQH$3:MQJ$31,$A66)","v":0},null,null,null,{"$f":"COUNTIF(MQL$3:MQN$31,$A66)","v":0},null,null,null,{"$f":"COUNTIF(MQP$3:MQR$31,$A66)","v":0},null,null,null,{"$f":"COUNTIF(MQT$3:MQV$31,$A66)","v":0},null,null,null,{"$f":"COUNTIF(MQX$3:MQZ$31,$A66)","v":0},null,null,null,{"$f":"COUNTIF(MRB$3:MRD$31,$A66)","v":0},null,null,null,{"$f":"COUNTIF(MRF$3:MRH$31,$A66)","v":0},null,null,null,{"$f":"COUNTIF(MRJ$3:MRL$31,$A66)","v":0},null,null,null,{"$f":"COUNTIF(MRN$3:MRP$31,$A66)","v":0},null,null,null,{"$f":"COUNTIF(MRR$3:MRT$31,$A66)","v":0},null,null,null,{"$f":"COUNTIF(MRV$3:MRX$31,$A66)","v":0},null,null,null,{"$f":"COUNTIF(MRZ$3:MSB$31,$A66)","v":0},null,null,null,{"$f":"COUNTIF(MSD$3:MSF$31,$A66)","v":0},null,null,null,{"$f":"COUNTIF(MSH$3:MSJ$31,$A66)","v":0},null,null,null,{"$f":"COUNTIF(MSL$3:MSN$31,$A66)","v":0},null,null,null,{"$f":"COUNTIF(MSP$3:MSR$31,$A66)","v":0},null,null,null,{"$f":"COUNTIF(MST$3:MSV$31,$A66)","v":0},null,null,null,{"$f":"COUNTIF(MSX$3:MSZ$31,$A66)","v":0},null,null,null,{"$f":"COUNTIF(MTB$3:MTD$31,$A66)","v":0},null,null,null,{"$f":"COUNTIF(MTF$3:MTH$31,$A66)","v":0},null,null,null,{"$f":"COUNTIF(MTJ$3:MTL$31,$A66)","v":0},null,null,null,{"$f":"COUNTIF(MTN$3:MTP$31,$A66)","v":0},null,null,null,{"$f":"COUNTIF(MTR$3:MTT$31,$A66)","v":0},null,null,null,{"$f":"COUNTIF(MTV$3:MTX$31,$A66)","v":0},null,null,null,{"$f":"COUNTIF(MTZ$3:MUB$31,$A66)","v":0},null,null,null,{"$f":"COUNTIF(MUD$3:MUF$31,$A66)","v":0},null,null,null,{"$f":"COUNTIF(MUH$3:MUJ$31,$A66)","v":0},null,null,null,{"$f":"COUNTIF(MUL$3:MUN$31,$A66)","v":0},null,null,null,{"$f":"COUNTIF(MUP$3:MUR$31,$A66)","v":0},null,null,null,{"$f":"COUNTIF(MUT$3:MUV$31,$A66)","v":0},null,null,null,{"$f":"COUNTIF(MUX$3:MUZ$31,$A66)","v":0},null,null,null,{"$f":"COUNTIF(MVB$3:MVD$31,$A66)","v":0},null,null,null,{"$f":"COUNTIF(MVF$3:MVH$31,$A66)","v":0},null,null,null,{"$f":"COUNTIF(MVJ$3:MVL$31,$A66)","v":0},null,null,null,{"$f":"COUNTIF(MVN$3:MVP$31,$A66)","v":0},null,null,null,{"$f":"COUNTIF(MVR$3:MVT$31,$A66)","v":0},null,null,null,{"$f":"COUNTIF(MVV$3:MVX$31,$A66)","v":0},null,null,null,{"$f":"COUNTIF(MVZ$3:MWB$31,$A66)","v":0},null,null,null,{"$f":"COUNTIF(MWD$3:MWF$31,$A66)","v":0},null,null,null,{"$f":"COUNTIF(MWH$3:MWJ$31,$A66)","v":0},null,null,null,{"$f":"COUNTIF(MWL$3:MWN$31,$A66)","v":0},null,null,null,{"$f":"COUNTIF(MWP$3:MWR$31,$A66)","v":0},null,null,null,{"$f":"COUNTIF(MWT$3:MWV$31,$A66)","v":0},null,null,null,{"$f":"COUNTIF(MWX$3:MWZ$31,$A66)","v":0},null,null,null,{"$f":"COUNTIF(MXB$3:MXD$31,$A66)","v":0},null,null,null,{"$f":"COUNTIF(MXF$3:MXH$31,$A66)","v":0},null,null,null,{"$f":"COUNTIF(MXJ$3:MXL$31,$A66)","v":0},null,null,null,{"$f":"COUNTIF(MXN$3:MXP$31,$A66)","v":0},null,null,null,{"$f":"COUNTIF(MXR$3:MXT$31,$A66)","v":0},null,null,null,{"$f":"COUNTIF(MXV$3:MXX$31,$A66)","v":0},null,null,null,{"$f":"COUNTIF(MXZ$3:MYB$31,$A66)","v":0},null,null,null,{"$f":"COUNTIF(MYD$3:MYF$31,$A66)","v":0},null,null,null,{"$f":"COUNTIF(MYH$3:MYJ$31,$A66)","v":0},null,null,null,{"$f":"COUNTIF(MYL$3:MYN$31,$A66)","v":0},null,null,null,{"$f":"COUNTIF(MYP$3:MYR$31,$A66)","v":0},null,null,null,{"$f":"COUNTIF(MYT$3:MYV$31,$A66)","v":0},null,null,null,{"$f":"COUNTIF(MYX$3:MYZ$31,$A66)","v":0},null,null,null,{"$f":"COUNTIF(MZB$3:MZD$31,$A66)","v":0},null,null,null,{"$f":"COUNTIF(MZF$3:MZH$31,$A66)","v":0},null,null,null,{"$f":"COUNTIF(MZJ$3:MZL$31,$A66)","v":0},null,null,null,{"$f":"COUNTIF(MZN$3:MZP$31,$A66)","v":0},null,null,null,{"$f":"COUNTIF(MZR$3:MZT$31,$A66)","v":0},null,null,null,{"$f":"COUNTIF(MZV$3:MZX$31,$A66)","v":0},null,null,null,{"$f":"COUNTIF(MZZ$3:NAB$31,$A66)","v":0},null,null,null,{"$f":"COUNTIF(NAD$3:NAF$31,$A66)","v":0},null,null,null,{"$f":"COUNTIF(NAH$3:NAJ$31,$A66)","v":0},null,null,null,{"$f":"COUNTIF(NAL$3:NAN$31,$A66)","v":0},null,null,null,{"$f":"COUNTIF(NAP$3:NAR$31,$A66)","v":0},null,null,null,{"$f":"COUNTIF(NAT$3:NAV$31,$A66)","v":0},null,null,null,{"$f":"COUNTIF(NAX$3:NAZ$31,$A66)","v":0},null,null,null,{"$f":"COUNTIF(NBB$3:NBD$31,$A66)","v":0},null,null,null,{"$f":"COUNTIF(NBF$3:NBH$31,$A66)","v":0},null,null,null,{"$f":"COUNTIF(NBJ$3:NBL$31,$A66)","v":0},null,null,null,{"$f":"COUNTIF(NBN$3:NBP$31,$A66)","v":0},null,null,null,{"$f":"COUNTIF(NBR$3:NBT$31,$A66)","v":0},null,null,null,{"$f":"COUNTIF(NBV$3:NBX$31,$A66)","v":0},null,null,null,{"$f":"COUNTIF(NBZ$3:NCB$31,$A66)","v":0},null,null,null,{"$f":"COUNTIF(NCD$3:NCF$31,$A66)","v":0},null,null,null,{"$f":"COUNTIF(NCH$3:NCJ$31,$A66)","v":0},null,null,null,{"$f":"COUNTIF(NCL$3:NCN$31,$A66)","v":0},null,null,null,{"$f":"COUNTIF(NCP$3:NCR$31,$A66)","v":0},null,null,null,{"$f":"COUNTIF(NCT$3:NCV$31,$A66)","v":0},null,null,null,{"$f":"COUNTIF(NCX$3:NCZ$31,$A66)","v":0},null,null,null,{"$f":"COUNTIF(NDB$3:NDD$31,$A66)","v":0},null,null,null,{"$f":"COUNTIF(NDF$3:NDH$31,$A66)","v":0},null,null,null,{"$f":"COUNTIF(NDJ$3:NDL$31,$A66)","v":0},null,null,null,{"$f":"COUNTIF(NDN$3:NDP$31,$A66)","v":0},null,null,null,{"$f":"COUNTIF(NDR$3:NDT$31,$A66)","v":0},null,null,null,{"$f":"COUNTIF(NDV$3:NDX$31,$A66)","v":0},null,null,null,{"$f":"COUNTIF(NDZ$3:NEB$31,$A66)","v":0},null,null,null,{"$f":"COUNTIF(NED$3:NEF$31,$A66)","v":0},null,null,null,{"$f":"COUNTIF(NEH$3:NEJ$31,$A66)","v":0},null,null,null,{"$f":"COUNTIF(NEL$3:NEN$31,$A66)","v":0},null,null,null,{"$f":"COUNTIF(NEP$3:NER$31,$A66)","v":0},null,null,null,{"$f":"COUNTIF(NET$3:NEV$31,$A66)","v":0},null,null,null,{"$f":"COUNTIF(NEX$3:NEZ$31,$A66)","v":0},null,null,null,{"$f":"COUNTIF(NFB$3:NFD$31,$A66)","v":0},null,null,null,{"$f":"COUNTIF(NFF$3:NFH$31,$A66)","v":0},null,null,null,{"$f":"COUNTIF(NFJ$3:NFL$31,$A66)","v":0},null,null,null,{"$f":"COUNTIF(NFN$3:NFP$31,$A66)","v":0},null,null,null,{"$f":"COUNTIF(NFR$3:NFT$31,$A66)","v":0},null,null,null,{"$f":"COUNTIF(NFV$3:NFX$31,$A66)","v":0},null,null,null,{"$f":"COUNTIF(NFZ$3:NGB$31,$A66)","v":0},null,null,null,{"$f":"COUNTIF(NGD$3:NGF$31,$A66)","v":0},null,null,null,{"$f":"COUNTIF(NGH$3:NGJ$31,$A66)","v":0},null,null,null,{"$f":"COUNTIF(NGL$3:NGN$31,$A66)","v":0},null,null,null,{"$f":"COUNTIF(NGP$3:NGR$31,$A66)","v":0},null,null,null,{"$f":"COUNTIF(NGT$3:NGV$31,$A66)","v":0},null,null,null,{"$f":"COUNTIF(NGX$3:NGZ$31,$A66)","v":0},null,null,null,{"$f":"COUNTIF(NHB$3:NHD$31,$A66)","v":0},null,null,null,{"$f":"COUNTIF(NHF$3:NHH$31,$A66)","v":0},null,null,null,{"$f":"COUNTIF(NHJ$3:NHL$31,$A66)","v":0},null,null,null,{"$f":"COUNTIF(NHN$3:NHP$31,$A66)","v":0},null,null,null,{"$f":"COUNTIF(NHR$3:NHT$31,$A66)","v":0},null,null,null,{"$f":"COUNTIF(NHV$3:NHX$31,$A66)","v":0},null,null,null,{"$f":"COUNTIF(NHZ$3:NIB$31,$A66)","v":0},null,null,null,{"$f":"COUNTIF(NID$3:NIF$31,$A66)","v":0},null,null,null,{"$f":"COUNTIF(NIH$3:NIJ$31,$A66)","v":0},null,null,null,{"$f":"COUNTIF(NIL$3:NIN$31,$A66)","v":0},null,null,null,{"$f":"COUNTIF(NIP$3:NIR$31,$A66)","v":0},null,null,null,{"$f":"COUNTIF(NIT$3:NIV$31,$A66)","v":0},null,null,null,{"$f":"COUNTIF(NIX$3:NIZ$31,$A66)","v":0},null,null,null,{"$f":"COUNTIF(NJB$3:NJD$31,$A66)","v":0},null,null,null,{"$f":"COUNTIF(NJF$3:NJH$31,$A66)","v":0},null,null,null,{"$f":"COUNTIF(NJJ$3:NJL$31,$A66)","v":0},null,null,null,{"$f":"COUNTIF(NJN$3:NJP$31,$A66)","v":0},null,null,null,{"$f":"COUNTIF(NJR$3:NJT$31,$A66)","v":0},null,null,null,{"$f":"COUNTIF(NJV$3:NJX$31,$A66)","v":0},null,null,null,{"$f":"COUNTIF(NJZ$3:NKB$31,$A66)","v":0},null,null,null,{"$f":"COUNTIF(NKD$3:NKF$31,$A66)","v":0},null,null,null,{"$f":"COUNTIF(NKH$3:NKJ$31,$A66)","v":0},null,null,null,{"$f":"COUNTIF(NKL$3:NKN$31,$A66)","v":0},null,null,null,{"$f":"COUNTIF(NKP$3:NKR$31,$A66)","v":0},null,null,null,{"$f":"COUNTIF(NKT$3:NKV$31,$A66)","v":0},null,null,null,{"$f":"COUNTIF(NKX$3:NKZ$31,$A66)","v":0},null,null,null,{"$f":"COUNTIF(NLB$3:NLD$31,$A66)","v":0},null,null,null,{"$f":"COUNTIF(NLF$3:NLH$31,$A66)","v":0},null,null,null,{"$f":"COUNTIF(NLJ$3:NLL$31,$A66)","v":0},null,null,null,{"$f":"COUNTIF(NLN$3:NLP$31,$A66)","v":0},null,null,null,{"$f":"COUNTIF(NLR$3:NLT$31,$A66)","v":0},null,null,null,{"$f":"COUNTIF(NLV$3:NLX$31,$A66)","v":0},null,null,null,{"$f":"COUNTIF(NLZ$3:NMB$31,$A66)","v":0},null,null,null,{"$f":"COUNTIF(NMD$3:NMF$31,$A66)","v":0},null,null,null,{"$f":"COUNTIF(NMH$3:NMJ$31,$A66)","v":0},null,null,null,{"$f":"COUNTIF(NML$3:NMN$31,$A66)","v":0},null,null,null,{"$f":"COUNTIF(NMP$3:NMR$31,$A66)","v":0},null,null,null,{"$f":"COUNTIF(NMT$3:NMV$31,$A66)","v":0},null,null,null,{"$f":"COUNTIF(NMX$3:NMZ$31,$A66)","v":0},null,null,null,{"$f":"COUNTIF(NNB$3:NND$31,$A66)","v":0},null,null,null,{"$f":"COUNTIF(NNF$3:NNH$31,$A66)","v":0},null,null,null,{"$f":"COUNTIF(NNJ$3:NNL$31,$A66)","v":0},null,null,null,{"$f":"COUNTIF(NNN$3:NNP$31,$A66)","v":0},null,null,null,{"$f":"COUNTIF(NNR$3:NNT$31,$A66)","v":0},null,null,null,{"$f":"COUNTIF(NNV$3:NNX$31,$A66)","v":0},null,null,null,{"$f":"COUNTIF(NNZ$3:NOB$31,$A66)","v":0},null,null,null,{"$f":"COUNTIF(NOD$3:NOF$31,$A66)","v":0},null,null,null,{"$f":"COUNTIF(NOH$3:NOJ$31,$A66)","v":0},null,null,null,{"$f":"COUNTIF(NOL$3:NON$31,$A66)","v":0},null,null,null,{"$f":"COUNTIF(NOP$3:NOR$31,$A66)","v":0},null,null,null,{"$f":"COUNTIF(NOT$3:NOV$31,$A66)","v":0},null,null,null,{"$f":"COUNTIF(NOX$3:NOZ$31,$A66)","v":0},null,null,null,{"$f":"COUNTIF(NPB$3:NPD$31,$A66)","v":0},null,null,null,{"$f":"COUNTIF(NPF$3:NPH$31,$A66)","v":0},null,null,null,{"$f":"COUNTIF(NPJ$3:NPL$31,$A66)","v":0},null,null,null,{"$f":"COUNTIF(NPN$3:NPP$31,$A66)","v":0},null,null,null,{"$f":"COUNTIF(NPR$3:NPT$31,$A66)","v":0},null,null,null,{"$f":"COUNTIF(NPV$3:NPX$31,$A66)","v":0},null,null,null,{"$f":"COUNTIF(NPZ$3:NQB$31,$A66)","v":0},null,null,null,{"$f":"COUNTIF(NQD$3:NQF$31,$A66)","v":0},null,null,null,{"$f":"COUNTIF(NQH$3:NQJ$31,$A66)","v":0},null,null,null,{"$f":"COUNTIF(NQL$3:NQN$31,$A66)","v":0},null,null,null,{"$f":"COUNTIF(NQP$3:NQR$31,$A66)","v":0},null,null,null,{"$f":"COUNTIF(NQT$3:NQV$31,$A66)","v":0},null,null,null,{"$f":"COUNTIF(NQX$3:NQZ$31,$A66)","v":0},null,null,null,{"$f":"COUNTIF(NRB$3:NRD$31,$A66)","v":0},null,null,null,{"$f":"COUNTIF(NRF$3:NRH$31,$A66)","v":0},null,null,null,{"$f":"COUNTIF(NRJ$3:NRL$31,$A66)","v":0},null,null,null,{"$f":"COUNTIF(NRN$3:NRP$31,$A66)","v":0},null,null,null,{"$f":"COUNTIF(NRR$3:NRT$31,$A66)","v":0},null,null,null,{"$f":"COUNTIF(NRV$3:NRX$31,$A66)","v":0},null,null,null,{"$f":"COUNTIF(NRZ$3:NSB$31,$A66)","v":0},null,null,null,{"$f":"COUNTIF(NSD$3:NSF$31,$A66)","v":0},null,null,null,{"$f":"COUNTIF(NSH$3:NSJ$31,$A66)","v":0},null,null,null,{"$f":"COUNTIF(NSL$3:NSN$31,$A66)","v":0},null,null,null,{"$f":"COUNTIF(NSP$3:NSR$31,$A66)","v":0},null,null,null,{"$f":"COUNTIF(NST$3:NSV$31,$A66)","v":0},null,null,null,{"$f":"COUNTIF(NSX$3:NSZ$31,$A66)","v":0},null,null,null,{"$f":"COUNTIF(NTB$3:NTD$31,$A66)","v":0},null,null,null,{"$f":"COUNTIF(NTF$3:NTH$31,$A66)","v":0},null,null,null,{"$f":"COUNTIF(NTJ$3:NTL$31,$A66)","v":0},null,null,null,{"$f":"COUNTIF(NTN$3:NTP$31,$A66)","v":0},null,null,null,{"$f":"COUNTIF(NTR$3:NTT$31,$A66)","v":0},null,null,null,{"$f":"COUNTIF(NTV$3:NTX$31,$A66)","v":0},null,null,null,{"$f":"COUNTIF(NTZ$3:NUB$31,$A66)","v":0},null,null,null,{"$f":"COUNTIF(NUD$3:NUF$31,$A66)","v":0},null,null,null,{"$f":"COUNTIF(NUH$3:NUJ$31,$A66)","v":0},null,null,null,{"$f":"COUNTIF(NUL$3:NUN$31,$A66)","v":0},null,null,null,{"$f":"COUNTIF(NUP$3:NUR$31,$A66)","v":0},null,null,null,{"$f":"COUNTIF(NUT$3:NUV$31,$A66)","v":0},null,null,null,{"$f":"COUNTIF(NUX$3:NUZ$31,$A66)","v":0},null,null,null,{"$f":"COUNTIF(NVB$3:NVD$31,$A66)","v":0},null,null,null,{"$f":"COUNTIF(NVF$3:NVH$31,$A66)","v":0},null,null,null,{"$f":"COUNTIF(NVJ$3:NVL$31,$A66)","v":0},null,null,null,{"$f":"COUNTIF(NVN$3:NVP$31,$A66)","v":0},null,null,null,{"$f":"COUNTIF(NVR$3:NVT$31,$A66)","v":0},null,null,null,{"$f":"COUNTIF(NVV$3:NVX$31,$A66)","v":0},null,null,null,{"$f":"COUNTIF(NVZ$3:NWB$31,$A66)","v":0},null,null,null,{"$f":"COUNTIF(NWD$3:NWF$31,$A66)","v":0},null,null,null,{"$f":"COUNTIF(NWH$3:NWJ$31,$A66)","v":0},null,null,null,{"$f":"COUNTIF(NWL$3:NWN$31,$A66)","v":0},null,null,null,{"$f":"COUNTIF(NWP$3:NWR$31,$A66)","v":0},null,null,null,{"$f":"COUNTIF(NWT$3:NWV$31,$A66)","v":0},null,null,null,{"$f":"COUNTIF(NWX$3:NWZ$31,$A66)","v":0},null,null,null,{"$f":"COUNTIF(NXB$3:NXD$31,$A66)","v":0},null,null,null,{"$f":"COUNTIF(NXF$3:NXH$31,$A66)","v":0},null,null,null,{"$f":"COUNTIF(NXJ$3:NXL$31,$A66)","v":0},null,null,null,{"$f":"COUNTIF(NXN$3:NXP$31,$A66)","v":0},null,null,null,{"$f":"COUNTIF(NXR$3:NXT$31,$A66)","v":0},null,null,null,{"$f":"COUNTIF(NXV$3:NXX$31,$A66)","v":0},null,null,null,{"$f":"COUNTIF(NXZ$3:NYB$31,$A66)","v":0},null,null,null,{"$f":"COUNTIF(NYD$3:NYF$31,$A66)","v":0},null,null,null,{"$f":"COUNTIF(NYH$3:NYJ$31,$A66)","v":0},null,null,null,{"$f":"COUNTIF(NYL$3:NYN$31,$A66)","v":0},null,null,null,{"$f":"COUNTIF(NYP$3:NYR$31,$A66)","v":0},null,null,null,{"$f":"COUNTIF(NYT$3:NYV$31,$A66)","v":0},null,null,null,{"$f":"COUNTIF(NYX$3:NYZ$31,$A66)","v":0},null,null,null,{"$f":"COUNTIF(NZB$3:NZD$31,$A66)","v":0},null,null,null,{"$f":"COUNTIF(NZF$3:NZH$31,$A66)","v":0},null,null,null,{"$f":"COUNTIF(NZJ$3:NZL$31,$A66)","v":0},null,null,null,{"$f":"COUNTIF(NZN$3:NZP$31,$A66)","v":0},null,null,null,{"$f":"COUNTIF(NZR$3:NZT$31,$A66)","v":0},null,null,null,{"$f":"COUNTIF(NZV$3:NZX$31,$A66)","v":0},null,null,null,{"$f":"COUNTIF(NZZ$3:OAB$31,$A66)","v":0},null,null,null,{"$f":"COUNTIF(OAD$3:OAF$31,$A66)","v":0},null,null,null,{"$f":"COUNTIF(OAH$3:OAJ$31,$A66)","v":0},null,null,null,{"$f":"COUNTIF(OAL$3:OAN$31,$A66)","v":0},null,null,null,{"$f":"COUNTIF(OAP$3:OAR$31,$A66)","v":0},null,null,null,{"$f":"COUNTIF(OAT$3:OAV$31,$A66)","v":0},null,null,null,{"$f":"COUNTIF(OAX$3:OAZ$31,$A66)","v":0},null,null,null,{"$f":"COUNTIF(OBB$3:OBD$31,$A66)","v":0},null,null,null,{"$f":"COUNTIF(OBF$3:OBH$31,$A66)","v":0},null,null,null,{"$f":"COUNTIF(OBJ$3:OBL$31,$A66)","v":0},null,null,null,{"$f":"COUNTIF(OBN$3:OBP$31,$A66)","v":0},null,null,null,{"$f":"COUNTIF(OBR$3:OBT$31,$A66)","v":0},null,null,null,{"$f":"COUNTIF(OBV$3:OBX$31,$A66)","v":0},null,null,null,{"$f":"COUNTIF(OBZ$3:OCB$31,$A66)","v":0},null,null,null,{"$f":"COUNTIF(OCD$3:OCF$31,$A66)","v":0},null,null,null,{"$f":"COUNTIF(OCH$3:OCJ$31,$A66)","v":0},null,null,null,{"$f":"COUNTIF(OCL$3:OCN$31,$A66)","v":0},null,null,null,{"$f":"COUNTIF(OCP$3:OCR$31,$A66)","v":0},null,null,null,{"$f":"COUNTIF(OCT$3:OCV$31,$A66)","v":0},null,null,null,{"$f":"COUNTIF(OCX$3:OCZ$31,$A66)","v":0},null,null,null,{"$f":"COUNTIF(ODB$3:ODD$31,$A66)","v":0},null,null,null,{"$f":"COUNTIF(ODF$3:ODH$31,$A66)","v":0},null,null,null,{"$f":"COUNTIF(ODJ$3:ODL$31,$A66)","v":0},null,null,null,{"$f":"COUNTIF(ODN$3:ODP$31,$A66)","v":0},null,null,null,{"$f":"COUNTIF(ODR$3:ODT$31,$A66)","v":0},null,null,null,{"$f":"COUNTIF(ODV$3:ODX$31,$A66)","v":0},null,null,null,{"$f":"COUNTIF(ODZ$3:OEB$31,$A66)","v":0},null,null,null,{"$f":"COUNTIF(OED$3:OEF$31,$A66)","v":0},null,null,null,{"$f":"COUNTIF(OEH$3:OEJ$31,$A66)","v":0},null,null,null,{"$f":"COUNTIF(OEL$3:OEN$31,$A66)","v":0},null,null,null,{"$f":"COUNTIF(OEP$3:OER$31,$A66)","v":0},null,null,null,{"$f":"COUNTIF(OET$3:OEV$31,$A66)","v":0},null,null,null,{"$f":"COUNTIF(OEX$3:OEZ$31,$A66)","v":0},null,null,null,{"$f":"COUNTIF(OFB$3:OFD$31,$A66)","v":0},null,null,null,{"$f":"COUNTIF(OFF$3:OFH$31,$A66)","v":0},null,null,null,{"$f":"COUNTIF(OFJ$3:OFL$31,$A66)","v":0},null,null,null,{"$f":"COUNTIF(OFN$3:OFP$31,$A66)","v":0},null,null,null,{"$f":"COUNTIF(OFR$3:OFT$31,$A66)","v":0},null,null,null,{"$f":"COUNTIF(OFV$3:OFX$31,$A66)","v":0},null,null,null,{"$f":"COUNTIF(OFZ$3:OGB$31,$A66)","v":0},null,null,null,{"$f":"COUNTIF(OGD$3:OGF$31,$A66)","v":0},null,null,null,{"$f":"COUNTIF(OGH$3:OGJ$31,$A66)","v":0},null,null,null,{"$f":"COUNTIF(OGL$3:OGN$31,$A66)","v":0},null,null,null,{"$f":"COUNTIF(OGP$3:OGR$31,$A66)","v":0},null,null,null,{"$f":"COUNTIF(OGT$3:OGV$31,$A66)","v":0},null,null,null,{"$f":"COUNTIF(OGX$3:OGZ$31,$A66)","v":0},null,null,null,{"$f":"COUNTIF(OHB$3:OHD$31,$A66)","v":0},null,null,null,{"$f":"COUNTIF(OHF$3:OHH$31,$A66)","v":0},null,null,null,{"$f":"COUNTIF(OHJ$3:OHL$31,$A66)","v":0},null,null,null,{"$f":"COUNTIF(OHN$3:OHP$31,$A66)","v":0},null,null,null,{"$f":"COUNTIF(OHR$3:OHT$31,$A66)","v":0},null,null,null,{"$f":"COUNTIF(OHV$3:OHX$31,$A66)","v":0},null,null,null,{"$f":"COUNTIF(OHZ$3:OIB$31,$A66)","v":0},null,null,null,{"$f":"COUNTIF(OID$3:OIF$31,$A66)","v":0},null,null,null,{"$f":"COUNTIF(OIH$3:OIJ$31,$A66)","v":0},null,null,null,{"$f":"COUNTIF(OIL$3:OIN$31,$A66)","v":0},null,null,null,{"$f":"COUNTIF(OIP$3:OIR$31,$A66)","v":0},null,null,null,{"$f":"COUNTIF(OIT$3:OIV$31,$A66)","v":0},null,null,null,{"$f":"COUNTIF(OIX$3:OIZ$31,$A66)","v":0},null,null,null,{"$f":"COUNTIF(OJB$3:OJD$31,$A66)","v":0},null,null,null,{"$f":"COUNTIF(OJF$3:OJH$31,$A66)","v":0},null,null,null,{"$f":"COUNTIF(OJJ$3:OJL$31,$A66)","v":0},null,null,null,{"$f":"COUNTIF(OJN$3:OJP$31,$A66)","v":0},null,null,null,{"$f":"COUNTIF(OJR$3:OJT$31,$A66)","v":0},null,null,null,{"$f":"COUNTIF(OJV$3:OJX$31,$A66)","v":0},null,null,null,{"$f":"COUNTIF(OJZ$3:OKB$31,$A66)","v":0},null,null,null,{"$f":"COUNTIF(OKD$3:OKF$31,$A66)","v":0},null,null,null,{"$f":"COUNTIF(OKH$3:OKJ$31,$A66)","v":0},null,null,null,{"$f":"COUNTIF(OKL$3:OKN$31,$A66)","v":0},null,null,null,{"$f":"COUNTIF(OKP$3:OKR$31,$A66)","v":0},null,null,null,{"$f":"COUNTIF(OKT$3:OKV$31,$A66)","v":0},null,null,null,{"$f":"COUNTIF(OKX$3:OKZ$31,$A66)","v":0},null,null,null,{"$f":"COUNTIF(OLB$3:OLD$31,$A66)","v":0},null,null,null,{"$f":"COUNTIF(OLF$3:OLH$31,$A66)","v":0},null,null,null,{"$f":"COUNTIF(OLJ$3:OLL$31,$A66)","v":0},null,null,null,{"$f":"COUNTIF(OLN$3:OLP$31,$A66)","v":0},null,null,null,{"$f":"COUNTIF(OLR$3:OLT$31,$A66)","v":0},null,null,null,{"$f":"COUNTIF(OLV$3:OLX$31,$A66)","v":0},null,null,null,{"$f":"COUNTIF(OLZ$3:OMB$31,$A66)","v":0},null,null,null,{"$f":"COUNTIF(OMD$3:OMF$31,$A66)","v":0},null,null,null,{"$f":"COUNTIF(OMH$3:OMJ$31,$A66)","v":0},null,null,null,{"$f":"COUNTIF(OML$3:OMN$31,$A66)","v":0},null,null,null,{"$f":"COUNTIF(OMP$3:OMR$31,$A66)","v":0},null,null,null,{"$f":"COUNTIF(OMT$3:OMV$31,$A66)","v":0},null,null,null,{"$f":"COUNTIF(OMX$3:OMZ$31,$A66)","v":0},null,null,null,{"$f":"COUNTIF(ONB$3:OND$31,$A66)","v":0},null,null,null,{"$f":"COUNTIF(ONF$3:ONH$31,$A66)","v":0},null,null,null,{"$f":"COUNTIF(ONJ$3:ONL$31,$A66)","v":0},null,null,null,{"$f":"COUNTIF(ONN$3:ONP$31,$A66)","v":0},null,null,null,{"$f":"COUNTIF(ONR$3:ONT$31,$A66)","v":0},null,null,null,{"$f":"COUNTIF(ONV$3:ONX$31,$A66)","v":0},null,null,null,{"$f":"COUNTIF(ONZ$3:OOB$31,$A66)","v":0},null,null,null,{"$f":"COUNTIF(OOD$3:OOF$31,$A66)","v":0},null,null,null,{"$f":"COUNTIF(OOH$3:OOJ$31,$A66)","v":0},null,null,null,{"$f":"COUNTIF(OOL$3:OON$31,$A66)","v":0},null,null,null,{"$f":"COUNTIF(OOP$3:OOR$31,$A66)","v":0},null,null,null,{"$f":"COUNTIF(OOT$3:OOV$31,$A66)","v":0},null,null,null,{"$f":"COUNTIF(OOX$3:OOZ$31,$A66)","v":0},null,null,null,{"$f":"COUNTIF(OPB$3:OPD$31,$A66)","v":0},null,null,null,{"$f":"COUNTIF(OPF$3:OPH$31,$A66)","v":0},null,null,null,{"$f":"COUNTIF(OPJ$3:OPL$31,$A66)","v":0},null,null,null,{"$f":"COUNTIF(OPN$3:OPP$31,$A66)","v":0},null,null,null,{"$f":"COUNTIF(OPR$3:OPT$31,$A66)","v":0},null,null,null,{"$f":"COUNTIF(OPV$3:OPX$31,$A66)","v":0},null,null,null,{"$f":"COUNTIF(OPZ$3:OQB$31,$A66)","v":0},null,null,null,{"$f":"COUNTIF(OQD$3:OQF$31,$A66)","v":0},null,null,null,{"$f":"COUNTIF(OQH$3:OQJ$31,$A66)","v":0},null,null,null,{"$f":"COUNTIF(OQL$3:OQN$31,$A66)","v":0},null,null,null,{"$f":"COUNTIF(OQP$3:OQR$31,$A66)","v":0},null,null,null,{"$f":"COUNTIF(OQT$3:OQV$31,$A66)","v":0},null,null,null,{"$f":"COUNTIF(OQX$3:OQZ$31,$A66)","v":0},null,null,null,{"$f":"COUNTIF(ORB$3:ORD$31,$A66)","v":0},null,null,null,{"$f":"COUNTIF(ORF$3:ORH$31,$A66)","v":0},null,null,null,{"$f":"COUNTIF(ORJ$3:ORL$31,$A66)","v":0},null,null,null,{"$f":"COUNTIF(ORN$3:ORP$31,$A66)","v":0},null,null,null,{"$f":"COUNTIF(ORR$3:ORT$31,$A66)","v":0},null,null,null,{"$f":"COUNTIF(ORV$3:ORX$31,$A66)","v":0},null,null,null,{"$f":"COUNTIF(ORZ$3:OSB$31,$A66)","v":0},null,null,null,{"$f":"COUNTIF(OSD$3:OSF$31,$A66)","v":0},null,null,null,{"$f":"COUNTIF(OSH$3:OSJ$31,$A66)","v":0},null,null,null,{"$f":"COUNTIF(OSL$3:OSN$31,$A66)","v":0},null,null,null,{"$f":"COUNTIF(OSP$3:OSR$31,$A66)","v":0},null,null,null,{"$f":"COUNTIF(OST$3:OSV$31,$A66)","v":0},null,null,null,{"$f":"COUNTIF(OSX$3:OSZ$31,$A66)","v":0},null,null,null,{"$f":"COUNTIF(OTB$3:OTD$31,$A66)","v":0},null,null,null,{"$f":"COUNTIF(OTF$3:OTH$31,$A66)","v":0},null,null,null,{"$f":"COUNTIF(OTJ$3:OTL$31,$A66)","v":0},null,null,null,{"$f":"COUNTIF(OTN$3:OTP$31,$A66)","v":0},null,null,null,{"$f":"COUNTIF(OTR$3:OTT$31,$A66)","v":0},null,null,null,{"$f":"COUNTIF(OTV$3:OTX$31,$A66)","v":0},null,null,null,{"$f":"COUNTIF(OTZ$3:OUB$31,$A66)","v":0},null,null,null,{"$f":"COUNTIF(OUD$3:OUF$31,$A66)","v":0},null,null,null,{"$f":"COUNTIF(OUH$3:OUJ$31,$A66)","v":0},null,null,null,{"$f":"COUNTIF(OUL$3:OUN$31,$A66)","v":0},null,null,null,{"$f":"COUNTIF(OUP$3:OUR$31,$A66)","v":0},null,null,null,{"$f":"COUNTIF(OUT$3:OUV$31,$A66)","v":0},null,null,null,{"$f":"COUNTIF(OUX$3:OUZ$31,$A66)","v":0},null,null,null,{"$f":"COUNTIF(OVB$3:OVD$31,$A66)","v":0},null,null,null,{"$f":"COUNTIF(OVF$3:OVH$31,$A66)","v":0},null,null,null,{"$f":"COUNTIF(OVJ$3:OVL$31,$A66)","v":0},null,null,null,{"$f":"COUNTIF(OVN$3:OVP$31,$A66)","v":0},null,null,null,{"$f":"COUNTIF(OVR$3:OVT$31,$A66)","v":0},null,null,null,{"$f":"COUNTIF(OVV$3:OVX$31,$A66)","v":0},null,null,null,{"$f":"COUNTIF(OVZ$3:OWB$31,$A66)","v":0},null,null,null,{"$f":"COUNTIF(OWD$3:OWF$31,$A66)","v":0},null,null,null,{"$f":"COUNTIF(OWH$3:OWJ$31,$A66)","v":0},null,null,null,{"$f":"COUNTIF(OWL$3:OWN$31,$A66)","v":0},null,null,null,{"$f":"COUNTIF(OWP$3:OWR$31,$A66)","v":0},null,null,null,{"$f":"COUNTIF(OWT$3:OWV$31,$A66)","v":0},null,null,null,{"$f":"COUNTIF(OWX$3:OWZ$31,$A66)","v":0},null,null,null,{"$f":"COUNTIF(OXB$3:OXD$31,$A66)","v":0},null,null,null,{"$f":"COUNTIF(OXF$3:OXH$31,$A66)","v":0},null,null,null,{"$f":"COUNTIF(OXJ$3:OXL$31,$A66)","v":0},null,null,null,{"$f":"COUNTIF(OXN$3:OXP$31,$A66)","v":0},null,null,null,{"$f":"COUNTIF(OXR$3:OXT$31,$A66)","v":0},null,null,null,{"$f":"COUNTIF(OXV$3:OXX$31,$A66)","v":0},null,null,null,{"$f":"COUNTIF(OXZ$3:OYB$31,$A66)","v":0},null,null,null,{"$f":"COUNTIF(OYD$3:OYF$31,$A66)","v":0},null,null,null,{"$f":"COUNTIF(OYH$3:OYJ$31,$A66)","v":0},null,null,null,{"$f":"COUNTIF(OYL$3:OYN$31,$A66)","v":0},null,null,null,{"$f":"COUNTIF(OYP$3:OYR$31,$A66)","v":0},null,null,null,{"$f":"COUNTIF(OYT$3:OYV$31,$A66)","v":0},null,null,null,{"$f":"COUNTIF(OYX$3:OYZ$31,$A66)","v":0},null,null,null,{"$f":"COUNTIF(OZB$3:OZD$31,$A66)","v":0},null,null,null,{"$f":"COUNTIF(OZF$3:OZH$31,$A66)","v":0},null,null,null,{"$f":"COUNTIF(OZJ$3:OZL$31,$A66)","v":0},null,null,null,{"$f":"COUNTIF(OZN$3:OZP$31,$A66)","v":0},null,null,null,{"$f":"COUNTIF(OZR$3:OZT$31,$A66)","v":0},null,null,null,{"$f":"COUNTIF(OZV$3:OZX$31,$A66)","v":0},null,null,null,{"$f":"COUNTIF(OZZ$3:PAB$31,$A66)","v":0},null,null,null,{"$f":"COUNTIF(PAD$3:PAF$31,$A66)","v":0},null,null,null,{"$f":"COUNTIF(PAH$3:PAJ$31,$A66)","v":0},null,null,null,{"$f":"COUNTIF(PAL$3:PAN$31,$A66)","v":0},null,null,null,{"$f":"COUNTIF(PAP$3:PAR$31,$A66)","v":0},null,null,null,{"$f":"COUNTIF(PAT$3:PAV$31,$A66)","v":0},null,null,null,{"$f":"COUNTIF(PAX$3:PAZ$31,$A66)","v":0},null,null,null,{"$f":"COUNTIF(PBB$3:PBD$31,$A66)","v":0},null,null,null,{"$f":"COUNTIF(PBF$3:PBH$31,$A66)","v":0},null,null,null,{"$f":"COUNTIF(PBJ$3:PBL$31,$A66)","v":0},null,null,null,{"$f":"COUNTIF(PBN$3:PBP$31,$A66)","v":0},null,null,null,{"$f":"COUNTIF(PBR$3:PBT$31,$A66)","v":0},null,null,null,{"$f":"COUNTIF(PBV$3:PBX$31,$A66)","v":0},null,null,null,{"$f":"COUNTIF(PBZ$3:PCB$31,$A66)","v":0},null,null,null,{"$f":"COUNTIF(PCD$3:PCF$31,$A66)","v":0},null,null,null,{"$f":"COUNTIF(PCH$3:PCJ$31,$A66)","v":0},null,null,null,{"$f":"COUNTIF(PCL$3:PCN$31,$A66)","v":0},null,null,null,{"$f":"COUNTIF(PCP$3:PCR$31,$A66)","v":0},null,null,null,{"$f":"COUNTIF(PCT$3:PCV$31,$A66)","v":0},null,null,null,{"$f":"COUNTIF(PCX$3:PCZ$31,$A66)","v":0},null,null,null,{"$f":"COUNTIF(PDB$3:PDD$31,$A66)","v":0},null,null,null,{"$f":"COUNTIF(PDF$3:PDH$31,$A66)","v":0},null,null,null,{"$f":"COUNTIF(PDJ$3:PDL$31,$A66)","v":0},null,null,null,{"$f":"COUNTIF(PDN$3:PDP$31,$A66)","v":0},null,null,null,{"$f":"COUNTIF(PDR$3:PDT$31,$A66)","v":0},null,null,null,{"$f":"COUNTIF(PDV$3:PDX$31,$A66)","v":0},null,null,null,{"$f":"COUNTIF(PDZ$3:PEB$31,$A66)","v":0},null,null,null,{"$f":"COUNTIF(PED$3:PEF$31,$A66)","v":0},null,null,null,{"$f":"COUNTIF(PEH$3:PEJ$31,$A66)","v":0},null,null,null,{"$f":"COUNTIF(PEL$3:PEN$31,$A66)","v":0},null,null,null,{"$f":"COUNTIF(PEP$3:PER$31,$A66)","v":0},null,null,null,{"$f":"COUNTIF(PET$3:PEV$31,$A66)","v":0},null,null,null,{"$f":"COUNTIF(PEX$3:PEZ$31,$A66)","v":0},null,null,null,{"$f":"COUNTIF(PFB$3:PFD$31,$A66)","v":0},null,null,null,{"$f":"COUNTIF(PFF$3:PFH$31,$A66)","v":0},null,null,null,{"$f":"COUNTIF(PFJ$3:PFL$31,$A66)","v":0},null,null,null,{"$f":"COUNTIF(PFN$3:PFP$31,$A66)","v":0},null,null,null,{"$f":"COUNTIF(PFR$3:PFT$31,$A66)","v":0},null,null,null,{"$f":"COUNTIF(PFV$3:PFX$31,$A66)","v":0},null,null,null,{"$f":"COUNTIF(PFZ$3:PGB$31,$A66)","v":0},null,null,null,{"$f":"COUNTIF(PGD$3:PGF$31,$A66)","v":0},null,null,null,{"$f":"COUNTIF(PGH$3:PGJ$31,$A66)","v":0},null,null,null,{"$f":"COUNTIF(PGL$3:PGN$31,$A66)","v":0},null,null,null,{"$f":"COUNTIF(PGP$3:PGR$31,$A66)","v":0},null,null,null,{"$f":"COUNTIF(PGT$3:PGV$31,$A66)","v":0},null,null,null,{"$f":"COUNTIF(PGX$3:PGZ$31,$A66)","v":0},null,null,null,{"$f":"COUNTIF(PHB$3:PHD$31,$A66)","v":0},null,null,null,{"$f":"COUNTIF(PHF$3:PHH$31,$A66)","v":0},null,null,null,{"$f":"COUNTIF(PHJ$3:PHL$31,$A66)","v":0},null,null,null,{"$f":"COUNTIF(PHN$3:PHP$31,$A66)","v":0},null,null,null,{"$f":"COUNTIF(PHR$3:PHT$31,$A66)","v":0},null,null,null,{"$f":"COUNTIF(PHV$3:PHX$31,$A66)","v":0},null,null,null,{"$f":"COUNTIF(PHZ$3:PIB$31,$A66)","v":0},null,null,null,{"$f":"COUNTIF(PID$3:PIF$31,$A66)","v":0},null,null,null,{"$f":"COUNTIF(PIH$3:PIJ$31,$A66)","v":0},null,null,null,{"$f":"COUNTIF(PIL$3:PIN$31,$A66)","v":0},null,null,null,{"$f":"COUNTIF(PIP$3:PIR$31,$A66)","v":0},null,null,null,{"$f":"COUNTIF(PIT$3:PIV$31,$A66)","v":0},null,null,null,{"$f":"COUNTIF(PIX$3:PIZ$31,$A66)","v":0},null,null,null,{"$f":"COUNTIF(PJB$3:PJD$31,$A66)","v":0},null,null,null,{"$f":"COUNTIF(PJF$3:PJH$31,$A66)","v":0},null,null,null,{"$f":"COUNTIF(PJJ$3:PJL$31,$A66)","v":0},null,null,null,{"$f":"COUNTIF(PJN$3:PJP$31,$A66)","v":0},null,null,null,{"$f":"COUNTIF(PJR$3:PJT$31,$A66)","v":0},null,null,null,{"$f":"COUNTIF(PJV$3:PJX$31,$A66)","v":0},null,null,null,{"$f":"COUNTIF(PJZ$3:PKB$31,$A66)","v":0},null,null,null,{"$f":"COUNTIF(PKD$3:PKF$31,$A66)","v":0},null,null,null,{"$f":"COUNTIF(PKH$3:PKJ$31,$A66)","v":0},null,null,null,{"$f":"COUNTIF(PKL$3:PKN$31,$A66)","v":0},null,null,null,{"$f":"COUNTIF(PKP$3:PKR$31,$A66)","v":0},null,null,null,{"$f":"COUNTIF(PKT$3:PKV$31,$A66)","v":0},null,null,null,{"$f":"COUNTIF(PKX$3:PKZ$31,$A66)","v":0},null,null,null,{"$f":"COUNTIF(PLB$3:PLD$31,$A66)","v":0},null,null,null,{"$f":"COUNTIF(PLF$3:PLH$31,$A66)","v":0},null,null,null,{"$f":"COUNTIF(PLJ$3:PLL$31,$A66)","v":0},null,null,null,{"$f":"COUNTIF(PLN$3:PLP$31,$A66)","v":0},null,null,null,{"$f":"COUNTIF(PLR$3:PLT$31,$A66)","v":0},null,null,null,{"$f":"COUNTIF(PLV$3:PLX$31,$A66)","v":0},null,null,null,{"$f":"COUNTIF(PLZ$3:PMB$31,$A66)","v":0},null,null,null,{"$f":"COUNTIF(PMD$3:PMF$31,$A66)","v":0},null,null,null,{"$f":"COUNTIF(PMH$3:PMJ$31,$A66)","v":0},null,null,null,{"$f":"COUNTIF(PML$3:PMN$31,$A66)","v":0},null,null,null,{"$f":"COUNTIF(PMP$3:PMR$31,$A66)","v":0},null,null,null,{"$f":"COUNTIF(PMT$3:PMV$31,$A66)","v":0},null,null,null,{"$f":"COUNTIF(PMX$3:PMZ$31,$A66)","v":0},null,null,null,{"$f":"COUNTIF(PNB$3:PND$31,$A66)","v":0},null,null,null,{"$f":"COUNTIF(PNF$3:PNH$31,$A66)","v":0},null,null,null,{"$f":"COUNTIF(PNJ$3:PNL$31,$A66)","v":0},null,null,null,{"$f":"COUNTIF(PNN$3:PNP$31,$A66)","v":0},null,null,null,{"$f":"COUNTIF(PNR$3:PNT$31,$A66)","v":0},null,null,null,{"$f":"COUNTIF(PNV$3:PNX$31,$A66)","v":0},null,null,null,{"$f":"COUNTIF(PNZ$3:POB$31,$A66)","v":0},null,null,null,{"$f":"COUNTIF(POD$3:POF$31,$A66)","v":0},null,null,null,{"$f":"COUNTIF(POH$3:POJ$31,$A66)","v":0},null,null,null,{"$f":"COUNTIF(POL$3:PON$31,$A66)","v":0},null,null,null,{"$f":"COUNTIF(POP$3:POR$31,$A66)","v":0},null,null,null,{"$f":"COUNTIF(POT$3:POV$31,$A66)","v":0},null,null,null,{"$f":"COUNTIF(POX$3:POZ$31,$A66)","v":0},null,null,null,{"$f":"COUNTIF(PPB$3:PPD$31,$A66)","v":0},null,null,null,{"$f":"COUNTIF(PPF$3:PPH$31,$A66)","v":0},null,null,null,{"$f":"COUNTIF(PPJ$3:PPL$31,$A66)","v":0},null,null,null,{"$f":"COUNTIF(PPN$3:PPP$31,$A66)","v":0},null,null,null,{"$f":"COUNTIF(PPR$3:PPT$31,$A66)","v":0},null,null,null,{"$f":"COUNTIF(PPV$3:PPX$31,$A66)","v":0},null,null,null,{"$f":"COUNTIF(PPZ$3:PQB$31,$A66)","v":0},null,null,null,{"$f":"COUNTIF(PQD$3:PQF$31,$A66)","v":0},null,null,null,{"$f":"COUNTIF(PQH$3:PQJ$31,$A66)","v":0},null,null,null,{"$f":"COUNTIF(PQL$3:PQN$31,$A66)","v":0},null,null,null,{"$f":"COUNTIF(PQP$3:PQR$31,$A66)","v":0},null,null,null,{"$f":"COUNTIF(PQT$3:PQV$31,$A66)","v":0},null,null,null,{"$f":"COUNTIF(PQX$3:PQZ$31,$A66)","v":0},null,null,null,{"$f":"COUNTIF(PRB$3:PRD$31,$A66)","v":0},null,null,null,{"$f":"COUNTIF(PRF$3:PRH$31,$A66)","v":0},null,null,null,{"$f":"COUNTIF(PRJ$3:PRL$31,$A66)","v":0},null,null,null,{"$f":"COUNTIF(PRN$3:PRP$31,$A66)","v":0},null,null,null,{"$f":"COUNTIF(PRR$3:PRT$31,$A66)","v":0},null,null,null,{"$f":"COUNTIF(PRV$3:PRX$31,$A66)","v":0},null,null,null,{"$f":"COUNTIF(PRZ$3:PSB$31,$A66)","v":0},null,null,null,{"$f":"COUNTIF(PSD$3:PSF$31,$A66)","v":0},null,null,null,{"$f":"COUNTIF(PSH$3:PSJ$31,$A66)","v":0},null,null,null,{"$f":"COUNTIF(PSL$3:PSN$31,$A66)","v":0},null,null,null,{"$f":"COUNTIF(PSP$3:PSR$31,$A66)","v":0},null,null,null,{"$f":"COUNTIF(PST$3:PSV$31,$A66)","v":0},null,null,null,{"$f":"COUNTIF(PSX$3:PSZ$31,$A66)","v":0},null,null,null,{"$f":"COUNTIF(PTB$3:PTD$31,$A66)","v":0},null,null,null,{"$f":"COUNTIF(PTF$3:PTH$31,$A66)","v":0},null,null,null,{"$f":"COUNTIF(PTJ$3:PTL$31,$A66)","v":0},null,null,null,{"$f":"COUNTIF(PTN$3:PTP$31,$A66)","v":0},null,null,null,{"$f":"COUNTIF(PTR$3:PTT$31,$A66)","v":0},null,null,null,{"$f":"COUNTIF(PTV$3:PTX$31,$A66)","v":0},null,null,null,{"$f":"COUNTIF(PTZ$3:PUB$31,$A66)","v":0},null,null,null,{"$f":"COUNTIF(PUD$3:PUF$31,$A66)","v":0},null,null,null,{"$f":"COUNTIF(PUH$3:PUJ$31,$A66)","v":0},null,null,null,{"$f":"COUNTIF(PUL$3:PUN$31,$A66)","v":0},null,null,null,{"$f":"COUNTIF(PUP$3:PUR$31,$A66)","v":0},null,null,null,{"$f":"COUNTIF(PUT$3:PUV$31,$A66)","v":0},null,null,null,{"$f":"COUNTIF(PUX$3:PUZ$31,$A66)","v":0},null,null,null,{"$f":"COUNTIF(PVB$3:PVD$31,$A66)","v":0},null,null,null,{"$f":"COUNTIF(PVF$3:PVH$31,$A66)","v":0},null,null,null,{"$f":"COUNTIF(PVJ$3:PVL$31,$A66)","v":0},null,null,null,{"$f":"COUNTIF(PVN$3:PVP$31,$A66)","v":0},null,null,null,{"$f":"COUNTIF(PVR$3:PVT$31,$A66)","v":0},null,null,null,{"$f":"COUNTIF(PVV$3:PVX$31,$A66)","v":0},null,null,null,{"$f":"COUNTIF(PVZ$3:PWB$31,$A66)","v":0},null,null,null,{"$f":"COUNTIF(PWD$3:PWF$31,$A66)","v":0},null,null,null,{"$f":"COUNTIF(PWH$3:PWJ$31,$A66)","v":0},null,null,null,{"$f":"COUNTIF(PWL$3:PWN$31,$A66)","v":0},null,null,null,{"$f":"COUNTIF(PWP$3:PWR$31,$A66)","v":0},null,null,null,{"$f":"COUNTIF(PWT$3:PWV$31,$A66)","v":0},null,null,null,{"$f":"COUNTIF(PWX$3:PWZ$31,$A66)","v":0},null,null,null,{"$f":"COUNTIF(PXB$3:PXD$31,$A66)","v":0},null,null,null,{"$f":"COUNTIF(PXF$3:PXH$31,$A66)","v":0},null,null,null,{"$f":"COUNTIF(PXJ$3:PXL$31,$A66)","v":0},null,null,null,{"$f":"COUNTIF(PXN$3:PXP$31,$A66)","v":0},null,null,null,{"$f":"COUNTIF(PXR$3:PXT$31,$A66)","v":0},null,null,null,{"$f":"COUNTIF(PXV$3:PXX$31,$A66)","v":0},null,null,null,{"$f":"COUNTIF(PXZ$3:PYB$31,$A66)","v":0},null,null,null,{"$f":"COUNTIF(PYD$3:PYF$31,$A66)","v":0},null,null,null,{"$f":"COUNTIF(PYH$3:PYJ$31,$A66)","v":0},null,null,null,{"$f":"COUNTIF(PYL$3:PYN$31,$A66)","v":0},null,null,null,{"$f":"COUNTIF(PYP$3:PYR$31,$A66)","v":0},null,null,null,{"$f":"COUNTIF(PYT$3:PYV$31,$A66)","v":0},null,null,null,{"$f":"COUNTIF(PYX$3:PYZ$31,$A66)","v":0},null,null,null,{"$f":"COUNTIF(PZB$3:PZD$31,$A66)","v":0},null,null,null,{"$f":"COUNTIF(PZF$3:PZH$31,$A66)","v":0},null,null,null,{"$f":"COUNTIF(PZJ$3:PZL$31,$A66)","v":0},null,null,null,{"$f":"COUNTIF(PZN$3:PZP$31,$A66)","v":0},null,null,null,{"$f":"COUNTIF(PZR$3:PZT$31,$A66)","v":0},null,null,null,{"$f":"COUNTIF(PZV$3:PZX$31,$A66)","v":0},null,null,null,{"$f":"COUNTIF(PZZ$3:QAB$31,$A66)","v":0},null,null,null,{"$f":"COUNTIF(QAD$3:QAF$31,$A66)","v":0},null,null,null,{"$f":"COUNTIF(QAH$3:QAJ$31,$A66)","v":0},null,null,null,{"$f":"COUNTIF(QAL$3:QAN$31,$A66)","v":0},null,null,null,{"$f":"COUNTIF(QAP$3:QAR$31,$A66)","v":0},null,null,null,{"$f":"COUNTIF(QAT$3:QAV$31,$A66)","v":0},null,null,null,{"$f":"COUNTIF(QAX$3:QAZ$31,$A66)","v":0},null,null,null,{"$f":"COUNTIF(QBB$3:QBD$31,$A66)","v":0},null,null,null,{"$f":"COUNTIF(QBF$3:QBH$31,$A66)","v":0},null,null,null,{"$f":"COUNTIF(QBJ$3:QBL$31,$A66)","v":0},null,null,null,{"$f":"COUNTIF(QBN$3:QBP$31,$A66)","v":0},null,null,null,{"$f":"COUNTIF(QBR$3:QBT$31,$A66)","v":0},null,null,null,{"$f":"COUNTIF(QBV$3:QBX$31,$A66)","v":0},null,null,null,{"$f":"COUNTIF(QBZ$3:QCB$31,$A66)","v":0},null,null,null,{"$f":"COUNTIF(QCD$3:QCF$31,$A66)","v":0},null,null,null,{"$f":"COUNTIF(QCH$3:QCJ$31,$A66)","v":0},null,null,null,{"$f":"COUNTIF(QCL$3:QCN$31,$A66)","v":0},null,null,null,{"$f":"COUNTIF(QCP$3:QCR$31,$A66)","v":0},null,null,null,{"$f":"COUNTIF(QCT$3:QCV$31,$A66)","v":0},null,null,null,{"$f":"COUNTIF(QCX$3:QCZ$31,$A66)","v":0},null,null,null,{"$f":"COUNTIF(QDB$3:QDD$31,$A66)","v":0},null,null,null,{"$f":"COUNTIF(QDF$3:QDH$31,$A66)","v":0},null,null,null,{"$f":"COUNTIF(QDJ$3:QDL$31,$A66)","v":0},null,null,null,{"$f":"COUNTIF(QDN$3:QDP$31,$A66)","v":0},null,null,null,{"$f":"COUNTIF(QDR$3:QDT$31,$A66)","v":0},null,null,null,{"$f":"COUNTIF(QDV$3:QDX$31,$A66)","v":0},null,null,null,{"$f":"COUNTIF(QDZ$3:QEB$31,$A66)","v":0},null,null,null,{"$f":"COUNTIF(QED$3:QEF$31,$A66)","v":0},null,null,null,{"$f":"COUNTIF(QEH$3:QEJ$31,$A66)","v":0},null,null,null,{"$f":"COUNTIF(QEL$3:QEN$31,$A66)","v":0},null,null,null,{"$f":"COUNTIF(QEP$3:QER$31,$A66)","v":0},null,null,null,{"$f":"COUNTIF(QET$3:QEV$31,$A66)","v":0},null,null,null,{"$f":"COUNTIF(QEX$3:QEZ$31,$A66)","v":0},null,null,null,{"$f":"COUNTIF(QFB$3:QFD$31,$A66)","v":0},null,null,null,{"$f":"COUNTIF(QFF$3:QFH$31,$A66)","v":0},null,null,null,{"$f":"COUNTIF(QFJ$3:QFL$31,$A66)","v":0},null,null,null,{"$f":"COUNTIF(QFN$3:QFP$31,$A66)","v":0},null,null,null,{"$f":"COUNTIF(QFR$3:QFT$31,$A66)","v":0},null,null,null,{"$f":"COUNTIF(QFV$3:QFX$31,$A66)","v":0},null,null,null,{"$f":"COUNTIF(QFZ$3:QGB$31,$A66)","v":0},null,null,null,{"$f":"COUNTIF(QGD$3:QGF$31,$A66)","v":0},null,null,null,{"$f":"COUNTIF(QGH$3:QGJ$31,$A66)","v":0},null,null,null,{"$f":"COUNTIF(QGL$3:QGN$31,$A66)","v":0},null,null,null,{"$f":"COUNTIF(QGP$3:QGR$31,$A66)","v":0},null,null,null,{"$f":"COUNTIF(QGT$3:QGV$31,$A66)","v":0},null,null,null,{"$f":"COUNTIF(QGX$3:QGZ$31,$A66)","v":0},null,null,null,{"$f":"COUNTIF(QHB$3:QHD$31,$A66)","v":0},null,null,null,{"$f":"COUNTIF(QHF$3:QHH$31,$A66)","v":0},null,null,null,{"$f":"COUNTIF(QHJ$3:QHL$31,$A66)","v":0},null,null,null,{"$f":"COUNTIF(QHN$3:QHP$31,$A66)","v":0},null,null,null,{"$f":"COUNTIF(QHR$3:QHT$31,$A66)","v":0},null,null,null,{"$f":"COUNTIF(QHV$3:QHX$31,$A66)","v":0},null,null,null,{"$f":"COUNTIF(QHZ$3:QIB$31,$A66)","v":0},null,null,null,{"$f":"COUNTIF(QID$3:QIF$31,$A66)","v":0},null,null,null,{"$f":"COUNTIF(QIH$3:QIJ$31,$A66)","v":0},null,null,null,{"$f":"COUNTIF(QIL$3:QIN$31,$A66)","v":0},null,null,null,{"$f":"COUNTIF(QIP$3:QIR$31,$A66)","v":0},null,null,null,{"$f":"COUNTIF(QIT$3:QIV$31,$A66)","v":0},null,null,null,{"$f":"COUNTIF(QIX$3:QIZ$31,$A66)","v":0},null,null,null,{"$f":"COUNTIF(QJB$3:QJD$31,$A66)","v":0},null,null,null,{"$f":"COUNTIF(QJF$3:QJH$31,$A66)","v":0},null,null,null,{"$f":"COUNTIF(QJJ$3:QJL$31,$A66)","v":0},null,null,null,{"$f":"COUNTIF(QJN$3:QJP$31,$A66)","v":0},null,null,null,{"$f":"COUNTIF(QJR$3:QJT$31,$A66)","v":0},null,null,null,{"$f":"COUNTIF(QJV$3:QJX$31,$A66)","v":0},null,null,null,{"$f":"COUNTIF(QJZ$3:QKB$31,$A66)","v":0},null,null,null,{"$f":"COUNTIF(QKD$3:QKF$31,$A66)","v":0},null,null,null,{"$f":"COUNTIF(QKH$3:QKJ$31,$A66)","v":0},null,null,null,{"$f":"COUNTIF(QKL$3:QKN$31,$A66)","v":0},null,null,null,{"$f":"COUNTIF(QKP$3:QKR$31,$A66)","v":0},null,null,null,{"$f":"COUNTIF(QKT$3:QKV$31,$A66)","v":0},null,null,null,{"$f":"COUNTIF(QKX$3:QKZ$31,$A66)","v":0},null,null,null,{"$f":"COUNTIF(QLB$3:QLD$31,$A66)","v":0},null,null,null,{"$f":"COUNTIF(QLF$3:QLH$31,$A66)","v":0},null,null,null,{"$f":"COUNTIF(QLJ$3:QLL$31,$A66)","v":0},null,null,null,{"$f":"COUNTIF(QLN$3:QLP$31,$A66)","v":0},null,null,null,{"$f":"COUNTIF(QLR$3:QLT$31,$A66)","v":0},null,null,null,{"$f":"COUNTIF(QLV$3:QLX$31,$A66)","v":0},null,null,null,{"$f":"COUNTIF(QLZ$3:QMB$31,$A66)","v":0},null,null,null,{"$f":"COUNTIF(QMD$3:QMF$31,$A66)","v":0},null,null,null,{"$f":"COUNTIF(QMH$3:QMJ$31,$A66)","v":0},null,null,null,{"$f":"COUNTIF(QML$3:QMN$31,$A66)","v":0},null,null,null,{"$f":"COUNTIF(QMP$3:QMR$31,$A66)","v":0},null,null,null,{"$f":"COUNTIF(QMT$3:QMV$31,$A66)","v":0},null,null,null,{"$f":"COUNTIF(QMX$3:QMZ$31,$A66)","v":0},null,null,null,{"$f":"COUNTIF(QNB$3:QND$31,$A66)","v":0},null,null,null,{"$f":"COUNTIF(QNF$3:QNH$31,$A66)","v":0},null,null,null,{"$f":"COUNTIF(QNJ$3:QNL$31,$A66)","v":0},null,null,null,{"$f":"COUNTIF(QNN$3:QNP$31,$A66)","v":0},null,null,null,{"$f":"COUNTIF(QNR$3:QNT$31,$A66)","v":0},null,null,null,{"$f":"COUNTIF(QNV$3:QNX$31,$A66)","v":0},null,null,null,{"$f":"COUNTIF(QNZ$3:QOB$31,$A66)","v":0},null,null,null,{"$f":"COUNTIF(QOD$3:QOF$31,$A66)","v":0},null,null,null,{"$f":"COUNTIF(QOH$3:QOJ$31,$A66)","v":0},null,null,null,{"$f":"COUNTIF(QOL$3:QON$31,$A66)","v":0},null,null,null,{"$f":"COUNTIF(QOP$3:QOR$31,$A66)","v":0},null,null,null,{"$f":"COUNTIF(QOT$3:QOV$31,$A66)","v":0},null,null,null,{"$f":"COUNTIF(QOX$3:QOZ$31,$A66)","v":0},null,null,null,{"$f":"COUNTIF(QPB$3:QPD$31,$A66)","v":0},null,null,null,{"$f":"COUNTIF(QPF$3:QPH$31,$A66)","v":0},null,null,null,{"$f":"COUNTIF(QPJ$3:QPL$31,$A66)","v":0},null,null,null,{"$f":"COUNTIF(QPN$3:QPP$31,$A66)","v":0},null,null,null,{"$f":"COUNTIF(QPR$3:QPT$31,$A66)","v":0},null,null,null,{"$f":"COUNTIF(QPV$3:QPX$31,$A66)","v":0},null,null,null,{"$f":"COUNTIF(QPZ$3:QQB$31,$A66)","v":0},null,null,null,{"$f":"COUNTIF(QQD$3:QQF$31,$A66)","v":0},null,null,null,{"$f":"COUNTIF(QQH$3:QQJ$31,$A66)","v":0},null,null,null,{"$f":"COUNTIF(QQL$3:QQN$31,$A66)","v":0},null,null,null,{"$f":"COUNTIF(QQP$3:QQR$31,$A66)","v":0},null,null,null,{"$f":"COUNTIF(QQT$3:QQV$31,$A66)","v":0},null,null,null,{"$f":"COUNTIF(QQX$3:QQZ$31,$A66)","v":0},null,null,null,{"$f":"COUNTIF(QRB$3:QRD$31,$A66)","v":0},null,null,null,{"$f":"COUNTIF(QRF$3:QRH$31,$A66)","v":0},null,null,null,{"$f":"COUNTIF(QRJ$3:QRL$31,$A66)","v":0},null,null,null,{"$f":"COUNTIF(QRN$3:QRP$31,$A66)","v":0},null,null,null,{"$f":"COUNTIF(QRR$3:QRT$31,$A66)","v":0},null,null,null,{"$f":"COUNTIF(QRV$3:QRX$31,$A66)","v":0},null,null,null,{"$f":"COUNTIF(QRZ$3:QSB$31,$A66)","v":0},null,null,null,{"$f":"COUNTIF(QSD$3:QSF$31,$A66)","v":0},null,null,null,{"$f":"COUNTIF(QSH$3:QSJ$31,$A66)","v":0},null,null,null,{"$f":"COUNTIF(QSL$3:QSN$31,$A66)","v":0},null,null,null,{"$f":"COUNTIF(QSP$3:QSR$31,$A66)","v":0},null,null,null,{"$f":"COUNTIF(QST$3:QSV$31,$A66)","v":0},null,null,null,{"$f":"COUNTIF(QSX$3:QSZ$31,$A66)","v":0},null,null,null,{"$f":"COUNTIF(QTB$3:QTD$31,$A66)","v":0},null,null,null,{"$f":"COUNTIF(QTF$3:QTH$31,$A66)","v":0},null,null,null,{"$f":"COUNTIF(QTJ$3:QTL$31,$A66)","v":0},null,null,null,{"$f":"COUNTIF(QTN$3:QTP$31,$A66)","v":0},null,null,null,{"$f":"COUNTIF(QTR$3:QTT$31,$A66)","v":0},null,null,null,{"$f":"COUNTIF(QTV$3:QTX$31,$A66)","v":0},null,null,null,{"$f":"COUNTIF(QTZ$3:QUB$31,$A66)","v":0},null,null,null,{"$f":"COUNTIF(QUD$3:QUF$31,$A66)","v":0},null,null,null,{"$f":"COUNTIF(QUH$3:QUJ$31,$A66)","v":0},null,null,null,{"$f":"COUNTIF(QUL$3:QUN$31,$A66)","v":0},null,null,null,{"$f":"COUNTIF(QUP$3:QUR$31,$A66)","v":0},null,null,null,{"$f":"COUNTIF(QUT$3:QUV$31,$A66)","v":0},null,null,null,{"$f":"COUNTIF(QUX$3:QUZ$31,$A66)","v":0},null,null,null,{"$f":"COUNTIF(QVB$3:QVD$31,$A66)","v":0},null,null,null,{"$f":"COUNTIF(QVF$3:QVH$31,$A66)","v":0},null,null,null,{"$f":"COUNTIF(QVJ$3:QVL$31,$A66)","v":0},null,null,null,{"$f":"COUNTIF(QVN$3:QVP$31,$A66)","v":0},null,null,null,{"$f":"COUNTIF(QVR$3:QVT$31,$A66)","v":0},null,null,null,{"$f":"COUNTIF(QVV$3:QVX$31,$A66)","v":0},null,null,null,{"$f":"COUNTIF(QVZ$3:QWB$31,$A66)","v":0},null,null,null,{"$f":"COUNTIF(QWD$3:QWF$31,$A66)","v":0},null,null,null,{"$f":"COUNTIF(QWH$3:QWJ$31,$A66)","v":0},null,null,null,{"$f":"COUNTIF(QWL$3:QWN$31,$A66)","v":0},null,null,null,{"$f":"COUNTIF(QWP$3:QWR$31,$A66)","v":0},null,null,null,{"$f":"COUNTIF(QWT$3:QWV$31,$A66)","v":0},null,null,null,{"$f":"COUNTIF(QWX$3:QWZ$31,$A66)","v":0},null,null,null,{"$f":"COUNTIF(QXB$3:QXD$31,$A66)","v":0},null,null,null,{"$f":"COUNTIF(QXF$3:QXH$31,$A66)","v":0},null,null,null,{"$f":"COUNTIF(QXJ$3:QXL$31,$A66)","v":0},null,null,null,{"$f":"COUNTIF(QXN$3:QXP$31,$A66)","v":0},null,null,null,{"$f":"COUNTIF(QXR$3:QXT$31,$A66)","v":0},null,null,null,{"$f":"COUNTIF(QXV$3:QXX$31,$A66)","v":0},null,null,null,{"$f":"COUNTIF(QXZ$3:QYB$31,$A66)","v":0},null,null,null,{"$f":"COUNTIF(QYD$3:QYF$31,$A66)","v":0},null,null,null,{"$f":"COUNTIF(QYH$3:QYJ$31,$A66)","v":0},null,null,null,{"$f":"COUNTIF(QYL$3:QYN$31,$A66)","v":0},null,null,null,{"$f":"COUNTIF(QYP$3:QYR$31,$A66)","v":0},null,null,null,{"$f":"COUNTIF(QYT$3:QYV$31,$A66)","v":0},null,null,null,{"$f":"COUNTIF(QYX$3:QYZ$31,$A66)","v":0},null,null,null,{"$f":"COUNTIF(QZB$3:QZD$31,$A66)","v":0},null,null,null,{"$f":"COUNTIF(QZF$3:QZH$31,$A66)","v":0},null,null,null,{"$f":"COUNTIF(QZJ$3:QZL$31,$A66)","v":0},null,null,null,{"$f":"COUNTIF(QZN$3:QZP$31,$A66)","v":0},null,null,null,{"$f":"COUNTIF(QZR$3:QZT$31,$A66)","v":0},null,null,null,{"$f":"COUNTIF(QZV$3:QZX$31,$A66)","v":0},null,null,null,{"$f":"COUNTIF(QZZ$3:RAB$31,$A66)","v":0},null,null,null,{"$f":"COUNTIF(RAD$3:RAF$31,$A66)","v":0},null,null,null,{"$f":"COUNTIF(RAH$3:RAJ$31,$A66)","v":0},null,null,null,{"$f":"COUNTIF(RAL$3:RAN$31,$A66)","v":0},null,null,null,{"$f":"COUNTIF(RAP$3:RAR$31,$A66)","v":0},null,null,null,{"$f":"COUNTIF(RAT$3:RAV$31,$A66)","v":0},null,null,null,{"$f":"COUNTIF(RAX$3:RAZ$31,$A66)","v":0},null,null,null,{"$f":"COUNTIF(RBB$3:RBD$31,$A66)","v":0},null,null,null,{"$f":"COUNTIF(RBF$3:RBH$31,$A66)","v":0},null,null,null,{"$f":"COUNTIF(RBJ$3:RBL$31,$A66)","v":0},null,null,null,{"$f":"COUNTIF(RBN$3:RBP$31,$A66)","v":0},null,null,null,{"$f":"COUNTIF(RBR$3:RBT$31,$A66)","v":0},null,null,null,{"$f":"COUNTIF(RBV$3:RBX$31,$A66)","v":0},null,null,null,{"$f":"COUNTIF(RBZ$3:RCB$31,$A66)","v":0},null,null,null,{"$f":"COUNTIF(RCD$3:RCF$31,$A66)","v":0},null,null,null,{"$f":"COUNTIF(RCH$3:RCJ$31,$A66)","v":0},null,null,null,{"$f":"COUNTIF(RCL$3:RCN$31,$A66)","v":0},null,null,null,{"$f":"COUNTIF(RCP$3:RCR$31,$A66)","v":0},null,null,null,{"$f":"COUNTIF(RCT$3:RCV$31,$A66)","v":0},null,null,null,{"$f":"COUNTIF(RCX$3:RCZ$31,$A66)","v":0},null,null,null,{"$f":"COUNTIF(RDB$3:RDD$31,$A66)","v":0},null,null,null,{"$f":"COUNTIF(RDF$3:RDH$31,$A66)","v":0},null,null,null,{"$f":"COUNTIF(RDJ$3:RDL$31,$A66)","v":0},null,null,null,{"$f":"COUNTIF(RDN$3:RDP$31,$A66)","v":0},null,null,null,{"$f":"COUNTIF(RDR$3:RDT$31,$A66)","v":0},null,null,null,{"$f":"COUNTIF(RDV$3:RDX$31,$A66)","v":0},null,null,null,{"$f":"COUNTIF(RDZ$3:REB$31,$A66)","v":0},null,null,null,{"$f":"COUNTIF(RED$3:REF$31,$A66)","v":0},null,null,null,{"$f":"COUNTIF(REH$3:REJ$31,$A66)","v":0},null,null,null,{"$f":"COUNTIF(REL$3:REN$31,$A66)","v":0},null,null,null,{"$f":"COUNTIF(REP$3:RER$31,$A66)","v":0},null,null,null,{"$f":"COUNTIF(RET$3:REV$31,$A66)","v":0},null,null,null,{"$f":"COUNTIF(REX$3:REZ$31,$A66)","v":0},null,null,null,{"$f":"COUNTIF(RFB$3:RFD$31,$A66)","v":0},null,null,null,{"$f":"COUNTIF(RFF$3:RFH$31,$A66)","v":0},null,null,null,{"$f":"COUNTIF(RFJ$3:RFL$31,$A66)","v":0},null,null,null,{"$f":"COUNTIF(RFN$3:RFP$31,$A66)","v":0},null,null,null,{"$f":"COUNTIF(RFR$3:RFT$31,$A66)","v":0},null,null,null,{"$f":"COUNTIF(RFV$3:RFX$31,$A66)","v":0},null,null,null,{"$f":"COUNTIF(RFZ$3:RGB$31,$A66)","v":0},null,null,null,{"$f":"COUNTIF(RGD$3:RGF$31,$A66)","v":0},null,null,null,{"$f":"COUNTIF(RGH$3:RGJ$31,$A66)","v":0},null,null,null,{"$f":"COUNTIF(RGL$3:RGN$31,$A66)","v":0},null,null,null,{"$f":"COUNTIF(RGP$3:RGR$31,$A66)","v":0},null,null,null,{"$f":"COUNTIF(RGT$3:RGV$31,$A66)","v":0},null,null,null,{"$f":"COUNTIF(RGX$3:RGZ$31,$A66)","v":0},null,null,null,{"$f":"COUNTIF(RHB$3:RHD$31,$A66)","v":0},null,null,null,{"$f":"COUNTIF(RHF$3:RHH$31,$A66)","v":0},null,null,null,{"$f":"COUNTIF(RHJ$3:RHL$31,$A66)","v":0},null,null,null,{"$f":"COUNTIF(RHN$3:RHP$31,$A66)","v":0},null,null,null,{"$f":"COUNTIF(RHR$3:RHT$31,$A66)","v":0},null,null,null,{"$f":"COUNTIF(RHV$3:RHX$31,$A66)","v":0},null,null,null,{"$f":"COUNTIF(RHZ$3:RIB$31,$A66)","v":0},null,null,null,{"$f":"COUNTIF(RID$3:RIF$31,$A66)","v":0},null,null,null,{"$f":"COUNTIF(RIH$3:RIJ$31,$A66)","v":0},null,null,null,{"$f":"COUNTIF(RIL$3:RIN$31,$A66)","v":0},null,null,null,{"$f":"COUNTIF(RIP$3:RIR$31,$A66)","v":0},null,null,null,{"$f":"COUNTIF(RIT$3:RIV$31,$A66)","v":0},null,null,null,{"$f":"COUNTIF(RIX$3:RIZ$31,$A66)","v":0},null,null,null,{"$f":"COUNTIF(RJB$3:RJD$31,$A66)","v":0},null,null,null,{"$f":"COUNTIF(RJF$3:RJH$31,$A66)","v":0},null,null,null,{"$f":"COUNTIF(RJJ$3:RJL$31,$A66)","v":0},null,null,null,{"$f":"COUNTIF(RJN$3:RJP$31,$A66)","v":0},null,null,null,{"$f":"COUNTIF(RJR$3:RJT$31,$A66)","v":0},null,null,null,{"$f":"COUNTIF(RJV$3:RJX$31,$A66)","v":0},null,null,null,{"$f":"COUNTIF(RJZ$3:RKB$31,$A66)","v":0},null,null,null,{"$f":"COUNTIF(RKD$3:RKF$31,$A66)","v":0},null,null,null,{"$f":"COUNTIF(RKH$3:RKJ$31,$A66)","v":0},null,null,null,{"$f":"COUNTIF(RKL$3:RKN$31,$A66)","v":0},null,null,null,{"$f":"COUNTIF(RKP$3:RKR$31,$A66)","v":0},null,null,null,{"$f":"COUNTIF(RKT$3:RKV$31,$A66)","v":0},null,null,null,{"$f":"COUNTIF(RKX$3:RKZ$31,$A66)","v":0},null,null,null,{"$f":"COUNTIF(RLB$3:RLD$31,$A66)","v":0},null,null,null,{"$f":"COUNTIF(RLF$3:RLH$31,$A66)","v":0},null,null,null,{"$f":"COUNTIF(RLJ$3:RLL$31,$A66)","v":0},null,null,null,{"$f":"COUNTIF(RLN$3:RLP$31,$A66)","v":0},null,null,null,{"$f":"COUNTIF(RLR$3:RLT$31,$A66)","v":0},null,null,null,{"$f":"COUNTIF(RLV$3:RLX$31,$A66)","v":0},null,null,null,{"$f":"COUNTIF(RLZ$3:RMB$31,$A66)","v":0},null,null,null,{"$f":"COUNTIF(RMD$3:RMF$31,$A66)","v":0},null,null,null,{"$f":"COUNTIF(RMH$3:RMJ$31,$A66)","v":0},null,null,null,{"$f":"COUNTIF(RML$3:RMN$31,$A66)","v":0},null,null,null,{"$f":"COUNTIF(RMP$3:RMR$31,$A66)","v":0},null,null,null,{"$f":"COUNTIF(RMT$3:RMV$31,$A66)","v":0},null,null,null,{"$f":"COUNTIF(RMX$3:RMZ$31,$A66)","v":0},null,null,null,{"$f":"COUNTIF(RNB$3:RND$31,$A66)","v":0},null,null,null,{"$f":"COUNTIF(RNF$3:RNH$31,$A66)","v":0},null,null,null,{"$f":"COUNTIF(RNJ$3:RNL$31,$A66)","v":0},null,null,null,{"$f":"COUNTIF(RNN$3:RNP$31,$A66)","v":0},null,null,null,{"$f":"COUNTIF(RNR$3:RNT$31,$A66)","v":0},null,null,null,{"$f":"COUNTIF(RNV$3:RNX$31,$A66)","v":0},null,null,null,{"$f":"COUNTIF(RNZ$3:ROB$31,$A66)","v":0},null,null,null,{"$f":"COUNTIF(ROD$3:ROF$31,$A66)","v":0},null,null,null,{"$f":"COUNTIF(ROH$3:ROJ$31,$A66)","v":0},null,null,null,{"$f":"COUNTIF(ROL$3:RON$31,$A66)","v":0},null,null,null,{"$f":"COUNTIF(ROP$3:ROR$31,$A66)","v":0},null,null,null,{"$f":"COUNTIF(ROT$3:ROV$31,$A66)","v":0},null,null,null,{"$f":"COUNTIF(ROX$3:ROZ$31,$A66)","v":0},null,null,null,{"$f":"COUNTIF(RPB$3:RPD$31,$A66)","v":0},null,null,null,{"$f":"COUNTIF(RPF$3:RPH$31,$A66)","v":0},null,null,null,{"$f":"COUNTIF(RPJ$3:RPL$31,$A66)","v":0},null,null,null,{"$f":"COUNTIF(RPN$3:RPP$31,$A66)","v":0},null,null,null,{"$f":"COUNTIF(RPR$3:RPT$31,$A66)","v":0},null,null,null,{"$f":"COUNTIF(RPV$3:RPX$31,$A66)","v":0},null,null,null,{"$f":"COUNTIF(RPZ$3:RQB$31,$A66)","v":0},null,null,null,{"$f":"COUNTIF(RQD$3:RQF$31,$A66)","v":0},null,null,null,{"$f":"COUNTIF(RQH$3:RQJ$31,$A66)","v":0},null,null,null,{"$f":"COUNTIF(RQL$3:RQN$31,$A66)","v":0},null,null,null,{"$f":"COUNTIF(RQP$3:RQR$31,$A66)","v":0},null,null,null,{"$f":"COUNTIF(RQT$3:RQV$31,$A66)","v":0},null,null,null,{"$f":"COUNTIF(RQX$3:RQZ$31,$A66)","v":0},null,null,null,{"$f":"COUNTIF(RRB$3:RRD$31,$A66)","v":0},null,null,null,{"$f":"COUNTIF(RRF$3:RRH$31,$A66)","v":0},null,null,null,{"$f":"COUNTIF(RRJ$3:RRL$31,$A66)","v":0},null,null,null,{"$f":"COUNTIF(RRN$3:RRP$31,$A66)","v":0},null,null,null,{"$f":"COUNTIF(RRR$3:RRT$31,$A66)","v":0},null,null,null,{"$f":"COUNTIF(RRV$3:RRX$31,$A66)","v":0},null,null,null,{"$f":"COUNTIF(RRZ$3:RSB$31,$A66)","v":0},null,null,null,{"$f":"COUNTIF(RSD$3:RSF$31,$A66)","v":0},null,null,null,{"$f":"COUNTIF(RSH$3:RSJ$31,$A66)","v":0},null,null,null,{"$f":"COUNTIF(RSL$3:RSN$31,$A66)","v":0},null,null,null,{"$f":"COUNTIF(RSP$3:RSR$31,$A66)","v":0},null,null,null,{"$f":"COUNTIF(RST$3:RSV$31,$A66)","v":0},null,null,null,{"$f":"COUNTIF(RSX$3:RSZ$31,$A66)","v":0},null,null,null,{"$f":"COUNTIF(RTB$3:RTD$31,$A66)","v":0},null,null,null,{"$f":"COUNTIF(RTF$3:RTH$31,$A66)","v":0},null,null,null,{"$f":"COUNTIF(RTJ$3:RTL$31,$A66)","v":0},null,null,null,{"$f":"COUNTIF(RTN$3:RTP$31,$A66)","v":0},null,null,null,{"$f":"COUNTIF(RTR$3:RTT$31,$A66)","v":0},null,null,null,{"$f":"COUNTIF(RTV$3:RTX$31,$A66)","v":0},null,null,null,{"$f":"COUNTIF(RTZ$3:RUB$31,$A66)","v":0},null,null,null,{"$f":"COUNTIF(RUD$3:RUF$31,$A66)","v":0},null,null,null,{"$f":"COUNTIF(RUH$3:RUJ$31,$A66)","v":0},null,null,null,{"$f":"COUNTIF(RUL$3:RUN$31,$A66)","v":0},null,null,null,{"$f":"COUNTIF(RUP$3:RUR$31,$A66)","v":0},null,null,null,{"$f":"COUNTIF(RUT$3:RUV$31,$A66)","v":0},null,null,null,{"$f":"COUNTIF(RUX$3:RUZ$31,$A66)","v":0},null,null,null,{"$f":"COUNTIF(RVB$3:RVD$31,$A66)","v":0},null,null,null,{"$f":"COUNTIF(RVF$3:RVH$31,$A66)","v":0},null,null,null,{"$f":"COUNTIF(RVJ$3:RVL$31,$A66)","v":0},null,null,null,{"$f":"COUNTIF(RVN$3:RVP$31,$A66)","v":0},null,null,null,{"$f":"COUNTIF(RVR$3:RVT$31,$A66)","v":0},null,null,null,{"$f":"COUNTIF(RVV$3:RVX$31,$A66)","v":0},null,null,null,{"$f":"COUNTIF(RVZ$3:RWB$31,$A66)","v":0},null,null,null,{"$f":"COUNTIF(RWD$3:RWF$31,$A66)","v":0},null,null,null,{"$f":"COUNTIF(RWH$3:RWJ$31,$A66)","v":0},null,null,null,{"$f":"COUNTIF(RWL$3:RWN$31,$A66)","v":0},null,null,null,{"$f":"COUNTIF(RWP$3:RWR$31,$A66)","v":0},null,null,null,{"$f":"COUNTIF(RWT$3:RWV$31,$A66)","v":0},null,null,null,{"$f":"COUNTIF(RWX$3:RWZ$31,$A66)","v":0},null,null,null,{"$f":"COUNTIF(RXB$3:RXD$31,$A66)","v":0},null,null,null,{"$f":"COUNTIF(RXF$3:RXH$31,$A66)","v":0},null,null,null,{"$f":"COUNTIF(RXJ$3:RXL$31,$A66)","v":0},null,null,null,{"$f":"COUNTIF(RXN$3:RXP$31,$A66)","v":0},null,null,null,{"$f":"COUNTIF(RXR$3:RXT$31,$A66)","v":0},null,null,null,{"$f":"COUNTIF(RXV$3:RXX$31,$A66)","v":0},null,null,null,{"$f":"COUNTIF(RXZ$3:RYB$31,$A66)","v":0},null,null,null,{"$f":"COUNTIF(RYD$3:RYF$31,$A66)","v":0},null,null,null,{"$f":"COUNTIF(RYH$3:RYJ$31,$A66)","v":0},null,null,null,{"$f":"COUNTIF(RYL$3:RYN$31,$A66)","v":0},null,null,null,{"$f":"COUNTIF(RYP$3:RYR$31,$A66)","v":0},null,null,null,{"$f":"COUNTIF(RYT$3:RYV$31,$A66)","v":0},null,null,null,{"$f":"COUNTIF(RYX$3:RYZ$31,$A66)","v":0},null,null,null,{"$f":"COUNTIF(RZB$3:RZD$31,$A66)","v":0},null,null,null,{"$f":"COUNTIF(RZF$3:RZH$31,$A66)","v":0},null,null,null,{"$f":"COUNTIF(RZJ$3:RZL$31,$A66)","v":0},null,null,null,{"$f":"COUNTIF(RZN$3:RZP$31,$A66)","v":0},null,null,null,{"$f":"COUNTIF(RZR$3:RZT$31,$A66)","v":0},null,null,null,{"$f":"COUNTIF(RZV$3:RZX$31,$A66)","v":0},null,null,null,{"$f":"COUNTIF(RZZ$3:SAB$31,$A66)","v":0},null,null,null,{"$f":"COUNTIF(SAD$3:SAF$31,$A66)","v":0},null,null,null,{"$f":"COUNTIF(SAH$3:SAJ$31,$A66)","v":0},null,null,null,{"$f":"COUNTIF(SAL$3:SAN$31,$A66)","v":0},null,null,null,{"$f":"COUNTIF(SAP$3:SAR$31,$A66)","v":0},null,null,null,{"$f":"COUNTIF(SAT$3:SAV$31,$A66)","v":0},null,null,null,{"$f":"COUNTIF(SAX$3:SAZ$31,$A66)","v":0},null,null,null,{"$f":"COUNTIF(SBB$3:SBD$31,$A66)","v":0},null,null,null,{"$f":"COUNTIF(SBF$3:SBH$31,$A66)","v":0},null,null,null,{"$f":"COUNTIF(SBJ$3:SBL$31,$A66)","v":0},null,null,null,{"$f":"COUNTIF(SBN$3:SBP$31,$A66)","v":0},null,null,null,{"$f":"COUNTIF(SBR$3:SBT$31,$A66)","v":0},null,null,null,{"$f":"COUNTIF(SBV$3:SBX$31,$A66)","v":0},null,null,null,{"$f":"COUNTIF(SBZ$3:SCB$31,$A66)","v":0},null,null,null,{"$f":"COUNTIF(SCD$3:SCF$31,$A66)","v":0},null,null,null,{"$f":"COUNTIF(SCH$3:SCJ$31,$A66)","v":0},null,null,null,{"$f":"COUNTIF(SCL$3:SCN$31,$A66)","v":0},null,null,null,{"$f":"COUNTIF(SCP$3:SCR$31,$A66)","v":0},null,null,null,{"$f":"COUNTIF(SCT$3:SCV$31,$A66)","v":0},null,null,null,{"$f":"COUNTIF(SCX$3:SCZ$31,$A66)","v":0},null,null,null,{"$f":"COUNTIF(SDB$3:SDD$31,$A66)","v":0},null,null,null,{"$f":"COUNTIF(SDF$3:SDH$31,$A66)","v":0},null,null,null,{"$f":"COUNTIF(SDJ$3:SDL$31,$A66)","v":0},null,null,null,{"$f":"COUNTIF(SDN$3:SDP$31,$A66)","v":0},null,null,null,{"$f":"COUNTIF(SDR$3:SDT$31,$A66)","v":0},null,null,null,{"$f":"COUNTIF(SDV$3:SDX$31,$A66)","v":0},null,null,null,{"$f":"COUNTIF(SDZ$3:SEB$31,$A66)","v":0},null,null,null,{"$f":"COUNTIF(SED$3:SEF$31,$A66)","v":0},null,null,null,{"$f":"COUNTIF(SEH$3:SEJ$31,$A66)","v":0},null,null,null,{"$f":"COUNTIF(SEL$3:SEN$31,$A66)","v":0},null,null,null,{"$f":"COUNTIF(SEP$3:SER$31,$A66)","v":0},null,null,null,{"$f":"COUNTIF(SET$3:SEV$31,$A66)","v":0},null,null,null,{"$f":"COUNTIF(SEX$3:SEZ$31,$A66)","v":0},null,null,null,{"$f":"COUNTIF(SFB$3:SFD$31,$A66)","v":0},null,null,null,{"$f":"COUNTIF(SFF$3:SFH$31,$A66)","v":0},null,null,null,{"$f":"COUNTIF(SFJ$3:SFL$31,$A66)","v":0},null,null,null,{"$f":"COUNTIF(SFN$3:SFP$31,$A66)","v":0},null,null,null,{"$f":"COUNTIF(SFR$3:SFT$31,$A66)","v":0},null,null,null,{"$f":"COUNTIF(SFV$3:SFX$31,$A66)","v":0},null,null,null,{"$f":"COUNTIF(SFZ$3:SGB$31,$A66)","v":0},null,null,null,{"$f":"COUNTIF(SGD$3:SGF$31,$A66)","v":0},null,null,null,{"$f":"COUNTIF(SGH$3:SGJ$31,$A66)","v":0},null,null,null,{"$f":"COUNTIF(SGL$3:SGN$31,$A66)","v":0},null,null,null,{"$f":"COUNTIF(SGP$3:SGR$31,$A66)","v":0},null,null,null,{"$f":"COUNTIF(SGT$3:SGV$31,$A66)","v":0},null,null,null,{"$f":"COUNTIF(SGX$3:SGZ$31,$A66)","v":0},null,null,null,{"$f":"COUNTIF(SHB$3:SHD$31,$A66)","v":0},null,null,null,{"$f":"COUNTIF(SHF$3:SHH$31,$A66)","v":0},null,null,null,{"$f":"COUNTIF(SHJ$3:SHL$31,$A66)","v":0},null,null,null,{"$f":"COUNTIF(SHN$3:SHP$31,$A66)","v":0},null,null,null,{"$f":"COUNTIF(SHR$3:SHT$31,$A66)","v":0},null,null,null,{"$f":"COUNTIF(SHV$3:SHX$31,$A66)","v":0},null,null,null,{"$f":"COUNTIF(SHZ$3:SIB$31,$A66)","v":0},null,null,null,{"$f":"COUNTIF(SID$3:SIF$31,$A66)","v":0},null,null,null,{"$f":"COUNTIF(SIH$3:SIJ$31,$A66)","v":0},null,null,null,{"$f":"COUNTIF(SIL$3:SIN$31,$A66)","v":0},null,null,null,{"$f":"COUNTIF(SIP$3:SIR$31,$A66)","v":0},null,null,null,{"$f":"COUNTIF(SIT$3:SIV$31,$A66)","v":0},null,null,null,{"$f":"COUNTIF(SIX$3:SIZ$31,$A66)","v":0},null,null,null,{"$f":"COUNTIF(SJB$3:SJD$31,$A66)","v":0},null,null,null,{"$f":"COUNTIF(SJF$3:SJH$31,$A66)","v":0},null,null,null,{"$f":"COUNTIF(SJJ$3:SJL$31,$A66)","v":0},null,null,null,{"$f":"COUNTIF(SJN$3:SJP$31,$A66)","v":0},null,null,null,{"$f":"COUNTIF(SJR$3:SJT$31,$A66)","v":0},null,null,null,{"$f":"COUNTIF(SJV$3:SJX$31,$A66)","v":0},null,null,null,{"$f":"COUNTIF(SJZ$3:SKB$31,$A66)","v":0},null,null,null,{"$f":"COUNTIF(SKD$3:SKF$31,$A66)","v":0},null,null,null,{"$f":"COUNTIF(SKH$3:SKJ$31,$A66)","v":0},null,null,null,{"$f":"COUNTIF(SKL$3:SKN$31,$A66)","v":0},null,null,null,{"$f":"COUNTIF(SKP$3:SKR$31,$A66)","v":0},null,null,null,{"$f":"COUNTIF(SKT$3:SKV$31,$A66)","v":0},null,null,null,{"$f":"COUNTIF(SKX$3:SKZ$31,$A66)","v":0},null,null,null,{"$f":"COUNTIF(SLB$3:SLD$31,$A66)","v":0},null,null,null,{"$f":"COUNTIF(SLF$3:SLH$31,$A66)","v":0},null,null,null,{"$f":"COUNTIF(SLJ$3:SLL$31,$A66)","v":0},null,null,null,{"$f":"COUNTIF(SLN$3:SLP$31,$A66)","v":0},null,null,null,{"$f":"COUNTIF(SLR$3:SLT$31,$A66)","v":0},null,null,null,{"$f":"COUNTIF(SLV$3:SLX$31,$A66)","v":0},null,null,null,{"$f":"COUNTIF(SLZ$3:SMB$31,$A66)","v":0},null,null,null,{"$f":"COUNTIF(SMD$3:SMF$31,$A66)","v":0},null,null,null,{"$f":"COUNTIF(SMH$3:SMJ$31,$A66)","v":0},null,null,null,{"$f":"COUNTIF(SML$3:SMN$31,$A66)","v":0},null,null,null,{"$f":"COUNTIF(SMP$3:SMR$31,$A66)","v":0},null,null,null,{"$f":"COUNTIF(SMT$3:SMV$31,$A66)","v":0},null,null,null,{"$f":"COUNTIF(SMX$3:SMZ$31,$A66)","v":0},null,null,null,{"$f":"COUNTIF(SNB$3:SND$31,$A66)","v":0},null,null,null,{"$f":"COUNTIF(SNF$3:SNH$31,$A66)","v":0},null,null,null,{"$f":"COUNTIF(SNJ$3:SNL$31,$A66)","v":0},null,null,null,{"$f":"COUNTIF(SNN$3:SNP$31,$A66)","v":0},null,null,null,{"$f":"COUNTIF(SNR$3:SNT$31,$A66)","v":0},null,null,null,{"$f":"COUNTIF(SNV$3:SNX$31,$A66)","v":0},null,null,null,{"$f":"COUNTIF(SNZ$3:SOB$31,$A66)","v":0},null,null,null,{"$f":"COUNTIF(SOD$3:SOF$31,$A66)","v":0},null,null,null,{"$f":"COUNTIF(SOH$3:SOJ$31,$A66)","v":0},null,null,null,{"$f":"COUNTIF(SOL$3:SON$31,$A66)","v":0},null,null,null,{"$f":"COUNTIF(SOP$3:SOR$31,$A66)","v":0},null,null,null,{"$f":"COUNTIF(SOT$3:SOV$31,$A66)","v":0},null,null,null,{"$f":"COUNTIF(SOX$3:SOZ$31,$A66)","v":0},null,null,null,{"$f":"COUNTIF(SPB$3:SPD$31,$A66)","v":0},null,null,null,{"$f":"COUNTIF(SPF$3:SPH$31,$A66)","v":0},null,null,null,{"$f":"COUNTIF(SPJ$3:SPL$31,$A66)","v":0},null,null,null,{"$f":"COUNTIF(SPN$3:SPP$31,$A66)","v":0},null,null,null,{"$f":"COUNTIF(SPR$3:SPT$31,$A66)","v":0},null,null,null,{"$f":"COUNTIF(SPV$3:SPX$31,$A66)","v":0},null,null,null,{"$f":"COUNTIF(SPZ$3:SQB$31,$A66)","v":0},null,null,null,{"$f":"COUNTIF(SQD$3:SQF$31,$A66)","v":0},null,null,null,{"$f":"COUNTIF(SQH$3:SQJ$31,$A66)","v":0},null,null,null,{"$f":"COUNTIF(SQL$3:SQN$31,$A66)","v":0},null,null,null,{"$f":"COUNTIF(SQP$3:SQR$31,$A66)","v":0},null,null,null,{"$f":"COUNTIF(SQT$3:SQV$31,$A66)","v":0},null,null,null,{"$f":"COUNTIF(SQX$3:SQZ$31,$A66)","v":0},null,null,null,{"$f":"COUNTIF(SRB$3:SRD$31,$A66)","v":0},null,null,null,{"$f":"COUNTIF(SRF$3:SRH$31,$A66)","v":0},null,null,null,{"$f":"COUNTIF(SRJ$3:SRL$31,$A66)","v":0},null,null,null,{"$f":"COUNTIF(SRN$3:SRP$31,$A66)","v":0},null,null,null,{"$f":"COUNTIF(SRR$3:SRT$31,$A66)","v":0},null,null,null,{"$f":"COUNTIF(SRV$3:SRX$31,$A66)","v":0},null,null,null,{"$f":"COUNTIF(SRZ$3:SSB$31,$A66)","v":0},null,null,null,{"$f":"COUNTIF(SSD$3:SSF$31,$A66)","v":0},null,null,null,{"$f":"COUNTIF(SSH$3:SSJ$31,$A66)","v":0},null,null,null,{"$f":"COUNTIF(SSL$3:SSN$31,$A66)","v":0},null,null,null,{"$f":"COUNTIF(SSP$3:SSR$31,$A66)","v":0},null,null,null,{"$f":"COUNTIF(SST$3:SSV$31,$A66)","v":0},null,null,null,{"$f":"COUNTIF(SSX$3:SSZ$31,$A66)","v":0},null,null,null,{"$f":"COUNTIF(STB$3:STD$31,$A66)","v":0},null,null,null,{"$f":"COUNTIF(STF$3:STH$31,$A66)","v":0},null,null,null,{"$f":"COUNTIF(STJ$3:STL$31,$A66)","v":0},null,null,null,{"$f":"COUNTIF(STN$3:STP$31,$A66)","v":0},null,null,null,{"$f":"COUNTIF(STR$3:STT$31,$A66)","v":0},null,null,null,{"$f":"COUNTIF(STV$3:STX$31,$A66)","v":0},null,null,null,{"$f":"COUNTIF(STZ$3:SUB$31,$A66)","v":0},null,null,null,{"$f":"COUNTIF(SUD$3:SUF$31,$A66)","v":0},null,null,null,{"$f":"COUNTIF(SUH$3:SUJ$31,$A66)","v":0},null,null,null,{"$f":"COUNTIF(SUL$3:SUN$31,$A66)","v":0},null,null,null,{"$f":"COUNTIF(SUP$3:SUR$31,$A66)","v":0},null,null,null,{"$f":"COUNTIF(SUT$3:SUV$31,$A66)","v":0},null,null,null,{"$f":"COUNTIF(SUX$3:SUZ$31,$A66)","v":0},null,null,null,{"$f":"COUNTIF(SVB$3:SVD$31,$A66)","v":0},null,null,null,{"$f":"COUNTIF(SVF$3:SVH$31,$A66)","v":0},null,null,null,{"$f":"COUNTIF(SVJ$3:SVL$31,$A66)","v":0},null,null,null,{"$f":"COUNTIF(SVN$3:SVP$31,$A66)","v":0},null,null,null,{"$f":"COUNTIF(SVR$3:SVT$31,$A66)","v":0},null,null,null,{"$f":"COUNTIF(SVV$3:SVX$31,$A66)","v":0},null,null,null,{"$f":"COUNTIF(SVZ$3:SWB$31,$A66)","v":0},null,null,null,{"$f":"COUNTIF(SWD$3:SWF$31,$A66)","v":0},null,null,null,{"$f":"COUNTIF(SWH$3:SWJ$31,$A66)","v":0},null,null,null,{"$f":"COUNTIF(SWL$3:SWN$31,$A66)","v":0},null,null,null,{"$f":"COUNTIF(SWP$3:SWR$31,$A66)","v":0},null,null,null,{"$f":"COUNTIF(SWT$3:SWV$31,$A66)","v":0},null,null,null,{"$f":"COUNTIF(SWX$3:SWZ$31,$A66)","v":0},null,null,null,{"$f":"COUNTIF(SXB$3:SXD$31,$A66)","v":0},null,null,null,{"$f":"COUNTIF(SXF$3:SXH$31,$A66)","v":0},null,null,null,{"$f":"COUNTIF(SXJ$3:SXL$31,$A66)","v":0},null,null,null,{"$f":"COUNTIF(SXN$3:SXP$31,$A66)","v":0},null,null,null,{"$f":"COUNTIF(SXR$3:SXT$31,$A66)","v":0},null,null,null,{"$f":"COUNTIF(SXV$3:SXX$31,$A66)","v":0},null,null,null,{"$f":"COUNTIF(SXZ$3:SYB$31,$A66)","v":0},null,null,null,{"$f":"COUNTIF(SYD$3:SYF$31,$A66)","v":0},null,null,null,{"$f":"COUNTIF(SYH$3:SYJ$31,$A66)","v":0},null,null,null,{"$f":"COUNTIF(SYL$3:SYN$31,$A66)","v":0},null,null,null,{"$f":"COUNTIF(SYP$3:SYR$31,$A66)","v":0},null,null,null,{"$f":"COUNTIF(SYT$3:SYV$31,$A66)","v":0},null,null,null,{"$f":"COUNTIF(SYX$3:SYZ$31,$A66)","v":0},null,null,null,{"$f":"COUNTIF(SZB$3:SZD$31,$A66)","v":0},null,null,null,{"$f":"COUNTIF(SZF$3:SZH$31,$A66)","v":0},null,null,null,{"$f":"COUNTIF(SZJ$3:SZL$31,$A66)","v":0},null,null,null,{"$f":"COUNTIF(SZN$3:SZP$31,$A66)","v":0},null,null,null,{"$f":"COUNTIF(SZR$3:SZT$31,$A66)","v":0},null,null,null,{"$f":"COUNTIF(SZV$3:SZX$31,$A66)","v":0},null,null,null,{"$f":"COUNTIF(SZZ$3:TAB$31,$A66)","v":0},null,null,null,{"$f":"COUNTIF(TAD$3:TAF$31,$A66)","v":0},null,null,null,{"$f":"COUNTIF(TAH$3:TAJ$31,$A66)","v":0},null,null,null,{"$f":"COUNTIF(TAL$3:TAN$31,$A66)","v":0},null,null,null,{"$f":"COUNTIF(TAP$3:TAR$31,$A66)","v":0},null,null,null,{"$f":"COUNTIF(TAT$3:TAV$31,$A66)","v":0},null,null,null,{"$f":"COUNTIF(TAX$3:TAZ$31,$A66)","v":0},null,null,null,{"$f":"COUNTIF(TBB$3:TBD$31,$A66)","v":0},null,null,null,{"$f":"COUNTIF(TBF$3:TBH$31,$A66)","v":0},null,null,null,{"$f":"COUNTIF(TBJ$3:TBL$31,$A66)","v":0},null,null,null,{"$f":"COUNTIF(TBN$3:TBP$31,$A66)","v":0},null,null,null,{"$f":"COUNTIF(TBR$3:TBT$31,$A66)","v":0},null,null,null,{"$f":"COUNTIF(TBV$3:TBX$31,$A66)","v":0},null,null,null,{"$f":"COUNTIF(TBZ$3:TCB$31,$A66)","v":0},null,null,null,{"$f":"COUNTIF(TCD$3:TCF$31,$A66)","v":0},null,null,null,{"$f":"COUNTIF(TCH$3:TCJ$31,$A66)","v":0},null,null,null,{"$f":"COUNTIF(TCL$3:TCN$31,$A66)","v":0},null,null,null,{"$f":"COUNTIF(TCP$3:TCR$31,$A66)","v":0},null,null,null,{"$f":"COUNTIF(TCT$3:TCV$31,$A66)","v":0},null,null,null,{"$f":"COUNTIF(TCX$3:TCZ$31,$A66)","v":0},null,null,null,{"$f":"COUNTIF(TDB$3:TDD$31,$A66)","v":0},null,null,null,{"$f":"COUNTIF(TDF$3:TDH$31,$A66)","v":0},null,null,null,{"$f":"COUNTIF(TDJ$3:TDL$31,$A66)","v":0},null,null,null,{"$f":"COUNTIF(TDN$3:TDP$31,$A66)","v":0},null,null,null,{"$f":"COUNTIF(TDR$3:TDT$31,$A66)","v":0},null,null,null,{"$f":"COUNTIF(TDV$3:TDX$31,$A66)","v":0},null,null,null,{"$f":"COUNTIF(TDZ$3:TEB$31,$A66)","v":0},null,null,null,{"$f":"COUNTIF(TED$3:TEF$31,$A66)","v":0},null,null,null,{"$f":"COUNTIF(TEH$3:TEJ$31,$A66)","v":0},null,null,null,{"$f":"COUNTIF(TEL$3:TEN$31,$A66)","v":0},null,null,null,{"$f":"COUNTIF(TEP$3:TER$31,$A66)","v":0},null,null,null,{"$f":"COUNTIF(TET$3:TEV$31,$A66)","v":0},null,null,null,{"$f":"COUNTIF(TEX$3:TEZ$31,$A66)","v":0},null,null,null,{"$f":"COUNTIF(TFB$3:TFD$31,$A66)","v":0},null,null,null,{"$f":"COUNTIF(TFF$3:TFH$31,$A66)","v":0},null,null,null,{"$f":"COUNTIF(TFJ$3:TFL$31,$A66)","v":0},null,null,null,{"$f":"COUNTIF(TFN$3:TFP$31,$A66)","v":0},null,null,null,{"$f":"COUNTIF(TFR$3:TFT$31,$A66)","v":0},null,null,null,{"$f":"COUNTIF(TFV$3:TFX$31,$A66)","v":0},null,null,null,{"$f":"COUNTIF(TFZ$3:TGB$31,$A66)","v":0},null,null,null,{"$f":"COUNTIF(TGD$3:TGF$31,$A66)","v":0},null,null,null,{"$f":"COUNTIF(TGH$3:TGJ$31,$A66)","v":0},null,null,null,{"$f":"COUNTIF(TGL$3:TGN$31,$A66)","v":0},null,null,null,{"$f":"COUNTIF(TGP$3:TGR$31,$A66)","v":0},null,null,null,{"$f":"COUNTIF(TGT$3:TGV$31,$A66)","v":0},null,null,null,{"$f":"COUNTIF(TGX$3:TGZ$31,$A66)","v":0},null,null,null,{"$f":"COUNTIF(THB$3:THD$31,$A66)","v":0},null,null,null,{"$f":"COUNTIF(THF$3:THH$31,$A66)","v":0},null,null,null,{"$f":"COUNTIF(THJ$3:THL$31,$A66)","v":0},null,null,null,{"$f":"COUNTIF(THN$3:THP$31,$A66)","v":0},null,null,null,{"$f":"COUNTIF(THR$3:THT$31,$A66)","v":0},null,null,null,{"$f":"COUNTIF(THV$3:THX$31,$A66)","v":0},null,null,null,{"$f":"COUNTIF(THZ$3:TIB$31,$A66)","v":0},null,null,null,{"$f":"COUNTIF(TID$3:TIF$31,$A66)","v":0},null,null,null,{"$f":"COUNTIF(TIH$3:TIJ$31,$A66)","v":0},null,null,null,{"$f":"COUNTIF(TIL$3:TIN$31,$A66)","v":0},null,null,null,{"$f":"COUNTIF(TIP$3:TIR$31,$A66)","v":0},null,null,null,{"$f":"COUNTIF(TIT$3:TIV$31,$A66)","v":0},null,null,null,{"$f":"COUNTIF(TIX$3:TIZ$31,$A66)","v":0},null,null,null,{"$f":"COUNTIF(TJB$3:TJD$31,$A66)","v":0},null,null,null,{"$f":"COUNTIF(TJF$3:TJH$31,$A66)","v":0},null,null,null,{"$f":"COUNTIF(TJJ$3:TJL$31,$A66)","v":0},null,null,null,{"$f":"COUNTIF(TJN$3:TJP$31,$A66)","v":0},null,null,null,{"$f":"COUNTIF(TJR$3:TJT$31,$A66)","v":0},null,null,null,{"$f":"COUNTIF(TJV$3:TJX$31,$A66)","v":0},null,null,null,{"$f":"COUNTIF(TJZ$3:TKB$31,$A66)","v":0},null,null,null,{"$f":"COUNTIF(TKD$3:TKF$31,$A66)","v":0},null,null,null,{"$f":"COUNTIF(TKH$3:TKJ$31,$A66)","v":0},null,null,null,{"$f":"COUNTIF(TKL$3:TKN$31,$A66)","v":0},null,null,null,{"$f":"COUNTIF(TKP$3:TKR$31,$A66)","v":0},null,null,null,{"$f":"COUNTIF(TKT$3:TKV$31,$A66)","v":0},null,null,null,{"$f":"COUNTIF(TKX$3:TKZ$31,$A66)","v":0},null,null,null,{"$f":"COUNTIF(TLB$3:TLD$31,$A66)","v":0},null,null,null,{"$f":"COUNTIF(TLF$3:TLH$31,$A66)","v":0},null,null,null,{"$f":"COUNTIF(TLJ$3:TLL$31,$A66)","v":0},null,null,null,{"$f":"COUNTIF(TLN$3:TLP$31,$A66)","v":0},null,null,null,{"$f":"COUNTIF(TLR$3:TLT$31,$A66)","v":0},null,null,null,{"$f":"COUNTIF(TLV$3:TLX$31,$A66)","v":0},null,null,null,{"$f":"COUNTIF(TLZ$3:TMB$31,$A66)","v":0},null,null,null,{"$f":"COUNTIF(TMD$3:TMF$31,$A66)","v":0},null,null,null,{"$f":"COUNTIF(TMH$3:TMJ$31,$A66)","v":0},null,null,null,{"$f":"COUNTIF(TML$3:TMN$31,$A66)","v":0},null,null,null,{"$f":"COUNTIF(TMP$3:TMR$31,$A66)","v":0},null,null,null,{"$f":"COUNTIF(TMT$3:TMV$31,$A66)","v":0},null,null,null,{"$f":"COUNTIF(TMX$3:TMZ$31,$A66)","v":0},null,null,null,{"$f":"COUNTIF(TNB$3:TND$31,$A66)","v":0},null,null,null,{"$f":"COUNTIF(TNF$3:TNH$31,$A66)","v":0},null,null,null,{"$f":"COUNTIF(TNJ$3:TNL$31,$A66)","v":0},null,null,null,{"$f":"COUNTIF(TNN$3:TNP$31,$A66)","v":0},null,null,null,{"$f":"COUNTIF(TNR$3:TNT$31,$A66)","v":0},null,null,null,{"$f":"COUNTIF(TNV$3:TNX$31,$A66)","v":0},null,null,null,{"$f":"COUNTIF(TNZ$3:TOB$31,$A66)","v":0},null,null,null,{"$f":"COUNTIF(TOD$3:TOF$31,$A66)","v":0},null,null,null,{"$f":"COUNTIF(TOH$3:TOJ$31,$A66)","v":0},null,null,null,{"$f":"COUNTIF(TOL$3:TON$31,$A66)","v":0},null,null,null,{"$f":"COUNTIF(TOP$3:TOR$31,$A66)","v":0},null,null,null,{"$f":"COUNTIF(TOT$3:TOV$31,$A66)","v":0},null,null,null,{"$f":"COUNTIF(TOX$3:TOZ$31,$A66)","v":0},null,null,null,{"$f":"COUNTIF(TPB$3:TPD$31,$A66)","v":0},null,null,null,{"$f":"COUNTIF(TPF$3:TPH$31,$A66)","v":0},null,null,null,{"$f":"COUNTIF(TPJ$3:TPL$31,$A66)","v":0},null,null,null,{"$f":"COUNTIF(TPN$3:TPP$31,$A66)","v":0},null,null,null,{"$f":"COUNTIF(TPR$3:TPT$31,$A66)","v":0},null,null,null,{"$f":"COUNTIF(TPV$3:TPX$31,$A66)","v":0},null,null,null,{"$f":"COUNTIF(TPZ$3:TQB$31,$A66)","v":0},null,null,null,{"$f":"COUNTIF(TQD$3:TQF$31,$A66)","v":0},null,null,null,{"$f":"COUNTIF(TQH$3:TQJ$31,$A66)","v":0},null,null,null,{"$f":"COUNTIF(TQL$3:TQN$31,$A66)","v":0},null,null,null,{"$f":"COUNTIF(TQP$3:TQR$31,$A66)","v":0},null,null,null,{"$f":"COUNTIF(TQT$3:TQV$31,$A66)","v":0},null,null,null,{"$f":"COUNTIF(TQX$3:TQZ$31,$A66)","v":0},null,null,null,{"$f":"COUNTIF(TRB$3:TRD$31,$A66)","v":0},null,null,null,{"$f":"COUNTIF(TRF$3:TRH$31,$A66)","v":0},null,null,null,{"$f":"COUNTIF(TRJ$3:TRL$31,$A66)","v":0},null,null,null,{"$f":"COUNTIF(TRN$3:TRP$31,$A66)","v":0},null,null,null,{"$f":"COUNTIF(TRR$3:TRT$31,$A66)","v":0},null,null,null,{"$f":"COUNTIF(TRV$3:TRX$31,$A66)","v":0},null,null,null,{"$f":"COUNTIF(TRZ$3:TSB$31,$A66)","v":0},null,null,null,{"$f":"COUNTIF(TSD$3:TSF$31,$A66)","v":0},null,null,null,{"$f":"COUNTIF(TSH$3:TSJ$31,$A66)","v":0},null,null,null,{"$f":"COUNTIF(TSL$3:TSN$31,$A66)","v":0},null,null,null,{"$f":"COUNTIF(TSP$3:TSR$31,$A66)","v":0},null,null,null,{"$f":"COUNTIF(TST$3:TSV$31,$A66)","v":0},null,null,null,{"$f":"COUNTIF(TSX$3:TSZ$31,$A66)","v":0},null,null,null,{"$f":"COUNTIF(TTB$3:TTD$31,$A66)","v":0},null,null,null,{"$f":"COUNTIF(TTF$3:TTH$31,$A66)","v":0},null,null,null,{"$f":"COUNTIF(TTJ$3:TTL$31,$A66)","v":0},null,null,null,{"$f":"COUNTIF(TTN$3:TTP$31,$A66)","v":0},null,null,null,{"$f":"COUNTIF(TTR$3:TTT$31,$A66)","v":0},null,null,null,{"$f":"COUNTIF(TTV$3:TTX$31,$A66)","v":0},null,null,null,{"$f":"COUNTIF(TTZ$3:TUB$31,$A66)","v":0},null,null,null,{"$f":"COUNTIF(TUD$3:TUF$31,$A66)","v":0},null,null,null,{"$f":"COUNTIF(TUH$3:TUJ$31,$A66)","v":0},null,null,null,{"$f":"COUNTIF(TUL$3:TUN$31,$A66)","v":0},null,null,null,{"$f":"COUNTIF(TUP$3:TUR$31,$A66)","v":0},null,null,null,{"$f":"COUNTIF(TUT$3:TUV$31,$A66)","v":0},null,null,null,{"$f":"COUNTIF(TUX$3:TUZ$31,$A66)","v":0},null,null,null,{"$f":"COUNTIF(TVB$3:TVD$31,$A66)","v":0},null,null,null,{"$f":"COUNTIF(TVF$3:TVH$31,$A66)","v":0},null,null,null,{"$f":"COUNTIF(TVJ$3:TVL$31,$A66)","v":0},null,null,null,{"$f":"COUNTIF(TVN$3:TVP$31,$A66)","v":0},null,null,null,{"$f":"COUNTIF(TVR$3:TVT$31,$A66)","v":0},null,null,null,{"$f":"COUNTIF(TVV$3:TVX$31,$A66)","v":0},null,null,null,{"$f":"COUNTIF(TVZ$3:TWB$31,$A66)","v":0},null,null,null,{"$f":"COUNTIF(TWD$3:TWF$31,$A66)","v":0},null,null,null,{"$f":"COUNTIF(TWH$3:TWJ$31,$A66)","v":0},null,null,null,{"$f":"COUNTIF(TWL$3:TWN$31,$A66)","v":0},null,null,null,{"$f":"COUNTIF(TWP$3:TWR$31,$A66)","v":0},null,null,null,{"$f":"COUNTIF(TWT$3:TWV$31,$A66)","v":0},null,null,null,{"$f":"COUNTIF(TWX$3:TWZ$31,$A66)","v":0},null,null,null,{"$f":"COUNTIF(TXB$3:TXD$31,$A66)","v":0},null,null,null,{"$f":"COUNTIF(TXF$3:TXH$31,$A66)","v":0},null,null,null,{"$f":"COUNTIF(TXJ$3:TXL$31,$A66)","v":0},null,null,null,{"$f":"COUNTIF(TXN$3:TXP$31,$A66)","v":0},null,null,null,{"$f":"COUNTIF(TXR$3:TXT$31,$A66)","v":0},null,null,null,{"$f":"COUNTIF(TXV$3:TXX$31,$A66)","v":0},null,null,null,{"$f":"COUNTIF(TXZ$3:TYB$31,$A66)","v":0},null,null,null,{"$f":"COUNTIF(TYD$3:TYF$31,$A66)","v":0},null,null,null,{"$f":"COUNTIF(TYH$3:TYJ$31,$A66)","v":0},null,null,null,{"$f":"COUNTIF(TYL$3:TYN$31,$A66)","v":0},null,null,null,{"$f":"COUNTIF(TYP$3:TYR$31,$A66)","v":0},null,null,null,{"$f":"COUNTIF(TYT$3:TYV$31,$A66)","v":0},null,null,null,{"$f":"COUNTIF(TYX$3:TYZ$31,$A66)","v":0},null,null,null,{"$f":"COUNTIF(TZB$3:TZD$31,$A66)","v":0},null,null,null,{"$f":"COUNTIF(TZF$3:TZH$31,$A66)","v":0},null,null,null,{"$f":"COUNTIF(TZJ$3:TZL$31,$A66)","v":0},null,null,null,{"$f":"COUNTIF(TZN$3:TZP$31,$A66)","v":0},null,null,null,{"$f":"COUNTIF(TZR$3:TZT$31,$A66)","v":0},null,null,null,{"$f":"COUNTIF(TZV$3:TZX$31,$A66)","v":0},null,null,null,{"$f":"COUNTIF(TZZ$3:UAB$31,$A66)","v":0},null,null,null,{"$f":"COUNTIF(UAD$3:UAF$31,$A66)","v":0},null,null,null,{"$f":"COUNTIF(UAH$3:UAJ$31,$A66)","v":0},null,null,null,{"$f":"COUNTIF(UAL$3:UAN$31,$A66)","v":0},null,null,null,{"$f":"COUNTIF(UAP$3:UAR$31,$A66)","v":0},null,null,null,{"$f":"COUNTIF(UAT$3:UAV$31,$A66)","v":0},null,null,null,{"$f":"COUNTIF(UAX$3:UAZ$31,$A66)","v":0},null,null,null,{"$f":"COUNTIF(UBB$3:UBD$31,$A66)","v":0},null,null,null,{"$f":"COUNTIF(UBF$3:UBH$31,$A66)","v":0},null,null,null,{"$f":"COUNTIF(UBJ$3:UBL$31,$A66)","v":0},null,null,null,{"$f":"COUNTIF(UBN$3:UBP$31,$A66)","v":0},null,null,null,{"$f":"COUNTIF(UBR$3:UBT$31,$A66)","v":0},null,null,null,{"$f":"COUNTIF(UBV$3:UBX$31,$A66)","v":0},null,null,null,{"$f":"COUNTIF(UBZ$3:UCB$31,$A66)","v":0},null,null,null,{"$f":"COUNTIF(UCD$3:UCF$31,$A66)","v":0},null,null,null,{"$f":"COUNTIF(UCH$3:UCJ$31,$A66)","v":0},null,null,null,{"$f":"COUNTIF(UCL$3:UCN$31,$A66)","v":0},null,null,null,{"$f":"COUNTIF(UCP$3:UCR$31,$A66)","v":0},null,null,null,{"$f":"COUNTIF(UCT$3:UCV$31,$A66)","v":0},null,null,null,{"$f":"COUNTIF(UCX$3:UCZ$31,$A66)","v":0},null,null,null,{"$f":"COUNTIF(UDB$3:UDD$31,$A66)","v":0},null,null,null,{"$f":"COUNTIF(UDF$3:UDH$31,$A66)","v":0},null,null,null,{"$f":"COUNTIF(UDJ$3:UDL$31,$A66)","v":0},null,null,null,{"$f":"COUNTIF(UDN$3:UDP$31,$A66)","v":0},null,null,null,{"$f":"COUNTIF(UDR$3:UDT$31,$A66)","v":0},null,null,null,{"$f":"COUNTIF(UDV$3:UDX$31,$A66)","v":0},null,null,null,{"$f":"COUNTIF(UDZ$3:UEB$31,$A66)","v":0},null,null,null,{"$f":"COUNTIF(UED$3:UEF$31,$A66)","v":0},null,null,null,{"$f":"COUNTIF(UEH$3:UEJ$31,$A66)","v":0},null,null,null,{"$f":"COUNTIF(UEL$3:UEN$31,$A66)","v":0},null,null,null,{"$f":"COUNTIF(UEP$3:UER$31,$A66)","v":0},null,null,null,{"$f":"COUNTIF(UET$3:UEV$31,$A66)","v":0},null,null,null,{"$f":"COUNTIF(UEX$3:UEZ$31,$A66)","v":0},null,null,null,{"$f":"COUNTIF(UFB$3:UFD$31,$A66)","v":0},null,null,null,{"$f":"COUNTIF(UFF$3:UFH$31,$A66)","v":0},null,null,null,{"$f":"COUNTIF(UFJ$3:UFL$31,$A66)","v":0},null,null,null,{"$f":"COUNTIF(UFN$3:UFP$31,$A66)","v":0},null,null,null,{"$f":"COUNTIF(UFR$3:UFT$31,$A66)","v":0},null,null,null,{"$f":"COUNTIF(UFV$3:UFX$31,$A66)","v":0},null,null,null,{"$f":"COUNTIF(UFZ$3:UGB$31,$A66)","v":0},null,null,null,{"$f":"COUNTIF(UGD$3:UGF$31,$A66)","v":0},null,null,null,{"$f":"COUNTIF(UGH$3:UGJ$31,$A66)","v":0},null,null,null,{"$f":"COUNTIF(UGL$3:UGN$31,$A66)","v":0},null,null,null,{"$f":"COUNTIF(UGP$3:UGR$31,$A66)","v":0},null,null,null,{"$f":"COUNTIF(UGT$3:UGV$31,$A66)","v":0},null,null,null,{"$f":"COUNTIF(UGX$3:UGZ$31,$A66)","v":0},null,null,null,{"$f":"COUNTIF(UHB$3:UHD$31,$A66)","v":0},null,null,null,{"$f":"COUNTIF(UHF$3:UHH$31,$A66)","v":0},null,null,null,{"$f":"COUNTIF(UHJ$3:UHL$31,$A66)","v":0},null,null,null,{"$f":"COUNTIF(UHN$3:UHP$31,$A66)","v":0},null,null,null,{"$f":"COUNTIF(UHR$3:UHT$31,$A66)","v":0},null,null,null,{"$f":"COUNTIF(UHV$3:UHX$31,$A66)","v":0},null,null,null,{"$f":"COUNTIF(UHZ$3:UIB$31,$A66)","v":0},null,null,null,{"$f":"COUNTIF(UID$3:UIF$31,$A66)","v":0},null,null,null,{"$f":"COUNTIF(UIH$3:UIJ$31,$A66)","v":0},null,null,null,{"$f":"COUNTIF(UIL$3:UIN$31,$A66)","v":0},null,null,null,{"$f":"COUNTIF(UIP$3:UIR$31,$A66)","v":0},null,null,null,{"$f":"COUNTIF(UIT$3:UIV$31,$A66)","v":0},null,null,null,{"$f":"COUNTIF(UIX$3:UIZ$31,$A66)","v":0},null,null,null,{"$f":"COUNTIF(UJB$3:UJD$31,$A66)","v":0},null,null,null,{"$f":"COUNTIF(UJF$3:UJH$31,$A66)","v":0},null,null,null,{"$f":"COUNTIF(UJJ$3:UJL$31,$A66)","v":0},null,null,null,{"$f":"COUNTIF(UJN$3:UJP$31,$A66)","v":0},null,null,null,{"$f":"COUNTIF(UJR$3:UJT$31,$A66)","v":0},null,null,null,{"$f":"COUNTIF(UJV$3:UJX$31,$A66)","v":0},null,null,null,{"$f":"COUNTIF(UJZ$3:UKB$31,$A66)","v":0},null,null,null,{"$f":"COUNTIF(UKD$3:UKF$31,$A66)","v":0},null,null,null,{"$f":"COUNTIF(UKH$3:UKJ$31,$A66)","v":0},null,null,null,{"$f":"COUNTIF(UKL$3:UKN$31,$A66)","v":0},null,null,null,{"$f":"COUNTIF(UKP$3:UKR$31,$A66)","v":0},null,null,null,{"$f":"COUNTIF(UKT$3:UKV$31,$A66)","v":0},null,null,null,{"$f":"COUNTIF(UKX$3:UKZ$31,$A66)","v":0},null,null,null,{"$f":"COUNTIF(ULB$3:ULD$31,$A66)","v":0},null,null,null,{"$f":"COUNTIF(ULF$3:ULH$31,$A66)","v":0},null,null,null,{"$f":"COUNTIF(ULJ$3:ULL$31,$A66)","v":0},null,null,null,{"$f":"COUNTIF(ULN$3:ULP$31,$A66)","v":0},null,null,null,{"$f":"COUNTIF(ULR$3:ULT$31,$A66)","v":0},null,null,null,{"$f":"COUNTIF(ULV$3:ULX$31,$A66)","v":0},null,null,null,{"$f":"COUNTIF(ULZ$3:UMB$31,$A66)","v":0},null,null,null,{"$f":"COUNTIF(UMD$3:UMF$31,$A66)","v":0},null,null,null,{"$f":"COUNTIF(UMH$3:UMJ$31,$A66)","v":0},null,null,null,{"$f":"COUNTIF(UML$3:UMN$31,$A66)","v":0},null,null,null,{"$f":"COUNTIF(UMP$3:UMR$31,$A66)","v":0},null,null,null,{"$f":"COUNTIF(UMT$3:UMV$31,$A66)","v":0},null,null,null,{"$f":"COUNTIF(UMX$3:UMZ$31,$A66)","v":0},null,null,null,{"$f":"COUNTIF(UNB$3:UND$31,$A66)","v":0},null,null,null,{"$f":"COUNTIF(UNF$3:UNH$31,$A66)","v":0},null,null,null,{"$f":"COUNTIF(UNJ$3:UNL$31,$A66)","v":0},null,null,null,{"$f":"COUNTIF(UNN$3:UNP$31,$A66)","v":0},null,null,null,{"$f":"COUNTIF(UNR$3:UNT$31,$A66)","v":0},null,null,null,{"$f":"COUNTIF(UNV$3:UNX$31,$A66)","v":0},null,null,null,{"$f":"COUNTIF(UNZ$3:UOB$31,$A66)","v":0},null,null,null,{"$f":"COUNTIF(UOD$3:UOF$31,$A66)","v":0},null,null,null,{"$f":"COUNTIF(UOH$3:UOJ$31,$A66)","v":0},null,null,null,{"$f":"COUNTIF(UOL$3:UON$31,$A66)","v":0},null,null,null,{"$f":"COUNTIF(UOP$3:UOR$31,$A66)","v":0},null,null,null,{"$f":"COUNTIF(UOT$3:UOV$31,$A66)","v":0},null,null,null,{"$f":"COUNTIF(UOX$3:UOZ$31,$A66)","v":0},null,null,null,{"$f":"COUNTIF(UPB$3:UPD$31,$A66)","v":0},null,null,null,{"$f":"COUNTIF(UPF$3:UPH$31,$A66)","v":0},null,null,null,{"$f":"COUNTIF(UPJ$3:UPL$31,$A66)","v":0},null,null,null,{"$f":"COUNTIF(UPN$3:UPP$31,$A66)","v":0},null,null,null,{"$f":"COUNTIF(UPR$3:UPT$31,$A66)","v":0},null,null,null,{"$f":"COUNTIF(UPV$3:UPX$31,$A66)","v":0},null,null,null,{"$f":"COUNTIF(UPZ$3:UQB$31,$A66)","v":0},null,null,null,{"$f":"COUNTIF(UQD$3:UQF$31,$A66)","v":0},null,null,null,{"$f":"COUNTIF(UQH$3:UQJ$31,$A66)","v":0},null,null,null,{"$f":"COUNTIF(UQL$3:UQN$31,$A66)","v":0},null,null,null,{"$f":"COUNTIF(UQP$3:UQR$31,$A66)","v":0},null,null,null,{"$f":"COUNTIF(UQT$3:UQV$31,$A66)","v":0},null,null,null,{"$f":"COUNTIF(UQX$3:UQZ$31,$A66)","v":0},null,null,null,{"$f":"COUNTIF(URB$3:URD$31,$A66)","v":0},null,null,null,{"$f":"COUNTIF(URF$3:URH$31,$A66)","v":0},null,null,null,{"$f":"COUNTIF(URJ$3:URL$31,$A66)","v":0},null,null,null,{"$f":"COUNTIF(URN$3:URP$31,$A66)","v":0},null,null,null,{"$f":"COUNTIF(URR$3:URT$31,$A66)","v":0},null,null,null,{"$f":"COUNTIF(URV$3:URX$31,$A66)","v":0},null,null,null,{"$f":"COUNTIF(URZ$3:USB$31,$A66)","v":0},null,null,null,{"$f":"COUNTIF(USD$3:USF$31,$A66)","v":0},null,null,null,{"$f":"COUNTIF(USH$3:USJ$31,$A66)","v":0},null,null,null,{"$f":"COUNTIF(USL$3:USN$31,$A66)","v":0},null,null,null,{"$f":"COUNTIF(USP$3:USR$31,$A66)","v":0},null,null,null,{"$f":"COUNTIF(UST$3:USV$31,$A66)","v":0},null,null,null,{"$f":"COUNTIF(USX$3:USZ$31,$A66)","v":0},null,null,null,{"$f":"COUNTIF(UTB$3:UTD$31,$A66)","v":0},null,null,null,{"$f":"COUNTIF(UTF$3:UTH$31,$A66)","v":0},null,null,null,{"$f":"COUNTIF(UTJ$3:UTL$31,$A66)","v":0},null,null,null,{"$f":"COUNTIF(UTN$3:UTP$31,$A66)","v":0},null,null,null,{"$f":"COUNTIF(UTR$3:UTT$31,$A66)","v":0},null,null,null,{"$f":"COUNTIF(UTV$3:UTX$31,$A66)","v":0},null,null,null,{"$f":"COUNTIF(UTZ$3:UUB$31,$A66)","v":0},null,null,null,{"$f":"COUNTIF(UUD$3:UUF$31,$A66)","v":0},null,null,null,{"$f":"COUNTIF(UUH$3:UUJ$31,$A66)","v":0},null,null,null,{"$f":"COUNTIF(UUL$3:UUN$31,$A66)","v":0},null,null,null,{"$f":"COUNTIF(UUP$3:UUR$31,$A66)","v":0},null,null,null,{"$f":"COUNTIF(UUT$3:UUV$31,$A66)","v":0},null,null,null,{"$f":"COUNTIF(UUX$3:UUZ$31,$A66)","v":0},null,null,null,{"$f":"COUNTIF(UVB$3:UVD$31,$A66)","v":0},null,null,null,{"$f":"COUNTIF(UVF$3:UVH$31,$A66)","v":0},null,null,null,{"$f":"COUNTIF(UVJ$3:UVL$31,$A66)","v":0},null,null,null,{"$f":"COUNTIF(UVN$3:UVP$31,$A66)","v":0},null,null,null,{"$f":"COUNTIF(UVR$3:UVT$31,$A66)","v":0},null,null,null,{"$f":"COUNTIF(UVV$3:UVX$31,$A66)","v":0},null,null,null,{"$f":"COUNTIF(UVZ$3:UWB$31,$A66)","v":0},null,null,null,{"$f":"COUNTIF(UWD$3:UWF$31,$A66)","v":0},null,null,null,{"$f":"COUNTIF(UWH$3:UWJ$31,$A66)","v":0},null,null,null,{"$f":"COUNTIF(UWL$3:UWN$31,$A66)","v":0},null,null,null,{"$f":"COUNTIF(UWP$3:UWR$31,$A66)","v":0},null,null,null,{"$f":"COUNTIF(UWT$3:UWV$31,$A66)","v":0},null,null,null,{"$f":"COUNTIF(UWX$3:UWZ$31,$A66)","v":0},null,null,null,{"$f":"COUNTIF(UXB$3:UXD$31,$A66)","v":0},null,null,null,{"$f":"COUNTIF(UXF$3:UXH$31,$A66)","v":0},null,null,null,{"$f":"COUNTIF(UXJ$3:UXL$31,$A66)","v":0},null,null,null,{"$f":"COUNTIF(UXN$3:UXP$31,$A66)","v":0},null,null,null,{"$f":"COUNTIF(UXR$3:UXT$31,$A66)","v":0},null,null,null,{"$f":"COUNTIF(UXV$3:UXX$31,$A66)","v":0},null,null,null,{"$f":"COUNTIF(UXZ$3:UYB$31,$A66)","v":0},null,null,null,{"$f":"COUNTIF(UYD$3:UYF$31,$A66)","v":0},null,null,null,{"$f":"COUNTIF(UYH$3:UYJ$31,$A66)","v":0},null,null,null,{"$f":"COUNTIF(UYL$3:UYN$31,$A66)","v":0},null,null,null,{"$f":"COUNTIF(UYP$3:UYR$31,$A66)","v":0},null,null,null,{"$f":"COUNTIF(UYT$3:UYV$31,$A66)","v":0},null,null,null,{"$f":"COUNTIF(UYX$3:UYZ$31,$A66)","v":0},null,null,null,{"$f":"COUNTIF(UZB$3:UZD$31,$A66)","v":0},null,null,null,{"$f":"COUNTIF(UZF$3:UZH$31,$A66)","v":0},null,null,null,{"$f":"COUNTIF(UZJ$3:UZL$31,$A66)","v":0},null,null,null,{"$f":"COUNTIF(UZN$3:UZP$31,$A66)","v":0},null,null,null,{"$f":"COUNTIF(UZR$3:UZT$31,$A66)","v":0},null,null,null,{"$f":"COUNTIF(UZV$3:UZX$31,$A66)","v":0},null,null,null,{"$f":"COUNTIF(UZZ$3:VAB$31,$A66)","v":0},null,null,null,{"$f":"COUNTIF(VAD$3:VAF$31,$A66)","v":0},null,null,null,{"$f":"COUNTIF(VAH$3:VAJ$31,$A66)","v":0},null,null,null,{"$f":"COUNTIF(VAL$3:VAN$31,$A66)","v":0},null,null,null,{"$f":"COUNTIF(VAP$3:VAR$31,$A66)","v":0},null,null,null,{"$f":"COUNTIF(VAT$3:VAV$31,$A66)","v":0},null,null,null,{"$f":"COUNTIF(VAX$3:VAZ$31,$A66)","v":0},null,null,null,{"$f":"COUNTIF(VBB$3:VBD$31,$A66)","v":0},null,null,null,{"$f":"COUNTIF(VBF$3:VBH$31,$A66)","v":0},null,null,null,{"$f":"COUNTIF(VBJ$3:VBL$31,$A66)","v":0},null,null,null,{"$f":"COUNTIF(VBN$3:VBP$31,$A66)","v":0},null,null,null,{"$f":"COUNTIF(VBR$3:VBT$31,$A66)","v":0},null,null,null,{"$f":"COUNTIF(VBV$3:VBX$31,$A66)","v":0},null,null,null,{"$f":"COUNTIF(VBZ$3:VCB$31,$A66)","v":0},null,null,null,{"$f":"COUNTIF(VCD$3:VCF$31,$A66)","v":0},null,null,null,{"$f":"COUNTIF(VCH$3:VCJ$31,$A66)","v":0},null,null,null,{"$f":"COUNTIF(VCL$3:VCN$31,$A66)","v":0},null,null,null,{"$f":"COUNTIF(VCP$3:VCR$31,$A66)","v":0},null,null,null,{"$f":"COUNTIF(VCT$3:VCV$31,$A66)","v":0},null,null,null,{"$f":"COUNTIF(VCX$3:VCZ$31,$A66)","v":0},null,null,null,{"$f":"COUNTIF(VDB$3:VDD$31,$A66)","v":0},null,null,null,{"$f":"COUNTIF(VDF$3:VDH$31,$A66)","v":0},null,null,null,{"$f":"COUNTIF(VDJ$3:VDL$31,$A66)","v":0},null,null,null,{"$f":"COUNTIF(VDN$3:VDP$31,$A66)","v":0},null,null,null,{"$f":"COUNTIF(VDR$3:VDT$31,$A66)","v":0},null,null,null,{"$f":"COUNTIF(VDV$3:VDX$31,$A66)","v":0},null,null,null,{"$f":"COUNTIF(VDZ$3:VEB$31,$A66)","v":0},null,null,null,{"$f":"COUNTIF(VED$3:VEF$31,$A66)","v":0},null,null,null,{"$f":"COUNTIF(VEH$3:VEJ$31,$A66)","v":0},null,null,null,{"$f":"COUNTIF(VEL$3:VEN$31,$A66)","v":0},null,null,null,{"$f":"COUNTIF(VEP$3:VER$31,$A66)","v":0},null,null,null,{"$f":"COUNTIF(VET$3:VEV$31,$A66)","v":0},null,null,null,{"$f":"COUNTIF(VEX$3:VEZ$31,$A66)","v":0},null,null,null,{"$f":"COUNTIF(VFB$3:VFD$31,$A66)","v":0},null,null,null,{"$f":"COUNTIF(VFF$3:VFH$31,$A66)","v":0},null,null,null,{"$f":"COUNTIF(VFJ$3:VFL$31,$A66)","v":0},null,null,null,{"$f":"COUNTIF(VFN$3:VFP$31,$A66)","v":0},null,null,null,{"$f":"COUNTIF(VFR$3:VFT$31,$A66)","v":0},null,null,null,{"$f":"COUNTIF(VFV$3:VFX$31,$A66)","v":0},null,null,null,{"$f":"COUNTIF(VFZ$3:VGB$31,$A66)","v":0},null,null,null,{"$f":"COUNTIF(VGD$3:VGF$31,$A66)","v":0},null,null,null,{"$f":"COUNTIF(VGH$3:VGJ$31,$A66)","v":0},null,null,null,{"$f":"COUNTIF(VGL$3:VGN$31,$A66)","v":0},null,null,null,{"$f":"COUNTIF(VGP$3:VGR$31,$A66)","v":0},null,null,null,{"$f":"COUNTIF(VGT$3:VGV$31,$A66)","v":0},null,null,null,{"$f":"COUNTIF(VGX$3:VGZ$31,$A66)","v":0},null,null,null,{"$f":"COUNTIF(VHB$3:VHD$31,$A66)","v":0},null,null,null,{"$f":"COUNTIF(VHF$3:VHH$31,$A66)","v":0},null,null,null,{"$f":"COUNTIF(VHJ$3:VHL$31,$A66)","v":0},null,null,null,{"$f":"COUNTIF(VHN$3:VHP$31,$A66)","v":0},null,null,null,{"$f":"COUNTIF(VHR$3:VHT$31,$A66)","v":0},null,null,null,{"$f":"COUNTIF(VHV$3:VHX$31,$A66)","v":0},null,null,null,{"$f":"COUNTIF(VHZ$3:VIB$31,$A66)","v":0},null,null,null,{"$f":"COUNTIF(VID$3:VIF$31,$A66)","v":0},null,null,null,{"$f":"COUNTIF(VIH$3:VIJ$31,$A66)","v":0},null,null,null,{"$f":"COUNTIF(VIL$3:VIN$31,$A66)","v":0},null,null,null,{"$f":"COUNTIF(VIP$3:VIR$31,$A66)","v":0},null,null,null,{"$f":"COUNTIF(VIT$3:VIV$31,$A66)","v":0},null,null,null,{"$f":"COUNTIF(VIX$3:VIZ$31,$A66)","v":0},null,null,null,{"$f":"COUNTIF(VJB$3:VJD$31,$A66)","v":0},null,null,null,{"$f":"COUNTIF(VJF$3:VJH$31,$A66)","v":0},null,null,null,{"$f":"COUNTIF(VJJ$3:VJL$31,$A66)","v":0},null,null,null,{"$f":"COUNTIF(VJN$3:VJP$31,$A66)","v":0},null,null,null,{"$f":"COUNTIF(VJR$3:VJT$31,$A66)","v":0},null,null,null,{"$f":"COUNTIF(VJV$3:VJX$31,$A66)","v":0},null,null,null,{"$f":"COUNTIF(VJZ$3:VKB$31,$A66)","v":0},null,null,null,{"$f":"COUNTIF(VKD$3:VKF$31,$A66)","v":0},null,null,null,{"$f":"COUNTIF(VKH$3:VKJ$31,$A66)","v":0},null,null,null,{"$f":"COUNTIF(VKL$3:VKN$31,$A66)","v":0},null,null,null,{"$f":"COUNTIF(VKP$3:VKR$31,$A66)","v":0},null,null,null,{"$f":"COUNTIF(VKT$3:VKV$31,$A66)","v":0},null,null,null,{"$f":"COUNTIF(VKX$3:VKZ$31,$A66)","v":0},null,null,null,{"$f":"COUNTIF(VLB$3:VLD$31,$A66)","v":0},null,null,null,{"$f":"COUNTIF(VLF$3:VLH$31,$A66)","v":0},null,null,null,{"$f":"COUNTIF(VLJ$3:VLL$31,$A66)","v":0},null,null,null,{"$f":"COUNTIF(VLN$3:VLP$31,$A66)","v":0},null,null,null,{"$f":"COUNTIF(VLR$3:VLT$31,$A66)","v":0},null,null,null,{"$f":"COUNTIF(VLV$3:VLX$31,$A66)","v":0},null,null,null,{"$f":"COUNTIF(VLZ$3:VMB$31,$A66)","v":0},null,null,null,{"$f":"COUNTIF(VMD$3:VMF$31,$A66)","v":0},null,null,null,{"$f":"COUNTIF(VMH$3:VMJ$31,$A66)","v":0},null,null,null,{"$f":"COUNTIF(VML$3:VMN$31,$A66)","v":0},null,null,null,{"$f":"COUNTIF(VMP$3:VMR$31,$A66)","v":0},null,null,null,{"$f":"COUNTIF(VMT$3:VMV$31,$A66)","v":0},null,null,null,{"$f":"COUNTIF(VMX$3:VMZ$31,$A66)","v":0},null,null,null,{"$f":"COUNTIF(VNB$3:VND$31,$A66)","v":0},null,null,null,{"$f":"COUNTIF(VNF$3:VNH$31,$A66)","v":0},null,null,null,{"$f":"COUNTIF(VNJ$3:VNL$31,$A66)","v":0},null,null,null,{"$f":"COUNTIF(VNN$3:VNP$31,$A66)","v":0},null,null,null,{"$f":"COUNTIF(VNR$3:VNT$31,$A66)","v":0},null,null,null,{"$f":"COUNTIF(VNV$3:VNX$31,$A66)","v":0},null,null,null,{"$f":"COUNTIF(VNZ$3:VOB$31,$A66)","v":0},null,null,null,{"$f":"COUNTIF(VOD$3:VOF$31,$A66)","v":0},null,null,null,{"$f":"COUNTIF(VOH$3:VOJ$31,$A66)","v":0},null,null,null,{"$f":"COUNTIF(VOL$3:VON$31,$A66)","v":0},null,null,null,{"$f":"COUNTIF(VOP$3:VOR$31,$A66)","v":0},null,null,null,{"$f":"COUNTIF(VOT$3:VOV$31,$A66)","v":0},null,null,null,{"$f":"COUNTIF(VOX$3:VOZ$31,$A66)","v":0},null,null,null,{"$f":"COUNTIF(VPB$3:VPD$31,$A66)","v":0},null,null,null,{"$f":"COUNTIF(VPF$3:VPH$31,$A66)","v":0},null,null,null,{"$f":"COUNTIF(VPJ$3:VPL$31,$A66)","v":0},null,null,null,{"$f":"COUNTIF(VPN$3:VPP$31,$A66)","v":0},null,null,null,{"$f":"COUNTIF(VPR$3:VPT$31,$A66)","v":0},null,null,null,{"$f":"COUNTIF(VPV$3:VPX$31,$A66)","v":0},null,null,null,{"$f":"COUNTIF(VPZ$3:VQB$31,$A66)","v":0},null,null,null,{"$f":"COUNTIF(VQD$3:VQF$31,$A66)","v":0},null,null,null,{"$f":"COUNTIF(VQH$3:VQJ$31,$A66)","v":0},null,null,null,{"$f":"COUNTIF(VQL$3:VQN$31,$A66)","v":0},null,null,null,{"$f":"COUNTIF(VQP$3:VQR$31,$A66)","v":0},null,null,null,{"$f":"COUNTIF(VQT$3:VQV$31,$A66)","v":0},null,null,null,{"$f":"COUNTIF(VQX$3:VQZ$31,$A66)","v":0},null,null,null,{"$f":"COUNTIF(VRB$3:VRD$31,$A66)","v":0},null,null,null,{"$f":"COUNTIF(VRF$3:VRH$31,$A66)","v":0},null,null,null,{"$f":"COUNTIF(VRJ$3:VRL$31,$A66)","v":0},null,null,null,{"$f":"COUNTIF(VRN$3:VRP$31,$A66)","v":0},null,null,null,{"$f":"COUNTIF(VRR$3:VRT$31,$A66)","v":0},null,null,null,{"$f":"COUNTIF(VRV$3:VRX$31,$A66)","v":0},null,null,null,{"$f":"COUNTIF(VRZ$3:VSB$31,$A66)","v":0},null,null,null,{"$f":"COUNTIF(VSD$3:VSF$31,$A66)","v":0},null,null,null,{"$f":"COUNTIF(VSH$3:VSJ$31,$A66)","v":0},null,null,null,{"$f":"COUNTIF(VSL$3:VSN$31,$A66)","v":0},null,null,null,{"$f":"COUNTIF(VSP$3:VSR$31,$A66)","v":0},null,null,null,{"$f":"COUNTIF(VST$3:VSV$31,$A66)","v":0},null,null,null,{"$f":"COUNTIF(VSX$3:VSZ$31,$A66)","v":0},null,null,null,{"$f":"COUNTIF(VTB$3:VTD$31,$A66)","v":0},null,null,null,{"$f":"COUNTIF(VTF$3:VTH$31,$A66)","v":0},null,null,null,{"$f":"COUNTIF(VTJ$3:VTL$31,$A66)","v":0},null,null,null,{"$f":"COUNTIF(VTN$3:VTP$31,$A66)","v":0},null,null,null,{"$f":"COUNTIF(VTR$3:VTT$31,$A66)","v":0},null,null,null,{"$f":"COUNTIF(VTV$3:VTX$31,$A66)","v":0},null,null,null,{"$f":"COUNTIF(VTZ$3:VUB$31,$A66)","v":0},null,null,null,{"$f":"COUNTIF(VUD$3:VUF$31,$A66)","v":0},null,null,null,{"$f":"COUNTIF(VUH$3:VUJ$31,$A66)","v":0},null,null,null,{"$f":"COUNTIF(VUL$3:VUN$31,$A66)","v":0},null,null,null,{"$f":"COUNTIF(VUP$3:VUR$31,$A66)","v":0},null,null,null,{"$f":"COUNTIF(VUT$3:VUV$31,$A66)","v":0},null,null,null,{"$f":"COUNTIF(VUX$3:VUZ$31,$A66)","v":0},null,null,null,{"$f":"COUNTIF(VVB$3:VVD$31,$A66)","v":0},null,null,null,{"$f":"COUNTIF(VVF$3:VVH$31,$A66)","v":0},null,null,null,{"$f":"COUNTIF(VVJ$3:VVL$31,$A66)","v":0},null,null,null,{"$f":"COUNTIF(VVN$3:VVP$31,$A66)","v":0},null,null,null,{"$f":"COUNTIF(VVR$3:VVT$31,$A66)","v":0},null,null,null,{"$f":"COUNTIF(VVV$3:VVX$31,$A66)","v":0},null,null,null,{"$f":"COUNTIF(VVZ$3:VWB$31,$A66)","v":0},null,null,null,{"$f":"COUNTIF(VWD$3:VWF$31,$A66)","v":0},null,null,null,{"$f":"COUNTIF(VWH$3:VWJ$31,$A66)","v":0},null,null,null,{"$f":"COUNTIF(VWL$3:VWN$31,$A66)","v":0},null,null,null,{"$f":"COUNTIF(VWP$3:VWR$31,$A66)","v":0},null,null,null,{"$f":"COUNTIF(VWT$3:VWV$31,$A66)","v":0},null,null,null,{"$f":"COUNTIF(VWX$3:VWZ$31,$A66)","v":0},null,null,null,{"$f":"COUNTIF(VXB$3:VXD$31,$A66)","v":0},null,null,null,{"$f":"COUNTIF(VXF$3:VXH$31,$A66)","v":0},null,null,null,{"$f":"COUNTIF(VXJ$3:VXL$31,$A66)","v":0},null,null,null,{"$f":"COUNTIF(VXN$3:VXP$31,$A66)","v":0},null,null,null,{"$f":"COUNTIF(VXR$3:VXT$31,$A66)","v":0},null,null,null,{"$f":"COUNTIF(VXV$3:VXX$31,$A66)","v":0},null,null,null,{"$f":"COUNTIF(VXZ$3:VYB$31,$A66)","v":0},null,null,null,{"$f":"COUNTIF(VYD$3:VYF$31,$A66)","v":0},null,null,null,{"$f":"COUNTIF(VYH$3:VYJ$31,$A66)","v":0},null,null,null,{"$f":"COUNTIF(VYL$3:VYN$31,$A66)","v":0},null,null,null,{"$f":"COUNTIF(VYP$3:VYR$31,$A66)","v":0},null,null,null,{"$f":"COUNTIF(VYT$3:VYV$31,$A66)","v":0},null,null,null,{"$f":"COUNTIF(VYX$3:VYZ$31,$A66)","v":0},null,null,null,{"$f":"COUNTIF(VZB$3:VZD$31,$A66)","v":0},null,null,null,{"$f":"COUNTIF(VZF$3:VZH$31,$A66)","v":0},null,null,null,{"$f":"COUNTIF(VZJ$3:VZL$31,$A66)","v":0},null,null,null,{"$f":"COUNTIF(VZN$3:VZP$31,$A66)","v":0},null,null,null,{"$f":"COUNTIF(VZR$3:VZT$31,$A66)","v":0},null,null,null,{"$f":"COUNTIF(VZV$3:VZX$31,$A66)","v":0},null,null,null,{"$f":"COUNTIF(VZZ$3:WAB$31,$A66)","v":0},null,null,null,{"$f":"COUNTIF(WAD$3:WAF$31,$A66)","v":0},null,null,null,{"$f":"COUNTIF(WAH$3:WAJ$31,$A66)","v":0},null,null,null,{"$f":"COUNTIF(WAL$3:WAN$31,$A66)","v":0},null,null,null,{"$f":"COUNTIF(WAP$3:WAR$31,$A66)","v":0},null,null,null,{"$f":"COUNTIF(WAT$3:WAV$31,$A66)","v":0},null,null,null,{"$f":"COUNTIF(WAX$3:WAZ$31,$A66)","v":0},null,null,null,{"$f":"COUNTIF(WBB$3:WBD$31,$A66)","v":0},null,null,null,{"$f":"COUNTIF(WBF$3:WBH$31,$A66)","v":0},null,null,null,{"$f":"COUNTIF(WBJ$3:WBL$31,$A66)","v":0},null,null,null,{"$f":"COUNTIF(WBN$3:WBP$31,$A66)","v":0},null,null,null,{"$f":"COUNTIF(WBR$3:WBT$31,$A66)","v":0},null,null,null,{"$f":"COUNTIF(WBV$3:WBX$31,$A66)","v":0},null,null,null,{"$f":"COUNTIF(WBZ$3:WCB$31,$A66)","v":0},null,null,null,{"$f":"COUNTIF(WCD$3:WCF$31,$A66)","v":0},null,null,null,{"$f":"COUNTIF(WCH$3:WCJ$31,$A66)","v":0},null,null,null,{"$f":"COUNTIF(WCL$3:WCN$31,$A66)","v":0},null,null,null,{"$f":"COUNTIF(WCP$3:WCR$31,$A66)","v":0},null,null,null,{"$f":"COUNTIF(WCT$3:WCV$31,$A66)","v":0},null,null,null,{"$f":"COUNTIF(WCX$3:WCZ$31,$A66)","v":0},null,null,null,{"$f":"COUNTIF(WDB$3:WDD$31,$A66)","v":0},null,null,null,{"$f":"COUNTIF(WDF$3:WDH$31,$A66)","v":0},null,null,null,{"$f":"COUNTIF(WDJ$3:WDL$31,$A66)","v":0},null,null,null,{"$f":"COUNTIF(WDN$3:WDP$31,$A66)","v":0},null,null,null,{"$f":"COUNTIF(WDR$3:WDT$31,$A66)","v":0},null,null,null,{"$f":"COUNTIF(WDV$3:WDX$31,$A66)","v":0},null,null,null,{"$f":"COUNTIF(WDZ$3:WEB$31,$A66)","v":0},null,null,null,{"$f":"COUNTIF(WED$3:WEF$31,$A66)","v":0},null,null,null,{"$f":"COUNTIF(WEH$3:WEJ$31,$A66)","v":0},null,null,null,{"$f":"COUNTIF(WEL$3:WEN$31,$A66)","v":0},null,null,null,{"$f":"COUNTIF(WEP$3:WER$31,$A66)","v":0},null,null,null,{"$f":"COUNTIF(WET$3:WEV$31,$A66)","v":0},null,null,null,{"$f":"COUNTIF(WEX$3:WEZ$31,$A66)","v":0},null,null,null,{"$f":"COUNTIF(WFB$3:WFD$31,$A66)","v":0},null,null,null,{"$f":"COUNTIF(WFF$3:WFH$31,$A66)","v":0},null,null,null,{"$f":"COUNTIF(WFJ$3:WFL$31,$A66)","v":0},null,null,null,{"$f":"COUNTIF(WFN$3:WFP$31,$A66)","v":0},null,null,null,{"$f":"COUNTIF(WFR$3:WFT$31,$A66)","v":0},null,null,null,{"$f":"COUNTIF(WFV$3:WFX$31,$A66)","v":0},null,null,null,{"$f":"COUNTIF(WFZ$3:WGB$31,$A66)","v":0},null,null,null,{"$f":"COUNTIF(WGD$3:WGF$31,$A66)","v":0},null,null,null,{"$f":"COUNTIF(WGH$3:WGJ$31,$A66)","v":0},null,null,null,{"$f":"COUNTIF(WGL$3:WGN$31,$A66)","v":0},null,null,null,{"$f":"COUNTIF(WGP$3:WGR$31,$A66)","v":0},null,null,null,{"$f":"COUNTIF(WGT$3:WGV$31,$A66)","v":0},null,null,null,{"$f":"COUNTIF(WGX$3:WGZ$31,$A66)","v":0},null,null,null,{"$f":"COUNTIF(WHB$3:WHD$31,$A66)","v":0},null,null,null,{"$f":"COUNTIF(WHF$3:WHH$31,$A66)","v":0},null,null,null,{"$f":"COUNTIF(WHJ$3:WHL$31,$A66)","v":0},null,null,null,{"$f":"COUNTIF(WHN$3:WHP$31,$A66)","v":0},null,null,null,{"$f":"COUNTIF(WHR$3:WHT$31,$A66)","v":0},null,null,null,{"$f":"COUNTIF(WHV$3:WHX$31,$A66)","v":0},null,null,null,{"$f":"COUNTIF(WHZ$3:WIB$31,$A66)","v":0},null,null,null,{"$f":"COUNTIF(WID$3:WIF$31,$A66)","v":0},null,null,null,{"$f":"COUNTIF(WIH$3:WIJ$31,$A66)","v":0},null,null,null,{"$f":"COUNTIF(WIL$3:WIN$31,$A66)","v":0},null,null,null,{"$f":"COUNTIF(WIP$3:WIR$31,$A66)","v":0},null,null,null,{"$f":"COUNTIF(WIT$3:WIV$31,$A66)","v":0},null,null,null,{"$f":"COUNTIF(WIX$3:WIZ$31,$A66)","v":0},null,null,null,{"$f":"COUNTIF(WJB$3:WJD$31,$A66)","v":0},null,null,null,{"$f":"COUNTIF(WJF$3:WJH$31,$A66)","v":0},null,null,null,{"$f":"COUNTIF(WJJ$3:WJL$31,$A66)","v":0},null,null,null,{"$f":"COUNTIF(WJN$3:WJP$31,$A66)","v":0},null,null,null,{"$f":"COUNTIF(WJR$3:WJT$31,$A66)","v":0},null,null,null,{"$f":"COUNTIF(WJV$3:WJX$31,$A66)","v":0},null,null,null,{"$f":"COUNTIF(WJZ$3:WKB$31,$A66)","v":0},null,null,null,{"$f":"COUNTIF(WKD$3:WKF$31,$A66)","v":0},null,null,null,{"$f":"COUNTIF(WKH$3:WKJ$31,$A66)","v":0},null,null,null,{"$f":"COUNTIF(WKL$3:WKN$31,$A66)","v":0},null,null,null,{"$f":"COUNTIF(WKP$3:WKR$31,$A66)","v":0},null,null,null,{"$f":"COUNTIF(WKT$3:WKV$31,$A66)","v":0},null,null,null,{"$f":"COUNTIF(WKX$3:WKZ$31,$A66)","v":0},null,null,null,{"$f":"COUNTIF(WLB$3:WLD$31,$A66)","v":0},null,null,null,{"$f":"COUNTIF(WLF$3:WLH$31,$A66)","v":0},null,null,null,{"$f":"COUNTIF(WLJ$3:WLL$31,$A66)","v":0},null,null,null,{"$f":"COUNTIF(WLN$3:WLP$31,$A66)","v":0},null,null,null,{"$f":"COUNTIF(WLR$3:WLT$31,$A66)","v":0},null,null,null,{"$f":"COUNTIF(WLV$3:WLX$31,$A66)","v":0},null,null,null,{"$f":"COUNTIF(WLZ$3:WMB$31,$A66)","v":0},null,null,null,{"$f":"COUNTIF(WMD$3:WMF$31,$A66)","v":0},null,null,null,{"$f":"COUNTIF(WMH$3:WMJ$31,$A66)","v":0},null,null,null,{"$f":"COUNTIF(WML$3:WMN$31,$A66)","v":0},null,null,null,{"$f":"COUNTIF(WMP$3:WMR$31,$A66)","v":0},null,null,null,{"$f":"COUNTIF(WMT$3:WMV$31,$A66)","v":0},null,null,null,{"$f":"COUNTIF(WMX$3:WMZ$31,$A66)","v":0},null,null,null,{"$f":"COUNTIF(WNB$3:WND$31,$A66)","v":0},null,null,null,{"$f":"COUNTIF(WNF$3:WNH$31,$A66)","v":0},null,null,null,{"$f":"COUNTIF(WNJ$3:WNL$31,$A66)","v":0},null,null,null,{"$f":"COUNTIF(WNN$3:WNP$31,$A66)","v":0},null,null,null,{"$f":"COUNTIF(WNR$3:WNT$31,$A66)","v":0},null,null,null,{"$f":"COUNTIF(WNV$3:WNX$31,$A66)","v":0},null,null,null,{"$f":"COUNTIF(WNZ$3:WOB$31,$A66)","v":0},null,null,null,{"$f":"COUNTIF(WOD$3:WOF$31,$A66)","v":0},null,null,null,{"$f":"COUNTIF(WOH$3:WOJ$31,$A66)","v":0},null,null,null,{"$f":"COUNTIF(WOL$3:WON$31,$A66)","v":0},null,null,null,{"$f":"COUNTIF(WOP$3:WOR$31,$A66)","v":0},null,null,null,{"$f":"COUNTIF(WOT$3:WOV$31,$A66)","v":0},null,null,null,{"$f":"COUNTIF(WOX$3:WOZ$31,$A66)","v":0},null,null,null,{"$f":"COUNTIF(WPB$3:WPD$31,$A66)","v":0},null,null,null,{"$f":"COUNTIF(WPF$3:WPH$31,$A66)","v":0},null,null,null,{"$f":"COUNTIF(WPJ$3:WPL$31,$A66)","v":0},null,null,null,{"$f":"COUNTIF(WPN$3:WPP$31,$A66)","v":0},null,null,null,{"$f":"COUNTIF(WPR$3:WPT$31,$A66)","v":0},null,null,null,{"$f":"COUNTIF(WPV$3:WPX$31,$A66)","v":0},null,null,null,{"$f":"COUNTIF(WPZ$3:WQB$31,$A66)","v":0},null,null,null,{"$f":"COUNTIF(WQD$3:WQF$31,$A66)","v":0},null,null,null,{"$f":"COUNTIF(WQH$3:WQJ$31,$A66)","v":0},null,null,null,{"$f":"COUNTIF(WQL$3:WQN$31,$A66)","v":0},null,null,null,{"$f":"COUNTIF(WQP$3:WQR$31,$A66)","v":0},null,null,null,{"$f":"COUNTIF(WQT$3:WQV$31,$A66)","v":0},null,null,null,{"$f":"COUNTIF(WQX$3:WQZ$31,$A66)","v":0},null,null,null,{"$f":"COUNTIF(WRB$3:WRD$31,$A66)","v":0},null,null,null,{"$f":"COUNTIF(WRF$3:WRH$31,$A66)","v":0},null,null,null,{"$f":"COUNTIF(WRJ$3:WRL$31,$A66)","v":0},null,null,null,{"$f":"COUNTIF(WRN$3:WRP$31,$A66)","v":0},null,null,null,{"$f":"COUNTIF(WRR$3:WRT$31,$A66)","v":0},null,null,null,{"$f":"COUNTIF(WRV$3:WRX$31,$A66)","v":0},null,null,null,{"$f":"COUNTIF(WRZ$3:WSB$31,$A66)","v":0},null,null,null,{"$f":"COUNTIF(WSD$3:WSF$31,$A66)","v":0},null,null,null,{"$f":"COUNTIF(WSH$3:WSJ$31,$A66)","v":0},null,null,null,{"$f":"COUNTIF(WSL$3:WSN$31,$A66)","v":0},null,null,null,{"$f":"COUNTIF(WSP$3:WSR$31,$A66)","v":0},null,null,null,{"$f":"COUNTIF(WST$3:WSV$31,$A66)","v":0},null,null,null,{"$f":"COUNTIF(WSX$3:WSZ$31,$A66)","v":0},null,null,null,{"$f":"COUNTIF(WTB$3:WTD$31,$A66)","v":0},null,null,null,{"$f":"COUNTIF(WTF$3:WTH$31,$A66)","v":0},null,null,null,{"$f":"COUNTIF(WTJ$3:WTL$31,$A66)","v":0},null,null,null,{"$f":"COUNTIF(WTN$3:WTP$31,$A66)","v":0},null,null,null,{"$f":"COUNTIF(WTR$3:WTT$31,$A66)","v":0},null,null,null,{"$f":"COUNTIF(WTV$3:WTX$31,$A66)","v":0},null,null,null,{"$f":"COUNTIF(WTZ$3:WUB$31,$A66)","v":0},null,null,null,{"$f":"COUNTIF(WUD$3:WUF$31,$A66)","v":0},null,null,null,{"$f":"COUNTIF(WUH$3:WUJ$31,$A66)","v":0},null,null,null,{"$f":"COUNTIF(WUL$3:WUN$31,$A66)","v":0},null,null,null,{"$f":"COUNTIF(WUP$3:WUR$31,$A66)","v":0},null,null,null,{"$f":"COUNTIF(WUT$3:WUV$31,$A66)","v":0},null,null,null,{"$f":"COUNTIF(WUX$3:WUZ$31,$A66)","v":0},null,null,null,{"$f":"COUNTIF(WVB$3:WVD$31,$A66)","v":0},null,null,null,{"$f":"COUNTIF(WVF$3:WVH$31,$A66)","v":0},null,null,null,{"$f":"COUNTIF(WVJ$3:WVL$31,$A66)","v":0},null,null,null,{"$f":"COUNTIF(WVN$3:WVP$31,$A66)","v":0},null,null,null,{"$f":"COUNTIF(WVR$3:WVT$31,$A66)","v":0},null,null,null,{"$f":"COUNTIF(WVV$3:WVX$31,$A66)","v":0},null,null,null,{"$f":"COUNTIF(WVZ$3:WWB$31,$A66)","v":0},null,null,null,{"$f":"COUNTIF(WWD$3:WWF$31,$A66)","v":0},null,null,null,{"$f":"COUNTIF(WWH$3:WWJ$31,$A66)","v":0},null,null,null,{"$f":"COUNTIF(WWL$3:WWN$31,$A66)","v":0},null,null,null,{"$f":"COUNTIF(WWP$3:WWR$31,$A66)","v":0},null,null,null,{"$f":"COUNTIF(WWT$3:WWV$31,$A66)","v":0},null,null,null,{"$f":"COUNTIF(WWX$3:WWZ$31,$A66)","v":0},null,null,null,{"$f":"COUNTIF(WXB$3:WXD$31,$A66)","v":0},null,null,null,{"$f":"COUNTIF(WXF$3:WXH$31,$A66)","v":0},null,null,null,{"$f":"COUNTIF(WXJ$3:WXL$31,$A66)","v":0},null,null,null,{"$f":"COUNTIF(WXN$3:WXP$31,$A66)","v":0},null,null,null,{"$f":"COUNTIF(WXR$3:WXT$31,$A66)","v":0},null,null,null,{"$f":"COUNTIF(WXV$3:WXX$31,$A66)","v":0},null,null,null,{"$f":"COUNTIF(WXZ$3:WYB$31,$A66)","v":0},null,null,null,{"$f":"COUNTIF(WYD$3:WYF$31,$A66)","v":0},null,null,null,{"$f":"COUNTIF(WYH$3:WYJ$31,$A66)","v":0},null,null,null,{"$f":"COUNTIF(WYL$3:WYN$31,$A66)","v":0},null,null,null,{"$f":"COUNTIF(WYP$3:WYR$31,$A66)","v":0},null,null,null,{"$f":"COUNTIF(WYT$3:WYV$31,$A66)","v":0},null,null,null,{"$f":"COUNTIF(WYX$3:WYZ$31,$A66)","v":0},null,null,null,{"$f":"COUNTIF(WZB$3:WZD$31,$A66)","v":0},null,null,null,{"$f":"COUNTIF(WZF$3:WZH$31,$A66)","v":0},null,null,null,{"$f":"COUNTIF(WZJ$3:WZL$31,$A66)","v":0},null,null,null,{"$f":"COUNTIF(WZN$3:WZP$31,$A66)","v":0},null,null,null,{"$f":"COUNTIF(WZR$3:WZT$31,$A66)","v":0},null,null,null,{"$f":"COUNTIF(WZV$3:WZX$31,$A66)","v":0},null,null,null,{"$f":"COUNTIF(WZZ$3:XAB$31,$A66)","v":0},null,null,null,{"$f":"COUNTIF(XAD$3:XAF$31,$A66)","v":0},null,null,null,{"$f":"COUNTIF(XAH$3:XAJ$31,$A66)","v":0},null,null,null,{"$f":"COUNTIF(XAL$3:XAN$31,$A66)","v":0},null,null,null,{"$f":"COUNTIF(XAP$3:XAR$31,$A66)","v":0},null,null,null,{"$f":"COUNTIF(XAT$3:XAV$31,$A66)","v":0},null,null,null,{"$f":"COUNTIF(XAX$3:XAZ$31,$A66)","v":0},null,null,null,{"$f":"COUNTIF(XBB$3:XBD$31,$A66)","v":0},null,null,null,{"$f":"COUNTIF(XBF$3:XBH$31,$A66)","v":0},null,null,null,{"$f":"COUNTIF(XBJ$3:XBL$31,$A66)","v":0},null,null,null,{"$f":"COUNTIF(XBN$3:XBP$31,$A66)","v":0},null,null,null,{"$f":"COUNTIF(XBR$3:XBT$31,$A66)","v":0},null,null,null,{"$f":"COUNTIF(XBV$3:XBX$31,$A66)","v":0},null,null,null,{"$f":"COUNTIF(XBZ$3:XCB$31,$A66)","v":0},null,null,null,{"$f":"COUNTIF(XCD$3:XCF$31,$A66)","v":0},null,null,null,{"$f":"COUNTIF(XCH$3:XCJ$31,$A66)","v":0},null,null,null,{"$f":"COUNTIF(XCL$3:XCN$31,$A66)","v":0},null,null,null,{"$f":"COUNTIF(XCP$3:XCR$31,$A66)","v":0},null,null,null,{"$f":"COUNTIF(XCT$3:XCV$31,$A66)","v":0},null,null,null,{"$f":"COUNTIF(XCX$3:XCZ$31,$A66)","v":0},null,null,null,{"$f":"COUNTIF(XDB$3:XDD$31,$A66)","v":0},null,null,null,{"$f":"COUNTIF(XDF$3:XDH$31,$A66)","v":0},null,null,null,{"$f":"COUNTIF(XDJ$3:XDL$31,$A66)","v":0},null,null,null,{"$f":"COUNTIF(XDN$3:XDP$31,$A66)","v":0},null,null,null,{"$f":"COUNTIF(XDR$3:XDT$31,$A66)","v":0},null,null,null,{"$f":"COUNTIF(XDV$3:XDX$31,$A66)","v":0},null,null,null,{"$f":"COUNTIF(XDZ$3:XEB$31,$A66)","v":0},null,null,null,{"$f":"COUNTIF(XED$3:XEF$31,$A66)","v":0},null,null,null,{"$f":"COUNTIF(XEH$3:XEJ$31,$A66)","v":0},null,null,null,{"$f":"COUNTIF(XEL$3:XEN$31,$A66)","v":0},null,null,null,{"$f":"COUNTIF(XEP$3:XER$31,$A66)","v":0},null,null,null,{"$f":"COUNTIF(XET$3:XEV$31,$A66)","v":0},null,null,null,{"$f":"COUNTIF(XEX$3:XEZ$31,$A66)","v":0},null,null,null,{"$f":"COUNTIF(XFB$3:XFD$31,$A66)","v":0}]
["Fam Sess 4 - Understanding Family Values",null,{"$f":"COUNTIF(B$3:D$31,$A67)","v":0},null,null,null,{"$f":"COUNTIF(F$3:H$31,$A67)","v":0},null,null,null,0,null,null,null,0,null,null,null,0,null,null,null,0,null,null,null,0,null,null,null,0,null,null,null,0,null,null,null,0,null,null,null,0,null,null,null,0,null,null,null,0,null,null,null,0,null,null,null,0,null,null,null,0,null,null,null,0,null,null,null,{"$f":"COUNTIF(BR$3:BT$31,$A67)","v":0},null,null,null,0,null,null,null,0,null,null,null,0,null,null,null,0,null,null,null,0,null,null,null,0,null,null,null,0,null,null,null,0,null,null,null,0,null,null,null,0,null,null,null,0,null,null,null,0,null,null,null,0,null,null,null,0,null,null,null,0,null,null,null,{"$f":"COUNTIF(ED$3:EF$31,$A67)","v":0},null,null,null,0,null,null,null,0,null,null,null,0,null,null,null,0,null,null,null,0,null,null,null,0,null,null,null,0,null,null,null,0,null,null,null,0,null,null,null,0,null,null,null,0,null,null,null,0,null,null,null,0,null,null,null,0,null,null,null,0,null,null,null,{"$f":"COUNTIF(GP$3:GR$31,$A67)","v":0},null,null,null,0,null,null,null,0,null,null,null,0,null,null,null,0,null,null,null,0,null,null,null,0,null,null,null,0,null,null,null,0,null,null,null,0,null,null,null,0,null,null,null,0,null,null,null,0,null,null,null,0,null,null,null,0,null,null,null,0,null,null,null,{"$f":"COUNTIF(JB$3:JD$31,$A67)","v":0},null,null,null,0,null,null,null,0,null,null,null,0,null,null,null,0,null,null,null,0,null,null,null,0,null,null,null,0,null,null,null,0,null,null,null,0,null,null,null,0,null,null,null,0,null,null,null,0,null,null,null,0,null,null,null,0,null,null,null,0,null,null,null,{"$f":"COUNTIF(LN$3:LP$31,$A67)","v":0},null,null,null,0,null,null,null,0,null,null,null,0,null,null,null,0,null,null,null,0,null,null,null,0,null,null,null,0,null,null,null,0,null,null,null,0,null,null,null,0,null,null,null,0,null,null,null,0,null,null,null,0,null,null,null,0,null,null,null,0,null,null,null,{"$f":"COUNTIF(NZ$3:OB$31,$A67)","v":0},null,null,null,0,null,null,null,0,null,null,null,0,null,null,null,0,null,null,null,0,null,null,null,0,null,null,null,0,null,null,null,0,null,null,null,0,null,null,null,0,null,null,null,0,null,null,null,0,null,null,null,0,null,null,null,0,null,null,null,0,null,null,null,{"$f":"COUNTIF(QL$3:QN$31,$A67)","v":0},null,null,null,0,null,null,null,0,null,null,null,0,null,null,null,0,null,null,null,0,null,null,null,0,null,null,null,0,null,null,null,0,null,null,null,0,null,null,null,0,null,null,null,0,null,null,null,0,null,null,null,0,null,null,null,0,null,null,null,0,null,null,null,{"$f":"COUNTIF(SX$3:SZ$31,$A67)","v":0},null,null,null,0,null,null,null,0,null,null,null,0,null,null,null,0,null,null,null,0,null,null,null,0,null,null,null,0,null,null,null,0,null,null,null,0,null,null,null,0,null,null,null,0,null,null,null,0,null,null,null,0,null,null,null,0,null,null,null,0,null,null,null,{"$f":"COUNTIF(VJ$3:VL$31,$A67)","v":0},null,null,null,0,null,null,null,0,null,null,null,0,null,null,null,0,null,null,null,0,null,null,null,0,null,null,null,0,null,null,null,0,null,null,null,0,null,null,null,0,null,null,null,0,null,null,null,0,null,null,null,0,null,null,null,0,null,null,null,0,null,null,null,{"$f":"COUNTIF(XV$3:XX$31,$A67)","v":0},null,null,null,0,null,null,null,0,null,null,null,0,null,null,null,0,null,null,null,0,null,null,null,0,null,null,null,0,null,null,null,0,null,null,null,0,null,null,null,0,null,null,null,0,null,null,null,0,null,null,null,0,null,null,null,0,null,null,null,0,null,null,null,{"$f":"COUNTIF(AAH$3:AAJ$31,$A67)","v":0},null,null,null,0,null,null,null,0,null,null,null,0,null,null,null,0,null,null,null,0,null,null,null,0,null,null,null,0,null,null,null,0,null,null,null,0,null,null,null,0,null,null,null,0,null,null,null,0,null,null,null,0,null,null,null,0,null,null,null,0,null,null,null,{"$f":"COUNTIF(ACT$3:ACV$31,$A67)","v":0},null,null,null,0,null,null,null,0,null,null,null,0,null,null,null,0,null,null,null,0,null,null,null,0,null,null,null,0,null,null,null,0,null,null,null,0,null,null,null,0,null,null,null,0,null,null,null,0,null,null,null,0,null,null,null,0,null,null,null,0,null,null,null,{"$f":"COUNTIF(AFF$3:AFH$31,$A67)","v":0},null,null,null,0,null,null,null,0,null,null,null,0,null,null,null,0,null,null,null,0,null,null,null,0,null,null,null,0,null,null,null,0,null,null,null,0,null,null,null,0,null,null,null,0,null,null,null,0,null,null,null,0,null,null,null,0,null,null,null,0,null,null,null,{"$f":"COUNTIF(AHR$3:AHT$31,$A67)","v":0},null,null,null,0,null,null,null,0,null,null,null,0,null,null,null,0,null,null,null,0,null,null,null,0,null,null,null,0,null,null,null,0,null,null,null,0,null,null,null,0,null,null,null,0,null,null,null,0,null,null,null,0,null,null,null,0,null,null,null,0,null,null,null,{"$f":"COUNTIF(AKD$3:AKF$31,$A67)","v":0},null,null,null,0,null,null,null,0,null,null,null,0,null,null,null,0,null,null,null,0,null,null,null,0,null,null,null,0,null,null,null,0,null,null,null,0,null,null,null,0,null,null,null,0,null,null,null,0,null,null,null,0,null,null,null,0,null,null,null,0,null,null,null,{"$f":"COUNTIF(AMP$3:AMR$31,$A67)","v":0},null,null,null,0,null,null,null,0,null,null,null,0,null,null,null,0,null,null,null,0,null,null,null,0,null,null,null,0,null,null,null,0,null,null,null,0,null,null,null,0,null,null,null,0,null,null,null,0,null,null,null,0,null,null,null,0,null,null,null,0,null,null,null,{"$f":"COUNTIF(APB$3:APD$31,$A67)","v":0},null,null,null,0,null,null,null,0,null,null,null,0,null,null,null,0,null,null,null,0,null,null,null,0,null,null,null,0,null,null,null,0,null,null,null,0,null,null,null,0,null,null,null,0,null,null,null,0,null,null,null,0,null,null,null,0,null,null,null,0,null,null,null,{"$f":"COUNTIF(ARN$3:ARP$31,$A67)","v":0},null,null,null,0,null,null,null,0,null,null,null,0,null,null,null,0,null,null,null,0,null,null,null,0,null,null,null,0,null,null,null,0,null,null,null,0,null,null,null,0,null,null,null,0,null,null,null,0,null,null,null,0,null,null,null,0,null,null,null,0,null,null,null,{"$f":"COUNTIF(ATZ$3:AUB$31,$A67)","v":0},null,null,null,0,null,null,null,0,null,null,null,0,null,null,null,0,null,null,null,0,null,null,null,0,null,null,null,0,null,null,null,0,null,null,null,0,null,null,null,0,null,null,null,0,null,null,null,0,null,null,null,0,null,null,null,0,null,null,null,0,null,null,null,{"$f":"COUNTIF(AWL$3:AWN$31,$A67)","v":0},null,null,null,0,null,null,null,0,null,null,null,0,null,null,null,0,null,null,null,0,null,null,null,0,null,null,null,0,null,null,null,0,null,null,null,0,null,null,null,0,null,null,null,0,null,null,null,0,null,null,null,0,null,null,null,0,null,null,null,0,null,null,null,{"$f":"COUNTIF(AYX$3:AYZ$31,$A67)","v":0},null,null,null,0,null,null,null,0,null,null,null,0,null,null,null,0,null,null,null,0,null,null,null,0,null,null,null,0,null,null,null,0,null,null,null,0,null,null,null,0,null,null,null,0,null,null,null,0,null,null,null,0,null,null,null,0,null,null,null,0,null,null,null,{"$f":"COUNTIF(BBJ$3:BBL$31,$A67)","v":0},null,null,null,0,null,null,null,0,null,null,null,0,null,null,null,0,null,null,null,0,null,null,null,0,null,null,null,0,null,null,null,0,null,null,null,0,null,null,null,0,null,null,null,0,null,null,null,0,null,null,null,0,null,null,null,0,null,null,null,0,null,null,null,{"$f":"COUNTIF(BDV$3:BDX$31,$A67)","v":0},null,null,null,0,null,null,null,0,null,null,null,0,null,null,null,0,null,null,null,0,null,null,null,0,null,null,null,0,null,null,null,0,null,null,null,0,null,null,null,0,null,null,null,0,null,null,null,0,null,null,null,0,null,null,null,0,null,null,null,0,null,null,null,{"$f":"COUNTIF(BGH$3:BGJ$31,$A67)","v":0},null,null,null,0,null,null,null,0,null,null,null,0,null,null,null,0,null,null,null,0,null,null,null,0,null,null,null,0,null,null,null,0,null,null,null,0,null,null,null,0,null,null,null,0,null,null,null,0,null,null,null,0,null,null,null,0,null,null,null,0,null,null,null,{"$f":"COUNTIF(BIT$3:BIV$31,$A67)","v":0},null,null,null,0,null,null,null,0,null,null,null,0,null,null,null,0,null,null,null,0,null,null,null,0,null,null,null,0,null,null,null,0,null,null,null,0,null,null,null,0,null,null,null,0,null,null,null,0,null,null,null,0,null,null,null,0,null,null,null,0,null,null,null,{"$f":"COUNTIF(BLF$3:BLH$31,$A67)","v":0},null,null,null,0,null,null,null,0,null,null,null,0,null,null,null,0,null,null,null,0,null,null,null,0,null,null,null,0,null,null,null,0,null,null,null,0,null,null,null,0,null,null,null,0,null,null,null,0,null,null,null,0,null,null,null,0,null,null,null,0,null,null,null,{"$f":"COUNTIF(BNR$3:BNT$31,$A67)","v":0},null,null,null,0,null,null,null,0,null,null,null,0,null,null,null,0,null,null,null,0,null,null,null,0,null,null,null,0,null,null,null,0,null,null,null,0,null,null,null,0,null,null,null,0,null,null,null,0,null,null,null,0,null,null,null,0,null,null,null,0,null,null,null,{"$f":"COUNTIF(BQD$3:BQF$31,$A67)","v":0},null,null,null,0,null,null,null,0,null,null,null,0,null,null,null,0,null,null,null,0,null,null,null,0,null,null,null,0,null,null,null,0,null,null,null,0,null,null,null,0,null,null,null,0,null,null,null,0,null,null,null,0,null,null,null,0,null,null,null,0,null,null,null,{"$f":"COUNTIF(BSP$3:BSR$31,$A67)","v":0},null,null,null,0,null,null,null,0,null,null,null,0,null,null,null,0,null,null,null,0,null,null,null,0,null,null,null,0,null,null,null,0,null,null,null,0,null,null,null,0,null,null,null,0,null,null,null,0,null,null,null,0,null,null,null,0,null,null,null,0,null,null,null,{"$f":"COUNTIF(BVB$3:BVD$31,$A67)","v":0},null,null,null,0,null,null,null,0,null,null,null,0,null,null,null,0,null,null,null,0,null,null,null,0,null,null,null,0,null,null,null,0,null,null,null,0,null,null,null,0,null,null,null,0,null,null,null,0,null,null,null,0,null,null,null,0,null,null,null,0,null,null,null,{"$f":"COUNTIF(BXN$3:BXP$31,$A67)","v":0},null,null,null,0,null,null,null,0,null,null,null,0,null,null,null,0,null,null,null,0,null,null,null,0,null,null,null,0,null,null,null,0,null,null,null,0,null,null,null,0,null,null,null,0,null,null,null,0,null,null,null,0,null,null,null,0,null,null,null,0,null,null,null,{"$f":"COUNTIF(BZZ$3:CAB$31,$A67)","v":0},null,null,null,0,null,null,null,0,null,null,null,0,null,null,null,0,null,null,null,0,null,null,null,0,null,null,null,0,null,null,null,0,null,null,null,0,null,null,null,0,null,null,null,0,null,null,null,0,null,null,null,0,null,null,null,0,null,null,null,0,null,null,null,{"$f":"COUNTIF(CCL$3:CCN$31,$A67)","v":0},null,null,null,0,null,null,null,0,null,null,null,0,null,null,null,0,null,null,null,0,null,null,null,0,null,null,null,0,null,null,null,0,null,null,null,0,null,null,null,0,null,null,null,0,null,null,null,0,null,null,null,0,null,null,null,0,null,null,null,0,null,null,null,{"$f":"COUNTIF(CEX$3:CEZ$31,$A67)","v":0},null,null,null,0,null,null,null,0,null,null,null,0,null,null,null,0,null,null,null,0,null,null,null,0,null,null,null,0,null,null,null,0,null,null,null,0,null,null,null,0,null,null,null,0,null,null,null,0,null,null,null,0,null,null,null,0,null,null,null,0,null,null,null,{"$f":"COUNTIF(CHJ$3:CHL$31,$A67)","v":0},null,null,null,0,null,null,null,0,null,null,null,0,null,null,null,0,null,null,null,0,null,null,null,0,null,null,null,0,null,null,null,0,null,null,null,0,null,null,null,0,null,null,null,0,null,null,null,0,null,null,null,0,null,null,null,0,null,null,null,0,null,null,null,{"$f":"COUNTIF(CJV$3:CJX$31,$A67)","v":0},null,null,null,0,null,null,null,0,null,null,null,0,null,null,null,0,null,null,null,0,null,null,null,0,null,null,null,0,null,null,null,0,null,null,null,0,null,null,null,0,null,null,null,0,null,null,null,0,null,null,null,0,null,null,null,0,null,null,null,0,null,null,null,{"$f":"COUNTIF(CMH$3:CMJ$31,$A67)","v":0},null,null,null,0,null,null,null,0,null,null,null,0,null,null,null,0,null,null,null,0,null,null,null,0,null,null,null,0,null,null,null,0,null,null,null,0,null,null,null,0,null,null,null,0,null,null,null,0,null,null,null,0,null,null,null,0,null,null,null,0,null,null,null,{"$f":"COUNTIF(COT$3:COV$31,$A67)","v":0},null,null,null,0,null,null,null,0,null,null,null,0,null,null,null,0,null,null,null,0,null,null,null,0,null,null,null,0,null,null,null,0,null,null,null,0,null,null,null,0,null,null,null,0,null,null,null,0,null,null,null,0,null,null,null,0,null,null,null,0,null,null,null,{"$f":"COUNTIF(CRF$3:CRH$31,$A67)","v":0},null,null,null,0,null,null,null,0,null,null,null,0,null,null,null,0,null,null,null,0,null,null,null,0,null,null,null,0,null,null,null,0,null,null,null,0,null,null,null,0,null,null,null,0,null,null,null,0,null,null,null,0,null,null,null,0,null,null,null,0,null,null,null,{"$f":"COUNTIF(CTR$3:CTT$31,$A67)","v":0},null,null,null,0,null,null,null,0,null,null,null,0,null,null,null,0,null,null,null,0,null,null,null,0,null,null,null,0,null,null,null,0,null,null,null,0,null,null,null,0,null,null,null,0,null,null,null,0,null,null,null,0,null,null,null,0,null,null,null,0,null,null,null,{"$f":"COUNTIF(CWD$3:CWF$31,$A67)","v":0},null,null,null,0,null,null,null,0,null,null,null,0,null,null,null,0,null,null,null,0,null,null,null,0,null,null,null,0,null,null,null,0,null,null,null,0,null,null,null,0,null,null,null,0,null,null,null,0,null,null,null,0,null,null,null,0,null,null,null,0,null,null,null,{"$f":"COUNTIF(CYP$3:CYR$31,$A67)","v":0},null,null,null,0,null,null,null,0,null,null,null,0,null,null,null,0,null,null,null,0,null,null,null,0,null,null,null,0,null,null,null,0,null,null,null,0,null,null,null,0,null,null,null,0,null,null,null,0,null,null,null,0,null,null,null,0,null,null,null,0,null,null,null,{"$f":"COUNTIF(DBB$3:DBD$31,$A67)","v":0},null,null,null,0,null,null,null,0,null,null,null,0,null,null,null,0,null,null,null,0,null,null,null,0,null,null,null,0,null,null,null,0,null,null,null,0,null,null,null,0,null,null,null,0,null,null,null,0,null,null,null,0,null,null,null,0,null,null,null,0,null,null,null,{"$f":"COUNTIF(DDN$3:DDP$31,$A67)","v":0},null,null,null,0,null,null,null,0,null,null,null,0,null,null,null,0,null,null,null,0,null,null,null,0,null,null,null,0,null,null,null,0,null,null,null,0,null,null,null,0,null,null,null,0,null,null,null,0,null,null,null,0,null,null,null,0,null,null,null,0,null,null,null,{"$f":"COUNTIF(DFZ$3:DGB$31,$A67)","v":0},null,null,null,0,null,null,null,0,null,null,null,0,null,null,null,0,null,null,null,0,null,null,null,0,null,null,null,0,null,null,null,0,null,null,null,0,null,null,null,0,null,null,null,0,null,null,null,0,null,null,null,0,null,null,null,0,null,null,null,0,null,null,null,{"$f":"COUNTIF(DIL$3:DIN$31,$A67)","v":0},null,null,null,0,null,null,null,0,null,null,null,0,null,null,null,0,null,null,null,0,null,null,null,0,null,null,null,0,null,null,null,0,null,null,null,0,null,null,null,0,null,null,null,0,null,null,null,0,null,null,null,0,null,null,null,0,null,null,null,0,null,null,null,{"$f":"COUNTIF(DKX$3:DKZ$31,$A67)","v":0},null,null,null,0,null,null,null,0,null,null,null,0,null,null,null,0,null,null,null,0,null,null,null,0,null,null,null,0,null,null,null,0,null,null,null,0,null,null,null,0,null,null,null,0,null,null,null,0,null,null,null,0,null,null,null,0,null,null,null,0,null,null,null,{"$f":"COUNTIF(DNJ$3:DNL$31,$A67)","v":0},null,null,null,0,null,null,null,0,null,null,null,0,null,null,null,0,null,null,null,0,null,null,null,0,null,null,null,0,null,null,null,0,null,null,null,0,null,null,null,0,null,null,null,0,null,null,null,0,null,null,null,0,null,null,null,0,null,null,null,0,null,null,null,{"$f":"COUNTIF(DPV$3:DPX$31,$A67)","v":0},null,null,null,0,null,null,null,0,null,null,null,0,null,null,null,0,null,null,null,0,null,null,null,0,null,null,null,0,null,null,null,0,null,null,null,0,null,null,null,0,null,null,null,0,null,null,null,0,null,null,null,0,null,null,null,0,null,null,null,0,null,null,null,{"$f":"COUNTIF(DSH$3:DSJ$31,$A67)","v":0},null,null,null,0,null,null,null,0,null,null,null,0,null,null,null,0,null,null,null,0,null,null,null,0,null,null,null,0,null,null,null,0,null,null,null,0,null,null,null,0,null,null,null,0,null,null,null,0,null,null,null,0,null,null,null,0,null,null,null,0,null,null,null,{"$f":"COUNTIF(DUT$3:DUV$31,$A67)","v":0},null,null,null,0,null,null,null,0,null,null,null,0,null,null,null,0,null,null,null,0,null,null,null,0,null,null,null,0,null,null,null,0,null,null,null,0,null,null,null,0,null,null,null,0,null,null,null,0,null,null,null,0,null,null,null,0,null,null,null,0,null,null,null,{"$f":"COUNTIF(DXF$3:DXH$31,$A67)","v":0},null,null,null,0,null,null,null,0,null,null,null,0,null,null,null,0,null,null,null,0,null,null,null,0,null,null,null,0,null,null,null,0,null,null,null,0,null,null,null,0,null,null,null,0,null,null,null,0,null,null,null,0,null,null,null,0,null,null,null,0,null,null,null,{"$f":"COUNTIF(DZR$3:DZT$31,$A67)","v":0},null,null,null,0,null,null,null,0,null,null,null,0,null,null,null,0,null,null,null,0,null,null,null,0,null,null,null,0,null,null,null,0,null,null,null,0,null,null,null,0,null,null,null,0,null,null,null,0,null,null,null,0,null,null,null,0,null,null,null,0,null,null,null,{"$f":"COUNTIF(ECD$3:ECF$31,$A67)","v":0},null,null,null,0,null,null,null,0,null,null,null,0,null,null,null,0,null,null,null,0,null,null,null,0,null,null,null,0,null,null,null,0,null,null,null,0,null,null,null,0,null,null,null,0,null,null,null,0,null,null,null,0,null,null,null,0,null,null,null,0,null,null,null,{"$f":"COUNTIF(EEP$3:EER$31,$A67)","v":0},null,null,null,0,null,null,null,0,null,null,null,0,null,null,null,0,null,null,null,0,null,null,null,0,null,null,null,0,null,null,null,0,null,null,null,0,null,null,null,0,null,null,null,0,null,null,null,0,null,null,null,0,null,null,null,0,null,null,null,0,null,null,null,{"$f":"COUNTIF(EHB$3:EHD$31,$A67)","v":0},null,null,null,0,null,null,null,0,null,null,null,0,null,null,null,0,null,null,null,0,null,null,null,0,null,null,null,0,null,null,null,0,null,null,null,0,null,null,null,0,null,null,null,0,null,null,null,0,null,null,null,0,null,null,null,0,null,null,null,0,null,null,null,{"$f":"COUNTIF(EJN$3:EJP$31,$A67)","v":0},null,null,null,0,null,null,null,0,null,null,null,0,null,null,null,0,null,null,null,0,null,null,null,0,null,null,null,0,null,null,null,0,null,null,null,0,null,null,null,0,null,null,null,0,null,null,null,0,null,null,null,0,null,null,null,0,null,null,null,0,null,null,null,{"$f":"COUNTIF(ELZ$3:EMB$31,$A67)","v":0},null,null,null,0,null,null,null,0,null,null,null,0,null,null,null,0,null,null,null,0,null,null,null,0,null,null,null,0,null,null,null,0,null,null,null,0,null,null,null,0,null,null,null,0,null,null,null,0,null,null,null,0,null,null,null,0,null,null,null,0,null,null,null,{"$f":"COUNTIF(EOL$3:EON$31,$A67)","v":0},null,null,null,0,null,null,null,0,null,null,null,0,null,null,null,0,null,null,null,0,null,null,null,0,null,null,null,0,null,null,null,0,null,null,null,0,null,null,null,0,null,null,null,0,null,null,null,0,null,null,null,0,null,null,null,0,null,null,null,0,null,null,null,{"$f":"COUNTIF(EQX$3:EQZ$31,$A67)","v":0},null,null,null,0,null,null,null,0,null,null,null,0,null,null,null,0,null,null,null,0,null,null,null,0,null,null,null,0,null,null,null,0,null,null,null,0,null,null,null,0,null,null,null,0,null,null,null,0,null,null,null,0,null,null,null,0,null,null,null,0,null,null,null,{"$f":"COUNTIF(ETJ$3:ETL$31,$A67)","v":0},null,null,null,0,null,null,null,0,null,null,null,0,null,null,null,0,null,null,null,0,null,null,null,0,null,null,null,0,null,null,null,0,null,null,null,0,null,null,null,0,null,null,null,0,null,null,null,0,null,null,null,0,null,null,null,0,null,null,null,0,null,null,null,{"$f":"COUNTIF(EVV$3:EVX$31,$A67)","v":0},null,null,null,0,null,null,null,0,null,null,null,0,null,null,null,0,null,null,null,0,null,null,null,0,null,null,null,0,null,null,null,0,null,null,null,0,null,null,null,0,null,null,null,0,null,null,null,0,null,null,null,0,null,null,null,0,null,null,null,0,null,null,null,{"$f":"COUNTIF(EYH$3:EYJ$31,$A67)","v":0},null,null,null,0,null,null,null,0,null,null,null,0,null,null,null,0,null,null,null,0,null,null,null,0,null,null,null,0,null,null,null,0,null,null,null,0,null,null,null,0,null,null,null,0,null,null,null,0,null,null,null,0,null,null,null,0,null,null,null,0,null,null,null,{"$f":"COUNTIF(FAT$3:FAV$31,$A67)","v":0},null,null,null,0,null,null,null,0,null,null,null,0,null,null,null,0,null,null,null,0,null,null,null,0,null,null,null,0,null,null,null,0,null,null,null,0,null,null,null,0,null,null,null,0,null,null,null,0,null,null,null,0,null,null,null,0,null,null,null,0,null,null,null,{"$f":"COUNTIF(FDF$3:FDH$31,$A67)","v":0},null,null,null,0,null,null,null,0,null,null,null,0,null,null,null,0,null,null,null,0,null,null,null,0,null,null,null,0,null,null,null,0,null,null,null,0,null,null,null,0,null,null,null,0,null,null,null,0,null,null,null,0,null,null,null,0,null,null,null,0,null,null,null,{"$f":"COUNTIF(FFR$3:FFT$31,$A67)","v":0},null,null,null,0,null,null,null,0,null,null,null,0,null,null,null,0,null,null,null,0,null,null,null,0,null,null,null,0,null,null,null,0,null,null,null,0,null,null,null,0,null,null,null,0,null,null,null,0,null,null,null,0,null,null,null,0,null,null,null,0,null,null,null,{"$f":"COUNTIF(FID$3:FIF$31,$A67)","v":0},null,null,null,0,null,null,null,0,null,null,null,0,null,null,null,0,null,null,null,0,null,null,null,0,null,null,null,0,null,null,null,0,null,null,null,0,null,null,null,0,null,null,null,0,null,null,null,0,null,null,null,0,null,null,null,0,null,null,null,0,null,null,null,{"$f":"COUNTIF(FKP$3:FKR$31,$A67)","v":0},null,null,null,0,null,null,null,0,null,null,null,0,null,null,null,0,null,null,null,0,null,null,null,0,null,null,null,0,null,null,null,0,null,null,null,0,null,null,null,0,null,null,null,0,null,null,null,0,null,null,null,0,null,null,null,0,null,null,null,0,null,null,null,{"$f":"COUNTIF(FNB$3:FND$31,$A67)","v":0},null,null,null,0,null,null,null,0,null,null,null,0,null,null,null,0,null,null,null,0,null,null,null,0,null,null,null,0,null,null,null,0,null,null,null,0,null,null,null,0,null,null,null,0,null,null,null,0,null,null,null,0,null,null,null,0,null,null,null,0,null,null,null,{"$f":"COUNTIF(FPN$3:FPP$31,$A67)","v":0},null,null,null,0,null,null,null,0,null,null,null,0,null,null,null,0,null,null,null,0,null,null,null,0,null,null,null,0,null,null,null,0,null,null,null,0,null,null,null,0,null,null,null,0,null,null,null,0,null,null,null,0,null,null,null,0,null,null,null,0,null,null,null,{"$f":"COUNTIF(FRZ$3:FSB$31,$A67)","v":0},null,null,null,0,null,null,null,0,null,null,null,0,null,null,null,0,null,null,null,0,null,null,null,0,null,null,null,0,null,null,null,0,null,null,null,0,null,null,null,0,null,null,null,0,null,null,null,0,null,null,null,0,null,null,null,0,null,null,null,0,null,null,null,{"$f":"COUNTIF(FUL$3:FUN$31,$A67)","v":0},null,null,null,0,null,null,null,0,null,null,null,0,null,null,null,0,null,null,null,0,null,null,null,0,null,null,null,0,null,null,null,0,null,null,null,0,null,null,null,0,null,null,null,0,null,null,null,0,null,null,null,0,null,null,null,0,null,null,null,0,null,null,null,{"$f":"COUNTIF(FWX$3:FWZ$31,$A67)","v":0},null,null,null,0,null,null,null,0,null,null,null,0,null,null,null,0,null,null,null,0,null,null,null,0,null,null,null,0,null,null,null,0,null,null,null,0,null,null,null,0,null,null,null,0,null,null,null,0,null,null,null,0,null,null,null,0,null,null,null,0,null,null,null,{"$f":"COUNTIF(FZJ$3:FZL$31,$A67)","v":0},null,null,null,0,null,null,null,0,null,null,null,0,null,null,null,0,null,null,null,0,null,null,null,0,null,null,null,0,null,null,null,0,null,null,null,0,null,null,null,0,null,null,null,0,null,null,null,0,null,null,null,0,null,null,null,0,null,null,null,0,null,null,null,{"$f":"COUNTIF(GBV$3:GBX$31,$A67)","v":0},null,null,null,0,null,null,null,0,null,null,null,0,null,null,null,0,null,null,null,0,null,null,null,0,null,null,null,0,null,null,null,0,null,null,null,0,null,null,null,0,null,null,null,0,null,null,null,0,null,null,null,0,null,null,null,0,null,null,null,0,null,null,null,{"$f":"COUNTIF(GEH$3:GEJ$31,$A67)","v":0},null,null,null,0,null,null,null,0,null,null,null,0,null,null,null,0,null,null,null,0,null,null,null,0,null,null,null,0,null,null,null,0,null,null,null,0,null,null,null,0,null,null,null,0,null,null,null,0,null,null,null,0,null,null,null,0,null,null,null,0,null,null,null,{"$f":"COUNTIF(GGT$3:GGV$31,$A67)","v":0},null,null,null,0,null,null,null,0,null,null,null,0,null,null,null,0,null,null,null,0,null,null,null,0,null,null,null,0,null,null,null,0,null,null,null,0,null,null,null,0,null,null,null,0,null,null,null,0,null,null,null,0,null,null,null,0,null,null,null,0,null,null,null,{"$f":"COUNTIF(GJF$3:GJH$31,$A67)","v":0},null,null,null,0,null,null,null,0,null,null,null,0,null,null,null,0,null,null,null,0,null,null,null,0,null,null,null,0,null,null,null,0,null,null,null,0,null,null,null,0,null,null,null,0,null,null,null,0,null,null,null,0,null,null,null,0,null,null,null,0,null,null,null,{"$f":"COUNTIF(GLR$3:GLT$31,$A67)","v":0},null,null,null,0,null,null,null,0,null,null,null,0,null,null,null,0,null,null,null,0,null,null,null,0,null,null,null,0,null,null,null,0,null,null,null,0,null,null,null,0,null,null,null,0,null,null,null,0,null,null,null,0,null,null,null,0,null,null,null,0,null,null,null,{"$f":"COUNTIF(GOD$3:GOF$31,$A67)","v":0},null,null,null,0,null,null,null,0,null,null,null,0,null,null,null,0,null,null,null,0,null,null,null,0,null,null,null,0,null,null,null,0,null,null,null,0,null,null,null,0,null,null,null,0,null,null,null,0,null,null,null,0,null,null,null,0,null,null,null,0,null,null,null,{"$f":"COUNTIF(GQP$3:GQR$31,$A67)","v":0},null,null,null,0,null,null,null,0,null,null,null,0,null,null,null,0,null,null,null,0,null,null,null,0,null,null,null,0,null,null,null,0,null,null,null,0,null,null,null,0,null,null,null,0,null,null,null,0,null,null,null,0,null,null,null,0,null,null,null,0,null,null,null,{"$f":"COUNTIF(GTB$3:GTD$31,$A67)","v":0},null,null,null,0,null,null,null,0,null,null,null,0,null,null,null,0,null,null,null,0,null,null,null,0,null,null,null,0,null,null,null,0,null,null,null,0,null,null,null,0,null,null,null,0,null,null,null,0,null,null,null,0,null,null,null,0,null,null,null,0,null,null,null,{"$f":"COUNTIF(GVN$3:GVP$31,$A67)","v":0},null,null,null,0,null,null,null,0,null,null,null,0,null,null,null,0,null,null,null,0,null,null,null,0,null,null,null,0,null,null,null,0,null,null,null,0,null,null,null,0,null,null,null,0,null,null,null,0,null,null,null,0,null,null,null,0,null,null,null,0,null,null,null,{"$f":"COUNTIF(GXZ$3:GYB$31,$A67)","v":0},null,null,null,0,null,null,null,0,null,null,null,0,null,null,null,0,null,null,null,0,null,null,null,0,null,null,null,0,null,null,null,0,null,null,null,0,null,null,null,0,null,null,null,0,null,null,null,0,null,null,null,0,null,null,null,0,null,null,null,0,null,null,null,{"$f":"COUNTIF(HAL$3:HAN$31,$A67)","v":0},null,null,null,0,null,null,null,0,null,null,null,0,null,null,null,0,null,null,null,0,null,null,null,0,null,null,null,0,null,null,null,0,null,null,null,0,null,null,null,0,null,null,null,0,null,null,null,0,null,null,null,0,null,null,null,0,null,null,null,0,null,null,null,{"$f":"COUNTIF(HCX$3:HCZ$31,$A67)","v":0},null,null,null,0,null,null,null,0,null,null,null,0,null,null,null,0,null,null,null,0,null,null,null,0,null,null,null,0,null,null,null,0,null,null,null,0,null,null,null,0,null,null,null,0,null,null,null,0,null,null,null,0,null,null,null,0,null,null,null,0,null,null,null,{"$f":"COUNTIF(HFJ$3:HFL$31,$A67)","v":0},null,null,null,0,null,null,null,0,null,null,null,0,null,null,null,0,null,null,null,0,null,null,null,0,null,null,null,0,null,null,null,0,null,null,null,0,null,null,null,0,null,null,null,0,null,null,null,0,null,null,null,0,null,null,null,0,null,null,null,0,null,null,null,{"$f":"COUNTIF(HHV$3:HHX$31,$A67)","v":0},null,null,null,0,null,null,null,0,null,null,null,0,null,null,null,0,null,null,null,0,null,null,null,0,null,null,null,0,null,null,null,0,null,null,null,0,null,null,null,0,null,null,null,0,null,null,null,0,null,null,null,0,null,null,null,0,null,null,null,0,null,null,null,{"$f":"COUNTIF(HKH$3:HKJ$31,$A67)","v":0},null,null,null,0,null,null,null,0,null,null,null,0,null,null,null,0,null,null,null,0,null,null,null,0,null,null,null,0,null,null,null,0,null,null,null,0,null,null,null,0,null,null,null,0,null,null,null,0,null,null,null,0,null,null,null,0,null,null,null,0,null,null,null,{"$f":"COUNTIF(HMT$3:HMV$31,$A67)","v":0},null,null,null,0,null,null,null,0,null,null,null,0,null,null,null,0,null,null,null,0,null,null,null,0,null,null,null,0,null,null,null,0,null,null,null,0,null,null,null,0,null,null,null,0,null,null,null,0,null,null,null,0,null,null,null,0,null,null,null,0,null,null,null,{"$f":"COUNTIF(HPF$3:HPH$31,$A67)","v":0},null,null,null,0,null,null,null,0,null,null,null,0,null,null,null,0,null,null,null,0,null,null,null,0,null,null,null,0,null,null,null,0,null,null,null,0,null,null,null,0,null,null,null,0,null,null,null,0,null,null,null,0,null,null,null,0,null,null,null,0,null,null,null,{"$f":"COUNTIF(HRR$3:HRT$31,$A67)","v":0},null,null,null,0,null,null,null,0,null,null,null,0,null,null,null,0,null,null,null,0,null,null,null,0,null,null,null,0,null,null,null,0,null,null,null,0,null,null,null,0,null,null,null,0,null,null,null,0,null,null,null,0,null,null,null,0,null,null,null,0,null,null,null,{"$f":"COUNTIF(HUD$3:HUF$31,$A67)","v":0},null,null,null,0,null,null,null,0,null,null,null,0,null,null,null,0,null,null,null,0,null,null,null,0,null,null,null,0,null,null,null,0,null,null,null,0,null,null,null,0,null,null,null,0,null,null,null,0,null,null,null,0,null,null,null,0,null,null,null,0,null,null,null,{"$f":"COUNTIF(HWP$3:HWR$31,$A67)","v":0},null,null,null,0,null,null,null,0,null,null,null,0,null,null,null,0,null,null,null,0,null,null,null,0,null,null,null,0,null,null,null,0,null,null,null,0,null,null,null,0,null,null,null,0,null,null,null,0,null,null,null,0,null,null,null,0,null,null,null,0,null,null,null,{"$f":"COUNTIF(HZB$3:HZD$31,$A67)","v":0},null,null,null,0,null,null,null,0,null,null,null,0,null,null,null,0,null,null,null,0,null,null,null,0,null,null,null,0,null,null,null,0,null,null,null,0,null,null,null,0,null,null,null,0,null,null,null,0,null,null,null,0,null,null,null,0,null,null,null,0,null,null,null,{"$f":"COUNTIF(IBN$3:IBP$31,$A67)","v":0},null,null,null,0,null,null,null,0,null,null,null,0,null,null,null,0,null,null,null,0,null,null,null,0,null,null,null,0,null,null,null,0,null,null,null,0,null,null,null,0,null,null,null,0,null,null,null,0,null,null,null,0,null,null,null,0,null,null,null,0,null,null,null,{"$f":"COUNTIF(IDZ$3:IEB$31,$A67)","v":0},null,null,null,0,null,null,null,0,null,null,null,0,null,null,null,0,null,null,null,0,null,null,null,0,null,null,null,0,null,null,null,0,null,null,null,0,null,null,null,0,null,null,null,0,null,null,null,0,null,null,null,0,null,null,null,0,null,null,null,0,null,null,null,{"$f":"COUNTIF(IGL$3:IGN$31,$A67)","v":0},null,null,null,0,null,null,null,0,null,null,null,0,null,null,null,0,null,null,null,0,null,null,null,0,null,null,null,0,null,null,null,0,null,null,null,0,null,null,null,0,null,null,null,0,null,null,null,0,null,null,null,0,null,null,null,0,null,null,null,0,null,null,null,{"$f":"COUNTIF(IIX$3:IIZ$31,$A67)","v":0},null,null,null,0,null,null,null,0,null,null,null,0,null,null,null,0,null,null,null,0,null,null,null,0,null,null,null,0,null,null,null,0,null,null,null,0,null,null,null,0,null,null,null,0,null,null,null,0,null,null,null,0,null,null,null,0,null,null,null,0,null,null,null,{"$f":"COUNTIF(ILJ$3:ILL$31,$A67)","v":0},null,null,null,0,null,null,null,0,null,null,null,0,null,null,null,0,null,null,null,0,null,null,null,0,null,null,null,0,null,null,null,0,null,null,null,0,null,null,null,0,null,null,null,0,null,null,null,0,null,null,null,0,null,null,null,0,null,null,null,0,null,null,null,{"$f":"COUNTIF(INV$3:INX$31,$A67)","v":0},null,null,null,0,null,null,null,0,null,null,null,0,null,null,null,0,null,null,null,0,null,null,null,0,null,null,null,0,null,null,null,0,null,null,null,0,null,null,null,0,null,null,null,0,null,null,null,0,null,null,null,0,null,null,null,0,null,null,null,0,null,null,null,{"$f":"COUNTIF(IQH$3:IQJ$31,$A67)","v":0},null,null,null,0,null,null,null,0,null,null,null,0,null,null,null,0,null,null,null,0,null,null,null,0,null,null,null,0,null,null,null,0,null,null,null,0,null,null,null,0,null,null,null,0,null,null,null,0,null,null,null,0,null,null,null,0,null,null,null,0,null,null,null,{"$f":"COUNTIF(IST$3:ISV$31,$A67)","v":0},null,null,null,0,null,null,null,0,null,null,null,0,null,null,null,0,null,null,null,0,null,null,null,0,null,null,null,0,null,null,null,0,null,null,null,0,null,null,null,0,null,null,null,0,null,null,null,0,null,null,null,0,null,null,null,0,null,null,null,0,null,null,null,{"$f":"COUNTIF(IVF$3:IVH$31,$A67)","v":0},null,null,null,0,null,null,null,0,null,null,null,0,null,null,null,0,null,null,null,0,null,null,null,0,null,null,null,0,null,null,null,0,null,null,null,0,null,null,null,0,null,null,null,0,null,null,null,0,null,null,null,0,null,null,null,0,null,null,null,0,null,null,null,{"$f":"COUNTIF(IXR$3:IXT$31,$A67)","v":0},null,null,null,0,null,null,null,0,null,null,null,0,null,null,null,0,null,null,null,0,null,null,null,0,null,null,null,0,null,null,null,0,null,null,null,0,null,null,null,0,null,null,null,0,null,null,null,0,null,null,null,0,null,null,null,0,null,null,null,0,null,null,null,{"$f":"COUNTIF(JAD$3:JAF$31,$A67)","v":0},null,null,null,0,null,null,null,0,null,null,null,0,null,null,null,0,null,null,null,0,null,null,null,0,null,null,null,0,null,null,null,0,null,null,null,0,null,null,null,0,null,null,null,0,null,null,null,0,null,null,null,0,null,null,null,0,null,null,null,0,null,null,null,{"$f":"COUNTIF(JCP$3:JCR$31,$A67)","v":0},null,null,null,0,null,null,null,0,null,null,null,0,null,null,null,0,null,null,null,0,null,null,null,0,null,null,null,0,null,null,null,0,null,null,null,0,null,null,null,0,null,null,null,0,null,null,null,0,null,null,null,0,null,null,null,0,null,null,null,0,null,null,null,{"$f":"COUNTIF(JFB$3:JFD$31,$A67)","v":0},null,null,null,0,null,null,null,0,null,null,null,0,null,null,null,0,null,null,null,0,null,null,null,0,null,null,null,0,null,null,null,0,null,null,null,0,null,null,null,0,null,null,null,0,null,null,null,0,null,null,null,0,null,null,null,0,null,null,null,0,null,null,null,{"$f":"COUNTIF(JHN$3:JHP$31,$A67)","v":0},null,null,null,0,null,null,null,0,null,null,null,0,null,null,null,0,null,null,null,0,null,null,null,0,null,null,null,0,null,null,null,0,null,null,null,0,null,null,null,0,null,null,null,0,null,null,null,0,null,null,null,0,null,null,null,0,null,null,null,0,null,null,null,{"$f":"COUNTIF(JJZ$3:JKB$31,$A67)","v":0},null,null,null,0,null,null,null,0,null,null,null,0,null,null,null,0,null,null,null,0,null,null,null,0,null,null,null,0,null,null,null,0,null,null,null,0,null,null,null,0,null,null,null,0,null,null,null,0,null,null,null,0,null,null,null,0,null,null,null,0,null,null,null,{"$f":"COUNTIF(JML$3:JMN$31,$A67)","v":0},null,null,null,0,null,null,null,0,null,null,null,0,null,null,null,0,null,null,null,0,null,null,null,0,null,null,null,0,null,null,null,0,null,null,null,0,null,null,null,0,null,null,null,0,null,null,null,0,null,null,null,0,null,null,null,0,null,null,null,0,null,null,null,{"$f":"COUNTIF(JOX$3:JOZ$31,$A67)","v":0},null,null,null,0,null,null,null,0,null,null,null,0,null,null,null,0,null,null,null,0,null,null,null,0,null,null,null,0,null,null,null,0,null,null,null,0,null,null,null,0,null,null,null,0,null,null,null,0,null,null,null,0,null,null,null,0,null,null,null,0,null,null,null,{"$f":"COUNTIF(JRJ$3:JRL$31,$A67)","v":0},null,null,null,0,null,null,null,0,null,null,null,0,null,null,null,0,null,null,null,0,null,null,null,0,null,null,null,0,null,null,null,0,null,null,null,0,null,null,null,0,null,null,null,0,null,null,null,0,null,null,null,0,null,null,null,0,null,null,null,0,null,null,null,{"$f":"COUNTIF(JTV$3:JTX$31,$A67)","v":0},null,null,null,0,null,null,null,0,null,null,null,0,null,null,null,0,null,null,null,0,null,null,null,0,null,null,null,0,null,null,null,0,null,null,null,0,null,null,null,0,null,null,null,0,null,null,null,0,null,null,null,0,null,null,null,0,null,null,null,0,null,null,null,{"$f":"COUNTIF(JWH$3:JWJ$31,$A67)","v":0},null,null,null,0,null,null,null,0,null,null,null,0,null,null,null,0,null,null,null,0,null,null,null,0,null,null,null,0,null,null,null,0,null,null,null,0,null,null,null,0,null,null,null,0,null,null,null,0,null,null,null,0,null,null,null,0,null,null,null,0,null,null,null,{"$f":"COUNTIF(JYT$3:JYV$31,$A67)","v":0},null,null,null,0,null,null,null,0,null,null,null,0,null,null,null,0,null,null,null,0,null,null,null,0,null,null,null,0,null,null,null,0,null,null,null,0,null,null,null,0,null,null,null,0,null,null,null,0,null,null,null,0,null,null,null,0,null,null,null,0,null,null,null,{"$f":"COUNTIF(KBF$3:KBH$31,$A67)","v":0},null,null,null,0,null,null,null,0,null,null,null,0,null,null,null,0,null,null,null,0,null,null,null,0,null,null,null,0,null,null,null,0,null,null,null,0,null,null,null,0,null,null,null,0,null,null,null,0,null,null,null,0,null,null,null,0,null,null,null,0,null,null,null,{"$f":"COUNTIF(KDR$3:KDT$31,$A67)","v":0},null,null,null,0,null,null,null,0,null,null,null,0,null,null,null,0,null,null,null,0,null,null,null,0,null,null,null,0,null,null,null,0,null,null,null,0,null,null,null,0,null,null,null,0,null,null,null,0,null,null,null,0,null,null,null,0,null,null,null,0,null,null,null,{"$f":"COUNTIF(KGD$3:KGF$31,$A67)","v":0},null,null,null,0,null,null,null,0,null,null,null,0,null,null,null,0,null,null,null,0,null,null,null,0,null,null,null,0,null,null,null,0,null,null,null,0,null,null,null,0,null,null,null,0,null,null,null,0,null,null,null,0,null,null,null,0,null,null,null,0,null,null,null,{"$f":"COUNTIF(KIP$3:KIR$31,$A67)","v":0},null,null,null,0,null,null,null,0,null,null,null,0,null,null,null,0,null,null,null,0,null,null,null,0,null,null,null,0,null,null,null,0,null,null,null,0,null,null,null,0,null,null,null,0,null,null,null,0,null,null,null,0,null,null,null,0,null,null,null,0,null,null,null,{"$f":"COUNTIF(KLB$3:KLD$31,$A67)","v":0},null,null,null,0,null,null,null,0,null,null,null,0,null,null,null,0,null,null,null,0,null,null,null,0,null,null,null,0,null,null,null,0,null,null,null,0,null,null,null,0,null,null,null,0,null,null,null,0,null,null,null,0,null,null,null,0,null,null,null,0,null,null,null,{"$f":"COUNTIF(KNN$3:KNP$31,$A67)","v":0},null,null,null,0,null,null,null,0,null,null,null,0,null,null,null,0,null,null,null,0,null,null,null,0,null,null,null,0,null,null,null,0,null,null,null,0,null,null,null,0,null,null,null,0,null,null,null,0,null,null,null,0,null,null,null,0,null,null,null,0,null,null,null,{"$f":"COUNTIF(KPZ$3:KQB$31,$A67)","v":0},null,null,null,0,null,null,null,0,null,null,null,0,null,null,null,0,null,null,null,0,null,null,null,0,null,null,null,0,null,null,null,0,null,null,null,0,null,null,null,0,null,null,null,0,null,null,null,0,null,null,null,0,null,null,null,0,null,null,null,0,null,null,null,{"$f":"COUNTIF(KSL$3:KSN$31,$A67)","v":0},null,null,null,0,null,null,null,0,null,null,null,0,null,null,null,0,null,null,null,0,null,null,null,0,null,null,null,0,null,null,null,0,null,null,null,0,null,null,null,0,null,null,null,0,null,null,null,0,null,null,null,0,null,null,null,0,null,null,null,0,null,null,null,{"$f":"COUNTIF(KUX$3:KUZ$31,$A67)","v":0},null,null,null,0,null,null,null,0,null,null,null,0,null,null,null,0,null,null,null,0,null,null,null,0,null,null,null,0,null,null,null,0,null,null,null,0,null,null,null,0,null,null,null,0,null,null,null,0,null,null,null,0,null,null,null,0,null,null,null,0,null,null,null,{"$f":"COUNTIF(KXJ$3:KXL$31,$A67)","v":0},null,null,null,0,null,null,null,0,null,null,null,0,null,null,null,0,null,null,null,0,null,null,null,0,null,null,null,0,null,null,null,0,null,null,null,0,null,null,null,0,null,null,null,0,null,null,null,0,null,null,null,0,null,null,null,0,null,null,null,0,null,null,null,{"$f":"COUNTIF(KZV$3:KZX$31,$A67)","v":0},null,null,null,0,null,null,null,0,null,null,null,0,null,null,null,0,null,null,null,0,null,null,null,0,null,null,null,0,null,null,null,0,null,null,null,0,null,null,null,0,null,null,null,0,null,null,null,0,null,null,null,0,null,null,null,0,null,null,null,0,null,null,null,{"$f":"COUNTIF(LCH$3:LCJ$31,$A67)","v":0},null,null,null,0,null,null,null,0,null,null,null,0,null,null,null,0,null,null,null,0,null,null,null,0,null,null,null,0,null,null,null,0,null,null,null,0,null,null,null,0,null,null,null,0,null,null,null,0,null,null,null,0,null,null,null,0,null,null,null,0,null,null,null,{"$f":"COUNTIF(LET$3:LEV$31,$A67)","v":0},null,null,null,0,null,null,null,0,null,null,null,0,null,null,null,0,null,null,null,0,null,null,null,0,null,null,null,0,null,null,null,0,null,null,null,0,null,null,null,0,null,null,null,0,null,null,null,0,null,null,null,0,null,null,null,0,null,null,null,0,null,null,null,{"$f":"COUNTIF(LHF$3:LHH$31,$A67)","v":0},null,null,null,0,null,null,null,0,null,null,null,0,null,null,null,0,null,null,null,0,null,null,null,0,null,null,null,0,null,null,null,0,null,null,null,0,null,null,null,0,null,null,null,0,null,null,null,0,null,null,null,0,null,null,null,0,null,null,null,0,null,null,null,{"$f":"COUNTIF(LJR$3:LJT$31,$A67)","v":0},null,null,null,0,null,null,null,0,null,null,null,0,null,null,null,0,null,null,null,0,null,null,null,0,null,null,null,0,null,null,null,0,null,null,null,0,null,null,null,0,null,null,null,0,null,null,null,0,null,null,null,0,null,null,null,0,null,null,null,0,null,null,null,{"$f":"COUNTIF(LMD$3:LMF$31,$A67)","v":0},null,null,null,0,null,null,null,0,null,null,null,0,null,null,null,0,null,null,null,0,null,null,null,0,null,null,null,0,null,null,null,0,null,null,null,0,null,null,null,0,null,null,null,0,null,null,null,0,null,null,null,0,null,null,null,0,null,null,null,0,null,null,null,{"$f":"COUNTIF(LOP$3:LOR$31,$A67)","v":0},null,null,null,0,null,null,null,0,null,null,null,0,null,null,null,0,null,null,null,0,null,null,null,0,null,null,null,0,null,null,null,0,null,null,null,0,null,null,null,0,null,null,null,0,null,null,null,0,null,null,null,0,null,null,null,0,null,null,null,0,null,null,null,{"$f":"COUNTIF(LRB$3:LRD$31,$A67)","v":0},null,null,null,0,null,null,null,0,null,null,null,0,null,null,null,0,null,null,null,0,null,null,null,0,null,null,null,0,null,null,null,0,null,null,null,0,null,null,null,0,null,null,null,0,null,null,null,0,null,null,null,0,null,null,null,0,null,null,null,0,null,null,null,{"$f":"COUNTIF(LTN$3:LTP$31,$A67)","v":0},null,null,null,0,null,null,null,0,null,null,null,0,null,null,null,0,null,null,null,0,null,null,null,0,null,null,null,0,null,null,null,0,null,null,null,0,null,null,null,0,null,null,null,0,null,null,null,0,null,null,null,0,null,null,null,0,null,null,null,0,null,null,null,{"$f":"COUNTIF(LVZ$3:LWB$31,$A67)","v":0},null,null,null,0,null,null,null,0,null,null,null,0,null,null,null,0,null,null,null,0,null,null,null,0,null,null,null,0,null,null,null,0,null,null,null,0,null,null,null,0,null,null,null,0,null,null,null,0,null,null,null,0,null,null,null,0,null,null,null,0,null,null,null,{"$f":"COUNTIF(LYL$3:LYN$31,$A67)","v":0},null,null,null,0,null,null,null,0,null,null,null,0,null,null,null,0,null,null,null,0,null,null,null,0,null,null,null,0,null,null,null,0,null,null,null,0,null,null,null,0,null,null,null,0,null,null,null,0,null,null,null,0,null,null,null,0,null,null,null,0,null,null,null,{"$f":"COUNTIF(MAX$3:MAZ$31,$A67)","v":0},null,null,null,0,null,null,null,0,null,null,null,0,null,null,null,0,null,null,null,0,null,null,null,0,null,null,null,0,null,null,null,0,null,null,null,0,null,null,null,0,null,null,null,0,null,null,null,0,null,null,null,0,null,null,null,0,null,null,null,0,null,null,null,{"$f":"COUNTIF(MDJ$3:MDL$31,$A67)","v":0},null,null,null,0,null,null,null,0,null,null,null,0,null,null,null,0,null,null,null,0,null,null,null,0,null,null,null,0,null,null,null,0,null,null,null,0,null,null,null,0,null,null,null,0,null,null,null,0,null,null,null,0,null,null,null,0,null,null,null,0,null,null,null,{"$f":"COUNTIF(MFV$3:MFX$31,$A67)","v":0},null,null,null,0,null,null,null,0,null,null,null,0,null,null,null,0,null,null,null,0,null,null,null,0,null,null,null,0,null,null,null,0,null,null,null,0,null,null,null,0,null,null,null,0,null,null,null,0,null,null,null,0,null,null,null,0,null,null,null,0,null,null,null,{"$f":"COUNTIF(MIH$3:MIJ$31,$A67)","v":0},null,null,null,0,null,null,null,0,null,null,null,0,null,null,null,0,null,null,null,0,null,null,null,0,null,null,null,0,null,null,null,0,null,null,null,0,null,null,null,0,null,null,null,0,null,null,null,0,null,null,null,0,null,null,null,0,null,null,null,0,null,null,null,{"$f":"COUNTIF(MKT$3:MKV$31,$A67)","v":0},null,null,null,0,null,null,null,0,null,null,null,0,null,null,null,0,null,null,null,0,null,null,null,0,null,null,null,0,null,null,null,0,null,null,null,0,null,null,null,0,null,null,null,0,null,null,null,0,null,null,null,0,null,null,null,0,null,null,null,0,null,null,null,{"$f":"COUNTIF(MNF$3:MNH$31,$A67)","v":0},null,null,null,0,null,null,null,0,null,null,null,0,null,null,null,0,null,null,null,0,null,null,null,0,null,null,null,0,null,null,null,0,null,null,null,0,null,null,null,0,null,null,null,0,null,null,null,0,null,null,null,0,null,null,null,0,null,null,null,0,null,null,null,{"$f":"COUNTIF(MPR$3:MPT$31,$A67)","v":0},null,null,null,0,null,null,null,0,null,null,null,0,null,null,null,0,null,null,null,0,null,null,null,0,null,null,null,0,null,null,null,0,null,null,null,0,null,null,null,0,null,null,null,0,null,null,null,0,null,null,null,0,null,null,null,0,null,null,null,0,null,null,null,{"$f":"COUNTIF(MSD$3:MSF$31,$A67)","v":0},null,null,null,0,null,null,null,0,null,null,null,0,null,null,null,0,null,null,null,0,null,null,null,0,null,null,null,0,null,null,null,0,null,null,null,0,null,null,null,0,null,null,null,0,null,null,null,0,null,null,null,0,null,null,null,0,null,null,null,0,null,null,null,{"$f":"COUNTIF(MUP$3:MUR$31,$A67)","v":0},null,null,null,0,null,null,null,0,null,null,null,0,null,null,null,0,null,null,null,0,null,null,null,0,null,null,null,0,null,null,null,0,null,null,null,0,null,null,null,0,null,null,null,0,null,null,null,0,null,null,null,0,null,null,null,0,null,null,null,0,null,null,null,{"$f":"COUNTIF(MXB$3:MXD$31,$A67)","v":0},null,null,null,0,null,null,null,0,null,null,null,0,null,null,null,0,null,null,null,0,null,null,null,0,null,null,null,0,null,null,null,0,null,null,null,0,null,null,null,0,null,null,null,0,null,null,null,0,null,null,null,0,null,null,null,0,null,null,null,0,null,null,null,{"$f":"COUNTIF(MZN$3:MZP$31,$A67)","v":0},null,null,null,0,null,null,null,0,null,null,null,0,null,null,null,0,null,null,null,0,null,null,null,0,null,null,null,0,null,null,null,0,null,null,null,0,null,null,null,0,null,null,null,0,null,null,null,0,null,null,null,0,null,null,null,0,null,null,null,0,null,null,null,{"$f":"COUNTIF(NBZ$3:NCB$31,$A67)","v":0},null,null,null,0,null,null,null,0,null,null,null,0,null,null,null,0,null,null,null,0,null,null,null,0,null,null,null,0,null,null,null,0,null,null,null,0,null,null,null,0,null,null,null,0,null,null,null,0,null,null,null,0,null,null,null,0,null,null,null,0,null,null,null,{"$f":"COUNTIF(NEL$3:NEN$31,$A67)","v":0},null,null,null,0,null,null,null,0,null,null,null,0,null,null,null,0,null,null,null,0,null,null,null,0,null,null,null,0,null,null,null,0,null,null,null,0,null,null,null,0,null,null,null,0,null,null,null,0,null,null,null,0,null,null,null,0,null,null,null,0,null,null,null,{"$f":"COUNTIF(NGX$3:NGZ$31,$A67)","v":0},null,null,null,0,null,null,null,0,null,null,null,0,null,null,null,0,null,null,null,0,null,null,null,0,null,null,null,0,null,null,null,0,null,null,null,0,null,null,null,0,null,null,null,0,null,null,null,0,null,null,null,0,null,null,null,0,null,null,null,0,null,null,null,{"$f":"COUNTIF(NJJ$3:NJL$31,$A67)","v":0},null,null,null,0,null,null,null,0,null,null,null,0,null,null,null,0,null,null,null,0,null,null,null,0,null,null,null,0,null,null,null,0,null,null,null,0,null,null,null,0,null,null,null,0,null,null,null,0,null,null,null,0,null,null,null,0,null,null,null,0,null,null,null,{"$f":"COUNTIF(NLV$3:NLX$31,$A67)","v":0},null,null,null,0,null,null,null,0,null,null,null,0,null,null,null,0,null,null,null,0,null,null,null,0,null,null,null,0,null,null,null,0,null,null,null,0,null,null,null,0,null,null,null,0,null,null,null,0,null,null,null,0,null,null,null,0,null,null,null,0,null,null,null,{"$f":"COUNTIF(NOH$3:NOJ$31,$A67)","v":0},null,null,null,0,null,null,null,0,null,null,null,0,null,null,null,0,null,null,null,0,null,null,null,0,null,null,null,0,null,null,null,0,null,null,null,0,null,null,null,0,null,null,null,0,null,null,null,0,null,null,null,0,null,null,null,0,null,null,null,0,null,null,null,{"$f":"COUNTIF(NQT$3:NQV$31,$A67)","v":0},null,null,null,0,null,null,null,0,null,null,null,0,null,null,null,0,null,null,null,0,null,null,null,0,null,null,null,0,null,null,null,0,null,null,null,0,null,null,null,0,null,null,null,0,null,null,null,0,null,null,null,0,null,null,null,0,null,null,null,0,null,null,null,{"$f":"COUNTIF(NTF$3:NTH$31,$A67)","v":0},null,null,null,0,null,null,null,0,null,null,null,0,null,null,null,0,null,null,null,0,null,null,null,0,null,null,null,0,null,null,null,0,null,null,null,0,null,null,null,0,null,null,null,0,null,null,null,0,null,null,null,0,null,null,null,0,null,null,null,0,null,null,null,{"$f":"COUNTIF(NVR$3:NVT$31,$A67)","v":0},null,null,null,0,null,null,null,0,null,null,null,0,null,null,null,0,null,null,null,0,null,null,null,0,null,null,null,0,null,null,null,0,null,null,null,0,null,null,null,0,null,null,null,0,null,null,null,0,null,null,null,0,null,null,null,0,null,null,null,0,null,null,null,{"$f":"COUNTIF(NYD$3:NYF$31,$A67)","v":0},null,null,null,0,null,null,null,0,null,null,null,0,null,null,null,0,null,null,null,0,null,null,null,0,null,null,null,0,null,null,null,0,null,null,null,0,null,null,null,0,null,null,null,0,null,null,null,0,null,null,null,0,null,null,null,0,null,null,null,0,null,null,null,{"$f":"COUNTIF(OAP$3:OAR$31,$A67)","v":0},null,null,null,0,null,null,null,0,null,null,null,0,null,null,null,0,null,null,null,0,null,null,null,0,null,null,null,0,null,null,null,0,null,null,null,0,null,null,null,0,null,null,null,0,null,null,null,0,null,null,null,0,null,null,null,0,null,null,null,0,null,null,null,{"$f":"COUNTIF(ODB$3:ODD$31,$A67)","v":0},null,null,null,0,null,null,null,0,null,null,null,0,null,null,null,0,null,null,null,0,null,null,null,0,null,null,null,0,null,null,null,0,null,null,null,0,null,null,null,0,null,null,null,0,null,null,null,0,null,null,null,0,null,null,null,0,null,null,null,0,null,null,null,{"$f":"COUNTIF(OFN$3:OFP$31,$A67)","v":0},null,null,null,0,null,null,null,0,null,null,null,0,null,null,null,0,null,null,null,0,null,null,null,0,null,null,null,0,null,null,null,0,null,null,null,0,null,null,null,0,null,null,null,0,null,null,null,0,null,null,null,0,null,null,null,0,null,null,null,0,null,null,null,{"$f":"COUNTIF(OHZ$3:OIB$31,$A67)","v":0},null,null,null,0,null,null,null,0,null,null,null,0,null,null,null,0,null,null,null,0,null,null,null,0,null,null,null,0,null,null,null,0,null,null,null,0,null,null,null,0,null,null,null,0,null,null,null,0,null,null,null,0,null,null,null,0,null,null,null,0,null,null,null,{"$f":"COUNTIF(OKL$3:OKN$31,$A67)","v":0},null,null,null,0,null,null,null,0,null,null,null,0,null,null,null,0,null,null,null,0,null,null,null,0,null,null,null,0,null,null,null,0,null,null,null,0,null,null,null,0,null,null,null,0,null,null,null,0,null,null,null,0,null,null,null,0,null,null,null,0,null,null,null,{"$f":"COUNTIF(OMX$3:OMZ$31,$A67)","v":0},null,null,null,0,null,null,null,0,null,null,null,0,null,null,null,0,null,null,null,0,null,null,null,0,null,null,null,0,null,null,null,0,null,null,null,0,null,null,null,0,null,null,null,0,null,null,null,0,null,null,null,0,null,null,null,0,null,null,null,0,null,null,null,{"$f":"COUNTIF(OPJ$3:OPL$31,$A67)","v":0},null,null,null,0,null,null,null,0,null,null,null,0,null,null,null,0,null,null,null,0,null,null,null,0,null,null,null,0,null,null,null,0,null,null,null,0,null,null,null,0,null,null,null,0,null,null,null,0,null,null,null,0,null,null,null,0,null,null,null,0,null,null,null,{"$f":"COUNTIF(ORV$3:ORX$31,$A67)","v":0},null,null,null,0,null,null,null,0,null,null,null,0,null,null,null,0,null,null,null,0,null,null,null,0,null,null,null,0,null,null,null,0,null,null,null,0,null,null,null,0,null,null,null,0,null,null,null,0,null,null,null,0,null,null,null,0,null,null,null,0,null,null,null,{"$f":"COUNTIF(OUH$3:OUJ$31,$A67)","v":0},null,null,null,0,null,null,null,0,null,null,null,0,null,null,null,0,null,null,null,0,null,null,null,0,null,null,null,0,null,null,null,0,null,null,null,0,null,null,null,0,null,null,null,0,null,null,null,0,null,null,null,0,null,null,null,0,null,null,null,0,null,null,null,{"$f":"COUNTIF(OWT$3:OWV$31,$A67)","v":0},null,null,null,0,null,null,null,0,null,null,null,0,null,null,null,0,null,null,null,0,null,null,null,0,null,null,null,0,null,null,null,0,null,null,null,0,null,null,null,0,null,null,null,0,null,null,null,0,null,null,null,0,null,null,null,0,null,null,null,0,null,null,null,{"$f":"COUNTIF(OZF$3:OZH$31,$A67)","v":0},null,null,null,0,null,null,null,0,null,null,null,0,null,null,null,0,null,null,null,0,null,null,null,0,null,null,null,0,null,null,null,0,null,null,null,0,null,null,null,0,null,null,null,0,null,null,null,0,null,null,null,0,null,null,null,0,null,null,null,0,null,null,null,{"$f":"COUNTIF(PBR$3:PBT$31,$A67)","v":0},null,null,null,0,null,null,null,0,null,null,null,0,null,null,null,0,null,null,null,0,null,null,null,0,null,null,null,0,null,null,null,0,null,null,null,0,null,null,null,0,null,null,null,0,null,null,null,0,null,null,null,0,null,null,null,0,null,null,null,0,null,null,null,{"$f":"COUNTIF(PED$3:PEF$31,$A67)","v":0},null,null,null,0,null,null,null,0,null,null,null,0,null,null,null,0,null,null,null,0,null,null,null,0,null,null,null,0,null,null,null,0,null,null,null,0,null,null,null,0,null,null,null,0,null,null,null,0,null,null,null,0,null,null,null,0,null,null,null,0,null,null,null,{"$f":"COUNTIF(PGP$3:PGR$31,$A67)","v":0},null,null,null,0,null,null,null,0,null,null,null,0,null,null,null,0,null,null,null,0,null,null,null,0,null,null,null,0,null,null,null,0,null,null,null,0,null,null,null,0,null,null,null,0,null,null,null,0,null,null,null,0,null,null,null,0,null,null,null,0,null,null,null,{"$f":"COUNTIF(PJB$3:PJD$31,$A67)","v":0},null,null,null,0,null,null,null,0,null,null,null,0,null,null,null,0,null,null,null,0,null,null,null,0,null,null,null,0,null,null,null,0,null,null,null,0,null,null,null,0,null,null,null,0,null,null,null,0,null,null,null,0,null,null,null,0,null,null,null,0,null,null,null,{"$f":"COUNTIF(PLN$3:PLP$31,$A67)","v":0},null,null,null,0,null,null,null,0,null,null,null,0,null,null,null,0,null,null,null,0,null,null,null,0,null,null,null,0,null,null,null,0,null,null,null,0,null,null,null,0,null,null,null,0,null,null,null,0,null,null,null,0,null,null,null,0,null,null,null,0,null,null,null,{"$f":"COUNTIF(PNZ$3:POB$31,$A67)","v":0},null,null,null,0,null,null,null,0,null,null,null,0,null,null,null,0,null,null,null,0,null,null,null,0,null,null,null,0,null,null,null,0,null,null,null,0,null,null,null,0,null,null,null,0,null,null,null,0,null,null,null,0,null,null,null,0,null,null,null,0,null,null,null,{"$f":"COUNTIF(PQL$3:PQN$31,$A67)","v":0},null,null,null,0,null,null,null,0,null,null,null,0,null,null,null,0,null,null,null,0,null,null,null,0,null,null,null,0,null,null,null,0,null,null,null,0,null,null,null,0,null,null,null,0,null,null,null,0,null,null,null,0,null,null,null,0,null,null,null,0,null,null,null,{"$f":"COUNTIF(PSX$3:PSZ$31,$A67)","v":0},null,null,null,0,null,null,null,0,null,null,null,0,null,null,null,0,null,null,null,0,null,null,null,0,null,null,null,0,null,null,null,0,null,null,null,0,null,null,null,0,null,null,null,0,null,null,null,0,null,null,null,0,null,null,null,0,null,null,null,0,null,null,null,{"$f":"COUNTIF(PVJ$3:PVL$31,$A67)","v":0},null,null,null,0,null,null,null,0,null,null,null,0,null,null,null,0,null,null,null,0,null,null,null,0,null,null,null,0,null,null,null,0,null,null,null,0,null,null,null,0,null,null,null,0,null,null,null,0,null,null,null,0,null,null,null,0,null,null,null,0,null,null,null,{"$f":"COUNTIF(PXV$3:PXX$31,$A67)","v":0},null,null,null,0,null,null,null,0,null,null,null,0,null,null,null,0,null,null,null,0,null,null,null,0,null,null,null,0,null,null,null,0,null,null,null,0,null,null,null,0,null,null,null,0,null,null,null,0,null,null,null,0,null,null,null,0,null,null,null,0,null,null,null,{"$f":"COUNTIF(QAH$3:QAJ$31,$A67)","v":0},null,null,null,0,null,null,null,0,null,null,null,0,null,null,null,0,null,null,null,0,null,null,null,0,null,null,null,0,null,null,null,0,null,null,null,0,null,null,null,0,null,null,null,0,null,null,null,0,null,null,null,0,null,null,null,0,null,null,null,0,null,null,null,{"$f":"COUNTIF(QCT$3:QCV$31,$A67)","v":0},null,null,null,0,null,null,null,0,null,null,null,0,null,null,null,0,null,null,null,0,null,null,null,0,null,null,null,0,null,null,null,0,null,null,null,0,null,null,null,0,null,null,null,0,null,null,null,0,null,null,null,0,null,null,null,0,null,null,null,0,null,null,null,{"$f":"COUNTIF(QFF$3:QFH$31,$A67)","v":0},null,null,null,0,null,null,null,0,null,null,null,0,null,null,null,0,null,null,null,0,null,null,null,0,null,null,null,0,null,null,null,0,null,null,null,0,null,null,null,0,null,null,null,0,null,null,null,0,null,null,null,0,null,null,null,0,null,null,null,0,null,null,null,{"$f":"COUNTIF(QHR$3:QHT$31,$A67)","v":0},null,null,null,0,null,null,null,0,null,null,null,0,null,null,null,0,null,null,null,0,null,null,null,0,null,null,null,0,null,null,null,0,null,null,null,0,null,null,null,0,null,null,null,0,null,null,null,0,null,null,null,0,null,null,null,0,null,null,null,0,null,null,null,{"$f":"COUNTIF(QKD$3:QKF$31,$A67)","v":0},null,null,null,0,null,null,null,0,null,null,null,0,null,null,null,0,null,null,null,0,null,null,null,0,null,null,null,0,null,null,null,0,null,null,null,0,null,null,null,0,null,null,null,0,null,null,null,0,null,null,null,0,null,null,null,0,null,null,null,0,null,null,null,{"$f":"COUNTIF(QMP$3:QMR$31,$A67)","v":0},null,null,null,0,null,null,null,0,null,null,null,0,null,null,null,0,null,null,null,0,null,null,null,0,null,null,null,0,null,null,null,0,null,null,null,0,null,null,null,0,null,null,null,0,null,null,null,0,null,null,null,0,null,null,null,0,null,null,null,0,null,null,null,{"$f":"COUNTIF(QPB$3:QPD$31,$A67)","v":0},null,null,null,0,null,null,null,0,null,null,null,0,null,null,null,0,null,null,null,0,null,null,null,0,null,null,null,0,null,null,null,0,null,null,null,0,null,null,null,0,null,null,null,0,null,null,null,0,null,null,null,0,null,null,null,0,null,null,null,0,null,null,null,{"$f":"COUNTIF(QRN$3:QRP$31,$A67)","v":0},null,null,null,0,null,null,null,0,null,null,null,0,null,null,null,0,null,null,null,0,null,null,null,0,null,null,null,0,null,null,null,0,null,null,null,0,null,null,null,0,null,null,null,0,null,null,null,0,null,null,null,0,null,null,null,0,null,null,null,0,null,null,null,{"$f":"COUNTIF(QTZ$3:QUB$31,$A67)","v":0},null,null,null,0,null,null,null,0,null,null,null,0,null,null,null,0,null,null,null,0,null,null,null,0,null,null,null,0,null,null,null,0,null,null,null,0,null,null,null,0,null,null,null,0,null,null,null,0,null,null,null,0,null,null,null,0,null,null,null,0,null,null,null,{"$f":"COUNTIF(QWL$3:QWN$31,$A67)","v":0},null,null,null,0,null,null,null,0,null,null,null,0,null,null,null,0,null,null,null,0,null,null,null,0,null,null,null,0,null,null,null,0,null,null,null,0,null,null,null,0,null,null,null,0,null,null,null,0,null,null,null,0,null,null,null,0,null,null,null,0,null,null,null,{"$f":"COUNTIF(QYX$3:QYZ$31,$A67)","v":0},null,null,null,0,null,null,null,0,null,null,null,0,null,null,null,0,null,null,null,0,null,null,null,0,null,null,null,0,null,null,null,0,null,null,null,0,null,null,null,0,null,null,null,0,null,null,null,0,null,null,null,0,null,null,null,0,null,null,null,0,null,null,null,{"$f":"COUNTIF(RBJ$3:RBL$31,$A67)","v":0},null,null,null,0,null,null,null,0,null,null,null,0,null,null,null,0,null,null,null,0,null,null,null,0,null,null,null,0,null,null,null,0,null,null,null,0,null,null,null,0,null,null,null,0,null,null,null,0,null,null,null,0,null,null,null,0,null,null,null,0,null,null,null,{"$f":"COUNTIF(RDV$3:RDX$31,$A67)","v":0},null,null,null,0,null,null,null,0,null,null,null,0,null,null,null,0,null,null,null,0,null,null,null,0,null,null,null,0,null,null,null,0,null,null,null,0,null,null,null,0,null,null,null,0,null,null,null,0,null,null,null,0,null,null,null,0,null,null,null,0,null,null,null,{"$f":"COUNTIF(RGH$3:RGJ$31,$A67)","v":0},null,null,null,0,null,null,null,0,null,null,null,0,null,null,null,0,null,null,null,0,null,null,null,0,null,null,null,0,null,null,null,0,null,null,null,0,null,null,null,0,null,null,null,0,null,null,null,0,null,null,null,0,null,null,null,0,null,null,null,0,null,null,null,{"$f":"COUNTIF(RIT$3:RIV$31,$A67)","v":0},null,null,null,0,null,null,null,0,null,null,null,0,null,null,null,0,null,null,null,0,null,null,null,0,null,null,null,0,null,null,null,0,null,null,null,0,null,null,null,0,null,null,null,0,null,null,null,0,null,null,null,0,null,null,null,0,null,null,null,0,null,null,null,{"$f":"COUNTIF(RLF$3:RLH$31,$A67)","v":0},null,null,null,0,null,null,null,0,null,null,null,0,null,null,null,0,null,null,null,0,null,null,null,0,null,null,null,0,null,null,null,0,null,null,null,0,null,null,null,0,null,null,null,0,null,null,null,0,null,null,null,0,null,null,null,0,null,null,null,0,null,null,null,{"$f":"COUNTIF(RNR$3:RNT$31,$A67)","v":0},null,null,null,0,null,null,null,0,null,null,null,0,null,null,null,0,null,null,null,0,null,null,null,0,null,null,null,0,null,null,null,0,null,null,null,0,null,null,null,0,null,null,null,0,null,null,null,0,null,null,null,0,null,null,null,0,null,null,null,0,null,null,null,{"$f":"COUNTIF(RQD$3:RQF$31,$A67)","v":0},null,null,null,0,null,null,null,0,null,null,null,0,null,null,null,0,null,null,null,0,null,null,null,0,null,null,null,0,null,null,null,0,null,null,null,0,null,null,null,0,null,null,null,0,null,null,null,0,null,null,null,0,null,null,null,0,null,null,null,0,null,null,null,{"$f":"COUNTIF(RSP$3:RSR$31,$A67)","v":0},null,null,null,0,null,null,null,0,null,null,null,0,null,null,null,0,null,null,null,0,null,null,null,0,null,null,null,0,null,null,null,0,null,null,null,0,null,null,null,0,null,null,null,0,null,null,null,0,null,null,null,0,null,null,null,0,null,null,null,0,null,null,null,{"$f":"COUNTIF(RVB$3:RVD$31,$A67)","v":0},null,null,null,0,null,null,null,0,null,null,null,0,null,null,null,0,null,null,null,0,null,null,null,0,null,null,null,0,null,null,null,0,null,null,null,0,null,null,null,0,null,null,null,0,null,null,null,0,null,null,null,0,null,null,null,0,null,null,null,0,null,null,null,{"$f":"COUNTIF(RXN$3:RXP$31,$A67)","v":0},null,null,null,0,null,null,null,0,null,null,null,0,null,null,null,0,null,null,null,0,null,null,null,0,null,null,null,0,null,null,null,0,null,null,null,0,null,null,null,0,null,null,null,0,null,null,null,0,null,null,null,0,null,null,null,0,null,null,null,0,null,null,null,{"$f":"COUNTIF(RZZ$3:SAB$31,$A67)","v":0},null,null,null,0,null,null,null,0,null,null,null,0,null,null,null,0,null,null,null,0,null,null,null,0,null,null,null,0,null,null,null,0,null,null,null,0,null,null,null,0,null,null,null,0,null,null,null,0,null,null,null,0,null,null,null,0,null,null,null,0,null,null,null,{"$f":"COUNTIF(SCL$3:SCN$31,$A67)","v":0},null,null,null,0,null,null,null,0,null,null,null,0,null,null,null,0,null,null,null,0,null,null,null,0,null,null,null,0,null,null,null,0,null,null,null,0,null,null,null,0,null,null,null,0,null,null,null,0,null,null,null,0,null,null,null,0,null,null,null,0,null,null,null,{"$f":"COUNTIF(SEX$3:SEZ$31,$A67)","v":0},null,null,null,0,null,null,null,0,null,null,null,0,null,null,null,0,null,null,null,0,null,null,null,0,null,null,null,0,null,null,null,0,null,null,null,0,null,null,null,0,null,null,null,0,null,null,null,0,null,null,null,0,null,null,null,0,null,null,null,0,null,null,null,{"$f":"COUNTIF(SHJ$3:SHL$31,$A67)","v":0},null,null,null,0,null,null,null,0,null,null,null,0,null,null,null,0,null,null,null,0,null,null,null,0,null,null,null,0,null,null,null,0,null,null,null,0,null,null,null,0,null,null,null,0,null,null,null,0,null,null,null,0,null,null,null,0,null,null,null,0,null,null,null,{"$f":"COUNTIF(SJV$3:SJX$31,$A67)","v":0},null,null,null,0,null,null,null,0,null,null,null,0,null,null,null,0,null,null,null,0,null,null,null,0,null,null,null,0,null,null,null,0,null,null,null,0,null,null,null,0,null,null,null,0,null,null,null,0,null,null,null,0,null,null,null,0,null,null,null,0,null,null,null,{"$f":"COUNTIF(SMH$3:SMJ$31,$A67)","v":0},null,null,null,0,null,null,null,0,null,null,null,0,null,null,null,0,null,null,null,0,null,null,null,0,null,null,null,0,null,null,null,0,null,null,null,0,null,null,null,0,null,null,null,0,null,null,null,0,null,null,null,0,null,null,null,0,null,null,null,0,null,null,null,{"$f":"COUNTIF(SOT$3:SOV$31,$A67)","v":0},null,null,null,0,null,null,null,0,null,null,null,0,null,null,null,0,null,null,null,0,null,null,null,0,null,null,null,0,null,null,null,0,null,null,null,0,null,null,null,0,null,null,null,0,null,null,null,0,null,null,null,0,null,null,null,0,null,null,null,0,null,null,null,{"$f":"COUNTIF(SRF$3:SRH$31,$A67)","v":0},null,null,null,0,null,null,null,0,null,null,null,0,null,null,null,0,null,null,null,0,null,null,null,0,null,null,null,0,null,null,null,0,null,null,null,0,null,null,null,0,null,null,null,0,null,null,null,0,null,null,null,0,null,null,null,0,null,null,null,0,null,null,null,{"$f":"COUNTIF(STR$3:STT$31,$A67)","v":0},null,null,null,0,null,null,null,0,null,null,null,0,null,null,null,0,null,null,null,0,null,null,null,0,null,null,null,0,null,null,null,0,null,null,null,0,null,null,null,0,null,null,null,0,null,null,null,0,null,null,null,0,null,null,null,0,null,null,null,0,null,null,null,{"$f":"COUNTIF(SWD$3:SWF$31,$A67)","v":0},null,null,null,0,null,null,null,0,null,null,null,0,null,null,null,0,null,null,null,0,null,null,null,0,null,null,null,0,null,null,null,0,null,null,null,0,null,null,null,0,null,null,null,0,null,null,null,0,null,null,null,0,null,null,null,0,null,null,null,0,null,null,null,{"$f":"COUNTIF(SYP$3:SYR$31,$A67)","v":0},null,null,null,0,null,null,null,0,null,null,null,0,null,null,null,0,null,null,null,0,null,null,null,0,null,null,null,0,null,null,null,0,null,null,null,0,null,null,null,0,null,null,null,0,null,null,null,0,null,null,null,0,null,null,null,0,null,null,null,0,null,null,null,{"$f":"COUNTIF(TBB$3:TBD$31,$A67)","v":0},null,null,null,0,null,null,null,0,null,null,null,0,null,null,null,0,null,null,null,0,null,null,null,0,null,null,null,0,null,null,null,0,null,null,null,0,null,null,null,0,null,null,null,0,null,null,null,0,null,null,null,0,null,null,null,0,null,null,null,0,null,null,null,{"$f":"COUNTIF(TDN$3:TDP$31,$A67)","v":0},null,null,null,0,null,null,null,0,null,null,null,0,null,null,null,0,null,null,null,0,null,null,null,0,null,null,null,0,null,null,null,0,null,null,null,0,null,null,null,0,null,null,null,0,null,null,null,0,null,null,null,0,null,null,null,0,null,null,null,0,null,null,null,{"$f":"COUNTIF(TFZ$3:TGB$31,$A67)","v":0},null,null,null,0,null,null,null,0,null,null,null,0,null,null,null,0,null,null,null,0,null,null,null,0,null,null,null,0,null,null,null,0,null,null,null,0,null,null,null,0,null,null,null,0,null,null,null,0,null,null,null,0,null,null,null,0,null,null,null,0,null,null,null,{"$f":"COUNTIF(TIL$3:TIN$31,$A67)","v":0},null,null,null,0,null,null,null,0,null,null,null,0,null,null,null,0,null,null,null,0,null,null,null,0,null,null,null,0,null,null,null,0,null,null,null,0,null,null,null,0,null,null,null,0,null,null,null,0,null,null,null,0,null,null,null,0,null,null,null,0,null,null,null,{"$f":"COUNTIF(TKX$3:TKZ$31,$A67)","v":0},null,null,null,0,null,null,null,0,null,null,null,0,null,null,null,0,null,null,null,0,null,null,null,0,null,null,null,0,null,null,null,0,null,null,null,0,null,null,null,0,null,null,null,0,null,null,null,0,null,null,null,0,null,null,null,0,null,null,null,0,null,null,null,{"$f":"COUNTIF(TNJ$3:TNL$31,$A67)","v":0},null,null,null,0,null,null,null,0,null,null,null,0,null,null,null,0,null,null,null,0,null,null,null,0,null,null,null,0,null,null,null,0,null,null,null,0,null,null,null,0,null,null,null,0,null,null,null,0,null,null,null,0,null,null,null,0,null,null,null,0,null,null,null,{"$f":"COUNTIF(TPV$3:TPX$31,$A67)","v":0},null,null,null,0,null,null,null,0,null,null,null,0,null,null,null,0,null,null,null,0,null,null,null,0,null,null,null,0,null,null,null,0,null,null,null,0,null,null,null,0,null,null,null,0,null,null,null,0,null,null,null,0,null,null,null,0,null,null,null,0,null,null,null,{"$f":"COUNTIF(TSH$3:TSJ$31,$A67)","v":0},null,null,null,0,null,null,null,0,null,null,null,0,null,null,null,0,null,null,null,0,null,null,null,0,null,null,null,0,null,null,null,0,null,null,null,0,null,null,null,0,null,null,null,0,null,null,null,0,null,null,null,0,null,null,null,0,null,null,null,0,null,null,null,{"$f":"COUNTIF(TUT$3:TUV$31,$A67)","v":0},null,null,null,0,null,null,null,0,null,null,null,0,null,null,null,0,null,null,null,0,null,null,null,0,null,null,null,0,null,null,null,0,null,null,null,0,null,null,null,0,null,null,null,0,null,null,null,0,null,null,null,0,null,null,null,0,null,null,null,0,null,null,null,{"$f":"COUNTIF(TXF$3:TXH$31,$A67)","v":0},null,null,null,0,null,null,null,0,null,null,null,0,null,null,null,0,null,null,null,0,null,null,null,0,null,null,null,0,null,null,null,0,null,null,null,0,null,null,null,0,null,null,null,0,null,null,null,0,null,null,null,0,null,null,null,0,null,null,null,0,null,null,null,{"$f":"COUNTIF(TZR$3:TZT$31,$A67)","v":0},null,null,null,0,null,null,null,0,null,null,null,0,null,null,null,0,null,null,null,0,null,null,null,0,null,null,null,0,null,null,null,0,null,null,null,0,null,null,null,0,null,null,null,0,null,null,null,0,null,null,null,0,null,null,null,0,null,null,null,0,null,null,null,{"$f":"COUNTIF(UCD$3:UCF$31,$A67)","v":0},null,null,null,0,null,null,null,0,null,null,null,0,null,null,null,0,null,null,null,0,null,null,null,0,null,null,null,0,null,null,null,0,null,null,null,0,null,null,null,0,null,null,null,0,null,null,null,0,null,null,null,0,null,null,null,0,null,null,null,0,null,null,null,{"$f":"COUNTIF(UEP$3:UER$31,$A67)","v":0},null,null,null,0,null,null,null,0,null,null,null,0,null,null,null,0,null,null,null,0,null,null,null,0,null,null,null,0,null,null,null,0,null,null,null,0,null,null,null,0,null,null,null,0,null,null,null,0,null,null,null,0,null,null,null,0,null,null,null,0,null,null,null,{"$f":"COUNTIF(UHB$3:UHD$31,$A67)","v":0},null,null,null,0,null,null,null,0,null,null,null,0,null,null,null,0,null,null,null,0,null,null,null,0,null,null,null,0,null,null,null,0,null,null,null,0,null,null,null,0,null,null,null,0,null,null,null,0,null,null,null,0,null,null,null,0,null,null,null,0,null,null,null,{"$f":"COUNTIF(UJN$3:UJP$31,$A67)","v":0},null,null,null,0,null,null,null,0,null,null,null,0,null,null,null,0,null,null,null,0,null,null,null,0,null,null,null,0,null,null,null,0,null,null,null,0,null,null,null,0,null,null,null,0,null,null,null,0,null,null,null,0,null,null,null,0,null,null,null,0,null,null,null,{"$f":"COUNTIF(ULZ$3:UMB$31,$A67)","v":0},null,null,null,0,null,null,null,0,null,null,null,0,null,null,null,0,null,null,null,0,null,null,null,0,null,null,null,0,null,null,null,0,null,null,null,0,null,null,null,0,null,null,null,0,null,null,null,0,null,null,null,0,null,null,null,0,null,null,null,0,null,null,null,{"$f":"COUNTIF(UOL$3:UON$31,$A67)","v":0},null,null,null,0,null,null,null,0,null,null,null,0,null,null,null,0,null,null,null,0,null,null,null,0,null,null,null,0,null,null,null,0,null,null,null,0,null,null,null,0,null,null,null,0,null,null,null,0,null,null,null,0,null,null,null,0,null,null,null,0,null,null,null,{"$f":"COUNTIF(UQX$3:UQZ$31,$A67)","v":0},null,null,null,0,null,null,null,0,null,null,null,0,null,null,null,0,null,null,null,0,null,null,null,0,null,null,null,0,null,null,null,0,null,null,null,0,null,null,null,0,null,null,null,0,null,null,null,0,null,null,null,0,null,null,null,0,null,null,null,0,null,null,null,{"$f":"COUNTIF(UTJ$3:UTL$31,$A67)","v":0},null,null,null,0,null,null,null,0,null,null,null,0,null,null,null,0,null,null,null,0,null,null,null,0,null,null,null,0,null,null,null,0,null,null,null,0,null,null,null,0,null,null,null,0,null,null,null,0,null,null,null,0,null,null,null,0,null,null,null,0,null,null,null,{"$f":"COUNTIF(UVV$3:UVX$31,$A67)","v":0},null,null,null,0,null,null,null,0,null,null,null,0,null,null,null,0,null,null,null,0,null,null,null,0,null,null,null,0,null,null,null,0,null,null,null,0,null,null,null,0,null,null,null,0,null,null,null,0,null,null,null,0,null,null,null,0,null,null,null,0,null,null,null,{"$f":"COUNTIF(UYH$3:UYJ$31,$A67)","v":0},null,null,null,0,null,null,null,0,null,null,null,0,null,null,null,0,null,null,null,0,null,null,null,0,null,null,null,0,null,null,null,0,null,null,null,0,null,null,null,0,null,null,null,0,null,null,null,0,null,null,null,0,null,null,null,0,null,null,null,0,null,null,null,{"$f":"COUNTIF(VAT$3:VAV$31,$A67)","v":0},null,null,null,0,null,null,null,0,null,null,null,0,null,null,null,0,null,null,null,0,null,null,null,0,null,null,null,0,null,null,null,0,null,null,null,0,null,null,null,0,null,null,null,0,null,null,null,0,null,null,null,0,null,null,null,0,null,null,null,0,null,null,null,{"$f":"COUNTIF(VDF$3:VDH$31,$A67)","v":0},null,null,null,0,null,null,null,0,null,null,null,0,null,null,null,0,null,null,null,0,null,null,null,0,null,null,null,0,null,null,null,0,null,null,null,0,null,null,null,0,null,null,null,0,null,null,null,0,null,null,null,0,null,null,null,0,null,null,null,0,null,null,null,{"$f":"COUNTIF(VFR$3:VFT$31,$A67)","v":0},null,null,null,0,null,null,null,0,null,null,null,0,null,null,null,0,null,null,null,0,null,null,null,0,null,null,null,0,null,null,null,0,null,null,null,0,null,null,null,0,null,null,null,0,null,null,null,0,null,null,null,0,null,null,null,0,null,null,null,0,null,null,null,{"$f":"COUNTIF(VID$3:VIF$31,$A67)","v":0},null,null,null,0,null,null,null,0,null,null,null,0,null,null,null,0,null,null,null,0,null,null,null,0,null,null,null,0,null,null,null,0,null,null,null,0,null,null,null,0,null,null,null,0,null,null,null,0,null,null,null,0,null,null,null,0,null,null,null,0,null,null,null,{"$f":"COUNTIF(VKP$3:VKR$31,$A67)","v":0},null,null,null,0,null,null,null,0,null,null,null,0,null,null,null,0,null,null,null,0,null,null,null,0,null,null,null,0,null,null,null,0,null,null,null,0,null,null,null,0,null,null,null,0,null,null,null,0,null,null,null,0,null,null,null,0,null,null,null,0,null,null,null,{"$f":"COUNTIF(VNB$3:VND$31,$A67)","v":0},null,null,null,0,null,null,null,0,null,null,null,0,null,null,null,0,null,null,null,0,null,null,null,0,null,null,null,0,null,null,null,0,null,null,null,0,null,null,null,0,null,null,null,0,null,null,null,0,null,null,null,0,null,null,null,0,null,null,null,0,null,null,null,{"$f":"COUNTIF(VPN$3:VPP$31,$A67)","v":0},null,null,null,0,null,null,null,0,null,null,null,0,null,null,null,0,null,null,null,0,null,null,null,0,null,null,null,0,null,null,null,0,null,null,null,0,null,null,null,0,null,null,null,0,null,null,null,0,null,null,null,0,null,null,null,0,null,null,null,0,null,null,null,{"$f":"COUNTIF(VRZ$3:VSB$31,$A67)","v":0},null,null,null,0,null,null,null,0,null,null,null,0,null,null,null,0,null,null,null,0,null,null,null,0,null,null,null,0,null,null,null,0,null,null,null,0,null,null,null,0,null,null,null,0,null,null,null,0,null,null,null,0,null,null,null,0,null,null,null,0,null,null,null,{"$f":"COUNTIF(VUL$3:VUN$31,$A67)","v":0},null,null,null,0,null,null,null,0,null,null,null,0,null,null,null,0,null,null,null,0,null,null,null,0,null,null,null,0,null,null,null,0,null,null,null,0,null,null,null,0,null,null,null,0,null,null,null,0,null,null,null,0,null,null,null,0,null,null,null,0,null,null,null,{"$f":"COUNTIF(VWX$3:VWZ$31,$A67)","v":0},null,null,null,0,null,null,null,0,null,null,null,0,null,null,null,0,null,null,null,0,null,null,null,0,null,null,null,0,null,null,null,0,null,null,null,0,null,null,null,0,null,null,null,0,null,null,null,0,null,null,null,0,null,null,null,0,null,null,null,0,null,null,null,{"$f":"COUNTIF(VZJ$3:VZL$31,$A67)","v":0},null,null,null,0,null,null,null,0,null,null,null,0,null,null,null,0,null,null,null,0,null,null,null,0,null,null,null,0,null,null,null,0,null,null,null,0,null,null,null,0,null,null,null,0,null,null,null,0,null,null,null,0,null,null,null,0,null,null,null,0,null,null,null,{"$f":"COUNTIF(WBV$3:WBX$31,$A67)","v":0},null,null,null,0,null,null,null,0,null,null,null,0,null,null,null,0,null,null,null,0,null,null,null,0,null,null,null,0,null,null,null,0,null,null,null,0,null,null,null,0,null,null,null,0,null,null,null,0,null,null,null,0,null,null,null,0,null,null,null,0,null,null,null,{"$f":"COUNTIF(WEH$3:WEJ$31,$A67)","v":0},null,null,null,0,null,null,null,0,null,null,null,0,null,null,null,0,null,null,null,0,null,null,null,0,null,null,null,0,null,null,null,0,null,null,null,0,null,null,null,0,null,null,null,0,null,null,null,0,null,null,null,0,null,null,null,0,null,null,null,0,null,null,null,{"$f":"COUNTIF(WGT$3:WGV$31,$A67)","v":0},null,null,null,0,null,null,null,0,null,null,null,0,null,null,null,0,null,null,null,0,null,null,null,0,null,null,null,0,null,null,null,0,null,null,null,0,null,null,null,0,null,null,null,0,null,null,null,0,null,null,null,0,null,null,null,0,null,null,null,0,null,null,null,{"$f":"COUNTIF(WJF$3:WJH$31,$A67)","v":0},null,null,null,0,null,null,null,0,null,null,null,0,null,null,null,0,null,null,null,0,null,null,null,0,null,null,null,0,null,null,null,0,null,null,null,0,null,null,null,0,null,null,null,0,null,null,null,0,null,null,null,0,null,null,null,0,null,null,null,0,null,null,null,{"$f":"COUNTIF(WLR$3:WLT$31,$A67)","v":0},null,null,null,0,null,null,null,0,null,null,null,0,null,null,null,0,null,null,null,0,null,null,null,0,null,null,null,0,null,null,null,0,null,null,null,0,null,null,null,0,null,null,null,0,null,null,null,0,null,null,null,0,null,null,null,0,null,null,null,0,null,null,null,{"$f":"COUNTIF(WOD$3:WOF$31,$A67)","v":0},null,null,null,0,null,null,null,0,null,null,null,0,null,null,null,0,null,null,null,0,null,null,null,0,null,null,null,0,null,null,null,0,null,null,null,0,null,null,null,0,null,null,null,0,null,null,null,0,null,null,null,0,null,null,null,0,null,null,null,0,null,null,null,{"$f":"COUNTIF(WQP$3:WQR$31,$A67)","v":0},null,null,null,0,null,null,null,0,null,null,null,0,null,null,null,0,null,null,null,0,null,null,null,0,null,null,null,0,null,null,null,0,null,null,null,0,null,null,null,0,null,null,null,0,null,null,null,0,null,null,null,0,null,null,null,0,null,null,null,0,null,null,null,{"$f":"COUNTIF(WTB$3:WTD$31,$A67)","v":0},null,null,null,0,null,null,null,0,null,null,null,0,null,null,null,0,null,null,null,0,null,null,null,0,null,null,null,0,null,null,null,0,null,null,null,0,null,null,null,0,null,null,null,0,null,null,null,0,null,null,null,0,null,null,null,0,null,null,null,0,null,null,null,{"$f":"COUNTIF(WVN$3:WVP$31,$A67)","v":0},null,null,null,0,null,null,null,0,null,null,null,0,null,null,null,0,null,null,null,0,null,null,null,0,null,null,null,0,null,null,null,0,null,null,null,0,null,null,null,0,null,null,null,0,null,null,null,0,null,null,null,0,null,null,null,0,null,null,null,0,null,null,null,{"$f":"COUNTIF(WXZ$3:WYB$31,$A67)","v":0},null,null,null,0,null,null,null,0,null,null,null,0,null,null,null,0,null,null,null,0,null,null,null,0,null,null,null,0,null,null,null,0,null,null,null,0,null,null,null,0,null,null,null,0,null,null,null,0,null,null,null,0,null,null,null,0,null,null,null,0,null,null,null,{"$f":"COUNTIF(XAL$3:XAN$31,$A67)","v":0},null,null,null,0,null,null,null,0,null,null,null,0,null,null,null,0,null,null,null,0,null,null,null,0,null,null,null,0,null,null,null,0,null,null,null,0,null,null,null,0,null,null,null,0,null,null,null,0,null,null,null,0,null,null,null,0,null,null,null,0,null,null,null,{"$f":"COUNTIF(XCX$3:XCZ$31,$A67)","v":0},null,null,null,0,null,null,null,0,null,null,null,0,null,null,null,0,null,null,null,0,null,null,null,0,null,null,null,0,null,null,null,0,null,null,null,0,null,null,null,0,null,null,null,0,null,null,null,0,null,null,null,0,null,null,null,0]
["Fam Sess 5 - Building Family Communication",null,0,null,null,null,0,null,null,null,0,null,null,null,0,null,null,null,0,null,null,null,0,null,null,null,0,null,null,null,0,null,null,null,0,null,null,null,0,null,null,null,0,null,null,null,0,null,null,null,0,null,null,null,0,null,null,null,0,null,null,null,0,null,null,null,0,null,null,null,0,null,null,null,0,null,null,null,0,null,null,null,0,null,null,null,0,null,null,null,0,null,null,null,0,null,null,null,0,null,null,null,0,null,null,null,0,null,null,null,0,null,null,null,0,null,null,null,0,null,null,null,0,null,null,null,0,null,null,null,0,null,null,null,0,null,null,null,0,null,null,null,0,null,null,null,0,null,null,null,0,null,null,null,0,null,null,null,0,null,null,null,0,null,null,null,0,null,null,null,0,null,null,null,0,null,null,null,0,null,null,null,0,null,null,null,0,null,null,null,0,null,null,null,0,null,null,null,0,null,null,null,0,null,null,null,0,null,null,null,0,null,null,null,0,null,null,null,0,null,null,null,0,null,null,null,0,null,null,null,0,null,null,null,0,null,null,null,0,null,null,null,0,null,null,null,0,null,null,null,0,null,null,null,0,null,null,null,0,null,null,null,0,null,null,null,0,null,null,null,0,null,null,null,0,null,null,null,0,null,null,null,0,null,null,null,0,null,null,null,0,null,null,null,0,null,null,null,0,null,null,null,0,null,null,null,0,null,null,null,0,null,null,null,0,null,null,null,0,null,null,null,0,null,null,null,0,null,null,null,0,null,null,null,0,null,null,null,0,null,null,null,0,null,null,null,0,null,null,null,0,null,null,null,0,null,null,null,0,null,null,null,0,null,null,null,0,null,null,null,0,null,null,null,0,null,null,null,0,null,null,null,0,null,null,null,0,null,null,null,0,null,null,null,0,null,null,null,0,null,null,null,0,null,null,null,0,null,null,null,0,null,null,null,0,null,null,null,0,null,null,null,0,null,null,null,0,null,null,null,0,null,null,null,0,null,null,null,0,null,null,null,0,null,null,null,0,null,null,null,0,null,null,null,0,null,null,null,0,null,null,null,0,null,null,null,0,null,null,null,0,null,null,null,0,null,null,null,0,null,null,null,0,null,null,null,0,null,null,null,0,null,null,null,0,null,null,null,0,null,null,null,0,null,null,null,0,null,null,null,0,null,null,null,0,null,null,null,0,null,null,null,0,null,null,null,0,null,null,null,0,null,null,null,0,null,null,null,0,null,null,null,0,null,null,null,0,null,null,null,0,null,null,null,0,null,null,null,0,null,null,null,0,null,null,null,0,null,null,null,0,null,null,null,0,null,null,null,0,null,null,null,0,null,null,null,0,null,null,null,0,null,null,null,0,null,null,null,0,null,null,null,0,null,null,null,0,null,null,null,0,null,null,null,0,null,null,null,0,null,null,null,0,null,null,null,0,null,null,null,0,null,null,null,0,null,null,null,0,null,null,null,0,null,null,null,0,null,null,null,0,null,null,null,0,null,null,null,0,null,null,null,0,null,null,null,0,null,null,null,0,null,null,null,0,null,null,null,0,null,null,null,0,null,null,null,0,null,null,null,0,null,null,null,0,null,null,null,0,null,null,null,0,null,null,null,0,null,null,null,0,null,null,null,0,null,null,null,0,null,null,null,0,null,null,null,0,null,null,null,0,null,null,null,0,null,null,null,0,null,null,null,0,null,null,null,0,null,null,null,0,null,null,null,0,null,null,null,0,null,null,null,0,null,null,null,0,null,null,null,0,null,null,null,0,null,null,null,0,null,null,null,0,null,null,null,0,null,null,null,0,null,null,null,0,null,null,null,0,null,null,null,0,null,null,null,0,null,null,null,0,null,null,null,0,null,null,null,0,null,null,null,0,null,null,null,0,null,null,null,0,null,null,null,0,null,null,null,0,null,null,null,0,null,null,null,0,null,null,null,0,null,null,null,0,null,null,null,0,null,null,null,0,null,null,null,0,null,null,null,0,null,null,null,0,null,null,null,0,null,null,null,0,null,null,null,0,null,null,null,0,null,null,null,0,null,null,null,0,null,null,null,0,null,null,null,0,null,null,null,0,null,null,null,0,null,null,null,0,null,null,null,0,null,null,null,0,null,null,null,0,null,null,null,0,null,null,null,0,null,null,null,0,null,null,null,0,null,null,null,0,null,null,null,0,null,null,null,0,null,null,null,0,null,null,null,0,null,null,null,0,null,null,null,0,null,null,null,0,null,null,null,0,null,null,null,0,null,null,null,0,null,null,null,0,null,null,null,0,null,null,null,0,null,null,null,0,null,null,null,0,null,null,null,0,null,null,null,0,null,null,null,0,null,null,null,0,null,null,null,0,null,null,null,0,null,null,null,0,null,null,null,0,null,null,null,0,null,null,null,0,null,null,null,0,null,null,null,0,null,null,null,0,null,null,null,0,null,null,null,0,null,null,null,0,null,null,null,0,null,null,null,0,null,null,null,0,null,null,null,0,null,null,null,0,null,null,null,0,null,null,null,0,null,null,null,0,null,null,null,0,null,null,null,0,null,null,null,0,null,null,null,0,null,null,null,0,null,null,null,0,null,null,null,0,null,null,null,0,null,null,null,0,null,null,null,0,null,null,null,0,null,null,null,0,null,null,null,0,null,null,null,0,null,null,null,0,null,null,null,0,null,null,null,0,null,null,null,0,null,null,null,0,null,null,null,0,null,null,null,0,null,null,null,0,null,null,null,0,null,null,null,0,null,null,null,0,null,null,null,0,null,null,null,0,null,null,null,0,null,null,null,0,null,null,null,0,null,null,null,0,null,null,null,0,null,null,null,0,null,null,null,0,null,null,null,0,null,null,null,0,null,null,null,0,null,null,null,0,null,null,null,0,null,null,null,0,null,null,null,0,null,null,null,0,null,null,null,0,null,null,null,0,null,null,null,0,null,null,null,0,null,null,null,0,null,null,null,0,null,null,null,0,null,null,null,0,null,null,null,0,null,null,null,0,null,null,null,0,null,null,null,0,null,null,null,0,null,null,null,0,null,null,null,0,null,null,null,0,null,null,null,0,null,null,null,0,null,null,null,0,null,null,null,0,null,null,null,0,null,null,null,0,null,null,null,0,null,null,null,0,null,null,null,0,null,null,null,0,null,null,null,0,null,null,null,0,null,null,null,0,null,null,null,0,null,null,null,0,null,null,null,0,null,null,null,0,null,null,null,0,null,null,null,0,null,null,null,0,null,null,null,0,null,null,null,0,null,null,null,0,null,null,null,0,null,null,null,0,null,null,null,0,null,null,null,0,null,null,null,0,null,null,null,0,null,null,null,0,null,null,null,0,null,null,null,0,null,null,null,0,null,null,null,0,null,null,null,0,null,null,null,0,null,null,null,0,null,null,null,0,null,null,null,0,null,null,null,0,null,null,null,0,null,null,null,0,null,null,null,0,null,null,null,0,null,null,null,0,null,null,null,0,null,null,null,0,null,null,null,0,null,null,null,0,null,null,null,0,null,null,null,0,null,null,null,0,null,null,null,0,null,null,null,0,null,null,null,0,null,null,null,0,null,null,null,0,null,null,null,0,null,null,null,0,null,null,null,0,null,null,null,0,null,null,null,0,null,null,null,0,null,null,null,0,null,null,null,0,null,null,null,0,null,null,null,0,null,null,null,0,null,null,null,0,null,null,null,0,null,null,null,0,null,null,null,0,null,null,null,0,null,null,null,0,null,null,null,0,null,null,null,0,null,null,null,0,null,null,null,0,null,null,null,0,null,null,null,0,null,null,null,0,null,null,null,0,null,null,null,0,null,null,null,0,null,null,null,0,null,null,null,0,null,null,null,0,null,null,null,0,null,null,null,0,null,null,null,0,null,null,null,0,null,null,null,0,null,null,null,0,null,null,null,0,null,null,null,0,null,null,null,0,null,null,null,0,null,null,null,0,null,null,null,0,null,null,null,0,null,null,null,0,null,null,null,0,null,null,null,0,null,null,null,0,null,null,null,0,null,null,null,0,null,null,null,0,null,null,null,0,null,null,null,0,null,null,null,0,null,null,null,0,null,null,null,0,null,null,null,0,null,null,null,0,null,null,null,0,null,null,null,0,null,null,null,0,null,null,null,0,null,null,null,0,null,null,null,0,null,null,null,0,null,null,null,0,null,null,null,0,null,null,null,0,null,null,null,0,null,null,null,0,null,null,null,0,null,null,null,0,null,null,null,0,null,null,null,0,null,null,null,0,null,null,null,0,null,null,null,0,null,null,null,0,null,null,null,0,null,null,null,0,null,null,null,0,null,null,null,0,null,null,null,0,null,null,null,0,null,null,null,0,null,null,null,0,null,null,null,0,null,null,null,0,null,null,null,0,null,null,null,0,null,null,null,0,null,null,null,0,null,null,null,0,null,null,null,0,null,null,null,0,null,null,null,0,null,null,null,0,null,null,null,0,null,null,null,0,null,null,null,0,null,null,null,0,null,null,null,0,null,null,null,0,null,null,null,0,null,null,null,0,null,null,null,0,null,null,null,0,null,null,null,0,null,null,null,0,null,null,null,0,null,null,null,0,null,null,null,0,null,null,null,0,null,null,null,0,null,null,null,0,null,null,null,0,null,null,null,0,null,null,null,0,null,null,null,0,null,null,null,0,null,null,null,0,null,null,null,0,null,null,null,0,null,null,null,0,null,null,null,0,null,null,null,0,null,null,null,0,null,null,null,0,null,null,null,0,null,null,null,0,null,null,null,0,null,null,null,0,null,null,null,0,null,null,null,0,null,null,null,0,null,null,null,0,null,null,null,0,null,null,null,0,null,null,null,0,null,null,null,0,null,null,null,0,null,null,null,0,null,null,null,0,null,null,null,0,null,null,null,0,null,null,null,0,null,null,null,0,null,null,null,0,null,null,null,0,null,null,null,0,null,null,null,0,null,null,null,0,null,null,null,0,null,null,null,0,null,null,null,0,null,null,null,0,null,null,null,0,null,null,null,0,null,null,null,0,null,null,null,0,null,null,null,0,null,null,null,0,null,null,null,0,null,null,null,0,null,null,null,0,null,null,null,0,null,null,null,0,null,null,null,0,null,null,null,0,null,null,null,0,null,null,null,0,null,null,null,0,null,null,null,0,null,null,null,0,null,null,null,0,null,null,null,0,null,null,null,0,null,null,null,0,null,null,null,0,null,null,null,0,null,null,null,0,null,null,null,0,null,null,null,0,null,null,null,0,null,null,null,0,null,null,null,0,null,null,null,0,null,null,null,0,null,null,null,0,null,null,null,0,null,null,null,0,null,null,null,0,null,null,null,0,null,null,null,0,null,null,null,0,null,null,null,0,null,null,null,0,null,null,null,0,null,null,null,0,null,null,null,0,null,null,null,0,null,null,null,0,null,null,null,0,null,null,null,0,null,null,null,0,null,null,null,0,null,null,null,0,null,null,null,0,null,null,null,0,null,null,null,0,null,null,null,0,null,null,null,0,null,null,null,0,null,null,null,0,null,null,null,0,null,null,null,0,null,null,null,0,null,null,null,0,null,null,null,0,null,null,null,0,null,null,null,0,null,null,null,0,null,null,null,0,null,null,null,0,null,null,null,0,null,null,null,0,null,null,null,0,null,null,null,0,null,null,null,0,null,null,null,0,null,null,null,0,null,null,null,0,null,null,null,0,null,null,null,0,null,null,null,0,null,null,null,0,null,null,null,0,null,null,null,0,null,null,null,0,null,null,null,0,null,null,null,0,null,null,null,0,null,null,null,0,null,null,null,0,null,null,null,0,null,null,null,0,null,null,null,0,null,null,null,0,null,null,null,0,null,null,null,0,null,null,null,0,null,null,null,0,null,null,null,0,null,null,null,0,null,null,null,0,null,null,null,0,null,null,null,0,null,null,null,0,null,null,null,0,null,null,null,0,null,null,null,0,null,null,null,0,null,null,null,0,null,null,null,0,null,null,null,0,null,null,null,0,null,null,null,0,null,null,null,0,null,null,null,0,null,null,null,0,null,null,null,0,null,null,null,0,null,null,null,0,null,null,null,0,null,null,null,0,null,null,null,0,null,null,null,0,null,null,null,0,null,null,null,0,null,null,null,0,null,null,null,0,null,null,null,0,null,null,null,0,null,null,null,0,null,null,null,0,null,null,null,0,null,null,null,0,null,null,null,0,null,null,null,0,null,null,null,0,null,null,null,0,null,null,null,0,null,null,null,0,null,null,null,0,null,null,null,0,null,null,null,0,null,null,null,0,null,null,null,0,null,null,null,0,null,null,null,0,null,null,null,0,null,null,null,0,null,null,null,0,null,null,null,0,null,null,null,0,null,null,null,0,null,null,null,0,null,null,null,0,null,null,null,0,null,null,null,0,null,null,null,0,null,null,null,0,null,null,null,0,null,null,null,0,null,null,null,0,null,null,null,0,null,null,null,0,null,null,null,0,null,null,null,0,null,null,null,0,null,null,null,0,null,null,null,0,null,null,null,0,null,null,null,0,null,null,null,0,null,null,null,0,null,null,null,0,null,null,null,0,null,null,null,0,null,null,null,0,null,null,null,0,null,null,null,0,null,null,null,0,null,null,null,0,null,null,null,0,null,null,null,0,null,null,null,0,null,null,null,0,null,null,null,0,null,null,null,0,null,null,null,0,null,null,null,0,null,null,null,0,null,null,null,0,null,null,null,0,null,null,null,0,null,null,null,0,null,null,null,0,null,null,null,0,null,null,null,0,null,null,null,0,null,null,null,0,null,null,null,0,null,null,null,0,null,null,null,0,null,null,null,0,null,null,null,0,null,null,null,0,null,null,null,0,null,null,null,0,null,null,null,0,null,null,null,0,null,null,null,0,null,null,null,0,null,null,null,0,null,null,null,0,null,null,null,0,null,null,null,0,null,null,null,0,null,null,null,0,null,null,null,0,null,null,null,0,null,null,null,0,null,null,null,0,null,null,null,0,null,null,null,0,null,null,null,0,null,null,null,0,null,null,null,0,null,null,null,0,null,null,null,0,null,null,null,0,null,null,null,0,null,null,null,0,null,null,null,0,null,null,null,0,null,null,null,0,null,null,null,0,null,null,null,0,null,null,null,0,null,null,null,0,null,null,null,0,null,null,null,0,null,null,null,0,null,null,null,0,null,null,null,0,null,null,null,0,null,null,null,0,null,null,null,0,null,null,null,0,null,null,null,0,null,null,null,0,null,null,null,0,null,null,null,0,null,null,null,0,null,null,null,0,null,null,null,0,null,null,null,0,null,null,null,0,null,null,null,0,null,null,null,0,null,null,null,0,null,null,null,0,null,null,null,0,null,null,null,0,null,null,null,0,null,null,null,0,null,null,null,0,null,null,null,0,null,null,null,0,null,null,null,0,null,null,null,0,null,null,null,0,null,null,null,0,null,null,null,0,null,null,null,0,null,null,null,0,null,null,null,0,null,null,null,0,null,null,null,0,null,null,null,0,null,null,null,0,null,null,null,0,null,null,null,0,null,null,null,0,null,null,null,0,null,null,null,0,null,null,null,0,null,null,null,0,null,null,null,0,null,null,null,0,null,null,null,0,null,null,null,0,null,null,null,0,null,null,null,0,null,null,null,0,null,null,null,0,null,null,null,0,null,null,null,0,null,null,null,0,null,null,null,0,null,null,null,0,null,null,null,0,null,null,null,0,null,null,null,0,null,null,null,0,null,null,null,0,null,null,null,0,null,null,null,0,null,null,null,0,null,null,null,0,null,null,null,0,null,null,null,0,null,null,null,0,null,null,null,0,null,null,null,0,null,null,null,0,null,null,null,0,null,null,null,0,null,null,null,0,null,null,null,0,null,null,null,0,null,null,null,0,null,null,null,0,null,null,null,0,null,null,null,0,null,null,null,0,null,null,null,0,null,null,null,0,null,null,null,0,null,null,null,0,null,null,null,0,null,null,null,0,null,null,null,0,null,null,null,0,null,null,null,0,null,null,null,0,null,null,null,0,null,null,null,0,null,null,null,0,null,null,null,0,null,null,null,0,null,null,null,0,null,null,null,0,null,null,null,0,null,null,null,0,null,null,null,0,null,null,null,0,null,null,null,0,null,null,null,0,null,null,null,0,null,null,null,0,null,null,null,0,null,null,null,0,null,null,null,0,null,null,null,0,null,null,null,0,null,null,null,0,null,null,null,0,null,null,null,0,null,null,null,0,null,null,null,0,null,null,null,0,null,null,null,0,null,null,null,0,null,null,null,0,null,null,null,0,null,null,null,0,null,null,null,0,null,null,null,0,null,null,null,0,null,null,null,0,null,null,null,0,null,null,null,0,null,null,null,0,null,null,null,0,null,null,null,0,null,null,null,0,null,null,null,0,null,null,null,0,null,null,null,0,null,null,null,0,null,null,null,0,null,null,null,0,null,null,null,0,null,null,null,0,null,null,null,0,null,null,null,0,null,null,null,0,null,null,null,0,null,null,null,0,null,null,null,0,null,null,null,0,null,null,null,0,null,null,null,0,null,null,null,0,null,null,null,0,null,null,null,0,null,null,null,0,null,null,null,0,null,null,null,0,null,null,null,0,null,null,null,0,null,null,null,0,null,null,null,0,null,null,null,0,null,null,null,0,null,null,null,0,null,null,null,0,null,null,null,0,null,null,null,0,null,null,null,0,null,null,null,0,null,null,null,0,null,null,null,0,null,null,null,0,null,null,null,0,null,null,null,0,null,null,null,0,null,null,null,0,null,null,null,0,null,null,null,0,null,null,null,0,null,null,null,0,null,null,null,0,null,null,null,0,null,null,null,0,null,null,null,0,null,null,null,0,null,null,null,0,null,null,null,0,null,null,null,0,null,null,null,0,null,null,null,0,null,null,null,0,null,null,null,0,null,null,null,0,null,null,null,0,null,null,null,0,null,null,null,0,null,null,null,0,null,null,null,0,null,null,null,0,null,null,null,0,null,null,null,0,null,null,null,0,null,null,null,0,null,null,null,0,null,null,null,0,null,null,null,0,null,null,null,0,null,null,null,0,null,null,null,0,null,null,null,0,null,null,null,0,null,null,null,0,null,null,null,0,null,null,null,0,null,null,null,0,null,null,null,0,null,null,null,0,null,null,null,0,null,null,null,0,null,null,null,0,null,null,null,0,null,null,null,0,null,null,null,0,null,null,null,0,null,null,null,0,null,null,null,0,null,null,null,0,null,null,null,0,null,null,null,0,null,null,null,0,null,null,null,0,null,null,null,0,null,null,null,0,null,null,null,0,null,null,null,0,null,null,null,0,null,null,null,0,null,null,null,0,null,null,null,0,null,null,null,0,null,null,null,0,null,null,null,0,null,null,null,0,null,null,null,0,null,null,null,0,null,null,null,0,null,null,null,0,null,null,null,0,null,null,null,0,null,null,null,0,null,null,null,0,null,null,null,0,null,null,null,0,null,null,null,0,null,null,null,0,null,null,null,0,null,null,null,0,null,null,null,0,null,null,null,0,null,null,null,0,null,null,null,0,null,null,null,0,null,null,null,0,null,null,null,0,null,null,null,0,null,null,null,0,null,null,null,0,null,null,null,0,null,null,null,0,null,null,null,0,null,null,null,0,null,null,null,0,null,null,null,0,null,null,null,0,null,null,null,0,null,null,null,0,null,null,null,0,null,null,null,0,null,null,null,0,null,null,null,0,null,null,null,0,null,null,null,0,null,null,null,0,null,null,null,0,null,null,null,0,null,null,null,0,null,null,null,0,null,null,null,0,null,null,null,0,null,null,null,0,null,null,null,0,null,null,null,0,null,null,null,0,null,null,null,0,null,null,null,0,null,null,null,0,null,null,null,0,null,null,null,0,null,null,null,0,null,null,null,0,null,null,null,0,null,null,null,0,null,null,null,0,null,null,null,0,null,null,null,0,null,null,null,0,null,null,null,0,null,null,null,0,null,null,null,0,null,null,null,0,null,null,null,0,null,null,null,0,null,null,null,0,null,null,null,0,null,null,null,0,null,null,null,0,null,null,null,0,null,null,null,0,null,null,null,0,null,null,null,0,null,null,null,0,null,null,null,0,null,null,null,0,null,null,null,0,null,null,null,0,null,null,null,0,null,null,null,0,null,null,null,0,null,null,null,0,null,null,null,0,null,null,null,0,null,null,null,0,null,null,null,0,null,null,null,0,null,null,null,0,null,null,null,0,null,null,null,0,null,null,null,0,null,null,null,0,null,null,null,0,null,null,null,0,null,null,null,0,null,null,null,0,null,null,null,0,null,null,null,0,null,null,null,0,null,null,null,0,null,null,null,0,null,null,null,0,null,null,null,0,null,null,null,0,null,null,null,0,null,null,null,0,null,null,null,0,null,null,null,0,null,null,null,0,null,null,null,0,null,null,null,0,null,null,null,0,null,null,null,0,null,null,null,0,null,null,null,0,null,null,null,0,null,null,null,0,null,null,null,0,null,null,null,0,null,null,null,0,null,null,null,0,null,null,null,0,null,null,null,0,null,null,null,0,null,null,null,0,null,null,null,0,null,null,null,0,null,null,null,0,null,null,null,0,null,null,null,0,null,null,null,0,null,null,null,0,null,null,null,0,null,null,null,0,null,null,null,0,null,null,null,0,null,null,null,0,null,null,null,0,null,null,null,0,null,null,null,0,null,null,null,0,null,null,null,0,null,null,null,0,null,null,null,0,null,null,null,0,null,null,null,0,null,null,null,0,null,null,null,0,null,null,null,0,null,null,null,0,null,null,null,0,null,null,null,0,null,null,null,0,null,null,null,0,null,null,null,0,null,null,null,0,null,null,null,0,null,null,null,0,null,null,null,0,null,null,null,0,null,null,null,0,null,null,null,0,null,null,null,0,null,null,null,0,null,null,null,0,null,null,null,0,null,null,null,0,null,null,null,0,null,null,null,0,null,null,null,0,null,null,null,0,null,null,null,0,null,null,null,0,null,null,null,0,null,null,null,0,null,null,null,0,null,null,null,0,null,null,null,0,null,null,null,0,null,null,null,0,null,null,null,0,null,null,null,0,null,null,null,0,null,null,null,0,null,null,null,0,null,null,null,0,null,null,null,0,null,null,null,0,null,null,null,0,null,null,null,0,null,null,null,0,null,null,null,0,null,null,null,0,null,null,null,0,null,null,null,0,null,null,null,0,null,null,null,0,null,null,null,0,null,null,null,0,null,null,null,0,null,null,null,0,null,null,null,0,null,null,null,0,null,null,null,0,null,null,null,0,null,null,null,0,null,null,null,0,null,null,null,0,null,null,null,0,null,null,null,0,null,null,null,0,null,null,null,0,null,null,null,0,null,null,null,0,null,null,null,0,null,null,null,0,null,null,null,0,null,null,null,0,null,null,null,0,null,null,null,0,null,null,null,0,null,null,null,0,null,null,null,0,null,null,null,0,null,null,null,0,null,null,null,0,null,null,null,0,null,null,null,0,null,null,null,0,null,null,null,0,null,null,null,0,null,null,null,0,null,null,null,0,null,null,null,0,null,null,null,0,null,null,null,0,null,null,null,0,null,null,null,0,null,null,null,0,null,null,null,0,null,null,null,0,null,null,null,0,null,null,null,0,null,null,null,0,null,null,null,0,null,null,null,0,null,null,null,0,null,null,null,0,null,null,null,0,null,null,null,0,null,null,null,0,null,null,null,0,null,null,null,0,null,null,null,0,null,null,null,0,null,null,null,0,null,null,null,0,null,null,null,0,null,null,null,0,null,null,null,0,null,null,null,0,null,null,null,0,null,null,null,0,null,null,null,0,null,null,null,0,null,null,null,0,null,null,null,0,null,null,null,0,null,null,null,0,null,null,null,0,null,null,null,0,null,null,null,0,null,null,null,0,null,null,null,0,null,null,null,0,null,null,null,0,null,null,null,0,null,null,null,0,null,null,null,0,null,null,null,0,null,null,null,0,null,null,null,0,null,null,null,0,null,null,null,0,null,null,null,0,null,null,null,0,null,null,null,0,null,null,null,0,null,null,null,0,null,null,null,0,null,null,null,0,null,null,null,0,null,null,null,0,null,null,null,0,null,null,null,0,null,null,null,0,null,null,null,0,null,null,null,0,null,null,null,0,null,null,null,0,null,null,null,0,null,null,null,0,null,null,null,0,null,null,null,0,null,null,null,0,null,null,null,0,null,null,null,0,null,null,null,0,null,null,null,0,null,null,null,0,null,null,null,0,null,null,null,0,null,null,null,0,null,null,null,0,null,null,null,0,null,null,null,0,null,null,null,0,null,null,null,0,null,null,null,0,null,null,null,0,null,null,null,0,null,null,null,0,null,null,null,0,null,null,null,0,null,null,null,0,null,null,null,0,null,null,null,0,null,null,null,0,null,null,null,0,null,null,null,0,null,null,null,0,null,null,null,0,null,null,null,0,null,null,null,0,null,null,null,0,null,null,null,0,null,null,null,0,null,null,null,0,null,null,null,0,null,null,null,0,null,null,null,0,null,null,null,0,null,null,null,0,null,null,null,0,null,null,null,0,null,null,null,0,null,null,null,0,null,null,null,0,null,null,null,0,null,null,null,0,null,null,null,0,null,null,null,0,null,null,null,0,null,null,null,0,null,null,null,0,null,null,null,0,null,null,null,0,null,null,null,0,null,null,null,0,null,null,null,0,null,null,null,0,null,null,null,0,null,null,null,0,null,null,null,0,null,null,null,0,null,null,null,0,null,null,null,0,null,null,null,0,null,null,null,0,null,null,null,0,null,null,null,0,null,null,null,0,null,null,null,0,null,null,null,0,null,null,null,0,null,null,null,0,null,null,null,0,null,null,null,0,null,null,null,0,null,null,null,0,null,null,null,0,null,null,null,0,null,null,null,0,null,null,null,0,null,null,null,0,null,null,null,0,null,null,null,0,null,null,null,0,null,null,null,0,null,null,null,0,null,null,null,0,null,null,null,0,null,null,null,0,null,null,null,0,null,null,null,0,null,null,null,0,null,null,null,0,null,null,null,0,null,null,null,0,null,null,null,0,null,null,null,0,null,null,null,0,null,null,null,0,null,null,null,0,null,null,null,0,null,null,null,0,null,null,null,0,null,null,null,0,null,null,null,0,null,null,null,0,null,null,null,0,null,null,null,0,null,null,null,0,null,null,null,0,null,null,null,0,null,null,null,0,null,null,null,0,null,null,null,0,null,null,null,0,null,null,null,0,null,null,null,0,null,null,null,0,null,null,null,0,null,null,null,0,null,null,null,0,null,null,null,0,null,null,null,0,null,null,null,0,null,null,null,0,null,null,null,0,null,null,null,0,null,null,null,0,null,null,null,0,null,null,null,0,null,null,null,0,null,null,null,0,null,null,null,0,null,null,null,0,null,null,null,0,null,null,null,0,null,null,null,0,null,null,null,0,null,null,null,0,null,null,null,0,null,null,null,0,null,null,null,0,null,null,null,0,null,null,null,0,null,null,null,0,null,null,null,0,null,null,null,0,null,null,null,0,null,null,null,0,null,null,null,0,null,null,null,0,null,null,null,0,null,null,null,0,null,null,null,0,null,null,null,0,null,null,null,0,null,null,null,0,null,null,null,0,null,null,null,0,null,null,null,0,null,null,null,0,null,null,null,0,null,null,null,0,null,null,null,0,null,null,null,0,null,null,null,0,null,null,null,0,null,null,null,0,null,null,null,0,null,null,null,0,null,null,null,0,null,null,null,0,null,null,null,0,null,null,null,0,null,null,null,0,null,null,null,0,null,null,null,0,null,null,null,0,null,null,null,0,null,null,null,0,null,null,null,0,null,null,null,0,null,null,null,0,null,null,null,0,null,null,null,0,null,null,null,0,null,null,null,0,null,null,null,0,null,null,null,0,null,null,null,0,null,null,null,0,null,null,null,0,null,null,null,0,null,null,null,0,null,null,null,0,null,null,null,0,null,null,null,0,null,null,null,0,null,null,null,0,null,null,null,0,null,null,null,0,null,null,null,0,null,null,null,0,null,null,null,0,null,null,null,0,null,null,null,0,null,null,null,0,null,null,null,0,null,null,null,0,null,null,null,0,null,null,null,0,null,null,null,0,null,null,null,0,null,null,null,0,null,null,null,0,null,null,null,0,null,null,null,0,null,null,null,0,null,null,null,0,null,null,null,0,null,null,null,0,null,null,null,0,null,null,null,0,null,null,null,0,null,null,null,0,null,null,null,0,null,null,null,0,null,null,null,0,null,null,null,0,null,null,null,0,null,null,null,0,null,null,null,0,null,null,null,0,null,null,null,0,null,null,null,0,null,null,null,0,null,null,null,0,null,null,null,0,null,null,null,0,null,null,null,0,null,null,null,0,null,null,null,0,null,null,null,0,null,null,null,0,null,null,null,0,null,null,null,0,null,null,null,0,null,null,null,0,null,null,null,0,null,null,null,0,null,null,null,0,null,null,null,0,null,null,null,0,null,null,null,0,null,null,null,0,null,null,null,0,null,null,null,0,null,null,null,0,null,null,null,0,null,null,null,0,null,null,null,0,null,null,null,0,null,null,null,0,null,null,null,0,null,null,null,0,null,null,null,0,null,null,null,0,null,null,null,0,null,null,null,0,null,null,null,0,null,null,null,0,null,null,null,0,null,null,null,0,null,null,null,0,null,null,null,0,null,null,null,0,null,null,null,0,null,null,null,0,null,null,null,0,null,null,null,0,null,null,null,0,null,null,null,0,null,null,null,0,null,null,null,0,null,null,null,0,null,null,null,0,null,null,null,0,null,null,null,0,null,null,null,0,null,null,null,0,null,null,null,0,null,null,null,0,null,null,null,0,null,null,null,0,null,null,null,0,null,null,null,0,null,null,null,0,null,null,null,0,null,null,null,0,null,null,null,0,null,null,null,0,null,null,null,0,null,null,null,0,null,null,null,0,null,null,null,0,null,null,null,0,null,null,null,0,null,null,null,0,null,null,null,0,null,null,null,0,null,null,null,0,null,null,null,0,null,null,null,0,null,null,null,0,null,null,null,0,null,null,null,0,null,null,null,0,null,null,null,0,null,null,null,0,null,null,null,0,null,null,null,0,null,null,null,0,null,null,null,0,null,null,null,0,null,null,null,0,null,null,null,0,null,null,null,0,null,null,null,0,null,null,null,0,null,null,null,0,null,null,null,0,null,null,null,0,null,null,null,0,null,null,null,0,null,null,null,0,null,null,null,0,null,null,null,0,null,null,null,0,null,null,null,0,null,null,null,0,null,null,null,0,null,null,null,0,null,null,null,0,null,null,null,0,null,null,null,0,null,null,null,0,null,null,null,0,null,null,null,0,null,null,null,0,null,null,null,0,null,null,null,0,null,null,null,0,null,null,null,0,null,null,null,0,null,null,null,0,null,null,null,0,null,null,null,0,null,null,null,0,null,null,null,0,null,null,null,0,null,null,null,0,null,null,null,0,null,null,null,0,null,null,null,0,null,null,null,0,null,null,null,0,null,null,null,0,null,null,null,0,null,null,null,0,null,null,null,0,null,null,null,0,null,null,null,0,null,null,null,0,null,null,null,0,null,null,null,0,null,null,null,0,null,null,null,0,null,null,null,0,null,null,null,0,null,null,null,0,null,null,null,0,null,null,null,0,null,null,null,0,null,null,null,0,null,null,null,0,null,null,null,0,null,null,null,0,null,null,null,0,null,null,null,0,null,null,null,0,null,null,null,0,null,null,null,0,null,null,null,0,null,null,null,0,null,null,null,0,null,null,null,0,null,null,null,0,null,null,null,0,null,null,null,0,null,null,null,0,null,null,null,0,null,null,null,0,null,null,null,0,null,null,null,0,null,null,null,0,null,null,null,0,null,null,null,0,null,null,null,0,null,null,null,0,null,null,null,0,null,null,null,0,null,null,null,0,null,null,null,0,null,null,null,0,null,null,null,0,null,null,null,0,null,null,null,0,null,null,null,0,null,null,null,0,null,null,null,0,null,null,null,0,null,null,null,0,null,null,null,0,null,null,null,0,null,null,null,0,null,null,null,0,null,null,null,0,null,null,null,0,null,null,null,0,null,null,null,0,null,null,null,0,null,null,null,0,null,null,null,0,null,null,null,0,null,null,null,0,null,null,null,0,null,null,null,0,null,null,null,0,null,null,null,0,null,null,null,0,null,null,null,0,null,null,null,0,null,null,null,0,null,null,null,0,null,null,null,0,null,null,null,0,null,null,null,0,null,null,null,0,null,null,null,0,null,null,null,0,null,null,null,0,null,null,null,0,null,null,null,0,null,null,null,0,null,null,null,0,null,null,null,0,null,null,null,0,null,null,null,0,null,null,null,0,null,null,null,0,null,null,null,0,null,null,null,0,null,null,null,0,null,null,null,0,null,null,null,0,null,null,null,0,null,null,null,0,null,null,null,0,null,null,null,0,null,null,null,0,null,null,null,0,null,null,null,0,null,null,null,0,null,null,null,0,null,null,null,0,null,null,null,0,null,null,null,0,null,null,null,0,null,null,null,0,null,null,null,0,null,null,null,0,null,null,null,0,null,null,null,0,null,null,null,0,null,null,null,0,null,null,null,0,null,null,null,0,null,null,null,0,null,null,null,0,null,null,null,0,null,null,null,0,null,null,null,0,null,null,null,0,null,null,null,0,null,null,null,0,null,null,null,0,null,null,null,0,null,null,null,0,null,null,null,0,null,null,null,0,null,null,null,0,null,null,null,0,null,null,null,0,null,null,null,0,null,null,null,0,null,null,null,0,null,null,null,0,null,null,null,0,null,null,null,0,null,null,null,0,null,null,null,0,null,null,null,0,null,null,null,0,null,null,null,0,null,null,null,0,null,null,null,0,null,null,null,0,null,null,null,0,null,null,null,0,null,null,null,0,null,null,null,0,null,null,null,0,null,null,null,0,null,null,null,0,null,null,null,0,null,null,null,0,null,null,null,0,null,null,null,0,null,null,null,0,null,null,null,0,null,null,null,0,null,null,null,0,null,null,null,0,null,null,null,0,null,null,null,0,null,null,null,0,null,null,null,0,null,null,null,0,null,null,null,0,null,null,null,0,null,null,null,0,null,null,null,0,null,null,null,0,null,null,null,0,null,null,null,0,null,null,null,0,null,null,null,0,null,null,null,0,null,null,null,0,null,null,null,0,null,null,null,0,null,null,null,0,null,null,null,0,null,null,null,0,null,null,null,0,null,null,null,0,null,null,null,0,null,null,null,0,null,null,null,0,null,null,null,0,null,null,null,0,null,null,null,0,null,null,null,0,null,null,null,0,null,null,null,0,null,null,null,0,null,null,null,0,null,null,null,0,null,null,null,0,null,null,null,0,null,null,null,0,null,null,null,0,null,null,null,0,null,null,null,0,null,null,null,0,null,null,null,0,null,null,null,0,null,null,null,0,null,null,null,0,null,null,null,0,null,null,null,0,null,null,null,0,null,null,null,0,null,null,null,0,null,null,null,0,null,null,null,0,null,null,null,0,null,null,null,0,null,null,null,0,null,null,null,0,null,null,null,0,null,null,null,0,null,null,null,0,null,null,null,0,null,null,null,0,null,null,null,0,null,null,null,0,null,null,null,0,null,null,null,0,null,null,null,0,null,null,null,0,null,null,null,0,null,null,null,0,null,null,null,0,null,null,null,0,null,null,null,0,null,null,null,0,null,null,null,0,null,null,null,0,null,null,null,0,null,null,null,0,null,null,null,0,null,null,null,0,null,null,null,0,null,null,null,0,null,null,null,0,null,null,null,0,null,null,null,0,null,null,null,0,null,null,null,0,null,null,null,0,null,null,null,0,null,null,null,0,null,null,null,0,null,null,null,0,null,null,null,0,null,null,null,0,null,null,null,0,null,null,null,0,null,null,null,0,null,null,null,0,null,null,null,0,null,null,null,0,null,null,null,0,null,null,null,0,null,null,null,0,null,null,null,0,null,null,null,0,null,null,null,0,null,null,null,0,null,null,null,0,null,null,null,0,null,null,null,0,null,null,null,0,null,null,null,0,null,null,null,0,null,null,null,0,null,null,null,0,null,null,null,0,null,null,null,0,null,null,null,0,null,null,null,0,null,null,null,0,null,null,null,0,null,null,null,0,null,null,null,0,null,null,null,0,null,null,null,0,null,null,null,0,null,null,null,0,null,null,null,0,null,null,null,0,null,null,null,0,null,null,null,0,null,null,null,0,null,null,null,0,null,null,null,0,null,null,null,0,null,null,null,0,null,null,null,0,null,null,null,0,null,null,null,0,null,null,null,0,null,null,null,0,null,null,null,0,null,null,null,0,null,null,null,0,null,null,null,0,null,null,null,0,null,null,null,0,null,null,null,0,null,null,null,0,null,null,null,0,null,null,null,0,null,null,null,0,null,null,null,0,null,null,null,0,null,null,null,0,null,null,null,0,null,null,null,0,null,null,null,0,null,null,null,0,null,null,null,0,null,null,null,0,null,null,null,0,null,null,null,0,null,null,null,0,null,null,null,0,null,null,null,0,null,null,null,0,null,null,null,0,null,null,null,0,null,null,null,0,null,null,null,0,null,null,null,0,null,null,null,0,null,null,null,0,null,null,null,0,null,null,null,0,null,null,null,0,null,null,null,0,null,null,null,0,null,null,null,0,null,null,null,0,null,null,null,0,null,null,null,0,null,null,null,0,null,null,null,0,null,null,null,0,null,null,null,0,null,null,null,0,null,null,null,0,null,null,null,0,null,null,null,0,null,null,null,0,null,null,null,0,null,null,null,0,null,null,null,0,null,null,null,0,null,null,null,0,null,null,null,0,null,null,null,0,null,null,null,0,null,null,null,0,null,null,null,0,null,null,null,0,null,null,null,0,null,null,null,0,null,null,null,0,null,null,null,0,null,null,null,0,null,null,null,0,null,null,null,0,null,null,null,0,null,null,null,0,null,null,null,0,null,null,null,0,null,null,null,0,null,null,null,0,null,null,null,0,null,null,null,0,null,null,null,0,null,null,null,0,null,null,null,0,null,null,null,0,null,null,null,0,null,null,null,0,null,null,null,0,null,null,null,0,null,null,null,0,null,null,null,0,null,null,null,0,null,null,null,0,null,null,null,0,null,null,null,0,null,null,null,0,null,null,null,0,null,null,null,0,null,null,null,0,null,null,null,0,null,null,null,0,null,null,null,0,null,null,null,0,null,null,null,0,null,null,null,0,null,null,null,0,null,null,null,0,null,null,null,0,null,null,null,0,null,null,null,0,null,null,null,0,null,null,null,0,null,null,null,0,null,null,null,0,null,null,null,0,null,null,null,0,null,null,null,0,null,null,null,0,null,null,null,0,null,null,null,0,null,null,null,0,null,null,null,0,null,null,null,0,null,null,null,0,null,null,null,0,null,null,null,0,null,null,null,0,null,null,null,0,null,null,null,0,null,null,null,0,null,null,null,0,null,null,null,0,null,null,null,0,null,null,null,0,null,null,null,0,null,null,null,0,null,null,null,0,null,null,null,0,null,null,null,0,null,null,null,0,null,null,null,0,null,null,null,0,null,null,null,0,null,null,null,0,null,null,null,0,null,null,null,0,null,null,null,0,null,null,null,0,null,null,null,0,null,null,null,0,null,null,null,0,null,null,null,0,null,null,null,0,null,null,null,0,null,null,null,0,null,null,null,0,null,null,null,0,null,null,null,0,null,null,null,0,null,null,null,0,null,null,null,0,null,null,null,0,null,null,null,0,null,null,null,0,null,null,null,0,null,null,null,0,null,null,null,0,null,null,null,0,null,null,null,0,null,null,null,0,null,null,null,0,null,null,null,0,null,null,null,0,null,null,null,0,null,null,null,0,null,null,null,0,null,null,null,0,null,null,null,0,null,null,null,0,null,null,null,0,null,null,null,0,null,null,null,0,null,null,null,0,null,null,null,0,null,null,null,0,null,null,null,0,null,null,null,0,null,null,null,0,null,null,null,0,null,null,null,0,null,null,null,0,null,null,null,0,null,null,null,0,null,null,null,0,null,null,null,0,null,null,null,0,null,null,null,0,null,null,null,0,null,null,null,0,null,null,null,0,null,null,null,0,null,null,null,0,null,null,null,0,null,null,null,0,null,null,null,0,null,null,null,0,null,null,null,0,null,null,null,0,null,null,null,0,null,null,null,0,null,null,null,0,null,null,null,0,null,null,null,0,null,null,null,0,null,null,null,0,null,null,null,0,null,null,null,0,null,null,null,0,null,null,null,0,null,null,null,0,null,null,null,0,null,null,null,0,null,null,null,0,null,null,null,0,null,null,null,0,null,null,null,0,null,null,null,0,null,null,null,0,null,null,null,0,null,null,null,0,null,null,null,0,null,null,null,0,null,null,null,0,null,null,null,0,null,null,null,0,null,null,null,0,null,null,null,0,null,null,null,0,null,null,null,0,null,null,null,0,null,null,null,0,null,null,null,0,null,null,null,0,null,null,null,0,null,null,null,0,null,null,null,0,null,null,null,0,null,null,null,0,null,null,null,0,null,null,null,0,null,null,null,0,null,null,null,0,null,null,null,0,null,null,null,0,null,null,null,0,null,null,null,0,null,null,null,0,null,null,null,0,null,null,null,0,null,null,null,0,null,null,null,0,null,null,null,0,null,null,null,0,null,null,null,0,null,null,null,0,null,null,null,0,null,null,null,0,null,null,null,0,null,null,null,0,null,null,null,0,null,null,null,0,null,null,null,0,null,null,null,0,null,null,null,0,null,null,null,0,null,null,null,0,null,null,null,0,null,null,null,0,null,null,null,0,null,null,null,0,null,null,null,0,null,null,null,0,null,null,null,0,null,null,null,0,null,null,null,0,null,null,null,0,null,null,null,0,null,null,null,0,null,null,null,0,null,null,null,0,null,null,null,0,null,null,null,0,null,null,null,0,null,null,null,0,null,null,null,0,null,null,null,0,null,null,null,0,null,null,null,0,null,null,null,0,null,null,null,0,null,null,null,0,null,null,null,0,null,null,null,0,null,null,null,0,null,null,null,0,null,null,null,0,null,null,null,0,null,null,null,0,null,null,null,0,null,null,null,0,null,null,null,0,null,null,null,0,null,null,null,0,null,null,null,0,null,null,null,0,null,null,null,0,null,null,null,0,null,null,null,0,null,null,null,0,null,null,null,0,null,null,null,0,null,null,null,0,null,null,null,0,null,null,null,0,null,null,null,0,null,null,null,0,null,null,null,0,null,null,null,0,null,null,null,0,null,null,null,0,null,null,null,0,null,null,null,0,null,null,null,0,null,null,null,0,null,null,null,0,null,null,null,0,null,null,null,0,null,null,null,0,null,null,null,0,null,null,null,0,null,null,null,0,null,null,null,0,null,null,null,0,null,null,null,0,null,null,null,0,null,null,null,0,null,null,null,0,null,null,null,0,null,null,null,0,null,null,null,0,null,null,null,0,null,null,null,0,null,null,null,0,null,null,null,0,null,null,null,0,null,null,null,0,null,null,null,0,null,null,null,0,null,null,null,0,null,null,null,0,null,null,null,0,null,null,null,0,null,null,null,0,null,null,null,0,null,null,null,0,null,null,null,0,null,null,null,0,null,null,null,0,null,null,null,0,null,null,null,0,null,null,null,0,null,null,null,0,null,null,null,0,null,null,null,0,null,null,null,0,null,null,null,0,null,null,null,0,null,null,null,0,null,null,null,0,null,null,null,0,null,null,null,0,null,null,null,0,null,null,null,0,null,null,null,0,null,null,null,0,null,null,null,0,null,null,null,0,null,null,null,0,null,null,null,0,null,null,null,0,null,null,null,0,null,null,null,0,null,null,null,0,null,null,null,0,null,null,null,0,null,null,null,0,null,null,null,0,null,null,null,0,null,null,null,0,null,null,null,0,null,null,null,0,null,null,null,0,null,null,null,0,null,null,null,0,null,null,null,0,null,null,null,0,null,null,null,0,null,null,null,0,null,null,null,0,null,null,null,0,null,null,null,0,null,null,null,0,null,null,null,0,null,null,null,0,null,null,null,0,null,null,null,0,null,null,null,0,null,null,null,0,null,null,null,0,null,null,null,0,null,null,null,0,null,null,null,0,null,null,null,0,null,null,null,0,null,null,null,0,null,null,null,0,null,null,null,0,null,null,null,0,null,null,null,0,null,null,null,0,null,null,null,0,null,null,null,0,null,null,null,0,null,null,null,0,null,null,null,0,null,null,null,0,null,null,null,0,null,null,null,0,null,null,null,0,null,null,null,0,null,null,null,0,null,null,null,0,null,null,null,0,null,null,null,0,null,null,null,0,null,null,null,0,null,null,null,0,null,null,null,0,null,null,null,0,null,null,null,0,null,null,null,0,null,null,null,0,null,null,null,0,null,null,null,0,null,null,null,0,null,null,null,0,null,null,null,0,null,null,null,0,null,null,null,0,null,null,null,0,null,null,null,0,null,null,null,0,null,null,null,0,null,null,null,0,null,null,null,0,null,null,null,0,null,null,null,0,null,null,null,0,null,null,null,0,null,null,null,0,null,null,null,0,null,null,null,0,null,null,null,0,null,null,null,0,null,null,null,0,null,null,null,0,null,null,null,0,null,null,null,0,null,null,null,0,null,null,null,0,null,null,null,0,null,null,null,0,null,null,null,0,null,null,null,0,null,null,null,0,null,null,null,0,null,null,null,0,null,null,null,0,null,null,null,0,null,null,null,0,null,null,null,0,null,null,null,0,null,null,null,0,null,null,null,0,null,null,null,0,null,null,null,0,null,null,null,0,null,null,null,0,null,null,null,0,null,null,null,0,null,null,null,0,null,null,null,0,null,null,null,0,null,null,null,0,null,null,null,0,null,null,null,0,null,null,null,0,null,null,null,0,null,null,null,0,null,null,null,0,null,null,null,0,null,null,null,0,null,null,null,0,null,null,null,0,null,null,null,0,null,null,null,0,null,null,null,0,null,null,null,0,null,null,null,0,null,null,null,0,null,null,null,0,null,null,null,0,null,null,null,0,null,null,null,0,null,null,null,0,null,null,null,0,null,null,null,0,null,null,null,0,null,null,null,0,null,null,null,0,null,null,null,0,null,null,null,0,null,null,null,0,null,null,null,0,null,null,null,0,null,null,null,0,null,null,null,0,null,null,null,0,null,null,null,0,null,null,null,0,null,null,null,0,null,null,null,0,null,null,null,0,null,null,null,0,null,null,null,0,null,null,null,0,null,null,null,0,null,null,null,0,null,null,null,0,null,null,null,0,null,null,null,0,null,null,null,0,null,null,null,0,null,null,null,0,null,null,null,0,null,null,null,0,null,null,null,0,null,null,null,0,null,null,null,0,null,null,null,0,null,null,null,0,null,null,null,0,null,null,null,0,null,null,null,0,null,null,null,0,null,null,null,0,null,null,null,0,null,null,null,0,null,null,null,0,null,null,null,0,null,null,null,0,null,null,null,0,null,null,null,0,null,null,null,0,null,null,null,0,null,null,null,0,null,null,null,0,null,null,null,0,null,null,null,0,null,null,null,0,null,null,null,0,null,null,null,0,null,null,null,0,null,null,null,0,null,null,null,0,null,null,null,0,null,null,null,0,null,null,null,0,null,null,null,0,null,null,null,0,null,null,null,0,null,null,null,0,null,null,null,0,null,null,null,0,null,null,null,0,null,null,null,0,null,null,null,0,null,null,null,0,null,null,null,0,null,null,null,0,null,null,null,0,null,null,null,0,null,null,null,0,null,null,null,0,null,null,null,0,null,null,null,0,null,null,null,0,null,null,null,0,null,null,null,0,null,null,null,0,null,null,null,0,null,null,null,0,null,null,null,0,null,null,null,0,null,null,null,0,null,null,null,0,null,null,null,0,null,null,null,0,null,null,null,0,null,null,null,0,null,null,null,0,null,null,null,0,null,null,null,0,null,null,null,0,null,null,null,0,null,null,null,0,null,null,null,0,null,null,null,0,null,null,null,0,null,null,null,0,null,null,null,0,null,null,null,0,null,null,null,0,null,null,null,0,null,null,null,0,null,null,null,0,null,null,null,0,null,null,null,0,null,null,null,0,null,null,null,0,null,null,null,0,null,null,null,0,null,null,null,0,null,null,null,0,null,null,null,0,null,null,null,0,null,null,null,0,null,null,null,0,null,null,null,0,null,null,null,0,null,null,null,0,null,null,null,0,null,null,null,0,null,null,null,0,null,null,null,0,null,null,null,0,null,null,null,0,null,null,null,0,null,null,null,0,null,null,null,0,null,null,null,0,null,null,null,0,null,null,null,0,null,null,null,0,null,null,null,0,null,null,null,0,null,null,null,0,null,null,null,0,null,null,null,0,null,null,null,0,null,null,null,0,null,null,null,0,null,null,null,0,null,null,null,0,null,null,null,0,null,null,null,0,null,null,null,0,null,null,null,0,null,null,null,0,null,null,null,0,null,null,null,0,null,null,null,0,null,null,null,0,null,null,null,0,null,null,null,0,null,null,null,0,null,null,null,0,null,null,null,0,null,null,null,0,null,null,null,0,null,null,null,0,null,null,null,0,null,null,null,0,null,null,null,0,null,null,null,0,null,null,null,0,null,null,null,0,null,null,null,0,null,null,null,0,null,null,null,0,null,null,null,0,null,null,null,0,null,null,null,0,null,null,null,0,null,null,null,0,null,null,null,0,null,null,null,0,null,null,null,0,null,null,null,0,null,null,null,0,null,null,null,0,null,null,null,0,null,null,null,0,null,null,null,0,null,null,null,0,null,null,null,0,null,null,null,0,null,null,null,0,null,null,null,0,null,null,null,0,null,null,null,0,null,null,null,0,null,null,null,0,null,null,null,0,null,null,null,0,null,null,null,0,null,null,null,0,null,null,null,0,null,null,null,0,null,null,null,0,null,null,null,0,null,null,null,0,null,null,null,0,null,null,null,0,null,null,null,0,null,null,null,0,null,null,null,0,null,null,null,0,null,null,null,0,null,null,null,0,null,null,null,0,null,null,null,0,null,null,null,0,null,null,null,0,null,null,null,0,null,null,null,0,null,null,null,0,null,null,null,0,null,null,null,0,null,null,null,0,null,null,null,0,null,null,null,0,null,null,null,0,null,null,null,0,null,null,null,0,null,null,null,0,null,null,null,0,null,null,null,0,null,null,null,0,null,null,null,0,null,null,null,0,null,null,null,0,null,null,null,0,null,null,null,0,null,null,null,0,null,null,null,0,null,null,null,0,null,null,null,0,null,null,null,0,null,null,null,0,null,null,null,0,null,null,null,0,null,null,null,0,null,null,null,0,null,null,null,0,null,null,null,0,null,null,null,0,null,null,null,0,null,null,null,0,null,null,null,0,null,null,null,0,null,null,null,0,null,null,null,0,null,null,null,0,null,null,null,0,null,null,null,0,null,null,null,0,null,null,null,0,null,null,null,0,null,null,null,0,null,null,null,0,null,null,null,0,null,null,null,0,null,null,null,0,null,null,null,0,null,null,null,0,null,null,null,0,null,null,null,0,null,null,null,0,null,null,null,0,null,null,null,0,null,null,null,0,null,null,null,0,null,null,null,0,null,null,null,0,null,null,null,0,null,null,null,0,null,null,null,0,null,null,null,0,null,null,null,0,null,null,null,0,null,null,null,0,null,null,null,0,null,null,null,0,null,null,null,0,null,null,null,0,null,null,null,0,null,null,null,0,null,null,null,0,null,null,null,0,null,null,null,0,null,null,null,0,null,null,null,0,null,null,null,0,null,null,null,0,null,null,null,0,null,null,null,0,null,null,null,0,null,null,null,0,null,null,null,0,null,null,null,0,null,null,null,0,null,null,null,0,null,null,null,0,null,null,null,0,null,null,null,0,null,null,null,0,null,null,null,0,null,null,null,0,null,null,null,0,null,null,null,0,null,null,null,0,null,null,null,0,null,null,null,0,null,null,null,0,null,null,null,0,null,null,null,0,null,null,null,0,null,null,null,0,null,null,null,0,null,null,null,0,null,null,null,0,null,null,null,0,null,null,null,0,null,null,null,0,null,null,null,0,null,null,null,0,null,null,null,0,null,null,null,0,null,null,null,0,null,null,null,0,null,null,null,0,null,null,null,0,null,null,null,0,null,null,null,0,null,null,null,0,null,null,null,0,null,null,null,0,null,null,null,0,null,null,null,0,null,null,null,0,null,null,null,0,null,null,null,0,null,null,null,0,null,null,null,0,null,null,null,0,null,null,null,0,null,null,null,0,null,null,null,0,null,null,null,0,null,null,null,0,null,null,null,0,null,null,null,0,null,null,null,0,null,null,null,0,null,null,null,0,null,null,null,0,null,null,null,0,null,null,null,0,null,null,null,0,null,null,null,0,null,null,null,0,null,null,null,0,null,null,null,0,null,null,null,0,null,null,null,0,null,null,null,0,null,null,null,0,null,null,null,0,null,null,null,0,null,null,null,0,null,null,null,0,null,null,null,0,null,null,null,0,null,null,null,0,null,null,null,0,null,null,null,0,null,null,null,0,null,null,null,0,null,null,null,0,null,null,null,0,null,null,null,0,null,null,null,0,null,null,null,0,null,null,null,0,null,null,null,0,null,null,null,0,null,null,null,0,null,null,null,0,null,null,null,0,null,null,null,0,null,null,null,0,null,null,null,0,null,null,null,0,null,null,null,0,null,null,null,0,null,null,null,0,null,null,null,0,null,null,null,0,null,null,null,0,null,null,null,0,null,null,null,0,null,null,null,0,null,null,null,0,null,null,null,0,null,null,null,0,null,null,null,0,null,null,null,0,null,null,null,0,null,null,null,0,null,null,null,0,null,null,null,0,null,null,null,0,null,null,null,0,null,null,null,0,null,null,null,0,null,null,null,0,null,null,null,0,null,null,null,0,null,null,null,0,null,null,null,0,null,null,null,0,null,null,null,0,null,null,null,0,null,null,null,0,null,null,null,0,null,null,null,0,null,null,null,0,null,null,null,0,null,null,null,0,null,null,null,0,null,null,null,0,null,null,null,0,null,null,null,0,null,null,null,0,null,null,null,0,null,null,null,0,null,null,null,0,null,null,null,0,null,null,null,0,null,null,null,0,null,null,null,0,null,null,null,0,null,null,null,0,null,null,null,0,null,null,null,0,null,null,null,0,null,null,null,0,null,null,null,0,null,null,null,0,null,null,null,0,null,null,null,0,null,null,null,0,null,null,null,0,null,null,null,0,null,null,null,0,null,null,null,0,null,null,null,0,null,null,null,0,null,null,null,0,null,null,null,0,null,null,null,0,null,null,null,0,null,null,null,0,null,null,null,0,null,null,null,0,null,null,null,0,null,null,null,0,null,null,null,0,null,null,null,0,null,null,null,0,null,null,null,0,null,null,null,0,null,null,null,0,null,null,null,0,null,null,null,0,null,null,null,0,null,null,null,0,null,null,null,0,null,null,null,0,null,null,null,0,null,null,null,0,null,null,null,0,null,null,null,0,null,null,null,0,null,null,null,0,null,null,null,0,null,null,null,0,null,null,null,0,null,null,null,0,null,null,null,0,null,null,null,0,null,null,null,0,null,null,null,0,null,null,null,0,null,null,null,0,null,null,null,0,null,null,null,0,null,null,null,0,null,null,null,0,null,null,null,0,null,null,null,0,null,null,null,0,null,null,null,0,null,null,null,0,null,null,null,0,null,null,null,0,null,null,null,0,null,null,null,0,null,null,null,0,null,null,null,0,null,null,null,0,null,null,null,0,null,null,null,0,null,null,null,0,null,null,null,0,null,null,null,0,null,null,null,0,null,null,null,0,null,null,null,0,null,null,null,0,null,null,null,0,null,null,null,0,null,null,null,0,null,null,null,0,null,null,null,0,null,null,null,0,null,null,null,0,null,null,null,0,null,null,null,0,null,null,null,0,null,null,null,0,null,null,null,0,null,null,null,0,null,null,null,0,null,null,null,0,null,null,null,0,null,null,null,0,null,null,null,0,null,null,null,0,null,null,null,0,null,null,null,0,null,null,null,0,null,null,null,0,null,null,null,0,null,null,null,0,null,null,null,0,null,null,null,0,null,null,null,0,null,null,null,0,null,null,null,0,null,null,null,0,null,null,null,0,null,null,null,0,null,null,null,0,null,null,null,0,null,null,null,0,null,null,null,0,null,null,null,0,null,null,null,0,null,null,null,0,null,null,null,0,null,null,null,0,null,null,null,0,null,null,null,0,null,null,null,0,null,null,null,0,null,null,null,0,null,null,null,0,null,null,null,0,null,null,null,0,null,null,null,0,null,null,null,0,null,null,null,0,null,null,null,0,null,null,null,0,null,null,null,0,null,null,null,0,null,null,null,0,null,null,null,0,null,null,null,0,null,null,null,0,null,null,null,0,null,null,null,0,null,null,null,0,null,null,null,0,null,null,null,0,null,null,null,0,null,null,null,0,null,null,null,0,null,null,null,0,null,null,null,0,null,null,null,0,null,null,null,0,null,null,null,0,null,null,null,0,null,null,null,0,null,null,null,0,null,null,null,0,null,null,null,0,null,null,null,0,null,null,null,0,null,null,null,0,null,null,null,0,null,null,null,0,null,null,null,0,null,null,null,0,null,null,null,0,null,null,null,0,null,null,null,0,null,null,null,0,null,null,null,0,null,null,null,0,null,null,null,0,null,null,null,0,null,null,null,0,null,null,null,0,null,null,null,0,null,null,null,0,null,null,null,0,null,null,null,0,null,null,null,0,null,null,null,0,null,null,null,0,null,null,null,0,null,null,null,0,null,null,null,0,null,null,null,0,null,null,null,0,null,null,null,0,null,null,null,0,null,null,null,0,null,null,null,0,null,null,null,0,null,null,null,0,null,null,null,0,null,null,null,0,null,null,null,0,null,null,null,0,null,null,null,0,null,null,null,0,null,null,null,0,null,null,null,0,null,null,null,0,null,null,null,0,null,null,null,0,null,null,null,0,null,null,null,0,null,null,null,0,null,null,null,0,null,null,null,0,null,null,null,0,null,null,null,0,null,null,null,0,null,null,null,0,null,null,null,0,null,null,null,0,null,null,null,0,null,null,null,0,null,null,null,0,null,null,null,0,null,null,null,0,null,null,null,0,null,null,null,0,null,null,null,0,null,null,null,0,null,null,null,0,null,null,null,0,null,null,null,0,null,null,null,0,null,null,null,0,null,null,null,0,null,null,null,0,null,null,null,0,null,null,null,0,null,null,null,0,null,null,null,0,null,null,null,0,null,null,null,0,null,null,null,0,null,null,null,0,null,null,null,0,null,null,null,0,null,null,null,0,null,null,null,0,null,null,null,0,null,null,null,0,null,null,null,0,null,null,null,0,null,null,null,0,null,null,null,0,null,null,null,0,null,null,null,0,null,null,null,0,null,null,null,0,null,null,null,0,null,null,null,0,null,null,null,0,null,null,null,0,null,null,null,0,null,null,null,0,null,null,null,0,null,null,null,0,null,null,null,0,null,null,null,0,null,null,null,0,null,null,null,0,null,null,null,0,null,null,null,0,null,null,null,0,null,null,null,0,null,null,null,0,null,null,null,0,null,null,null,0,null,null,null,0,null,null,null,0,null,null,null,0,null,null,null,0,null,null,null,0,null,null,null,0,null,null,null,0,null,null,null,0,null,null,null,0,null,null,null,0,null,null,null,0,null,null,null,0,null,null,null,0,null,null,null,0,null,null,null,0,null,null,null,0,null,null,null,0,null,null,null,0,null,null,null,0,null,null,null,0,null,null,null,0,null,null,null,0,null,null,null,0,null,null,null,0,null,null,null,0,null,null,null,0,null,null,null,0,null,null,null,0,null,null,null,0,null,null,null,0,null,null,null,0,null,null,null,0,null,null,null,0,null,null,null,0,null,null,null,0,null,null,null,0,null,null,null,0,null,null,null,0,null,null,null,0,null,null,null,0,null,null,null,0,null,null,null,0,null,null,null,0,null,null,null,0,null,null,null,0,null,null,null,0,null,null,null,0,null,null,null,0,null,null,null,0,null,null,null,0,null,null,null,0,null,null,null,0,null,null,null,0,null,null,null,0,null,null,null,0,null,null,null,0,null,null,null,0,null,null,null,0,null,null,null,0,null,null,null,0,null,null,null,0,null,null,null,0,null,null,null,0,null,null,null,0,null,null,null,0,null,null,null,0,null,null,null,0,null,null,null,0,null,null,null,0,null,null,null,0,null,null,null,0,null,null,null,0,null,null,null,0,null,null,null,0,null,null,null,0,null,null,null,0,null,null,null,0,null,null,null,0,null,null,null,0,null,null,null,0,null,null,null,0,null,null,null,0,null,null,null,0,null,null,null,0,null,null,null,0,null,null,null,0,null,null,null,0,null,null,null,0,null,null,null,0,null,null,null,0,null,null,null,0,null,null,null,0,null,null,null,0,null,null,null,0,null,null,null,0,null,null,null,0,null,null,null,0,null,null,null,0,null,null,null,0,null,null,null,0,null,null,null,0,null,null,null,0,null,null,null,0,null,null,null,0,null,null,null,0,null,null,null,0,null,null,null,0,null,null,null,0,null,null,null,0,null,null,null,0,null,null,null,0,null,null,null,0,null,null,null,0,null,null,null,0,null,null,null,0,null,null,null,0,null,null,null,0,null,null,null,0,null,null,null,0,null,null,null,0,null,null,null,0,null,null,null,0,null,null,null,0,null,null,null,0,null,null,null,0,null,null,null,0,null,null,null,0,null,null,null,0,null,null,null,0,null,null,null,0,null,null,null,0,null,null,null,0,null,null,null,0,null,null,null,0,null,null,null,0,null,null,null,0,null,null,null,0,null,null,null,0,null,null,null,0,null,null,null,0,null,null,null,0,null,null,null,0,null,null,null,0,null,null,null,0,null,null,null,0,null,null,null,0,null,null,null,0,null,null,null,0,null,null,null,0,null,null,null,0,null,null,null,0,null,null,null,0,null,null,null,0,null,null,null,0,null,null,null,0,null,null,null,0,null,null,null,0,null,null,null,0,null,null,null,0,null,null,null,0,null,null,null,0,null,null,null,0,null,null,null,0,null,null,null,0,null,null,null,0,null,null,null,0,null,null,null,0,null,null,null,0,null,null,null,0,null,null,null,0,null,null,null,0,null,null,null,0,null,null,null,0,null,null,null,0,null,null,null,0,null,null,null,0,null,null,null,0,null,null,null,0,null,null,null,0,null,null,null,0,null,null,null,0,null,null,null,0,null,null,null,0,null,null,null,0,null,null,null,0,null,null,null,0,null,null,null,0,null,null,null,0,null,null,null,0,null,null,null,0,null,null,null,0,null,null,null,0,null,null,null,0,null,null,null,0,null,null,null,0,null,null,null,0,null,null,null,0,null,null,null,0,null,null,null,0,null,null,null,0,null,null,null,0,null,null,null,0,null,null,null,0,null,null,null,0,null,null,null,0,null,null,null,0,null,null,null,0,null,null,null,0,null,null,null,0,null,null,null,0,null,null,null,0,null,null,null,0,null,null,null,0,null,null,null,0,null,null,null,0,null,null,null,0,null,null,null,0,null,null,null,0,null,null,null,0,null,null,null,0,null,null,null,0,null,null,null,0,null,null,null,0,null,null,null,0,null,null,null,0,null,null,null,0,null,null,null,0,null,null,null,0,null,null,null,0,null,null,null,0,null,null,null,0,null,null,null,0,null,null,null,0,null,null,null,0,null,null,null,0,null,null,null,0,null,null,null,0,null,null,null,0,null,null,null,0,null,null,null,0,null,null,null,0,null,null,null,0,null,null,null,0,null,null,null,0,null,null,null,0,null,null,null,0,null,null,null,0,null,null,null,0,null,null,null,0,null,null,null,0,null,null,null,0,null,null,null,0,null,null,null,0,null,null,null,0,null,null,null,0,null,null,null,0,null,null,null,0,null,null,null,0,null,null,null,0,null,null,null,0,null,null,null,0,null,null,null,0,null,null,null,0,null,null,null,0,null,null,null,0,null,null,null,0,null,null,null,0,null,null,null,0,null,null,null,0,null,null,null,0,null,null,null,0,null,null,null,0,null,null,null,0,null,null,null,0,null,null,null,0,null,null,null,0,null,null,null,0,null,null,null,0,null,null,null,0,null,null,null,0,null,null,null,0,null,null,null,0,null,null,null,0,null,null,null,0,null,null,null,0,null,null,null,0,null,null,null,0,null,null,null,0,null,null,null,0,null,null,null,0,null,null,null,0,null,null,null,0,null,null,null,0,null,null,null,0,null,null,null,0,null,null,null,0,null,null,null,0,null,null,null,0,null,null,null,0,null,null,null,0,null,null,null,0,null,null,null,0,null,null,null,0,null,null,null,0,null,null,null,0,null,null,null,0,null,null,null,0,null,null,null,0,null,null,null,0,null,null,null,0,null,null,null,0,null,null,null,0,null,null,null,0,null,null,null,0,null,null,null,0,null,null,null,0,null,null,null,0,null,null,null,0,null,null,null,0,null,null,null,0,null,null,null,0,null,null,null,0,null,null,null,0,null,null,null,0,null,null,null,0,null,null,null,0,null,null,null,0,null,null,null,0,null,null,null,0,null,null,null,0,null,null,null,0,null,null,null,0,null,null,null,0,null,null,null,0,null,null,null,0,null,null,null,0,null,null,null,0,null,null,null,0,null,null,null,0,null,null,null,0,null,null,null,0,null,null,null,0,null,null,null,0,null,null,null,0,null,null,null,0,null,null,null,0,null,null,null,0,null,null,null,0,null,null,null,0,null,null,null,0,null,null,null,0,null,null,null,0,null,null,null,0,null,null,null,0,null,null,null,0,null,null,null,0,null,null,null,0,null,null,null,0,null,null,null,0,null,null,null,0,null,null,null,0,null,null,null,0,null,null,null,0,null,null,null,0,null,null,null,0,null,null,null,0,null,null,null,0,null,null,null,0,null,null,null,0,null,null,null,0,null,null,null,0,null,null,null,0,null,null,null,0,null,null,null,0,null,null,null,0,null,null,null,0,null,null,null,0,null,null,null,0,null,null,null,0,null,null,null,0,null,null,null,0,null,null,null,0,null,null,null,0,null,null,null,0,null,null,null,0,null,null,null,0,null,null,null,0,null,null,null,0,null,null,null,0,null,null,null,0,null,null,null,0,null,null,null,0,null,null,null,0,null,null,null,0,null,null,null,0,null,null,null,0,null,null,null,0,null,null,null,0,null,null,null,0,null,null,null,0,null,null,null,0,null,null,null,0,null,null,null,0,null,null,null,0,null,null,null,0,null,null,null,0,null,null,null,0,null,null,null,0,null,null,null,0,null,null,null,0,null,null,null,0,null,null,null,0,null,null,null,0,null,null,null,0,null,null,null,0,null,null,null,0,null,null,null,0,null,null,null,0,null,null,null,0,null,null,null,0,null,null,null,0,null,null,null,0,null,null,null,0,null,null,null,0,null,null,null,0,null,null,null,0,null,null,null,0,null,null,null,0,null,null,null,0,null,null,null,0,null,null,null,0,null,null,null,0,null,null,null,0,null,null,null,0,null,null,null,0,null,null,null,0,null,null,null,0,null,null,null,0,null,null,null,0,null,null,null,0,null,null,null,0,null,null,null,0,null,null,null,0,null,null,null,0,null,null,null,0,null,null,null,0,null,null,null,0,null,null,null,0,null,null,null,0,null,null,null,0,null,null,null,0,null,null,null,0,null,null,null,0,null,null,null,0,null,null,null,0,null,null,null,0,null,null,null,0,null,null,null,0,null,null,null,0,null,null,null,0,null,null,null,0,null,null,null,0,null,null,null,0,null,null,null,0,null,null,null,0,null,null,null,0,null,null,null,0,null,null,null,0,null,null,null,0,null,null,null,0,null,null,null,0,null,null,null,0,null,null,null,0,null,null,null,0,null,null,null,0,null,null,null,0,null,null,null,0,null,null,null,0,null,null,null,0,null,null,null,0,null,null,null,0,null,null,null,0,null,null,null,0,null,null,null,0,null,null,null,0,null,null,null,0,null,null,null,0,null,null,null,0,null,null,null,0,null,null,null,0,null,null,null,0,null,null,null,0,null,null,null,0,null,null,null,0,null,null,null,0,null,null,null,0,null,null,null,0,null,null,null,0,null,null,null,0,null,null,null,0,null,null,null,0,null,null,null,0,null,null,null,0,null,null,null,0,null,null,null,0,null,null,null,0,null,null,null,0,null,null,null,0,null,null,null,0,null,null,null,0,null,null,null,0,null,null,null,0,null,null,null,0,null,null,null,0,null,null,null,0,null,null,null,0,null,null,null,0,null,null,null,0,null,null,null,0,null,null,null,0,null,null,null,0,null,null,null,0,null,null,null,0,null,null,null,0,null,null,null,0,null,null,null,0,null,null,null,0,null,null,null,0,null,null,null,0,null,null,null,0,null,null,null,0,null,null,null,0,null,null,null,0,null,null,null,0,null,null,null,0,null,null,null,0,null,null,null,0,null,null,null,0,null,null,null,0,null,null,null,0,null,null,null,0,null,null,null,0,null,null,null,0,null,null,null,0,null,null,null,0,null,null,null,0,null,null,null,0,null,null,null,0,null,null,null,0,null,null,null,0,null,null,null,0,null,null,null,0,null,null,null,0,null,null,null,0,null,null,null,0,null,null,null,0,null,null,null,0,null,null,null,0,null,null,null,0,null,null,null,0,null,null,null,0,null,null,null,0,null,null,null,0,null,null,null,0,null,null,null,0,null,null,null,0,null,null,null,0,null,null,null,0,null,null,null,0,null,null,null,0,null,null,null,0,null,null,null,0,null,null,null,0,null,null,null,0,null,null,null,0,null,null,null,0,null,null,null,0,null,null,null,0,null,null,null,0,null,null,null,0,null,null,null,0,null,null,null,0,null,null,null,0,null,null,null,0,null,null,null,0,null,null,null,0,null,null,null,0,null,null,null,0,null,null,null,0,null,null,null,0,null,null,null,0,null,null,null,0,null,null,null,0,null,null,null,0,null,null,null,0,null,null,null,0,null,null,null,0,null,null,null,0,null,null,null,0,null,null,null,0,null,null,null,0,null,null,null,0,null,null,null,0,null,null,null,0,null,null,null,0,null,null,null,0,null,null,null,0,null,null,null,0,null,null,null,0,null,null,null,0,null,null,null,0,null,null,null,0,null,null,null,0,null,null,null,0,null,null,null,0,null,null,null,0,null,null,null,0,null,null,null,0,null,null,null,0,null,null,null,0,null,null,null,0,null,null,null,0,null,null,null,0,null,null,null,0,null,null,null,0,null,null,null,0,null,null,null,0,null,null,null,0,null,null,null,0,null,null,null,0,null,null,null,0,null,null,null,0,null,null,null,0,null,null,null,0,null,null,null,0,null,null,null,0,null,null,null,0,null,null,null,0,null,null,null,0,null,null,null,0,null,null,null,0,null,null,null,0,null,null,null,0,null,null,null,0,null,null,null,0,null,null,null,0,null,null,null,0,null,null,null,0,null,null,null,0,null,null,null,0,null,null,null,0,null,null,null,0,null,null,null,0,null,null,null,0,null,null,null,0,null,null,null,0,null,null,null,0,null,null,null,0,null,null,null,0,null,null,null,0,null,null,null,0,null,null,null,0,null,null,null,0,null,null,null,0,null,null,null,0,null,null,null,0,null,null,null,0,null,null,null,0,null,null,null,0,null,null,null,0,null,null,null,0,null,null,null,0,null,null,null,0,null,null,null,0,null,null,null,0,null,null,null,0,null,null,null,0,null,null,null,0,null,null,null,0,null,null,null,0,null,null,null,0,null,null,null,0,null,null,null,0,null,null,null,0,null,null,null,0,null,null,null,0,null,null,null,0,null,null,null,0,null,null,null,0,null,null,null,0,null,null,null,0,null,null,null,0,null,null,null,0,null,null,null,0,null,null,null,0,null,null,null,0,null,null,null,0,null,null,null,0,null,null,null,0,null,null,null,0,null,null,null,0,null,null,null,0,null,null,null,0,null,null,null,0,null,null,null,0,null,null,null,0,null,null,null,0,null,null,null,0,null,null,null,0,null,null,null,0,null,null,null,0,null,null,null,0,null,null,null,0,null,null,null,0,null,null,null,0,null,null,null,0,null,null,null,0,null,null,null,0,null,null,null,0,null,null,null,0,null,null,null,0,null,null,null,0,null,null,null,0,null,null,null,0,null,null,null,0,null,null,null,0,null,null,null,0,null,null,null,0,null,null,null,0,null,null,null,0,null,null,null,0,null,null,null,0,null,null,null,0,null,null,null,0,null,null,null,0,null,null,null,0,null,null,null,0,null,null,null,0,null,null,null,0,null,null,null,0,null,null,null,0,null,null,null,0,null,null,null,0,null,null,null,0,null,null,null,0,null,null,null,0,null,null,null,0,null,null,null,0,null,null,null,0,null,null,null,0,null,null,null,0,null,null,null,0,null,null,null,0,null,null,null,0,null,null,null,0,null,null,null,0,null,null,null,0,null,null,null,0,null,null,null,0,null,null,null,0,null,null,null,0,null,null,null,0,null,null,null,0,null,null,null,0,null,null,null,0,null,null,null,0,null,null,null,0,null,null,null,0,null,null,null,0,null,null,null,0,null,null,null,0,null,null,null,0,null,null,null,0,null,null,null,0,null,null,null,0,null,null,null,0,null,null,null,0,null,null,null,0,null,null,null,0,null,null,null,0,null,null,null,0,null,null,null,0,null,null,null,0,null,null,null,0,null,null,null,0,null,null,null,0,null,null,null,0,null,null,null,0,null,null,null,0,null,null,null,0,null,null,null,0,null,null,null,0,null,null,null,0,null,null,null,0,null,null,null,0,null,null,null,0,null,null,null,0,null,null,null,0,null,null,null,0,null,null,null,0,null,null,null,0,null,null,null,0,null,null,null,0,null,null,null,0,null,null,null,0,null,null,null,0,null,null,null,0,null,null,null,0,null,null,null,0,null,null,null,0,null,null,null,0,null,null,null,0,null,null,null,0,null,null,null,0,null,null,null,0,null,null,null,0,null,null,null,0,null,null,null,0,null,null,null,0,null,null,null,0,null,null,null,0,null,null,null,0,null,null,null,0,null,null,null,0,null,null,null,0,null,null,null,0,null,null,null,0,null,null,null,0,null,null,null,0,null,null,null,0,null,null,null,0,null,null,null,0,null,null,null,0,null,null,null,0,null,null,null,0,null,null,null,0,null,null,null,0,null,null,null,0,null,null,null,0,null,null,null,0,null,null,null,0,null,null,null,0,null,null,null,0,null,null,null,0,null,null,null,0,null,null,null,0]
["Fma Sess 6 - Families and Peer Pressure",null,0,null,null,null,0,null,null,null,0,null,null,null,0,null,null,null,0,null,null,null,0,null,null,null,0,null,null,null,0,null,null,null,0,null,null,null,0,null,null,null,0,null,null,null,0,null,null,null,0,null,null,null,0,null,null,null,0,null,null,null,0,null,null,null,0,null,null,null,0,null,null,null,0,null,null,null,0,null,null,null,0,null,null,null,0,null,null,null,0,null,null,null,0,null,null,null,0,null,null,null,0,null,null,null,0,null,null,null,0,null,null,null,0,null,null,null,0,null,null,null,0,null,null,null,0,null,null,null,0,null,null,null,0,null,null,null,0,null,null,null,0,null,null,null,0,null,null,null,0,null,null,null,0,null,null,null,0,null,null,null,0,null,null,null,0,null,null,null,0,null,null,null,0,null,null,null,0,null,null,null,0,null,null,null,0,null,null,null,0,null,null,null,0,null,null,null,0,null,null,null,0,null,null,null,0,null,null,null,0,null,null,null,0,null,null,null,0,null,null,null,0,null,null,null,0,null,null,null,0,null,null,null,0,null,null,null,0,null,null,null,0,null,null,null,0,null,null,null,0,null,null,null,0,null,null,null,0,null,null,null,0,null,null,null,0,null,null,null,0,null,null,null,0,null,null,null,0,null,null,null,0,null,null,null,0,null,null,null,0,null,null,null,0,null,null,null,0,null,null,null,0,null,null,null,0,null,null,null,0,null,null,null,0,null,null,null,0,null,null,null,0,null,null,null,0,null,null,null,0,null,null,null,0,null,null,null,0,null,null,null,0,null,null,null,0,null,null,null,0,null,null,null,0,null,null,null,0,null,null,null,0,null,null,null,0,null,null,null,0,null,null,null,0,null,null,null,0,null,null,null,0,null,null,null,0,null,null,null,0,null,null,null,0,null,null,null,0,null,null,null,0,null,null,null,0,null,null,null,0,null,null,null,0,null,null,null,0,null,null,null,0,null,null,null,0,null,null,null,0,null,null,null,0,null,null,null,0,null,null,null,0,null,null,null,0,null,null,null,0,null,null,null,0,null,null,null,0,null,null,null,0,null,null,null,0,null,null,null,0,null,null,null,0,null,null,null,0,null,null,null,0,null,null,null,0,null,null,null,0,null,null,null,0,null,null,null,0,null,null,null,0,null,null,null,0,null,null,null,0,null,null,null,0,null,null,null,0,null,null,null,0,null,null,null,0,null,null,null,0,null,null,null,0,null,null,null,0,null,null,null,0,null,null,null,0,null,null,null,0,null,null,null,0,null,null,null,0,null,null,null,0,null,null,null,0,null,null,null,0,null,null,null,0,null,null,null,0,null,null,null,0,null,null,null,0,null,null,null,0,null,null,null,0,null,null,null,0,null,null,null,0,null,null,null,0,null,null,null,0,null,null,null,0,null,null,null,0,null,null,null,0,null,null,null,0,null,null,null,0,null,null,null,0,null,null,null,0,null,null,null,0,null,null,null,0,null,null,null,0,null,null,null,0,null,null,null,0,null,null,null,0,null,null,null,0,null,null,null,0,null,null,null,0,null,null,null,0,null,null,null,0,null,null,null,0,null,null,null,0,null,null,null,0,null,null,null,0,null,null,null,0,null,null,null,0,null,null,null,0,null,null,null,0,null,null,null,0,null,null,null,0,null,null,null,0,null,null,null,0,null,null,null,0,null,null,null,0,null,null,null,0,null,null,null,0,null,null,null,0,null,null,null,0,null,null,null,0,null,null,null,0,null,null,null,0,null,null,null,0,null,null,null,0,null,null,null,0,null,null,null,0,null,null,null,0,null,null,null,0,null,null,null,0,null,null,null,0,null,null,null,0,null,null,null,0,null,null,null,0,null,null,null,0,null,null,null,0,null,null,null,0,null,null,null,0,null,null,null,0,null,null,null,0,null,null,null,0,null,null,null,0,null,null,null,0,null,null,null,0,null,null,null,0,null,null,null,0,null,null,null,0,null,null,null,0,null,null,null,0,null,null,null,0,null,null,null,0,null,null,null,0,null,null,null,0,null,null,null,0,null,null,null,0,null,null,null,0,null,null,null,0,null,null,null,0,null,null,null,0,null,null,null,0,null,null,null,0,null,null,null,0,null,null,null,0,null,null,null,0,null,null,null,0,null,null,null,0,null,null,null,0,null,null,null,0,null,null,null,0,null,null,null,0,null,null,null,0,null,null,null,0,null,null,null,0,null,null,null,0,null,null,null,0,null,null,null,0,null,null,null,0,null,null,null,0,null,null,null,0,null,null,null,0,null,null,null,0,null,null,null,0,null,null,null,0,null,null,null,0,null,null,null,0,null,null,null,0,null,null,null,0,null,null,null,0,null,null,null,0,null,null,null,0,null,null,null,0,null,null,null,0,null,null,null,0,null,null,null,0,null,null,null,0,null,null,null,0,null,null,null,0,null,null,null,0,null,null,null,0,null,null,null,0,null,null,null,0,null,null,null,0,null,null,null,0,null,null,null,0,null,null,null,0,null,null,null,0,null,null,null,0,null,null,null,0,null,null,null,0,null,null,null,0,null,null,null,0,null,null,null,0,null,null,null,0,null,null,null,0,null,null,null,0,null,null,null,0,null,null,null,0,null,null,null,0,null,null,null,0,null,null,null,0,null,null,null,0,null,null,null,0,null,null,null,0,null,null,null,0,null,null,null,0,null,null,null,0,null,null,null,0,null,null,null,0,null,null,null,0,null,null,null,0,null,null,null,0,null,null,null,0,null,null,null,0,null,null,null,0,null,null,null,0,null,null,null,0,null,null,null,0,null,null,null,0,null,null,null,0,null,null,null,0,null,null,null,0,null,null,null,0,null,null,null,0,null,null,null,0,null,null,null,0,null,null,null,0,null,null,null,0,null,null,null,0,null,null,null,0,null,null,null,0,null,null,null,0,null,null,null,0,null,null,null,0,null,null,null,0,null,null,null,0,null,null,null,0,null,null,null,0,null,null,null,0,null,null,null,0,null,null,null,0,null,null,null,0,null,null,null,0,null,null,null,0,null,null,null,0,null,null,null,0,null,null,null,0,null,null,null,0,null,null,null,0,null,null,null,0,null,null,null,0,null,null,null,0,null,null,null,0,null,null,null,0,null,null,null,0,null,null,null,0,null,null,null,0,null,null,null,0,null,null,null,0,null,null,null,0,null,null,null,0,null,null,null,0,null,null,null,0,null,null,null,0,null,null,null,0,null,null,null,0,null,null,null,0,null,null,null,0,null,null,null,0,null,null,null,0,null,null,null,0,null,null,null,0,null,null,null,0,null,null,null,0,null,null,null,0,null,null,null,0,null,null,null,0,null,null,null,0,null,null,null,0,null,null,null,0,null,null,null,0,null,null,null,0,null,null,null,0,null,null,null,0,null,null,null,0,null,null,null,0,null,null,null,0,null,null,null,0,null,null,null,0,null,null,null,0,null,null,null,0,null,null,null,0,null,null,null,0,null,null,null,0,null,null,null,0,null,null,null,0,null,null,null,0,null,null,null,0,null,null,null,0,null,null,null,0,null,null,null,0,null,null,null,0,null,null,null,0,null,null,null,0,null,null,null,0,null,null,null,0,null,null,null,0,null,null,null,0,null,null,null,0,null,null,null,0,null,null,null,0,null,null,null,0,null,null,null,0,null,null,null,0,null,null,null,0,null,null,null,0,null,null,null,0,null,null,null,0,null,null,null,0,null,null,null,0,null,null,null,0,null,null,null,0,null,null,null,0,null,null,null,0,null,null,null,0,null,null,null,0,null,null,null,0,null,null,null,0,null,null,null,0,null,null,null,0,null,null,null,0,null,null,null,0,null,null,null,0,null,null,null,0,null,null,null,0,null,null,null,0,null,null,null,0,null,null,null,0,null,null,null,0,null,null,null,0,null,null,null,0,null,null,null,0,null,null,null,0,null,null,null,0,null,null,null,0,null,null,null,0,null,null,null,0,null,null,null,0,null,null,null,0,null,null,null,0,null,null,null,0,null,null,null,0,null,null,null,0,null,null,null,0,null,null,null,0,null,null,null,0,null,null,null,0,null,null,null,0,null,null,null,0,null,null,null,0,null,null,null,0,null,null,null,0,null,null,null,0,null,null,null,0,null,null,null,0,null,null,null,0,null,null,null,0,null,null,null,0,null,null,null,0,null,null,null,0,null,null,null,0,null,null,null,0,null,null,null,0,null,null,null,0,null,null,null,0,null,null,null,0,null,null,null,0,null,null,null,0,null,null,null,0,null,null,null,0,null,null,null,0,null,null,null,0,null,null,null,0,null,null,null,0,null,null,null,0,null,null,null,0,null,null,null,0,null,null,null,0,null,null,null,0,null,null,null,0,null,null,null,0,null,null,null,0,null,null,null,0,null,null,null,0,null,null,null,0,null,null,null,0,null,null,null,0,null,null,null,0,null,null,null,0,null,null,null,0,null,null,null,0,null,null,null,0,null,null,null,0,null,null,null,0,null,null,null,0,null,null,null,0,null,null,null,0,null,null,null,0,null,null,null,0,null,null,null,0,null,null,null,0,null,null,null,0,null,null,null,0,null,null,null,0,null,null,null,0,null,null,null,0,null,null,null,0,null,null,null,0,null,null,null,0,null,null,null,0,null,null,null,0,null,null,null,0,null,null,null,0,null,null,null,0,null,null,null,0,null,null,null,0,null,null,null,0,null,null,null,0,null,null,null,0,null,null,null,0,null,null,null,0,null,null,null,0,null,null,null,0,null,null,null,0,null,null,null,0,null,null,null,0,null,null,null,0,null,null,null,0,null,null,null,0,null,null,null,0,null,null,null,0,null,null,null,0,null,null,null,0,null,null,null,0,null,null,null,0,null,null,null,0,null,null,null,0,null,null,null,0,null,null,null,0,null,null,null,0,null,null,null,0,null,null,null,0,null,null,null,0,null,null,null,0,null,null,null,0,null,null,null,0,null,null,null,0,null,null,null,0,null,null,null,0,null,null,null,0,null,null,null,0,null,null,null,0,null,null,null,0,null,null,null,0,null,null,null,0,null,null,null,0,null,null,null,0,null,null,null,0,null,null,null,0,null,null,null,0,null,null,null,0,null,null,null,0,null,null,null,0,null,null,null,0,null,null,null,0,null,null,null,0,null,null,null,0,null,null,null,0,null,null,null,0,null,null,null,0,null,null,null,0,null,null,null,0,null,null,null,0,null,null,null,0,null,null,null,0,null,null,null,0,null,null,null,0,null,null,null,0,null,null,null,0,null,null,null,0,null,null,null,0,null,null,null,0,null,null,null,0,null,null,null,0,null,null,null,0,null,null,null,0,null,null,null,0,null,null,null,0,null,null,null,0,null,null,null,0,null,null,null,0,null,null,null,0,null,null,null,0,null,null,null,0,null,null,null,0,null,null,null,0,null,null,null,0,null,null,null,0,null,null,null,0,null,null,null,0,null,null,null,0,null,null,null,0,null,null,null,0,null,null,null,0,null,null,null,0,null,null,null,0,null,null,null,0,null,null,null,0,null,null,null,0,null,null,null,0,null,null,null,0,null,null,null,0,null,null,null,0,null,null,null,0,null,null,null,0,null,null,null,0,null,null,null,0,null,null,null,0,null,null,null,0,null,null,null,0,null,null,null,0,null,null,null,0,null,null,null,0,null,null,null,0,null,null,null,0,null,null,null,0,null,null,null,0,null,null,null,0,null,null,null,0,null,null,null,0,null,null,null,0,null,null,null,0,null,null,null,0,null,null,null,0,null,null,null,0,null,null,null,0,null,null,null,0,null,null,null,0,null,null,null,0,null,null,null,0,null,null,null,0,null,null,null,0,null,null,null,0,null,null,null,0,null,null,null,0,null,null,null,0,null,null,null,0,null,null,null,0,null,null,null,0,null,null,null,0,null,null,null,0,null,null,null,0,null,null,null,0,null,null,null,0,null,null,null,0,null,null,null,0,null,null,null,0,null,null,null,0,null,null,null,0,null,null,null,0,null,null,null,0,null,null,null,0,null,null,null,0,null,null,null,0,null,null,null,0,null,null,null,0,null,null,null,0,null,null,null,0,null,null,null,0,null,null,null,0,null,null,null,0,null,null,null,0,null,null,null,0,null,null,null,0,null,null,null,0,null,null,null,0,null,null,null,0,null,null,null,0,null,null,null,0,null,null,null,0,null,null,null,0,null,null,null,0,null,null,null,0,null,null,null,0,null,null,null,0,null,null,null,0,null,null,null,0,null,null,null,0,null,null,null,0,null,null,null,0,null,null,null,0,null,null,null,0,null,null,null,0,null,null,null,0,null,null,null,0,null,null,null,0,null,null,null,0,null,null,null,0,null,null,null,0,null,null,null,0,null,null,null,0,null,null,null,0,null,null,null,0,null,null,null,0,null,null,null,0,null,null,null,0,null,null,null,0,null,null,null,0,null,null,null,0,null,null,null,0,null,null,null,0,null,null,null,0,null,null,null,0,null,null,null,0,null,null,null,0,null,null,null,0,null,null,null,0,null,null,null,0,null,null,null,0,null,null,null,0,null,null,null,0,null,null,null,0,null,null,null,0,null,null,null,0,null,null,null,0,null,null,null,0,null,null,null,0,null,null,null,0,null,null,null,0,null,null,null,0,null,null,null,0,null,null,null,0,null,null,null,0,null,null,null,0,null,null,null,0,null,null,null,0,null,null,null,0,null,null,null,0,null,null,null,0,null,null,null,0,null,null,null,0,null,null,null,0,null,null,null,0,null,null,null,0,null,null,null,0,null,null,null,0,null,null,null,0,null,null,null,0,null,null,null,0,null,null,null,0,null,null,null,0,null,null,null,0,null,null,null,0,null,null,null,0,null,null,null,0,null,null,null,0,null,null,null,0,null,null,null,0,null,null,null,0,null,null,null,0,null,null,null,0,null,null,null,0,null,null,null,0,null,null,null,0,null,null,null,0,null,null,null,0,null,null,null,0,null,null,null,0,null,null,null,0,null,null,null,0,null,null,null,0,null,null,null,0,null,null,null,0,null,null,null,0,null,null,null,0,null,null,null,0,null,null,null,0,null,null,null,0,null,null,null,0,null,null,null,0,null,null,null,0,null,null,null,0,null,null,null,0,null,null,null,0,null,null,null,0,null,null,null,0,null,null,null,0,null,null,null,0,null,null,null,0,null,null,null,0,null,null,null,0,null,null,null,0,null,null,null,0,null,null,null,0,null,null,null,0,null,null,null,0,null,null,null,0,null,null,null,0,null,null,null,0,null,null,null,0,null,null,null,0,null,null,null,0,null,null,null,0,null,null,null,0,null,null,null,0,null,null,null,0,null,null,null,0,null,null,null,0,null,null,null,0,null,null,null,0,null,null,null,0,null,null,null,0,null,null,null,0,null,null,null,0,null,null,null,0,null,null,null,0,null,null,null,0,null,null,null,0,null,null,null,0,null,null,null,0,null,null,null,0,null,null,null,0,null,null,null,0,null,null,null,0,null,null,null,0,null,null,null,0,null,null,null,0,null,null,null,0,null,null,null,0,null,null,null,0,null,null,null,0,null,null,null,0,null,null,null,0,null,null,null,0,null,null,null,0,null,null,null,0,null,null,null,0,null,null,null,0,null,null,null,0,null,null,null,0,null,null,null,0,null,null,null,0,null,null,null,0,null,null,null,0,null,null,null,0,null,null,null,0,null,null,null,0,null,null,null,0,null,null,null,0,null,null,null,0,null,null,null,0,null,null,null,0,null,null,null,0,null,null,null,0,null,null,null,0,null,null,null,0,null,null,null,0,null,null,null,0,null,null,null,0,null,null,null,0,null,null,null,0,null,null,null,0,null,null,null,0,null,null,null,0,null,null,null,0,null,null,null,0,null,null,null,0,null,null,null,0,null,null,null,0,null,null,null,0,null,null,null,0,null,null,null,0,null,null,null,0,null,null,null,0,null,null,null,0,null,null,null,0,null,null,null,0,null,null,null,0,null,null,null,0,null,null,null,0,null,null,null,0,null,null,null,0,null,null,null,0,null,null,null,0,null,null,null,0,null,null,null,0,null,null,null,0,null,null,null,0,null,null,null,0,null,null,null,0,null,null,null,0,null,null,null,0,null,null,null,0,null,null,null,0,null,null,null,0,null,null,null,0,null,null,null,0,null,null,null,0,null,null,null,0,null,null,null,0,null,null,null,0,null,null,null,0,null,null,null,0,null,null,null,0,null,null,null,0,null,null,null,0,null,null,null,0,null,null,null,0,null,null,null,0,null,null,null,0,null,null,null,0,null,null,null,0,null,null,null,0,null,null,null,0,null,null,null,0,null,null,null,0,null,null,null,0,null,null,null,0,null,null,null,0,null,null,null,0,null,null,null,0,null,null,null,0,null,null,null,0,null,null,null,0,null,null,null,0,null,null,null,0,null,null,null,0,null,null,null,0,null,null,null,0,null,null,null,0,null,null,null,0,null,null,null,0,null,null,null,0,null,null,null,0,null,null,null,0,null,null,null,0,null,null,null,0,null,null,null,0,null,null,null,0,null,null,null,0,null,null,null,0,null,null,null,0,null,null,null,0,null,null,null,0,null,null,null,0,null,null,null,0,null,null,null,0,null,null,null,0,null,null,null,0,null,null,null,0,null,null,null,0,null,null,null,0,null,null,null,0,null,null,null,0,null,null,null,0,null,null,null,0,null,null,null,0,null,null,null,0,null,null,null,0,null,null,null,0,null,null,null,0,null,null,null,0,null,null,null,0,null,null,null,0,null,null,null,0,null,null,null,0,null,null,null,0,null,null,null,0,null,null,null,0,null,null,null,0,null,null,null,0,null,null,null,0,null,null,null,0,null,null,null,0,null,null,null,0,null,null,null,0,null,null,null,0,null,null,null,0,null,null,null,0,null,null,null,0,null,null,null,0,null,null,null,0,null,null,null,0,null,null,null,0,null,null,null,0,null,null,null,0,null,null,null,0,null,null,null,0,null,null,null,0,null,null,null,0,null,null,null,0,null,null,null,0,null,null,null,0,null,null,null,0,null,null,null,0,null,null,null,0,null,null,null,0,null,null,null,0,null,null,null,0,null,null,null,0,null,null,null,0,null,null,null,0,null,null,null,0,null,null,null,0,null,null,null,0,null,null,null,0,null,null,null,0,null,null,null,0,null,null,null,0,null,null,null,0,null,null,null,0,null,null,null,0,null,null,null,0,null,null,null,0,null,null,null,0,null,null,null,0,null,null,null,0,null,null,null,0,null,null,null,0,null,null,null,0,null,null,null,0,null,null,null,0,null,null,null,0,null,null,null,0,null,null,null,0,null,null,null,0,null,null,null,0,null,null,null,0,null,null,null,0,null,null,null,0,null,null,null,0,null,null,null,0,null,null,null,0,null,null,null,0,null,null,null,0,null,null,null,0,null,null,null,0,null,null,null,0,null,null,null,0,null,null,null,0,null,null,null,0,null,null,null,0,null,null,null,0,null,null,null,0,null,null,null,0,null,null,null,0,null,null,null,0,null,null,null,0,null,null,null,0,null,null,null,0,null,null,null,0,null,null,null,0,null,null,null,0,null,null,null,0,null,null,null,0,null,null,null,0,null,null,null,0,null,null,null,0,null,null,null,0,null,null,null,0,null,null,null,0,null,null,null,0,null,null,null,0,null,null,null,0,null,null,null,0,null,null,null,0,null,null,null,0,null,null,null,0,null,null,null,0,null,null,null,0,null,null,null,0,null,null,null,0,null,null,null,0,null,null,null,0,null,null,null,0,null,null,null,0,null,null,null,0,null,null,null,0,null,null,null,0,null,null,null,0,null,null,null,0,null,null,null,0,null,null,null,0,null,null,null,0,null,null,null,0,null,null,null,0,null,null,null,0,null,null,null,0,null,null,null,0,null,null,null,0,null,null,null,0,null,null,null,0,null,null,null,0,null,null,null,0,null,null,null,0,null,null,null,0,null,null,null,0,null,null,null,0,null,null,null,0,null,null,null,0,null,null,null,0,null,null,null,0,null,null,null,0,null,null,null,0,null,null,null,0,null,null,null,0,null,null,null,0,null,null,null,0,null,null,null,0,null,null,null,0,null,null,null,0,null,null,null,0,null,null,null,0,null,null,null,0,null,null,null,0,null,null,null,0,null,null,null,0,null,null,null,0,null,null,null,0,null,null,null,0,null,null,null,0,null,null,null,0,null,null,null,0,null,null,null,0,null,null,null,0,null,null,null,0,null,null,null,0,null,null,null,0,null,null,null,0,null,null,null,0,null,null,null,0,null,null,null,0,null,null,null,0,null,null,null,0,null,null,null,0,null,null,null,0,null,null,null,0,null,null,null,0,null,null,null,0,null,null,null,0,null,null,null,0,null,null,null,0,null,null,null,0,null,null,null,0,null,null,null,0,null,null,null,0,null,null,null,0,null,null,null,0,null,null,null,0,null,null,null,0,null,null,null,0,null,null,null,0,null,null,null,0,null,null,null,0,null,null,null,0,null,null,null,0,null,null,null,0,null,null,null,0,null,null,null,0,null,null,null,0,null,null,null,0,null,null,null,0,null,null,null,0,null,null,null,0,null,null,null,0,null,null,null,0,null,null,null,0,null,null,null,0,null,null,null,0,null,null,null,0,null,null,null,0,null,null,null,0,null,null,null,0,null,null,null,0,null,null,null,0,null,null,null,0,null,null,null,0,null,null,null,0,null,null,null,0,null,null,null,0,null,null,null,0,null,null,null,0,null,null,null,0,null,null,null,0,null,null,null,0,null,null,null,0,null,null,null,0,null,null,null,0,null,null,null,0,null,null,null,0,null,null,null,0,null,null,null,0,null,null,null,0,null,null,null,0,null,null,null,0,null,null,null,0,null,null,null,0,null,null,null,0,null,null,null,0,null,null,null,0,null,null,null,0,null,null,null,0,null,null,null,0,null,null,null,0,null,null,null,0,null,null,null,0,null,null,null,0,null,null,null,0,null,null,null,0,null,null,null,0,null,null,null,0,null,null,null,0,null,null,null,0,null,null,null,0,null,null,null,0,null,null,null,0,null,null,null,0,null,null,null,0,null,null,null,0,null,null,null,0,null,null,null,0,null,null,null,0,null,null,null,0,null,null,null,0,null,null,null,0,null,null,null,0,null,null,null,0,null,null,null,0,null,null,null,0,null,null,null,0,null,null,null,0,null,null,null,0,null,null,null,0,null,null,null,0,null,null,null,0,null,null,null,0,null,null,null,0,null,null,null,0,null,null,null,0,null,null,null,0,null,null,null,0,null,null,null,0,null,null,null,0,null,null,null,0,null,null,null,0,null,null,null,0,null,null,null,0,null,null,null,0,null,null,null,0,null,null,null,0,null,null,null,0,null,null,null,0,null,null,null,0,null,null,null,0,null,null,null,0,null,null,null,0,null,null,null,0,null,null,null,0,null,null,null,0,null,null,null,0,null,null,null,0,null,null,null,0,null,null,null,0,null,null,null,0,null,null,null,0,null,null,null,0,null,null,null,0,null,null,null,0,null,null,null,0,null,null,null,0,null,null,null,0,null,null,null,0,null,null,null,0,null,null,null,0,null,null,null,0,null,null,null,0,null,null,null,0,null,null,null,0,null,null,null,0,null,null,null,0,null,null,null,0,null,null,null,0,null,null,null,0,null,null,null,0,null,null,null,0,null,null,null,0,null,null,null,0,null,null,null,0,null,null,null,0,null,null,null,0,null,null,null,0,null,null,null,0,null,null,null,0,null,null,null,0,null,null,null,0,null,null,null,0,null,null,null,0,null,null,null,0,null,null,null,0,null,null,null,0,null,null,null,0,null,null,null,0,null,null,null,0,null,null,null,0,null,null,null,0,null,null,null,0,null,null,null,0,null,null,null,0,null,null,null,0,null,null,null,0,null,null,null,0,null,null,null,0,null,null,null,0,null,null,null,0,null,null,null,0,null,null,null,0,null,null,null,0,null,null,null,0,null,null,null,0,null,null,null,0,null,null,null,0,null,null,null,0,null,null,null,0,null,null,null,0,null,null,null,0,null,null,null,0,null,null,null,0,null,null,null,0,null,null,null,0,null,null,null,0,null,null,null,0,null,null,null,0,null,null,null,0,null,null,null,0,null,null,null,0,null,null,null,0,null,null,null,0,null,null,null,0,null,null,null,0,null,null,null,0,null,null,null,0,null,null,null,0,null,null,null,0,null,null,null,0,null,null,null,0,null,null,null,0,null,null,null,0,null,null,null,0,null,null,null,0,null,null,null,0,null,null,null,0,null,null,null,0,null,null,null,0,null,null,null,0,null,null,null,0,null,null,null,0,null,null,null,0,null,null,null,0,null,null,null,0,null,null,null,0,null,null,null,0,null,null,null,0,null,null,null,0,null,null,null,0,null,null,null,0,null,null,null,0,null,null,null,0,null,null,null,0,null,null,null,0,null,null,null,0,null,null,null,0,null,null,null,0,null,null,null,0,null,null,null,0,null,null,null,0,null,null,null,0,null,null,null,0,null,null,null,0,null,null,null,0,null,null,null,0,null,null,null,0,null,null,null,0,null,null,null,0,null,null,null,0,null,null,null,0,null,null,null,0,null,null,null,0,null,null,null,0,null,null,null,0,null,null,null,0,null,null,null,0,null,null,null,0,null,null,null,0,null,null,null,0,null,null,null,0,null,null,null,0,null,null,null,0,null,null,null,0,null,null,null,0,null,null,null,0,null,null,null,0,null,null,null,0,null,null,null,0,null,null,null,0,null,null,null,0,null,null,null,0,null,null,null,0,null,null,null,0,null,null,null,0,null,null,null,0,null,null,null,0,null,null,null,0,null,null,null,0,null,null,null,0,null,null,null,0,null,null,null,0,null,null,null,0,null,null,null,0,null,null,null,0,null,null,null,0,null,null,null,0,null,null,null,0,null,null,null,0,null,null,null,0,null,null,null,0,null,null,null,0,null,null,null,0,null,null,null,0,null,null,null,0,null,null,null,0,null,null,null,0,null,null,null,0,null,null,null,0,null,null,null,0,null,null,null,0,null,null,null,0,null,null,null,0,null,null,null,0,null,null,null,0,null,null,null,0,null,null,null,0,null,null,null,0,null,null,null,0,null,null,null,0,null,null,null,0,null,null,null,0,null,null,null,0,null,null,null,0,null,null,null,0,null,null,null,0,null,null,null,0,null,null,null,0,null,null,null,0,null,null,null,0,null,null,null,0,null,null,null,0,null,null,null,0,null,null,null,0,null,null,null,0,null,null,null,0,null,null,null,0,null,null,null,0,null,null,null,0,null,null,null,0,null,null,null,0,null,null,null,0,null,null,null,0,null,null,null,0,null,null,null,0,null,null,null,0,null,null,null,0,null,null,null,0,null,null,null,0,null,null,null,0,null,null,null,0,null,null,null,0,null,null,null,0,null,null,null,0,null,null,null,0,null,null,null,0,null,null,null,0,null,null,null,0,null,null,null,0,null,null,null,0,null,null,null,0,null,null,null,0,null,null,null,0,null,null,null,0,null,null,null,0,null,null,null,0,null,null,null,0,null,null,null,0,null,null,null,0,null,null,null,0,null,null,null,0,null,null,null,0,null,null,null,0,null,null,null,0,null,null,null,0,null,null,null,0,null,null,null,0,null,null,null,0,null,null,null,0,null,null,null,0,null,null,null,0,null,null,null,0,null,null,null,0,null,null,null,0,null,null,null,0,null,null,null,0,null,null,null,0,null,null,null,0,null,null,null,0,null,null,null,0,null,null,null,0,null,null,null,0,null,null,null,0,null,null,null,0,null,null,null,0,null,null,null,0,null,null,null,0,null,null,null,0,null,null,null,0,null,null,null,0,null,null,null,0,null,null,null,0,null,null,null,0,null,null,null,0,null,null,null,0,null,null,null,0,null,null,null,0,null,null,null,0,null,null,null,0,null,null,null,0,null,null,null,0,null,null,null,0,null,null,null,0,null,null,null,0,null,null,null,0,null,null,null,0,null,null,null,0,null,null,null,0,null,null,null,0,null,null,null,0,null,null,null,0,null,null,null,0,null,null,null,0,null,null,null,0,null,null,null,0,null,null,null,0,null,null,null,0,null,null,null,0,null,null,null,0,null,null,null,0,null,null,null,0,null,null,null,0,null,null,null,0,null,null,null,0,null,null,null,0,null,null,null,0,null,null,null,0,null,null,null,0,null,null,null,0,null,null,null,0,null,null,null,0,null,null,null,0,null,null,null,0,null,null,null,0,null,null,null,0,null,null,null,0,null,null,null,0,null,null,null,0,null,null,null,0,null,null,null,0,null,null,null,0,null,null,null,0,null,null,null,0,null,null,null,0,null,null,null,0,null,null,null,0,null,null,null,0,null,null,null,0,null,null,null,0,null,null,null,0,null,null,null,0,null,null,null,0,null,null,null,0,null,null,null,0,null,null,null,0,null,null,null,0,null,null,null,0,null,null,null,0,null,null,null,0,null,null,null,0,null,null,null,0,null,null,null,0,null,null,null,0,null,null,null,0,null,null,null,0,null,null,null,0,null,null,null,0,null,null,null,0,null,null,null,0,null,null,null,0,null,null,null,0,null,null,null,0,null,null,null,0,null,null,null,0,null,null,null,0,null,null,null,0,null,null,null,0,null,null,null,0,null,null,null,0,null,null,null,0,null,null,null,0,null,null,null,0,null,null,null,0,null,null,null,0,null,null,null,0,null,null,null,0,null,null,null,0,null,null,null,0,null,null,null,0,null,null,null,0,null,null,null,0,null,null,null,0,null,null,null,0,null,null,null,0,null,null,null,0,null,null,null,0,null,null,null,0,null,null,null,0,null,null,null,0,null,null,null,0,null,null,null,0,null,null,null,0,null,null,null,0,null,null,null,0,null,null,null,0,null,null,null,0,null,null,null,0,null,null,null,0,null,null,null,0,null,null,null,0,null,null,null,0,null,null,null,0,null,null,null,0,null,null,null,0,null,null,null,0,null,null,null,0,null,null,null,0,null,null,null,0,null,null,null,0,null,null,null,0,null,null,null,0,null,null,null,0,null,null,null,0,null,null,null,0,null,null,null,0,null,null,null,0,null,null,null,0,null,null,null,0,null,null,null,0,null,null,null,0,null,null,null,0,null,null,null,0,null,null,null,0,null,null,null,0,null,null,null,0,null,null,null,0,null,null,null,0,null,null,null,0,null,null,null,0,null,null,null,0,null,null,null,0,null,null,null,0,null,null,null,0,null,null,null,0,null,null,null,0,null,null,null,0,null,null,null,0,null,null,null,0,null,null,null,0,null,null,null,0,null,null,null,0,null,null,null,0,null,null,null,0,null,null,null,0,null,null,null,0,null,null,null,0,null,null,null,0,null,null,null,0,null,null,null,0,null,null,null,0,null,null,null,0,null,null,null,0,null,null,null,0,null,null,null,0,null,null,null,0,null,null,null,0,null,null,null,0,null,null,null,0,null,null,null,0,null,null,null,0,null,null,null,0,null,null,null,0,null,null,null,0,null,null,null,0,null,null,null,0,null,null,null,0,null,null,null,0,null,null,null,0,null,null,null,0,null,null,null,0,null,null,null,0,null,null,null,0,null,null,null,0,null,null,null,0,null,null,null,0,null,null,null,0,null,null,null,0,null,null,null,0,null,null,null,0,null,null,null,0,null,null,null,0,null,null,null,0,null,null,null,0,null,null,null,0,null,null,null,0,null,null,null,0,null,null,null,0,null,null,null,0,null,null,null,0,null,null,null,0,null,null,null,0,null,null,null,0,null,null,null,0,null,null,null,0,null,null,null,0,null,null,null,0,null,null,null,0,null,null,null,0,null,null,null,0,null,null,null,0,null,null,null,0,null,null,null,0,null,null,null,0,null,null,null,0,null,null,null,0,null,null,null,0,null,null,null,0,null,null,null,0,null,null,null,0,null,null,null,0,null,null,null,0,null,null,null,0,null,null,null,0,null,null,null,0,null,null,null,0,null,null,null,0,null,null,null,0,null,null,null,0,null,null,null,0,null,null,null,0,null,null,null,0,null,null,null,0,null,null,null,0,null,null,null,0,null,null,null,0,null,null,null,0,null,null,null,0,null,null,null,0,null,null,null,0,null,null,null,0,null,null,null,0,null,null,null,0,null,null,null,0,null,null,null,0,null,null,null,0,null,null,null,0,null,null,null,0,null,null,null,0,null,null,null,0,null,null,null,0,null,null,null,0,null,null,null,0,null,null,null,0,null,null,null,0,null,null,null,0,null,null,null,0,null,null,null,0,null,null,null,0,null,null,null,0,null,null,null,0,null,null,null,0,null,null,null,0,null,null,null,0,null,null,null,0,null,null,null,0,null,null,null,0,null,null,null,0,null,null,null,0,null,null,null,0,null,null,null,0,null,null,null,0,null,null,null,0,null,null,null,0,null,null,null,0,null,null,null,0,null,null,null,0,null,null,null,0,null,null,null,0,null,null,null,0,null,null,null,0,null,null,null,0,null,null,null,0,null,null,null,0,null,null,null,0,null,null,null,0,null,null,null,0,null,null,null,0,null,null,null,0,null,null,null,0,null,null,null,0,null,null,null,0,null,null,null,0,null,null,null,0,null,null,null,0,null,null,null,0,null,null,null,0,null,null,null,0,null,null,null,0,null,null,null,0,null,null,null,0,null,null,null,0,null,null,null,0,null,null,null,0,null,null,null,0,null,null,null,0,null,null,null,0,null,null,null,0,null,null,null,0,null,null,null,0,null,null,null,0,null,null,null,0,null,null,null,0,null,null,null,0,null,null,null,0,null,null,null,0,null,null,null,0,null,null,null,0,null,null,null,0,null,null,null,0,null,null,null,0,null,null,null,0,null,null,null,0,null,null,null,0,null,null,null,0,null,null,null,0,null,null,null,0,null,null,null,0,null,null,null,0,null,null,null,0,null,null,null,0,null,null,null,0,null,null,null,0,null,null,null,0,null,null,null,0,null,null,null,0,null,null,null,0,null,null,null,0,null,null,null,0,null,null,null,0,null,null,null,0,null,null,null,0,null,null,null,0,null,null,null,0,null,null,null,0,null,null,null,0,null,null,null,0,null,null,null,0,null,null,null,0,null,null,null,0,null,null,null,0,null,null,null,0,null,null,null,0,null,null,null,0,null,null,null,0,null,null,null,0,null,null,null,0,null,null,null,0,null,null,null,0,null,null,null,0,null,null,null,0,null,null,null,0,null,null,null,0,null,null,null,0,null,null,null,0,null,null,null,0,null,null,null,0,null,null,null,0,null,null,null,0,null,null,null,0,null,null,null,0,null,null,null,0,null,null,null,0,null,null,null,0,null,null,null,0,null,null,null,0,null,null,null,0,null,null,null,0,null,null,null,0,null,null,null,0,null,null,null,0,null,null,null,0,null,null,null,0,null,null,null,0,null,null,null,0,null,null,null,0,null,null,null,0,null,null,null,0,null,null,null,0,null,null,null,0,null,null,null,0,null,null,null,0,null,null,null,0,null,null,null,0,null,null,null,0,null,null,null,0,null,null,null,0,null,null,null,0,null,null,null,0,null,null,null,0,null,null,null,0,null,null,null,0,null,null,null,0,null,null,null,0,null,null,null,0,null,null,null,0,null,null,null,0,null,null,null,0,null,null,null,0,null,null,null,0,null,null,null,0,null,null,null,0,null,null,null,0,null,null,null,0,null,null,null,0,null,null,null,0,null,null,null,0,null,null,null,0,null,null,null,0,null,null,null,0,null,null,null,0,null,null,null,0,null,null,null,0,null,null,null,0,null,null,null,0,null,null,null,0,null,null,null,0,null,null,null,0,null,null,null,0,null,null,null,0,null,null,null,0,null,null,null,0,null,null,null,0,null,null,null,0,null,null,null,0,null,null,null,0,null,null,null,0,null,null,null,0,null,null,null,0,null,null,null,0,null,null,null,0,null,null,null,0,null,null,null,0,null,null,null,0,null,null,null,0,null,null,null,0,null,null,null,0,null,null,null,0,null,null,null,0,null,null,null,0,null,null,null,0,null,null,null,0,null,null,null,0,null,null,null,0,null,null,null,0,null,null,null,0,null,null,null,0,null,null,null,0,null,null,null,0,null,null,null,0,null,null,null,0,null,null,null,0,null,null,null,0,null,null,null,0,null,null,null,0,null,null,null,0,null,null,null,0,null,null,null,0,null,null,null,0,null,null,null,0,null,null,null,0,null,null,null,0,null,null,null,0,null,null,null,0,null,null,null,0,null,null,null,0,null,null,null,0,null,null,null,0,null,null,null,0,null,null,null,0,null,null,null,0,null,null,null,0,null,null,null,0,null,null,null,0,null,null,null,0,null,null,null,0,null,null,null,0,null,null,null,0,null,null,null,0,null,null,null,0,null,null,null,0,null,null,null,0,null,null,null,0,null,null,null,0,null,null,null,0,null,null,null,0,null,null,null,0,null,null,null,0,null,null,null,0,null,null,null,0,null,null,null,0,null,null,null,0,null,null,null,0,null,null,null,0,null,null,null,0,null,null,null,0,null,null,null,0,null,null,null,0,null,null,null,0,null,null,null,0,null,null,null,0,null,null,null,0,null,null,null,0,null,null,null,0,null,null,null,0,null,null,null,0,null,null,null,0,null,null,null,0,null,null,null,0,null,null,null,0,null,null,null,0,null,null,null,0,null,null,null,0,null,null,null,0,null,null,null,0,null,null,null,0,null,null,null,0,null,null,null,0,null,null,null,0,null,null,null,0,null,null,null,0,null,null,null,0,null,null,null,0,null,null,null,0,null,null,null,0,null,null,null,0,null,null,null,0,null,null,null,0,null,null,null,0,null,null,null,0,null,null,null,0,null,null,null,0,null,null,null,0,null,null,null,0,null,null,null,0,null,null,null,0,null,null,null,0,null,null,null,0,null,null,null,0,null,null,null,0,null,null,null,0,null,null,null,0,null,null,null,0,null,null,null,0,null,null,null,0,null,null,null,0,null,null,null,0,null,null,null,0,null,null,null,0,null,null,null,0,null,null,null,0,null,null,null,0,null,null,null,0,null,null,null,0,null,null,null,0,null,null,null,0,null,null,null,0,null,null,null,0,null,null,null,0,null,null,null,0,null,null,null,0,null,null,null,0,null,null,null,0,null,null,null,0,null,null,null,0,null,null,null,0,null,null,null,0,null,null,null,0,null,null,null,0,null,null,null,0,null,null,null,0,null,null,null,0,null,null,null,0,null,null,null,0,null,null,null,0,null,null,null,0,null,null,null,0,null,null,null,0,null,null,null,0,null,null,null,0,null,null,null,0,null,null,null,0,null,null,null,0,null,null,null,0,null,null,null,0,null,null,null,0,null,null,null,0,null,null,null,0,null,null,null,0,null,null,null,0,null,null,null,0,null,null,null,0,null,null,null,0,null,null,null,0,null,null,null,0,null,null,null,0,null,null,null,0,null,null,null,0,null,null,null,0,null,null,null,0,null,null,null,0,null,null,null,0,null,null,null,0,null,null,null,0,null,null,null,0,null,null,null,0,null,null,null,0,null,null,null,0,null,null,null,0,null,null,null,0,null,null,null,0,null,null,null,0,null,null,null,0,null,null,null,0,null,null,null,0,null,null,null,0,null,null,null,0,null,null,null,0,null,null,null,0,null,null,null,0,null,null,null,0,null,null,null,0,null,null,null,0,null,null,null,0,null,null,null,0,null,null,null,0,null,null,null,0,null,null,null,0,null,null,null,0,null,null,null,0,null,null,null,0,null,null,null,0,null,null,null,0,null,null,null,0,null,null,null,0,null,null,null,0,null,null,null,0,null,null,null,0,null,null,null,0,null,null,null,0,null,null,null,0,null,null,null,0,null,null,null,0,null,null,null,0,null,null,null,0,null,null,null,0,null,null,null,0,null,null,null,0,null,null,null,0,null,null,null,0,null,null,null,0,null,null,null,0,null,null,null,0,null,null,null,0,null,null,null,0,null,null,null,0,null,null,null,0,null,null,null,0,null,null,null,0,null,null,null,0,null,null,null,0,null,null,null,0,null,null,null,0,null,null,null,0,null,null,null,0,null,null,null,0,null,null,null,0,null,null,null,0,null,null,null,0,null,null,null,0,null,null,null,0,null,null,null,0,null,null,null,0,null,null,null,0,null,null,null,0,null,null,null,0,null,null,null,0,null,null,null,0,null,null,null,0,null,null,null,0,null,null,null,0,null,null,null,0,null,null,null,0,null,null,null,0,null,null,null,0,null,null,null,0,null,null,null,0,null,null,null,0,null,null,null,0,null,null,null,0,null,null,null,0,null,null,null,0,null,null,null,0,null,null,null,0,null,null,null,0,null,null,null,0,null,null,null,0,null,null,null,0,null,null,null,0,null,null,null,0,null,null,null,0,null,null,null,0,null,null,null,0,null,null,null,0,null,null,null,0,null,null,null,0,null,null,null,0,null,null,null,0,null,null,null,0,null,null,null,0,null,null,null,0,null,null,null,0,null,null,null,0,null,null,null,0,null,null,null,0,null,null,null,0,null,null,null,0,null,null,null,0,null,null,null,0,null,null,null,0,null,null,null,0,null,null,null,0,null,null,null,0,null,null,null,0,null,null,null,0,null,null,null,0,null,null,null,0,null,null,null,0,null,null,null,0,null,null,null,0,null,null,null,0,null,null,null,0,null,null,null,0,null,null,null,0,null,null,null,0,null,null,null,0,null,null,null,0,null,null,null,0,null,null,null,0,null,null,null,0,null,null,null,0,null,null,null,0,null,null,null,0,null,null,null,0,null,null,null,0,null,null,null,0,null,null,null,0,null,null,null,0,null,null,null,0,null,null,null,0,null,null,null,0,null,null,null,0,null,null,null,0,null,null,null,0,null,null,null,0,null,null,null,0,null,null,null,0,null,null,null,0,null,null,null,0,null,null,null,0,null,null,null,0,null,null,null,0,null,null,null,0,null,null,null,0,null,null,null,0,null,null,null,0,null,null,null,0,null,null,null,0,null,null,null,0,null,null,null,0,null,null,null,0,null,null,null,0,null,null,null,0,null,null,null,0,null,null,null,0,null,null,null,0,null,null,null,0,null,null,null,0,null,null,null,0,null,null,null,0,null,null,null,0,null,null,null,0,null,null,null,0,null,null,null,0,null,null,null,0,null,null,null,0,null,null,null,0,null,null,null,0,null,null,null,0,null,null,null,0,null,null,null,0,null,null,null,0,null,null,null,0,null,null,null,0,null,null,null,0,null,null,null,0,null,null,null,0,null,null,null,0,null,null,null,0,null,null,null,0,null,null,null,0,null,null,null,0,null,null,null,0,null,null,null,0,null,null,null,0,null,null,null,0,null,null,null,0,null,null,null,0,null,null,null,0,null,null,null,0,null,null,null,0,null,null,null,0,null,null,null,0,null,null,null,0,null,null,null,0,null,null,null,0,null,null,null,0,null,null,null,0,null,null,null,0,null,null,null,0,null,null,null,0,null,null,null,0,null,null,null,0,null,null,null,0,null,null,null,0,null,null,null,0,null,null,null,0,null,null,null,0,null,null,null,0,null,null,null,0,null,null,null,0,null,null,null,0,null,null,null,0,null,null,null,0,null,null,null,0,null,null,null,0,null,null,null,0,null,null,null,0,null,null,null,0,null,null,null,0,null,null,null,0,null,null,null,0,null,null,null,0,null,null,null,0,null,null,null,0,null,null,null,0,null,null,null,0,null,null,null,0,null,null,null,0,null,null,null,0,null,null,null,0,null,null,null,0,null,null,null,0,null,null,null,0,null,null,null,0,null,null,null,0,null,null,null,0,null,null,null,0,null,null,null,0,null,null,null,0,null,null,null,0,null,null,null,0,null,null,null,0,null,null,null,0,null,null,null,0,null,null,null,0,null,null,null,0,null,null,null,0,null,null,null,0,null,null,null,0,null,null,null,0,null,null,null,0,null,null,null,0,null,null,null,0,null,null,null,0,null,null,null,0,null,null,null,0,null,null,null,0,null,null,null,0,null,null,null,0,null,null,null,0,null,null,null,0,null,null,null,0,null,null,null,0,null,null,null,0,null,null,null,0,null,null,null,0,null,null,null,0,null,null,null,0,null,null,null,0,null,null,null,0,null,null,null,0,null,null,null,0,null,null,null,0,null,null,null,0,null,null,null,0,null,null,null,0,null,null,null,0,null,null,null,0,null,null,null,0,null,null,null,0,null,null,null,0,null,null,null,0,null,null,null,0,null,null,null,0,null,null,null,0,null,null,null,0,null,null,null,0,null,null,null,0,null,null,null,0,null,null,null,0,null,null,null,0,null,null,null,0,null,null,null,0,null,null,null,0,null,null,null,0,null,null,null,0,null,null,null,0,null,null,null,0,null,null,null,0,null,null,null,0,null,null,null,0,null,null,null,0,null,null,null,0,null,null,null,0,null,null,null,0,null,null,null,0,null,null,null,0,null,null,null,0,null,null,null,0,null,null,null,0,null,null,null,0,null,null,null,0,null,null,null,0,null,null,null,0,null,null,null,0,null,null,null,0,null,null,null,0,null,null,null,0,null,null,null,0,null,null,null,0,null,null,null,0,null,null,null,0,null,null,null,0,null,null,null,0,null,null,null,0,null,null,null,0,null,null,null,0,null,null,null,0,null,null,null,0,null,null,null,0,null,null,null,0,null,null,null,0,null,null,null,0,null,null,null,0,null,null,null,0,null,null,null,0,null,null,null,0,null,null,null,0,null,null,null,0,null,null,null,0,null,null,null,0,null,null,null,0,null,null,null,0,null,null,null,0,null,null,null,0,null,null,null,0,null,null,null,0,null,null,null,0,null,null,null,0,null,null,null,0,null,null,null,0,null,null,null,0,null,null,null,0,null,null,null,0,null,null,null,0,null,null,null,0,null,null,null,0,null,null,null,0,null,null,null,0,null,null,null,0,null,null,null,0,null,null,null,0,null,null,null,0,null,null,null,0,null,null,null,0,null,null,null,0,null,null,null,0,null,null,null,0,null,null,null,0,null,null,null,0,null,null,null,0,null,null,null,0,null,null,null,0,null,null,null,0,null,null,null,0,null,null,null,0,null,null,null,0,null,null,null,0,null,null,null,0,null,null,null,0,null,null,null,0,null,null,null,0,null,null,null,0,null,null,null,0,null,null,null,0,null,null,null,0,null,null,null,0,null,null,null,0,null,null,null,0,null,null,null,0,null,null,null,0,null,null,null,0,null,null,null,0,null,null,null,0,null,null,null,0,null,null,null,0,null,null,null,0,null,null,null,0,null,null,null,0,null,null,null,0,null,null,null,0,null,null,null,0,null,null,null,0,null,null,null,0,null,null,null,0,null,null,null,0,null,null,null,0,null,null,null,0,null,null,null,0,null,null,null,0,null,null,null,0,null,null,null,0,null,null,null,0,null,null,null,0,null,null,null,0,null,null,null,0,null,null,null,0,null,null,null,0,null,null,null,0,null,null,null,0,null,null,null,0,null,null,null,0,null,null,null,0,null,null,null,0,null,null,null,0,null,null,null,0,null,null,null,0,null,null,null,0,null,null,null,0,null,null,null,0,null,null,null,0,null,null,null,0,null,null,null,0,null,null,null,0,null,null,null,0,null,null,null,0,null,null,null,0,null,null,null,0,null,null,null,0,null,null,null,0,null,null,null,0,null,null,null,0,null,null,null,0,null,null,null,0,null,null,null,0,null,null,null,0,null,null,null,0,null,null,null,0,null,null,null,0,null,null,null,0,null,null,null,0,null,null,null,0,null,null,null,0,null,null,null,0,null,null,null,0,null,null,null,0,null,null,null,0,null,null,null,0,null,null,null,0,null,null,null,0,null,null,null,0,null,null,null,0,null,null,null,0,null,null,null,0,null,null,null,0,null,null,null,0,null,null,null,0,null,null,null,0,null,null,null,0,null,null,null,0,null,null,null,0,null,null,null,0,null,null,null,0,null,null,null,0,null,null,null,0,null,null,null,0,null,null,null,0,null,null,null,0,null,null,null,0,null,null,null,0,null,null,null,0,null,null,null,0,null,null,null,0,null,null,null,0,null,null,null,0,null,null,null,0,null,null,null,0,null,null,null,0,null,null,null,0,null,null,null,0,null,null,null,0,null,null,null,0,null,null,null,0,null,null,null,0,null,null,null,0,null,null,null,0,null,null,null,0,null,null,null,0,null,null,null,0,null,null,null,0,null,null,null,0,null,null,null,0,null,null,null,0,null,null,null,0,null,null,null,0,null,null,null,0,null,null,null,0,null,null,null,0,null,null,null,0,null,null,null,0,null,null,null,0,null,null,null,0,null,null,null,0,null,null,null,0,null,null,null,0,null,null,null,0,null,null,null,0,null,null,null,0,null,null,null,0,null,null,null,0,null,null,null,0,null,null,null,0,null,null,null,0,null,null,null,0,null,null,null,0,null,null,null,0,null,null,null,0,null,null,null,0,null,null,null,0,null,null,null,0,null,null,null,0,null,null,null,0,null,null,null,0,null,null,null,0,null,null,null,0,null,null,null,0,null,null,null,0,null,null,null,0,null,null,null,0,null,null,null,0,null,null,null,0,null,null,null,0,null,null,null,0,null,null,null,0,null,null,null,0,null,null,null,0,null,null,null,0,null,null,null,0,null,null,null,0,null,null,null,0,null,null,null,0,null,null,null,0,null,null,null,0,null,null,null,0,null,null,null,0,null,null,null,0,null,null,null,0,null,null,null,0,null,null,null,0,null,null,null,0,null,null,null,0,null,null,null,0,null,null,null,0,null,null,null,0,null,null,null,0,null,null,null,0,null,null,null,0,null,null,null,0,null,null,null,0,null,null,null,0,null,null,null,0,null,null,null,0,null,null,null,0,null,null,null,0,null,null,null,0,null,null,null,0,null,null,null,0,null,null,null,0,null,null,null,0,null,null,null,0,null,null,null,0,null,null,null,0,null,null,null,0,null,null,null,0,null,null,null,0,null,null,null,0,null,null,null,0,null,null,null,0,null,null,null,0,null,null,null,0,null,null,null,0,null,null,null,0,null,null,null,0,null,null,null,0,null,null,null,0,null,null,null,0,null,null,null,0,null,null,null,0,null,null,null,0,null,null,null,0,null,null,null,0,null,null,null,0,null,null,null,0,null,null,null,0,null,null,null,0,null,null,null,0,null,null,null,0,null,null,null,0,null,null,null,0,null,null,null,0,null,null,null,0,null,null,null,0,null,null,null,0,null,null,null,0,null,null,null,0,null,null,null,0,null,null,null,0,null,null,null,0,null,null,null,0,null,null,null,0,null,null,null,0,null,null,null,0,null,null,null,0,null,null,null,0,null,null,null,0,null,null,null,0,null,null,null,0,null,null,null,0,null,null,null,0,null,null,null,0,null,null,null,0,null,null,null,0,null,null,null,0,null,null,null,0,null,null,null,0,null,null,null,0,null,null,null,0,null,null,null,0,null,null,null,0,null,null,null,0,null,null,null,0,null,null,null,0,null,null,null,0,null,null,null,0,null,null,null,0,null,null,null,0,null,null,null,0,null,null,null,0,null,null,null,0,null,null,null,0,null,null,null,0,null,null,null,0,null,null,null,0,null,null,null,0,null,null,null,0,null,null,null,0,null,null,null,0,null,null,null,0,null,null,null,0,null,null,null,0,null,null,null,0,null,null,null,0,null,null,null,0,null,null,null,0,null,null,null,0,null,null,null,0,null,null,null,0,null,null,null,0,null,null,null,0,null,null,null,0,null,null,null,0,null,null,null,0,null,null,null,0,null,null,null,0,null,null,null,0,null,null,null,0,null,null,null,0,null,null,null,0,null,null,null,0,null,null,null,0,null,null,null,0,null,null,null,0,null,null,null,0,null,null,null,0,null,null,null,0,null,null,null,0,null,null,null,0,null,null,null,0,null,null,null,0,null,null,null,0,null,null,null,0,null,null,null,0,null,null,null,0,null,null,null,0,null,null,null,0,null,null,null,0,null,null,null,0,null,null,null,0,null,null,null,0,null,null,null,0,null,null,null,0,null,null,null,0,null,null,null,0,null,null,null,0,null,null,null,0,null,null,null,0,null,null,null,0,null,null,null,0,null,null,null,0,null,null,null,0,null,null,null,0,null,null,null,0,null,null,null,0,null,null,null,0,null,null,null,0,null,null,null,0,null,null,null,0,null,null,null,0,null,null,null,0,null,null,null,0,null,null,null,0,null,null,null,0,null,null,null,0,null,null,null,0,null,null,null,0,null,null,null,0,null,null,null,0,null,null,null,0,null,null,null,0,null,null,null,0,null,null,null,0,null,null,null,0,null,null,null,0,null,null,null,0,null,null,null,0,null,null,null,0,null,null,null,0,null,null,null,0,null,null,null,0,null,null,null,0,null,null,null,0,null,null,null,0,null,null,null,0,null,null,null,0,null,null,null,0,null,null,null,0,null,null,null,0,null,null,null,0,null,null,null,0,null,null,null,0,null,null,null,0,null,null,null,0,null,null,null,0,null,null,null,0,null,null,null,0,null,null,null,0,null,null,null,0,null,null,null,0,null,null,null,0,null,null,null,0,null,null,null,0,null,null,null,0,null,null,null,0,null,null,null,0,null,null,null,0,null,null,null,0,null,null,null,0,null,null,null,0,null,null,null,0,null,null,null,0,null,null,null,0,null,null,null,0,null,null,null,0,null,null,null,0,null,null,null,0,null,null,null,0,null,null,null,0,null,null,null,0,null,null,null,0,null,null,null,0,null,null,null,0,null,null,null,0,null,null,null,0,null,null,null,0,null,null,null,0,null,null,null,0,null,null,null,0,null,null,null,0,null,null,null,0,null,null,null,0,null,null,null,0,null,null,null,0,null,null,null,0,null,null,null,0,null,null,null,0,null,null,null,0,null,null,null,0,null,null,null,0,null,null,null,0,null,null,null,0,null,null,null,0,null,null,null,0,null,null,null,0,null,null,null,0,null,null,null,0,null,null,null,0,null,null,null,0,null,null,null,0,null,null,null,0,null,null,null,0,null,null,null,0,null,null,null,0,null,null,null,0,null,null,null,0,null,null,null,0,null,null,null,0,null,null,null,0,null,null,null,0,null,null,null,0,null,null,null,0,null,null,null,0,null,null,null,0,null,null,null,0,null,null,null,0,null,null,null,0,null,null,null,0,null,null,null,0,null,null,null,0,null,null,null,0,null,null,null,0,null,null,null,0,null,null,null,0,null,null,null,0,null,null,null,0,null,null,null,0,null,null,null,0,null,null,null,0,null,null,null,0,null,null,null,0,null,null,null,0,null,null,null,0,null,null,null,0,null,null,null,0,null,null,null,0,null,null,null,0,null,null,null,0,null,null,null,0,null,null,null,0,null,null,null,0,null,null,null,0,null,null,null,0,null,null,null,0,null,null,null,0,null,null,null,0,null,null,null,0,null,null,null,0,null,null,null,0,null,null,null,0,null,null,null,0,null,null,null,0,null,null,null,0,null,null,null,0,null,null,null,0,null,null,null,0,null,null,null,0,null,null,null,0,null,null,null,0,null,null,null,0,null,null,null,0,null,null,null,0,null,null,null,0,null,null,null,0,null,null,null,0,null,null,null,0,null,null,null,0,null,null,null,0,null,null,null,0,null,null,null,0,null,null,null,0,null,null,null,0,null,null,null,0,null,null,null,0,null,null,null,0,null,null,null,0,null,null,null,0,null,null,null,0,null,null,null,0,null,null,null,0,null,null,null,0,null,null,null,0,null,null,null,0,null,null,null,0,null,null,null,0,null,null,null,0,null,null,null,0,null,null,null,0,null,null,null,0,null,null,null,0,null,null,null,0,null,null,null,0,null,null,null,0,null,null,null,0,null,null,null,0,null,null,null,0,null,null,null,0,null,null,null,0,null,null,null,0,null,null,null,0,null,null,null,0,null,null,null,0,null,null,null,0,null,null,null,0,null,null,null,0,null,null,null,0,null,null,null,0,null,null,null,0,null,null,null,0,null,null,null,0,null,null,null,0,null,null,null,0,null,null,null,0,null,null,null,0,null,null,null,0,null,null,null,0,null,null,null,0,null,null,null,0,null,null,null,0,null,null,null,0,null,null,null,0,null,null,null,0,null,null,null,0,null,null,null,0,null,null,null,0,null,null,null,0,null,null,null,0,null,null,null,0,null,null,null,0,null,null,null,0,null,null,null,0,null,null,null,0,null,null,null,0,null,null,null,0,null,null,null,0,null,null,null,0,null,null,null,0,null,null,null,0,null,null,null,0,null,null,null,0,null,null,null,0,null,null,null,0,null,null,null,0,null,null,null,0,null,null,null,0,null,null,null,0,null,null,null,0,null,null,null,0,null,null,null,0,null,null,null,0,null,null,null,0,null,null,null,0,null,null,null,0,null,null,null,0,null,null,null,0,null,null,null,0,null,null,null,0,null,null,null,0,null,null,null,0,null,null,null,0,null,null,null,0,null,null,null,0,null,null,null,0,null,null,null,0,null,null,null,0,null,null,null,0,null,null,null,0,null,null,null,0,null,null,null,0,null,null,null,0,null,null,null,0,null,null,null,0,null,null,null,0,null,null,null,0,null,null,null,0,null,null,null,0,null,null,null,0,null,null,null,0,null,null,null,0,null,null,null,0,null,null,null,0,null,null,null,0,null,null,null,0,null,null,null,0,null,null,null,0,null,null,null,0,null,null,null,0,null,null,null,0,null,null,null,0,null,null,null,0,null,null,null,0,null,null,null,0,null,null,null,0,null,null,null,0,null,null,null,0,null,null,null,0,null,null,null,0,null,null,null,0,null,null,null,0,null,null,null,0,null,null,null,0,null,null,null,0,null,null,null,0,null,null,null,0,null,null,null,0,null,null,null,0,null,null,null,0,null,null,null,0,null,null,null,0,null,null,null,0,null,null,null,0,null,null,null,0,null,null,null,0,null,null,null,0,null,null,null,0,null,null,null,0,null,null,null,0,null,null,null,0,null,null,null,0,null,null,null,0,null,null,null,0,null,null,null,0,null,null,null,0,null,null,null,0,null,null,null,0,null,null,null,0,null,null,null,0,null,null,null,0,null,null,null,0,null,null,null,0,null,null,null,0,null,null,null,0,null,null,null,0,null,null,null,0,null,null,null,0,null,null,null,0,null,null,null,0,null,null,null,0,null,null,null,0,null,null,null,0,null,null,null,0,null,null,null,0,null,null,null,0,null,null,null,0,null,null,null,0,null,null,null,0,null,null,null,0,null,null,null,0,null,null,null,0,null,null,null,0,null,null,null,0,null,null,null,0,null,null,null,0,null,null,null,0,null,null,null,0,null,null,null,0,null,null,null,0,null,null,null,0,null,null,null,0,null,null,null,0,null,null,null,0,null,null,null,0,null,null,null,0,null,null,null,0,null,null,null,0,null,null,null,0,null,null,null,0,null,null,null,0,null,null,null,0,null,null,null,0,null,null,null,0,null,null,null,0,null,null,null,0,null,null,null,0,null,null,null,0,null,null,null,0,null,null,null,0,null,null,null,0,null,null,null,0,null,null,null,0,null,null,null,0,null,null,null,0,null,null,null,0,null,null,null,0,null,null,null,0,null,null,null,0,null,null,null,0,null,null,null,0,null,null,null,0,null,null,null,0,null,null,null,0,null,null,null,0,null,null,null,0,null,null,null,0,null,null,null,0,null,null,null,0,null,null,null,0,null,null,null,0,null,null,null,0,null,null,null,0,null,null,null,0,null,null,null,0,null,null,null,0,null,null,null,0,null,null,null,0,null,null,null,0,null,null,null,0,null,null,null,0,null,null,null,0,null,null,null,0,null,null,null,0,null,null,null,0,null,null,null,0,null,null,null,0,null,null,null,0,null,null,null,0,null,null,null,0,null,null,null,0,null,null,null,0,null,null,null,0,null,null,null,0,null,null,null,0,null,null,null,0,null,null,null,0,null,null,null,0,null,null,null,0,null,null,null,0,null,null,null,0,null,null,null,0,null,null,null,0,null,null,null,0,null,null,null,0,null,null,null,0,null,null,null,0,null,null,null,0,null,null,null,0,null,null,null,0,null,null,null,0,null,null,null,0,null,null,null,0,null,null,null,0,null,null,null,0,null,null,null,0,null,null,null,0,null,null,null,0,null,null,null,0,null,null,null,0,null,null,null,0,null,null,null,0,null,null,null,0,null,null,null,0,null,null,null,0,null,null,null,0,null,null,null,0,null,null,null,0,null,null,null,0,null,null,null,0,null,null,null,0,null,null,null,0,null,null,null,0,null,null,null,0,null,null,null,0,null,null,null,0,null,null,null,0,null,null,null,0,null,null,null,0,null,null,null,0,null,null,null,0,null,null,null,0,null,null,null,0,null,null,null,0,null,null,null,0,null,null,null,0,null,null,null,0,null,null,null,0,null,null,null,0,null,null,null,0,null,null,null,0,null,null,null,0,null,null,null,0,null,null,null,0,null,null,null,0,null,null,null,0,null,null,null,0,null,null,null,0,null,null,null,0,null,null,null,0,null,null,null,0,null,null,null,0,null,null,null,0,null,null,null,0,null,null,null,0,null,null,null,0,null,null,null,0,null,null,null,0,null,null,null,0,null,null,null,0,null,null,null,0,null,null,null,0,null,null,null,0,null,null,null,0,null,null,null,0,null,null,null,0,null,null,null,0,null,null,null,0,null,null,null,0,null,null,null,0,null,null,null,0,null,null,null,0,null,null,null,0,null,null,null,0,null,null,null,0,null,null,null,0,null,null,null,0,null,null,null,0,null,null,null,0,null,null,null,0,null,null,null,0,null,null,null,0,null,null,null,0,null,null,null,0,null,null,null,0,null,null,null,0,null,null,null,0,null,null,null,0,null,null,null,0,null,null,null,0,null,null,null,0,null,null,null,0,null,null,null,0,null,null,null,0,null,null,null,0,null,null,null,0,null,null,null,0,null,null,null,0,null,null,null,0,null,null,null,0,null,null,null,0,null,null,null,0,null,null,null,0,null,null,null,0,null,null,null,0,null,null,null,0,null,null,null,0,null,null,null,0,null,null,null,0,null,null,null,0,null,null,null,0,null,null,null,0,null,null,null,0,null,null,null,0,null,null,null,0,null,null,null,0,null,null,null,0,null,null,null,0,null,null,null,0,null,null,null,0,null,null,null,0,null,null,null,0,null,null,null,0,null,null,null,0,null,null,null,0,null,null,null,0,null,null,null,0,null,null,null,0,null,null,null,0,null,null,null,0,null,null,null,0,null,null,null,0,null,null,null,0,null,null,null,0,null,null,null,0,null,null,null,0,null,null,null,0,null,null,null,0,null,null,null,0,null,null,null,0,null,null,null,0,null,null,null,0,null,null,null,0,null,null,null,0,null,null,null,0,null,null,null,0,null,null,null,0,null,null,null,0,null,null,null,0,null,null,null,0,null,null,null,0,null,null,null,0,null,null,null,0,null,null,null,0,null,null,null,0,null,null,null,0,null,null,null,0,null,null,null,0,null,null,null,0,null,null,null,0,null,null,null,0,null,null,null,0,null,null,null,0,null,null,null,0,null,null,null,0,null,null,null,0,null,null,null,0,null,null,null,0,null,null,null,0,null,null,null,0,null,null,null,0,null,null,null,0,null,null,null,0,null,null,null,0,null,null,null,0,null,null,null,0,null,null,null,0,null,null,null,0,null,null,null,0,null,null,null,0,null,null,null,0,null,null,null,0,null,null,null,0,null,null,null,0,null,null,null,0,null,null,null,0,null,null,null,0,null,null,null,0,null,null,null,0,null,null,null,0,null,null,null,0,null,null,null,0,null,null,null,0,null,null,null,0,null,null,null,0,null,null,null,0,null,null,null,0,null,null,null,0,null,null,null,0,null,null,null,0,null,null,null,0,null,null,null,0,null,null,null,0,null,null,null,0,null,null,null,0,null,null,null,0,null,null,null,0,null,null,null,0,null,null,null,0,null,null,null,0,null,null,null,0,null,null,null,0,null,null,null,0,null,null,null,0,null,null,null,0,null,null,null,0,null,null,null,0,null,null,null,0,null,null,null,0,null,null,null,0,null,null,null,0,null,null,null,0,null,null,null,0,null,null,null,0,null,null,null,0,null,null,null,0,null,null,null,0,null,null,null,0,null,null,null,0,null,null,null,0,null,null,null,0,null,null,null,0,null,null,null,0,null,null,null,0,null,null,null,0,null,null,null,0,null,null,null,0,null,null,null,0,null,null,null,0,null,null,null,0,null,null,null,0,null,null,null,0,null,null,null,0,null,null,null,0,null,null,null,0,null,null,null,0,null,null,null,0,null,null,null,0,null,null,null,0,null,null,null,0,null,null,null,0,null,null,null,0,null,null,null,0,null,null,null,0,null,null,null,0,null,null,null,0,null,null,null,0,null,null,null,0,null,null,null,0,null,null,null,0,null,null,null,0,null,null,null,0,null,null,null,0,null,null,null,0,null,null,null,0,null,null,null,0,null,null,null,0,null,null,null,0,null,null,null,0,null,null,null,0,null,null,null,0,null,null,null,0,null,null,null,0,null,null,null,0,null,null,null,0,null,null,null,0,null,null,null,0,null,null,null,0,null,null,null,0,null,null,null,0,null,null,null,0,null,null,null,0,null,null,null,0,null,null,null,0,null,null,null,0,null,null,null,0,null,null,null,0,null,null,null,0,null,null,null,0,null,null,null,0,null,null,null,0,null,null,null,0,null,null,null,0,null,null,null,0,null,null,null,0,null,null,null,0,null,null,null,0,null,null,null,0,null,null,null,0,null,null,null,0,null,null,null,0,null,null,null,0,null,null,null,0,null,null,null,0,null,null,null,0,null,null,null,0,null,null,null,0,null,null,null,0,null,null,null,0,null,null,null,0,null,null,null,0,null,null,null,0,null,null,null,0,null,null,null,0,null,null,null,0,null,null,null,0,null,null,null,0,null,null,null,0,null,null,null,0,null,null,null,0,null,null,null,0,null,null,null,0,null,null,null,0,null,null,null,0,null,null,null,0,null,null,null,0,null,null,null,0,null,null,null,0,null,null,null,0,null,null,null,0,null,null,null,0,null,null,null,0,null,null,null,0,null,null,null,0,null,null,null,0,null,null,null,0,null,null,null,0,null,null,null,0,null,null,null,0,null,null,null,0,null,null,null,0,null,null,null,0,null,null,null,0,null,null,null,0,null,null,null,0,null,null,null,0,null,null,null,0,null,null,null,0,null,null,null,0,null,null,null,0,null,null,null,0,null,null,null,0,null,null,null,0,null,null,null,0,null,null,null,0,null,null,null,0,null,null,null,0,null,null,null,0,null,null,null,0,null,null,null,0,null,null,null,0,null,null,null,0,null,null,null,0,null,null,null,0,null,null,null,0,null,null,null,0,null,null,null,0,null,null,null,0,null,null,null,0,null,null,null,0,null,null,null,0,null,null,null,0,null,null,null,0,null,null,null,0,null,null,null,0,null,null,null,0,null,null,null,0,null,null,null,0,null,null,null,0,null,null,null,0,null,null,null,0,null,null,null,0,null,null,null,0,null,null,null,0,null,null,null,0,null,null,null,0,null,null,null,0,null,null,null,0,null,null,null,0,null,null,null,0,null,null,null,0,null,null,null,0,null,null,null,0,null,null,null,0,null,null,null,0,null,null,null,0,null,null,null,0,null,null,null,0,null,null,null,0,null,null,null,0,null,null,null,0,null,null,null,0,null,null,null,0,null,null,null,0,null,null,null,0,null,null,null,0,null,null,null,0,null,null,null,0,null,null,null,0,null,null,null,0,null,null,null,0,null,null,null,0,null,null,null,0,null,null,null,0,null,null,null,0,null,null,null,0,null,null,null,0,null,null,null,0,null,null,null,0,null,null,null,0,null,null,null,0,null,null,null,0,null,null,null,0,null,null,null,0,null,null,null,0,null,null,null,0,null,null,null,0,null,null,null,0,null,null,null,0,null,null,null,0,null,null,null,0,null,null,null,0,null,null,null,0,null,null,null,0,null,null,null,0,null,null,null,0,null,null,null,0,null,null,null,0,null,null,null,0,null,null,null,0,null,null,null,0,null,null,null,0,null,null,null,0,null,null,null,0,null,null,null,0,null,null,null,0,null,null,null,0,null,null,null,0,null,null,null,0,null,null,null,0,null,null,null,0,null,null,null,0,null,null,null,0,null,null,null,0,null,null,null,0,null,null,null,0,null,null,null,0,null,null,null,0,null,null,null,0,null,null,null,0,null,null,null,0,null,null,null,0,null,null,null,0,null,null,null,0,null,null,null,0,null,null,null,0,null,null,null,0,null,null,null,0,null,null,null,0,null,null,null,0,null,null,null,0,null,null,null,0,null,null,null,0,null,null,null,0,null,null,null,0,null,null,null,0,null,null,null,0,null,null,null,0,null,null,null,0,null,null,null,0,null,null,null,0,null,null,null,0,null,null,null,0,null,null,null,0,null,null,null,0,null,null,null,0,null,null,null,0,null,null,null,0,null,null,null,0,null,null,null,0,null,null,null,0,null,null,null,0,null,null,null,0,null,null,null,0,null,null,null,0,null,null,null,0,null,null,null,0,null,null,null,0,null,null,null,0,null,null,null,0,null,null,null,0,null,null,null,0,null,null,null,0,null,null,null,0,null,null,null,0,null,null,null,0,null,null,null,0,null,null,null,0,null,null,null,0,null,null,null,0,null,null,null,0,null,null,null,0,null,null,null,0,null,null,null,0,null,null,null,0,null,null,null,0,null,null,null,0,null,null,null,0,null,null,null,0,null,null,null,0,null,null,null,0,null,null,null,0,null,null,null,0,null,null,null,0,null,null,null,0,null,null,null,0,null,null,null,0,null,null,null,0,null,null,null,0,null,null,null,0,null,null,null,0,null,null,null,0,null,null,null,0,null,null,null,0,null,null,null,0,null,null,null,0,null,null,null,0,null,null,null,0,null,null,null,0,null,null,null,0,null,null,null,0,null,null,null,0,null,null,null,0,null,null,null,0,null,null,null,0,null,null,null,0,null,null,null,0,null,null,null,0,null,null,null,0,null,null,null,0,null,null,null,0,null,null,null,0,null,null,null,0,null,null,null,0,null,null,null,0,null,null,null,0,null,null,null,0,null,null,null,0,null,null,null,0,null,null,null,0,null,null,null,0,null,null,null,0,null,null,null,0,null,null,null,0,null,null,null,0,null,null,null,0,null,null,null,0,null,null,null,0,null,null,null,0,null,null,null,0,null,null,null,0,null,null,null,0,null,null,null,0,null,null,null,0,null,null,null,0,null,null,null,0,null,null,null,0,null,null,null,0,null,null,null,0,null,null,null,0,null,null,null,0,null,null,null,0,null,null,null,0,null,null,null,0,null,null,null,0,null,null,null,0,null,null,null,0,null,null,null,0,null,null,null,0,null,null,null,0,null,null,null,0,null,null,null,0,null,null,null,0,null,null,null,0,null,null,null,0,null,null,null,0,null,null,null,0,null,null,null,0,null,null,null,0,null,null,null,0,null,null,null,0,null,null,null,0,null,null,null,0,null,null,null,0,null,null,null,0,null,null,null,0,null,null,null,0,null,null,null,0,null,null,null,0,null,null,null,0,null,null,null,0,null,null,null,0,null,null,null,0,null,null,null,0,null,null,null,0,null,null,null,0,null,null,null,0,null,null,null,0,null,null,null,0,null,null,null,0,null,null,null,0,null,null,null,0,null,null,null,0,null,null,null,0,null,null,null,0,null,null,null,0,null,null,null,0,null,null,null,0,null,null,null,0,null,null,null,0,null,null,null,0,null,null,null,0,null,null,null,0,null,null,null,0,null,null,null,0,null,null,null,0,null,null,null,0,null,null,null,0,null,null,null,0,null,null,null,0,null,null,null,0,null,null,null,0,null,null,null,0,null,null,null,0,null,null,null,0,null,null,null,0,null,null,null,0,null,null,null,0,null,null,null,0,null,null,null,0,null,null,null,0,null,null,null,0,null,null,null,0,null,null,null,0,null,null,null,0,null,null,null,0,null,null,null,0,null,null,null,0,null,null,null,0,null,null,null,0,null,null,null,0,null,null,null,0,null,null,null,0,null,null,null,0,null,null,null,0,null,null,null,0,null,null,null,0,null,null,null,0,null,null,null,0,null,null,null,0,null,null,null,0,null,null,null,0,null,null,null,0,null,null,null,0,null,null,null,0,null,null,null,0,null,null,null,0,null,null,null,0,null,null,null,0,null,null,null,0,null,null,null,0,null,null,null,0,null,null,null,0,null,null,null,0,null,null,null,0,null,null,null,0,null,null,null,0,null,null,null,0,null,null,null,0,null,null,null,0,null,null,null,0,null,null,null,0,null,null,null,0,null,null,null,0,null,null,null,0,null,null,null,0,null,null,null,0,null,null,null,0,null,null,null,0,null,null,null,0,null,null,null,0,null,null,null,0,null,null,null,0,null,null,null,0,null,null,null,0,null,null,null,0,null,null,null,0,null,null,null,0,null,null,null,0,null,null,null,0,null,null,null,0,null,null,null,0,null,null,null,0,null,null,null,0,null,null,null,0,null,null,null,0,null,null,null,0,null,null,null,0,null,null,null,0,null,null,null,0,null,null,null,0,null,null,null,0,null,null,null,0,null,null,null,0,null,null,null,0,null,null,null,0,null,null,null,0,null,null,null,0,null,null,null,0,null,null,null,0,null,null,null,0,null,null,null,0,null,null,null,0,null,null,null,0,null,null,null,0,null,null,null,0,null,null,null,0,null,null,null,0,null,null,null,0,null,null,null,0,null,null,null,0,null,null,null,0,null,null,null,0,null,null,null,0,null,null,null,0,null,null,null,0,null,null,null,0,null,null,null,0,null,null,null,0,null,null,null,0,null,null,null,0,null,null,null,0,null,null,null,0,null,null,null,0,null,null,null,0,null,null,null,0,null,null,null,0,null,null,null,0,null,null,null,0,null,null,null,0,null,null,null,0,null,null,null,0,null,null,null,0,null,null,null,0,null,null,null,0,null,null,null,0,null,null,null,0,null,null,null,0,null,null,null,0,null,null,null,0,null,null,null,0,null,null,null,0,null,null,null,0,null,null,null,0,null,null,null,0,null,null,null,0,null,null,null,0,null,null,null,0,null,null,null,0,null,null,null,0,null,null,null,0,null,null,null,0,null,null,null,0,null,null,null,0,null,null,null,0,null,null,null,0,null,null,null,0,null,null,null,0,null,null,null,0]
[]
[]
["Section 1 - Room/Equipment",{"$f":"IF(COUNTIF(B13,\">=0\")+COUNTIF(B27,\">=0\")+COUNTIF(B41,\">=0\")>0,COUNTIF(B13,\">=0\")+COUNTIF(B27,\">=0\")+COUNTIF(B41,\">=0\"),\"\")","v":""},null,null,null,{"$f":"IF(COUNTIF(F13,\">=0\")+COUNTIF(F27,\">=0\")+COUNTIF(F41,\">=0\")>0,COUNTIF(F13,\">=0\")+COUNTIF(F27,\">=0\")+COUNTIF(F41,\">=0\"),\"\")","v":""},null,null,null,{"$f":"IF(COUNTIF(J13,\">=0\")+COUNTIF(J27,\">=0\")+COUNTIF(J41,\">=0\")>0,COUNTIF(J13,\">=0\")+COUNTIF(J27,\">=0\")+COUNTIF(J41,\">=0\"),\"\")","v":""},null,null,null,{"$f":"IF(COUNTIF(N13,\">=0\")+COUNTIF(N27,\">=0\")+COUNTIF(N41,\">=0\")>0,COUNTIF(N13,\">=0\")+COUNTIF(N27,\">=0\")+COUNTIF(N41,\">=0\"),\"\")","v":""},null,null,null,{"$f":"IF(COUNTIF(R13,\">=0\")+COUNTIF(R27,\">=0\")+COUNTIF(R41,\">=0\")>0,COUNTIF(R13,\">=0\")+COUNTIF(R27,\">=0\")+COUNTIF(R41,\">=0\"),\"\")","v":""},null,null,null,{"$f":"IF(COUNTIF(V13,\">=0\")+COUNTIF(V27,\">=0\")+COUNTIF(V41,\">=0\")>0,COUNTIF(V13,\">=0\")+COUNTIF(V27,\">=0\")+COUNTIF(V41,\">=0\"),\"\")","v":""},null,null,null,{"$f":"IF(COUNTIF(Z13,\">=0\")+COUNTIF(Z27,\">=0\")+COUNTIF(Z41,\">=0\")>0,COUNTIF(Z13,\">=0\")+COUNTIF(Z27,\">=0\")+COUNTIF(Z41,\">=0\"),\"\")","v":""}]
["Section 2 – Curriculum Adherence",{"$f":"IF(COUNTIF(B8,\">=0\")+COUNTIF(B22,\">=0\")+COUNTIF(B36,\">=0\")>0,COUNTIF(B8,\">=0\")+COUNTIF(B22,\">=0\")+COUNTIF(B36,\">=0\"),\"\")","v":""},null,null,null,{"$f":"IF(COUNTIF(F8,\">=0\")+COUNTIF(F22,\">=0\")+COUNTIF(F36,\">=0\")>0,COUNTIF(F8,\">=0\")+COUNTIF(F22,\">=0\")+COUNTIF(F36,\">=0\"),\"\")","v":""},null,null,null,{"$f":"IF(COUNTIF(J8,\">=0\")+COUNTIF(J22,\">=0\")+COUNTIF(J36,\">=0\")>0,COUNTIF(J8,\">=0\")+COUNTIF(J22,\">=0\")+COUNTIF(J36,\">=0\"),\"\")","v":""},null,null,null,{"$f":"IF(COUNTIF(N8,\">=0\")+COUNTIF(N22,\">=0\")+COUNTIF(N36,\">=0\")>0,COUNTIF(N8,\">=0\")+COUNTIF(N22,\">=0\")+COUNTIF(N36,\">=0\"),\"\")","v":""},null,null,null,{"$f":"IF(COUNTIF(R8,\">=0\")+COUNTIF(R22,\">=0\")+COUNTIF(R36,\">=0\")>0,COUNTIF(R8,\">=0\")+COUNTIF(R22,\">=0\")+COUNTIF(R36,\">=0\"),\"\")","v":""},null,null,null,{"$f":"IF(COUNTIF(V8,\">=0\")+COUNTIF(V22,\">=0\")+COUNTIF(V36,\">=0\")>0,COUNTIF(V8,\">=0\")+COUNTIF(V22,\">=0\")+COUNTIF(V36,\">=0\"),\"\")","v":""},null,null,null,{"$f":"IF(COUNTIF(Z8,\">=0\")+COUNTIF(Z22,\">=0\")+COUNTIF(Z36,\">=0\")>0,COUNTIF(Z8,\">=0\")+COUNTIF(Z22,\">=0\")+COUNTIF(Z36,\">=0\"),\"\")","v":""}]
["Section 3 - Parent Facilitator's Delivery",{"$f":"IF(COUNTIF(B9,\">=0\")+COUNTIF(B23,\">=0\")+COUNTIF(B37,\">=0\")>0,COUNTIF(B9,\">=0\")+COUNTIF(B23,\">=0\")+COUNTIF(B37,\">=0\"),\"\")","v":""},null,null,null,{"$f":"IF(COUNTIF(F9,\">=0\")+COUNTIF(F23,\">=0\")+COUNTIF(F37,\">=0\")>0,COUNTIF(F9,\">=0\")+COUNTIF(F23,\">=0\")+COUNTIF(F37,\">=0\"),\"\")","v":""},null,null,null,{"$f":"IF(COUNTIF(J9,\">=0\")+COUNTIF(J23,\">=0\")+COUNTIF(J37,\">=0\")>0,COUNTIF(J9,\">=0\")+COUNTIF(J23,\">=0\")+COUNTIF(J37,\">=0\"),\"\")","v":""},null,null,null,{"$f":"IF(COUNTIF(N9,\">=0\")+COUNTIF(N23,\">=0\")+COUNTIF(N37,\">=0\")>0,COUNTIF(N9,\">=0\")+COUNTIF(N23,\">=0\")+COUNTIF(N37,\">=0\"),\"\")","v":""},null,null,null,{"$f":"IF(COUNTIF(R9,\">=0\")+COUNTIF(R23,\">=0\")+COUNTIF(R37,\">=0\")>0,COUNTIF(R9,\">=0\")+COUNTIF(R23,\">=0\")+COUNTIF(R37,\">=0\"),\"\")","v":""},null,null,null,{"$f":"IF(COUNTIF(V9,\">=0\")+COUNTIF(V23,\">=0\")+COUNTIF(V37,\">=0\")>0,COUNTIF(V9,\">=0\")+COUNTIF(V23,\">=0\")+COUNTIF(V37,\">=0\"),\"\")","v":""},null,null,null,{"$f":"IF(COUNTIF(Z9,\">=0\")+COUNTIF(Z23,\">=0\")+COUNTIF(Z37,\">=0\")>0,COUNTIF(Z9,\">=0\")+COUNTIF(Z23,\">=0\")+COUNTIF(Z37,\">=0\"),\"\")","v":""}]
["Section 4 – Youth Facilitator 1's Delivery",{"$f":"IF(COUNTIF(B10,\">=0\")+COUNTIF(B24,\">=0\")+COUNTIF(B38,\">=0\")>0,COUNTIF(B10,\">=0\")+COUNTIF(B24,\">=0\")+COUNTIF(B38,\">=0\"),\"\")","v":""},null,null,null,{"$f":"IF(COUNTIF(F10,\">=0\")+COUNTIF(F24,\">=0\")+COUNTIF(F38,\">=0\")>0,COUNTIF(F10,\">=0\")+COUNTIF(F24,\">=0\")+COUNTIF(F38,\">=0\"),\"\")","v":""},null,null,null,{"$f":"IF(COUNTIF(J10,\">=0\")+COUNTIF(J24,\">=0\")+COUNTIF(J38,\">=0\")>0,COUNTIF(J10,\">=0\")+COUNTIF(J24,\">=0\")+COUNTIF(J38,\">=0\"),\"\")","v":""},null,null,null,{"$f":"IF(COUNTIF(N10,\">=0\")+COUNTIF(N24,\">=0\")+COUNTIF(N38,\">=0\")>0,COUNTIF(N10,\">=0\")+COUNTIF(N24,\">=0\")+COUNTIF(N38,\">=0\"),\"\")","v":""},null,null,null,{"$f":"IF(COUNTIF(R10,\">=0\")+COUNTIF(R24,\">=0\")+COUNTIF(R38,\">=0\")>0,COUNTIF(R10,\">=0\")+COUNTIF(R24,\">=0\")+COUNTIF(R38,\">=0\"),\"\")","v":""},null,null,null,{"$f":"IF(COUNTIF(V10,\">=0\")+COUNTIF(V24,\">=0\")+COUNTIF(V38,\">=0\")>0,COUNTIF(V10,\">=0\")+COUNTIF(V24,\">=0\")+COUNTIF(V38,\">=0\"),\"\")","v":""},null,null,null,{"$f":"IF(COUNTIF(Z10,\">=0\")+COUNTIF(Z24,\">=0\")+COUNTIF(Z38,\">=0\")>0,COUNTIF(Z10,\">=0\")+COUNTIF(Z24,\">=0\")+COUNTIF(Z38,\">=0\"),\"\")","v":""}]
["Section 5 – Youth Facilitator 2's Delivery",{"$f":"IF(COUNTIF(B11,\">=0\")+COUNTIF(B25,\">=0\")+COUNTIF(B39,\">=0\")>0,COUNTIF(B11,\">=0\")+COUNTIF(B25,\">=0\")+COUNTIF(B39,\">=0\"),\"\")","v":""},null,null,null,{"$f":"IF(COUNTIF(F11,\">=0\")+COUNTIF(F25,\">=0\")+COUNTIF(F39,\">=0\")>0,COUNTIF(F11,\">=0\")+COUNTIF(F25,\">=0\")+COUNTIF(F39,\">=0\"),\"\")","v":""},null,null,null,{"$f":"IF(COUNTIF(J11,\">=0\")+COUNTIF(J25,\">=0\")+COUNTIF(J39,\">=0\")>0,COUNTIF(J11,\">=0\")+COUNTIF(J25,\">=0\")+COUNTIF(J39,\">=0\"),\"\")","v":""},null,null,null,{"$f":"IF(COUNTIF(N11,\">=0\")+COUNTIF(N25,\">=0\")+COUNTIF(N39,\">=0\")>0,COUNTIF(N11,\">=0\")+COUNTIF(N25,\">=0\")+COUNTIF(N39,\">=0\"),\"\")","v":""},null,null,null,{"$f":"IF(COUNTIF(R11,\">=0\")+COUNTIF(R25,\">=0\")+COUNTIF(R39,\">=0\")>0,COUNTIF(R11,\">=0\")+COUNTIF(R25,\">=0\")+COUNTIF(R39,\">=0\"),\"\")","v":""},null,null,null,{"$f":"IF(COUNTIF(V11,\">=0\")+COUNTIF(V25,\">=0\")+COUNTIF(V39,\">=0\")>0,COUNTIF(V11,\">=0\")+COUNTIF(V25,\">=0\")+COUNTIF(V39,\">=0\"),\"\")","v":""},null,null,null,{"$f":"IF(COUNTIF(Z11,\">=0\")+COUNTIF(Z25,\">=0\")+COUNTIF(Z39,\">=0\")>0,COUNTIF(Z11,\">=0\")+COUNTIF(Z25,\">=0\")+COUNTIF(Z39,\">=0\"),\"\")","v":""}]
["Section 6 – Group Participation",{"$f":"IF(COUNTIF(B14,\">=0\")+COUNTIF(B28,\">=0\")+COUNTIF(B42,\">=0\")>0,COUNTIF(B14,\">=0\")+COUNTIF(B28,\">=0\")+COUNTIF(B42,\">=0\"),\"\")","v":""},null,null,null,{"$f":"IF(COUNTIF(F14,\">=0\")+COUNTIF(F28,\">=0\")+COUNTIF(F42,\">=0\")>0,COUNTIF(F14,\">=0\")+COUNTIF(F28,\">=0\")+COUNTIF(F42,\">=0\"),\"\")","v":""},null,null,null,{"$f":"IF(COUNTIF(J14,\">=0\")+COUNTIF(J28,\">=0\")+COUNTIF(J42,\">=0\")>0,COUNTIF(J14,\">=0\")+COUNTIF(J28,\">=0\")+COUNTIF(J42,\">=0\"),\"\")","v":""},null,null,null,{"$f":"IF(COUNTIF(N14,\">=0\")+COUNTIF(N28,\">=0\")+COUNTIF(N42,\">=0\")>0,COUNTIF(N14,\">=0\")+COUNTIF(N28,\">=0\")+COUNTIF(N42,\">=0\"),\"\")","v":""},null,null,null,{"$f":"IF(COUNTIF(R14,\">=0\")+COUNTIF(R28,\">=0\")+COUNTIF(R42,\">=0\")>0,COUNTIF(R14,\">=0\")+COUNTIF(R28,\">=0\")+COUNTIF(R42,\">=0\"),\"\")","v":""},null,null,null,{"$f":"IF(COUNTIF(V14,\">=0\")+COUNTIF(V28,\">=0\")+COUNTIF(V42,\">=0\")>0,COUNTIF(V14,\">=0\")+COUNTIF(V28,\">=0\")+COUNTIF(V42,\">=0\"),\"\")","v":""},null,null,null,{"$f":"IF(COUNTIF(Z14,\">=0\")+COUNTIF(Z28,\">=0\")+COUNTIF(Z42,\">=0\")>0,COUNTIF(Z14,\">=0\")+COUNTIF(Z28,\">=0\")+COUNTIF(Z42,\">=0\"),\"\")","v":""}]

{"sheet":"Facilitator Ratings","index":10,"n_rows":84,"n_cols":5,"rows_kept":84,"cut":false,"hidden":false,"merged":[[0,1,0,4]]}
["FACILITATOR RATINGS","Facilitator ratings will populate from data entered on the youth and parent/caregiver survey sheets.  Insert the appropriate facilitators' names in the yellow boxes."]
[]
["DELIVERY 1"]
["Youth","Parent Facilitator Ratings","Youth Facilitator 1 Ratings","Youth Facilitator 2 Ratings","Average Rating of the \nFacilitation Team by Youth"]
["Insert Facilitator Name"]
["Average Rating For All Youth:",{"$f":"IFERROR(AVERAGE('Youth Survey'!$D$73:$AV$73),\"\")","v":""},{"$f":"IFERROR(AVERAGE('Youth Survey'!$D$74:$AV$74),\"\")","v":""},{"$f":"IFERROR(AVERAGE('Youth Survey'!$D$75:$AV$75),\"\")","v":""},{"$f":"IFERROR(AVERAGE(B6:D6),\"\")","v":""}]
["Number of Youth Rating the Facilitator a 4.0 or Higher:",{"$f":"COUNTIF('Youth Survey'!$D$73:$AV$73,\">=4\")","v":0},{"$f":"COUNTIF('Youth Survey'!$D$74:$AV$74,\">=4\")","v":0},{"$f":"COUNTIF('Youth Survey'!$D$75:$AV$75,\">=4\")","v":0}]
[]
["Parents/Caregivers","Parent Facilitator Ratings","Youth Facilitator 1 Ratings","Youth Facilitator 2 Ratings","Average Rating of the \nFacilitation Team by Parents/Caregivers"]
["Insert Facilitator Name"]
["Average Rating For All Parents:",{"$f":"IFERROR(AVERAGE('Parent Survey'!$D$71:$AV$71),\"\")","v":""},{"$f":"IFERROR(AVERAGE('Parent Survey'!$D$72:$AV$72),\"\")","v":""},{"$f":"IFERROR(AVERAGE('Parent Survey'!$D$73:$AV$73),\"\")","v":""},{"$f":"IFERROR(AVERAGE(B11:D11),\"\")","v":""}]
["Number of Parent(s)/Caregiver(s) Rating\n the Facilitator a 4.0 or Higher:",{"$f":"COUNTIF('Parent Survey'!$D$71:$AV$71,\">=4\")","v":0},{"$f":"COUNTIF('Parent Survey'!$D$72:$AV$72,\">=4\")","v":0},{"$f":"COUNTIF('Parent Survey'!$D$73:$AV$73,\">=4\")","v":0}]
[]
[]
["DELIVERY 2"]
["Youth","Parent Facilitator Ratings","Youth Facilitator 1 Ratings","Youth Facilitator 2 Ratings","Average Rating of the \nFacilitation Team by Youth"]
["Insert Facilitator Name"]
["Average Rating For All Youth:",{"$f":"IFERROR(AVERAGE('Youth Survey'!$AW$73:$CO$73),\"\")","v":""},{"$f":"IFERROR(AVERAGE('Youth Survey'!$AW$74:$CO$74),\"\")","v":""},{"$f":"IFERROR(AVERAGE('Youth Survey'!$AW$75:$CO$75),\"\")","v":""},{"$f":"IFERROR(AVERAGE(B18:D18),\"\")","v":""}]
["Number of Youth Rating the Facilitator a 4.0 or Higher:",{"$f":"COUNTIF('Youth Survey'!$AW$73:$CO$73,\">=4\")","v":0},{"$f":"COUNTIF('Youth Survey'!$AW$74:$CO$74,\">=4\")","v":0},{"$f":"COUNTIF('Youth Survey'!$AW$75:$CO$75,\">=4\")","v":0}]
[]
["Parents/Caregivers","Parent Facilitator Ratings","Youth Facilitator 1 Ratings","Youth Facilitator 2 Ratings","Average Rating of the \nFacilitation Team by Parents/Caregivers"]
["Insert Facilitator Name"]
["Average Rating For All Parents:",{"$f":"IFERROR(AVERAGE('Parent Survey'!$AW$71:$CO$71),\"\")","v":""},{"$f":"IFERROR(AVERAGE('Parent Survey'!$AW$72:$CO$72),\"\")","v":""},{"$f":"IFERROR(AVERAGE('Parent Survey'!$AW$73:$CO$73),\"\")","v":""},{"$f":"IFERROR(AVERAGE(B23:D23),\"\")","v":""}]
["Number of Parent(s)/Caregiver(s) Rating\n the Facilitator a 4.0 or Higher:",{"$f":"COUNTIF('Parent Survey'!$AW$71:$CO$71,\">=4\")","v":0},{"$f":"COUNTIF('Parent Survey'!$AW$72:$CO$72,\">=4\")","v":0},{"$f":"COUNTIF('Parent Survey'!$AW$73:$CO$73,\">=4\")","v":0}]
[]
[]
["DELIVERY 3"]
["Youth","Parent Facilitator Ratings","Youth Facilitator 1 Ratings","Youth Facilitator 2 Ratings","Average Rating of the \nFacilitation Team by Youth"]
["Insert Facilitator Name"]
["Average Rating For All Youth:",{"$f":"IFERROR(AVERAGE('Youth Survey'!$CP$73:$EH$73),\"\")","v":""},{"$f":"IFERROR(AVERAGE('Youth Survey'!$CP$74:$EH$74),\"\")","v":""},{"$f":"IFERROR(AVERAGE('Youth Survey'!$CP$75:$EH$75),\"\")","v":""},{"$f":"IFERROR(AVERAGE(B30:D30),\"\")","v":""}]
["Number of Youth Rating the Facilitator a 4.0 or Higher:",{"$f":"COUNTIF('Youth Survey'!$CP$73:$EH$73,\">=4\")","v":0},{"$f":"COUNTIF('Youth Survey'!$CP$74:$EH$74,\">=4\")","v":0},{"$f":"COUNTIF('Youth Survey'!$CP$75:$EH$75,\">=4\")","v":0}]
[]
["Parents/Caregivers","Parent Facilitator Ratings","Youth Facilitator 1 Ratings","Youth Facilitator 2 Ratings","Average Rating of the \nFacilitation Team by Parents/Caregivers"]
["Insert Facilitator Name"]
["Average Rating For All Parents:",{"$f":"IFERROR(AVERAGE('Parent Survey'!$CP$71:$EH$71),\"\")","v":""},{"$f":"IFERROR(AVERAGE('Parent Survey'!$CP$72:$EH$72),\"\")","v":""},{"$f":"IFERROR(AVERAGE('Parent Survey'!$CP$73:$EH$73),\"\")","v":""},{"$f":"IFERROR(AVERAGE(B35:D35),\"\")","v":""}]
["Number of Parent(s)/Caregiver(s) Rating\n the Facilitator a 4.0 or Higher:",{"$f":"COUNTIF('Parent Survey'!$CP$71:$EH$71,\">=4\")","v":0},{"$f":"COUNTIF('Parent Survey'!$CP$72:$EH$72,\">=4\")","v":0},{"$f":"COUNTIF('Parent Survey'!$CP$73:$EH$73,\">=4\")","v":0}]
[]
[]
["DELIVERY 4"]
["Youth","Parent Facilitator Ratings","Youth Facilitator 1 Ratings","Youth Facilitator 2 Ratings","Average Rating of the \nFacilitation Team by Youth"]
["Insert Facilitator Name"]
["Average Rating For All Youth:",{"$f":"IFERROR(AVERAGE('Youth Survey'!$EI$73:$GA$73),\"\")","v":""},{"$f":"IFERROR(AVERAGE('Youth Survey'!$EI$74:$GA$74),\"\")","v":""},{"$f":"IFERROR(AVERAGE('Youth Survey'!$EI$75:$GA$75),\"\")","v":""},{"$f":"IFERROR(AVERAGE(B42:D42),\"\")","v":""}]
["Number of Youth Rating the Facilitator a 4.0 or Higher:",{"$f":"COUNTIF('Youth Survey'!$EI$73:$GA$73,\">=4\")","v":0},{"$f":"COUNTIF('Youth Survey'!$EI$74:$GA$74,\">=4\")","v":0},{"$f":"COUNTIF('Youth Survey'!$EI$75:$GA$75,\">=4\")","v":0}]
[]
["Parents/Caregivers","Parent Facilitator Ratings","Youth Facilitator 1 Ratings","Youth Facilitator 2 Ratings","Average Rating of the \nFacilitation Team by Parents/Caregivers"]
["Insert Facilitator Name"]
["Average Rating For All Parents:",{"$f":"IFERROR(AVERAGE('Parent Survey'!$EI$71:$GA$71),\"\")","v":""},{"$f":"IFERROR(AVERAGE('Parent Survey'!$EI$72:$GA$72),\"\")","v":""},{"$f":"IFERROR(AVERAGE('Parent Survey'!$EI$73:$GA$73),\"\")","v":""},{"$f":"IFERROR(AVERAGE(B47:D47),\"\")","v":""}]
["Number of Parent(s)/Caregiver(s) Rating\n the Facilitator a 4.0 or Higher:",{"$f":"COUNTIF('Parent Survey'!$EI$71:$GA$71,\">=4\")","v":0},{"$f":"COUNTIF('Parent Survey'!$EI$72:$GA$72,\">=4\")","v":0},{"$f":"COUNTIF('Parent Survey'!$EI$73:$GA$73,\">=4\")","v":0}]
[]
[]
["DELIVERY 5"]
["Youth","Parent Facilitator Ratings","Youth Facilitator 1 Ratings","Youth Facilitator 2 Ratings","Average Rating of the \nFacilitation Team by Youth"]
["Insert Facilitator Name"]
["Average Rating For All Youth:",{"$f":"IFERROR(AVERAGE('Youth Survey'!$GB$73:$HT$73),\"\")","v":""},{"$f":"IFERROR(AVERAGE('Youth Survey'!$GB$74:$HT$74),\"\")","v":""},{"$f":"IFERROR(AVERAGE('Youth Survey'!$GB$75:$HT$75),\"\")","v":""},{"$f":"IFERROR(AVERAGE(B54:D54),\"\")","v":""}]
["Number of Youth Rating the Facilitator a 4.0 or Higher:",{"$f":"COUNTIF('Youth Survey'!$GB$73:$HT$73,\">=4\")","v":0},{"$f":"COUNTIF('Youth Survey'!$GB$74:$HT$74,\">=4\")","v":0},{"$f":"COUNTIF('Youth Survey'!$GB$75:$HT$75,\">=4\")","v":0}]
[]
["Parents/Caregivers","Parent Facilitator Ratings","Youth Facilitator 1 Ratings","Youth Facilitator 2 Ratings","Average Rating of the \nFacilitation Team by Parents/Caregivers"]
["Insert Facilitator Name"]
["Average Rating For All Parents:",{"$f":"IFERROR(AVERAGE('Parent Survey'!$GB$71:$HT$71),\"\")","v":""},{"$f":"IFERROR(AVERAGE('Parent Survey'!$GB$72:$HT$72),\"\")","v":""},{"$f":"IFERROR(AVERAGE('Parent Survey'!$GB$73:$HT$73),\"\")","v":""},{"$f":"IFERROR(AVERAGE(B59:D59),\"\")","v":""}]
["Number of Parent(s)/Caregiver(s) Rating\n the Facilitator a 4.0 or Higher:",{"$f":"COUNTIF('Parent Survey'!$GB$71:$HT$71,\">=4\")","v":0},{"$f":"COUNTIF('Parent Survey'!$GB$72:$HT$72,\">=4\")","v":0},{"$f":"COUNTIF('Parent Survey'!$GB$73:$HT$73,\">=4\")","v":0}]
[]
[]
["DELIVERY 6"]
["Youth","Parent Facilitator Ratings","Youth Facilitator 1 Ratings","Youth Facilitator 2 Ratings","Average Rating of the \nFacilitation Team by Youth"]
["Insert Facilitator Name"]
["Average Rating For All Youth:",{"$f":"IFERROR(AVERAGE('Youth Survey'!$HU$73:$JM$73),\"\")","v":""},{"$f":"IFERROR(AVERAGE('Youth Survey'!$HU$74:$JM$74),\"\")","v":""},{"$f":"IFERROR(AVERAGE('Youth Survey'!$HU$75:$JM$75),\"\")","v":""},{"$f":"IFERROR(AVERAGE(B66:D66),\"\")","v":""}]
["Number of Youth Rating the Facilitator a 4.0 or Higher:",{"$f":"COUNTIF('Youth Survey'!$HU$73:$JM$73,\">=4\")","v":0},{"$f":"COUNTIF('Youth Survey'!$HU$74:$JM$74,\">=4\")","v":0},{"$f":"COUNTIF('Youth Survey'!$HU$75:$JM$75,\">=4\")","v":0}]
[]
["Parents/Caregivers","Parent Facilitator Ratings","Youth Facilitator 1 Ratings","Youth Facilitator 2 Ratings","Average Rating of the \nFacilitation Team by Parents/Caregivers"]
["Insert Facilitator Name"]
["Average Rating For All Parents:",{"$f":"IFERROR(AVERAGE('Parent Survey'!$HU$71:$JM$71),\"\")","v":""},{"$f":"IFERROR(AVERAGE('Parent Survey'!$HU$72:$JM$72),\"\")","v":""},{"$f":"IFERROR(AVERAGE('Parent Survey'!$HU$73:$JM$73),\"\")","v":""},{"$f":"IFERROR(AVERAGE(B71:D71),\"\")","v":""}]
["Number of Parent(s)/Caregiver(s) Rating\n the Facilitator a 4.0 or Higher:",{"$f":"COUNTIF('Parent Survey'!$HU$71:$JM$71,\">=4\")","v":0},{"$f":"COUNTIF('Parent Survey'!$HU$72:$JM$72,\">=4\")","v":0},{"$f":"COUNTIF('Parent Survey'!$HU$73:$JM$73,\">=4\")","v":0}]
[]
[]
["DELIVERY 7"]
["Youth","Parent Facilitator Ratings","Youth Facilitator 1 Ratings","Youth Facilitator 2 Ratings","Average Rating of the \nFacilitation Team by Youth"]
["Insert Facilitator Name"]
["Average Rating For All Youth:",{"$f":"IFERROR(AVERAGE('Youth Survey'!$JN$73:$LF$73),\"\")","v":""},{"$f":"IFERROR(AVERAGE('Youth Survey'!$JN$74:$LF$74),\"\")","v":""},{"$f":"IFERROR(AVERAGE('Youth Survey'!$JN$75:$LF$75),\"\")","v":""},{"$f":"IFERROR(AVERAGE(B78:D78),\"\")","v":""}]
["Number of Youth Rating the Facilitator a 4.0 or Higher:",{"$f":"COUNTIF('Youth Survey'!$JN$73:$LF$73,\">=4\")","v":0},{"$f":"COUNTIF('Youth Survey'!$JN$74:$LF$74,\">=4\")","v":0},{"$f":"COUNTIF('Youth Survey'!$JN$75:$LF$75,\">=4\")","v":0}]
[]
["Parents/Caregivers","Parent Facilitator Ratings","Youth Facilitator 1 Ratings","Youth Facilitator 2 Ratings","Average Rating of the \nFacilitation Team by Parents/Caregivers"]
["Insert Facilitator Name"]
["Average Rating For All Parents:",{"$f":"IFERROR(AVERAGE('Parent Survey'!$JN$71:$LF$71),\"\")","v":""},{"$f":"IFERROR(AVERAGE('Parent Survey'!$JN$72:$LF$72),\"\")","v":""},{"$f":"IFERROR(AVERAGE('Parent Survey'!$JN$73:$LF$73),\"\")","v":""},{"$f":"IFERROR(AVERAGE(B83:D83),\"\")","v":""}]
["Number of Parent(s)/Caregiver(s) Rating\n the Facilitator a 4.0 or Higher:",{"$f":"COUNTIF('Parent Survey'!$JN$71:$LF$71,\">=4\")","v":0},{"$f":"COUNTIF('Parent Survey'!$JN$72:$LF$72,\">=4\")","v":0},{"$f":"COUNTIF('Parent Survey'!$JN$73:$LF$73,\">=4\")","v":0}]

{"sheet":"LISTS","index":11,"n_rows":13,"n_cols":28,"rows_kept":13,"cut":false,"hidden":true,"merged":[]}
["Family Session Titles","Parent Session Titles","Youth Session Titles","FamSec1","FamSec2","FamSec3","FamSec4","FamSec5","FamSec6","FamCDS","FamOFS","ParSec1","ParSec2","ParSec3","ParSec4","ParCDS","ParOFS","YthSec1","YthSec2","YthSec3","YthSec4","YthSec5","YthCDS","YthOFS"]
["Fam Sess 1 - Supporting Goals and Dreams","Par Sess 1 - Love and Limits","Yth Sess 1 - Having Goals and Dreams",12,27,57,57,57,5,198,215,12,48,57,5,105,122,12,29,57,57,5,143,160,null,"1st Delivery",{"$f":"Attendance!$E$3","v":0},{"$f":"IF(AA2=\"Oct-DEC\",1,IF(AA2=\"Jan-Mar\",2,IF(AA2=\"Apr-Jun\",3,IF(AA2=\"Jul-Sep\",4,\"\"))))","v":""}]
["Fam Sess 2 - Appreciating Family Members","Par Sess 2 - Making House Rules","Yth Sess 2 - Appreciating Parents",12,19,57,57,57,5,190,207,12,32,57,5,89,106,12,41,57,57,5,155,172,null,"2nd Delivery",{"$f":"Attendance!$K$3","v":0},""]
["Fam Sess 3 - Using Family Meetings","Par Sess 3 - Encouraging Good Behavior","Yth Sess 3 - Dealing with Stress",12,27,57,57,57,5,198,215,12,38,57,5,95,112,12,40,57,57,5,154,171,null,"3rd Delivery",{"$f":"Attendance!$Q$3","v":0},""]
["Fam Sess 4 - Understanding Family Values","Par Sess 4 - Using Consequesnces","Yth Sess 4 - Following Rules",12,32,57,57,57,5,203,220,12,34,57,5,91,108,12,39,57,57,5,153,170,null,"4th Delivery",{"$f":"Attendance!$W$3","v":0},""]
["Fam Sess 5 - Building Family Communication","Par Sess 5 - Building Bridges","Yth Sess 5 - Dealing with Peer Pressure",12,37,57,57,57,5,208,225,12,36,57,5,93,110,12,69,57,57,5,183,200,null,"5th Delivery",{"$f":"Attendance!$AC$3","v":0},""]
["Fma Sess 6 - Families and Peer Pressure","Par Sess 6 - Protecting Against Substance Abuse","Yth Sess 6 - Peer Pressure and Good Friends",12,27,57,57,57,5,198,215,12,33,57,5,90,107,12,39,57,57,5,153,170,null,"6th Delivery",{"$f":"Attendance!$AI$3","v":0},""]
["Fam Sess 7 - Putting it All Together","Par Sess 7 - Getting Help for Special Family Needs","Yth Sess 7 - Reaching Out To Others",12,19,57,57,57,5,190,207,12,42,57,5,99,116,12,26,57,57,5,140,157,null,"7th Delivery",{"$f":"Attendance!$AO$3","v":0},""]
[]
[]
["# needed for Pre/Post Completion (>80%)",25,null,"1st Delivery","2nd Delivery","3rd Delivery","4th Delivery","5th Delivery","6th Delivery","7th Delivery"]
["% needed for Fidelity threshold",0.75,null,{"$f":"Attendance!$E$3","v":0},{"$f":"Attendance!$K$3","v":0},{"$f":"Attendance!$Q$3","v":0},{"$f":"Attendance!$W$3","v":0},{"$f":"Attendance!$AC$3","v":0},{"$f":"Attendance!$AI$3","v":0},{"$f":"Attendance!$AO$3","v":0}]
[null,null,null,{"$f":"IF(D12=\"Oct-DEC\",1,IF(D12=\"Jan-Mar\",2,IF(D12=\"Apr-Jun\",3,IF(D12=\"Jul-Sep\",4,\"\"))))","v":""},"","","","","",""]