{"text_format":"1","workbook":"xlsx","n_sheets":14,"sheets":["Instructions","Process PMs Yr1","Outcome PMs Yr1","Process PMs Yr2","Outcome PMs Yr2","Programs","AQ PrePost","HIT PrePost","SS PrePost","Observations","12 Mos FollowUp","lists","AQV","datecalcs"],"not_rendered":{"charts":0,"images":1,"macros":1,"external_links":0,"defined_names":31,"comments":9,"pivot_tables":0},"unopened":[],"bounds":{"document_bytes":16777216,"sheet_cells":100000,"rows_first":2000,"rows_last":500,"rows_between":2000,"halvings":0,"cell_chars":16384,"cell_head_chars":4096},"cells_cut":0,"cells_raw":0,"read":"whole","date_system":"1900"}

{"sheet":"Instructions","index":0,"n_rows":49,"n_cols":4,"rows_kept":49,"cut":false,"hidden":false,"merged":[[25,0,25,1],[24,0,24,1],[23,0,23,1],[15,0,15,1],[21,0,21,1],[20,0,20,1],[19,0,19,1],[18,0,18,1],[17,0,17,1],[16,0,16,1],[13,0,13,1],[12,0,12,1],[11,0,11,1],[10,0,10,1],[43,0,43,1],[42,0,42,1],[41,0,41,1],[40,0,40,1],[39,0,39,1],[22,0,22,1],[36,0,36,1],[34,0,34,1],[33,0,33,1],[32,0,32,1],[31,0,31,1],[26,0,26,1],[47,0,47,1],[46,0,46,1],[45,0,45,1],[44,0,44,1],[37,0,37,1]]}
["3 Version  - 11/15/2019","Aggression Replacement Training:  EPISCenter - Data Collection and Analysis Tool"]
[null,"Please enter the appropriate information in the yellow boxes below."]
["Agency name:","Insert Agency Name"]
["Contact name:","Insert agency contact name"]
["Email:","Insert contact email address"]
["Phone:","Insert contact phone number"]
["Grant Number:","Insert Grant Number"]
["County:","County name"]
["Grant Start Date:","2019-07-01",null,{"$f":"TEXT(B9,\"yyyy\")","v":"2019"}]
[null,"Grant start date must be entered above for the spreadsheet to accurately summarize outcomes.  Please use mm/dd/yyyy format."]
["Instructions for Completing Performance Measures"]
[]
["These spreadsheets are designed to help you complete your performance measures for ART. To orient you to this workbook below is a list of the spreadsheets included here and instructions on how to use them."]
[]
["This workbook contains the following spreadsheets (tabs):"]
[]
["1.    Process Performance Measures (PMs) Yr1 and Yr2: Please enter the appropriate number for the cells highlighted in yellow for the specific year and quarter for which you are reporting."]
[]
["2.    Outcome Performance Measures (PMs) Yr1 and Yr2: The PMs in these tabs are calculated for you using the data you enter in the Programs, AQ PrePost, HIT PrePost, SS PrePost, and 12 month Follow-up tabs. You do not need to enter any information in these tabs."]
[]
["3.   Programs: Enter youth names, gender,  attendance, administrative withdrawals, and program start/completion date information."]
[]
["4.   AQ PrePost: Enter answers directly from the Aggression Questionnaire Pre and Post Surveys for each youth. Total and T scores will be automatically calculated. "]
[]
["5.   HIT PrePost: Enter answers from the \"How I Think\" questionnaire Pre and Post Surveys for each youth. Total and mean scores will automatically be calculated."]
[]
["6.   SS PrePost: Enter raw scores from the \"Skillstreaming Checklist\" Pre and Post Surveys for each youth."]
[]
["7.   Observations: Scores from 3rd party fidelity observations are entered on this tab. (Should be 20% or more of sessions)"]
[]
["8.   Outcome Data: Outcome and 12 month Follow-Up survey information is entered here for each youth."]
[]
["Some general characteristics of the spreadsheets (tabs) include:"]
[]
["1.    The spreadsheet is locked, so you will only be able to enter information into the appropriate cells.  You are expected to enter information into cells highlighted yellow."]
[]
["2.    Certain cells will only accept certain values. If you enter a value out of the accepted range, you will receive an error message that tells you the range of values that can be entered. Also, if you click on one of these cells, the information for the accepted response options will appear in a tan box."]
[]
["3.    When information is entered into the program tabs, the PMs are automatically calculated for you in the Outcomes PM tab."]
[]
["4.    Boxes may turn red in the Process or Outcome tabs.  To make sure that the information entered is consistent, we have placed rules on the cells; these rules are described in column H. When a rule is broken the cell turns red.  Cells may turn red as you are entering information, this is not a problem.  If they remain red after you have entered all of the information, refer to the rules to determine why the cell has remained red.  "]
[]
["Before submitting your Performance Measures in Egrants, you will need to  complete the following steps:"]
[]
["1.    Review the Process & Outcome tabs to assure there are no red cells (see #4 above if you have red cells)."]
[]
["2.   Create a new Excel file that has identifying information of participants removed. After all data have been entered, return to the \"Instructions\" tab and click the green button below. This will save the current file as a new file with identifying information removed. It will automatically save with your Grant Number, County, and Date. This new copy of the spreadsheet is the one that you should upload into Egrants."]
[]
[{"$f":"$A$1","v":"3 Version  - 11/15/2019"},"If you have any questions, please contact your EPISCenter TA Provider at 814-863-2569"]

{"sheet":"Process PMs Yr1","index":1,"n_rows":28,"n_cols":9,"rows_kept":28,"cut":false,"hidden":false,"merged":[[1,7,1,8],[0,1,0,3],[1,1,1,3]]}
[{"$f":"Instructions!$A$1","v":"3 Version  - 11/15/2019"},"Agency",null,null,"Program","Contact","Email:","Phone"]
[null,{"$f":"Instructions!$B$3","v":"Insert Agency Name"},null,null,"ART",{"$f":"Instructions!$B$4","v":"Insert agency contact name"},{"$f":"Instructions!$B$5","v":"Insert contact email address"}]
["Year 1 - Quarter 1","Year 1 - Quarter 2","Year 1 - Quarter 3","Year 1 - Quarter 4"]
[{"$f":"TEXT(datecalcs!$A$4,\"mmm. yyyy\")&\" - \"&TEXT(datecalcs!$B$4,\"mmm. yyyy\")","v":"Jul. 2019 - Sep. 2019"},{"$f":"TEXT(datecalcs!$A$5,\"mmm. yyyy\")&\" - \"&TEXT(datecalcs!$B$5,\"mmm. yyyy\")","v":"Oct. 2019 - Dec. 2019"},{"$f":"TEXT(datecalcs!$A$6,\"mmm. yyyy\")&\" - \"&TEXT(datecalcs!$B$6,\"mmm. yyyy\")","v":"Jan. 2020 - Mar. 2020"},{"$f":"TEXT(datecalcs!$A$7,\"mmm. yyyy\")&\" - \"&TEXT(datecalcs!$B$7,\"mmm. yyyy\")","v":"Apr. 2020 - Jun. 2020"},"Cumulative","Performance Measure","Description","Rules","PM#"]
["Data for sites to enter"]
[null,null,null,null,{"$f":"SUM(A6:D6)","v":0},"Number of ART facilitators trained.","Data: This information should be collected by internal tracking systems.\nNumber for PM: Count each ART facilitator that completed ART initial training during this quarter. Count each trainee only once in the quarter they completed training.",null,"P1"]
[null,null,null,null,0,"Number of ART facilitators who became eligible for proficiency.","Data: This information should be collected by internal tracking systems.\nNumber for PM: Count each ART facilitator that became eligible for proficiency (defined as having facilitated 36 or more sessions and at least 12 in each of the 3 program components) during this quarter. Count each facilitator only once in the quarter they became eligible for proficiency.","The total number of ART facilitators who became eligible for proficiency should be less than or equal to the total number of ART facilitators trained","P2"]
[null,null,null,null,0,"Number of ART facilitators who achieved proficiency.","Data: This information should be collected by internal tracking systems.\nNumber for PM: Count each ART facilitator who has achieved proficiency (defined by being eligible for trainer proficiency and achieving a score of 2 or greater in all video review categories when evaluated by a master trainer) this quarter. Count each facilitator only once in the quarter they became proficient.","The total number of ART facilitators who became proficient should be less than or equal to the total number of ART facilitators who became eligible for proficiency","P3"]
[null,null,null,null,0,"Number facilitators who attended an Agency Trainer training.","Data: This information should be collected by internal tracking systems.\nNumber for PM: Count each trainee only once.",null,"P4"]
[null,null,null,null,0,"Number of ART facilitators who became eligible for Agency Trainer proficiency.","Data: This information should be collected by internal tracking systems. Eligible for proficiency is defined as having facilitated 72 or more sessions, with at least 24 in each of the 3 program components and has completed the Agency Trainer training.\nNumber for PM: Count each facilitator only once.","The total number of ART facilitators who became eligible for Agency Trainer proficiency should be less than or equal to the total number of ART facilitators who attended an Agency Trainer training.","P5"]
[null,null,null,null,0,"Total number of ART sessions delivered.","Data: This information should be collected by internal tracking systems.                                                                                                Number for PM: Count the total number of ART Skill Streaming, Anger Management and Moral Reasoning sessions delivered within this quarter.",null,"P6"]
[null,null,null,null,0,"Total number of ART session fidelity forms completed.","Data: This information should be collected from the ART fidelity forms completed by external observers and facilitators facilitating the sessions.                                                            Number for PM: Count of the number of ART fidelity forms completed by external observers and facilitators for sessions delivered within this quarter. ",null,"P7"]
[null,null,null,null,0,"Number of Reports to the Collaborative Board: Number of data/outcome reports presented to the collaborative board that supported the project and/or number of written or oral presentations made during this reporting period to the collaborative board that supported the project.","Data: Grantees are required to report to the collaborative board that supported the grant proposal at least quarterly and to provide a written data report highlighting program outcomes at least annually. The annual written data report must be submitted to the collaborative board prior to the end of each fiscal year. The written data report must also be attached in E-grants. Meeting minutes or other documentation may also be attached. This information should be collected using internal tracking systems.\nNumber for PM: Count each report only once. Only report this for reports/presentations given within this quarter.",null,"P8"]
["Data that will be calculated for sites"]
[{"$f":"COUNTIF(Programs!$BI$8:$BI$1040,A28)","v":0},{"$f":"COUNTIF(Programs!$BI$8:$BI$1040,B28)","v":0},{"$f":"COUNTIF(Programs!$BI$8:$BI$1040,C28)","v":0},{"$f":"COUNTIF(Programs!$BI$8:$BI$1040,D28)","v":0},{"$f":"SUM(A15:D15)","v":0},"Number of times full ART curriculum was delivered.","Number for PM: Count of the number of times a complete 30 session program was completed within this quarter. Completion is counted in the quarter that final program session was delivered.",null,"P9"]
[{"$f":"COUNTIF(Programs!$BJ$9:$BJ$1040,A28)","v":0},{"$f":"COUNTIF(Programs!$BJ$9:$BJ$1040,B28)","v":0},{"$f":"COUNTIF(Programs!$BJ$9:$BJ$1040,C28)","v":0},{"$f":"COUNTIF(Programs!$BJ$9:$BJ$1040,D28)","v":0},0,"Number of youth served.","Number for PM: Count of the number of youth who participated in at least one ART session in a program completed within this quarter.",null,"P10"]
[{"$f":"Programs!AR7","v":0},{"$f":"Programs!AS7","v":0},{"$f":"Programs!AT7","v":0},{"$f":"Programs!AU7","v":0},0,"Number of youth completing the ART curriculum.","Number for PM: Count of the number of unduplicated youth who completed all 28 or more sessions of a program completed within this quarter. Completion is counted in the quarter that final program session was delivered.",null,"P11"]
[{"$f":"COUNTIF(Observations!$H$7:$H$1000,A28)","v":0},{"$f":"COUNTIF(Observations!$H$7:$H$1000,B28)","v":0},{"$f":"COUNTIF(Observations!$H$7:$H$1000,C28)","v":0},{"$f":"COUNTIF(Observations!$H$7:$H$1000,D28)","v":0},0,"Total number of fidelity observations completed.","Number for PM: Count of the number of fidelity observations completed this quarter by a trained observer not participating in the facilitation of the session.",null,"P12"]
[{"$f":"COUNTIF(Observations!$I$7:$I$1000,A28)","v":0},{"$f":"COUNTIF(Observations!$I$7:$I$1000,B28)","v":0},{"$f":"COUNTIF(Observations!$I$7:$I$1000,C28)","v":0},{"$f":"COUNTIF(Observations!$I$7:$I$1000,D28)","v":0},0,"Number of fidelity observations completed. that met minimum fidelity.","Number for PM: Count of the number of fidelity observations completed this quarter by a trained observer not participating in the facilitation of the session, that minimum fidelity of 75%.",null,"P13"]
[{"$f":"COUNTIF('SS PrePost'!$GD$4:$GD$1040,A28)","v":0},{"$f":"COUNTIF('SS PrePost'!$GD$4:$GD$1040,B28)","v":0},{"$f":"COUNTIF('SS PrePost'!$GD$4:$GD$1040,C28)","v":0},{"$f":"COUNTIF('SS PrePost'!$GD$4:$GD$1040,D28)","v":0},0,"Number of Youth completing the Skillstreaming Checklist pre-post.","Number for PM: Count of the number of youth who completed both the Pre and Post Skillstreaming checklist in a program completed within this quarter.",null,"P14"]
[{"$f":"COUNTIF('AQ PrePost'!$EQ$4:$EQ$1040,A28)","v":0},{"$f":"COUNTIF('AQ PrePost'!$EQ$4:$EQ$1040,B28)","v":0},{"$f":"COUNTIF('AQ PrePost'!$EQ$4:$EQ$1040,C28)","v":0},{"$f":"COUNTIF('AQ PrePost'!$EQ$4:$EQ$1040,D28)","v":0},0,"Number of Youth completing the AQ pre-post.","Number for PM: Count of the number of youth who completed both the Pre and Post Aggression Questionnaire in a program completed within this quarter.",null,"P15"]
[{"$f":"COUNTIF('HIT PrePost'!$GC$4:$GC$1040,A28)","v":0},{"$f":"COUNTIF('HIT PrePost'!$GC$4:$GC$1040,B28)","v":0},{"$f":"COUNTIF('HIT PrePost'!$GC$4:$GC$1040,C28)","v":0},{"$f":"COUNTIF('HIT PrePost'!$GC$4:$GC$1040,D28)","v":0},0,"Number of Youth completing the HIT pre-post.","Number for PM: Count of the number of youth who completed both the Pre and Post \"How I Think\" Questionnaire in a program completed within this quarter.",null,"P16"]
[{"$f":"Programs!BA7","v":0},{"$f":"Programs!BB7","v":0},{"$f":"Programs!BC7","v":0},{"$f":"Programs!BD7","v":0},0,"Number of youth who were administratively withdrawn.","Number for PM: Count of the number of youth who were administratively withdrawn from a program completed within this quarter for administrative reasons including: the family moved out of the service area, losing funding, being removed from the program by the referral source against the advice of the ART program, or the youth being placed for an event that occurred prior to involvement in ART. Administrative withdrawals are cases where youth fail to complete the ART program for a reason/s beyond the agency's control. Documentation must be maintained for future monitoring purposes.",null,"P17"]
[{"$f":"COUNTIF('12 Mos FollowUp'!$S$4:$S$1040,A$28)","v":0},{"$f":"COUNTIF('12 Mos FollowUp'!$S$4:$S$1040,B$28)","v":0},{"$f":"COUNTIF('12 Mos FollowUp'!$S$4:$S$1040,C$28)","v":0},{"$f":"COUNTIF('12 Mos FollowUp'!$S$4:$S$1040,D$28)","v":0},{"$f":"SUM(A24:D24)","v":0},"Number of Youth who have participated in ART more than once.","Number for PM: Count of the number of youth who completed both the Pre and Post Skillstreaming checklist in a program completed within this quarter.",null,"P18"]
[{"$f":"COUNTIF('12 Mos FollowUp'!$T$4:$T$1040,A$28)","v":0},{"$f":"COUNTIF('12 Mos FollowUp'!$T$4:$T$1040,B$28)","v":0},{"$f":"COUNTIF('12 Mos FollowUp'!$T$4:$T$1040,C$28)","v":0},{"$f":"COUNTIF('12 Mos FollowUp'!$T$4:$T$1040,D$28)","v":0},0,"Number of Youth who were mandated to participate in ART.","Number for PM: Count of the number of youth who completed both the Pre and Post Aggression Questionnaire in a program completed within this quarter.",null,"P19"]
[{"$f":"COUNTIF('12 Mos FollowUp'!$U$4:$U$1040,A$28)","v":0},{"$f":"COUNTIF('12 Mos FollowUp'!$U$4:$U$1040,B$28)","v":0},{"$f":"COUNTIF('12 Mos FollowUp'!$U$4:$U$1040,C$28)","v":0},{"$f":"COUNTIF('12 Mos FollowUp'!$U$4:$U$1040,D$28)","v":0},0,"Number of Youth who had justice involvement before participating in ART.","Number for PM: Count of the number of youth who completed both the Pre and Post \"How I Think\" Questionnaire in a program completed within this quarter.",null,"P20"]
[]
[1,2,3,4]

{"sheet":"Outcome PMs Yr1","index":2,"n_rows":34,"n_cols":11,"rows_kept":34,"cut":false,"hidden":false,"merged":[[0,1,0,3],[1,1,1,3]]}
[{"$f":"Instructions!$A$1","v":"3 Version  - 11/15/2019"},"Agency",null,null,"Program","Contact","Email","Phone"]
[null,{"$f":"Instructions!$B$3","v":"Insert Agency Name"},null,null,{"$f":"'Process PMs Yr1'!E2","v":"ART"},{"$f":"'Process PMs Yr1'!F2","v":"Insert agency contact name"},{"$f":"'Process PMs Yr1'!G2","v":"Insert contact email address"},{"$f":"'Process PMs Yr1'!H2","v":0}]
["Year 1 - Quarter 1","Year 1 - Quarter 2","Year 1 - Quarter 3","Year 1 - Quarter 4"]
[{"$f":"TEXT(datecalcs!$A$4,\"mmm. yyyy\")&\" - \"&TEXT(datecalcs!$B$4,\"mmm. yyyy\")","v":"Jul. 2019 - Sep. 2019"},{"$f":"TEXT(datecalcs!$A$5,\"mmm. yyyy\")&\" - \"&TEXT(datecalcs!$B$5,\"mmm. yyyy\")","v":"Oct. 2019 - Dec. 2019"},{"$f":"TEXT(datecalcs!$A$6,\"mmm. yyyy\")&\" - \"&TEXT(datecalcs!$B$6,\"mmm. yyyy\")","v":"Jan. 2020 - Mar. 2020"},{"$f":"TEXT(datecalcs!$A$7,\"mmm. yyyy\")&\" - \"&TEXT(datecalcs!$B$7,\"mmm. yyyy\")","v":"Apr. 2020 - Jun. 2020"},"Cumulative","Percentage","Performance Measure","Description","Rules","Rules","PM#"]
["Data that will be calculated for sites"]
[{"$f":"COUNTIF('12 Mos FollowUp'!$P$4:$P$1040,A$34)","v":0},{"$f":"COUNTIF('12 Mos FollowUp'!$P$4:$P$1040,B$34)","v":0},{"$f":"COUNTIF('12 Mos FollowUp'!$P$4:$P$1040,C$34)","v":0},{"$f":"COUNTIF('12 Mos FollowUp'!$P$4:$P$1040,D$34)","v":0},{"$f":"SUM(A6:D6)","v":0},"N/A","Number of youth who completed a 12 month follow-up.","Number for PM: Count of the number of youth who completed a 12 month follow-up survey this quarter.",null,null,"O1"]
[{"$f":"COUNTIF('12 Mos FollowUp'!$R$4:$R$1040,A$34)","v":0},{"$f":"COUNTIF('12 Mos FollowUp'!$R$4:$R$1040,B$34)","v":0},{"$f":"COUNTIF('12 Mos FollowUp'!$R$4:$R$1040,C$34)","v":0},{"$f":"COUNTIF('12 Mos FollowUp'!$R$4:$R$1040,D$34)","v":0},{"$f":"SUM(A7:D7)","v":0},{"$f":"IF(E6=0,\"N/A\",E7/E6)","v":"N/A"},"Number of youth that were placed out of home placement within 12 months of completion of ART program","Number for PM: Count of the number of youth who had an out-of-home placement within 12 months of program completion.",null,null,"O2"]
[{"$f":"COUNTIF('12 Mos FollowUp'!$Q$4:$Q$1040,A$34)","v":0},{"$f":"COUNTIF('12 Mos FollowUp'!$Q$4:$Q$1040,B$34)","v":0},{"$f":"COUNTIF('12 Mos FollowUp'!$Q$4:$Q$1040,C$34)","v":0},{"$f":"COUNTIF('12 Mos FollowUp'!$Q$4:$Q$1040,D$34)","v":0},{"$f":"SUM(A8:D8)","v":0},{"$f":"IF(E6=0,\"N/A\",E8/E6)","v":"N/A"},"Number of youth who offended within 12 months of program completion.","Number for PM: Count of the number of youth who offended within 12 months of program completion.",null,null,"O3"]
[{"$f":"COUNTIF('AQ PrePost'!$ER$4:$ER$1040,A$34)","v":0},{"$f":"COUNTIF('AQ PrePost'!$ER$4:$ER$1040,B$34)","v":0},{"$f":"COUNTIF('AQ PrePost'!$ER$4:$ER$1040,C$34)","v":0},{"$f":"COUNTIF('AQ PrePost'!$ER$4:$ER$1040,D$34)","v":0},{"$f":"SUM(A9:D9)","v":0},{"$f":"IF('Process PMs Yr1'!$E$21=0,\"N/A\",E9/'Process PMs Yr1'!$E$21)","v":"N/A"},"Number of youth with reduced Physical Aggression.","Data: This data can be collected from the Aggression Questionnaire. Report on this measure for all youth whose ART Program ended during this reporting period and who completed pre- and post- Aggression Questionnaire Surveys.\nScoring: To create an Physical Aggression summary score, calculate the average of items 8,10,11,17,23,24,25,27 at pre-test and post-test. Lower scores represent less physical aggression.                                                                                         Number for PM: Count of the number of youth who had positive change (calculation yet to be determined) in this category. Only include youth who completed  ART program within this quarter in your count.",null,null,"O4"]
[{"$f":"COUNTIF('AQ PrePost'!$ET$4:$ET$1040,A$34)","v":0},{"$f":"COUNTIF('AQ PrePost'!$ET$4:$ET$1040,B$34)","v":0},{"$f":"COUNTIF('AQ PrePost'!$ET$4:$ET$1040,C$34)","v":0},{"$f":"COUNTIF('AQ PrePost'!$ET$4:$ET$1040,D$34)","v":0},{"$f":"SUM(A10:D10)","v":0},{"$f":"IF('Process PMs Yr1'!$E$21=0,\"N/A\",E10/'Process PMs Yr1'!$E$21)","v":"N/A"},"Number of youth with reduced Verbal Aggression.","Data: This data can be collected from the Aggression Questionnaire. Report on this measure for all youth whose ART Program ended during this reporting period and who completed pre- and post- Aggression Questionnaire Surveys.\nScoring: To create an Verbal Aggression summary score, calculate the average of items 1,4,6,20,26 at pre-test and post-test. Lower scores represent less verbal aggression.                                                                                                                             Number for PM: Count of the number of youth who had positive change (calculation yet to be determined) in this category. Only include youth who completed  ART program within this quarter in your count.",null,null,"O5"]
[{"$f":"COUNTIF('AQ PrePost'!$EV$4:$EV$1040,A$34)","v":0},{"$f":"COUNTIF('AQ PrePost'!$EV$4:$EV$1040,B$34)","v":0},{"$f":"COUNTIF('AQ PrePost'!$EV$4:$EV$1040,C$34)","v":0},{"$f":"COUNTIF('AQ PrePost'!$EV$4:$EV$1040,D$34)","v":0},0,{"$f":"IF('Process PMs Yr1'!$E$21=0,\"N/A\",E11/'Process PMs Yr1'!$E$21)","v":"N/A"},"Number of youth with reduced Anger.","Data: This data can be collected from the Aggression Questionnaire. Report on this measure for all youth whose ART Program ended during this reporting period and who completed pre- and post- Aggression Questionnaire Surveys.\nScoring: To create an Anger summary score, calculate the average of items 3,7,12,19,22,29,32 at pre-test and post-test. Lower scores represent less anger.                                                                                                                                                                       Number for PM: Count of the number of youth who had positive change (calculation yet to be determined) in this category. Only include youth who completed  ART program within this quarter in your count.",null,null,"O6"]
[{"$f":"COUNTIF('AQ PrePost'!$EX$4:$EX$1040,A$34)","v":0},{"$f":"COUNTIF('AQ PrePost'!$EX$4:$EX$1040,B$34)","v":0},{"$f":"COUNTIF('AQ PrePost'!$EX$4:$EX$1040,C$34)","v":0},{"$f":"COUNTIF('AQ PrePost'!$EX$4:$EX$1040,D$34)","v":0},0,{"$f":"IF('Process PMs Yr1'!$E$21=0,\"N/A\",E12/'Process PMs Yr1'!$E$21)","v":"N/A"},"Number of youth with reduced Hostility.","Data: This data can be collected from the Aggression Questionnaire. Report on this measure for all youth whose ART Program ended during this reporting period and who completed pre- and post- Aggression Questionnaire Surveys.\nScoring: To create an Physical Aggression summary score, calculate the average of items 2,5,9,16,21,28,31,33 at pre-test and post-test. Lower scores represent less hostility.                                                                                                                                       Number for PM: Count of the number of youth who had positive change (calculation yet to be determined) in this category. Only include youth who completed  ART program within this quarter in your count.",null,null,"O7"]
[{"$f":"COUNTIF('AQ PrePost'!$EZ$4:$EZ$1040,A$34)","v":0},{"$f":"COUNTIF('AQ PrePost'!$EZ$4:$EZ$1040,B$34)","v":0},{"$f":"COUNTIF('AQ PrePost'!$EZ$4:$EZ$1040,C$34)","v":0},{"$f":"COUNTIF('AQ PrePost'!$EZ$4:$EZ$1040,D$34)","v":0},0,{"$f":"IF('Process PMs Yr1'!$E$21=0,\"N/A\",E13/'Process PMs Yr1'!$E$21)","v":"N/A"},"Number of youth with reduced Indirect Aggression.","Data: This data can be collected from the Aggression Questionnaire. Report on this measure for all youth whose ART Program ended during this reporting period and who completed pre- and post- Aggression Questionnaire Surveys.\nScoring: To create an Physical Aggression summary score, calculate the average of items 13,14,15,18,30,34 at pre-test and post-test. Lower scores represent less indirect aggression.                                                                                                                                      Number for PM: Count of the number of youth who had positive change (calculation yet to be determined) in this category. Only include youth who completed  ART program within this quarter in your count.",null,null,"O8"]
[{"$f":"COUNTIF('AQ PrePost'!$FB$4:$FB$1040,A$34)","v":0},{"$f":"COUNTIF('AQ PrePost'!$FB$4:$FB$1040,B$34)","v":0},{"$f":"COUNTIF('AQ PrePost'!$FB$4:$FB$1040,C$34)","v":0},{"$f":"COUNTIF('AQ PrePost'!$FB$4:$FB$1040,D$34)","v":0},0,{"$f":"IF('Process PMs Yr1'!$E$21=0,\"N/A\",E14/'Process PMs Yr1'!$E$21)","v":"N/A"},"Number of youth with reduced overall aggression (as defined by the AQ).","Data: This data can be collected from the Aggression Questionnaire. Report on this measure for all youth whose ART Program ended during this reporting period and who completed pre- and post- Aggression Questionnaire Surveys.\nScoring: To create an Physical Aggression summary score, calculate the average of items 1-34 at pre-test and post-test. Lower scores represent lower overall aggression.                                                                                                                                Number for PM: Count of the number of youth who had positive change (calculation yet to be determined) in this category. Only include youth who completed  ART program within this quarter in your count.",null,null,"O9"]
[{"$f":"COUNTIF('HIT PrePost'!$GH$4:$GH$1040,A$34)","v":0},{"$f":"COUNTIF('HIT PrePost'!$GH$4:$GH$1040,B$34)","v":0},{"$f":"COUNTIF('HIT PrePost'!$GH$4:$GH$1040,C$34)","v":0},{"$f":"COUNTIF('HIT PrePost'!$GH$4:$GH$1040,D$34)","v":0},0,{"$f":"IF('Process PMs Yr1'!$E$22=0,\"N/A\",E15/'Process PMs Yr1'!$E$22)","v":"N/A"},"Number of youth with reduced Self-Centeredness (SC).","Data: This data can be collected from the How I Think Questionnaire. Report on this measure for all youth whose ART Program ended during this reporting period and who completed pre- and post- How I Think Questionnaire Surveys.\nScoring: To create an Physical Aggression summary score, calculate the average of items 3,7,10,22,28,37,42,52,54 at pre-test and post-test. Lower scores represent reduced self-centeredness.                                                                                                                                       Number for PM: Count of the number of youth who had positive change (calculation yet to be determined) in this category. Only include youth who completed  ART program within this quarter in your count.",null,null,"O10"]
[{"$f":"COUNTIF('HIT PrePost'!$GJ$4:$GJ$1040,A$34)","v":0},{"$f":"COUNTIF('HIT PrePost'!$GJ$4:$GJ$1040,B$34)","v":0},{"$f":"COUNTIF('HIT PrePost'!$GJ$4:$GJ$1040,C$34)","v":0},{"$f":"COUNTIF('HIT PrePost'!$GJ$4:$GJ$1040,D$34)","v":0},0,{"$f":"IF('Process PMs Yr1'!$E$22=0,\"N/A\",E16/'Process PMs Yr1'!$E$22)","v":"N/A"},"Number of youth with reduced instances Blaming Others (BO).","Data: This data can be collected from the How I Think Questionnaire. Report on this measure for all youth whose ART Program ended during this reporting period and who completed pre- and post- How I Think Questionnaire Surveys.\nScoring: To create an Physical Aggression summary score, calculate the average of items 6,11,21,25,26,36,39,44,46,50 at pre-test and post-test. Lower scores represent less instance blaming others.                                                                                                                                       Number for PM: Count of the number of youth who had positive change (calculation yet to be determined) in this category. Only include youth who completed  ART program within this quarter in your count.",null,null,"O11"]
[{"$f":"COUNTIF('HIT PrePost'!$GL$4:$GL$1040,A$34)","v":0},{"$f":"COUNTIF('HIT PrePost'!$GL$4:$GL$1040,B$34)","v":0},{"$f":"COUNTIF('HIT PrePost'!$GL$4:$GL$1040,C$34)","v":0},{"$f":"COUNTIF('HIT PrePost'!$GL$4:$GL$1040,D$34)","v":0},0,{"$f":"IF('Process PMs Yr1'!$E$22=0,\"N/A\",E17/'Process PMs Yr1'!$E$22)","v":"N/A"},"Number of youth with reduced Minimizing/Mislabeling (MM).","Data: This data can be collected from the How I Think Questionnaire. Report on this measure for all youth whose ART Program ended during this reporting period and who completed pre- and post- How I Think Questionnaire Surveys.\nScoring: To create an Physical Aggression summary score, calculate the average of items 5,12,14,17,19,30,33,40,47 at pre-test and post-test. Lower scores represent instance minimizing/mislabeling.                                                                                                                                     Number for PM: Count of the number of youth who had positive change (calculation yet to be determined) in this category. Only include youth who completed  ART program within this quarter in your count.",null,null,"O12"]
[{"$f":"COUNTIF('HIT PrePost'!$GN$4:$GN$1040,A$34)","v":0},{"$f":"COUNTIF('HIT PrePost'!$GN$4:$GN$1040,B$34)","v":0},{"$f":"COUNTIF('HIT PrePost'!$GN$4:$GN$1040,C$34)","v":0},{"$f":"COUNTIF('HIT PrePost'!$GN$4:$GN$1040,D$34)","v":0},0,{"$f":"IF('Process PMs Yr1'!$E$22=0,\"N/A\",E18/'Process PMs Yr1'!$E$22)","v":"N/A"},"Number of youth with reduced instances of Assuming the Worst (AW).","Data: This data can be collected from the How I Think Questionnaire. Report on this measure for all youth whose ART Program ended during this reporting period and who completed pre- and post- How I Think Questionnaire Surveys.\nScoring: To create an Physical Aggression summary score, calculate the average of items 2,8,15,18,23,29,32,35,43,49,53 at pre-test and post-test. Lower scores represent fewer instances of \"assuming the worst\".                                                                                                                                       Number for PM: Count of the number of youth who had positive change (calculation yet to be determined) in this category. Only include youth who completed  ART program within this quarter in your count.",null,null,"O13"]
[{"$f":"COUNTIF('HIT PrePost'!$GP$4:$GP$1040,A$34)","v":0},{"$f":"COUNTIF('HIT PrePost'!$GP$4:$GP$1040,B$34)","v":0},{"$f":"COUNTIF('HIT PrePost'!$GP$4:$GP$1040,C$34)","v":0},{"$f":"COUNTIF('HIT PrePost'!$GP$4:$GP$1040,D$34)","v":0},0,{"$f":"IF('Process PMs Yr1'!$E$22=0,\"N/A\",E19/'Process PMs Yr1'!$E$22)","v":"N/A"},"Number of youth with reduced Opposition Defiance behaviors (OD).","Data: This data can be collected from the How I Think Questionnaire. Report on this measure for all youth whose ART Program ended during this reporting period and who completed pre- and post- How I Think Questionnaire Surveys.\nScoring: To create an Physical Aggression summary score, calculate the average of items 2,6,12,18,29,37,40,42,46,54 at pre-test and post-test. Lower scores represent less instances of oppositional defiant behaviors.                                                                                                                                      Number for PM: Count of the number of youth who had positive change (calculation yet to be determined) in this category. Only include youth who completed  ART program within this quarter in your count.",null,null,"O14"]
[{"$f":"COUNTIF('HIT PrePost'!$GR$4:$GR$1040,A$34)","v":0},{"$f":"COUNTIF('HIT PrePost'!$GR$4:$GR$1040,B$34)","v":0},{"$f":"COUNTIF('HIT PrePost'!$GR$4:$GR$1040,C$34)","v":0},{"$f":"COUNTIF('HIT PrePost'!$GR$4:$GR$1040,D$34)","v":0},0,{"$f":"IF('Process PMs Yr1'!$E$22=0,\"N/A\",E20/'Process PMs Yr1'!$E$22)","v":"N/A"},"Number of youth with reduced Physical Aggression (PA).","Data: This data can be collected from the How I Think Questionnaire. Report on this measure for all youth whose ART Program ended during this reporting period and who completed pre- and post- How I Think Questionnaire Surveys.\nScoring: To create an Physical Aggression summary score, calculate the average of items 5,10,15,19,23,28,32,36,44,50 at pre-test and post-test. Lower scores represent less physical aggression.                                                                                                                                       Number for PM: Count of the number of youth who had positive change (calculation yet to be determined) in this category. Only include youth who completed  ART program within this quarter in your count.",null,null,"O15"]
[{"$f":"COUNTIF('HIT PrePost'!$GT$4:$GT$1040,A$34)","v":0},{"$f":"COUNTIF('HIT PrePost'!$GT$4:$GT$1040,B$34)","v":0},{"$f":"COUNTIF('HIT PrePost'!$GT$4:$GT$1040,C$34)","v":0},{"$f":"COUNTIF('HIT PrePost'!$GT$4:$GT$1040,D$34)","v":0},0,{"$f":"IF('Process PMs Yr1'!$E$22=0,\"N/A\",E21/'Process PMs Yr1'!$E$22)","v":"N/A"},"Number of youth with reduced instances of Lying (L).","Data: This data can be collected from the How I Think Questionnaire. Report on this measure for all youth whose ART Program ended during this reporting period and who completed pre- and post- How I Think Questionnaire Surveys.\nScoring: To create an Physical Aggression summary score, calculate the average of items 3,8,14,21,26,33,49,52 at pre-test and post-test. Lower scores represent less instances lying.                                                                                                                                       Number for PM: Count of the number of youth who had positive change (calculation yet to be determined) in this category. Only include youth who completed  ART program within this quarter in your count.",null,null,"O16"]
[{"$f":"COUNTIF('HIT PrePost'!$GV$4:$GV$1040,A$34)","v":0},{"$f":"COUNTIF('HIT PrePost'!$GV$4:$GV$1040,B$34)","v":0},{"$f":"COUNTIF('HIT PrePost'!$GV$4:$GV$1040,C$34)","v":0},{"$f":"COUNTIF('HIT PrePost'!$GV$4:$GV$1040,D$34)","v":0},0,{"$f":"IF('Process PMs Yr1'!$E$22=0,\"N/A\",E22/'Process PMs Yr1'!$E$22)","v":"N/A"},"Number of youth with reduced instance of Stealing (S).","Data: This data can be collected from the How I Think Questionnaire. Report on this measure for all youth whose ART Program ended during this reporting period and who completed pre- and post- How I Think Questionnaire Surveys.\nScoring: To create an Physical Aggression summary score, calculate the average of items 7,11,17,22,25,30,35,39,43,47,53 at pre-test and post-test. Lower scores represent less instances stealing.                                                                                                                                       Number for PM: Count of the number of youth who had positive change (calculation yet to be determined) in this category. Only include youth who completed  ART program within this quarter in your count.",null,null,"O17"]
[{"$f":"COUNTIF('HIT PrePost'!$GW$4:$GW$1040,A$34)","v":0},{"$f":"COUNTIF('HIT PrePost'!$GW$4:$GW$1040,B$34)","v":0},{"$f":"COUNTIF('HIT PrePost'!$GW$4:$GW$1040,C$34)","v":0},{"$f":"COUNTIF('HIT PrePost'!$GW$4:$GW$1040,D$34)","v":0},0,{"$f":"IF('Process PMs Yr1'!$E$22=0,\"N/A\",E23/'Process PMs Yr1'!$E$22)","v":"N/A"},"Number of youth with reduced overt aggression (being outwardly aggressive).","Data: This data can be collected from the How I Think Questionnaire. Report on this measure for all youth whose ART Program ended during this reporting period and who completed pre- and post- How I Think Questionnaire Surveys.\nScoring: To create an Physical Aggression summary score, calculate the average of contructs OD and PA at pre-test and post-test. Lower scores represent less instance being outwardly agressive.                                                                                                                                     Number for PM: Count of the number of youth who had positive change (calculation yet to be determined) in this category. Only include youth who completed  ART program within this quarter in your count.",null,null,"O18"]
[{"$f":"COUNTIF('HIT PrePost'!$GX$4:$GX$1040,A$34)","v":0},{"$f":"COUNTIF('HIT PrePost'!$GX$4:$GX$1040,B$34)","v":0},{"$f":"COUNTIF('HIT PrePost'!$GX$4:$GX$1040,C$34)","v":0},{"$f":"COUNTIF('HIT PrePost'!$GX$4:$GX$1040,D$34)","v":0},0,{"$f":"IF('Process PMs Yr1'!$E$22=0,\"N/A\",E24/'Process PMs Yr1'!$E$22)","v":"N/A"},"Number of youth with reduced covert aggression (being inwardly aggressive). ","Data: This data can be collected from the How I Think Questionnaire. Report on this measure for all youth whose ART Program ended during this reporting period and who completed pre- and post- How I Think Questionnaire Surveys.\nScoring: To create an Physical Aggression summary score, calculate the average of contructs L and S  at pre-test and post-test. Lower scores represent less instance being inwardly agressive.                                                                                                 Number for PM: Count of the number of youth who had positive change (calculation yet to be determined) in this category. Only include youth who completed  ART program within this quarter in your count.",null,null,"O19"]
[{"$f":"COUNTIF('HIT PrePost'!$GY$4:$GY$1040,A$34)","v":0},{"$f":"COUNTIF('HIT PrePost'!$GY$4:$GY$1040,B$34)","v":0},{"$f":"COUNTIF('HIT PrePost'!$GY$4:$GY$1040,C$34)","v":0},{"$f":"COUNTIF('HIT PrePost'!$GY$4:$GY$1040,D$34)","v":0},0,{"$f":"IF('Process PMs Yr1'!$E$22=0,\"N/A\",E25/'Process PMs Yr1'!$E$22)","v":"N/A"},"Number of youth with reduced HIT Total Score (reduced cognitive distortions).","Data: This data can be collected from the How I Think Questionnaire. Report on this measure for all youth whose ART Program ended during this reporting period and who completed pre- and post- How I Think Questionnaire Surveys.\nScoring: To create an Physical Aggression summary score, calculate the average all contructs SC,BO,MM,AW,OD,PA,L,S  at pre-test and post-test. Lower scores represent less instances of cognitive distortions.                                                                    Number for PM: Count of the number of youth who had positive change (calculation yet to be determined) in this category. Only include youth who completed  ART program within this quarter in your count.",null,null,"O20"]
[{"$f":"COUNTIF('SS PrePost'!$GF$4:$GF$1040,A34)","v":0},{"$f":"COUNTIF('SS PrePost'!$GF$4:$GF$1040,B34)","v":0},{"$f":"COUNTIF('SS PrePost'!$GF$4:$GF$1040,C34)","v":0},{"$f":"COUNTIF('SS PrePost'!$GF$4:$GF$1040,D34)","v":0},0,{"$f":"IF('Process PMs Yr1'!$E$20=0,\"N/A\",E26/'Process PMs Yr1'!$E$20)","v":"N/A"},"Number of youth with improved Beginning Social Skills.","Data: This data can be collected from the Skillstreaming Checklist. Report on this measure for all youth whose ART Program ended during this reporting period and who completed pre- and post- Skillstreaming Checklist Surveys.\nScoring: To create an Beginning Social Skills summary score, calculate the average of items 1-8 at pre-test and post-test. Higher scores represent improved beginning social skills.                                              Number for PM: Count of the number of youth who had positive change (calculation yet to be determined) in this category. Only include youth who completed  ART program within this quarter in your count.",null,null,"O21"]
[{"$f":"COUNTIF('SS PrePost'!$GH$4:$GH$1040,A34)","v":0},{"$f":"COUNTIF('SS PrePost'!$GH$4:$GH$1040,B34)","v":0},{"$f":"COUNTIF('SS PrePost'!$GH$4:$GH$1040,C34)","v":0},{"$f":"COUNTIF('SS PrePost'!$GH$4:$GH$1040,D34)","v":0},0,{"$f":"IF('Process PMs Yr1'!$E$20=0,\"N/A\",E27/'Process PMs Yr1'!$E$20)","v":"N/A"},"Number of youth with improved Advanced Social Skills.","Data: This data can be collected from the Skillstreaming Checklist. Report on this measure for all youth whose ART Program ended during this reporting period and who completed pre- and post- Skillstreaming Checklist Surveys.\nScoring: To create an Advanced Social Skills summary score, calculate the average of items 9-14 at pre-test and post-test. Higher scores represent improved advanced social skills.                                              Number for PM: Count of the number of youth who had positive change (calculation yet to be determined) in this category. Only include youth who completed  ART program within this quarter in your count.",null,null,"O22"]
[{"$f":"COUNTIF('SS PrePost'!$GJ$4:$GJ$1040,A34)","v":0},{"$f":"COUNTIF('SS PrePost'!$GJ$4:$GJ$1040,B34)","v":0},{"$f":"COUNTIF('SS PrePost'!$GJ$4:$GJ$1040,C34)","v":0},{"$f":"COUNTIF('SS PrePost'!$GJ$4:$GJ$1040,D34)","v":0},0,{"$f":"IF('Process PMs Yr1'!$E$20=0,\"N/A\",E28/'Process PMs Yr1'!$E$20)","v":"N/A"},"Number of youth with improved Skills for Dealing with Feelings.","Data: This data can be collected from the Skillstreaming Checklist. Report on this measure for all youth whose ART Program ended during this reporting period and who completed pre- and post- Skillstreaming Checklist Surveys.\nScoring: To create an Beginning Social Skills summary score, calculate the average of items 15-21 at pre-test and post-test. Higher scores represent improved skills for dealing with feelings.                                                                                                 Number for PM: Count of the number of youth who had positive change (calculation yet to be determined) in this category. Only include youth who completed  ART program within this quarter in your count.",null,null,"O23"]
[{"$f":"COUNTIF('SS PrePost'!$GL$4:$GL$1040,A34)","v":0},{"$f":"COUNTIF('SS PrePost'!$GL$4:$GL$1040,B34)","v":0},{"$f":"COUNTIF('SS PrePost'!$GL$4:$GL$1040,C34)","v":0},{"$f":"COUNTIF('SS PrePost'!$GL$4:$GL$1040,D34)","v":0},0,{"$f":"IF('Process PMs Yr1'!$E$20=0,\"N/A\",E29/'Process PMs Yr1'!$E$20)","v":"N/A"},"Number of youth with improved Skill Alternatives to Aggression.","Data: This data can be collected from the Skillstreaming Checklist. Report on this measure for all youth whose ART Program ended during this reporting period and who completed pre- and post- Skillstreaming Checklist Surveys.\nScoring: To create an Advanced Social Skills summary score, calculate the average of items 22-30 at pre-test and post-test. Higher scores represent improved skills of alternatives to aggression.                                                                                            Number for PM: Count of the number of youth who had positive change (calculation yet to be determined) in this category. Only include youth who completed  ART program within this quarter in your count.",null,null,"O24"]
[{"$f":"COUNTIF('SS PrePost'!$GN$4:$GN$1040,A34)","v":0},{"$f":"COUNTIF('SS PrePost'!$GN$4:$GN$1040,B34)","v":0},{"$f":"COUNTIF('SS PrePost'!$GN$4:$GN$1040,C34)","v":0},{"$f":"COUNTIF('SS PrePost'!$GN$4:$GN$1040,D34)","v":0},0,{"$f":"IF('Process PMs Yr1'!$E$20=0,\"N/A\",E30/'Process PMs Yr1'!$E$20)","v":"N/A"},"Number of youth with improved Skills for Dealing with Stress.","Data: This data can be collected from the Skillstreaming Checklist. Report on this measure for all youth whose ART Program ended during this reporting period and who completed pre- and post- Skillstreaming Checklist Surveys.\nScoring: To create an Beginning Social Skills summary score, calculate the average of items 31-42 at pre-test and post-test. Higher scores represent improved skills dealing with stress.                                               Number for PM: Count of the number of youth who had positive change (calculation yet to be determined) in this category. Only include youth who completed  ART program within this quarter in your count.",null,null,"O25"]
[{"$f":"COUNTIF('SS PrePost'!$GP$4:$GP$1040,A34)","v":0},{"$f":"COUNTIF('SS PrePost'!$GP$4:$GP$1040,B34)","v":0},{"$f":"COUNTIF('SS PrePost'!$GP$4:$GP$1040,C34)","v":0},{"$f":"COUNTIF('SS PrePost'!$GP$4:$GP$1040,D34)","v":0},0,{"$f":"IF('Process PMs Yr1'!$E$20=0,\"N/A\",E31/'Process PMs Yr1'!$E$20)","v":"N/A"},"Number of youth with improved Planning Skills.","Data: This data can be collected from the Skillstreaming Checklist. Report on this measure for all youth whose ART Program ended during this reporting period and who completed pre- and post- Skillstreaming Checklist Surveys.\nScoring: To create an Advanced Social Skills summary score, calculate the average of items 43-50 at pre-test and post-test. Higher scores represent improved planning skills.                                              Number for PM: Count of the number of youth who had positive change (calculation yet to be determined) in this category. Only include youth who completed  ART program within this quarter in your count.",null,null,"O26"]
[{"$f":"COUNTIF('SS PrePost'!$GR$4:$GR$1040,A34)","v":0},{"$f":"COUNTIF('SS PrePost'!$GR$4:$GR$1040,B34)","v":0},{"$f":"COUNTIF('SS PrePost'!$GR$4:$GR$1040,C34)","v":0},{"$f":"COUNTIF('SS PrePost'!$GR$4:$GR$1040,D34)","v":0},0,{"$f":"IF('Process PMs Yr1'!$E$20=0,\"N/A\",E32/'Process PMs Yr1'!$E$20)","v":"N/A"},"Number of youth with improved Skillstreaming Total Score.","Data: This data can be collected from the Skillstreaming Checklist. Report on this measure for all youth whose ART Program ended during this reporting period and who completed pre- and post- Skillstreaming Checklist Surveys.\nScoring: To create an Beginning Social Skills summary score, calculate the average of items 1-50 at pre-test and post-test. Higher scores represent improved social skills overall.                                           Number for PM: Count of the number of youth who had positive change (calculation yet to be determined) in this category. Only include youth who completed  ART program within this quarter in your count.",null,null,"O27"]
[]
[1,2,3,4]

{"sheet":"Process PMs Yr2","index":3,"n_rows":28,"n_cols":9,"rows_kept":28,"cut":false,"hidden":false,"merged":[[1,7,1,8],[0,1,0,3],[1,1,1,3]]}
[{"$f":"Instructions!$A$1","v":"3 Version  - 11/15/2019"},"Agency",null,null,"Program","Contact","Email:","Phone"]
[null,{"$f":"Instructions!$B$3","v":"Insert Agency Name"},null,null,"ART",{"$f":"Instructions!$B$4","v":"Insert agency contact name"},{"$f":"Instructions!$B$5","v":"Insert contact email address"}]
["Year 2 - Quarter 1","Year 2 - Quarter 2","Year 2 - Quarter 3","Year 2 - Quarter 4"]
[{"$f":"TEXT(datecalcs!$A$8,\"mmm. yyyy\")&\" - \"&TEXT(datecalcs!$B$8,\"mmm. yyyy\")","v":"Jul. 2020 - Sep. 2020"},{"$f":"TEXT(datecalcs!$A$9,\"mmm. yyyy\")&\" - \"&TEXT(datecalcs!$B$9,\"mmm. yyyy\")","v":"Oct. 2020 - Dec. 2020"},{"$f":"TEXT(datecalcs!$A$10,\"mmm. yyyy\")&\" - \"&TEXT(datecalcs!$B$10,\"mmm. yyyy\")","v":"Jan. 2021 - Mar. 2021"},{"$f":"TEXT(datecalcs!$A$11,\"mmm. yyyy\")&\" - \"&TEXT(datecalcs!$B$11,\"mmm. yyyy\")","v":"Apr. 2021 - Jun. 2021"},"Cumulative","Performance Measure","Description","Rules","PM#"]
["Data for sites to enter"]
[null,null,null,null,{"$f":"SUM(A6:D6)","v":0},"Number of ART facilitators trained.","Data: This information should be collected by internal tracking systems.\nNumber for PM: Count each ART facilitator that completed ART initial training during this quarter. Count each trainee only once in the quarter they completed training.",null,"P1"]
[null,null,null,null,0,"Number of ART facilitators who became eligible for proficiency.","Data: This information should be collected by internal tracking systems.\nNumber for PM: Count each ART facilitator that became eligible for proficiency (defined as having facilitated 36 or more sessions and at least 12 in each of the 3 program components) during this quarter. Count each facilitator only once in the quarter they became eligible for proficiency.","The total number of ART facilitators who became eligible for proficiency should be less than or equal to the total number of ART facilitators trained","P2"]
[null,null,null,null,0,"Number of ART facilitators who achieved proficiency.","Data: This information should be collected by internal tracking systems.\nNumber for PM: Count each ART facilitator who has achieved proficiency (defined by being eligible for trainer proficiency and achieving a score of 2 or greater in all video review categories when evaluated by a master trainer) this quarter. Count each facilitator only once in the quarter they became proficient.","The total number of ART facilitators who became proficient should be less than or equal to the total number of ART facilitators who became eligible for proficiency","P3"]
[null,null,null,null,0,"Number facilitators who attended an Agency Trainer training.","Data: This information should be collected by internal tracking systems.\nNumber for PM: Count each trainee only once.",null,"P4"]
[null,null,null,null,0,"Number of ART facilitators who became eligible for Agency Trainer proficiency.","Data: This information should be collected by internal tracking systems. Eligible for proficiency is defined as having facilitated 72 or more sessions, with at least 24 in each of the 3 program components and has completed the Agency Trainer training.\nNumber for PM: Count each facilitator only once.","The total number of ART facilitators who became eligible for Agency Trainer proficiency should be less than or equal to the total number of ART facilitators who attended an Agency Trainer training.","P5"]
[null,null,null,null,0,"Total number of ART sessions delivered.","Data: This information should be collected by internal tracking systems.                                                                                                Number for PM: Count the total number of ART Skill Streaming, Anger Management and Moral Reasoning sessions delivered within this quarter.",null,"P6"]
[null,null,null,null,0,"Total number of ART session fidelity forms completed.","Data: This information should be collected from the ART fidelity forms completed by external observers and facilitators facilitating the sessions.                                                            Number for PM: Count of the number of ART fidelity forms completed by external observers and facilitators for sessions delivered within this quarter. ",null,"P7"]
[null,null,null,null,{"$f":"SUM(A13:D13)","v":0},"Number of Reports to the Collaborative Board: Number of data/outcome reports presented to the collaborative board that supported the project and/or number of written or oral presentations made during this reporting period to the collaborative board that supported the project.","Data: Grantees are required to report to the collaborative board that supported the grant proposal at least quarterly and to provide a written data report highlighting program outcomes at least annually. The annual written data report must be submitted to the collaborative board prior to the end of each fiscal year. The written data report must also be attached in E-grants. Meeting minutes or other documentation may also be attached. This information should be collected using internal tracking systems.\nNumber for PM: Count each report only once. Only report this for reports/presentations given within this quarter.",null,"P8"]
["Data that will be calculated for sites"]
[{"$f":"COUNTIF(Programs!$BI$8:$BI$1040,A28)","v":0},{"$f":"COUNTIF(Programs!$BI$8:$BI$1040,B28)","v":0},{"$f":"COUNTIF(Programs!$BI$8:$BI$1040,C28)","v":0},{"$f":"COUNTIF(Programs!$BI$8:$BI$1040,D28)","v":0},{"$f":"SUM(A15:D15)","v":0},"Number of times full ART curriculum was delivered.","Number for PM: Count of the number of times a complete 30 session program was completed within this quarter. Completion is counted in the quarter that final program session was delivered.",null,"P9"]
[{"$f":"COUNTIF(Programs!$BJ$9:$BJ$1040,A28)","v":0},{"$f":"COUNTIF(Programs!$BJ$9:$BJ$1040,B28)","v":0},{"$f":"COUNTIF(Programs!$BJ$9:$BJ$1040,C28)","v":0},{"$f":"COUNTIF(Programs!$BJ$9:$BJ$1040,D28)","v":0},0,"Number of youth served.","Number for PM: Count of the number of youth who participated in at least one ART session in a program completed within this quarter.",null,"P10"]
[{"$f":"Programs!AV7","v":0},{"$f":"Programs!AW7","v":0},{"$f":"Programs!AX7","v":0},{"$f":"Programs!AY7","v":0},0,"Number of youth completing the ART curriculum.","Number for PM: Count of the number of unduplicated youth who completed all 28 or more sessions of a program completed within this quarter. Completion is counted in the quarter that final program session was delivered.",null,"P11"]
[{"$f":"COUNTIF(Observations!$H$7:$H$1000,A28)","v":0},{"$f":"COUNTIF(Observations!$H$7:$H$1000,B28)","v":0},{"$f":"COUNTIF(Observations!$H$7:$H$1000,C28)","v":0},{"$f":"COUNTIF(Observations!$H$7:$H$1000,D28)","v":0},0,"Total number of fidelity observations completed.","Number for PM: Count of the number of fidelity observations completed this quarter by a trained observer not participating in the facilitation of the session.",null,"P12"]
[{"$f":"COUNTIF(Observations!$I$7:$I$1000,A28)","v":0},{"$f":"COUNTIF(Observations!$I$7:$I$1000,B28)","v":0},{"$f":"COUNTIF(Observations!$I$7:$I$1000,C28)","v":0},{"$f":"COUNTIF(Observations!$I$7:$I$1000,D28)","v":0},0,"Number of fidelity observations completed. that met minimum fidelity.","Number for PM: Count of the number of fidelity observations completed this quarter by a trained observer not participating in the facilitation of the session, that minimum fidelity of 75%.",null,"P13"]
[{"$f":"COUNTIF('SS PrePost'!$GD$4:$GD$1040,A28)","v":0},{"$f":"COUNTIF('SS PrePost'!$GD$4:$GD$1040,B28)","v":0},{"$f":"COUNTIF('SS PrePost'!$GD$4:$GD$1040,C28)","v":0},{"$f":"COUNTIF('SS PrePost'!$GD$4:$GD$1040,D28)","v":0},0,"Number of Youth completing the Skillstreaming Checklist pre-post.","Number for PM: Count of the number of youth who completed both the Pre and Post Skillstreaming checklist in a program completed within this quarter.",null,"P14"]
[{"$f":"COUNTIF('AQ PrePost'!$EQ$4:$EQ$1040,A28)","v":0},{"$f":"COUNTIF('AQ PrePost'!$EQ$4:$EQ$1040,B28)","v":0},{"$f":"COUNTIF('AQ PrePost'!$EQ$4:$EQ$1040,C28)","v":0},{"$f":"COUNTIF('AQ PrePost'!$EQ$4:$EQ$1040,D28)","v":0},0,"Number of Youth completing the AQ pre-post.","Number for PM: Count of the number of youth who completed both the Pre and Post Aggression Questionnaire in a program completed within this quarter.",null,"P15"]
[{"$f":"COUNTIF('HIT PrePost'!$GC$4:$GC$1040,A28)","v":0},{"$f":"COUNTIF('HIT PrePost'!$GC$4:$GC$1040,B28)","v":0},{"$f":"COUNTIF('HIT PrePost'!$GC$4:$GC$1040,C28)","v":0},{"$f":"COUNTIF('HIT PrePost'!$GC$4:$GC$1040,D28)","v":0},0,"Number of Youth completing the HIT pre-post.","Number for PM: Count of the number of youth who completed both the Pre and Post \"How I Think\" Questionnaire in a program completed within this quarter.",null,"P16"]
[{"$f":"Programs!BE7","v":0},{"$f":"Programs!BF7","v":0},{"$f":"Programs!BG7","v":0},{"$f":"Programs!BH7","v":0},0,"Number of youth who were administratively withdrawn.","Number for PM: Count of the number of youth who were administratively withdrawn from a program completed within this quarter for administrative reasons including: the family moved out of the service area, losing funding, being removed from the program by the referral source against the advice of the ART program, or the youth being placed for an event that occurred prior to involvement in ART. Administrative withdrawals are cases where youth fail to complete the ART program for a reason/s beyond the agency's control. Documentation must be maintained for future monitoring purposes.",null,"P17"]
[{"$f":"COUNTIF('12 Mos FollowUp'!$S$4:$S$1040,A$28)","v":0},{"$f":"COUNTIF('12 Mos FollowUp'!$S$4:$S$1040,B$28)","v":0},{"$f":"COUNTIF('12 Mos FollowUp'!$S$4:$S$1040,C$28)","v":0},{"$f":"COUNTIF('12 Mos FollowUp'!$S$4:$S$1040,D$28)","v":0},0,"Number of Youth who have participated in ART more than once.","Number for PM: Count of the number of youth who completed both the Pre and Post Skillstreaming checklist in a program completed within this quarter.",null,"P18"]
[{"$f":"COUNTIF('12 Mos FollowUp'!$T$4:$T$1040,A$28)","v":0},{"$f":"COUNTIF('12 Mos FollowUp'!$T$4:$T$1040,B$28)","v":0},{"$f":"COUNTIF('12 Mos FollowUp'!$T$4:$T$1040,C$28)","v":0},{"$f":"COUNTIF('12 Mos FollowUp'!$T$4:$T$1040,D$28)","v":0},0,"Number of Youth who were mandated to participate in ART.","Number for PM: Count of the number of youth who completed both the Pre and Post Aggression Questionnaire in a program completed within this quarter.",null,"P19"]
[{"$f":"COUNTIF('12 Mos FollowUp'!$U$4:$U$1040,A$28)","v":0},{"$f":"COUNTIF('12 Mos FollowUp'!$U$4:$U$1040,B$28)","v":0},{"$f":"COUNTIF('12 Mos FollowUp'!$U$4:$U$1040,C$28)","v":0},{"$f":"COUNTIF('12 Mos FollowUp'!$U$4:$U$1040,D$28)","v":0},0,"Number of Youth who had justice involvement before participating in ART.","Number for PM: Count of the number of youth who completed both the Pre and Post \"How I Think\" Questionnaire in a program completed within this quarter.",null,"P20"]
[]
[5,6,7,8]

{"sheet":"Outcome PMs Yr2","index":4,"n_rows":34,"n_cols":11,"rows_kept":34,"cut":false,"hidden":false,"merged":[[0,1,0,3],[1,1,1,3]]}
[{"$f":"Instructions!$A$1","v":"3 Version  - 11/15/2019"},"Agency",null,null,"Program","Contact","Email","Phone"]
[null,{"$f":"Instructions!$B$3","v":"Insert Agency Name"},null,null,{"$f":"'Process PMs Yr1'!E2","v":"ART"},{"$f":"'Process PMs Yr1'!F2","v":"Insert agency contact name"},{"$f":"'Process PMs Yr1'!G2","v":"Insert contact email address"},{"$f":"'Process PMs Yr1'!H2","v":0}]
["Year 2 - Quarter 1","Year 2 - Quarter 2","Year 2 - Quarter 3","Year 2 - Quarter 4"]
[{"$f":"TEXT(datecalcs!$A$8,\"mmm. yyyy\")&\" - \"&TEXT(datecalcs!$B$8,\"mmm. yyyy\")","v":"Jul. 2020 - Sep. 2020"},{"$f":"TEXT(datecalcs!$A$9,\"mmm. yyyy\")&\" - \"&TEXT(datecalcs!$B$9,\"mmm. yyyy\")","v":"Oct. 2020 - Dec. 2020"},{"$f":"TEXT(datecalcs!$A$10,\"mmm. yyyy\")&\" - \"&TEXT(datecalcs!$B$10,\"mmm. yyyy\")","v":"Jan. 2021 - Mar. 2021"},{"$f":"TEXT(datecalcs!$A$11,\"mmm. yyyy\")&\" - \"&TEXT(datecalcs!$B$11,\"mmm. yyyy\")","v":"Apr. 2021 - Jun. 2021"},"Cumulative","Percentage","Performance Measure","Description","Rules",null,"PM#"]
["Data that will be calculated for sites"]
[{"$f":"COUNTIF('12 Mos FollowUp'!$P$4:$P$1040,A$34)","v":0},{"$f":"COUNTIF('12 Mos FollowUp'!$P$4:$P$1040,B$34)","v":0},{"$f":"COUNTIF('12 Mos FollowUp'!$P$4:$P$1040,C$34)","v":0},{"$f":"COUNTIF('12 Mos FollowUp'!$P$4:$P$1040,D$34)","v":0},{"$f":"SUM(A6:D6)","v":0},"N/A","Number of youth who completed a 12 month follow-up.","Number for PM: Count of the number of youth who completed a 12 month follow-up survey this quarter.",null,null,"O1"]
[{"$f":"COUNTIF('12 Mos FollowUp'!$R$4:$R$1040,A$34)","v":0},{"$f":"COUNTIF('12 Mos FollowUp'!$R$4:$R$1040,B$34)","v":0},{"$f":"COUNTIF('12 Mos FollowUp'!$R$4:$R$1040,C$34)","v":0},{"$f":"COUNTIF('12 Mos FollowUp'!$R$4:$R$1040,D$34)","v":0},{"$f":"SUM(A7:D7)","v":0},{"$f":"IF(E6=0,\"N/A\",E7/E6)","v":"N/A"},"Number of youth that were placed out of home placement within 12 months of completion of ART program","Number for PM: Count of the number of youth who had an out-of-home placement within 12 months of program completion.",null,null,"O2"]
[{"$f":"COUNTIF('12 Mos FollowUp'!$Q$4:$Q$1040,A$34)","v":0},{"$f":"COUNTIF('12 Mos FollowUp'!$Q$4:$Q$1040,B$34)","v":0},{"$f":"COUNTIF('12 Mos FollowUp'!$Q$4:$Q$1040,C$34)","v":0},{"$f":"COUNTIF('12 Mos FollowUp'!$Q$4:$Q$1040,D$34)","v":0},{"$f":"SUM(A8:D8)","v":0},{"$f":"IF(E6=0,\"N/A\",E8/E6)","v":"N/A"},"Number of youth who offended within 12 months of program completion.","Number for PM: Count of the number of youth who offended within 12 months of program completion.",null,null,"O3"]
[{"$f":"COUNTIF('AQ PrePost'!$ER$4:$ER$1040,A$34)","v":0},{"$f":"COUNTIF('AQ PrePost'!$ER$4:$ER$1040,B$34)","v":0},{"$f":"COUNTIF('AQ PrePost'!$ER$4:$ER$1040,C$34)","v":0},{"$f":"COUNTIF('AQ PrePost'!$ER$4:$ER$1040,D$34)","v":0},{"$f":"SUM(A9:D9)","v":0},{"$f":"IF('Process PMs Yr2'!$E$20=0,\"N/A\",E9/'Process PMs Yr2'!$E$21)","v":"N/A"},"Number of youth with reduced Physical Aggression.","Data: This data can be collected from the Aggression Questionnaire. Report on this measure for all youth whose ART Program ended during this reporting period and who completed pre- and post- Aggression Questionnaire Surveys.\nScoring: To create an Physical Aggression summary score, calculate the average of items 8,10,11,17,23,24,25,27 at pre-test and post-test. Lower scores represent less physical aggression.                                                                                         Number for PM: Count of the number of youth who had positive change (calculation yet to be determined) in this category. Only include youth who completed  ART program within this quarter in your count.",null,null,"O4"]
[{"$f":"COUNTIF('AQ PrePost'!$ET$4:$ET$1040,A$34)","v":0},{"$f":"COUNTIF('AQ PrePost'!$ET$4:$ET$1040,B$34)","v":0},{"$f":"COUNTIF('AQ PrePost'!$ET$4:$ET$1040,C$34)","v":0},{"$f":"COUNTIF('AQ PrePost'!$ET$4:$ET$1040,D$34)","v":0},{"$f":"SUM(A10:D10)","v":0},{"$f":"IF('Process PMs Yr2'!$E$20=0,\"N/A\",E10/'Process PMs Yr2'!$E$21)","v":"N/A"},"Number of youth with reduced Verbal Aggression.","Data: This data can be collected from the Aggression Questionnaire. Report on this measure for all youth whose ART Program ended during this reporting period and who completed pre- and post- Aggression Questionnaire Surveys.\nScoring: To create an Verbal Aggression summary score, calculate the average of items 1,4,6,20,26 at pre-test and post-test. Lower scores represent less verbal aggression.                                                                                                                             Number for PM: Count of the number of youth who had positive change (calculation yet to be determined) in this category. Only include youth who completed  ART program within this quarter in your count.",null,null,"O5"]
[{"$f":"COUNTIF('AQ PrePost'!$EV$4:$EV$1040,A$34)","v":0},{"$f":"COUNTIF('AQ PrePost'!$EV$4:$EV$1040,B$34)","v":0},{"$f":"COUNTIF('AQ PrePost'!$EV$4:$EV$1040,C$34)","v":0},{"$f":"COUNTIF('AQ PrePost'!$EV$4:$EV$1040,D$34)","v":0},0,{"$f":"IF('Process PMs Yr2'!$E$20=0,\"N/A\",E11/'Process PMs Yr2'!$E$21)","v":"N/A"},"Number of youth with reduced Anger.","Data: This data can be collected from the Aggression Questionnaire. Report on this measure for all youth whose ART Program ended during this reporting period and who completed pre- and post- Aggression Questionnaire Surveys.\nScoring: To create an Anger summary score, calculate the average of items 3,7,12,19,22,29,32 at pre-test and post-test. Lower scores represent less anger.                                                                                                                                                                       Number for PM: Count of the number of youth who had positive change (calculation yet to be determined) in this category. Only include youth who completed  ART program within this quarter in your count.",null,null,"O6"]
[{"$f":"COUNTIF('AQ PrePost'!$EX$4:$EX$1040,A$34)","v":0},{"$f":"COUNTIF('AQ PrePost'!$EX$4:$EX$1040,B$34)","v":0},{"$f":"COUNTIF('AQ PrePost'!$EX$4:$EX$1040,C$34)","v":0},{"$f":"COUNTIF('AQ PrePost'!$EX$4:$EX$1040,D$34)","v":0},0,{"$f":"IF('Process PMs Yr2'!$E$20=0,\"N/A\",E12/'Process PMs Yr2'!$E$21)","v":"N/A"},"Number of youth with reduced Hostility.","Data: This data can be collected from the Aggression Questionnaire. Report on this measure for all youth whose ART Program ended during this reporting period and who completed pre- and post- Aggression Questionnaire Surveys.\nScoring: To create an Physical Aggression summary score, calculate the average of items 2,5,9,16,21,28,31,33 at pre-test and post-test. Lower scores represent less hostility.                                                                                                                                       Number for PM: Count of the number of youth who had positive change (calculation yet to be determined) in this category. Only include youth who completed  ART program within this quarter in your count.",null,null,"O7"]
[{"$f":"COUNTIF('AQ PrePost'!$EZ$4:$EZ$1040,A$34)","v":0},{"$f":"COUNTIF('AQ PrePost'!$EZ$4:$EZ$1040,B$34)","v":0},{"$f":"COUNTIF('AQ PrePost'!$EZ$4:$EZ$1040,C$34)","v":0},{"$f":"COUNTIF('AQ PrePost'!$EZ$4:$EZ$1040,D$34)","v":0},0,{"$f":"IF('Process PMs Yr2'!$E$20=0,\"N/A\",E13/'Process PMs Yr2'!$E$21)","v":"N/A"},"Number of youth with reduced Indirect Aggression.","Data: This data can be collected from the Aggression Questionnaire. Report on this measure for all youth whose ART Program ended during this reporting period and who completed pre- and post- Aggression Questionnaire Surveys.\nScoring: To create an Physical Aggression summary score, calculate the average of items 13,14,15,18,30,34 at pre-test and post-test. Lower scores represent less indirect aggression.                                                                                                                                      Number for PM: Count of the number of youth who had positive change (calculation yet to be determined) in this category. Only include youth who completed  ART program within this quarter in your count.",null,null,"O8"]
[{"$f":"COUNTIF('AQ PrePost'!$FB$4:$FB$1040,A$34)","v":0},{"$f":"COUNTIF('AQ PrePost'!$FB$4:$FB$1040,B$34)","v":0},{"$f":"COUNTIF('AQ PrePost'!$FB$4:$FB$1040,C$34)","v":0},{"$f":"COUNTIF('AQ PrePost'!$FB$4:$FB$1040,D$34)","v":0},0,{"$f":"IF('Process PMs Yr2'!$E$20=0,\"N/A\",E14/'Process PMs Yr2'!$E$21)","v":"N/A"},"Number of youth with reduced overall aggression (as defined by the AQ).","Data: This data can be collected from the Aggression Questionnaire. Report on this measure for all youth whose ART Program ended during this reporting period and who completed pre- and post- Aggression Questionnaire Surveys.\nScoring: To create an Physical Aggression summary score, calculate the average of items 1-34 at pre-test and post-test. Lower scores represent lower overall aggression.                                                                                                                                Number for PM: Count of the number of youth who had positive change (calculation yet to be determined) in this category. Only include youth who completed  ART program within this quarter in your count.",null,null,"O9"]
[{"$f":"COUNTIF('HIT PrePost'!$GH$4:$GH$1040,A$34)","v":0},{"$f":"COUNTIF('HIT PrePost'!$GH$4:$GH$1040,B$34)","v":0},{"$f":"COUNTIF('HIT PrePost'!$GH$4:$GH$1040,C$34)","v":0},{"$f":"COUNTIF('HIT PrePost'!$GH$4:$GH$1040,D$34)","v":0},0,{"$f":"IF('Process PMs Yr2'!$E$21=0,\"N/A\",E15/'Process PMs Yr2'!$E$22)","v":"N/A"},"Number of youth with reduced Self-Centeredness (SC).","Data: This data can be collected from the How I Think Questionnaire. Report on this measure for all youth whose ART Program ended during this reporting period and who completed pre- and post- How I Think Questionnaire Surveys.\nScoring: To create an Physical Aggression summary score, calculate the average of items 3,7,10,22,28,37,42,52,54 at pre-test and post-test. Lower scores represent reduced self-centeredness.                                                                                                                                       Number for PM: Count of the number of youth who had positive change (calculation yet to be determined) in this category. Only include youth who completed  ART program within this quarter in your count.",null,null,"O10"]
[{"$f":"COUNTIF('HIT PrePost'!$GJ$4:$GJ$1040,A$34)","v":0},{"$f":"COUNTIF('HIT PrePost'!$GJ$4:$GJ$1040,B$34)","v":0},{"$f":"COUNTIF('HIT PrePost'!$GJ$4:$GJ$1040,C$34)","v":0},{"$f":"COUNTIF('HIT PrePost'!$GJ$4:$GJ$1040,D$34)","v":0},0,{"$f":"IF('Process PMs Yr2'!$E$21=0,\"N/A\",E16/'Process PMs Yr2'!$E$22)","v":"N/A"},"Number of youth with reduced instances Blaming Others (BO).","Data: This data can be collected from the How I Think Questionnaire. Report on this measure for all youth whose ART Program ended during this reporting period and who completed pre- and post- How I Think Questionnaire Surveys.\nScoring: To create an Physical Aggression summary score, calculate the average of items 6,11,21,25,26,36,39,44,46,50 at pre-test and post-test. Lower scores represent less instance blaming others.                                                                                                                                       Number for PM: Count of the number of youth who had positive change (calculation yet to be determined) in this category. Only include youth who completed  ART program within this quarter in your count.",null,null,"O11"]
[{"$f":"COUNTIF('HIT PrePost'!$GL$4:$GL$1040,A$34)","v":0},{"$f":"COUNTIF('HIT PrePost'!$GL$4:$GL$1040,B$34)","v":0},{"$f":"COUNTIF('HIT PrePost'!$GL$4:$GL$1040,C$34)","v":0},{"$f":"COUNTIF('HIT PrePost'!$GL$4:$GL$1040,D$34)","v":0},0,{"$f":"IF('Process PMs Yr2'!$E$21=0,\"N/A\",E17/'Process PMs Yr2'!$E$22)","v":"N/A"},"Number of youth with reduced Minimizing/Mislabeling (MM).","Data: This data can be collected from the How I Think Questionnaire. Report on this measure for all youth whose ART Program ended during this reporting period and who completed pre- and post- How I Think Questionnaire Surveys.\nScoring: To create an Physical Aggression summary score, calculate the average of items 5,12,14,17,19,30,33,40,47 at pre-test and post-test. Lower scores represent instance minimizing/mislabeling.                                                                                                                                     Number for PM: Count of the number of youth who had positive change (calculation yet to be determined) in this category. Only include youth who completed  ART program within this quarter in your count.",null,null,"O12"]
[{"$f":"COUNTIF('HIT PrePost'!$GN$4:$GN$1040,A$34)","v":0},{"$f":"COUNTIF('HIT PrePost'!$GN$4:$GN$1040,B$34)","v":0},{"$f":"COUNTIF('HIT PrePost'!$GN$4:$GN$1040,C$34)","v":0},{"$f":"COUNTIF('HIT PrePost'!$GN$4:$GN$1040,D$34)","v":0},0,{"$f":"IF('Process PMs Yr2'!$E$21=0,\"N/A\",E18/'Process PMs Yr2'!$E$22)","v":"N/A"},"Number of youth with reduced instances of Assuming the Worst (AW).","Data: This data can be collected from the How I Think Questionnaire. Report on this measure for all youth whose ART Program ended during this reporting period and who completed pre- and post- How I Think Questionnaire Surveys.\nScoring: To create an Physical Aggression summary score, calculate the average of items 2,8,15,18,23,29,32,35,43,49,53 at pre-test and post-test. Lower scores represent fewer instances of \"assuming the worst\".                                                                                                                                       Number for PM: Count of the number of youth who had positive change (calculation yet to be determined) in this category. Only include youth who completed  ART program within this quarter in your count.",null,null,"O13"]
[{"$f":"COUNTIF('HIT PrePost'!$GP$4:$GP$1040,A$34)","v":0},{"$f":"COUNTIF('HIT PrePost'!$GP$4:$GP$1040,B$34)","v":0},{"$f":"COUNTIF('HIT PrePost'!$GP$4:$GP$1040,C$34)","v":0},{"$f":"COUNTIF('HIT PrePost'!$GP$4:$GP$1040,D$34)","v":0},0,{"$f":"IF('Process PMs Yr2'!$E$21=0,\"N/A\",E19/'Process PMs Yr2'!$E$22)","v":"N/A"},"Number of youth with reduced Opposition Defiance behaviors (OD).","Data: This data can be collected from the How I Think Questionnaire. Report on this measure for all youth whose ART Program ended during this reporting period and who completed pre- and post- How I Think Questionnaire Surveys.\nScoring: To create an Physical Aggression summary score, calculate the average of items 2,6,12,18,29,37,40,42,46,54 at pre-test and post-test. Lower scores represent less instances of oppositional defiant behaviors.                                                                                                                                      Number for PM: Count of the number of youth who had positive change (calculation yet to be determined) in this category. Only include youth who completed  ART program within this quarter in your count.",null,null,"O14"]
[{"$f":"COUNTIF('HIT PrePost'!$GR$4:$GR$1040,A$34)","v":0},{"$f":"COUNTIF('HIT PrePost'!$GR$4:$GR$1040,B$34)","v":0},{"$f":"COUNTIF('HIT PrePost'!$GR$4:$GR$1040,C$34)","v":0},{"$f":"COUNTIF('HIT PrePost'!$GR$4:$GR$1040,D$34)","v":0},0,{"$f":"IF('Process PMs Yr2'!$E$21=0,\"N/A\",E20/'Process PMs Yr2'!$E$22)","v":"N/A"},"Number of youth with reduced Physical Aggression (PA).","Data: This data can be collected from the How I Think Questionnaire. Report on this measure for all youth whose ART Program ended during this reporting period and who completed pre- and post- How I Think Questionnaire Surveys.\nScoring: To create an Physical Aggression summary score, calculate the average of items 5,10,15,19,23,28,32,36,44,50 at pre-test and post-test. Lower scores represent less physical aggression.                                                                                                                                       Number for PM: Count of the number of youth who had positive change (calculation yet to be determined) in this category. Only include youth who completed  ART program within this quarter in your count.",null,null,"O15"]
[{"$f":"COUNTIF('HIT PrePost'!$GT$4:$GT$1040,A$34)","v":0},{"$f":"COUNTIF('HIT PrePost'!$GT$4:$GT$1040,B$34)","v":0},{"$f":"COUNTIF('HIT PrePost'!$GT$4:$GT$1040,C$34)","v":0},{"$f":"COUNTIF('HIT PrePost'!$GT$4:$GT$1040,D$34)","v":0},0,{"$f":"IF('Process PMs Yr2'!$E$21=0,\"N/A\",E21/'Process PMs Yr2'!$E$22)","v":"N/A"},"Number of youth with reduced instances of Lying (L).","Data: This data can be collected from the How I Think Questionnaire. Report on this measure for all youth whose ART Program ended during this reporting period and who completed pre- and post- How I Think Questionnaire Surveys.\nScoring: To create an Physical Aggression summary score, calculate the average of items 3,8,14,21,26,33,49,52 at pre-test and post-test. Lower scores represent less instances lying.                                                                                                                                       Number for PM: Count of the number of youth who had positive change (calculation yet to be determined) in this category. Only include youth who completed  ART program within this quarter in your count.",null,null,"O16"]
[{"$f":"COUNTIF('HIT PrePost'!$GV$4:$GV$1040,A$34)","v":0},{"$f":"COUNTIF('HIT PrePost'!$GV$4:$GV$1040,B$34)","v":0},{"$f":"COUNTIF('HIT PrePost'!$GV$4:$GV$1040,C$34)","v":0},{"$f":"COUNTIF('HIT PrePost'!$GV$4:$GV$1040,D$34)","v":0},0,{"$f":"IF('Process PMs Yr2'!$E$21=0,\"N/A\",E22/'Process PMs Yr2'!$E$22)","v":"N/A"},"Number of youth with reduced instance of Stealing (S).","Data: This data can be collected from the How I Think Questionnaire. Report on this measure for all youth whose ART Program ended during this reporting period and who completed pre- and post- How I Think Questionnaire Surveys.\nScoring: To create an Physical Aggression summary score, calculate the average of items 7,11,17,22,25,30,35,39,43,47,53 at pre-test and post-test. Lower scores represent less instances stealing.                                                                                                                                       Number for PM: Count of the number of youth who had positive change (calculation yet to be determined) in this category. Only include youth who completed  ART program within this quarter in your count.",null,null,"O17"]
[{"$f":"COUNTIF('HIT PrePost'!$GW$4:$GW$1040,A$34)","v":0},{"$f":"COUNTIF('HIT PrePost'!$GW$4:$GW$1040,B$34)","v":0},{"$f":"COUNTIF('HIT PrePost'!$GW$4:$GW$1040,C$34)","v":0},{"$f":"COUNTIF('HIT PrePost'!$GW$4:$GW$1040,D$34)","v":0},0,{"$f":"IF('Process PMs Yr2'!$E$21=0,\"N/A\",E23/'Process PMs Yr2'!$E$22)","v":"N/A"},"Number of youth with reduced overt aggression (being outwardly aggressive).","Data: This data can be collected from the How I Think Questionnaire. Report on this measure for all youth whose ART Program ended during this reporting period and who completed pre- and post- How I Think Questionnaire Surveys.\nScoring: To create an Physical Aggression summary score, calculate the average of contructs OD and PA at pre-test and post-test. Lower scores represent less instance being outwardly agressive.                                                                                                                                     Number for PM: Count of the number of youth who had positive change (calculation yet to be determined) in this category. Only include youth who completed  ART program within this quarter in your count.",null,null,"O18"]
[{"$f":"COUNTIF('HIT PrePost'!$GX$4:$GX$1040,A$34)","v":0},{"$f":"COUNTIF('HIT PrePost'!$GX$4:$GX$1040,B$34)","v":0},{"$f":"COUNTIF('HIT PrePost'!$GX$4:$GX$1040,C$34)","v":0},{"$f":"COUNTIF('HIT PrePost'!$GX$4:$GX$1040,D$34)","v":0},0,{"$f":"IF('Process PMs Yr2'!$E$21=0,\"N/A\",E24/'Process PMs Yr2'!$E$22)","v":"N/A"},"Number of youth with reduced covert aggression (being inwardly aggressive). ","Data: This data can be collected from the How I Think Questionnaire. Report on this measure for all youth whose ART Program ended during this reporting period and who completed pre- and post- How I Think Questionnaire Surveys.\nScoring: To create an Physical Aggression summary score, calculate the average of contructs L and S  at pre-test and post-test. Lower scores represent less instance being inwardly agressive.                                                                                                 Number for PM: Count of the number of youth who had positive change (calculation yet to be determined) in this category. Only include youth who completed  ART program within this quarter in your count.",null,null,"O19"]
[{"$f":"COUNTIF('HIT PrePost'!$GY$4:$GY$1040,A$34)","v":0},{"$f":"COUNTIF('HIT PrePost'!$GY$4:$GY$1040,B$34)","v":0},{"$f":"COUNTIF('HIT PrePost'!$GY$4:$GY$1040,C$34)","v":0},{"$f":"COUNTIF('HIT PrePost'!$GY$4:$GY$1040,D$34)","v":0},0,{"$f":"IF('Process PMs Yr2'!$E$21=0,\"N/A\",E25/'Process PMs Yr2'!$E$22)","v":"N/A"},"Number of youth with reduced HIT Total Score (reduced cognitive distortions).","Data: This data can be collected from the How I Think Questionnaire. Report on this measure for all youth whose ART Program ended during this reporting period and who completed pre- and post- How I Think Questionnaire Surveys.\nScoring: To create an Physical Aggression summary score, calculate the average all contructs SC,BO,MM,AW,OD,PA,L,S  at pre-test and post-test. Lower scores represent less instances of cognitive distortions.                                                                    Number for PM: Count of the number of youth who had positive change (calculation yet to be determined) in this category. Only include youth who completed  ART program within this quarter in your count.",null,null,"O20"]
[{"$f":"COUNTIF('SS PrePost'!$GF$4:$GF$1040,A34)","v":0},{"$f":"COUNTIF('SS PrePost'!$GF$4:$GF$1040,B34)","v":0},{"$f":"COUNTIF('SS PrePost'!$GF$4:$GF$1040,C34)","v":0},{"$f":"COUNTIF('SS PrePost'!$GF$4:$GF$1040,D34)","v":0},0,{"$f":"IF('Process PMs Yr2'!$E$17=0,\"N/A\",E26/'Process PMs Yr2'!$E$20)","v":"N/A"},"Number of youth with improved Beginning Social Skills.","Data: This data can be collected from the Skillstreaming Checklist. Report on this measure for all youth whose ART Program ended during this reporting period and who completed pre- and post- Skillstreaming Checklist Surveys.\nScoring: To create an Beginning Social Skills summary score, calculate the average of items 1-8 at pre-test and post-test. Higher scores represent improved beginning social skills.                                              Number for PM: Count of the number of youth who had positive change (calculation yet to be determined) in this category. Only include youth who completed  ART program within this quarter in your count.",null,null,"O21"]
[{"$f":"COUNTIF('SS PrePost'!$GH$4:$GH$1040,A34)","v":0},{"$f":"COUNTIF('SS PrePost'!$GH$4:$GH$1040,B34)","v":0},{"$f":"COUNTIF('SS PrePost'!$GH$4:$GH$1040,C34)","v":0},{"$f":"COUNTIF('SS PrePost'!$GH$4:$GH$1040,D34)","v":0},0,{"$f":"IF('Process PMs Yr2'!$E$17=0,\"N/A\",E27/'Process PMs Yr2'!$E$20)","v":"N/A"},"Number of youth with improved Advanced Social Skills.","Data: This data can be collected from the Skillstreaming Checklist. Report on this measure for all youth whose ART Program ended during this reporting period and who completed pre- and post- Skillstreaming Checklist Surveys.\nScoring: To create an Advanced Social Skills summary score, calculate the average of items 9-14 at pre-test and post-test. Higher scores represent improved advanced social skills.                                              Number for PM: Count of the number of youth who had positive change (calculation yet to be determined) in this category. Only include youth who completed  ART program within this quarter in your count.",null,null,"O22"]
[{"$f":"COUNTIF('SS PrePost'!$GJ$4:$GJ$1040,A34)","v":0},{"$f":"COUNTIF('SS PrePost'!$GJ$4:$GJ$1040,B34)","v":0},{"$f":"COUNTIF('SS PrePost'!$GJ$4:$GJ$1040,C34)","v":0},{"$f":"COUNTIF('SS PrePost'!$GJ$4:$GJ$1040,D34)","v":0},0,{"$f":"IF('Process PMs Yr2'!$E$17=0,\"N/A\",E28/'Process PMs Yr2'!$E$20)","v":"N/A"},"Number of youth with improved Skills for Dealing with Feelings.","Data: This data can be collected from the Skillstreaming Checklist. Report on this measure for all youth whose ART Program ended during this reporting period and who completed pre- and post- Skillstreaming Checklist Surveys.\nScoring: To create an Beginning Social Skills summary score, calculate the average of items 15-21 at pre-test and post-test. Higher scores represent improved skills for dealing with feelings.                                                                                                 Number for PM: Count of the number of youth who had positive change (calculation yet to be determined) in this category. Only include youth who completed  ART program within this quarter in your count.",null,null,"O23"]
[{"$f":"COUNTIF('SS PrePost'!$GL$4:$GL$1040,A34)","v":0},{"$f":"COUNTIF('SS PrePost'!$GL$4:$GL$1040,B34)","v":0},{"$f":"COUNTIF('SS PrePost'!$GL$4:$GL$1040,C34)","v":0},{"$f":"COUNTIF('SS PrePost'!$GL$4:$GL$1040,D34)","v":0},0,{"$f":"IF('Process PMs Yr2'!$E$17=0,\"N/A\",E29/'Process PMs Yr2'!$E$20)","v":"N/A"},"Number of youth with improved Skill Alternatives to Aggression.","Data: This data can be collected from the Skillstreaming Checklist. Report on this measure for all youth whose ART Program ended during this reporting period and who completed pre- and post- Skillstreaming Checklist Surveys.\nScoring: To create an Advanced Social Skills summary score, calculate the average of items 22-30 at pre-test and post-test. Higher scores represent improved skills of alternatives to aggression.                                                                                            Number for PM: Count of the number of youth who had positive change (calculation yet to be determined) in this category. Only include youth who completed  ART program within this quarter in your count.",null,null,"O24"]
[{"$f":"COUNTIF('SS PrePost'!$GN$4:$GN$1040,A34)","v":0},{"$f":"COUNTIF('SS PrePost'!$GN$4:$GN$1040,B34)","v":0},{"$f":"COUNTIF('SS PrePost'!$GN$4:$GN$1040,C34)","v":0},{"$f":"COUNTIF('SS PrePost'!$GN$4:$GN$1040,D34)","v":0},0,{"$f":"IF('Process PMs Yr2'!$E$17=0,\"N/A\",E30/'Process PMs Yr2'!$E$20)","v":"N/A"},"Number of youth with improved Skills for Dealing with Stress.","Data: This data can be collected from the Skillstreaming Checklist. Report on this measure for all youth whose ART Program ended during this reporting period and who completed pre- and post- Skillstreaming Checklist Surveys.\nScoring: To create an Beginning Social Skills summary score, calculate the average of items 31-42 at pre-test and post-test. Higher scores represent improved skills dealing with stress.                                               Number for PM: Count of the number of youth who had positive change (calculation yet to be determined) in this category. Only include youth who completed  ART program within this quarter in your count.",null,null,"O25"]
[{"$f":"COUNTIF('SS PrePost'!$GP$4:$GP$1040,A34)","v":0},{"$f":"COUNTIF('SS PrePost'!$GP$4:$GP$1040,B34)","v":0},{"$f":"COUNTIF('SS PrePost'!$GP$4:$GP$1040,C34)","v":0},{"$f":"COUNTIF('SS PrePost'!$GP$4:$GP$1040,D34)","v":0},0,{"$f":"IF('Process PMs Yr2'!$E$17=0,\"N/A\",E31/'Process PMs Yr2'!$E$20)","v":"N/A"},"Number of youth with improved Planning Skills.","Data: This data can be collected from the Skillstreaming Checklist. Report on this measure for all youth whose ART Program ended during this reporting period and who completed pre- and post- Skillstreaming Checklist Surveys.\nScoring: To create an Advanced Social Skills summary score, calculate the average of items 43-50 at pre-test and post-test. Higher scores represent improved planning skills.                                              Number for PM: Count of the number of youth who had positive change (calculation yet to be determined) in this category. Only include youth who completed  ART program within this quarter in your count.",null,null,"O26"]
[{"$f":"COUNTIF('SS PrePost'!$GR$4:$GR$1040,A34)","v":0},{"$f":"COUNTIF('SS PrePost'!$GR$4:$GR$1040,B34)","v":0},{"$f":"COUNTIF('SS PrePost'!$GR$4:$GR$1040,C34)","v":0},{"$f":"COUNTIF('SS PrePost'!$GR$4:$GR$1040,D34)","v":0},0,{"$f":"IF('Process PMs Yr2'!$E$17=0,\"N/A\",E32/'Process PMs Yr2'!$E$20)","v":"N/A"},"Number of youth with improved Skillstreaming Total Score.","Data: This data can be collected from the Skillstreaming Checklist. Report on this measure for all youth whose ART Program ended during this reporting period and who completed pre- and post- Skillstreaming Checklist Surveys.\nScoring: To create an Beginning Social Skills summary score, calculate the average of items 1-50 at pre-test and post-test. Higher scores represent improved social skills overall.                                           Number for PM: Count of the number of youth who had positive change (calculation yet to be determined) in this category. Only include youth who completed  ART program within this quarter in your count.",null,null,"O27"]
[]
[5,6,7,8]

{"sheet":"Programs","index":5,"n_rows":381,"n_cols":115,"rows_kept":381,"cut":false,"hidden":false,"merged":[[367,36,367,39],[6,36,6,39],[25,36,25,39],[44,36,44,39],[63,36,63,39],[82,36,82,39],[101,36,101,39],[120,36,120,39],[139,36,139,39],[158,36,158,39],[177,36,177,39],[215,36,215,39],[234,36,234,39],[329,36,329,39],[291,36,291,39],[310,36,310,39],[272,36,272,39],[253,36,253,39],[196,36,196,39],[348,39,349,39],[7,43,7,50]]}
[{"$f":"Instructions!$A$1","v":"3 Version  - 11/15/2019"},{"$f":"Instructions!$B$9","v":"2019-07-01"},"Jump to program #",null,1,2,3,4,5,6,7,8,9,10,11,12,13,14,15,16,17,18,19,20,null,{"$f":"Instructions!$A$1","v":"3 Version  - 11/15/2019"},null,null,null,null,null,null,null,null,null,null,null,null,null,null,null,{"$f":"AZ7/(COUNT(BJ9:BJ379)-SUM(BA7:BH7))","v":{"$error":"#DIV/0!"}},"Program Completion Rate",null,"These columns will be hidden from user."]
[null,"Grant Start Date"]
[null,"Program #1",null,null,null,null,null,null,null,null,null,null,null,null,null,null,null,null,null,null,null,null,null,null,null,null,null,null,null,null,null,null,null,null,null,null,null,null,null,null,null,null,null,"Complete if",null,null,28,"or more sessions (changing CELL AU3 effects all completion calculation)"]
[null,"Location",null,null,null,null,null,null,null,null,null,null,null,null,null,null,null,null,null,null,null,null,null,null,null,null,null,null,null,null,null,null,null,null,null,null,null,null,null,null,null,null,null,"Summary of all Quarters across all 20 Programs"]
[null,"Start Date",null,"Qtr","Attendance",null,null,null,null,null,null,null,null,"Skillstreaming",null,null,null,null,null,null,null,null,null,"Anger Control",null,null,null,null,null,null,null,null,null,"Moral Reasoning",null,null,null,null,null,{"$f":"IF(C6,((YEAR(C6)-YEAR($B$1))*12+MONTH(C6)-MONTH($B$1)+1),\"\")","v":""},null,null,null,"Completed Program byQuarter",null,null,null,null,null,null,null,null,"Admin Withdrawls",null,null,null,null,null,null,null,"QTR Prog.","Youth Served"]
[null,"Completion Date",null,{"$f":"IF(C6,INT((AN5+2)/3),\"\")","v":""},"SS1","SS2","SS3","SS4","SS5","SS6","SS7","SS8","SS9","SS10","AC1","AC2","AC3","AC4","AC5","AC6","AC7","AC8","AC9","AC10","MR1","MR2","MR3","MR4","MR5","MR6","MR7","MR8","MR9","MR10",null,null,null,null,null,"Month",null,{"$f":"COUNTIF(AN9:AN18,30)","v":0},null,1,2,3,4,5,6,7,8,"TOTAL",1,2,3,4,5,6,7,8,"Completed ","by Qtr",null,null,null,"Orange Box indicates they are among 10 lowest agerage skills scores for this group."]
[null,"Group Environment",null,null,{"$f":"LEFT($AQ9,2)","v":""},{"$f":"LEFT($AQ10,2)","v":""},{"$f":"LEFT($AQ11,2)","v":""},{"$f":"LEFT($AQ12,2)","v":""},{"$f":"LEFT($AQ13,2)","v":""},{"$f":"LEFT($AQ14,2)","v":""},{"$f":"LEFT($AQ15,2)","v":""},{"$f":"LEFT($AQ16,2)","v":""},{"$f":"LEFT($AQ17,2)","v":""},{"$f":"LEFT($AQ18,2)","v":""}," ",null,null,null,null,null,null,null,null,null,null,null,null,null,null,null,null,null,null,null,null,null,"Program Attendance Summary",null,null,null,null,null,null,{"$f":"SUM(AR9:AR1000)","v":0},0,0,0,0,0,0,0,{"$f":"SUM(AR7:AY7)","v":0},{"$f":"COUNTIF($BA$9:$BA$1000,BA$6)","v":0},0,0,0,0,0,0,0,"in this col","in this col.",null,null,null,"Skills in purple boxes are those recommended in ART manual."]
[null,"Participant Code","Gender",null,null,null,null,null,null,null,null,null,null,null,null,null,null,null,null,null,null,null,null,null,null,null,null,null,null,null,null,null,null,null,"Administrative Withdrawal?",null,"# SS Sessions","# AC Sessions","# MR Sessions","TOTAL Attended",null,null,"Skillstreaming Sessions","There is a 1 in columns below if the youth has completed the program. Defined by attending number of sessions in cell AU4.",null,null,null,null,null,null,null,null,null,null,null,null,null,null,null,null,{"$f":"D6","v":""},null,null,null,null,"Mean Skill 01","Mean Skill 02","Mean Skill 03","Mean Skill 04","Mean Skill 05","Mean Skill 06","Mean Skill 07","Mean Skill 08","Mean Skill 09","Mean Skill 10","Mean Skill 11","Mean Skill 12","Mean Skill 13","Mean Skill 14","Mean Skill 15","Mean Skill 16","Mean Skill 17","Mean Skill 18","Mean Skill 19","Mean Skill 20","Mean Skill 21","Mean Skill 22","Mean Skill 23","Mean Skill 24","Mean Skill 25","Mean Skill 26","Mean Skill 27","Mean Skill 28","Mean Skill 29","Mean Skill 30","Mean Skill 31","Mean Skill 32","Mean Skill 33","Mean Skill 34","Mean Skill 35","Mean Skill 36","Mean Skill 37","Mean Skill 38","Mean Skill 39","Mean Skill 40","Mean Skill 41","Mean Skill 42","Mean Skill 43","Mean Skill 44","Mean Skill 45","Mean Skill 46","Mean Skill 47","Mean Skill 48","Mean Skill 49","Mean Skill 50"]
[1,null,null,{"$f":"$D$6","v":""},null,null,null,null,null,null,null,null,null,null,null,null,null,null,null,null,null,null,null,null,null,null,null,null,null,null,null,null,null,null,null,null,{"$f":"COUNTIF(E9:N9,\"Yes\")","v":0},{"$f":"COUNTIF(O9:X9,\"Yes\")","v":0},{"$f":"COUNTIF(Y9:AH9,\"Yes\")","v":0},{"$f":"SUM(AK9:AM9)","v":0},null,"SS1",null,{"$f":"IF(AND($D9=AR$6,$AN9>=$AU$3),1,0)","v":0},0,0,0,0,0,0,0,null,{"$f":"IF(AI9=\"YES\",D9,\"\")","v":""},null,null,null,null,null,null,null,null,{"$f":"IF(AN9>0,D9,\"\")","v":""},null,null,{"$f":"SMALL(BN9:DK9,10)","v":{"$error":"#DIV/0!"}},{"$f":"AVERAGE('SS PrePost'!D4:D15)","v":{"$error":"#DIV/0!"}},{"$f":"AVERAGE('SS PrePost'!E4:E15)","v":{"$error":"#DIV/0!"}},{"$f":"AVERAGE('SS PrePost'!F4:F15)","v":{"$error":"#DIV/0!"}},{"$f":"AVERAGE('SS PrePost'!G4:G15)","v":{"$error":"#DIV/0!"}},{"$f":"AVERAGE('SS PrePost'!H4:H15)","v":{"$error":"#DIV/0!"}},{"$f":"AVERAGE('SS PrePost'!I4:I15)","v":{"$error":"#DIV/0!"}},{"$f":"AVERAGE('SS PrePost'!J4:J15)","v":{"$error":"#DIV/0!"}},{"$f":"AVERAGE('SS PrePost'!K4:K15)","v":{"$error":"#DIV/0!"}},{"$f":"AVERAGE('SS PrePost'!L4:L15)","v":{"$error":"#DIV/0!"}},{"$f":"AVERAGE('SS PrePost'!M4:M15)","v":{"$error":"#DIV/0!"}},{"$f":"AVERAGE('SS PrePost'!N4:N15)","v":{"$error":"#DIV/0!"}},{"$f":"AVERAGE('SS PrePost'!O4:O15)","v":{"$error":"#DIV/0!"}},{"$f":"AVERAGE('SS PrePost'!P4:P15)","v":{"$error":"#DIV/0!"}},{"$f":"AVERAGE('SS PrePost'!Q4:Q15)","v":{"$error":"#DIV/0!"}},{"$f":"AVERAGE('SS PrePost'!R4:R15)","v":{"$error":"#DIV/0!"}},{"$f":"AVERAGE('SS PrePost'!S4:S15)","v":{"$error":"#DIV/0!"}},{"$f":"AVERAGE('SS PrePost'!T4:T15)","v":{"$error":"#DIV/0!"}},{"$f":"AVERAGE('SS PrePost'!U4:U15)","v":{"$error":"#DIV/0!"}},{"$f":"AVERAGE('SS PrePost'!V4:V15)","v":{"$error":"#DIV/0!"}},{"$f":"AVERAGE('SS PrePost'!W4:W15)","v":{"$error":"#DIV/0!"}},{"$f":"AVERAGE('SS PrePost'!X4:X15)","v":{"$error":"#DIV/0!"}},{"$f":"AVERAGE('SS PrePost'!Y4:Y15)","v":{"$error":"#DIV/0!"}},{"$f":"AVERAGE('SS PrePost'!Z4:Z15)","v":{"$error":"#DIV/0!"}},{"$f":"AVERAGE('SS PrePost'!AA4:AA15)","v":{"$error":"#DIV/0!"}},{"$f":"AVERAGE('SS PrePost'!AB4:AB15)","v":{"$error":"#DIV/0!"}},{"$f":"AVERAGE('SS PrePost'!AC4:AC15)","v":{"$error":"#DIV/0!"}},{"$f":"AVERAGE('SS PrePost'!AD4:AD15)","v":{"$error":"#DIV/0!"}},{"$f":"AVERAGE('SS PrePost'!AE4:AE15)","v":{"$error":"#DIV/0!"}},{"$f":"AVERAGE('SS PrePost'!AF4:AF15)","v":{"$error":"#DIV/0!"}},{"$f":"AVERAGE('SS PrePost'!AG4:AG15)","v":{"$error":"#DIV/0!"}},{"$f":"AVERAGE('SS PrePost'!AH4:AH15)","v":{"$error":"#DIV/0!"}},{"$f":"AVERAGE('SS PrePost'!AI4:AI15)","v":{"$error":"#DIV/0!"}},{"$f":"AVERAGE('SS PrePost'!AJ4:AJ15)","v":{"$error":"#DIV/0!"}},{"$f":"AVERAGE('SS PrePost'!AK4:AK15)","v":{"$error":"#DIV/0!"}},{"$f":"AVERAGE('SS PrePost'!AL4:AL15)","v":{"$error":"#DIV/0!"}},{"$f":"AVERAGE('SS PrePost'!AM4:AM15)","v":{"$error":"#DIV/0!"}},{"$f":"AVERAGE('SS PrePost'!AN4:AN15)","v":{"$error":"#DIV/0!"}},{"$f":"AVERAGE('SS PrePost'!AO4:AO15)","v":{"$error":"#DIV/0!"}},{"$f":"AVERAGE('SS PrePost'!AP4:AP15)","v":{"$error":"#DIV/0!"}},{"$f":"AVERAGE('SS PrePost'!AQ4:AQ15)","v":{"$error":"#DIV/0!"}},{"$f":"AVERAGE('SS PrePost'!AR4:AR15)","v":{"$error":"#DIV/0!"}},{"$f":"AVERAGE('SS PrePost'!AS4:AS15)","v":{"$error":"#DIV/0!"}},{"$f":"AVERAGE('SS PrePost'!AT4:AT15)","v":{"$error":"#DIV/0!"}},{"$f":"AVERAGE('SS PrePost'!AU4:AU15)","v":{"$error":"#DIV/0!"}},{"$f":"AVERAGE('SS PrePost'!AV4:AV15)","v":{"$error":"#DIV/0!"}},{"$f":"AVERAGE('SS PrePost'!AW4:AW15)","v":{"$error":"#DIV/0!"}},{"$f":"AVERAGE('SS PrePost'!AX4:AX15)","v":{"$error":"#DIV/0!"}},{"$f":"AVERAGE('SS PrePost'!AY4:AY15)","v":{"$error":"#DIV/0!"}},{"$f":"AVERAGE('SS PrePost'!AZ4:AZ15)","v":{"$error":"#DIV/0!"}},{"$f":"AVERAGE('SS PrePost'!BA4:BA15)","v":{"$error":"#DIV/0!"}}]
[2,null,null,{"$f":"$D$6","v":""},null,null,null,null,null,null,null,null,null,null,null,null,null,null,null,null,null,null,null,null,null,null,null,null,null,null,null,null,null,null,null,null,0,0,0,{"$f":"SUM(AK10:AM10)","v":0},null,"SS2",null,0,0,0,0,0,0,0,0,null,{"$f":"IF(AI10=\"YES\",D10,\"\")","v":""},null,null,null,null,null,null,null,null,{"$f":"IF(AN10>0,D10,\"\")","v":""}]
[3,null,null,"",null,null,null,null,null,null,null,null,null,null,null,null,null,null,null,null,null,null,null,null,null,null,null,null,null,null,null,null,null,null,null,null,0,0,0,0,null,"SS3",null,0,0,0,0,0,0,0,0,null,"",null,null,null,null,null,null,null,null,""]
[4,null,null,"",null,null,null,null,null,null,null,null,null,null,null,null,null,null,null,null,null,null,null,null,null,null,null,null,null,null,null,null,null,null,null,null,0,0,0,0,null,"SS4",null,0,0,0,0,0,0,0,0,null,"",null,null,null,null,null,null,null,null,""]
[5,null,null,"",null,null,null,null,null,null,null,null,null,null,null,null,null,null,null,null,null,null,null,null,null,null,null,null,null,null,null,null,null,null,null,null,0,0,0,0,null,"SS5",null,0,0,0,0,0,0,0,0,null,"",null,null,null,null,null,null,null,null,""]
[6,null,null,"",null,null,null,null,null,null,null,null,null,null,null,null,null,null,null,null,null,null,null,null,null,null,null,null,null,null,null,null,null,null,null,null,0,0,0,0,null,"SS6",null,0,0,0,0,0,0,0,0,null,"",null,null,null,null,null,null,null,null,""]
[7,null,null,"",null,null,null,null,null,null,null,null,null,null,null,null,null,null,null,null,null,null,null,null,null,null,null,null,null,null,null,null,null,null,null,null,0,0,0,0,null,"SS7",null,0,0,0,0,0,0,0,0,null,"",null,null,null,null,null,null,null,null,""]
[8,null,null,"",null,null,null,null,null,null,null,null,null,null,null,null,null,null,null,null,null,null,null,null,null,null,null,null,null,null,null,null,null,null,null,null,0,0,0,0,null,"SS8",null,0,0,0,0,0,0,0,0,null,"",null,null,null,null,null,null,null,null,""]
[9,null,null,"",null,null,null,null,null,null,null,null,null,null,null,null,null,null,null,null,null,null,null,null,null,null,null,null,null,null,null,null,null,null,null,null,0,0,0,0,null,"SS9",null,0,0,0,0,0,0,0,0,null,"",null,null,null,null,null,null,null,null,""]
[10,null,null,"",null,null,null,null,null,null,null,null,null,null,null,null,null,null,null,null,null,null,null,null,null,null,null,null,null,null,null,null,null,null,null,null,{"$f":"COUNTIF(E18:N18,\"Yes\")","v":0},{"$f":"COUNTIF(O18:X18,\"Yes\")","v":0},{"$f":"COUNTIF(Y18:AH18,\"Yes\")","v":0},{"$f":"SUM(AK18:AM18)","v":0},null,"SS10",null,0,0,0,0,0,0,0,0,null,"",null,null,null,null,null,null,null,null,""]
[11,null,null,"",null,null,null,null,null,null,null,null,null,null,null,null,null,null,null,null,null,null,null,null,null,null,null,null,null,null,null,null,null,null,null,null,0,0,0,0,null,null,null,0,0,0,0,0,0,0,0,null,{"$f":"IF(AI19=\"YES\",D19,\"\")","v":""},null,null,null,null,null,null,null,null,{"$f":"IF(AN19>0,D19,\"\")","v":""}]
[12,null,null,"",null,null,null,null,null,null,null,null,null,null,null,null,null,null,null,null,null,null,null,null,null,null,null,null,null,null,null,null,null,null,null,null,0,0,0,0,null,null,null,0,0,0,0,0,0,0,0,null,"",null,null,null,null,null,null,null,null,""]
[null,null,null,null,null,null,null,null,null,null,null,null,null,null,null,null,null,null,null,null,null,null,null,null,null,null,null,null,null,null,null,null,null,null,null,null,null,null,null,null,null,null,null,null,null,null,null,null,null,null,null,null,""]
[null,"Program #2",null,null,null,null,null,null,null,null,null,null,null,null,null,null,null,null,null,null,null,null,null,null,null,null,null,null,null,null,null,null,null,null,null,null,null,null,null,null,null,null,null,null,null,null,null,null,null,null,null,null,""]
[null,"Location",null,null,null,null,null,null,null,null,null,null,null,null,null,null,null,null,null,null,null,null,null,null,null,null,null,null,null,null,null,null,null,null,null,null,null,null,null,null,null,null,null,null,null,null,null,null,null,null,null,null,""]
[null,"Start Date",null,"Qtr","Attendance",null,null,null,null,null,null,null,null,"Skillstreaming",null,null,null,null,null,null,null,null,null,"Anger Control",null,null,null,null,null,null,null,null,null,"Moral Reasoning",null,null,null,null,null,{"$f":"IF(C25,((YEAR(C25)-YEAR($B$1))*12+MONTH(C25)-MONTH($B$1)+1),\"\")","v":""},null,null,null,null,null,null,null,null,null,null,null,null,""]
[null,"Completion Date",null,{"$f":"IF(C25,INT((AN24+2)/3),\"\")","v":""},"SS1","SS2","SS3","SS4","SS5","SS6","SS7","SS8","SS9","SS10","AC1","AC2","AC3","AC4","AC5","AC6","AC7","AC8","AC9","AC10","MR1","MR2","MR3","MR4","MR5","MR6","MR7","MR8","MR9","MR10",null,null,null,null,null,"Month",null,{"$f":"COUNTIF(AN28:AN37,30)","v":0},null,null,null,null,null,null,null,null,null,null,"",null,null,null,null,null,null,null,null,null,null,null,null,"Orange Box indicates they are among 10 lowest agerage skills scores for this group."]
[null,"Group Environment",null,null,{"$f":"LEFT($AQ28,2)","v":""},{"$f":"LEFT($AQ29,2)","v":""},{"$f":"LEFT($AQ30,2)","v":""},{"$f":"LEFT($AQ31,2)","v":""},{"$f":"LEFT($AQ32,2)","v":""},{"$f":"LEFT($AQ33,2)","v":""},{"$f":"LEFT($AQ34,2)","v":""},{"$f":"LEFT($AQ35,2)","v":""},{"$f":"LEFT($AQ36,2)","v":""},{"$f":"LEFT($AQ37,2)","v":""}," ",null,null,null,null,null,null,null,null,null,null,null,null,null,null,null,null,null,null,null,null,null,"Program Attendance Summary",null,null,null,null,null,null,null,null,null,null,null,null,null,null,null,"",null,null,null,null,null,null,null,null,null,null,null,null,"Skills in purple boxes are those recommended in ART manual."]
[null,"Participant Code","Gender",null,null,null,null,null,null,null,null,null,null,null,null,null,null,null,null,null,null,null,null,null,null,null,null,null,null,null,null,null,null,null,"Administrative Withdrawal?",null,"# SS Sessions","# AC Sessions","# MR Sessions","TOTAL Attended",null,null,"Skillstreaming Sessions",null,null,null,null,null,null,null,null,null,"",null,null,null,null,null,null,null,{"$f":"D25","v":""},null,null,null,null,"Mean Skill 01","Mean Skill 02","Mean Skill 03","Mean Skill 04","Mean Skill 05","Mean Skill 06","Mean Skill 07","Mean Skill 08","Mean Skill 09","Mean Skill 10","Mean Skill 11","Mean Skill 12","Mean Skill 13","Mean Skill 14","Mean Skill 15","Mean Skill 16","Mean Skill 17","Mean Skill 18","Mean Skill 19","Mean Skill 20","Mean Skill 21","Mean Skill 22","Mean Skill 23","Mean Skill 24","Mean Skill 25","Mean Skill 26","Mean Skill 27","Mean Skill 28","Mean Skill 29","Mean Skill 30","Mean Skill 31","Mean Skill 32","Mean Skill 33","Mean Skill 34","Mean Skill 35","Mean Skill 36","Mean Skill 37","Mean Skill 38","Mean Skill 39","Mean Skill 40","Mean Skill 41","Mean Skill 42","Mean Skill 43","Mean Skill 44","Mean Skill 45","Mean Skill 46","Mean Skill 47","Mean Skill 48","Mean Skill 49","Mean Skill 50"]
[1,null,null,{"$f":"$D$25","v":""},null,null,null,null,null,null,null,null,null,null,null,null,null,null,null,null,null,null,null,null,null,null,null,null,null,null,null,null,null,null,null,null,{"$f":"COUNTIF(E28:N28,\"Yes\")","v":0},{"$f":"COUNTIF(O28:X28,\"Yes\")","v":0},{"$f":"COUNTIF(Y28:AH28,\"Yes\")","v":0},{"$f":"SUM(AK28:AM28)","v":0},null,"SS1",null,{"$f":"IF(AND($D28=AR$6,$AN28>=$AU$3),1,0)","v":0},0,0,0,0,0,0,0,null,"",null,null,null,null,null,null,null,null,"",null,null,{"$f":"SMALL(BN28:DK28,10)","v":{"$error":"#DIV/0!"}},{"$f":"AVERAGE('SS PrePost'!D16:D27)","v":{"$error":"#DIV/0!"}},{"$f":"AVERAGE('SS PrePost'!E16:E27)","v":{"$error":"#DIV/0!"}},{"$f":"AVERAGE('SS PrePost'!F16:F27)","v":{"$error":"#DIV/0!"}},{"$f":"AVERAGE('SS PrePost'!G16:G27)","v":{"$error":"#DIV/0!"}},{"$f":"AVERAGE('SS PrePost'!H16:H27)","v":{"$error":"#DIV/0!"}},{"$f":"AVERAGE('SS PrePost'!I16:I27)","v":{"$error":"#DIV/0!"}},{"$f":"AVERAGE('SS PrePost'!J16:J27)","v":{"$error":"#DIV/0!"}},{"$f":"AVERAGE('SS PrePost'!K16:K27)","v":{"$error":"#DIV/0!"}},{"$f":"AVERAGE('SS PrePost'!L16:L27)","v":{"$error":"#DIV/0!"}},{"$f":"AVERAGE('SS PrePost'!M16:M27)","v":{"$error":"#DIV/0!"}},{"$f":"AVERAGE('SS PrePost'!N16:N27)","v":{"$error":"#DIV/0!"}},{"$f":"AVERAGE('SS PrePost'!O16:O27)","v":{"$error":"#DIV/0!"}},{"$f":"AVERAGE('SS PrePost'!P16:P27)","v":{"$error":"#DIV/0!"}},{"$f":"AVERAGE('SS PrePost'!Q16:Q27)","v":{"$error":"#DIV/0!"}},{"$f":"AVERAGE('SS PrePost'!R16:R27)","v":{"$error":"#DIV/0!"}},{"$f":"AVERAGE('SS PrePost'!S16:S27)","v":{"$error":"#DIV/0!"}},{"$f":"AVERAGE('SS PrePost'!T16:T27)","v":{"$error":"#DIV/0!"}},{"$f":"AVERAGE('SS PrePost'!U16:U27)","v":{"$error":"#DIV/0!"}},{"$f":"AVERAGE('SS PrePost'!V16:V27)","v":{"$error":"#DIV/0!"}},{"$f":"AVERAGE('SS PrePost'!W16:W27)","v":{"$error":"#DIV/0!"}},{"$f":"AVERAGE('SS PrePost'!X16:X27)","v":{"$error":"#DIV/0!"}},{"$f":"AVERAGE('SS PrePost'!Y16:Y27)","v":{"$error":"#DIV/0!"}},{"$f":"AVERAGE('SS PrePost'!Z16:Z27)","v":{"$error":"#DIV/0!"}},{"$f":"AVERAGE('SS PrePost'!AA16:AA27)","v":{"$error":"#DIV/0!"}},{"$f":"AVERAGE('SS PrePost'!AB16:AB27)","v":{"$error":"#DIV/0!"}},{"$f":"AVERAGE('SS PrePost'!AC16:AC27)","v":{"$error":"#DIV/0!"}},{"$f":"AVERAGE('SS PrePost'!AD16:AD27)","v":{"$error":"#DIV/0!"}},{"$f":"AVERAGE('SS PrePost'!AE16:AE27)","v":{"$error":"#DIV/0!"}},{"$f":"AVERAGE('SS PrePost'!AF16:AF27)","v":{"$error":"#DIV/0!"}},{"$f":"AVERAGE('SS PrePost'!AG16:AG27)","v":{"$error":"#DIV/0!"}},{"$f":"AVERAGE('SS PrePost'!AH16:AH27)","v":{"$error":"#DIV/0!"}},{"$f":"AVERAGE('SS PrePost'!AI16:AI27)","v":{"$error":"#DIV/0!"}},{"$f":"AVERAGE('SS PrePost'!AJ16:AJ27)","v":{"$error":"#DIV/0!"}},{"$f":"AVERAGE('SS PrePost'!AK16:AK27)","v":{"$error":"#DIV/0!"}},{"$f":"AVERAGE('SS PrePost'!AL16:AL27)","v":{"$error":"#DIV/0!"}},{"$f":"AVERAGE('SS PrePost'!AM16:AM27)","v":{"$error":"#DIV/0!"}},{"$f":"AVERAGE('SS PrePost'!AN16:AN27)","v":{"$error":"#DIV/0!"}},{"$f":"AVERAGE('SS PrePost'!AO16:AO27)","v":{"$error":"#DIV/0!"}},{"$f":"AVERAGE('SS PrePost'!AP16:AP27)","v":{"$error":"#DIV/0!"}},{"$f":"AVERAGE('SS PrePost'!AQ16:AQ27)","v":{"$error":"#DIV/0!"}},{"$f":"AVERAGE('SS PrePost'!AR16:AR27)","v":{"$error":"#DIV/0!"}},{"$f":"AVERAGE('SS PrePost'!AS16:AS27)","v":{"$error":"#DIV/0!"}},{"$f":"AVERAGE('SS PrePost'!AT16:AT27)","v":{"$error":"#DIV/0!"}},{"$f":"AVERAGE('SS PrePost'!AU16:AU27)","v":{"$error":"#DIV/0!"}},{"$f":"AVERAGE('SS PrePost'!AV16:AV27)","v":{"$error":"#DIV/0!"}},{"$f":"AVERAGE('SS PrePost'!AW16:AW27)","v":{"$error":"#DIV/0!"}},{"$f":"AVERAGE('SS PrePost'!AX16:AX27)","v":{"$error":"#DIV/0!"}},{"$f":"AVERAGE('SS PrePost'!AY16:AY27)","v":{"$error":"#DIV/0!"}},{"$f":"AVERAGE('SS PrePost'!AZ16:AZ27)","v":{"$error":"#DIV/0!"}},{"$f":"AVERAGE('SS PrePost'!BA16:BA27)","v":{"$error":"#DIV/0!"}}]
[2,null,null,{"$f":"$D$25","v":""},null,null,null,null,null,null,null,null,null,null,null,null,null,null,null,null,null,null,null,null,null,null,null,null,null,null,null,null,null,null,null,null,0,0,0,{"$f":"SUM(AK29:AM29)","v":0},null,"SS2",null,0,0,0,0,0,0,0,0,null,"",null,null,null,null,null,null,null,null,""]
[3,null,null,"",null,null,null,null,null,null,null,null,null,null,null,null,null,null,null,null,null,null,null,null,null,null,null,null,null,null,null,null,null,null,null,null,0,0,0,0,null,"SS3",null,0,0,0,0,0,0,0,0,null,"",null,null,null,null,null,null,null,null,""]
[4,null,null,"",null,null,null,null,null,null,null,null,null,null,null,null,null,null,null,null,null,null,null,null,null,null,null,null,null,null,null,null,null,null,null,null,0,0,0,0,null,"SS4",null,0,0,0,0,0,0,0,0,null,"",null,null,null,null,null,null,null,null,""]
[5,null,null,"",null,null,null,null,null,null,null,null,null,null,null,null,null,null,null,null,null,null,null,null,null,null,null,null,null,null,null,null,null,null,null,null,0,0,0,0,null,"SS5",null,0,0,0,0,0,0,0,0,null,"",null,null,null,null,null,null,null,null,""]
[6,null,null,"",null,null,null,null,null,null,null,null,null,null,null,null,null,null,null,null,null,null,null,null,null,null,null,null,null,null,null,null,null,null,null,null,0,0,0,0,null,"SS6",null,0,0,0,0,0,0,0,0,null,"",null,null,null,null,null,null,null,null,""]
[7,null,null,"",null,null,null,null,null,null,null,null,null,null,null,null,null,null,null,null,null,null,null,null,null,null,null,null,null,null,null,null,null,null,null,null,0,0,0,0,null,"SS7",null,0,0,0,0,0,0,0,0,null,"",null,null,null,null,null,null,null,null,""]
[8,null,null,"",null,null,null,null,null,null,null,null,null,null,null,null,null,null,null,null,null,null,null,null,null,null,null,null,null,null,null,null,null,null,null,null,0,0,0,0,null,"SS8",null,0,0,0,0,0,0,0,0,null,"",null,null,null,null,null,null,null,null,""]
[9,null,null,"",null,null,null,null,null,null,null,null,null,null,null,null,null,null,null,null,null,null,null,null,null,null,null,null,null,null,null,null,null,null,null,null,0,0,0,0,null,"SS9",null,0,0,0,0,0,0,0,0,null,"",null,null,null,null,null,null,null,null,""]
[10,null,null,"",null,null,null,null,null,null,null,null,null,null,null,null,null,null,null,null,null,null,null,null,null,null,null,null,null,null,null,null,null,null,null,null,{"$f":"COUNTIF(E37:N37,\"Yes\")","v":0},{"$f":"COUNTIF(O37:X37,\"Yes\")","v":0},{"$f":"COUNTIF(Y37:AH37,\"Yes\")","v":0},{"$f":"SUM(AK37:AM37)","v":0},null,"SS10",null,0,0,0,0,0,0,0,0,null,"",null,null,null,null,null,null,null,null,""]
[11,null,null,"",null,null,null,null,null,null,null,null,null,null,null,null,null,null,null,null,null,null,null,null,null,null,null,null,null,null,null,null,null,null,null,null,0,0,0,0,null,null,null,0,0,0,0,0,0,0,0,null,{"$f":"IF(AI38=\"YES\",D38,\"\")","v":""},null,null,null,null,null,null,null,null,{"$f":"IF(AN38>0,D38,\"\")","v":""}]
[12,null,null,"",null,null,null,null,null,null,null,null,null,null,null,null,null,null,null,null,null,null,null,null,null,null,null,null,null,null,null,null,null,null,null,null,0,0,0,0,null,null,null,0,0,0,0,0,0,0,0,null,"",null,null,null,null,null,null,null,null,""]
[null,null,null,null,null,null,null,null,null,null,null,null,null,null,null,null,null,null,null,null,null,null,null,null,null,null,null,null,null,null,null,null,null,null,null,null,null,null,null,null,null,null,null,null,null,null,null,null,null,null,null,null,""]
[null,"Program #3",null,null,null,null,null,null,null,null,null,null,null,null,null,null,null,null,null,null,null,null,null,null,null,null,null,null,null,null,null,null,null,null,null,null,null,null,null,null,null,null,null,null,null,null,null,null,null,null,null,null,""]
[null,"Location",null,null,null,null,null,null,null,null,null,null,null,null,null,null,null,null,null,null,null,null,null,null,null,null,null,null,null,null,null,null,null,null,null,null,null,null,null,null,null,null,null,null,null,null,null,null,null,null,null,null,""]
[null,"Start Date",null,"Qtr","Attendance",null,null,null,null,null,null,null,null,"Skillstreaming",null,null,null,null,null,null,null,null,null,"Anger Control",null,null,null,null,null,null,null,null,null,"Moral Reasoning",null,null,null,null,null,{"$f":"IF(C44,((YEAR(C44)-YEAR($B$1))*12+MONTH(C44)-MONTH($B$1)+1),\"\")","v":""},null,null,null,null,null,null,null,null,null,null,null,null,""]
[null,"Completion Date",null,{"$f":"IF(C44,INT((AN43+2)/3),\"\")","v":""},"SS1","SS2","SS3","SS4","SS5","SS6","SS7","SS8","SS9","SS10","AC1","AC2","AC3","AC4","AC5","AC6","AC7","AC8","AC9","AC10","MR1","MR2","MR3","MR4","MR5","MR6","MR7","MR8","MR9","MR10",null,null,null,null,null,"Month",null,{"$f":"COUNTIF(AN47:AN56,30)","v":0},null,null,null,null,null,null,null,null,null,null,"",null,null,null,null,null,null,null,null,null,null,null,null,"Orange Box indicates they are among 10 lowest agerage skills scores for this group."]
[null,"Group Environment",null,null,{"$f":"LEFT($AQ47,2)","v":""},{"$f":"LEFT($AQ48,2)","v":""},{"$f":"LEFT($AQ49,2)","v":""},{"$f":"LEFT($AQ50,2)","v":""},{"$f":"LEFT($AQ51,2)","v":""},{"$f":"LEFT($AQ52,2)","v":""},{"$f":"LEFT($AQ53,2)","v":""},{"$f":"LEFT($AQ54,2)","v":""},{"$f":"LEFT($AQ55,2)","v":""},{"$f":"LEFT($AQ56,2)","v":""}," ",null,null,null,null,null,null,null,null,null,null,null,null,null,null,null,null,null,null,null,null,null,"Program Attendance Summary",null,null,null,null,null,null,null,null,null,null,null,null,null,null,null,"",null,null,null,null,null,null,null,null,null,null,null,null,"Skills in purple boxes are those recommended in ART manual."]
[null,"Participant Code","Gender",null,null,null,null,null,null,null,null,null,null,null,null,null,null,null,null,null,null,null,null,null,null,null,null,null,null,null,null,null,null,null,"Administrative Withdrawal?",null,"# SS Sessions","# AC Sessions","# MR Sessions","TOTAL Attended",null,null,"Skillstreaming Sessions",null,null,null,null,null,null,null,null,null,"",null,null,null,null,null,null,null,{"$f":"D44","v":""},null,null,null,null,"Mean Skill 01","Mean Skill 02","Mean Skill 03","Mean Skill 04","Mean Skill 05","Mean Skill 06","Mean Skill 07","Mean Skill 08","Mean Skill 09","Mean Skill 10","Mean Skill 11","Mean Skill 12","Mean Skill 13","Mean Skill 14","Mean Skill 15","Mean Skill 16","Mean Skill 17","Mean Skill 18","Mean Skill 19","Mean Skill 20","Mean Skill 21","Mean Skill 22","Mean Skill 23","Mean Skill 24","Mean Skill 25","Mean Skill 26","Mean Skill 27","Mean Skill 28","Mean Skill 29","Mean Skill 30","Mean Skill 31","Mean Skill 32","Mean Skill 33","Mean Skill 34","Mean Skill 35","Mean Skill 36","Mean Skill 37","Mean Skill 38","Mean Skill 39","Mean Skill 40","Mean Skill 41","Mean Skill 42","Mean Skill 43","Mean Skill 44","Mean Skill 45","Mean Skill 46","Mean Skill 47","Mean Skill 48","Mean Skill 49","Mean Skill 50"]
[1,null,null,{"$f":"$D$44","v":""},null,null,null,null,null,null,null,null,null,null,null,null,null,null,null,null,null,null,null,null,null,null,null,null,null,null,null,null,null,null,null,null,{"$f":"COUNTIF(E47:N47,\"Yes\")","v":0},{"$f":"COUNTIF(O47:X47,\"Yes\")","v":0},{"$f":"COUNTIF(Y47:AH47,\"Yes\")","v":0},{"$f":"SUM(AK47:AM47)","v":0},null,"SS1",null,{"$f":"IF(AND($D47=AR$6,$AN47>=$AU$3),1,0)","v":0},0,0,0,0,0,0,0,null,"",null,null,null,null,null,null,null,null,"",null,null,{"$f":"SMALL(BN47:DK47,10)","v":{"$error":"#DIV/0!"}},{"$f":"AVERAGE('SS PrePost'!D28:D39)","v":{"$error":"#DIV/0!"}},{"$f":"AVERAGE('SS PrePost'!E28:E39)","v":{"$error":"#DIV/0!"}},{"$f":"AVERAGE('SS PrePost'!F28:F39)","v":{"$error":"#DIV/0!"}},{"$f":"AVERAGE('SS PrePost'!G28:G39)","v":{"$error":"#DIV/0!"}},{"$f":"AVERAGE('SS PrePost'!H28:H39)","v":{"$error":"#DIV/0!"}},{"$f":"AVERAGE('SS PrePost'!I28:I39)","v":{"$error":"#DIV/0!"}},{"$f":"AVERAGE('SS PrePost'!J28:J39)","v":{"$error":"#DIV/0!"}},{"$f":"AVERAGE('SS PrePost'!K28:K39)","v":{"$error":"#DIV/0!"}},{"$f":"AVERAGE('SS PrePost'!L28:L39)","v":{"$error":"#DIV/0!"}},{"$f":"AVERAGE('SS PrePost'!M28:M39)","v":{"$error":"#DIV/0!"}},{"$f":"AVERAGE('SS PrePost'!N28:N39)","v":{"$error":"#DIV/0!"}},{"$f":"AVERAGE('SS PrePost'!O28:O39)","v":{"$error":"#DIV/0!"}},{"$f":"AVERAGE('SS PrePost'!P28:P39)","v":{"$error":"#DIV/0!"}},{"$f":"AVERAGE('SS PrePost'!Q28:Q39)","v":{"$error":"#DIV/0!"}},{"$f":"AVERAGE('SS PrePost'!R28:R39)","v":{"$error":"#DIV/0!"}},{"$f":"AVERAGE('SS PrePost'!S28:S39)","v":{"$error":"#DIV/0!"}},{"$f":"AVERAGE('SS PrePost'!T28:T39)","v":{"$error":"#DIV/0!"}},{"$f":"AVERAGE('SS PrePost'!U28:U39)","v":{"$error":"#DIV/0!"}},{"$f":"AVERAGE('SS PrePost'!V28:V39)","v":{"$error":"#DIV/0!"}},{"$f":"AVERAGE('SS PrePost'!W28:W39)","v":{"$error":"#DIV/0!"}},{"$f":"AVERAGE('SS PrePost'!X28:X39)","v":{"$error":"#DIV/0!"}},{"$f":"AVERAGE('SS PrePost'!Y28:Y39)","v":{"$error":"#DIV/0!"}},{"$f":"AVERAGE('SS PrePost'!Z28:Z39)","v":{"$error":"#DIV/0!"}},{"$f":"AVERAGE('SS PrePost'!AA28:AA39)","v":{"$error":"#DIV/0!"}},{"$f":"AVERAGE('SS PrePost'!AB28:AB39)","v":{"$error":"#DIV/0!"}},{"$f":"AVERAGE('SS PrePost'!AC28:AC39)","v":{"$error":"#DIV/0!"}},{"$f":"AVERAGE('SS PrePost'!AD28:AD39)","v":{"$error":"#DIV/0!"}},{"$f":"AVERAGE('SS PrePost'!AE28:AE39)","v":{"$error":"#DIV/0!"}},{"$f":"AVERAGE('SS PrePost'!AF28:AF39)","v":{"$error":"#DIV/0!"}},{"$f":"AVERAGE('SS PrePost'!AG28:AG39)","v":{"$error":"#DIV/0!"}},{"$f":"AVERAGE('SS PrePost'!AH28:AH39)","v":{"$error":"#DIV/0!"}},{"$f":"AVERAGE('SS PrePost'!AI28:AI39)","v":{"$error":"#DIV/0!"}},{"$f":"AVERAGE('SS PrePost'!AJ28:AJ39)","v":{"$error":"#DIV/0!"}},{"$f":"AVERAGE('SS PrePost'!AK28:AK39)","v":{"$error":"#DIV/0!"}},{"$f":"AVERAGE('SS PrePost'!AL28:AL39)","v":{"$error":"#DIV/0!"}},{"$f":"AVERAGE('SS PrePost'!AM28:AM39)","v":{"$error":"#DIV/0!"}},{"$f":"AVERAGE('SS PrePost'!AN28:AN39)","v":{"$error":"#DIV/0!"}},{"$f":"AVERAGE('SS PrePost'!AO28:AO39)","v":{"$error":"#DIV/0!"}},{"$f":"AVERAGE('SS PrePost'!AP28:AP39)","v":{"$error":"#DIV/0!"}},{"$f":"AVERAGE('SS PrePost'!AQ28:AQ39)","v":{"$error":"#DIV/0!"}},{"$f":"AVERAGE('SS PrePost'!AR28:AR39)","v":{"$error":"#DIV/0!"}},{"$f":"AVERAGE('SS PrePost'!AS28:AS39)","v":{"$error":"#DIV/0!"}},{"$f":"AVERAGE('SS PrePost'!AT28:AT39)","v":{"$error":"#DIV/0!"}},{"$f":"AVERAGE('SS PrePost'!AU28:AU39)","v":{"$error":"#DIV/0!"}},{"$f":"AVERAGE('SS PrePost'!AV28:AV39)","v":{"$error":"#DIV/0!"}},{"$f":"AVERAGE('SS PrePost'!AW28:AW39)","v":{"$error":"#DIV/0!"}},{"$f":"AVERAGE('SS PrePost'!AX28:AX39)","v":{"$error":"#DIV/0!"}},{"$f":"AVERAGE('SS PrePost'!AY28:AY39)","v":{"$error":"#DIV/0!"}},{"$f":"AVERAGE('SS PrePost'!AZ28:AZ39)","v":{"$error":"#DIV/0!"}},{"$f":"AVERAGE('SS PrePost'!BA28:BA39)","v":{"$error":"#DIV/0!"}}]
[2,null,null,{"$f":"$D$44","v":""},null,null,null,null,null,null,null,null,null,null,null,null,null,null,null,null,null,null,null,null,null,null,null,null,null,null,null,null,null,null,null,null,0,0,0,{"$f":"SUM(AK48:AM48)","v":0},null,"SS2",null,0,0,0,0,0,0,0,0,null,"",null,null,null,null,null,null,null,null,""]
[3,null,null,"",null,null,null,null,null,null,null,null,null,null,null,null,null,null,null,null,null,null,null,null,null,null,null,null,null,null,null,null,null,null,null,null,0,0,0,0,null,"SS3",null,0,0,0,0,0,0,0,0,null,"",null,null,null,null,null,null,null,null,""]
[4,null,null,"",null,null,null,null,null,null,null,null,null,null,null,null,null,null,null,null,null,null,null,null,null,null,null,null,null,null,null,null,null,null,null,null,0,0,0,0,null,"SS4",null,0,0,0,0,0,0,0,0,null,"",null,null,null,null,null,null,null,null,""]
[5,null,null,"",null,null,null,null,null,null,null,null,null,null,null,null,null,null,null,null,null,null,null,null,null,null,null,null,null,null,null,null,null,null,null,null,0,0,0,0,null,"SS5",null,0,0,0,0,0,0,0,0,null,"",null,null,null,null,null,null,null,null,""]
[6,null,null,"",null,null,null,null,null,null,null,null,null,null,null,null,null,null,null,null,null,null,null,null,null,null,null,null,null,null,null,null,null,null,null,null,0,0,0,0,null,"SS6",null,0,0,0,0,0,0,0,0,null,"",null,null,null,null,null,null,null,null,""]
[7,null,null,"",null,null,null,null,null,null,null,null,null,null,null,null,null,null,null,null,null,null,null,null,null,null,null,null,null,null,null,null,null,null,null,null,0,0,0,0,null,"SS7",null,0,0,0,0,0,0,0,0,null,"",null,null,null,null,null,null,null,null,""]
[8,null,null,"",null,null,null,null,null,null,null,null,null,null,null,null,null,null,null,null,null,null,null,null,null,null,null,null,null,null,null,null,null,null,null,null,0,0,0,0,null,"SS8",null,0,0,0,0,0,0,0,0,null,"",null,null,null,null,null,null,null,null,""]
[9,null,null,"",null,null,null,null,null,null,null,null,null,null,null,null,null,null,null,null,null,null,null,null,null,null,null,null,null,null,null,null,null,null,null,null,0,0,0,0,null,"SS9",null,0,0,0,0,0,0,0,0,null,"",null,null,null,null,null,null,null,null,""]
[10,null,null,"",null,null,null,null,null,null,null,null,null,null,null,null,null,null,null,null,null,null,null,null,null,null,null,null,null,null,null,null,null,null,null,null,0,0,0,{"$f":"SUM(AK56:AM56)","v":0},null,"SS10",null,0,0,0,0,0,0,0,0,null,"",null,null,null,null,null,null,null,null,""]
[11,null,null,"",null,null,null,null,null,null,null,null,null,null,null,null,null,null,null,null,null,null,null,null,null,null,null,null,null,null,null,null,null,null,null,null,0,0,0,0,null,null,null,0,0,0,0,0,0,0,0,null,{"$f":"IF(AI57=\"YES\",D57,\"\")","v":""},null,null,null,null,null,null,null,null,{"$f":"IF(AN57>0,D57,\"\")","v":""}]
[12,null,null,"",null,null,null,null,null,null,null,null,null,null,null,null,null,null,null,null,null,null,null,null,null,null,null,null,null,null,null,null,null,null,null,null,0,0,0,0,null,null,null,0,0,0,0,0,0,0,0,null,"",null,null,null,null,null,null,null,null,""]
[null,null,null,null,null,null,null,null,null,null,null,null,null,null,null,null,null,null,null,null,null,null,null,null,null,null,null,null,null,null,null,null,null,null,null,null,null,null,null,null,null,null,null,null,null,null,null,null,null,null,null,null,""]
[null,"Program #4",null,null,null,null,null,null,null,null,null,null,null,null,null,null,null,null,null,null,null,null,null,null,null,null,null,null,null,null,null,null,null,null,null,null,null,null,null,null,null,null,null,null,null,null,null,null,null,null,null,null,""]
[null,"Location",null,null,null,null,null,null,null,null,null,null,null,null,null,null,null,null,null,null,null,null,null,null,null,null,null,null,null,null,null,null,null,null,null,null,null,null,null,null,null,null,null,null,null,null,null,null,null,null,null,null,""]
[null,"Start Date",null,"Qtr","Attendance",null,null,null,null,null,null,null,null,"Skillstreaming",null,null,null,null,null,null,null,null,null,"Anger Control",null,null,null,null,null,null,null,null,null,"Moral Reasoning",null,null,null,null,null,{"$f":"IF(C63,((YEAR(C63)-YEAR($B$1))*12+MONTH(C63)-MONTH($B$1)+1),\"\")","v":""},null,null,null,null,null,null,null,null,null,null,null,null,""]
[null,"Completion Date",null,{"$f":"IF(C63,INT((AN62+2)/3),\"\")","v":""},"SS1","SS2","SS3","SS4","SS5","SS6","SS7","SS8","SS9","SS10","AC1","AC2","AC3","AC4","AC5","AC6","AC7","AC8","AC9","AC10","MR1","MR2","MR3","MR4","MR5","MR6","MR7","MR8","MR9","MR10",null,null,null,null,null,"Month",null,{"$f":"COUNTIF(AN66:AN75,30)","v":0},null,null,null,null,null,null,null,null,null,null,"",null,null,null,null,null,null,null,null,null,null,null,null,"Orange Box indicates they are among 10 lowest agerage skills scores for this group."]
[null,"Group Environment",null,null,{"$f":"LEFT($AQ66,2)","v":""},{"$f":"LEFT($AQ67,2)","v":""},{"$f":"LEFT($AQ68,2)","v":""},{"$f":"LEFT($AQ69,2)","v":""},{"$f":"LEFT($AQ70,2)","v":""},{"$f":"LEFT($AQ71,2)","v":""},{"$f":"LEFT($AQ72,2)","v":""},{"$f":"LEFT($AQ73,2)","v":""},{"$f":"LEFT($AQ74,2)","v":""},{"$f":"LEFT($AQ75,2)","v":""}," ",null,null,null,null,null,null,null,null,null,null,null,null,null,null,null,null,null,null,null,null,null,"Program Attendance Summary",null,null,null,null,null,null,null,null,null,null,null,null,null,null,null,"",null,null,null,null,null,null,null,null,null,null,null,null,"Skills in purple boxes are those recommended in ART manual."]
[null,"Participant Code","Gender",null,null,null,null,null,null,null,null,null,null,null,null,null,null,null,null,null,null,null,null,null,null,null,null,null,null,null,null,null,null,null,"Administrative Withdrawal?",null,"# SS Sessions","# AC Sessions","# MR Sessions","TOTAL Attended",null,null,"Skillstreaming Sessions",null,null,null,null,null,null,null,null,null,"",null,null,null,null,null,null,null,{"$f":"D63","v":""},null,null,null,null,"Mean Skill 01","Mean Skill 02","Mean Skill 03","Mean Skill 04","Mean Skill 05","Mean Skill 06","Mean Skill 07","Mean Skill 08","Mean Skill 09","Mean Skill 10","Mean Skill 11","Mean Skill 12","Mean Skill 13","Mean Skill 14","Mean Skill 15","Mean Skill 16","Mean Skill 17","Mean Skill 18","Mean Skill 19","Mean Skill 20","Mean Skill 21","Mean Skill 22","Mean Skill 23","Mean Skill 24","Mean Skill 25","Mean Skill 26","Mean Skill 27","Mean Skill 28","Mean Skill 29","Mean Skill 30","Mean Skill 31","Mean Skill 32","Mean Skill 33","Mean Skill 34","Mean Skill 35","Mean Skill 36","Mean Skill 37","Mean Skill 38","Mean Skill 39","Mean Skill 40","Mean Skill 41","Mean Skill 42","Mean Skill 43","Mean Skill 44","Mean Skill 45","Mean Skill 46","Mean Skill 47","Mean Skill 48","Mean Skill 49","Mean Skill 50"]
[1,null,null,{"$f":"$D$63","v":""},null,null,null,null,null,null,null,null,null,null,null,null,null,null,null,null,null,null,null,null,null,null,null,null,null,null,null,null,null,null,null,null,{"$f":"COUNTIF(E66:N66,\"Yes\")","v":0},{"$f":"COUNTIF(O66:X66,\"Yes\")","v":0},{"$f":"COUNTIF(Y66:AH66,\"Yes\")","v":0},{"$f":"SUM(AK66:AM66)","v":0},null,"SS1",null,{"$f":"IF(AND($D66=AR$6,$AN66>=$AU$3),1,0)","v":0},0,0,0,0,0,0,0,null,"",null,null,null,null,null,null,null,null,"",null,null,{"$f":"SMALL(BN66:DK66,10)","v":{"$error":"#DIV/0!"}},{"$f":"AVERAGE('SS PrePost'!D40:D51)","v":{"$error":"#DIV/0!"}},{"$f":"AVERAGE('SS PrePost'!E40:E51)","v":{"$error":"#DIV/0!"}},{"$f":"AVERAGE('SS PrePost'!F40:F51)","v":{"$error":"#DIV/0!"}},{"$f":"AVERAGE('SS PrePost'!G40:G51)","v":{"$error":"#DIV/0!"}},{"$f":"AVERAGE('SS PrePost'!H40:H51)","v":{"$error":"#DIV/0!"}},{"$f":"AVERAGE('SS PrePost'!I40:I51)","v":{"$error":"#DIV/0!"}},{"$f":"AVERAGE('SS PrePost'!J40:J51)","v":{"$error":"#DIV/0!"}},{"$f":"AVERAGE('SS PrePost'!K40:K51)","v":{"$error":"#DIV/0!"}},{"$f":"AVERAGE('SS PrePost'!L40:L51)","v":{"$error":"#DIV/0!"}},{"$f":"AVERAGE('SS PrePost'!M40:M51)","v":{"$error":"#DIV/0!"}},{"$f":"AVERAGE('SS PrePost'!N40:N51)","v":{"$error":"#DIV/0!"}},{"$f":"AVERAGE('SS PrePost'!O40:O51)","v":{"$error":"#DIV/0!"}},{"$f":"AVERAGE('SS PrePost'!P40:P51)","v":{"$error":"#DIV/0!"}},{"$f":"AVERAGE('SS PrePost'!Q40:Q51)","v":{"$error":"#DIV/0!"}},{"$f":"AVERAGE('SS PrePost'!R40:R51)","v":{"$error":"#DIV/0!"}},{"$f":"AVERAGE('SS PrePost'!S40:S51)","v":{"$error":"#DIV/0!"}},{"$f":"AVERAGE('SS PrePost'!T40:T51)","v":{"$error":"#DIV/0!"}},{"$f":"AVERAGE('SS PrePost'!U40:U51)","v":{"$error":"#DIV/0!"}},{"$f":"AVERAGE('SS PrePost'!V40:V51)","v":{"$error":"#DIV/0!"}},{"$f":"AVERAGE('SS PrePost'!W40:W51)","v":{"$error":"#DIV/0!"}},{"$f":"AVERAGE('SS PrePost'!X40:X51)","v":{"$error":"#DIV/0!"}},{"$f":"AVERAGE('SS PrePost'!Y40:Y51)","v":{"$error":"#DIV/0!"}},{"$f":"AVERAGE('SS PrePost'!Z40:Z51)","v":{"$error":"#DIV/0!"}},{"$f":"AVERAGE('SS PrePost'!AA40:AA51)","v":{"$error":"#DIV/0!"}},{"$f":"AVERAGE('SS PrePost'!AB40:AB51)","v":{"$error":"#DIV/0!"}},{"$f":"AVERAGE('SS PrePost'!AC40:AC51)","v":{"$error":"#DIV/0!"}},{"$f":"AVERAGE('SS PrePost'!AD40:AD51)","v":{"$error":"#DIV/0!"}},{"$f":"AVERAGE('SS PrePost'!AE40:AE51)","v":{"$error":"#DIV/0!"}},{"$f":"AVERAGE('SS PrePost'!AF40:AF51)","v":{"$error":"#DIV/0!"}},{"$f":"AVERAGE('SS PrePost'!AG40:AG51)","v":{"$error":"#DIV/0!"}},{"$f":"AVERAGE('SS PrePost'!AH40:AH51)","v":{"$error":"#DIV/0!"}},{"$f":"AVERAGE('SS PrePost'!AI40:AI51)","v":{"$error":"#DIV/0!"}},{"$f":"AVERAGE('SS PrePost'!AJ40:AJ51)","v":{"$error":"#DIV/0!"}},{"$f":"AVERAGE('SS PrePost'!AK40:AK51)","v":{"$error":"#DIV/0!"}},{"$f":"AVERAGE('SS PrePost'!AL40:AL51)","v":{"$error":"#DIV/0!"}},{"$f":"AVERAGE('SS PrePost'!AM40:AM51)","v":{"$error":"#DIV/0!"}},{"$f":"AVERAGE('SS PrePost'!AN40:AN51)","v":{"$error":"#DIV/0!"}},{"$f":"AVERAGE('SS PrePost'!AO40:AO51)","v":{"$error":"#DIV/0!"}},{"$f":"AVERAGE('SS PrePost'!AP40:AP51)","v":{"$error":"#DIV/0!"}},{"$f":"AVERAGE('SS PrePost'!AQ40:AQ51)","v":{"$error":"#DIV/0!"}},{"$f":"AVERAGE('SS PrePost'!AR40:AR51)","v":{"$error":"#DIV/0!"}},{"$f":"AVERAGE('SS PrePost'!AS40:AS51)","v":{"$error":"#DIV/0!"}},{"$f":"AVERAGE('SS PrePost'!AT40:AT51)","v":{"$error":"#DIV/0!"}},{"$f":"AVERAGE('SS PrePost'!AU40:AU51)","v":{"$error":"#DIV/0!"}},{"$f":"AVERAGE('SS PrePost'!AV40:AV51)","v":{"$error":"#DIV/0!"}},{"$f":"AVERAGE('SS PrePost'!AW40:AW51)","v":{"$error":"#DIV/0!"}},{"$f":"AVERAGE('SS PrePost'!AX40:AX51)","v":{"$error":"#DIV/0!"}},{"$f":"AVERAGE('SS PrePost'!AY40:AY51)","v":{"$error":"#DIV/0!"}},{"$f":"AVERAGE('SS PrePost'!AZ40:AZ51)","v":{"$error":"#DIV/0!"}},{"$f":"AVERAGE('SS PrePost'!BA40:BA51)","v":{"$error":"#DIV/0!"}}]
[2,null,null,{"$f":"$D$63","v":""},null,null,null,null,null,null,null,null,null,null,null,null,null,null,null,null,null,null,null,null,null,null,null,null,null,null,null,null,null,null,null,null,0,0,0,{"$f":"SUM(AK67:AM67)","v":0},null,"SS2",null,0,0,0,0,0,0,0,0,null,"",null,null,null,null,null,null,null,null,""]
[3,null,null,"",null,null,null,null,null,null,null,null,null,null,null,null,null,null,null,null,null,null,null,null,null,null,null,null,null,null,null,null,null,null,null,null,0,0,0,0,null,"SS3",null,0,0,0,0,0,0,0,0,null,"",null,null,null,null,null,null,null,null,""]
[4,null,null,"",null,null,null,null,null,null,null,null,null,null,null,null,null,null,null,null,null,null,null,null,null,null,null,null,null,null,null,null,null,null,null,null,0,0,0,0,null,"SS4",null,0,0,0,0,0,0,0,0,null,"",null,null,null,null,null,null,null,null,""]
[5,null,null,"",null,null,null,null,null,null,null,null,null,null,null,null,null,null,null,null,null,null,null,null,null,null,null,null,null,null,null,null,null,null,null,null,0,0,0,0,null,"SS5",null,0,0,0,0,0,0,0,0,null,"",null,null,null,null,null,null,null,null,""]
[6,null,null,"",null,null,null,null,null,null,null,null,null,null,null,null,null,null,null,null,null,null,null,null,null,null,null,null,null,null,null,null,null,null,null,null,0,0,0,0,null,"SS6",null,0,0,0,0,0,0,0,0,null,"",null,null,null,null,null,null,null,null,""]
[7,null,null,"",null,null,null,null,null,null,null,null,null,null,null,null,null,null,null,null,null,null,null,null,null,null,null,null,null,null,null,null,null,null,null,null,0,0,0,0,null,"SS7",null,0,0,0,0,0,0,0,0,null,"",null,null,null,null,null,null,null,null,""]
[8,null,null,"",null,null,null,null,null,null,null,null,null,null,null,null,null,null,null,null,null,null,null,null,null,null,null,null,null,null,null,null,null,null,null,null,0,0,0,0,null,"SS8",null,0,0,0,0,0,0,0,0,null,"",null,null,null,null,null,null,null,null,""]
[9,null,null,"",null,null,null,null,null,null,null,null,null,null,null,null,null,null,null,null,null,null,null,null,null,null,null,null,null,null,null,null,null,null,null,null,0,0,0,0,null,"SS9",null,0,0,0,0,0,0,0,0,null,"",null,null,null,null,null,null,null,null,""]
[10,null,null,"",null,null,null,null,null,null,null,null,null,null,null,null,null,null,null,null,null,null,null,null,null,null,null,null,null,null,null,null,null,null,null,null,0,0,0,{"$f":"SUM(AK75:AM75)","v":0},null,"SS10",null,0,0,0,0,0,0,0,0,null,"",null,null,null,null,null,null,null,null,""]
[11,null,null,"",null,null,null,null,null,null,null,null,null,null,null,null,null,null,null,null,null,null,null,null,null,null,null,null,null,null,null,null,null,null,null,null,0,0,0,0,null,null,null,0,0,0,0,0,0,0,0,null,{"$f":"IF(AI76=\"YES\",D76,\"\")","v":""},null,null,null,null,null,null,null,null,{"$f":"IF(AN76>0,D76,\"\")","v":""}]
[12,null,null,"",null,null,null,null,null,null,null,null,null,null,null,null,null,null,null,null,null,null,null,null,null,null,null,null,null,null,null,null,null,null,null,null,0,0,0,0,null,null,null,0,0,0,0,0,0,0,0,null,"",null,null,null,null,null,null,null,null,""]
[null,null,null,null,null,null,null,null,null,null,null,null,null,null,null,null,null,null,null,null,null,null,null,null,null,null,null,null,null,null,null,null,null,null,null,null,null,null,null,null,null,null,null,null,null,null,null,null,null,null,null,null,""]
[null,"Program #5",null,null,null,null,null,null,null,null,null,null,null,null,null,null,null,null,null,null,null,null,null,null,null,null,null,null,null,null,null,null,null,null,null,null,null,null,null,null,null,null,null,null,null,null,null,null,null,null,null,null,""]
[null,"Location",null,null,null,null,null,null,null,null,null,null,null,null,null,null,null,null,null,null,null,null,null,null,null,null,null,null,null,null,null,null,null,null,null,null,null,null,null,null,null,null,null,null,null,null,null,null,null,null,null,null,""]
[null,"Start Date",null,"Qtr","Attendance",null,null,null,null,null,null,null,null,"Skillstreaming",null,null,null,null,null,null,null,null,null,"Anger Control",null,null,null,null,null,null,null,null,null,"Moral Reasoning",null,null,null,null,null,{"$f":"IF(C82,((YEAR(C82)-YEAR($B$1))*12+MONTH(C82)-MONTH($B$1)+1),\"\")","v":""},null,null,null,null,null,null,null,null,null,null,null,null,""]
[null,"Completion Date",null,{"$f":"IF(C82,INT((AN81+2)/3),\"\")","v":""},"SS1","SS2","SS3","SS4","SS5","SS6","SS7","SS8","SS9","SS10","AC1","AC2","AC3","AC4","AC5","AC6","AC7","AC8","AC9","AC10","MR1","MR2","MR3","MR4","MR5","MR6","MR7","MR8","MR9","MR10",null,null,null,null,null,"Month",null,{"$f":"COUNTIF(AN85:AN94,30)","v":0},null,null,null,null,null,null,null,null,null,null,{"$f":"IF(AI82=\"YES\",D82,\"\")","v":""},null,null,null,null,null,null,null,null,null,null,null,null,"Orange Box indicates they are among 10 lowest agerage skills scores for this group."]
[null,"Group Environment",null,null,{"$f":"LEFT($AQ85,2)","v":""},{"$f":"LEFT($AQ86,2)","v":""},{"$f":"LEFT($AQ87,2)","v":""},{"$f":"LEFT($AQ88,2)","v":""},{"$f":"LEFT($AQ89,2)","v":""},{"$f":"LEFT($AQ90,2)","v":""},{"$f":"LEFT($AQ91,2)","v":""},{"$f":"LEFT($AQ92,2)","v":""},{"$f":"LEFT($AQ93,2)","v":""},{"$f":"LEFT($AQ94,2)","v":""}," ",null,null,null,null,null,null,null,null,null,null,null,null,null,null,null,null,null,null,null,null,null,"Program Attendance Summary",null,null,null,null,null,null,null,null,null,null,null,null,null,null,null,"",null,null,null,null,null,null,null,null,null,null,null,null,"Skills in purple boxes are those recommended in ART manual."]
[null,"Participant Code","Gender",null,null,null,null,null,null,null,null,null,null,null,null,null,null,null,null,null,null,null,null,null,null,null,null,null,null,null,null,null,null,null,"Administrative Withdrawal?",null,"# SS Sessions","# AC Sessions","# MR Sessions","TOTAL Attended",null,null,"Skillstreaming Sessions",null,null,null,null,null,null,null,null,null,"",null,null,null,null,null,null,null,{"$f":"D82","v":""},null,null,null,null,"Mean Skill 01","Mean Skill 02","Mean Skill 03","Mean Skill 04","Mean Skill 05","Mean Skill 06","Mean Skill 07","Mean Skill 08","Mean Skill 09","Mean Skill 10","Mean Skill 11","Mean Skill 12","Mean Skill 13","Mean Skill 14","Mean Skill 15","Mean Skill 16","Mean Skill 17","Mean Skill 18","Mean Skill 19","Mean Skill 20","Mean Skill 21","Mean Skill 22","Mean Skill 23","Mean Skill 24","Mean Skill 25","Mean Skill 26","Mean Skill 27","Mean Skill 28","Mean Skill 29","Mean Skill 30","Mean Skill 31","Mean Skill 32","Mean Skill 33","Mean Skill 34","Mean Skill 35","Mean Skill 36","Mean Skill 37","Mean Skill 38","Mean Skill 39","Mean Skill 40","Mean Skill 41","Mean Skill 42","Mean Skill 43","Mean Skill 44","Mean Skill 45","Mean Skill 46","Mean Skill 47","Mean Skill 48","Mean Skill 49","Mean Skill 50"]
[1,null,null,{"$f":"$D$82","v":""},null,null,null,null,null,null,null,null,null,null,null,null,null,null,null,null,null,null,null,null,null,null,null,null,null,null,null,null,null,null,null,null,{"$f":"COUNTIF(E85:N85,\"Yes\")","v":0},{"$f":"COUNTIF(O85:X85,\"Yes\")","v":0},{"$f":"COUNTIF(Y85:AH85,\"Yes\")","v":0},{"$f":"SUM(AK85:AM85)","v":0},null,"SS1",null,{"$f":"IF(AND($D85=AR$6,$AN85>=$AU$3),1,0)","v":0},0,0,0,0,0,0,0,null,"",null,null,null,null,null,null,null,null,{"$f":"IF(AN85>0,D85,\"\")","v":""},null,null,{"$f":"SMALL(BN85:DK85,10)","v":{"$error":"#DIV/0!"}},{"$f":"AVERAGE('SS PrePost'!D52:D63)","v":{"$error":"#DIV/0!"}},{"$f":"AVERAGE('SS PrePost'!E52:E63)","v":{"$error":"#DIV/0!"}},{"$f":"AVERAGE('SS PrePost'!F52:F63)","v":{"$error":"#DIV/0!"}},{"$f":"AVERAGE('SS PrePost'!G52:G63)","v":{"$error":"#DIV/0!"}},{"$f":"AVERAGE('SS PrePost'!H52:H63)","v":{"$error":"#DIV/0!"}},{"$f":"AVERAGE('SS PrePost'!I52:I63)","v":{"$error":"#DIV/0!"}},{"$f":"AVERAGE('SS PrePost'!J52:J63)","v":{"$error":"#DIV/0!"}},{"$f":"AVERAGE('SS PrePost'!K52:K63)","v":{"$error":"#DIV/0!"}},{"$f":"AVERAGE('SS PrePost'!L52:L63)","v":{"$error":"#DIV/0!"}},{"$f":"AVERAGE('SS PrePost'!M52:M63)","v":{"$error":"#DIV/0!"}},{"$f":"AVERAGE('SS PrePost'!N52:N63)","v":{"$error":"#DIV/0!"}},{"$f":"AVERAGE('SS PrePost'!O52:O63)","v":{"$error":"#DIV/0!"}},{"$f":"AVERAGE('SS PrePost'!P52:P63)","v":{"$error":"#DIV/0!"}},{"$f":"AVERAGE('SS PrePost'!Q52:Q63)","v":{"$error":"#DIV/0!"}},{"$f":"AVERAGE('SS PrePost'!R52:R63)","v":{"$error":"#DIV/0!"}},{"$f":"AVERAGE('SS PrePost'!S52:S63)","v":{"$error":"#DIV/0!"}},{"$f":"AVERAGE('SS PrePost'!T52:T63)","v":{"$error":"#DIV/0!"}},{"$f":"AVERAGE('SS PrePost'!U52:U63)","v":{"$error":"#DIV/0!"}},{"$f":"AVERAGE('SS PrePost'!V52:V63)","v":{"$error":"#DIV/0!"}},{"$f":"AVERAGE('SS PrePost'!W52:W63)","v":{"$error":"#DIV/0!"}},{"$f":"AVERAGE('SS PrePost'!X52:X63)","v":{"$error":"#DIV/0!"}},{"$f":"AVERAGE('SS PrePost'!Y52:Y63)","v":{"$error":"#DIV/0!"}},{"$f":"AVERAGE('SS PrePost'!Z52:Z63)","v":{"$error":"#DIV/0!"}},{"$f":"AVERAGE('SS PrePost'!AA52:AA63)","v":{"$error":"#DIV/0!"}},{"$f":"AVERAGE('SS PrePost'!AB52:AB63)","v":{"$error":"#DIV/0!"}},{"$f":"AVERAGE('SS PrePost'!AC52:AC63)","v":{"$error":"#DIV/0!"}},{"$f":"AVERAGE('SS PrePost'!AD52:AD63)","v":{"$error":"#DIV/0!"}},{"$f":"AVERAGE('SS PrePost'!AE52:AE63)","v":{"$error":"#DIV/0!"}},{"$f":"AVERAGE('SS PrePost'!AF52:AF63)","v":{"$error":"#DIV/0!"}},{"$f":"AVERAGE('SS PrePost'!AG52:AG63)","v":{"$error":"#DIV/0!"}},{"$f":"AVERAGE('SS PrePost'!AH52:AH63)","v":{"$error":"#DIV/0!"}},{"$f":"AVERAGE('SS PrePost'!AI52:AI63)","v":{"$error":"#DIV/0!"}},{"$f":"AVERAGE('SS PrePost'!AJ52:AJ63)","v":{"$error":"#DIV/0!"}},{"$f":"AVERAGE('SS PrePost'!AK52:AK63)","v":{"$error":"#DIV/0!"}},{"$f":"AVERAGE('SS PrePost'!AL52:AL63)","v":{"$error":"#DIV/0!"}},{"$f":"AVERAGE('SS PrePost'!AM52:AM63)","v":{"$error":"#DIV/0!"}},{"$f":"AVERAGE('SS PrePost'!AN52:AN63)","v":{"$error":"#DIV/0!"}},{"$f":"AVERAGE('SS PrePost'!AO52:AO63)","v":{"$error":"#DIV/0!"}},{"$f":"AVERAGE('SS PrePost'!AP52:AP63)","v":{"$error":"#DIV/0!"}},{"$f":"AVERAGE('SS PrePost'!AQ52:AQ63)","v":{"$error":"#DIV/0!"}},{"$f":"AVERAGE('SS PrePost'!AR52:AR63)","v":{"$error":"#DIV/0!"}},{"$f":"AVERAGE('SS PrePost'!AS52:AS63)","v":{"$error":"#DIV/0!"}},{"$f":"AVERAGE('SS PrePost'!AT52:AT63)","v":{"$error":"#DIV/0!"}},{"$f":"AVERAGE('SS PrePost'!AU52:AU63)","v":{"$error":"#DIV/0!"}},{"$f":"AVERAGE('SS PrePost'!AV52:AV63)","v":{"$error":"#DIV/0!"}},{"$f":"AVERAGE('SS PrePost'!AW52:AW63)","v":{"$error":"#DIV/0!"}},{"$f":"AVERAGE('SS PrePost'!AX52:AX63)","v":{"$error":"#DIV/0!"}},{"$f":"AVERAGE('SS PrePost'!AY52:AY63)","v":{"$error":"#DIV/0!"}},{"$f":"AVERAGE('SS PrePost'!AZ52:AZ63)","v":{"$error":"#DIV/0!"}},{"$f":"AVERAGE('SS PrePost'!BA52:BA63)","v":{"$error":"#DIV/0!"}}]
[2,null,null,{"$f":"$D$82","v":""},null,null,null,null,null,null,null,null,null,null,null,null,null,null,null,null,null,null,null,null,null,null,null,null,null,null,null,null,null,null,null,null,0,0,0,{"$f":"SUM(AK86:AM86)","v":0},null,"SS2",null,0,0,0,0,0,0,0,0,null,"",null,null,null,null,null,null,null,null,""]
[3,null,null,"",null,null,null,null,null,null,null,null,null,null,null,null,null,null,null,null,null,null,null,null,null,null,null,null,null,null,null,null,null,null,null,null,0,0,0,0,null,"SS3",null,0,0,0,0,0,0,0,0,null,"",null,null,null,null,null,null,null,null,""]
[4,null,null,"",null,null,null,null,null,null,null,null,null,null,null,null,null,null,null,null,null,null,null,null,null,null,null,null,null,null,null,null,null,null,null,null,0,0,0,0,null,"SS4",null,0,0,0,0,0,0,0,0,null,"",null,null,null,null,null,null,null,null,""]
[5,null,null,"",null,null,null,null,null,null,null,null,null,null,null,null,null,null,null,null,null,null,null,null,null,null,null,null,null,null,null,null,null,null,null,null,0,0,0,0,null,"SS5",null,0,0,0,0,0,0,0,0,null,"",null,null,null,null,null,null,null,null,""]
[6,null,null,"",null,null,null,null,null,null,null,null,null,null,null,null,null,null,null,null,null,null,null,null,null,null,null,null,null,null,null,null,null,null,null,null,0,0,0,0,null,"SS6",null,0,0,0,0,0,0,0,0,null,"",null,null,null,null,null,null,null,null,""]
[7,null,null,"",null,null,null,null,null,null,null,null,null,null,null,null,null,null,null,null,null,null,null,null,null,null,null,null,null,null,null,null,null,null,null,null,0,0,0,0,null,"SS7",null,0,0,0,0,0,0,0,0,null,"",null,null,null,null,null,null,null,null,""]
[8,null,null,"",null,null,null,null,null,null,null,null,null,null,null,null,null,null,null,null,null,null,null,null,null,null,null,null,null,null,null,null,null,null,null,null,0,0,0,0,null,"SS8",null,0,0,0,0,0,0,0,0,null,"",null,null,null,null,null,null,null,null,""]
[9,null,null,"",null,null,null,null,null,null,null,null,null,null,null,null,null,null,null,null,null,null,null,null,null,null,null,null,null,null,null,null,null,null,null,null,0,0,0,0,null,"SS9",null,0,0,0,0,0,0,0,0,null,"",null,null,null,null,null,null,null,null,""]
[10,null,null,"",null,null,null,null,null,null,null,null,null,null,null,null,null,null,null,null,null,null,null,null,null,null,null,null,null,null,null,null,null,null,null,null,0,0,0,{"$f":"SUM(AK94:AM94)","v":0},null,"SS10",null,0,0,0,0,0,0,0,0,null,"",null,null,null,null,null,null,null,null,""]
[11,null,null,"",null,null,null,null,null,null,null,null,null,null,null,null,null,null,null,null,null,null,null,null,null,null,null,null,null,null,null,null,null,null,null,null,0,0,0,0,null,null,null,0,0,0,0,0,0,0,0,null,{"$f":"IF(AI95=\"YES\",D95,\"\")","v":""},null,null,null,null,null,null,null,null,{"$f":"IF(AN95>0,D95,\"\")","v":""}]
[12,null,null,"",null,null,null,null,null,null,null,null,null,null,null,null,null,null,null,null,null,null,null,null,null,null,null,null,null,null,null,null,null,null,null,null,0,0,0,0,null,null,null,0,0,0,0,0,0,0,0,null,"",null,null,null,null,null,null,null,null,""]
[null,null,null,null,null,null,null,null,null,null,null,null,null,null,null,null,null,null,null,null,null,null,null,null,null,null,null,null,null,null,null,null,null,null,null,null,null,null,null,null,null,null,null,null,null,null,null,null,null,null,null,null,""]
[null,"Program #6",null,null,null,null,null,null,null,null,null,null,null,null,null,null,null,null,null,null,null,null,null,null,null,null,null,null,null,null,null,null,null,null,null,null,null,null,null,null,null,null,null,null,null,null,null,null,null,null,null,null,""]
[null,"Location",null,null,null,null,null,null,null,null,null,null,null,null,null,null,null,null,null,null,null,null,null,null,null,null,null,null,null,null,null,null,null,null,null,null,null,null,null,null,null,null,null,null,null,null,null,null,null,null,null,null,""]
[null,"Start Date",null,"Qtr","Attendance",null,null,null,null,null,null,null,null,"Skillstreaming",null,null,null,null,null,null,null,null,null,"Anger Control",null,null,null,null,null,null,null,null,null,"Moral Reasoning",null,null,null,null,null,{"$f":"IF(C101,((YEAR(C101)-YEAR($B$1))*12+MONTH(C101)-MONTH($B$1)+1),\"\")","v":""},null,null,null,null,null,null,null,null,null,null,null,null,""]
[null,"Completion Date",null,{"$f":"IF(C101,INT((AN100+2)/3),\"\")","v":""},"SS1","SS2","SS3","SS4","SS5","SS6","SS7","SS8","SS9","SS10","AC1","AC2","AC3","AC4","AC5","AC6","AC7","AC8","AC9","AC10","MR1","MR2","MR3","MR4","MR5","MR6","MR7","MR8","MR9","MR10",null,null,null,null,null,"Month",null,{"$f":"COUNTIF(AN104:AN113,30)","v":0},null,null,null,null,null,null,null,null,null,null,"",null,null,null,null,null,null,null,null,null,null,null,null,"Orange Box indicates they are among 10 lowest agerage skills scores for this group."]
[null,"Group Environment",null,null,{"$f":"LEFT($AQ104,2)","v":""},{"$f":"LEFT($AQ105,2)","v":""},{"$f":"LEFT($AQ106,2)","v":""},{"$f":"LEFT($AQ107,2)","v":""},{"$f":"LEFT($AQ108,2)","v":""},{"$f":"LEFT($AQ109,2)","v":""},{"$f":"LEFT($AQ110,2)","v":""},{"$f":"LEFT($AQ111,2)","v":""},{"$f":"LEFT($AQ112,2)","v":""},{"$f":"LEFT($AQ113,2)","v":""}," ",null,null,null,null,null,null,null,null,null,null,null,null,null,null,null,null,null,null,null,null,null,"Program Attendance Summary",null,null,null,null,null,null,null,null,null,null,null,null,null,null,null,"",null,null,null,null,null,null,null,null,null,null,null,null,"Skills in purple boxes are those recommended in ART manual."]
[null,"Participant Code","Gender",null,null,null,null,null,null,null,null,null,null,null,null,null,null,null,null,null,null,null,null,null,null,null,null,null,null,null,null,null,null,null,"Administrative Withdrawal?",null,"# SS Sessions","# AC Sessions","# MR Sessions","TOTAL Attended",null,null,"Skillstreaming Sessions",null,null,null,null,null,null,null,null,null,"",null,null,null,null,null,null,null,{"$f":"D101","v":""},null,null,null,null,"Mean Skill 01","Mean Skill 02","Mean Skill 03","Mean Skill 04","Mean Skill 05","Mean Skill 06","Mean Skill 07","Mean Skill 08","Mean Skill 09","Mean Skill 10","Mean Skill 11","Mean Skill 12","Mean Skill 13","Mean Skill 14","Mean Skill 15","Mean Skill 16","Mean Skill 17","Mean Skill 18","Mean Skill 19","Mean Skill 20","Mean Skill 21","Mean Skill 22","Mean Skill 23","Mean Skill 24","Mean Skill 25","Mean Skill 26","Mean Skill 27","Mean Skill 28","Mean Skill 29","Mean Skill 30","Mean Skill 31","Mean Skill 32","Mean Skill 33","Mean Skill 34","Mean Skill 35","Mean Skill 36","Mean Skill 37","Mean Skill 38","Mean Skill 39","Mean Skill 40","Mean Skill 41","Mean Skill 42","Mean Skill 43","Mean Skill 44","Mean Skill 45","Mean Skill 46","Mean Skill 47","Mean Skill 48","Mean Skill 49","Mean Skill 50"]
[1,null,null,{"$f":"$D$101","v":""},null,null,null,null,null,null,null,null,null,null,null,null,null,null,null,null,null,null,null,null,null,null,null,null,null,null,null,null,null,null,null,null,{"$f":"COUNTIF(E104:N104,\"Yes\")","v":0},{"$f":"COUNTIF(O104:X104,\"Yes\")","v":0},{"$f":"COUNTIF(Y104:AH104,\"Yes\")","v":0},{"$f":"SUM(AK104:AM104)","v":0},null,"SS1",null,{"$f":"IF(AND($D104=AR$6,$AN104>=$AU$3),1,0)","v":0},0,0,0,0,0,0,0,null,"",null,null,null,null,null,null,null,null,"",null,null,{"$f":"SMALL(BN104:DK104,10)","v":{"$error":"#DIV/0!"}},{"$f":"AVERAGE('SS PrePost'!D64:D75)","v":{"$error":"#DIV/0!"}},{"$f":"AVERAGE('SS PrePost'!E64:E75)","v":{"$error":"#DIV/0!"}},{"$f":"AVERAGE('SS PrePost'!F64:F75)","v":{"$error":"#DIV/0!"}},{"$f":"AVERAGE('SS PrePost'!G64:G75)","v":{"$error":"#DIV/0!"}},{"$f":"AVERAGE('SS PrePost'!H64:H75)","v":{"$error":"#DIV/0!"}},{"$f":"AVERAGE('SS PrePost'!I64:I75)","v":{"$error":"#DIV/0!"}},{"$f":"AVERAGE('SS PrePost'!J64:J75)","v":{"$error":"#DIV/0!"}},{"$f":"AVERAGE('SS PrePost'!K64:K75)","v":{"$error":"#DIV/0!"}},{"$f":"AVERAGE('SS PrePost'!L64:L75)","v":{"$error":"#DIV/0!"}},{"$f":"AVERAGE('SS PrePost'!M64:M75)","v":{"$error":"#DIV/0!"}},{"$f":"AVERAGE('SS PrePost'!N64:N75)","v":{"$error":"#DIV/0!"}},{"$f":"AVERAGE('SS PrePost'!O64:O75)","v":{"$error":"#DIV/0!"}},{"$f":"AVERAGE('SS PrePost'!P64:P75)","v":{"$error":"#DIV/0!"}},{"$f":"AVERAGE('SS PrePost'!Q64:Q75)","v":{"$error":"#DIV/0!"}},{"$f":"AVERAGE('SS PrePost'!R64:R75)","v":{"$error":"#DIV/0!"}},{"$f":"AVERAGE('SS PrePost'!S64:S75)","v":{"$error":"#DIV/0!"}},{"$f":"AVERAGE('SS PrePost'!T64:T75)","v":{"$error":"#DIV/0!"}},{"$f":"AVERAGE('SS PrePost'!U64:U75)","v":{"$error":"#DIV/0!"}},{"$f":"AVERAGE('SS PrePost'!V64:V75)","v":{"$error":"#DIV/0!"}},{"$f":"AVERAGE('SS PrePost'!W64:W75)","v":{"$error":"#DIV/0!"}},{"$f":"AVERAGE('SS PrePost'!X64:X75)","v":{"$error":"#DIV/0!"}},{"$f":"AVERAGE('SS PrePost'!Y64:Y75)","v":{"$error":"#DIV/0!"}},{"$f":"AVERAGE('SS PrePost'!Z64:Z75)","v":{"$error":"#DIV/0!"}},{"$f":"AVERAGE('SS PrePost'!AA64:AA75)","v":{"$error":"#DIV/0!"}},{"$f":"AVERAGE('SS PrePost'!AB64:AB75)","v":{"$error":"#DIV/0!"}},{"$f":"AVERAGE('SS PrePost'!AC64:AC75)","v":{"$error":"#DIV/0!"}},{"$f":"AVERAGE('SS PrePost'!AD64:AD75)","v":{"$error":"#DIV/0!"}},{"$f":"AVERAGE('SS PrePost'!AE64:AE75)","v":{"$error":"#DIV/0!"}},{"$f":"AVERAGE('SS PrePost'!AF64:AF75)","v":{"$error":"#DIV/0!"}},{"$f":"AVERAGE('SS PrePost'!AG64:AG75)","v":{"$error":"#DIV/0!"}},{"$f":"AVERAGE('SS PrePost'!AH64:AH75)","v":{"$error":"#DIV/0!"}},{"$f":"AVERAGE('SS PrePost'!AI64:AI75)","v":{"$error":"#DIV/0!"}},{"$f":"AVERAGE('SS PrePost'!AJ64:AJ75)","v":{"$error":"#DIV/0!"}},{"$f":"AVERAGE('SS PrePost'!AK64:AK75)","v":{"$error":"#DIV/0!"}},{"$f":"AVERAGE('SS PrePost'!AL64:AL75)","v":{"$error":"#DIV/0!"}},{"$f":"AVERAGE('SS PrePost'!AM64:AM75)","v":{"$error":"#DIV/0!"}},{"$f":"AVERAGE('SS PrePost'!AN64:AN75)","v":{"$error":"#DIV/0!"}},{"$f":"AVERAGE('SS PrePost'!AO64:AO75)","v":{"$error":"#DIV/0!"}},{"$f":"AVERAGE('SS PrePost'!AP64:AP75)","v":{"$error":"#DIV/0!"}},{"$f":"AVERAGE('SS PrePost'!AQ64:AQ75)","v":{"$error":"#DIV/0!"}},{"$f":"AVERAGE('SS PrePost'!AR64:AR75)","v":{"$error":"#DIV/0!"}},{"$f":"AVERAGE('SS PrePost'!AS64:AS75)","v":{"$error":"#DIV/0!"}},{"$f":"AVERAGE('SS PrePost'!AT64:AT75)","v":{"$error":"#DIV/0!"}},{"$f":"AVERAGE('SS PrePost'!AU64:AU75)","v":{"$error":"#DIV/0!"}},{"$f":"AVERAGE('SS PrePost'!AV64:AV75)","v":{"$error":"#DIV/0!"}},{"$f":"AVERAGE('SS PrePost'!AW64:AW75)","v":{"$error":"#DIV/0!"}},{"$f":"AVERAGE('SS PrePost'!AX64:AX75)","v":{"$error":"#DIV/0!"}},{"$f":"AVERAGE('SS PrePost'!AY64:AY75)","v":{"$error":"#DIV/0!"}},{"$f":"AVERAGE('SS PrePost'!AZ64:AZ75)","v":{"$error":"#DIV/0!"}},{"$f":"AVERAGE('SS PrePost'!BA64:BA75)","v":{"$error":"#DIV/0!"}}]
[2,null,null,{"$f":"$D$101","v":""},null,null,null,null,null,null,null,null,null,null,null,null,null,null,null,null,null,null,null,null,null,null,null,null,null,null,null,null,null,null,null,null,0,0,0,{"$f":"SUM(AK105:AM105)","v":0},null,"SS2",null,0,0,0,0,0,0,0,0,null,"",null,null,null,null,null,null,null,null,""]
[3,null,null,"",null,null,null,null,null,null,null,null,null,null,null,null,null,null,null,null,null,null,null,null,null,null,null,null,null,null,null,null,null,null,null,null,0,0,0,0,null,"SS3",null,0,0,0,0,0,0,0,0,null,"",null,null,null,null,null,null,null,null,""]
[4,null,null,"",null,null,null,null,null,null,null,null,null,null,null,null,null,null,null,null,null,null,null,null,null,null,null,null,null,null,null,null,null,null,null,null,0,0,0,0,null,"SS4",null,0,0,0,0,0,0,0,0,null,"",null,null,null,null,null,null,null,null,""]
[5,null,null,"",null,null,null,null,null,null,null,null,null,null,null,null,null,null,null,null,null,null,null,null,null,null,null,null,null,null,null,null,null,null,null,null,0,0,0,0,null,"SS5",null,0,0,0,0,0,0,0,0,null,"",null,null,null,null,null,null,null,null,""]
[6,null,null,"",null,null,null,null,null,null,null,null,null,null,null,null,null,null,null,null,null,null,null,null,null,null,null,null,null,null,null,null,null,null,null,null,0,0,0,0,null,"SS6",null,0,0,0,0,0,0,0,0,null,"",null,null,null,null,null,null,null,null,""]
[7,null,null,"",null,null,null,null,null,null,null,null,null,null,null,null,null,null,null,null,null,null,null,null,null,null,null,null,null,null,null,null,null,null,null,null,0,0,0,0,null,"SS7",null,0,0,0,0,0,0,0,0,null,"",null,null,null,null,null,null,null,null,""]
[8,null,null,"",null,null,null,null,null,null,null,null,null,null,null,null,null,null,null,null,null,null,null,null,null,null,null,null,null,null,null,null,null,null,null,null,0,0,0,0,null,"SS8",null,0,0,0,0,0,0,0,0,null,"",null,null,null,null,null,null,null,null,""]
[9,null,null,"",null,null,null,null,null,null,null,null,null,null,null,null,null,null,null,null,null,null,null,null,null,null,null,null,null,null,null,null,null,null,null,null,0,0,0,0,null,"SS9",null,0,0,0,0,0,0,0,0,null,"",null,null,null,null,null,null,null,null,""]
[10,null,null,"",null,null,null,null,null,null,null,null,null,null,null,null,null,null,null,null,null,null,null,null,null,null,null,null,null,null,null,null,null,null,null,null,0,0,0,{"$f":"SUM(AK113:AM113)","v":0},null,"SS10",null,0,0,0,0,0,0,0,0,null,"",null,null,null,null,null,null,null,null,""]
[11,null,null,"",null,null,null,null,null,null,null,null,null,null,null,null,null,null,null,null,null,null,null,null,null,null,null,null,null,null,null,null,null,null,null,null,0,0,0,0,null,null,null,0,0,0,0,0,0,0,0,null,{"$f":"IF(AI114=\"YES\",D114,\"\")","v":""},null,null,null,null,null,null,null,null,{"$f":"IF(AN114>0,D114,\"\")","v":""}]
[12,null,null,"",null,null,null,null,null,null,null,null,null,null,null,null,null,null,null,null,null,null,null,null,null,null,null,null,null,null,null,null,null,null,null,null,0,0,0,0,null,null,null,0,0,0,0,0,0,0,0,null,"",null,null,null,null,null,null,null,null,""]
[null,null,null,null,null,null,null,null,null,null,null,null,null,null,null,null,null,null,null,null,null,null,null,null,null,null,null,null,null,null,null,null,null,null,null,null,null,null,null,null,null,null,null,null,null,null,null,null,null,null,null,null,""]
[null,"Program #7",null,null,null,null,null,null,null,null,null,null,null,null,null,null,null,null,null,null,null,null,null,null,null,null,null,null,null,null,null,null,null,null,null,null,null,null,null,null,null,null,null,null,null,null,null,null,null,null,null,null,""]
[null,"Location",null,null,null,null,null,null,null,null,null,null,null,null,null,null,null,null,null,null,null,null,null,null,null,null,null,null,null,null,null,null,null,null,null,null,null,null,null,null,null,null,null,null,null,null,null,null,null,null,null,null,""]
[null,"Start Date",null,"Qtr","Attendance",null,null,null,null,null,null,null,null,"Skillstreaming",null,null,null,null,null,null,null,null,null,"Anger Control",null,null,null,null,null,null,null,null,null,"Moral Reasoning",null,null,null,null,null,{"$f":"IF(C120,((YEAR(C120)-YEAR($B$1))*12+MONTH(C120)-MONTH($B$1)+1),\"\")","v":""},null,null,null,null,null,null,null,null,null,null,null,null,""]
[null,"Completion Date",null,{"$f":"IF(C120,INT((AN119+2)/3),\"\")","v":""},"SS1","SS2","SS3","SS4","SS5","SS6","SS7","SS8","SS9","SS10","AC1","AC2","AC3","AC4","AC5","AC6","AC7","AC8","AC9","AC10","MR1","MR2","MR3","MR4","MR5","MR6","MR7","MR8","MR9","MR10",null,null,null,null,null,"Month",null,{"$f":"COUNTIF(AN123:AN132,30)","v":0},null,null,null,null,null,null,null,null,null,null,"",null,null,null,null,null,null,null,null,null,null,null,null,"Orange Box indicates they are among 10 lowest agerage skills scores for this group."]
[null,"Group Environment",null,null,{"$f":"LEFT($AQ123,2)","v":""},{"$f":"LEFT($AQ124,2)","v":""},{"$f":"LEFT($AQ125,2)","v":""},{"$f":"LEFT($AQ126,2)","v":""},{"$f":"LEFT($AQ127,2)","v":""},{"$f":"LEFT($AQ128,2)","v":""},{"$f":"LEFT($AQ129,2)","v":""},{"$f":"LEFT($AQ130,2)","v":""},{"$f":"LEFT($AQ131,2)","v":""},{"$f":"LEFT($AQ132,2)","v":""}," ",null,null,null,null,null,null,null,null,null,null,null,null,null,null,null,null,null,null,null,null,null,"Program Attendance Summary",null,null,null,null,null,null,null,null,null,null,null,null,null,null,null,"",null,null,null,null,null,null,null,null,null,null,null,null,"Skills in purple boxes are those recommended in ART manual."]
[null,"Participant Code","Gender",null,null,null,null,null,null,null,null,null,null,null,null,null,null,null,null,null,null,null,null,null,null,null,null,null,null,null,null,null,null,null,"Administrative Withdrawal?",null,"# SS Sessions","# AC Sessions","# MR Sessions","TOTAL Attended",null,null,"Skillstreaming Sessions",null,null,null,null,null,null,null,null,null,"",null,null,null,null,null,null,null,{"$f":"D120","v":""},null,null,null,null,"Mean Skill 01","Mean Skill 02","Mean Skill 03","Mean Skill 04","Mean Skill 05","Mean Skill 06","Mean Skill 07","Mean Skill 08","Mean Skill 09","Mean Skill 10","Mean Skill 11","Mean Skill 12","Mean Skill 13","Mean Skill 14","Mean Skill 15","Mean Skill 16","Mean Skill 17","Mean Skill 18","Mean Skill 19","Mean Skill 20","Mean Skill 21","Mean Skill 22","Mean Skill 23","Mean Skill 24","Mean Skill 25","Mean Skill 26","Mean Skill 27","Mean Skill 28","Mean Skill 29","Mean Skill 30","Mean Skill 31","Mean Skill 32","Mean Skill 33","Mean Skill 34","Mean Skill 35","Mean Skill 36","Mean Skill 37","Mean Skill 38","Mean Skill 39","Mean Skill 40","Mean Skill 41","Mean Skill 42","Mean Skill 43","Mean Skill 44","Mean Skill 45","Mean Skill 46","Mean Skill 47","Mean Skill 48","Mean Skill 49","Mean Skill 50"]
[1,null,null,{"$f":"$D$120","v":""},null,null,null,null,null,null,null,null,null,null,null,null,null,null,null,null,null,null,null,null,null,null,null,null,null,null,null,null,null,null,null,null,{"$f":"COUNTIF(E123:N123,\"Yes\")","v":0},{"$f":"COUNTIF(O123:X123,\"Yes\")","v":0},{"$f":"COUNTIF(Y123:AH123,\"Yes\")","v":0},{"$f":"SUM(AK123:AM123)","v":0},null,"SS1",null,{"$f":"IF(AND($D123=AR$6,$AN123>=$AU$3),1,0)","v":0},0,0,0,0,0,0,0,null,"",null,null,null,null,null,null,null,null,"",null,null,{"$f":"SMALL(BN123:DK123,10)","v":{"$error":"#DIV/0!"}},{"$f":"AVERAGE('SS PrePost'!D76:D87)","v":{"$error":"#DIV/0!"}},{"$f":"AVERAGE('SS PrePost'!E76:E87)","v":{"$error":"#DIV/0!"}},{"$f":"AVERAGE('SS PrePost'!F76:F87)","v":{"$error":"#DIV/0!"}},{"$f":"AVERAGE('SS PrePost'!G76:G87)","v":{"$error":"#DIV/0!"}},{"$f":"AVERAGE('SS PrePost'!H76:H87)","v":{"$error":"#DIV/0!"}},{"$f":"AVERAGE('SS PrePost'!I76:I87)","v":{"$error":"#DIV/0!"}},{"$f":"AVERAGE('SS PrePost'!J76:J87)","v":{"$error":"#DIV/0!"}},{"$f":"AVERAGE('SS PrePost'!K76:K87)","v":{"$error":"#DIV/0!"}},{"$f":"AVERAGE('SS PrePost'!L76:L87)","v":{"$error":"#DIV/0!"}},{"$f":"AVERAGE('SS PrePost'!M76:M87)","v":{"$error":"#DIV/0!"}},{"$f":"AVERAGE('SS PrePost'!N76:N87)","v":{"$error":"#DIV/0!"}},{"$f":"AVERAGE('SS PrePost'!O76:O87)","v":{"$error":"#DIV/0!"}},{"$f":"AVERAGE('SS PrePost'!P76:P87)","v":{"$error":"#DIV/0!"}},{"$f":"AVERAGE('SS PrePost'!Q76:Q87)","v":{"$error":"#DIV/0!"}},{"$f":"AVERAGE('SS PrePost'!R76:R87)","v":{"$error":"#DIV/0!"}},{"$f":"AVERAGE('SS PrePost'!S76:S87)","v":{"$error":"#DIV/0!"}},{"$f":"AVERAGE('SS PrePost'!T76:T87)","v":{"$error":"#DIV/0!"}},{"$f":"AVERAGE('SS PrePost'!U76:U87)","v":{"$error":"#DIV/0!"}},{"$f":"AVERAGE('SS PrePost'!V76:V87)","v":{"$error":"#DIV/0!"}},{"$f":"AVERAGE('SS PrePost'!W76:W87)","v":{"$error":"#DIV/0!"}},{"$f":"AVERAGE('SS PrePost'!X76:X87)","v":{"$error":"#DIV/0!"}},{"$f":"AVERAGE('SS PrePost'!Y76:Y87)","v":{"$error":"#DIV/0!"}},{"$f":"AVERAGE('SS PrePost'!Z76:Z87)","v":{"$error":"#DIV/0!"}},{"$f":"AVERAGE('SS PrePost'!AA76:AA87)","v":{"$error":"#DIV/0!"}},{"$f":"AVERAGE('SS PrePost'!AB76:AB87)","v":{"$error":"#DIV/0!"}},{"$f":"AVERAGE('SS PrePost'!AC76:AC87)","v":{"$error":"#DIV/0!"}},{"$f":"AVERAGE('SS PrePost'!AD76:AD87)","v":{"$error":"#DIV/0!"}},{"$f":"AVERAGE('SS PrePost'!AE76:AE87)","v":{"$error":"#DIV/0!"}},{"$f":"AVERAGE('SS PrePost'!AF76:AF87)","v":{"$error":"#DIV/0!"}},{"$f":"AVERAGE('SS PrePost'!AG76:AG87)","v":{"$error":"#DIV/0!"}},{"$f":"AVERAGE('SS PrePost'!AH76:AH87)","v":{"$error":"#DIV/0!"}},{"$f":"AVERAGE('SS PrePost'!AI76:AI87)","v":{"$error":"#DIV/0!"}},{"$f":"AVERAGE('SS PrePost'!AJ76:AJ87)","v":{"$error":"#DIV/0!"}},{"$f":"AVERAGE('SS PrePost'!AK76:AK87)","v":{"$error":"#DIV/0!"}},{"$f":"AVERAGE('SS PrePost'!AL76:AL87)","v":{"$error":"#DIV/0!"}},{"$f":"AVERAGE('SS PrePost'!AM76:AM87)","v":{"$error":"#DIV/0!"}},{"$f":"AVERAGE('SS PrePost'!AN76:AN87)","v":{"$error":"#DIV/0!"}},{"$f":"AVERAGE('SS PrePost'!AO76:AO87)","v":{"$error":"#DIV/0!"}},{"$f":"AVERAGE('SS PrePost'!AP76:AP87)","v":{"$error":"#DIV/0!"}},{"$f":"AVERAGE('SS PrePost'!AQ76:AQ87)","v":{"$error":"#DIV/0!"}},{"$f":"AVERAGE('SS PrePost'!AR76:AR87)","v":{"$error":"#DIV/0!"}},{"$f":"AVERAGE('SS PrePost'!AS76:AS87)","v":{"$error":"#DIV/0!"}},{"$f":"AVERAGE('SS PrePost'!AT76:AT87)","v":{"$error":"#DIV/0!"}},{"$f":"AVERAGE('SS PrePost'!AU76:AU87)","v":{"$error":"#DIV/0!"}},{"$f":"AVERAGE('SS PrePost'!AV76:AV87)","v":{"$error":"#DIV/0!"}},{"$f":"AVERAGE('SS PrePost'!AW76:AW87)","v":{"$error":"#DIV/0!"}},{"$f":"AVERAGE('SS PrePost'!AX76:AX87)","v":{"$error":"#DIV/0!"}},{"$f":"AVERAGE('SS PrePost'!AY76:AY87)","v":{"$error":"#DIV/0!"}},{"$f":"AVERAGE('SS PrePost'!AZ76:AZ87)","v":{"$error":"#DIV/0!"}},{"$f":"AVERAGE('SS PrePost'!BA76:BA87)","v":{"$error":"#DIV/0!"}}]
[2,null,null,{"$f":"$D$120","v":""},null,null,null,null,null,null,null,null,null,null,null,null,null,null,null,null,null,null,null,null,null,null,null,null,null,null,null,null,null,null,null,null,0,0,0,{"$f":"SUM(AK124:AM124)","v":0},null,"SS2",null,0,0,0,0,0,0,0,0,null,"",null,null,null,null,null,null,null,null,""]
[3,null,null,"",null,null,null,null,null,null,null,null,null,null,null,null,null,null,null,null,null,null,null,null,null,null,null,null,null,null,null,null,null,null,null,null,0,0,0,0,null,"SS3",null,0,0,0,0,0,0,0,0,null,"",null,null,null,null,null,null,null,null,""]
[4,null,null,"",null,null,null,null,null,null,null,null,null,null,null,null,null,null,null,null,null,null,null,null,null,null,null,null,null,null,null,null,null,null,null,null,0,0,0,0,null,"SS4",null,0,0,0,0,0,0,0,0,null,"",null,null,null,null,null,null,null,null,""]
[5,null,null,"",null,null,null,null,null,null,null,null,null,null,null,null,null,null,null,null,null,null,null,null,null,null,null,null,null,null,null,null,null,null,null,null,0,0,0,0,null,"SS5",null,0,0,0,0,0,0,0,0,null,"",null,null,null,null,null,null,null,null,""]
[6,null,null,"",null,null,null,null,null,null,null,null,null,null,null,null,null,null,null,null,null,null,null,null,null,null,null,null,null,null,null,null,null,null,null,null,0,0,0,0,null,"SS6",null,0,0,0,0,0,0,0,0,null,"",null,null,null,null,null,null,null,null,""]
[7,null,null,"",null,null,null,null,null,null,null,null,null,null,null,null,null,null,null,null,null,null,null,null,null,null,null,null,null,null,null,null,null,null,null,null,0,0,0,0,null,"SS7",null,0,0,0,0,0,0,0,0,null,"",null,null,null,null,null,null,null,null,""]
[8,null,null,"",null,null,null,null,null,null,null,null,null,null,null,null,null,null,null,null,null,null,null,null,null,null,null,null,null,null,null,null,null,null,null,null,0,0,0,0,null,"SS8",null,0,0,0,0,0,0,0,0,null,"",null,null,null,null,null,null,null,null,""]
[9,null,null,"",null,null,null,null,null,null,null,null,null,null,null,null,null,null,null,null,null,null,null,null,null,null,null,null,null,null,null,null,null,null,null,null,0,0,0,0,null,"SS9",null,0,0,0,0,0,0,0,0,null,"",null,null,null,null,null,null,null,null,""]
[10,null,null,"",null,null,null,null,null,null,null,null,null,null,null,null,null,null,null,null,null,null,null,null,null,null,null,null,null,null,null,null,null,null,null,null,0,0,0,{"$f":"SUM(AK132:AM132)","v":0},null,"SS10",null,0,0,0,0,0,0,0,0,null,"",null,null,null,null,null,null,null,null,""]
[11,null,null,"",null,null,null,null,null,null,null,null,null,null,null,null,null,null,null,null,null,null,null,null,null,null,null,null,null,null,null,null,null,null,null,null,0,0,0,0,null,null,null,0,0,0,0,0,0,0,0,null,{"$f":"IF(AI133=\"YES\",D133,\"\")","v":""},null,null,null,null,null,null,null,null,{"$f":"IF(AN133>0,D133,\"\")","v":""}]
[12,null,null,"",null,null,null,null,null,null,null,null,null,null,null,null,null,null,null,null,null,null,null,null,null,null,null,null,null,null,null,null,null,null,null,null,0,0,0,0,null,null,null,0,0,0,0,0,0,0,0,null,"",null,null,null,null,null,null,null,null,""]
[null,null,null,null,null,null,null,null,null,null,null,null,null,null,null,null,null,null,null,null,null,null,null,null,null,null,null,null,null,null,null,null,null,null,null,null,null,null,null,null,null,null,null,null,null,null,null,null,null,null,null,null,""]
[null,"Program #8",null,null,null,null,null,null,null,null,null,null,null,null,null,null,null,null,null,null,null,null,null,null,null,null,null,null,null,null,null,null,null,null,null,null,null,null,null,null,null,null,null,null,null,null,null,null,null,null,null,null,""]
[null,"Location",null,null,null,null,null,null,null,null,null,null,null,null,null,null,null,null,null,null,null,null,null,null,null,null,null,null,null,null,null,null,null,null,null,null,null,null,null,null,null,null,null,null,null,null,null,null,null,null,null,null,""]
[null,"Start Date",null,"Qtr","Attendance",null,null,null,null,null,null,null,null,"Skillstreaming",null,null,null,null,null,null,null,null,null,"Anger Control",null,null,null,null,null,null,null,null,null,"Moral Reasoning",null,null,null,null,null,{"$f":"IF(C139,((YEAR(C139)-YEAR($B$1))*12+MONTH(C139)-MONTH($B$1)+1),\"\")","v":""},null,null,null,null,null,null,null,null,null,null,null,null,""]
[null,"Completion Date",null,{"$f":"IF(C139,INT((AN138+2)/3),\"\")","v":""},"SS1","SS2","SS3","SS4","SS5","SS6","SS7","SS8","SS9","SS10","AC1","AC2","AC3","AC4","AC5","AC6","AC7","AC8","AC9","AC10","MR1","MR2","MR3","MR4","MR5","MR6","MR7","MR8","MR9","MR10",null,null,null,null,null,"Month",null,{"$f":"COUNTIF(AN142:AN151,30)","v":0},null,null,null,null,null,null,null,null,null,null,"",null,null,null,null,null,null,null,null,null,null,null,null,"Orange Box indicates they are among 10 lowest agerage skills scores for this group."]
[null,"Group Environment",null,null,{"$f":"LEFT($AQ142,2)","v":""},{"$f":"LEFT($AQ143,2)","v":""},{"$f":"LEFT($AQ144,2)","v":""},{"$f":"LEFT($AQ145,2)","v":""},{"$f":"LEFT($AQ146,2)","v":""},{"$f":"LEFT($AQ147,2)","v":""},{"$f":"LEFT($AQ148,2)","v":""},{"$f":"LEFT($AQ149,2)","v":""},{"$f":"LEFT($AQ150,2)","v":""},{"$f":"LEFT($AQ151,2)","v":""}," ",null,null,null,null,null,null,null,null,null,null,null,null,null,null,null,null,null,null,null,null,null,"Program Attendance Summary",null,null,null,null,null,null,null,null,null,null,null,null,null,null,null,"",null,null,null,null,null,null,null,null,null,null,null,null,"Skills in purple boxes are those recommended in ART manual."]
[null,"Participant Code","Gender",null,null,null,null,null,null,null,null,null,null,null,null,null,null,null,null,null,null,null,null,null,null,null,null,null,null,null,null,null,null,null,"Administrative Withdrawal?",null,"# SS Sessions","# AC Sessions","# MR Sessions","TOTAL Attended",null,null,"Skillstreaming Sessions",null,null,null,null,null,null,null,null,null,"",null,null,null,null,null,null,null,{"$f":"D139","v":""},null,null,null,null,"Mean Skill 01","Mean Skill 02","Mean Skill 03","Mean Skill 04","Mean Skill 05","Mean Skill 06","Mean Skill 07","Mean Skill 08","Mean Skill 09","Mean Skill 10","Mean Skill 11","Mean Skill 12","Mean Skill 13","Mean Skill 14","Mean Skill 15","Mean Skill 16","Mean Skill 17","Mean Skill 18","Mean Skill 19","Mean Skill 20","Mean Skill 21","Mean Skill 22","Mean Skill 23","Mean Skill 24","Mean Skill 25","Mean Skill 26","Mean Skill 27","Mean Skill 28","Mean Skill 29","Mean Skill 30","Mean Skill 31","Mean Skill 32","Mean Skill 33","Mean Skill 34","Mean Skill 35","Mean Skill 36","Mean Skill 37","Mean Skill 38","Mean Skill 39","Mean Skill 40","Mean Skill 41","Mean Skill 42","Mean Skill 43","Mean Skill 44","Mean Skill 45","Mean Skill 46","Mean Skill 47","Mean Skill 48","Mean Skill 49","Mean Skill 50"]
[1,null,null,{"$f":"$D$139","v":""},null,null,null,null,null,null,null,null,null,null,null,null,null,null,null,null,null,null,null,null,null,null,null,null,null,null,null,null,null,null,null,null,{"$f":"COUNTIF(E142:N142,\"Yes\")","v":0},{"$f":"COUNTIF(O142:X142,\"Yes\")","v":0},{"$f":"COUNTIF(Y142:AH142,\"Yes\")","v":0},{"$f":"SUM(AK142:AM142)","v":0},null,"SS1",null,{"$f":"IF(AND($D142=AR$6,$AN142>=$AU$3),1,0)","v":0},0,0,0,0,0,0,0,null,"",null,null,null,null,null,null,null,null,"",null,null,{"$f":"SMALL(BN142:DK142,10)","v":{"$error":"#DIV/0!"}},{"$f":"AVERAGE('SS PrePost'!D88:D99)","v":{"$error":"#DIV/0!"}},{"$f":"AVERAGE('SS PrePost'!E88:E99)","v":{"$error":"#DIV/0!"}},{"$f":"AVERAGE('SS PrePost'!F88:F99)","v":{"$error":"#DIV/0!"}},{"$f":"AVERAGE('SS PrePost'!G88:G99)","v":{"$error":"#DIV/0!"}},{"$f":"AVERAGE('SS PrePost'!H88:H99)","v":{"$error":"#DIV/0!"}},{"$f":"AVERAGE('SS PrePost'!I88:I99)","v":{"$error":"#DIV/0!"}},{"$f":"AVERAGE('SS PrePost'!J88:J99)","v":{"$error":"#DIV/0!"}},{"$f":"AVERAGE('SS PrePost'!K88:K99)","v":{"$error":"#DIV/0!"}},{"$f":"AVERAGE('SS PrePost'!L88:L99)","v":{"$error":"#DIV/0!"}},{"$f":"AVERAGE('SS PrePost'!M88:M99)","v":{"$error":"#DIV/0!"}},{"$f":"AVERAGE('SS PrePost'!N88:N99)","v":{"$error":"#DIV/0!"}},{"$f":"AVERAGE('SS PrePost'!O88:O99)","v":{"$error":"#DIV/0!"}},{"$f":"AVERAGE('SS PrePost'!P88:P99)","v":{"$error":"#DIV/0!"}},{"$f":"AVERAGE('SS PrePost'!Q88:Q99)","v":{"$error":"#DIV/0!"}},{"$f":"AVERAGE('SS PrePost'!R88:R99)","v":{"$error":"#DIV/0!"}},{"$f":"AVERAGE('SS PrePost'!S88:S99)","v":{"$error":"#DIV/0!"}},{"$f":"AVERAGE('SS PrePost'!T88:T99)","v":{"$error":"#DIV/0!"}},{"$f":"AVERAGE('SS PrePost'!U88:U99)","v":{"$error":"#DIV/0!"}},{"$f":"AVERAGE('SS PrePost'!V88:V99)","v":{"$error":"#DIV/0!"}},{"$f":"AVERAGE('SS PrePost'!W88:W99)","v":{"$error":"#DIV/0!"}},{"$f":"AVERAGE('SS PrePost'!X88:X99)","v":{"$error":"#DIV/0!"}},{"$f":"AVERAGE('SS PrePost'!Y88:Y99)","v":{"$error":"#DIV/0!"}},{"$f":"AVERAGE('SS PrePost'!Z88:Z99)","v":{"$error":"#DIV/0!"}},{"$f":"AVERAGE('SS PrePost'!AA88:AA99)","v":{"$error":"#DIV/0!"}},{"$f":"AVERAGE('SS PrePost'!AB88:AB99)","v":{"$error":"#DIV/0!"}},{"$f":"AVERAGE('SS PrePost'!AC88:AC99)","v":{"$error":"#DIV/0!"}},{"$f":"AVERAGE('SS PrePost'!AD88:AD99)","v":{"$error":"#DIV/0!"}},{"$f":"AVERAGE('SS PrePost'!AE88:AE99)","v":{"$error":"#DIV/0!"}},{"$f":"AVERAGE('SS PrePost'!AF88:AF99)","v":{"$error":"#DIV/0!"}},{"$f":"AVERAGE('SS PrePost'!AG88:AG99)","v":{"$error":"#DIV/0!"}},{"$f":"AVERAGE('SS PrePost'!AH88:AH99)","v":{"$error":"#DIV/0!"}},{"$f":"AVERAGE('SS PrePost'!AI88:AI99)","v":{"$error":"#DIV/0!"}},{"$f":"AVERAGE('SS PrePost'!AJ88:AJ99)","v":{"$error":"#DIV/0!"}},{"$f":"AVERAGE('SS PrePost'!AK88:AK99)","v":{"$error":"#DIV/0!"}},{"$f":"AVERAGE('SS PrePost'!AL88:AL99)","v":{"$error":"#DIV/0!"}},{"$f":"AVERAGE('SS PrePost'!AM88:AM99)","v":{"$error":"#DIV/0!"}},{"$f":"AVERAGE('SS PrePost'!AN88:AN99)","v":{"$error":"#DIV/0!"}},{"$f":"AVERAGE('SS PrePost'!AO88:AO99)","v":{"$error":"#DIV/0!"}},{"$f":"AVERAGE('SS PrePost'!AP88:AP99)","v":{"$error":"#DIV/0!"}},{"$f":"AVERAGE('SS PrePost'!AQ88:AQ99)","v":{"$error":"#DIV/0!"}},{"$f":"AVERAGE('SS PrePost'!AR88:AR99)","v":{"$error":"#DIV/0!"}},{"$f":"AVERAGE('SS PrePost'!AS88:AS99)","v":{"$error":"#DIV/0!"}},{"$f":"AVERAGE('SS PrePost'!AT88:AT99)","v":{"$error":"#DIV/0!"}},{"$f":"AVERAGE('SS PrePost'!AU88:AU99)","v":{"$error":"#DIV/0!"}},{"$f":"AVERAGE('SS PrePost'!AV88:AV99)","v":{"$error":"#DIV/0!"}},{"$f":"AVERAGE('SS PrePost'!AW88:AW99)","v":{"$error":"#DIV/0!"}},{"$f":"AVERAGE('SS PrePost'!AX88:AX99)","v":{"$error":"#DIV/0!"}},{"$f":"AVERAGE('SS PrePost'!AY88:AY99)","v":{"$error":"#DIV/0!"}},{"$f":"AVERAGE('SS PrePost'!AZ88:AZ99)","v":{"$error":"#DIV/0!"}},{"$f":"AVERAGE('SS PrePost'!BA88:BA99)","v":{"$error":"#DIV/0!"}}]
[2,null,null,{"$f":"$D$139","v":""},null,null,null,null,null,null,null,null,null,null,null,null,null,null,null,null,null,null,null,null,null,null,null,null,null,null,null,null,null,null,null,null,0,0,0,{"$f":"SUM(AK143:AM143)","v":0},null,"SS2",null,0,0,0,0,0,0,0,0,null,"",null,null,null,null,null,null,null,null,""]
[3,null,null,"",null,null,null,null,null,null,null,null,null,null,null,null,null,null,null,null,null,null,null,null,null,null,null,null,null,null,null,null,null,null,null,null,0,0,0,0,null,"SS3",null,0,0,0,0,0,0,0,0,null,"",null,null,null,null,null,null,null,null,""]
[4,null,null,"",null,null,null,null,null,null,null,null,null,null,null,null,null,null,null,null,null,null,null,null,null,null,null,null,null,null,null,null,null,null,null,null,0,0,0,0,null,"SS4",null,0,0,0,0,0,0,0,0,null,"",null,null,null,null,null,null,null,null,""]
[5,null,null,"",null,null,null,null,null,null,null,null,null,null,null,null,null,null,null,null,null,null,null,null,null,null,null,null,null,null,null,null,null,null,null,null,0,0,0,0,null,"SS5",null,0,0,0,0,0,0,0,0,null,"",null,null,null,null,null,null,null,null,""]
[6,null,null,"",null,null,null,null,null,null,null,null,null,null,null,null,null,null,null,null,null,null,null,null,null,null,null,null,null,null,null,null,null,null,null,null,0,0,0,0,null,"SS6",null,0,0,0,0,0,0,0,0,null,"",null,null,null,null,null,null,null,null,""]
[7,null,null,"",null,null,null,null,null,null,null,null,null,null,null,null,null,null,null,null,null,null,null,null,null,null,null,null,null,null,null,null,null,null,null,null,0,0,0,0,null,"SS7",null,0,0,0,0,0,0,0,0,null,"",null,null,null,null,null,null,null,null,""]
[8,null,null,"",null,null,null,null,null,null,null,null,null,null,null,null,null,null,null,null,null,null,null,null,null,null,null,null,null,null,null,null,null,null,null,null,0,0,0,0,null,"SS8",null,0,0,0,0,0,0,0,0,null,"",null,null,null,null,null,null,null,null,""]
[9,null,null,"",null,null,null,null,null,null,null,null,null,null,null,null,null,null,null,null,null,null,null,null,null,null,null,null,null,null,null,null,null,null,null,null,0,0,0,0,null,"SS9",null,0,0,0,0,0,0,0,0,null,"",null,null,null,null,null,null,null,null,""]
[10,null,null,"",null,null,null,null,null,null,null,null,null,null,null,null,null,null,null,null,null,null,null,null,null,null,null,null,null,null,null,null,null,null,null,null,0,0,0,{"$f":"SUM(AK151:AM151)","v":0},null,"SS10",null,0,0,0,0,0,0,0,0,null,"",null,null,null,null,null,null,null,null,""]
[11,null,null,"",null,null,null,null,null,null,null,null,null,null,null,null,null,null,null,null,null,null,null,null,null,null,null,null,null,null,null,null,null,null,null,null,0,0,0,0,null,null,null,0,0,0,0,0,0,0,0,null,{"$f":"IF(AI152=\"YES\",D152,\"\")","v":""},null,null,null,null,null,null,null,null,{"$f":"IF(AN152>0,D152,\"\")","v":""}]
[12,null,null,"",null,null,null,null,null,null,null,null,null,null,null,null,null,null,null,null,null,null,null,null,null,null,null,null,null,null,null,null,null,null,null,null,0,0,0,0,null,null,null,0,0,0,0,0,0,0,0,null,"",null,null,null,null,null,null,null,null,""]
[null,null,null,null,null,null,null,null,null,null,null,null,null,null,null,null,null,null,null,null,null,null,null,null,null,null,null,null,null,null,null,null,null,null,null,null,null,null,null,null,null,null,null,null,null,null,null,null,null,null,null,null,{"$f":"IF(AI154=\"YES\",D154,\"\")","v":""}]
[null,"Program #9",null,null,null,null,null,null,null,null,null,null,null,null,null,null,null,null,null,null,null,null,null,null,null,null,null,null,null,null,null,null,null,null,null,null,null,null,null,null,null,null,null,null,null,null,null,null,null,null,null,null,""]
[null,"Location",null,null,null,null,null,null,null,null,null,null,null,null,null,null,null,null,null,null,null,null,null,null,null,null,null,null,null,null,null,null,null,null,null,null,null,null,null,null,null,null,null,null,null,null,null,null,null,null,null,null,""]
[null,"Start Date",null,"Qtr","Attendance",null,null,null,null,null,null,null,null,"Skillstreaming",null,null,null,null,null,null,null,null,null,"Anger Control",null,null,null,null,null,null,null,null,null,"Moral Reasoning",null,null,null,null,null,{"$f":"IF(C158,((YEAR(C158)-YEAR($B$1))*12+MONTH(C158)-MONTH($B$1)+1),\"\")","v":""},null,null,null,null,null,null,null,null,null,null,null,null,""]
[null,"Completion Date",null,{"$f":"IF(C158,INT((AN157+2)/3),\"\")","v":""},"SS1","SS2","SS3","SS4","SS5","SS6","SS7","SS8","SS9","SS10","AC1","AC2","AC3","AC4","AC5","AC6","AC7","AC8","AC9","AC10","MR1","MR2","MR3","MR4","MR5","MR6","MR7","MR8","MR9","MR10",null,null,null,null,null,"Month",null,{"$f":"COUNTIF(AN161:AN170,30)","v":0},null,null,null,null,null,null,null,null,null,null,"",null,null,null,null,null,null,null,null,null,null,null,null,"Orange Box indicates they are among 10 lowest agerage skills scores for this group."]
[null,"Group Environment",null,null,{"$f":"LEFT($AQ161,2)","v":""},{"$f":"LEFT($AQ162,2)","v":""},{"$f":"LEFT($AQ163,2)","v":""},{"$f":"LEFT($AQ164,2)","v":""},{"$f":"LEFT($AQ165,2)","v":""},{"$f":"LEFT($AQ166,2)","v":""},{"$f":"LEFT($AQ167,2)","v":""},{"$f":"LEFT($AQ168,2)","v":""},{"$f":"LEFT($AQ169,2)","v":""},{"$f":"LEFT($AQ170,2)","v":""}," ",null,null,null,null,null,null,null,null,null,null,null,null,null,null,null,null,null,null,null,null,null,"Program Attendance Summary",null,null,null,null,null,null,null,null,null,null,null,null,null,null,null,"",null,null,null,null,null,null,null,null,null,null,null,null,"Skills in purple boxes are those recommended in ART manual."]
[null,"Participant Code","Gender",null,null,null,null,null,null,null,null,null,null,null,null,null,null,null,null,null,null,null,null,null,null,null,null,null,null,null,null,null,null,null,"Administrative Withdrawal?",null,"# SS Sessions","# AC Sessions","# MR Sessions","TOTAL Attended",null,null,"Skillstreaming Sessions",null,null,null,null,null,null,null,null,null,"",null,null,null,null,null,null,null,{"$f":"D158","v":""},null,null,null,null,"Mean Skill 01","Mean Skill 02","Mean Skill 03","Mean Skill 04","Mean Skill 05","Mean Skill 06","Mean Skill 07","Mean Skill 08","Mean Skill 09","Mean Skill 10","Mean Skill 11","Mean Skill 12","Mean Skill 13","Mean Skill 14","Mean Skill 15","Mean Skill 16","Mean Skill 17","Mean Skill 18","Mean Skill 19","Mean Skill 20","Mean Skill 21","Mean Skill 22","Mean Skill 23","Mean Skill 24","Mean Skill 25","Mean Skill 26","Mean Skill 27","Mean Skill 28","Mean Skill 29","Mean Skill 30","Mean Skill 31","Mean Skill 32","Mean Skill 33","Mean Skill 34","Mean Skill 35","Mean Skill 36","Mean Skill 37","Mean Skill 38","Mean Skill 39","Mean Skill 40","Mean Skill 41","Mean Skill 42","Mean Skill 43","Mean Skill 44","Mean Skill 45","Mean Skill 46","Mean Skill 47","Mean Skill 48","Mean Skill 49","Mean Skill 50"]
[1,null,null,{"$f":"$D$158","v":""},null,null,null,null,null,null,null,null,null,null,null,null,null,null,null,null,null,null,null,null,null,null,null,null,null,null,null,null,null,null,null,null,{"$f":"COUNTIF(E161:N161,\"Yes\")","v":0},{"$f":"COUNTIF(O161:X161,\"Yes\")","v":0},{"$f":"COUNTIF(Y161:AH161,\"Yes\")","v":0},{"$f":"SUM(AK161:AM161)","v":0},null,"SS1",null,{"$f":"IF(AND($D161=AR$6,$AN161>=$AU$3),1,0)","v":0},0,0,0,0,0,0,0,null,"",null,null,null,null,null,null,null,null,{"$f":"IF(AN161>0,D161,\"\")","v":""},null,null,{"$f":"SMALL(BN161:DK161,10)","v":{"$error":"#DIV/0!"}},{"$f":"AVERAGE('SS PrePost'!D100:D111)","v":{"$error":"#DIV/0!"}},{"$f":"AVERAGE('SS PrePost'!E100:E111)","v":{"$error":"#DIV/0!"}},{"$f":"AVERAGE('SS PrePost'!F100:F111)","v":{"$error":"#DIV/0!"}},{"$f":"AVERAGE('SS PrePost'!G100:G111)","v":{"$error":"#DIV/0!"}},{"$f":"AVERAGE('SS PrePost'!H100:H111)","v":{"$error":"#DIV/0!"}},{"$f":"AVERAGE('SS PrePost'!I100:I111)","v":{"$error":"#DIV/0!"}},{"$f":"AVERAGE('SS PrePost'!J100:J111)","v":{"$error":"#DIV/0!"}},{"$f":"AVERAGE('SS PrePost'!K100:K111)","v":{"$error":"#DIV/0!"}},{"$f":"AVERAGE('SS PrePost'!L100:L111)","v":{"$error":"#DIV/0!"}},{"$f":"AVERAGE('SS PrePost'!M100:M111)","v":{"$error":"#DIV/0!"}},{"$f":"AVERAGE('SS PrePost'!N100:N111)","v":{"$error":"#DIV/0!"}},{"$f":"AVERAGE('SS PrePost'!O100:O111)","v":{"$error":"#DIV/0!"}},{"$f":"AVERAGE('SS PrePost'!P100:P111)","v":{"$error":"#DIV/0!"}},{"$f":"AVERAGE('SS PrePost'!Q100:Q111)","v":{"$error":"#DIV/0!"}},{"$f":"AVERAGE('SS PrePost'!R100:R111)","v":{"$error":"#DIV/0!"}},{"$f":"AVERAGE('SS PrePost'!S100:S111)","v":{"$error":"#DIV/0!"}},{"$f":"AVERAGE('SS PrePost'!T100:T111)","v":{"$error":"#DIV/0!"}},{"$f":"AVERAGE('SS PrePost'!U100:U111)","v":{"$error":"#DIV/0!"}},{"$f":"AVERAGE('SS PrePost'!V100:V111)","v":{"$error":"#DIV/0!"}},{"$f":"AVERAGE('SS PrePost'!W100:W111)","v":{"$error":"#DIV/0!"}},{"$f":"AVERAGE('SS PrePost'!X100:X111)","v":{"$error":"#DIV/0!"}},{"$f":"AVERAGE('SS PrePost'!Y100:Y111)","v":{"$error":"#DIV/0!"}},{"$f":"AVERAGE('SS PrePost'!Z100:Z111)","v":{"$error":"#DIV/0!"}},{"$f":"AVERAGE('SS PrePost'!AA100:AA111)","v":{"$error":"#DIV/0!"}},{"$f":"AVERAGE('SS PrePost'!AB100:AB111)","v":{"$error":"#DIV/0!"}},{"$f":"AVERAGE('SS PrePost'!AC100:AC111)","v":{"$error":"#DIV/0!"}},{"$f":"AVERAGE('SS PrePost'!AD100:AD111)","v":{"$error":"#DIV/0!"}},{"$f":"AVERAGE('SS PrePost'!AE100:AE111)","v":{"$error":"#DIV/0!"}},{"$f":"AVERAGE('SS PrePost'!AF100:AF111)","v":{"$error":"#DIV/0!"}},{"$f":"AVERAGE('SS PrePost'!AG100:AG111)","v":{"$error":"#DIV/0!"}},{"$f":"AVERAGE('SS PrePost'!AH100:AH111)","v":{"$error":"#DIV/0!"}},{"$f":"AVERAGE('SS PrePost'!AI100:AI111)","v":{"$error":"#DIV/0!"}},{"$f":"AVERAGE('SS PrePost'!AJ100:AJ111)","v":{"$error":"#DIV/0!"}},{"$f":"AVERAGE('SS PrePost'!AK100:AK111)","v":{"$error":"#DIV/0!"}},{"$f":"AVERAGE('SS PrePost'!AL100:AL111)","v":{"$error":"#DIV/0!"}},{"$f":"AVERAGE('SS PrePost'!AM100:AM111)","v":{"$error":"#DIV/0!"}},{"$f":"AVERAGE('SS PrePost'!AN100:AN111)","v":{"$error":"#DIV/0!"}},{"$f":"AVERAGE('SS PrePost'!AO100:AO111)","v":{"$error":"#DIV/0!"}},{"$f":"AVERAGE('SS PrePost'!AP100:AP111)","v":{"$error":"#DIV/0!"}},{"$f":"AVERAGE('SS PrePost'!AQ100:AQ111)","v":{"$error":"#DIV/0!"}},{"$f":"AVERAGE('SS PrePost'!AR100:AR111)","v":{"$error":"#DIV/0!"}},{"$f":"AVERAGE('SS PrePost'!AS100:AS111)","v":{"$error":"#DIV/0!"}},{"$f":"AVERAGE('SS PrePost'!AT100:AT111)","v":{"$error":"#DIV/0!"}},{"$f":"AVERAGE('SS PrePost'!AU100:AU111)","v":{"$error":"#DIV/0!"}},{"$f":"AVERAGE('SS PrePost'!AV100:AV111)","v":{"$error":"#DIV/0!"}},{"$f":"AVERAGE('SS PrePost'!AW100:AW111)","v":{"$error":"#DIV/0!"}},{"$f":"AVERAGE('SS PrePost'!AX100:AX111)","v":{"$error":"#DIV/0!"}},{"$f":"AVERAGE('SS PrePost'!AY100:AY111)","v":{"$error":"#DIV/0!"}},{"$f":"AVERAGE('SS PrePost'!AZ100:AZ111)","v":{"$error":"#DIV/0!"}},{"$f":"AVERAGE('SS PrePost'!BA100:BA111)","v":{"$error":"#DIV/0!"}}]
[2,null,null,{"$f":"$D$158","v":""},null,null,null,null,null,null,null,null,null,null,null,null,null,null,null,null,null,null,null,null,null,null,null,null,null,null,null,null,null,null,null,null,0,0,0,{"$f":"SUM(AK162:AM162)","v":0},null,"SS2",null,0,0,0,0,0,0,0,0,null,"",null,null,null,null,null,null,null,null,""]
[3,null,null,"",null,null,null,null,null,null,null,null,null,null,null,null,null,null,null,null,null,null,null,null,null,null,null,null,null,null,null,null,null,null,null,null,0,0,0,0,null,"SS3",null,0,0,0,0,0,0,0,0,null,"",null,null,null,null,null,null,null,null,""]
[4,null,null,"",null,null,null,null,null,null,null,null,null,null,null,null,null,null,null,null,null,null,null,null,null,null,null,null,null,null,null,null,null,null,null,null,0,0,0,0,null,"SS4",null,0,0,0,0,0,0,0,0,null,"",null,null,null,null,null,null,null,null,""]
[5,null,null,"",null,null,null,null,null,null,null,null,null,null,null,null,null,null,null,null,null,null,null,null,null,null,null,null,null,null,null,null,null,null,null,null,0,0,0,0,null,"SS5",null,0,0,0,0,0,0,0,0,null,"",null,null,null,null,null,null,null,null,""]
[6,null,null,"",null,null,null,null,null,null,null,null,null,null,null,null,null,null,null,null,null,null,null,null,null,null,null,null,null,null,null,null,null,null,null,null,0,0,0,0,null,"SS6",null,0,0,0,0,0,0,0,0,null,"",null,null,null,null,null,null,null,null,""]
[7,null,null,"",null,null,null,null,null,null,null,null,null,null,null,null,null,null,null,null,null,null,null,null,null,null,null,null,null,null,null,null,null,null,null,null,0,0,0,0,null,"SS7",null,0,0,0,0,0,0,0,0,null,"",null,null,null,null,null,null,null,null,""]
[8,null,null,"",null,null,null,null,null,null,null,null,null,null,null,null,null,null,null,null,null,null,null,null,null,null,null,null,null,null,null,null,null,null,null,null,0,0,0,0,null,"SS8",null,0,0,0,0,0,0,0,0,null,"",null,null,null,null,null,null,null,null,""]
[9,null,null,"",null,null,null,null,null,null,null,null,null,null,null,null,null,null,null,null,null,null,null,null,null,null,null,null,null,null,null,null,null,null,null,null,0,0,0,0,null,"SS9",null,0,0,0,0,0,0,0,0,null,"",null,null,null,null,null,null,null,null,""]
[10,null,null,"",null,null,null,null,null,null,null,null,null,null,null,null,null,null,null,null,null,null,null,null,null,null,null,null,null,null,null,null,null,null,null,null,0,0,0,{"$f":"SUM(AK170:AM170)","v":0},null,"SS10",null,0,0,0,0,0,0,0,0,null,"",null,null,null,null,null,null,null,null,""]
[11,null,null,"",null,null,null,null,null,null,null,null,null,null,null,null,null,null,null,null,null,null,null,null,null,null,null,null,null,null,null,null,null,null,null,null,0,0,0,0,null,null,null,0,0,0,0,0,0,0,0,null,{"$f":"IF(AI171=\"YES\",D171,\"\")","v":""},null,null,null,null,null,null,null,null,{"$f":"IF(AN171>0,D171,\"\")","v":""}]
[12,null,null,"",null,null,null,null,null,null,null,null,null,null,null,null,null,null,null,null,null,null,null,null,null,null,null,null,null,null,null,null,null,null,null,null,0,0,0,0,null,null,null,0,0,0,0,0,0,0,0,null,"",null,null,null,null,null,null,null,null,""]
[null,null,null,null,null,null,null,null,null,null,null,null,null,null,null,null,null,null,null,null,null,null,null,null,null,null,null,null,null,null,null,null,null,null,null,null,null,null,null,null,null,null,null,null,null,null,null,null,null,null,null,null,""]
[null,"Program #10",null,null,null,null,null,null,null,null,null,null,null,null,null,null,null,null,null,null,null,null,null,null,null,null,null,null,null,null,null,null,null,null,null,null,null,null,null,null,null,null,null,null,null,null,null,null,null,null,null,null,""]
[null,"Location",null,null,null,null,null,null,null,null,null,null,null,null,null,null,null,null,null,null,null,null,null,null,null,null,null,null,null,null,null,null,null,null,null,null,null,null,null,null,null,null,null,null,null,null,null,null,null,null,null,null,""]
[null,"Start Date",null,"Qtr","Attendance",null,null,null,null,null,null,null,null,"Skillstreaming",null,null,null,null,null,null,null,null,null,"Anger Control",null,null,null,null,null,null,null,null,null,"Moral Reasoning",null,null,null,null,null,{"$f":"IF(C177,((YEAR(C177)-YEAR($B$1))*12+MONTH(C177)-MONTH($B$1)+1),\"\")","v":""},null,null,null,null,null,null,null,null,null,null,null,null,""]
[null,"Completion Date",null,{"$f":"IF(C177,INT((AN176+2)/3),\"\")","v":""},"SS1","SS2","SS3","SS4","SS5","SS6","SS7","SS8","SS9","SS10","AC1","AC2","AC3","AC4","AC5","AC6","AC7","AC8","AC9","AC10","MR1","MR2","MR3","MR4","MR5","MR6","MR7","MR8","MR9","MR10",null,null,null,null,null,"Month",null,{"$f":"COUNTIF(AN180:AN189,30)","v":0},null,null,null,null,null,null,null,null,null,null,"",null,null,null,null,null,null,null,null,null,null,null,null,"Orange Box indicates they are among 10 lowest agerage skills scores for this group."]
[null,"Group Environment",null,null,{"$f":"LEFT($AQ180,2)","v":""},{"$f":"LEFT($AQ181,2)","v":""},{"$f":"LEFT($AQ182,2)","v":""},{"$f":"LEFT($AQ183,2)","v":""},{"$f":"LEFT($AQ184,2)","v":""},{"$f":"LEFT($AQ185,2)","v":""},{"$f":"LEFT($AQ186,2)","v":""},{"$f":"LEFT($AQ187,2)","v":""},{"$f":"LEFT($AQ188,2)","v":""},{"$f":"LEFT($AQ189,2)","v":""}," ",null,null,null,null,null,null,null,null,null,null,null,null,null,null,null,null,null,null,null,null,null,"Program Attendance Summary",null,null,null,null,null,null,null,null,null,null,null,null,null,null,null,"",null,null,null,null,null,null,null,null,null,null,null,null,"Skills in purple boxes are those recommended in ART manual."]
[null,"Participant Code","Gender",null,null,null,null,null,null,null,null,null,null,null,null,null,null,null,null,null,null,null,null,null,null,null,null,null,null,null,null,null,null,null,"Administrative Withdrawal?",null,"# SS Sessions","# AC Sessions","# MR Sessions","TOTAL Attended",null,null,"Skillstreaming Sessions",null,null,null,null,null,null,null,null,null,"",null,null,null,null,null,null,null,{"$f":"D177","v":""},null,null,null,null,"Mean Skill 01","Mean Skill 02","Mean Skill 03","Mean Skill 04","Mean Skill 05","Mean Skill 06","Mean Skill 07","Mean Skill 08","Mean Skill 09","Mean Skill 10","Mean Skill 11","Mean Skill 12","Mean Skill 13","Mean Skill 14","Mean Skill 15","Mean Skill 16","Mean Skill 17","Mean Skill 18","Mean Skill 19","Mean Skill 20","Mean Skill 21","Mean Skill 22","Mean Skill 23","Mean Skill 24","Mean Skill 25","Mean Skill 26","Mean Skill 27","Mean Skill 28","Mean Skill 29","Mean Skill 30","Mean Skill 31","Mean Skill 32","Mean Skill 33","Mean Skill 34","Mean Skill 35","Mean Skill 36","Mean Skill 37","Mean Skill 38","Mean Skill 39","Mean Skill 40","Mean Skill 41","Mean Skill 42","Mean Skill 43","Mean Skill 44","Mean Skill 45","Mean Skill 46","Mean Skill 47","Mean Skill 48","Mean Skill 49","Mean Skill 50"]
[1,null,null,{"$f":"$D$177","v":""},null,null,null,null,null,null,null,null,null,null,null,null,null,null,null,null,null,null,null,null,null,null,null,null,null,null,null,null,null,null,null,null,{"$f":"COUNTIF(E180:N180,\"Yes\")","v":0},{"$f":"COUNTIF(O180:X180,\"Yes\")","v":0},{"$f":"COUNTIF(Y180:AH180,\"Yes\")","v":0},{"$f":"SUM(AK180:AM180)","v":0},null,"SS1",null,{"$f":"IF(AND($D180=AR$6,$AN180>=$AU$3),1,0)","v":0},0,0,0,0,0,0,0,null,"",null,null,null,null,null,null,null,null,"",null,null,{"$f":"SMALL(BN180:DK180,10)","v":{"$error":"#DIV/0!"}},{"$f":"AVERAGE('SS PrePost'!D112:D123)","v":{"$error":"#DIV/0!"}},{"$f":"AVERAGE('SS PrePost'!E112:E123)","v":{"$error":"#DIV/0!"}},{"$f":"AVERAGE('SS PrePost'!F112:F123)","v":{"$error":"#DIV/0!"}},{"$f":"AVERAGE('SS PrePost'!G112:G123)","v":{"$error":"#DIV/0!"}},{"$f":"AVERAGE('SS PrePost'!H112:H123)","v":{"$error":"#DIV/0!"}},{"$f":"AVERAGE('SS PrePost'!I112:I123)","v":{"$error":"#DIV/0!"}},{"$f":"AVERAGE('SS PrePost'!J112:J123)","v":{"$error":"#DIV/0!"}},{"$f":"AVERAGE('SS PrePost'!K112:K123)","v":{"$error":"#DIV/0!"}},{"$f":"AVERAGE('SS PrePost'!L112:L123)","v":{"$error":"#DIV/0!"}},{"$f":"AVERAGE('SS PrePost'!M112:M123)","v":{"$error":"#DIV/0!"}},{"$f":"AVERAGE('SS PrePost'!N112:N123)","v":{"$error":"#DIV/0!"}},{"$f":"AVERAGE('SS PrePost'!O112:O123)","v":{"$error":"#DIV/0!"}},{"$f":"AVERAGE('SS PrePost'!P112:P123)","v":{"$error":"#DIV/0!"}},{"$f":"AVERAGE('SS PrePost'!Q112:Q123)","v":{"$error":"#DIV/0!"}},{"$f":"AVERAGE('SS PrePost'!R112:R123)","v":{"$error":"#DIV/0!"}},{"$f":"AVERAGE('SS PrePost'!S112:S123)","v":{"$error":"#DIV/0!"}},{"$f":"AVERAGE('SS PrePost'!T112:T123)","v":{"$error":"#DIV/0!"}},{"$f":"AVERAGE('SS PrePost'!U112:U123)","v":{"$error":"#DIV/0!"}},{"$f":"AVERAGE('SS PrePost'!V112:V123)","v":{"$error":"#DIV/0!"}},{"$f":"AVERAGE('SS PrePost'!W112:W123)","v":{"$error":"#DIV/0!"}},{"$f":"AVERAGE('SS PrePost'!X112:X123)","v":{"$error":"#DIV/0!"}},{"$f":"AVERAGE('SS PrePost'!Y112:Y123)","v":{"$error":"#DIV/0!"}},{"$f":"AVERAGE('SS PrePost'!Z112:Z123)","v":{"$error":"#DIV/0!"}},{"$f":"AVERAGE('SS PrePost'!AA112:AA123)","v":{"$error":"#DIV/0!"}},{"$f":"AVERAGE('SS PrePost'!AB112:AB123)","v":{"$error":"#DIV/0!"}},{"$f":"AVERAGE('SS PrePost'!AC112:AC123)","v":{"$error":"#DIV/0!"}},{"$f":"AVERAGE('SS PrePost'!AD112:AD123)","v":{"$error":"#DIV/0!"}},{"$f":"AVERAGE('SS PrePost'!AE112:AE123)","v":{"$error":"#DIV/0!"}},{"$f":"AVERAGE('SS PrePost'!AF112:AF123)","v":{"$error":"#DIV/0!"}},{"$f":"AVERAGE('SS PrePost'!AG112:AG123)","v":{"$error":"#DIV/0!"}},{"$f":"AVERAGE('SS PrePost'!AH112:AH123)","v":{"$error":"#DIV/0!"}},{"$f":"AVERAGE('SS PrePost'!AI112:AI123)","v":{"$error":"#DIV/0!"}},{"$f":"AVERAGE('SS PrePost'!AJ112:AJ123)","v":{"$error":"#DIV/0!"}},{"$f":"AVERAGE('SS PrePost'!AK112:AK123)","v":{"$error":"#DIV/0!"}},{"$f":"AVERAGE('SS PrePost'!AL112:AL123)","v":{"$error":"#DIV/0!"}},{"$f":"AVERAGE('SS PrePost'!AM112:AM123)","v":{"$error":"#DIV/0!"}},{"$f":"AVERAGE('SS PrePost'!AN112:AN123)","v":{"$error":"#DIV/0!"}},{"$f":"AVERAGE('SS PrePost'!AO112:AO123)","v":{"$error":"#DIV/0!"}},{"$f":"AVERAGE('SS PrePost'!AP112:AP123)","v":{"$error":"#DIV/0!"}},{"$f":"AVERAGE('SS PrePost'!AQ112:AQ123)","v":{"$error":"#DIV/0!"}},{"$f":"AVERAGE('SS PrePost'!AR112:AR123)","v":{"$error":"#DIV/0!"}},{"$f":"AVERAGE('SS PrePost'!AS112:AS123)","v":{"$error":"#DIV/0!"}},{"$f":"AVERAGE('SS PrePost'!AT112:AT123)","v":{"$error":"#DIV/0!"}},{"$f":"AVERAGE('SS PrePost'!AU112:AU123)","v":{"$error":"#DIV/0!"}},{"$f":"AVERAGE('SS PrePost'!AV112:AV123)","v":{"$error":"#DIV/0!"}},{"$f":"AVERAGE('SS PrePost'!AW112:AW123)","v":{"$error":"#DIV/0!"}},{"$f":"AVERAGE('SS PrePost'!AX112:AX123)","v":{"$error":"#DIV/0!"}},{"$f":"AVERAGE('SS PrePost'!AY112:AY123)","v":{"$error":"#DIV/0!"}},{"$f":"AVERAGE('SS PrePost'!AZ112:AZ123)","v":{"$error":"#DIV/0!"}},{"$f":"AVERAGE('SS PrePost'!BA112:BA123)","v":{"$error":"#DIV/0!"}}]
[2,null,null,{"$f":"$D$177","v":""},null,null,null,null,null,null,null,null,null,null,null,null,null,null,null,null,null,null,null,null,null,null,null,null,null,null,null,null,null,null,null,null,0,0,0,{"$f":"SUM(AK181:AM181)","v":0},null,"SS2",null,0,0,0,0,0,0,0,0,null,"",null,null,null,null,null,null,null,null,""]
[3,null,null,"",null,null,null,null,null,null,null,null,null,null,null,null,null,null,null,null,null,null,null,null,null,null,null,null,null,null,null,null,null,null,null,null,0,0,0,0,null,"SS3",null,0,0,0,0,0,0,0,0,null,"",null,null,null,null,null,null,null,null,""]
[4,null,null,"",null,null,null,null,null,null,null,null,null,null,null,null,null,null,null,null,null,null,null,null,null,null,null,null,null,null,null,null,null,null,null,null,0,0,0,0,null,"SS4",null,0,0,0,0,0,0,0,0,null,"",null,null,null,null,null,null,null,null,""]
[5,null,null,"",null,null,null,null,null,null,null,null,null,null,null,null,null,null,null,null,null,null,null,null,null,null,null,null,null,null,null,null,null,null,null,null,0,0,0,0,null,"SS5",null,0,0,0,0,0,0,0,0,null,"",null,null,null,null,null,null,null,null,""]
[6,null,null,"",null,null,null,null,null,null,null,null,null,null,null,null,null,null,null,null,null,null,null,null,null,null,null,null,null,null,null,null,null,null,null,null,0,0,0,0,null,"SS6",null,0,0,0,0,0,0,0,0,null,"",null,null,null,null,null,null,null,null,""]
[7,null,null,"",null,null,null,null,null,null,null,null,null,null,null,null,null,null,null,null,null,null,null,null,null,null,null,null,null,null,null,null,null,null,null,null,0,0,0,0,null,"SS7",null,0,0,0,0,0,0,0,0,null,"",null,null,null,null,null,null,null,null,""]
[8,null,null,"",null,null,null,null,null,null,null,null,null,null,null,null,null,null,null,null,null,null,null,null,null,null,null,null,null,null,null,null,null,null,null,null,0,0,0,0,null,"SS8",null,0,0,0,0,0,0,0,0,null,"",null,null,null,null,null,null,null,null,""]
[9,null,null,"",null,null,null,null,null,null,null,null,null,null,null,null,null,null,null,null,null,null,null,null,null,null,null,null,null,null,null,null,null,null,null,null,0,0,0,0,null,"SS9",null,0,0,0,0,0,0,0,0,null,"",null,null,null,null,null,null,null,null,""]
[10,null,null,"",null,null,null,null,null,null,null,null,null,null,null,null,null,null,null,null,null,null,null,null,null,null,null,null,null,null,null,null,null,null,null,null,0,0,0,{"$f":"SUM(AK189:AM189)","v":0},null,"SS10",null,0,0,0,0,0,0,0,0,null,"",null,null,null,null,null,null,null,null,""]
[11,null,null,"",null,null,null,null,null,null,null,null,null,null,null,null,null,null,null,null,null,null,null,null,null,null,null,null,null,null,null,null,null,null,null,null,0,0,0,0,null,null,null,0,0,0,0,0,0,0,0,null,{"$f":"IF(AI190=\"YES\",D190,\"\")","v":""},null,null,null,null,null,null,null,null,{"$f":"IF(AN190>0,D190,\"\")","v":""}]
[12,null,null,"",null,null,null,null,null,null,null,null,null,null,null,null,null,null,null,null,null,null,null,null,null,null,null,null,null,null,null,null,null,null,null,null,0,0,0,0,null,null,null,0,0,0,0,0,0,0,0,null,"",null,null,null,null,null,null,null,null,""]
[null,null,null,null,null,null,null,null,null,null,null,null,null,null,null,null,null,null,null,null,null,null,null,null,null,null,null,null,null,null,null,null,null,null,null,null,null,null,null,null,null,null,null,null,null,null,null,null,null,null,null,null,""]
[null,"Program #11",null,null,null,null,null,null,null,null,null,null,null,null,null,null,null,null,null,null,null,null,null,null,null,null,null,null,null,null,null,null,null,null,null,null,null,null,null,null,null,null,null,null,null,null,null,null,null,null,null,null,""]
[null,"Location",null,null,null,null,null,null,null,null,null,null,null,null,null,null,null,null,null,null,null,null,null,null,null,null,null,null,null,null,null,null,null,null,null,null,null,null,null,null,null,null,null,null,null,null,null,null,null,null,null,null,""]
[null,"Start Date",null,"Qtr","Attendance",null,null,null,null,null,null,null,null,"Skillstreaming",null,null,null,null,null,null,null,null,null,"Anger Control",null,null,null,null,null,null,null,null,null,"Moral Reasoning",null,null,null,null,null,{"$f":"IF(C196,((YEAR(C196)-YEAR($B$1))*12+MONTH(C196)-MONTH($B$1)+1),\"\")","v":""},null,null,null,null,null,null,null,null,null,null,null,null,""]
[null,"Completion Date",null,{"$f":"IF(C196,INT((AN195+2)/3),\"\")","v":""},"SS1","SS2","SS3","SS4","SS5","SS6","SS7","SS8","SS9","SS10","AC1","AC2","AC3","AC4","AC5","AC6","AC7","AC8","AC9","AC10","MR1","MR2","MR3","MR4","MR5","MR6","MR7","MR8","MR9","MR10",null,null,null,null,null,"Month",null,{"$f":"COUNTIF(AN199:AN208,30)","v":0},null,null,null,null,null,null,null,null,null,null,"",null,null,null,null,null,null,null,null,null,null,null,null,"Orange Box indicates they are among 10 lowest agerage skills scores for this group."]
[null,"Group Environment",null,null,{"$f":"LEFT($AQ199,2)","v":""},{"$f":"LEFT($AQ200,2)","v":""},{"$f":"LEFT($AQ201,2)","v":""},{"$f":"LEFT($AQ202,2)","v":""},{"$f":"LEFT($AQ203,2)","v":""},{"$f":"LEFT($AQ204,2)","v":""},{"$f":"LEFT($AQ205,2)","v":""},{"$f":"LEFT($AQ206,2)","v":""},{"$f":"LEFT($AQ207,2)","v":""},{"$f":"LEFT($AQ208,2)","v":""}," ",null,null,null,null,null,null,null,null,null,null,null,null,null,null,null,null,null,null,null,null,null,"Program Attendance Summary",null,null,null,null,null,null,null,null,null,null,null,null,null,null,null,"",null,null,null,null,null,null,null,null,null,null,null,null,"Skills in purple boxes are those recommended in ART manual."]
[null,"Participant Code","Gender",null,null,null,null,null,null,null,null,null,null,null,null,null,null,null,null,null,null,null,null,null,null,null,null,null,null,null,null,null,null,null,"Administrative Withdrawal?",null,"# SS Sessions","# AC Sessions","# MR Sessions","TOTAL Attended",null,null,"Skillstreaming Sessions",null,null,null,null,null,null,null,null,null,"",null,null,null,null,null,null,null,{"$f":"D196","v":""},null,null,null,null,"Mean Skill 01","Mean Skill 02","Mean Skill 03","Mean Skill 04","Mean Skill 05","Mean Skill 06","Mean Skill 07","Mean Skill 08","Mean Skill 09","Mean Skill 10","Mean Skill 11","Mean Skill 12","Mean Skill 13","Mean Skill 14","Mean Skill 15","Mean Skill 16","Mean Skill 17","Mean Skill 18","Mean Skill 19","Mean Skill 20","Mean Skill 21","Mean Skill 22","Mean Skill 23","Mean Skill 24","Mean Skill 25","Mean Skill 26","Mean Skill 27","Mean Skill 28","Mean Skill 29","Mean Skill 30","Mean Skill 31","Mean Skill 32","Mean Skill 33","Mean Skill 34","Mean Skill 35","Mean Skill 36","Mean Skill 37","Mean Skill 38","Mean Skill 39","Mean Skill 40","Mean Skill 41","Mean Skill 42","Mean Skill 43","Mean Skill 44","Mean Skill 45","Mean Skill 46","Mean Skill 47","Mean Skill 48","Mean Skill 49","Mean Skill 50"]
[1,null,null,{"$f":"$D$196","v":""},null,null,null,null,null,null,null,null,null,null,null,null,null,null,null,null,null,null,null,null,null,null,null,null,null,null,null,null,null,null,null,null,{"$f":"COUNTIF(E199:N199,\"Yes\")","v":0},{"$f":"COUNTIF(O199:X199,\"Yes\")","v":0},{"$f":"COUNTIF(Y199:AH199,\"Yes\")","v":0},{"$f":"SUM(AK199:AM199)","v":0},null,"SS1",null,{"$f":"IF(AND($D199=AR$6,$AN199>=$AU$3),1,0)","v":0},0,0,0,0,0,0,0,null,"",null,null,null,null,null,null,null,null,"",null,null,{"$f":"SMALL(BN199:DK199,10)","v":{"$error":"#DIV/0!"}},{"$f":"AVERAGE('SS PrePost'!D124:D135)","v":{"$error":"#DIV/0!"}},{"$f":"AVERAGE('SS PrePost'!E124:E135)","v":{"$error":"#DIV/0!"}},{"$f":"AVERAGE('SS PrePost'!F124:F135)","v":{"$error":"#DIV/0!"}},{"$f":"AVERAGE('SS PrePost'!G124:G135)","v":{"$error":"#DIV/0!"}},{"$f":"AVERAGE('SS PrePost'!H124:H135)","v":{"$error":"#DIV/0!"}},{"$f":"AVERAGE('SS PrePost'!I124:I135)","v":{"$error":"#DIV/0!"}},{"$f":"AVERAGE('SS PrePost'!J124:J135)","v":{"$error":"#DIV/0!"}},{"$f":"AVERAGE('SS PrePost'!K124:K135)","v":{"$error":"#DIV/0!"}},{"$f":"AVERAGE('SS PrePost'!L124:L135)","v":{"$error":"#DIV/0!"}},{"$f":"AVERAGE('SS PrePost'!M124:M135)","v":{"$error":"#DIV/0!"}},{"$f":"AVERAGE('SS PrePost'!N124:N135)","v":{"$error":"#DIV/0!"}},{"$f":"AVERAGE('SS PrePost'!O124:O135)","v":{"$error":"#DIV/0!"}},{"$f":"AVERAGE('SS PrePost'!P124:P135)","v":{"$error":"#DIV/0!"}},{"$f":"AVERAGE('SS PrePost'!Q124:Q135)","v":{"$error":"#DIV/0!"}},{"$f":"AVERAGE('SS PrePost'!R124:R135)","v":{"$error":"#DIV/0!"}},{"$f":"AVERAGE('SS PrePost'!S124:S135)","v":{"$error":"#DIV/0!"}},{"$f":"AVERAGE('SS PrePost'!T124:T135)","v":{"$error":"#DIV/0!"}},{"$f":"AVERAGE('SS PrePost'!U124:U135)","v":{"$error":"#DIV/0!"}},{"$f":"AVERAGE('SS PrePost'!V124:V135)","v":{"$error":"#DIV/0!"}},{"$f":"AVERAGE('SS PrePost'!W124:W135)","v":{"$error":"#DIV/0!"}},{"$f":"AVERAGE('SS PrePost'!X124:X135)","v":{"$error":"#DIV/0!"}},{"$f":"AVERAGE('SS PrePost'!Y124:Y135)","v":{"$error":"#DIV/0!"}},{"$f":"AVERAGE('SS PrePost'!Z124:Z135)","v":{"$error":"#DIV/0!"}},{"$f":"AVERAGE('SS PrePost'!AA124:AA135)","v":{"$error":"#DIV/0!"}},{"$f":"AVERAGE('SS PrePost'!AB124:AB135)","v":{"$error":"#DIV/0!"}},{"$f":"AVERAGE('SS PrePost'!AC124:AC135)","v":{"$error":"#DIV/0!"}},{"$f":"AVERAGE('SS PrePost'!AD124:AD135)","v":{"$error":"#DIV/0!"}},{"$f":"AVERAGE('SS PrePost'!AE124:AE135)","v":{"$error":"#DIV/0!"}},{"$f":"AVERAGE('SS PrePost'!AF124:AF135)","v":{"$error":"#DIV/0!"}},{"$f":"AVERAGE('SS PrePost'!AG124:AG135)","v":{"$error":"#DIV/0!"}},{"$f":"AVERAGE('SS PrePost'!AH124:AH135)","v":{"$error":"#DIV/0!"}},{"$f":"AVERAGE('SS PrePost'!AI124:AI135)","v":{"$error":"#DIV/0!"}},{"$f":"AVERAGE('SS PrePost'!AJ124:AJ135)","v":{"$error":"#DIV/0!"}},{"$f":"AVERAGE('SS PrePost'!AK124:AK135)","v":{"$error":"#DIV/0!"}},{"$f":"AVERAGE('SS PrePost'!AL124:AL135)","v":{"$error":"#DIV/0!"}},{"$f":"AVERAGE('SS PrePost'!AM124:AM135)","v":{"$error":"#DIV/0!"}},{"$f":"AVERAGE('SS PrePost'!AN124:AN135)","v":{"$error":"#DIV/0!"}},{"$f":"AVERAGE('SS PrePost'!AO124:AO135)","v":{"$error":"#DIV/0!"}},{"$f":"AVERAGE('SS PrePost'!AP124:AP135)","v":{"$error":"#DIV/0!"}},{"$f":"AVERAGE('SS PrePost'!AQ124:AQ135)","v":{"$error":"#DIV/0!"}},{"$f":"AVERAGE('SS PrePost'!AR124:AR135)","v":{"$error":"#DIV/0!"}},{"$f":"AVERAGE('SS PrePost'!AS124:AS135)","v":{"$error":"#DIV/0!"}},{"$f":"AVERAGE('SS PrePost'!AT124:AT135)","v":{"$error":"#DIV/0!"}},{"$f":"AVERAGE('SS PrePost'!AU124:AU135)","v":{"$error":"#DIV/0!"}},{"$f":"AVERAGE('SS PrePost'!AV124:AV135)","v":{"$error":"#DIV/0!"}},{"$f":"AVERAGE('SS PrePost'!AW124:AW135)","v":{"$error":"#DIV/0!"}},{"$f":"AVERAGE('SS PrePost'!AX124:AX135)","v":{"$error":"#DIV/0!"}},{"$f":"AVERAGE('SS PrePost'!AY124:AY135)","v":{"$error":"#DIV/0!"}},{"$f":"AVERAGE('SS PrePost'!AZ124:AZ135)","v":{"$error":"#DIV/0!"}},{"$f":"AVERAGE('SS PrePost'!BA124:BA135)","v":{"$error":"#DIV/0!"}}]
[2,null,null,{"$f":"$D$196","v":""},null,null,null,null,null,null,null,null,null,null,null,null,null,null,null,null,null,null,null,null,null,null,null,null,null,null,null,null,null,null,null,null,0,0,0,{"$f":"SUM(AK200:AM200)","v":0},null,"SS2",null,0,0,0,0,0,0,0,0,null,"",null,null,null,null,null,null,null,null,""]
[3,null,null,"",null,null,null,null,null,null,null,null,null,null,null,null,null,null,null,null,null,null,null,null,null,null,null,null,null,null,null,null,null,null,null,null,0,0,0,0,null,"SS3",null,0,0,0,0,0,0,0,0,null,"",null,null,null,null,null,null,null,null,""]
[4,null,null,"",null,null,null,null,null,null,null,null,null,null,null,null,null,null,null,null,null,null,null,null,null,null,null,null,null,null,null,null,null,null,null,null,0,0,0,0,null,"SS4",null,0,0,0,0,0,0,0,0,null,"",null,null,null,null,null,null,null,null,""]
[5,null,null,"",null,null,null,null,null,null,null,null,null,null,null,null,null,null,null,null,null,null,null,null,null,null,null,null,null,null,null,null,null,null,null,null,0,0,0,0,null,"SS5",null,0,0,0,0,0,0,0,0,null,"",null,null,null,null,null,null,null,null,""]
[6,null,null,"",null,null,null,null,null,null,null,null,null,null,null,null,null,null,null,null,null,null,null,null,null,null,null,null,null,null,null,null,null,null,null,null,0,0,0,0,null,"SS6",null,0,0,0,0,0,0,0,0,null,"",null,null,null,null,null,null,null,null,""]
[7,null,null,"",null,null,null,null,null,null,null,null,null,null,null,null,null,null,null,null,null,null,null,null,null,null,null,null,null,null,null,null,null,null,null,null,0,0,0,0,null,"SS7",null,0,0,0,0,0,0,0,0,null,"",null,null,null,null,null,null,null,null,""]
[8,null,null,"",null,null,null,null,null,null,null,null,null,null,null,null,null,null,null,null,null,null,null,null,null,null,null,null,null,null,null,null,null,null,null,null,0,0,0,0,null,"SS8",null,0,0,0,0,0,0,0,0,null,"",null,null,null,null,null,null,null,null,""]
[9,null,null,"",null,null,null,null,null,null,null,null,null,null,null,null,null,null,null,null,null,null,null,null,null,null,null,null,null,null,null,null,null,null,null,null,0,0,0,0,null,"SS9",null,0,0,0,0,0,0,0,0,null,"",null,null,null,null,null,null,null,null,""]
[10,null,null,"",null,null,null,null,null,null,null,null,null,null,null,null,null,null,null,null,null,null,null,null,null,null,null,null,null,null,null,null,null,null,null,null,0,0,0,{"$f":"SUM(AK208:AM208)","v":0},null,"SS10",null,0,0,0,0,0,0,0,0,null,"",null,null,null,null,null,null,null,null,""]
[11,null,null,"",null,null,null,null,null,null,null,null,null,null,null,null,null,null,null,null,null,null,null,null,null,null,null,null,null,null,null,null,null,null,null,null,0,0,0,0,null,null,null,0,0,0,0,0,0,0,0,null,{"$f":"IF(AI209=\"YES\",D209,\"\")","v":""},null,null,null,null,null,null,null,null,{"$f":"IF(AN209>0,D209,\"\")","v":""}]
[12,null,null,"",null,null,null,null,null,null,null,null,null,null,null,null,null,null,null,null,null,null,null,null,null,null,null,null,null,null,null,null,null,null,null,null,0,0,0,0,null,null,null,0,0,0,0,0,0,0,0,null,"",null,null,null,null,null,null,null,null,""]
[null,null,null,null,null,null,null,null,null,null,null,null,null,null,null,null,null,null,null,null,null,null,null,null,null,null,null,null,null,null,null,null,null,null,null,null,null,null,null,null,null,null,null,null,null,null,null,null,null,null,null,null,""]
[null,"Program #12",null,null,null,null,null,null,null,null,null,null,null,null,null,null,null,null,null,null,null,null,null,null,null,null,null,null,null,null,null,null,null,null,null,null,null,null,null,null,null,null,null,null,null,null,null,null,null,null,null,null,""]
[null,"Location",null,null,null,null,null,null,null,null,null,null,null,null,null,null,null,null,null,null,null,null,null,null,null,null,null,null,null,null,null,null,null,null,null,null,null,null,null,null,null,null,null,null,null,null,null,null,null,null,null,null,""]
[null,"Start Date",null,"Qtr","Attendance",null,null,null,null,null,null,null,null,"Skillstreaming",null,null,null,null,null,null,null,null,null,"Anger Control",null,null,null,null,null,null,null,null,null,"Moral Reasoning",null,null,null,null,null,{"$f":"IF(C215,((YEAR(C215)-YEAR($B$1))*12+MONTH(C215)-MONTH($B$1)+1),\"\")","v":""},null,null,null,null,null,null,null,null,null,null,null,null,""]
[null,"Completion Date",null,{"$f":"IF(C215,INT((AN214+2)/3),\"\")","v":""},"SS1","SS2","SS3","SS4","SS5","SS6","SS7","SS8","SS9","SS10","AC1","AC2","AC3","AC4","AC5","AC6","AC7","AC8","AC9","AC10","MR1","MR2","MR3","MR4","MR5","MR6","MR7","MR8","MR9","MR10",null,null,null,null,null,"Month",null,{"$f":"COUNTIF(AN218:AN227,30)","v":0},null,null,null,null,null,null,null,null,null,null,"",null,null,null,null,null,null,null,null,null,null,null,null,"Orange Box indicates they are among 10 lowest agerage skills scores for this group."]
[null,"Group Environment",null,null,{"$f":"LEFT($AQ218,2)","v":""},{"$f":"LEFT($AQ219,2)","v":""},{"$f":"LEFT($AQ220,2)","v":""},{"$f":"LEFT($AQ221,2)","v":""},{"$f":"LEFT($AQ222,2)","v":""},{"$f":"LEFT($AQ223,2)","v":""},{"$f":"LEFT($AQ224,2)","v":""},{"$f":"LEFT($AQ225,2)","v":""},{"$f":"LEFT($AQ226,2)","v":""},{"$f":"LEFT($AQ227,2)","v":""}," ",null,null,null,null,null,null,null,null,null,null,null,null,null,null,null,null,null,null,null,null,null,"Program Attendance Summary",null,null,null,null,null,null,null,null,null,null,null,null,null,null,null,"",null,null,null,null,null,null,null,null,null,null,null,null,"Skills in purple boxes are those recommended in ART manual."]
[null,"Participant Code","Gender",null,null,null,null,null,null,null,null,null,null,null,null,null,null,null,null,null,null,null,null,null,null,null,null,null,null,null,null,null,null,null,"Administrative Withdrawal?",null,"# SS Sessions","# AC Sessions","# MR Sessions","TOTAL Attended",null,null,"Skillstreaming Sessions",null,null,null,null,null,null,null,null,null,"",null,null,null,null,null,null,null,{"$f":"D215","v":""},null,null,null,null,"Mean Skill 01","Mean Skill 02","Mean Skill 03","Mean Skill 04","Mean Skill 05","Mean Skill 06","Mean Skill 07","Mean Skill 08","Mean Skill 09","Mean Skill 10","Mean Skill 11","Mean Skill 12","Mean Skill 13","Mean Skill 14","Mean Skill 15","Mean Skill 16","Mean Skill 17","Mean Skill 18","Mean Skill 19","Mean Skill 20","Mean Skill 21","Mean Skill 22","Mean Skill 23","Mean Skill 24","Mean Skill 25","Mean Skill 26","Mean Skill 27","Mean Skill 28","Mean Skill 29","Mean Skill 30","Mean Skill 31","Mean Skill 32","Mean Skill 33","Mean Skill 34","Mean Skill 35","Mean Skill 36","Mean Skill 37","Mean Skill 38","Mean Skill 39","Mean Skill 40","Mean Skill 41","Mean Skill 42","Mean Skill 43","Mean Skill 44","Mean Skill 45","Mean Skill 46","Mean Skill 47","Mean Skill 48","Mean Skill 49","Mean Skill 50"]
[1,null,null,{"$f":"$D$215","v":""},null,null,null,null,null,null,null,null,null,null,null,null,null,null,null,null,null,null,null,null,null,null,null,null,null,null,null,null,null,null,null,null,{"$f":"COUNTIF(E218:N218,\"Yes\")","v":0},{"$f":"COUNTIF(O218:X218,\"Yes\")","v":0},{"$f":"COUNTIF(Y218:AH218,\"Yes\")","v":0},{"$f":"SUM(AK218:AM218)","v":0},null,"SS1",null,{"$f":"IF(AND($D218=AR$6,$AN218>=$AU$3),1,0)","v":0},0,0,0,0,0,0,0,null,"",null,null,null,null,null,null,null,null,"",null,null,{"$f":"SMALL(BN218:DK218,10)","v":{"$error":"#DIV/0!"}},{"$f":"AVERAGE('SS PrePost'!D136:D147)","v":{"$error":"#DIV/0!"}},{"$f":"AVERAGE('SS PrePost'!E136:E147)","v":{"$error":"#DIV/0!"}},{"$f":"AVERAGE('SS PrePost'!F136:F147)","v":{"$error":"#DIV/0!"}},{"$f":"AVERAGE('SS PrePost'!G136:G147)","v":{"$error":"#DIV/0!"}},{"$f":"AVERAGE('SS PrePost'!H136:H147)","v":{"$error":"#DIV/0!"}},{"$f":"AVERAGE('SS PrePost'!I136:I147)","v":{"$error":"#DIV/0!"}},{"$f":"AVERAGE('SS PrePost'!J136:J147)","v":{"$error":"#DIV/0!"}},{"$f":"AVERAGE('SS PrePost'!K136:K147)","v":{"$error":"#DIV/0!"}},{"$f":"AVERAGE('SS PrePost'!L136:L147)","v":{"$error":"#DIV/0!"}},{"$f":"AVERAGE('SS PrePost'!M136:M147)","v":{"$error":"#DIV/0!"}},{"$f":"AVERAGE('SS PrePost'!N136:N147)","v":{"$error":"#DIV/0!"}},{"$f":"AVERAGE('SS PrePost'!O136:O147)","v":{"$error":"#DIV/0!"}},{"$f":"AVERAGE('SS PrePost'!P136:P147)","v":{"$error":"#DIV/0!"}},{"$f":"AVERAGE('SS PrePost'!Q136:Q147)","v":{"$error":"#DIV/0!"}},{"$f":"AVERAGE('SS PrePost'!R136:R147)","v":{"$error":"#DIV/0!"}},{"$f":"AVERAGE('SS PrePost'!S136:S147)","v":{"$error":"#DIV/0!"}},{"$f":"AVERAGE('SS PrePost'!T136:T147)","v":{"$error":"#DIV/0!"}},{"$f":"AVERAGE('SS PrePost'!U136:U147)","v":{"$error":"#DIV/0!"}},{"$f":"AVERAGE('SS PrePost'!V136:V147)","v":{"$error":"#DIV/0!"}},{"$f":"AVERAGE('SS PrePost'!W136:W147)","v":{"$error":"#DIV/0!"}},{"$f":"AVERAGE('SS PrePost'!X136:X147)","v":{"$error":"#DIV/0!"}},{"$f":"AVERAGE('SS PrePost'!Y136:Y147)","v":{"$error":"#DIV/0!"}},{"$f":"AVERAGE('SS PrePost'!Z136:Z147)","v":{"$error":"#DIV/0!"}},{"$f":"AVERAGE('SS PrePost'!AA136:AA147)","v":{"$error":"#DIV/0!"}},{"$f":"AVERAGE('SS PrePost'!AB136:AB147)","v":{"$error":"#DIV/0!"}},{"$f":"AVERAGE('SS PrePost'!AC136:AC147)","v":{"$error":"#DIV/0!"}},{"$f":"AVERAGE('SS PrePost'!AD136:AD147)","v":{"$error":"#DIV/0!"}},{"$f":"AVERAGE('SS PrePost'!AE136:AE147)","v":{"$error":"#DIV/0!"}},{"$f":"AVERAGE('SS PrePost'!AF136:AF147)","v":{"$error":"#DIV/0!"}},{"$f":"AVERAGE('SS PrePost'!AG136:AG147)","v":{"$error":"#DIV/0!"}},{"$f":"AVERAGE('SS PrePost'!AH136:AH147)","v":{"$error":"#DIV/0!"}},{"$f":"AVERAGE('SS PrePost'!AI136:AI147)","v":{"$error":"#DIV/0!"}},{"$f":"AVERAGE('SS PrePost'!AJ136:AJ147)","v":{"$error":"#DIV/0!"}},{"$f":"AVERAGE('SS PrePost'!AK136:AK147)","v":{"$error":"#DIV/0!"}},{"$f":"AVERAGE('SS PrePost'!AL136:AL147)","v":{"$error":"#DIV/0!"}},{"$f":"AVERAGE('SS PrePost'!AM136:AM147)","v":{"$error":"#DIV/0!"}},{"$f":"AVERAGE('SS PrePost'!AN136:AN147)","v":{"$error":"#DIV/0!"}},{"$f":"AVERAGE('SS PrePost'!AO136:AO147)","v":{"$error":"#DIV/0!"}},{"$f":"AVERAGE('SS PrePost'!AP136:AP147)","v":{"$error":"#DIV/0!"}},{"$f":"AVERAGE('SS PrePost'!AQ136:AQ147)","v":{"$error":"#DIV/0!"}},{"$f":"AVERAGE('SS PrePost'!AR136:AR147)","v":{"$error":"#DIV/0!"}},{"$f":"AVERAGE('SS PrePost'!AS136:AS147)","v":{"$error":"#DIV/0!"}},{"$f":"AVERAGE('SS PrePost'!AT136:AT147)","v":{"$error":"#DIV/0!"}},{"$f":"AVERAGE('SS PrePost'!AU136:AU147)","v":{"$error":"#DIV/0!"}},{"$f":"AVERAGE('SS PrePost'!AV136:AV147)","v":{"$error":"#DIV/0!"}},{"$f":"AVERAGE('SS PrePost'!AW136:AW147)","v":{"$error":"#DIV/0!"}},{"$f":"AVERAGE('SS PrePost'!AX136:AX147)","v":{"$error":"#DIV/0!"}},{"$f":"AVERAGE('SS PrePost'!AY136:AY147)","v":{"$error":"#DIV/0!"}},{"$f":"AVERAGE('SS PrePost'!AZ136:AZ147)","v":{"$error":"#DIV/0!"}},{"$f":"AVERAGE('SS PrePost'!BA136:BA147)","v":{"$error":"#DIV/0!"}}]
[2,null,null,{"$f":"$D$215","v":""},null,null,null,null,null,null,null,null,null,null,null,null,null,null,null,null,null,null,null,null,null,null,null,null,null,null,null,null,null,null,null,null,0,0,0,{"$f":"SUM(AK219:AM219)","v":0},null,"SS2",null,0,0,0,0,0,0,0,0,null,"",null,null,null,null,null,null,null,null,""]
[3,null,null,"",null,null,null,null,null,null,null,null,null,null,null,null,null,null,null,null,null,null,null,null,null,null,null,null,null,null,null,null,null,null,null,null,0,0,0,0,null,"SS3",null,0,0,0,0,0,0,0,0,null,"",null,null,null,null,null,null,null,null,""]
[4,null,null,"",null,null,null,null,null,null,null,null,null,null,null,null,null,null,null,null,null,null,null,null,null,null,null,null,null,null,null,null,null,null,null,null,0,0,0,0,null,"SS4",null,0,0,0,0,0,0,0,0,null,"",null,null,null,null,null,null,null,null,""]
[5,null,null,"",null,null,null,null,null,null,null,null,null,null,null,null,null,null,null,null,null,null,null,null,null,null,null,null,null,null,null,null,null,null,null,null,0,0,0,0,null,"SS5",null,0,0,0,0,0,0,0,0,null,"",null,null,null,null,null,null,null,null,""]
[6,null,null,"",null,null,null,null,null,null,null,null,null,null,null,null,null,null,null,null,null,null,null,null,null,null,null,null,null,null,null,null,null,null,null,null,0,0,0,0,null,"SS6",null,0,0,0,0,0,0,0,0,null,"",null,null,null,null,null,null,null,null,""]
[7,null,null,"",null,null,null,null,null,null,null,null,null,null,null,null,null,null,null,null,null,null,null,null,null,null,null,null,null,null,null,null,null,null,null,null,0,0,0,0,null,"SS7",null,0,0,0,0,0,0,0,0,null,{"$f":"IF(AI224=\"YES\",D224,\"\")","v":""},null,null,null,null,null,null,null,null,{"$f":"IF(AN224>0,D224,\"\")","v":""}]
[8,null,null,"",null,null,null,null,null,null,null,null,null,null,null,null,null,null,null,null,null,null,null,null,null,null,null,null,null,null,null,null,null,null,null,null,0,0,0,0,null,"SS8",null,0,0,0,0,0,0,0,0,null,"",null,null,null,null,null,null,null,null,""]
[9,null,null,"",null,null,null,null,null,null,null,null,null,null,null,null,null,null,null,null,null,null,null,null,null,null,null,null,null,null,null,null,null,null,null,null,0,0,0,0,null,"SS9",null,0,0,0,0,0,0,0,0,null,"",null,null,null,null,null,null,null,null,""]
[10,null,null,"",null,null,null,null,null,null,null,null,null,null,null,null,null,null,null,null,null,null,null,null,null,null,null,null,null,null,null,null,null,null,null,null,0,0,0,{"$f":"SUM(AK227:AM227)","v":0},null,"SS10",null,0,0,0,0,0,0,0,0,null,"",null,null,null,null,null,null,null,null,""]
[11,null,null,"",null,null,null,null,null,null,null,null,null,null,null,null,null,null,null,null,null,null,null,null,null,null,null,null,null,null,null,null,null,null,null,null,0,0,0,0,null,null,null,0,0,0,0,0,0,0,0,null,{"$f":"IF(AI228=\"YES\",D228,\"\")","v":""},null,null,null,null,null,null,null,null,{"$f":"IF(AN228>0,D228,\"\")","v":""}]
[12,null,null,"",null,null,null,null,null,null,null,null,null,null,null,null,null,null,null,null,null,null,null,null,null,null,null,null,null,null,null,null,null,null,null,null,0,0,0,0,null,null,null,0,0,0,0,0,0,0,0,null,"",null,null,null,null,null,null,null,null,""]
[null,null,null,null,null,null,null,null,null,null,null,null,null,null,null,null,null,null,null,null,null,null,null,null,null,null,null,null,null,null,null,null,null,null,null,null,null,null,null,null,null,null,null,null,null,null,null,null,null,null,null,null,""]
[null,"Program #13",null,null,null,null,null,null,null,null,null,null,null,null,null,null,null,null,null,null,null,null,null,null,null,null,null,null,null,null,null,null,null,null,null,null,null,null,null,null,null,null,null,null,null,null,null,null,null,null,null,null,""]
[null,"Location",null,null,null,null,null,null,null,null,null,null,null,null,null,null,null,null,null,null,null,null,null,null,null,null,null,null,null,null,null,null,null,null,null,null,null,null,null,null,null,null,null,null,null,null,null,null,null,null,null,null,""]
[null,"Start Date",null,"Qtr","Attendance",null,null,null,null,null,null,null,null,"Skillstreaming",null,null,null,null,null,null,null,null,null,"Anger Control",null,null,null,null,null,null,null,null,null,"Moral Reasoning",null,null,null,null,null,{"$f":"IF(C234,((YEAR(C234)-YEAR($B$1))*12+MONTH(C234)-MONTH($B$1)+1),\"\")","v":""},null,null,null,null,null,null,null,null,null,null,null,null,""]
[null,"Completion Date",null,{"$f":"IF(C234,INT((AN233+2)/3),\"\")","v":""},"SS1","SS2","SS3","SS4","SS5","SS6","SS7","SS8","SS9","SS10","AC1","AC2","AC3","AC4","AC5","AC6","AC7","AC8","AC9","AC10","MR1","MR2","MR3","MR4","MR5","MR6","MR7","MR8","MR9","MR10",null,null,null,null,null,"Month",null,{"$f":"COUNTIF(AN237:AN246,30)","v":0},null,null,null,null,null,null,null,null,null,null,"",null,null,null,null,null,null,null,null,null,null,null,null,"Orange Box indicates they are among 10 lowest agerage skills scores for this group."]
[null,"Group Environment",null,null,{"$f":"LEFT($AQ237,2)","v":""},{"$f":"LEFT($AQ238,2)","v":""},{"$f":"LEFT($AQ239,2)","v":""},{"$f":"LEFT($AQ240,2)","v":""},{"$f":"LEFT($AQ241,2)","v":""},{"$f":"LEFT($AQ242,2)","v":""},{"$f":"LEFT($AQ243,2)","v":""},{"$f":"LEFT($AQ244,2)","v":""},{"$f":"LEFT($AQ245,2)","v":""},{"$f":"LEFT($AQ246,2)","v":""}," ",null,null,null,null,null,null,null,null,null,null,null,null,null,null,null,null,null,null,null,null,null,"Program Attendance Summary",null,null,null,null,null,null,null,null,null,null,null,null,null,null,null,"",null,null,null,null,null,null,null,null,null,null,null,null,"Skills in purple boxes are those recommended in ART manual."]
[null,"Participant Code","Gender",null,null,null,null,null,null,null,null,null,null,null,null,null,null,null,null,null,null,null,null,null,null,null,null,null,null,null,null,null,null,null,"Administrative Withdrawal?",null,"# SS Sessions","# AC Sessions","# MR Sessions","TOTAL Attended",null,null,"Skillstreaming Sessions",null,null,null,null,null,null,null,null,null,"",null,null,null,null,null,null,null,{"$f":"D234","v":""},null,null,null,null,"Mean Skill 01","Mean Skill 02","Mean Skill 03","Mean Skill 04","Mean Skill 05","Mean Skill 06","Mean Skill 07","Mean Skill 08","Mean Skill 09","Mean Skill 10","Mean Skill 11","Mean Skill 12","Mean Skill 13","Mean Skill 14","Mean Skill 15","Mean Skill 16","Mean Skill 17","Mean Skill 18","Mean Skill 19","Mean Skill 20","Mean Skill 21","Mean Skill 22","Mean Skill 23","Mean Skill 24","Mean Skill 25","Mean Skill 26","Mean Skill 27","Mean Skill 28","Mean Skill 29","Mean Skill 30","Mean Skill 31","Mean Skill 32","Mean Skill 33","Mean Skill 34","Mean Skill 35","Mean Skill 36","Mean Skill 37","Mean Skill 38","Mean Skill 39","Mean Skill 40","Mean Skill 41","Mean Skill 42","Mean Skill 43","Mean Skill 44","Mean Skill 45","Mean Skill 46","Mean Skill 47","Mean Skill 48","Mean Skill 49","Mean Skill 50"]
[1,null,null,{"$f":"$D$234","v":""},null,null,null,null,null,null,null,null,null,null,null,null,null,null,null,null,null,null,null,null,null,null,null,null,null,null,null,null,null,null,null,null,{"$f":"COUNTIF(E237:N237,\"Yes\")","v":0},{"$f":"COUNTIF(O237:X237,\"Yes\")","v":0},{"$f":"COUNTIF(Y237:AH237,\"Yes\")","v":0},{"$f":"SUM(AK237:AM237)","v":0},null,"SS1",null,{"$f":"IF(AND($D237=AR$6,$AN237>=$AU$3),1,0)","v":0},0,0,0,0,0,0,0,null,"",null,null,null,null,null,null,null,null,"",null,null,{"$f":"SMALL(BN237:DK237,10)","v":{"$error":"#DIV/0!"}},{"$f":"AVERAGE('SS PrePost'!D148:D159)","v":{"$error":"#DIV/0!"}},{"$f":"AVERAGE('SS PrePost'!E148:E159)","v":{"$error":"#DIV/0!"}},{"$f":"AVERAGE('SS PrePost'!F148:F159)","v":{"$error":"#DIV/0!"}},{"$f":"AVERAGE('SS PrePost'!G148:G159)","v":{"$error":"#DIV/0!"}},{"$f":"AVERAGE('SS PrePost'!H148:H159)","v":{"$error":"#DIV/0!"}},{"$f":"AVERAGE('SS PrePost'!I148:I159)","v":{"$error":"#DIV/0!"}},{"$f":"AVERAGE('SS PrePost'!J148:J159)","v":{"$error":"#DIV/0!"}},{"$f":"AVERAGE('SS PrePost'!K148:K159)","v":{"$error":"#DIV/0!"}},{"$f":"AVERAGE('SS PrePost'!L148:L159)","v":{"$error":"#DIV/0!"}},{"$f":"AVERAGE('SS PrePost'!M148:M159)","v":{"$error":"#DIV/0!"}},{"$f":"AVERAGE('SS PrePost'!N148:N159)","v":{"$error":"#DIV/0!"}},{"$f":"AVERAGE('SS PrePost'!O148:O159)","v":{"$error":"#DIV/0!"}},{"$f":"AVERAGE('SS PrePost'!P148:P159)","v":{"$error":"#DIV/0!"}},{"$f":"AVERAGE('SS PrePost'!Q148:Q159)","v":{"$error":"#DIV/0!"}},{"$f":"AVERAGE('SS PrePost'!R148:R159)","v":{"$error":"#DIV/0!"}},{"$f":"AVERAGE('SS PrePost'!S148:S159)","v":{"$error":"#DIV/0!"}},{"$f":"AVERAGE('SS PrePost'!T148:T159)","v":{"$error":"#DIV/0!"}},{"$f":"AVERAGE('SS PrePost'!U148:U159)","v":{"$error":"#DIV/0!"}},{"$f":"AVERAGE('SS PrePost'!V148:V159)","v":{"$error":"#DIV/0!"}},{"$f":"AVERAGE('SS PrePost'!W148:W159)","v":{"$error":"#DIV/0!"}},{"$f":"AVERAGE('SS PrePost'!X148:X159)","v":{"$error":"#DIV/0!"}},{"$f":"AVERAGE('SS PrePost'!Y148:Y159)","v":{"$error":"#DIV/0!"}},{"$f":"AVERAGE('SS PrePost'!Z148:Z159)","v":{"$error":"#DIV/0!"}},{"$f":"AVERAGE('SS PrePost'!AA148:AA159)","v":{"$error":"#DIV/0!"}},{"$f":"AVERAGE('SS PrePost'!AB148:AB159)","v":{"$error":"#DIV/0!"}},{"$f":"AVERAGE('SS PrePost'!AC148:AC159)","v":{"$error":"#DIV/0!"}},{"$f":"AVERAGE('SS PrePost'!AD148:AD159)","v":{"$error":"#DIV/0!"}},{"$f":"AVERAGE('SS PrePost'!AE148:AE159)","v":{"$error":"#DIV/0!"}},{"$f":"AVERAGE('SS PrePost'!AF148:AF159)","v":{"$error":"#DIV/0!"}},{"$f":"AVERAGE('SS PrePost'!AG148:AG159)","v":{"$error":"#DIV/0!"}},{"$f":"AVERAGE('SS PrePost'!AH148:AH159)","v":{"$error":"#DIV/0!"}},{"$f":"AVERAGE('SS PrePost'!AI148:AI159)","v":{"$error":"#DIV/0!"}},{"$f":"AVERAGE('SS PrePost'!AJ148:AJ159)","v":{"$error":"#DIV/0!"}},{"$f":"AVERAGE('SS PrePost'!AK148:AK159)","v":{"$error":"#DIV/0!"}},{"$f":"AVERAGE('SS PrePost'!AL148:AL159)","v":{"$error":"#DIV/0!"}},{"$f":"AVERAGE('SS PrePost'!AM148:AM159)","v":{"$error":"#DIV/0!"}},{"$f":"AVERAGE('SS PrePost'!AN148:AN159)","v":{"$error":"#DIV/0!"}},{"$f":"AVERAGE('SS PrePost'!AO148:AO159)","v":{"$error":"#DIV/0!"}},{"$f":"AVERAGE('SS PrePost'!AP148:AP159)","v":{"$error":"#DIV/0!"}},{"$f":"AVERAGE('SS PrePost'!AQ148:AQ159)","v":{"$error":"#DIV/0!"}},{"$f":"AVERAGE('SS PrePost'!AR148:AR159)","v":{"$error":"#DIV/0!"}},{"$f":"AVERAGE('SS PrePost'!AS148:AS159)","v":{"$error":"#DIV/0!"}},{"$f":"AVERAGE('SS PrePost'!AT148:AT159)","v":{"$error":"#DIV/0!"}},{"$f":"AVERAGE('SS PrePost'!AU148:AU159)","v":{"$error":"#DIV/0!"}},{"$f":"AVERAGE('SS PrePost'!AV148:AV159)","v":{"$error":"#DIV/0!"}},{"$f":"AVERAGE('SS PrePost'!AW148:AW159)","v":{"$error":"#DIV/0!"}},{"$f":"AVERAGE('SS PrePost'!AX148:AX159)","v":{"$error":"#DIV/0!"}},{"$f":"AVERAGE('SS PrePost'!AY148:AY159)","v":{"$error":"#DIV/0!"}},{"$f":"AVERAGE('SS PrePost'!AZ148:AZ159)","v":{"$error":"#DIV/0!"}},{"$f":"AVERAGE('SS PrePost'!BA148:BA159)","v":{"$error":"#DIV/0!"}}]
[2,null,null,{"$f":"$D$234","v":""},null,null,null,null,null,null,null,null,null,null,null,null,null,null,null,null,null,null,null,null,null,null,null,null,null,null,null,null,null,null,null,null,0,0,0,{"$f":"SUM(AK238:AM238)","v":0},null,"SS2",null,0,0,0,0,0,0,0,0,null,"",null,null,null,null,null,null,null,null,""]
[3,null,null,"",null,null,null,null,null,null,null,null,null,null,null,null,null,null,null,null,null,null,null,null,null,null,null,null,null,null,null,null,null,null,null,null,0,0,0,0,null,"SS3",null,0,0,0,0,0,0,0,0,null,"",null,null,null,null,null,null,null,null,""]
[4,null,null,"",null,null,null,null,null,null,null,null,null,null,null,null,null,null,null,null,null,null,null,null,null,null,null,null,null,null,null,null,null,null,null,null,0,0,0,0,null,"SS4",null,0,0,0,0,0,0,0,0,null,"",null,null,null,null,null,null,null,null,""]
[5,null,null,"",null,null,null,null,null,null,null,null,null,null,null,null,null,null,null,null,null,null,null,null,null,null,null,null,null,null,null,null,null,null,null,null,0,0,0,0,null,"SS5",null,0,0,0,0,0,0,0,0,null,"",null,null,null,null,null,null,null,null,""]
[6,null,null,"",null,null,null,null,null,null,null,null,null,null,null,null,null,null,null,null,null,null,null,null,null,null,null,null,null,null,null,null,null,null,null,null,0,0,0,0,null,"SS6",null,0,0,0,0,0,0,0,0,null,"",null,null,null,null,null,null,null,null,""]
[7,null,null,"",null,null,null,null,null,null,null,null,null,null,null,null,null,null,null,null,null,null,null,null,null,null,null,null,null,null,null,null,null,null,null,null,0,0,0,0,null,"SS7",null,0,0,0,0,0,0,0,0,null,"",null,null,null,null,null,null,null,null,""]
[8,null,null,"",null,null,null,null,null,null,null,null,null,null,null,null,null,null,null,null,null,null,null,null,null,null,null,null,null,null,null,null,null,null,null,null,0,0,0,0,null,"SS8",null,0,0,0,0,0,0,0,0,null,"",null,null,null,null,null,null,null,null,""]
[9,null,null,"",null,null,null,null,null,null,null,null,null,null,null,null,null,null,null,null,null,null,null,null,null,null,null,null,null,null,null,null,null,null,null,null,0,0,0,0,null,"SS9",null,0,0,0,0,0,0,0,0,null,"",null,null,null,null,null,null,null,null,""]
[10,null,null,"",null,null,null,null,null,null,null,null,null,null,null,null,null,null,null,null,null,null,null,null,null,null,null,null,null,null,null,null,null,null,null,null,0,0,0,{"$f":"SUM(AK246:AM246)","v":0},null,"SS10",null,0,0,0,0,0,0,0,0,null,"",null,null,null,null,null,null,null,null,""]
[11,null,null,"",null,null,null,null,null,null,null,null,null,null,null,null,null,null,null,null,null,null,null,null,null,null,null,null,null,null,null,null,null,null,null,null,0,0,0,0,null,null,null,0,0,0,0,0,0,0,0,null,{"$f":"IF(AI247=\"YES\",D247,\"\")","v":""},null,null,null,null,null,null,null,null,{"$f":"IF(AN247>0,D247,\"\")","v":""}]
[12,null,null,"",null,null,null,null,null,null,null,null,null,null,null,null,null,null,null,null,null,null,null,null,null,null,null,null,null,null,null,null,null,null,null,null,0,0,0,0,null,null,null,0,0,0,0,0,0,0,0,null,"",null,null,null,null,null,null,null,null,""]
[null,null,null,null,null,null,null,null,null,null,null,null,null,null,null,null,null,null,null,null,null,null,null,null,null,null,null,null,null,null,null,null,null,null,null,null,null,null,null,null,null,null,null,null,null,null,null,null,null,null,null,null,""]
[null,"Program #14",null,null,null,null,null,null,null,null,null,null,null,null,null,null,null,null,null,null,null,null,null,null,null,null,null,null,null,null,null,null,null,null,null,null,null,null,null,null,null,null,null,null,null,null,null,null,null,null,null,null,""]
[null,"Location",null,null,null,null,null,null,null,null,null,null,null,null,null,null,null,null,null,null,null,null,null,null,null,null,null,null,null,null,null,null,null,null,null,null,null,null,null,null,null,null,null,null,null,null,null,null,null,null,null,null,""]
[null,"Start Date",null,"Qtr","Attendance",null,null,null,null,null,null,null,null,"Skillstreaming",null,null,null,null,null,null,null,null,null,"Anger Control",null,null,null,null,null,null,null,null,null,"Moral Reasoning",null,null,null,null,null,{"$f":"IF(C253,((YEAR(C253)-YEAR($B$1))*12+MONTH(C253)-MONTH($B$1)+1),\"\")","v":""},null,null,null,null,null,null,null,null,null,null,null,null,""]
[null,"Completion Date",null,{"$f":"IF(C253,INT((AN252+2)/3),\"\")","v":""},"SS1","SS2","SS3","SS4","SS5","SS6","SS7","SS8","SS9","SS10","AC1","AC2","AC3","AC4","AC5","AC6","AC7","AC8","AC9","AC10","MR1","MR2","MR3","MR4","MR5","MR6","MR7","MR8","MR9","MR10",null,null,null,null,null,"Month",null,{"$f":"COUNTIF(AN256:AN265,30)","v":0},null,null,null,null,null,null,null,null,null,null,"",null,null,null,null,null,null,null,null,null,null,null,null,"Orange Box indicates they are among 10 lowest agerage skills scores for this group."]
[null,"Group Environment",null,null,{"$f":"LEFT($AQ256,2)","v":""},{"$f":"LEFT($AQ257,2)","v":""},{"$f":"LEFT($AQ258,2)","v":""},{"$f":"LEFT($AQ259,2)","v":""},{"$f":"LEFT($AQ260,2)","v":""},{"$f":"LEFT($AQ261,2)","v":""},{"$f":"LEFT($AQ262,2)","v":""},{"$f":"LEFT($AQ263,2)","v":""},{"$f":"LEFT($AQ264,2)","v":""},{"$f":"LEFT($AQ265,2)","v":""}," ",null,null,null,null,null,null,null,null,null,null,null,null,null,null,null,null,null,null,null,null,null,"Program Attendance Summary",null,null,null,null,null,null,null,null,null,null,null,null,null,null,null,"",null,null,null,null,null,null,null,null,null,null,null,null,"Skills in purple boxes are those recommended in ART manual."]
[null,"Participant Code","Gender",null,null,null,null,null,null,null,null,null,null,null,null,null,null,null,null,null,null,null,null,null,null,null,null,null,null,null,null,null,null,null,"Administrative Withdrawal?",null,"# SS Sessions","# AC Sessions","# MR Sessions","TOTAL Attended",null,null,"Skillstreaming Sessions",null,null,null,null,null,null,null,null,null,"",null,null,null,null,null,null,null,{"$f":"D253","v":""},null,null,null,null,"Mean Skill 01","Mean Skill 02","Mean Skill 03","Mean Skill 04","Mean Skill 05","Mean Skill 06","Mean Skill 07","Mean Skill 08","Mean Skill 09","Mean Skill 10","Mean Skill 11","Mean Skill 12","Mean Skill 13","Mean Skill 14","Mean Skill 15","Mean Skill 16","Mean Skill 17","Mean Skill 18","Mean Skill 19","Mean Skill 20","Mean Skill 21","Mean Skill 22","Mean Skill 23","Mean Skill 24","Mean Skill 25","Mean Skill 26","Mean Skill 27","Mean Skill 28","Mean Skill 29","Mean Skill 30","Mean Skill 31","Mean Skill 32","Mean Skill 33","Mean Skill 34","Mean Skill 35","Mean Skill 36","Mean Skill 37","Mean Skill 38","Mean Skill 39","Mean Skill 40","Mean Skill 41","Mean Skill 42","Mean Skill 43","Mean Skill 44","Mean Skill 45","Mean Skill 46","Mean Skill 47","Mean Skill 48","Mean Skill 49","Mean Skill 50"]
[1,null,null,{"$f":"$D$253","v":""},null,null,null,null,null,null,null,null,null,null,null,null,null,null,null,null,null,null,null,null,null,null,null,null,null,null,null,null,null,null,null,null,{"$f":"COUNTIF(E256:N256,\"Yes\")","v":0},{"$f":"COUNTIF(O256:X256,\"Yes\")","v":0},{"$f":"COUNTIF(Y256:AH256,\"Yes\")","v":0},{"$f":"SUM(AK256:AM256)","v":0},null,"SS1",null,{"$f":"IF(AND($D256=AR$6,$AN256>=$AU$3),1,0)","v":0},0,0,0,0,0,0,0,null,"",null,null,null,null,null,null,null,null,"",null,null,{"$f":"SMALL(BN256:DK256,10)","v":{"$error":"#DIV/0!"}},{"$f":"AVERAGE('SS PrePost'!D160:D171)","v":{"$error":"#DIV/0!"}},{"$f":"AVERAGE('SS PrePost'!E160:E171)","v":{"$error":"#DIV/0!"}},{"$f":"AVERAGE('SS PrePost'!F160:F171)","v":{"$error":"#DIV/0!"}},{"$f":"AVERAGE('SS PrePost'!G160:G171)","v":{"$error":"#DIV/0!"}},{"$f":"AVERAGE('SS PrePost'!H160:H171)","v":{"$error":"#DIV/0!"}},{"$f":"AVERAGE('SS PrePost'!I160:I171)","v":{"$error":"#DIV/0!"}},{"$f":"AVERAGE('SS PrePost'!J160:J171)","v":{"$error":"#DIV/0!"}},{"$f":"AVERAGE('SS PrePost'!K160:K171)","v":{"$error":"#DIV/0!"}},{"$f":"AVERAGE('SS PrePost'!L160:L171)","v":{"$error":"#DIV/0!"}},{"$f":"AVERAGE('SS PrePost'!M160:M171)","v":{"$error":"#DIV/0!"}},{"$f":"AVERAGE('SS PrePost'!N160:N171)","v":{"$error":"#DIV/0!"}},{"$f":"AVERAGE('SS PrePost'!O160:O171)","v":{"$error":"#DIV/0!"}},{"$f":"AVERAGE('SS PrePost'!P160:P171)","v":{"$error":"#DIV/0!"}},{"$f":"AVERAGE('SS PrePost'!Q160:Q171)","v":{"$error":"#DIV/0!"}},{"$f":"AVERAGE('SS PrePost'!R160:R171)","v":{"$error":"#DIV/0!"}},{"$f":"AVERAGE('SS PrePost'!S160:S171)","v":{"$error":"#DIV/0!"}},{"$f":"AVERAGE('SS PrePost'!T160:T171)","v":{"$error":"#DIV/0!"}},{"$f":"AVERAGE('SS PrePost'!U160:U171)","v":{"$error":"#DIV/0!"}},{"$f":"AVERAGE('SS PrePost'!V160:V171)","v":{"$error":"#DIV/0!"}},{"$f":"AVERAGE('SS PrePost'!W160:W171)","v":{"$error":"#DIV/0!"}},{"$f":"AVERAGE('SS PrePost'!X160:X171)","v":{"$error":"#DIV/0!"}},{"$f":"AVERAGE('SS PrePost'!Y160:Y171)","v":{"$error":"#DIV/0!"}},{"$f":"AVERAGE('SS PrePost'!Z160:Z171)","v":{"$error":"#DIV/0!"}},{"$f":"AVERAGE('SS PrePost'!AA160:AA171)","v":{"$error":"#DIV/0!"}},{"$f":"AVERAGE('SS PrePost'!AB160:AB171)","v":{"$error":"#DIV/0!"}},{"$f":"AVERAGE('SS PrePost'!AC160:AC171)","v":{"$error":"#DIV/0!"}},{"$f":"AVERAGE('SS PrePost'!AD160:AD171)","v":{"$error":"#DIV/0!"}},{"$f":"AVERAGE('SS PrePost'!AE160:AE171)","v":{"$error":"#DIV/0!"}},{"$f":"AVERAGE('SS PrePost'!AF160:AF171)","v":{"$error":"#DIV/0!"}},{"$f":"AVERAGE('SS PrePost'!AG160:AG171)","v":{"$error":"#DIV/0!"}},{"$f":"AVERAGE('SS PrePost'!AH160:AH171)","v":{"$error":"#DIV/0!"}},{"$f":"AVERAGE('SS PrePost'!AI160:AI171)","v":{"$error":"#DIV/0!"}},{"$f":"AVERAGE('SS PrePost'!AJ160:AJ171)","v":{"$error":"#DIV/0!"}},{"$f":"AVERAGE('SS PrePost'!AK160:AK171)","v":{"$error":"#DIV/0!"}},{"$f":"AVERAGE('SS PrePost'!AL160:AL171)","v":{"$error":"#DIV/0!"}},{"$f":"AVERAGE('SS PrePost'!AM160:AM171)","v":{"$error":"#DIV/0!"}},{"$f":"AVERAGE('SS PrePost'!AN160:AN171)","v":{"$error":"#DIV/0!"}},{"$f":"AVERAGE('SS PrePost'!AO160:AO171)","v":{"$error":"#DIV/0!"}},{"$f":"AVERAGE('SS PrePost'!AP160:AP171)","v":{"$error":"#DIV/0!"}},{"$f":"AVERAGE('SS PrePost'!AQ160:AQ171)","v":{"$error":"#DIV/0!"}},{"$f":"AVERAGE('SS PrePost'!AR160:AR171)","v":{"$error":"#DIV/0!"}},{"$f":"AVERAGE('SS PrePost'!AS160:AS171)","v":{"$error":"#DIV/0!"}},{"$f":"AVERAGE('SS PrePost'!AT160:AT171)","v":{"$error":"#DIV/0!"}},{"$f":"AVERAGE('SS PrePost'!AU160:AU171)","v":{"$error":"#DIV/0!"}},{"$f":"AVERAGE('SS PrePost'!AV160:AV171)","v":{"$error":"#DIV/0!"}},{"$f":"AVERAGE('SS PrePost'!AW160:AW171)","v":{"$error":"#DIV/0!"}},{"$f":"AVERAGE('SS PrePost'!AX160:AX171)","v":{"$error":"#DIV/0!"}},{"$f":"AVERAGE('SS PrePost'!AY160:AY171)","v":{"$error":"#DIV/0!"}},{"$f":"AVERAGE('SS PrePost'!AZ160:AZ171)","v":{"$error":"#DIV/0!"}},{"$f":"AVERAGE('SS PrePost'!BA160:BA171)","v":{"$error":"#DIV/0!"}}]
[2,null,null,{"$f":"$D$253","v":""},null,null,null,null,null,null,null,null,null,null,null,null,null,null,null,null,null,null,null,null,null,null,null,null,null,null,null,null,null,null,null,null,0,0,0,{"$f":"SUM(AK257:AM257)","v":0},null,"SS2",null,0,0,0,0,0,0,0,0,null,"",null,null,null,null,null,null,null,null,""]
[3,null,null,"",null,null,null,null,null,null,null,null,null,null,null,null,null,null,null,null,null,null,null,null,null,null,null,null,null,null,null,null,null,null,null,null,0,0,0,0,null,"SS3",null,0,0,0,0,0,0,0,0,null,"",null,null,null,null,null,null,null,null,""]
[4,null,null,"",null,null,null,null,null,null,null,null,null,null,null,null,null,null,null,null,null,null,null,null,null,null,null,null,null,null,null,null,null,null,null,null,0,0,0,0,null,"SS4",null,0,0,0,0,0,0,0,0,null,"",null,null,null,null,null,null,null,null,""]
[5,null,null,"",null,null,null,null,null,null,null,null,null,null,null,null,null,null,null,null,null,null,null,null,null,null,null,null,null,null,null,null,null,null,null,null,0,0,0,0,null,"SS5",null,0,0,0,0,0,0,0,0,null,"",null,null,null,null,null,null,null,null,""]
[6,null,null,"",null,null,null,null,null,null,null,null,null,null,null,null,null,null,null,null,null,null,null,null,null,null,null,null,null,null,null,null,null,null,null,null,0,0,0,0,null,"SS6",null,0,0,0,0,0,0,0,0,null,"",null,null,null,null,null,null,null,null,""]
[7,null,null,"",null,null,null,null,null,null,null,null,null,null,null,null,null,null,null,null,null,null,null,null,null,null,null,null,null,null,null,null,null,null,null,null,0,0,0,0,null,"SS7",null,0,0,0,0,0,0,0,0,null,"",null,null,null,null,null,null,null,null,""]
[8,null,null,"",null,null,null,null,null,null,null,null,null,null,null,null,null,null,null,null,null,null,null,null,null,null,null,null,null,null,null,null,null,null,null,null,0,0,0,0,null,"SS8",null,0,0,0,0,0,0,0,0,null,"",null,null,null,null,null,null,null,null,""]
[9,null,null,"",null,null,null,null,null,null,null,null,null,null,null,null,null,null,null,null,null,null,null,null,null,null,null,null,null,null,null,null,null,null,null,null,0,0,0,0,null,"SS9",null,0,0,0,0,0,0,0,0,null,"",null,null,null,null,null,null,null,null,""]
[10,null,null,"",null,null,null,null,null,null,null,null,null,null,null,null,null,null,null,null,null,null,null,null,null,null,null,null,null,null,null,null,null,null,null,null,0,0,0,{"$f":"SUM(AK265:AM265)","v":0},null,"SS10",null,0,0,0,0,0,0,0,0,null,"",null,null,null,null,null,null,null,null,""]
[11,null,null,"",null,null,null,null,null,null,null,null,null,null,null,null,null,null,null,null,null,null,null,null,null,null,null,null,null,null,null,null,null,null,null,null,0,0,0,0,null,null,null,0,0,0,0,0,0,0,0,null,{"$f":"IF(AI266=\"YES\",D266,\"\")","v":""},null,null,null,null,null,null,null,null,{"$f":"IF(AN266>0,D266,\"\")","v":""}]
[12,null,null,"",null,null,null,null,null,null,null,null,null,null,null,null,null,null,null,null,null,null,null,null,null,null,null,null,null,null,null,null,null,null,null,null,0,0,0,0,null,null,null,0,0,0,0,0,0,0,0,null,"",null,null,null,null,null,null,null,null,""]
[null,null,null,null,null,null,null,null,null,null,null,null,null,null,null,null,null,null,null,null,null,null,null,null,null,null,null,null,null,null,null,null,null,null,null,null,null,null,null,null,null,null,null,null,null,null,null,null,null,null,null,null,""]
[null,"Program #15",null,null,null,null,null,null,null,null,null,null,null,null,null,null,null,null,null,null,null,null,null,null,null,null,null,null,null,null,null,null,null,null,null,null,null,null,null,null,null,null,null,null,null,null,null,null,null,null,null,null,""]
[null,"Location",null,null,null,null,null,null,null,null,null,null,null,null,null,null,null,null,null,null,null,null,null,null,null,null,null,null,null,null,null,null,null,null,null,null,null,null,null,null,null,null,null,null,null,null,null,null,null,null,null,null,""]
[null,"Start Date",null,"Qtr","Attendance",null,null,null,null,null,null,null,null,"Skillstreaming",null,null,null,null,null,null,null,null,null,"Anger Control",null,null,null,null,null,null,null,null,null,"Moral Reasoning",null,null,null,null,null,{"$f":"IF(C272,((YEAR(C272)-YEAR($B$1))*12+MONTH(C272)-MONTH($B$1)+1),\"\")","v":""},null,null,null,null,null,null,null,null,null,null,null,null,""]
[null,"Completion Date",null,{"$f":"IF(C272,INT((AN271+2)/3),\"\")","v":""},"SS1","SS2","SS3","SS4","SS5","SS6","SS7","SS8","SS9","SS10","AC1","AC2","AC3","AC4","AC5","AC6","AC7","AC8","AC9","AC10","MR1","MR2","MR3","MR4","MR5","MR6","MR7","MR8","MR9","MR10",null,null,null,null,null,"Month",null,{"$f":"COUNTIF(AN275:AN284,30)","v":0},null,null,null,null,null,null,null,null,null,null,"",null,null,null,null,null,null,null,null,null,null,null,null,"Orange Box indicates they are among 10 lowest agerage skills scores for this group."]
[null,"Group Environment",null,null,{"$f":"LEFT($AQ275,2)","v":""},{"$f":"LEFT($AQ276,2)","v":""},{"$f":"LEFT($AQ277,2)","v":""},{"$f":"LEFT($AQ278,2)","v":""},{"$f":"LEFT($AQ279,2)","v":""},{"$f":"LEFT($AQ280,2)","v":""},{"$f":"LEFT($AQ281,2)","v":""},{"$f":"LEFT($AQ282,2)","v":""},{"$f":"LEFT($AQ283,2)","v":""},{"$f":"LEFT($AQ284,2)","v":""}," ",null,null,null,null,null,null,null,null,null,null,null,null,null,null,null,null,null,null,null,null,null,"Program Attendance Summary",null,null,null,null,null,null,null,null,null,null,null,null,null,null,null,"",null,null,null,null,null,null,null,null,null,null,null,null,"Skills in purple boxes are those recommended in ART manual."]
[null,"Participant Code","Gender",null,null,null,null,null,null,null,null,null,null,null,null,null,null,null,null,null,null,null,null,null,null,null,null,null,null,null,null,null,null,null,"Administrative Withdrawal?",null,"# SS Sessions","# AC Sessions","# MR Sessions","TOTAL Attended",null,null,"Skillstreaming Sessions",null,null,null,null,null,null,null,null,null,"",null,null,null,null,null,null,null,{"$f":"D272","v":""},null,null,null,null,"Mean Skill 01","Mean Skill 02","Mean Skill 03","Mean Skill 04","Mean Skill 05","Mean Skill 06","Mean Skill 07","Mean Skill 08","Mean Skill 09","Mean Skill 10","Mean Skill 11","Mean Skill 12","Mean Skill 13","Mean Skill 14","Mean Skill 15","Mean Skill 16","Mean Skill 17","Mean Skill 18","Mean Skill 19","Mean Skill 20","Mean Skill 21","Mean Skill 22","Mean Skill 23","Mean Skill 24","Mean Skill 25","Mean Skill 26","Mean Skill 27","Mean Skill 28","Mean Skill 29","Mean Skill 30","Mean Skill 31","Mean Skill 32","Mean Skill 33","Mean Skill 34","Mean Skill 35","Mean Skill 36","Mean Skill 37","Mean Skill 38","Mean Skill 39","Mean Skill 40","Mean Skill 41","Mean Skill 42","Mean Skill 43","Mean Skill 44","Mean Skill 45","Mean Skill 46","Mean Skill 47","Mean Skill 48","Mean Skill 49","Mean Skill 50"]
[1,null,null,{"$f":"$D$272","v":""},null,null,null,null,null,null,null,null,null,null,null,null,null,null,null,null,null,null,null,null,null,null,null,null,null,null,null,null,null,null,null,null,{"$f":"COUNTIF(E275:N275,\"Yes\")","v":0},{"$f":"COUNTIF(O275:X275,\"Yes\")","v":0},{"$f":"COUNTIF(Y275:AH275,\"Yes\")","v":0},{"$f":"SUM(AK275:AM275)","v":0},null,"SS1",null,{"$f":"IF(AND($D275=AR$6,$AN275>=$AU$3),1,0)","v":0},0,0,0,0,0,0,0,null,"",null,null,null,null,null,null,null,null,"",null,null,{"$f":"SMALL(BN275:DK275,10)","v":{"$error":"#DIV/0!"}},{"$f":"AVERAGE('SS PrePost'!D172:D183)","v":{"$error":"#DIV/0!"}},{"$f":"AVERAGE('SS PrePost'!E172:E183)","v":{"$error":"#DIV/0!"}},{"$f":"AVERAGE('SS PrePost'!F172:F183)","v":{"$error":"#DIV/0!"}},{"$f":"AVERAGE('SS PrePost'!G172:G183)","v":{"$error":"#DIV/0!"}},{"$f":"AVERAGE('SS PrePost'!H172:H183)","v":{"$error":"#DIV/0!"}},{"$f":"AVERAGE('SS PrePost'!I172:I183)","v":{"$error":"#DIV/0!"}},{"$f":"AVERAGE('SS PrePost'!J172:J183)","v":{"$error":"#DIV/0!"}},{"$f":"AVERAGE('SS PrePost'!K172:K183)","v":{"$error":"#DIV/0!"}},{"$f":"AVERAGE('SS PrePost'!L172:L183)","v":{"$error":"#DIV/0!"}},{"$f":"AVERAGE('SS PrePost'!M172:M183)","v":{"$error":"#DIV/0!"}},{"$f":"AVERAGE('SS PrePost'!N172:N183)","v":{"$error":"#DIV/0!"}},{"$f":"AVERAGE('SS PrePost'!O172:O183)","v":{"$error":"#DIV/0!"}},{"$f":"AVERAGE('SS PrePost'!P172:P183)","v":{"$error":"#DIV/0!"}},{"$f":"AVERAGE('SS PrePost'!Q172:Q183)","v":{"$error":"#DIV/0!"}},{"$f":"AVERAGE('SS PrePost'!R172:R183)","v":{"$error":"#DIV/0!"}},{"$f":"AVERAGE('SS PrePost'!S172:S183)","v":{"$error":"#DIV/0!"}},{"$f":"AVERAGE('SS PrePost'!T172:T183)","v":{"$error":"#DIV/0!"}},{"$f":"AVERAGE('SS PrePost'!U172:U183)","v":{"$error":"#DIV/0!"}},{"$f":"AVERAGE('SS PrePost'!V172:V183)","v":{"$error":"#DIV/0!"}},{"$f":"AVERAGE('SS PrePost'!W172:W183)","v":{"$error":"#DIV/0!"}},{"$f":"AVERAGE('SS PrePost'!X172:X183)","v":{"$error":"#DIV/0!"}},{"$f":"AVERAGE('SS PrePost'!Y172:Y183)","v":{"$error":"#DIV/0!"}},{"$f":"AVERAGE('SS PrePost'!Z172:Z183)","v":{"$error":"#DIV/0!"}},{"$f":"AVERAGE('SS PrePost'!AA172:AA183)","v":{"$error":"#DIV/0!"}},{"$f":"AVERAGE('SS PrePost'!AB172:AB183)","v":{"$error":"#DIV/0!"}},{"$f":"AVERAGE('SS PrePost'!AC172:AC183)","v":{"$error":"#DIV/0!"}},{"$f":"AVERAGE('SS PrePost'!AD172:AD183)","v":{"$error":"#DIV/0!"}},{"$f":"AVERAGE('SS PrePost'!AE172:AE183)","v":{"$error":"#DIV/0!"}},{"$f":"AVERAGE('SS PrePost'!AF172:AF183)","v":{"$error":"#DIV/0!"}},{"$f":"AVERAGE('SS PrePost'!AG172:AG183)","v":{"$error":"#DIV/0!"}},{"$f":"AVERAGE('SS PrePost'!AH172:AH183)","v":{"$error":"#DIV/0!"}},{"$f":"AVERAGE('SS PrePost'!AI172:AI183)","v":{"$error":"#DIV/0!"}},{"$f":"AVERAGE('SS PrePost'!AJ172:AJ183)","v":{"$error":"#DIV/0!"}},{"$f":"AVERAGE('SS PrePost'!AK172:AK183)","v":{"$error":"#DIV/0!"}},{"$f":"AVERAGE('SS PrePost'!AL172:AL183)","v":{"$error":"#DIV/0!"}},{"$f":"AVERAGE('SS PrePost'!AM172:AM183)","v":{"$error":"#DIV/0!"}},{"$f":"AVERAGE('SS PrePost'!AN172:AN183)","v":{"$error":"#DIV/0!"}},{"$f":"AVERAGE('SS PrePost'!AO172:AO183)","v":{"$error":"#DIV/0!"}},{"$f":"AVERAGE('SS PrePost'!AP172:AP183)","v":{"$error":"#DIV/0!"}},{"$f":"AVERAGE('SS PrePost'!AQ172:AQ183)","v":{"$error":"#DIV/0!"}},{"$f":"AVERAGE('SS PrePost'!AR172:AR183)","v":{"$error":"#DIV/0!"}},{"$f":"AVERAGE('SS PrePost'!AS172:AS183)","v":{"$error":"#DIV/0!"}},{"$f":"AVERAGE('SS PrePost'!AT172:AT183)","v":{"$error":"#DIV/0!"}},{"$f":"AVERAGE('SS PrePost'!AU172:AU183)","v":{"$error":"#DIV/0!"}},{"$f":"AVERAGE('SS PrePost'!AV172:AV183)","v":{"$error":"#DIV/0!"}},{"$f":"AVERAGE('SS PrePost'!AW172:AW183)","v":{"$error":"#DIV/0!"}},{"$f":"AVERAGE('SS PrePost'!AX172:AX183)","v":{"$error":"#DIV/0!"}},{"$f":"AVERAGE('SS PrePost'!AY172:AY183)","v":{"$error":"#DIV/0!"}},{"$f":"AVERAGE('SS PrePost'!AZ172:AZ183)","v":{"$error":"#DIV/0!"}},{"$f":"AVERAGE('SS PrePost'!BA172:BA183)","v":{"$error":"#DIV/0!"}}]
[2,null,null,{"$f":"$D$272","v":""},null,null,null,null,null,null,null,null,null,null,null,null,null,null,null,null,null,null,null,null,null,null,null,null,null,null,null,null,null,null,null,null,0,0,0,{"$f":"SUM(AK276:AM276)","v":0},null,"SS2",null,0,0,0,0,0,0,0,0,null,"",null,null,null,null,null,null,null,null,""]
[3,null,null,"",null,null,null,null,null,null,null,null,null,null,null,null,null,null,null,null,null,null,null,null,null,null,null,null,null,null,null,null,null,null,null,null,0,0,0,0,null,"SS3",null,0,0,0,0,0,0,0,0,null,"",null,null,null,null,null,null,null,null,""]
[4,null,null,"",null,null,null,null,null,null,null,null,null,null,null,null,null,null,null,null,null,null,null,null,null,null,null,null,null,null,null,null,null,null,null,null,0,0,0,0,null,"SS4",null,0,0,0,0,0,0,0,0,null,"",null,null,null,null,null,null,null,null,""]
[5,null,null,"",null,null,null,null,null,null,null,null,null,null,null,null,null,null,null,null,null,null,null,null,null,null,null,null,null,null,null,null,null,null,null,null,0,0,0,0,null,"SS5",null,0,0,0,0,0,0,0,0,null,"",null,null,null,null,null,null,null,null,""]
[6,null,null,"",null,null,null,null,null,null,null,null,null,null,null,null,null,null,null,null,null,null,null,null,null,null,null,null,null,null,null,null,null,null,null,null,0,0,0,0,null,"SS6",null,0,0,0,0,0,0,0,0,null,"",null,null,null,null,null,null,null,null,""]
[7,null,null,"",null,null,null,null,null,null,null,null,null,null,null,null,null,null,null,null,null,null,null,null,null,null,null,null,null,null,null,null,null,null,null,null,0,0,0,0,null,"SS7",null,0,0,0,0,0,0,0,0,null,"",null,null,null,null,null,null,null,null,""]
[8,null,null,"",null,null,null,null,null,null,null,null,null,null,null,null,null,null,null,null,null,null,null,null,null,null,null,null,null,null,null,null,null,null,null,null,0,0,0,0,null,"SS8",null,0,0,0,0,0,0,0,0,null,"",null,null,null,null,null,null,null,null,""]
[9,null,null,"",null,null,null,null,null,null,null,null,null,null,null,null,null,null,null,null,null,null,null,null,null,null,null,null,null,null,null,null,null,null,null,null,0,0,0,0,null,"SS9",null,0,0,0,0,0,0,0,0,null,"",null,null,null,null,null,null,null,null,""]
[10,null,null,"",null,null,null,null,null,null,null,null,null,null,null,null,null,null,null,null,null,null,null,null,null,null,null,null,null,null,null,null,null,null,null,null,0,0,0,{"$f":"SUM(AK284:AM284)","v":0},null,"SS10",null,0,0,0,0,0,0,0,0,null,"",null,null,null,null,null,null,null,null,""]
[11,null,null,"",null,null,null,null,null,null,null,null,null,null,null,null,null,null,null,null,null,null,null,null,null,null,null,null,null,null,null,null,null,null,null,null,0,0,0,0,null,null,null,0,0,0,0,0,0,0,0,null,{"$f":"IF(AI285=\"YES\",D285,\"\")","v":""},null,null,null,null,null,null,null,null,{"$f":"IF(AN285>0,D285,\"\")","v":""}]
[12,null,null,"",null,null,null,null,null,null,null,null,null,null,null,null,null,null,null,null,null,null,null,null,null,null,null,null,null,null,null,null,null,null,null,null,0,0,0,0,null,null,null,0,0,0,0,0,0,0,0,null,"",null,null,null,null,null,null,null,null,""]
[null,null,null,null,null,null,null,null,null,null,null,null,null,null,null,null,null,null,null,null,null,null,null,null,null,null,null,null,null,null,null,null,null,null,null,null,null,null,null,null,null,null,null,null,null,null,null,null,null,null,null,null,""]
[null,"Program #16",null,null,null,null,null,null,null,null,null,null,null,null,null,null,null,null,null,null,null,null,null,null,null,null,null,null,null,null,null,null,null,null,null,null,null,null,null,null,null,null,null,null,null,null,null,null,null,null,null,null,""]
[null,"Location",null,null,null,null,null,null,null,null,null,null,null,null,null,null,null,null,null,null,null,null,null,null,null,null,null,null,null,null,null,null,null,null,null,null,null,null,null,null,null,null,null,null,null,null,null,null,null,null,null,null,""]
[null,"Start Date",null,"Qtr","Attendance",null,null,null,null,null,null,null,null,"Skillstreaming",null,null,null,null,null,null,null,null,null,"Anger Control",null,null,null,null,null,null,null,null,null,"Moral Reasoning",null,null,null,null,null,{"$f":"IF(C291,((YEAR(C291)-YEAR($B$1))*12+MONTH(C291)-MONTH($B$1)+1),\"\")","v":""},null,null,null,null,null,null,null,null,null,null,null,null,""]
[null,"Completion Date",null,{"$f":"IF(C291,INT((AN290+2)/3),\"\")","v":""},"SS1","SS2","SS3","SS4","SS5","SS6","SS7","SS8","SS9","SS10","AC1","AC2","AC3","AC4","AC5","AC6","AC7","AC8","AC9","AC10","MR1","MR2","MR3","MR4","MR5","MR6","MR7","MR8","MR9","MR10",null,null,null,null,null,"Month",null,{"$f":"COUNTIF(AN294:AN303,30)","v":0},null,null,null,null,null,null,null,null,null,null,"",null,null,null,null,null,null,null,null,null,null,null,null,"Orange Box indicates they are among 10 lowest agerage skills scores for this group."]
[null,"Group Environment",null,null,{"$f":"LEFT($AQ294,2)","v":""},{"$f":"LEFT($AQ295,2)","v":""},{"$f":"LEFT($AQ296,2)","v":""},{"$f":"LEFT($AQ297,2)","v":""},{"$f":"LEFT($AQ298,2)","v":""},{"$f":"LEFT($AQ299,2)","v":""},{"$f":"LEFT($AQ300,2)","v":""},{"$f":"LEFT($AQ301,2)","v":""},{"$f":"LEFT($AQ302,2)","v":""},{"$f":"LEFT($AQ303,2)","v":""}," ",null,null,null,null,null,null,null,null,null,null,null,null,null,null,null,null,null,null,null,null,null,"Program Attendance Summary",null,null,null,null,null,null,null,null,null,null,null,null,null,null,null,"",null,null,null,null,null,null,null,null,null,null,null,null,"Skills in purple boxes are those recommended in ART manual."]
[null,"Participant Code","Gender",null,null,null,null,null,null,null,null,null,null,null,null,null,null,null,null,null,null,null,null,null,null,null,null,null,null,null,null,null,null,null,"Administrative Withdrawal?",null,"# SS Sessions","# AC Sessions","# MR Sessions","TOTAL Attended",null,null,"Skillstreaming Sessions",null,null,null,null,null,null,null,null,null,"",null,null,null,null,null,null,null,{"$f":"D291","v":""},null,null,null,null,"Mean Skill 01","Mean Skill 02","Mean Skill 03","Mean Skill 04","Mean Skill 05","Mean Skill 06","Mean Skill 07","Mean Skill 08","Mean Skill 09","Mean Skill 10","Mean Skill 11","Mean Skill 12","Mean Skill 13","Mean Skill 14","Mean Skill 15","Mean Skill 16","Mean Skill 17","Mean Skill 18","Mean Skill 19","Mean Skill 20","Mean Skill 21","Mean Skill 22","Mean Skill 23","Mean Skill 24","Mean Skill 25","Mean Skill 26","Mean Skill 27","Mean Skill 28","Mean Skill 29","Mean Skill 30","Mean Skill 31","Mean Skill 32","Mean Skill 33","Mean Skill 34","Mean Skill 35","Mean Skill 36","Mean Skill 37","Mean Skill 38","Mean Skill 39","Mean Skill 40","Mean Skill 41","Mean Skill 42","Mean Skill 43","Mean Skill 44","Mean Skill 45","Mean Skill 46","Mean Skill 47","Mean Skill 48","Mean Skill 49","Mean Skill 50"]
[1,null,null,{"$f":"$D$291","v":""},null,null,null,null,null,null,null,null,null,null,null,null,null,null,null,null,null,null,null,null,null,null,null,null,null,null,null,null,null,null,null,null,{"$f":"COUNTIF(E294:N294,\"Yes\")","v":0},{"$f":"COUNTIF(O294:X294,\"Yes\")","v":0},{"$f":"COUNTIF(Y294:AH294,\"Yes\")","v":0},{"$f":"SUM(AK294:AM294)","v":0},null,"SS1",null,{"$f":"IF(AND($D294=AR$6,$AN294>=$AU$3),1,0)","v":0},0,0,0,0,0,0,0,null,"",null,null,null,null,null,null,null,null,"",null,null,{"$f":"SMALL(BN294:DK294,10)","v":{"$error":"#DIV/0!"}},{"$f":"AVERAGE('SS PrePost'!D184:D195)","v":{"$error":"#DIV/0!"}},{"$f":"AVERAGE('SS PrePost'!E184:E195)","v":{"$error":"#DIV/0!"}},{"$f":"AVERAGE('SS PrePost'!F184:F195)","v":{"$error":"#DIV/0!"}},{"$f":"AVERAGE('SS PrePost'!G184:G195)","v":{"$error":"#DIV/0!"}},{"$f":"AVERAGE('SS PrePost'!H184:H195)","v":{"$error":"#DIV/0!"}},{"$f":"AVERAGE('SS PrePost'!I184:I195)","v":{"$error":"#DIV/0!"}},{"$f":"AVERAGE('SS PrePost'!J184:J195)","v":{"$error":"#DIV/0!"}},{"$f":"AVERAGE('SS PrePost'!K184:K195)","v":{"$error":"#DIV/0!"}},{"$f":"AVERAGE('SS PrePost'!L184:L195)","v":{"$error":"#DIV/0!"}},{"$f":"AVERAGE('SS PrePost'!M184:M195)","v":{"$error":"#DIV/0!"}},{"$f":"AVERAGE('SS PrePost'!N184:N195)","v":{"$error":"#DIV/0!"}},{"$f":"AVERAGE('SS PrePost'!O184:O195)","v":{"$error":"#DIV/0!"}},{"$f":"AVERAGE('SS PrePost'!P184:P195)","v":{"$error":"#DIV/0!"}},{"$f":"AVERAGE('SS PrePost'!Q184:Q195)","v":{"$error":"#DIV/0!"}},{"$f":"AVERAGE('SS PrePost'!R184:R195)","v":{"$error":"#DIV/0!"}},{"$f":"AVERAGE('SS PrePost'!S184:S195)","v":{"$error":"#DIV/0!"}},{"$f":"AVERAGE('SS PrePost'!T184:T195)","v":{"$error":"#DIV/0!"}},{"$f":"AVERAGE('SS PrePost'!U184:U195)","v":{"$error":"#DIV/0!"}},{"$f":"AVERAGE('SS PrePost'!V184:V195)","v":{"$error":"#DIV/0!"}},{"$f":"AVERAGE('SS PrePost'!W184:W195)","v":{"$error":"#DIV/0!"}},{"$f":"AVERAGE('SS PrePost'!X184:X195)","v":{"$error":"#DIV/0!"}},{"$f":"AVERAGE('SS PrePost'!Y184:Y195)","v":{"$error":"#DIV/0!"}},{"$f":"AVERAGE('SS PrePost'!Z184:Z195)","v":{"$error":"#DIV/0!"}},{"$f":"AVERAGE('SS PrePost'!AA184:AA195)","v":{"$error":"#DIV/0!"}},{"$f":"AVERAGE('SS PrePost'!AB184:AB195)","v":{"$error":"#DIV/0!"}},{"$f":"AVERAGE('SS PrePost'!AC184:AC195)","v":{"$error":"#DIV/0!"}},{"$f":"AVERAGE('SS PrePost'!AD184:AD195)","v":{"$error":"#DIV/0!"}},{"$f":"AVERAGE('SS PrePost'!AE184:AE195)","v":{"$error":"#DIV/0!"}},{"$f":"AVERAGE('SS PrePost'!AF184:AF195)","v":{"$error":"#DIV/0!"}},{"$f":"AVERAGE('SS PrePost'!AG184:AG195)","v":{"$error":"#DIV/0!"}},{"$f":"AVERAGE('SS PrePost'!AH184:AH195)","v":{"$error":"#DIV/0!"}},{"$f":"AVERAGE('SS PrePost'!AI184:AI195)","v":{"$error":"#DIV/0!"}},{"$f":"AVERAGE('SS PrePost'!AJ184:AJ195)","v":{"$error":"#DIV/0!"}},{"$f":"AVERAGE('SS PrePost'!AK184:AK195)","v":{"$error":"#DIV/0!"}},{"$f":"AVERAGE('SS PrePost'!AL184:AL195)","v":{"$error":"#DIV/0!"}},{"$f":"AVERAGE('SS PrePost'!AM184:AM195)","v":{"$error":"#DIV/0!"}},{"$f":"AVERAGE('SS PrePost'!AN184:AN195)","v":{"$error":"#DIV/0!"}},{"$f":"AVERAGE('SS PrePost'!AO184:AO195)","v":{"$error":"#DIV/0!"}},{"$f":"AVERAGE('SS PrePost'!AP184:AP195)","v":{"$error":"#DIV/0!"}},{"$f":"AVERAGE('SS PrePost'!AQ184:AQ195)","v":{"$error":"#DIV/0!"}},{"$f":"AVERAGE('SS PrePost'!AR184:AR195)","v":{"$error":"#DIV/0!"}},{"$f":"AVERAGE('SS PrePost'!AS184:AS195)","v":{"$error":"#DIV/0!"}},{"$f":"AVERAGE('SS PrePost'!AT184:AT195)","v":{"$error":"#DIV/0!"}},{"$f":"AVERAGE('SS PrePost'!AU184:AU195)","v":{"$error":"#DIV/0!"}},{"$f":"AVERAGE('SS PrePost'!AV184:AV195)","v":{"$error":"#DIV/0!"}},{"$f":"AVERAGE('SS PrePost'!AW184:AW195)","v":{"$error":"#DIV/0!"}},{"$f":"AVERAGE('SS PrePost'!AX184:AX195)","v":{"$error":"#DIV/0!"}},{"$f":"AVERAGE('SS PrePost'!AY184:AY195)","v":{"$error":"#DIV/0!"}},{"$f":"AVERAGE('SS PrePost'!AZ184:AZ195)","v":{"$error":"#DIV/0!"}},{"$f":"AVERAGE('SS PrePost'!BA184:BA195)","v":{"$error":"#DIV/0!"}}]
[2,null,null,{"$f":"$D$291","v":""},null,null,null,null,null,null,null,null,null,null,null,null,null,null,null,null,null,null,null,null,null,null,null,null,null,null,null,null,null,null,null,null,0,0,0,{"$f":"SUM(AK295:AM295)","v":0},null,"SS2",null,0,0,0,0,0,0,0,0,null,"",null,null,null,null,null,null,null,null,""]
[3,null,null,"",null,null,null,null,null,null,null,null,null,null,null,null,null,null,null,null,null,null,null,null,null,null,null,null,null,null,null,null,null,null,null,null,0,0,0,0,null,"SS3",null,0,0,0,0,0,0,0,0,null,{"$f":"IF(AI296=\"YES\",D296,\"\")","v":""},null,null,null,null,null,null,null,null,{"$f":"IF(AN296>0,D296,\"\")","v":""}]
[4,null,null,"",null,null,null,null,null,null,null,null,null,null,null,null,null,null,null,null,null,null,null,null,null,null,null,null,null,null,null,null,null,null,null,null,0,0,0,0,null,"SS4",null,0,0,0,0,0,0,0,0,null,"",null,null,null,null,null,null,null,null,""]
[5,null,null,"",null,null,null,null,null,null,null,null,null,null,null,null,null,null,null,null,null,null,null,null,null,null,null,null,null,null,null,null,null,null,null,null,0,0,0,0,null,"SS5",null,0,0,0,0,0,0,0,0,null,"",null,null,null,null,null,null,null,null,""]
[6,null,null,"",null,null,null,null,null,null,null,null,null,null,null,null,null,null,null,null,null,null,null,null,null,null,null,null,null,null,null,null,null,null,null,null,0,0,0,0,null,"SS6",null,0,0,0,0,0,0,0,0,null,"",null,null,null,null,null,null,null,null,""]
[7,null,null,"",null,null,null,null,null,null,null,null,null,null,null,null,null,null,null,null,null,null,null,null,null,null,null,null,null,null,null,null,null,null,null,null,0,0,0,0,null,"SS7",null,0,0,0,0,0,0,0,0,null,"",null,null,null,null,null,null,null,null,""]
[8,null,null,"",null,null,null,null,null,null,null,null,null,null,null,null,null,null,null,null,null,null,null,null,null,null,null,null,null,null,null,null,null,null,null,null,0,0,0,0,null,"SS8",null,0,0,0,0,0,0,0,0,null,"",null,null,null,null,null,null,null,null,""]
[9,null,null,"",null,null,null,null,null,null,null,null,null,null,null,null,null,null,null,null,null,null,null,null,null,null,null,null,null,null,null,null,null,null,null,null,0,0,0,0,null,"SS9",null,0,0,0,0,0,0,0,0,null,"",null,null,null,null,null,null,null,null,""]
[10,null,null,"",null,null,null,null,null,null,null,null,null,null,null,null,null,null,null,null,null,null,null,null,null,null,null,null,null,null,null,null,null,null,null,null,0,0,0,{"$f":"SUM(AK303:AM303)","v":0},null,"SS10",null,0,0,0,0,0,0,0,0,null,"",null,null,null,null,null,null,null,null,""]
[11,null,null,"",null,null,null,null,null,null,null,null,null,null,null,null,null,null,null,null,null,null,null,null,null,null,null,null,null,null,null,null,null,null,null,null,0,0,0,0,null,null,null,0,0,0,0,0,0,0,0,null,{"$f":"IF(AI304=\"YES\",D304,\"\")","v":""},null,null,null,null,null,null,null,null,{"$f":"IF(AN304>0,D304,\"\")","v":""}]
[12,null,null,"",null,null,null,null,null,null,null,null,null,null,null,null,null,null,null,null,null,null,null,null,null,null,null,null,null,null,null,null,null,null,null,null,0,0,0,0,null,null,null,0,0,0,0,0,0,0,0,null,"",null,null,null,null,null,null,null,null,""]
[null,null,null,null,null,null,null,null,null,null,null,null,null,null,null,null,null,null,null,null,null,null,null,null,null,null,null,null,null,null,null,null,null,null,null,null,null,null,null,null,null,null,null,null,null,null,null,null,null,null,null,null,""]
[null,"Program #17",null,null,null,null,null,null,null,null,null,null,null,null,null,null,null,null,null,null,null,null,null,null,null,null,null,null,null,null,null,null,null,null,null,null,null,null,null,null,null,null,null,null,null,null,null,null,null,null,null,null,""]
[null,"Location",null,null,null,null,null,null,null,null,null,null,null,null,null,null,null,null,null,null,null,null,null,null,null,null,null,null,null,null,null,null,null,null,null,null,null,null,null,null,null,null,null,null,null,null,null,null,null,null,null,null,""]
[null,"Start Date",null,"Qtr","Attendance",null,null,null,null,null,null,null,null,"Skillstreaming",null,null,null,null,null,null,null,null,null,"Anger Control",null,null,null,null,null,null,null,null,null,"Moral Reasoning",null,null,null,null,null,{"$f":"IF(C310,((YEAR(C310)-YEAR($B$1))*12+MONTH(C310)-MONTH($B$1)+1),\"\")","v":""},null,null,null,null,null,null,null,null,null,null,null,null,""]
[null,"Completion Date",null,{"$f":"IF(C310,INT((AN309+2)/3),\"\")","v":""},"SS1","SS2","SS3","SS4","SS5","SS6","SS7","SS8","SS9","SS10","AC1","AC2","AC3","AC4","AC5","AC6","AC7","AC8","AC9","AC10","MR1","MR2","MR3","MR4","MR5","MR6","MR7","MR8","MR9","MR10",null,null,null,null,null,"Month",null,{"$f":"COUNTIF(AN313:AN322,30)","v":0},null,null,null,null,null,null,null,null,null,null,"",null,null,null,null,null,null,null,null,null,null,null,null,"Orange Box indicates they are among 10 lowest agerage skills scores for this group."]
[null,"Group Environment",null,null,{"$f":"LEFT($AQ313,2)","v":""},{"$f":"LEFT($AQ314,2)","v":""},{"$f":"LEFT($AQ315,2)","v":""},{"$f":"LEFT($AQ316,2)","v":""},{"$f":"LEFT($AQ317,2)","v":""},{"$f":"LEFT($AQ318,2)","v":""},{"$f":"LEFT($AQ319,2)","v":""},{"$f":"LEFT($AQ320,2)","v":""},{"$f":"LEFT($AQ321,2)","v":""},{"$f":"LEFT($AQ322,2)","v":""}," ",null,null,null,null,null,null,null,null,null,null,null,null,null,null,null,null,null,null,null,null,null,"Program Attendance Summary",null,null,null,null,null,null,null,null,null,null,null,null,null,null,null,"",null,null,null,null,null,null,null,null,null,null,null,null,"Skills in purple boxes are those recommended in ART manual."]
[null,"Participant Code","Gender",null,null,null,null,null,null,null,null,null,null,null,null,null,null,null,null,null,null,null,null,null,null,null,null,null,null,null,null,null,null,null,"Administrative Withdrawal?",null,"# SS Sessions","# AC Sessions","# MR Sessions","TOTAL Attended",null,null,"Skillstreaming Sessions",null,null,null,null,null,null,null,null,null,"",null,null,null,null,null,null,null,{"$f":"D310","v":""},null,null,null,null,"Mean Skill 01","Mean Skill 02","Mean Skill 03","Mean Skill 04","Mean Skill 05","Mean Skill 06","Mean Skill 07","Mean Skill 08","Mean Skill 09","Mean Skill 10","Mean Skill 11","Mean Skill 12","Mean Skill 13","Mean Skill 14","Mean Skill 15","Mean Skill 16","Mean Skill 17","Mean Skill 18","Mean Skill 19","Mean Skill 20","Mean Skill 21","Mean Skill 22","Mean Skill 23","Mean Skill 24","Mean Skill 25","Mean Skill 26","Mean Skill 27","Mean Skill 28","Mean Skill 29","Mean Skill 30","Mean Skill 31","Mean Skill 32","Mean Skill 33","Mean Skill 34","Mean Skill 35","Mean Skill 36","Mean Skill 37","Mean Skill 38","Mean Skill 39","Mean Skill 40","Mean Skill 41","Mean Skill 42","Mean Skill 43","Mean Skill 44","Mean Skill 45","Mean Skill 46","Mean Skill 47","Mean Skill 48","Mean Skill 49","Mean Skill 50"]
[1,null,null,{"$f":"$D$310","v":""},null,null,null,null,null,null,null,null,null,null,null,null,null,null,null,null,null,null,null,null,null,null,null,null,null,null,null,null,null,null,null,null,{"$f":"COUNTIF(E313:N313,\"Yes\")","v":0},{"$f":"COUNTIF(O313:X313,\"Yes\")","v":0},{"$f":"COUNTIF(Y313:AH313,\"Yes\")","v":0},{"$f":"SUM(AK313:AM313)","v":0},null,"SS1",null,{"$f":"IF(AND($D313=AR$6,$AN313>=$AU$3),1,0)","v":0},0,0,0,0,0,0,0,null,"",null,null,null,null,null,null,null,null,"",null,null,{"$f":"SMALL(BN313:DK313,10)","v":{"$error":"#DIV/0!"}},{"$f":"AVERAGE('SS PrePost'!D196:D207)","v":{"$error":"#DIV/0!"}},{"$f":"AVERAGE('SS PrePost'!E196:E207)","v":{"$error":"#DIV/0!"}},{"$f":"AVERAGE('SS PrePost'!F196:F207)","v":{"$error":"#DIV/0!"}},{"$f":"AVERAGE('SS PrePost'!G196:G207)","v":{"$error":"#DIV/0!"}},{"$f":"AVERAGE('SS PrePost'!H196:H207)","v":{"$error":"#DIV/0!"}},{"$f":"AVERAGE('SS PrePost'!I196:I207)","v":{"$error":"#DIV/0!"}},{"$f":"AVERAGE('SS PrePost'!J196:J207)","v":{"$error":"#DIV/0!"}},{"$f":"AVERAGE('SS PrePost'!K196:K207)","v":{"$error":"#DIV/0!"}},{"$f":"AVERAGE('SS PrePost'!L196:L207)","v":{"$error":"#DIV/0!"}},{"$f":"AVERAGE('SS PrePost'!M196:M207)","v":{"$error":"#DIV/0!"}},{"$f":"AVERAGE('SS PrePost'!N196:N207)","v":{"$error":"#DIV/0!"}},{"$f":"AVERAGE('SS PrePost'!O196:O207)","v":{"$error":"#DIV/0!"}},{"$f":"AVERAGE('SS PrePost'!P196:P207)","v":{"$error":"#DIV/0!"}},{"$f":"AVERAGE('SS PrePost'!Q196:Q207)","v":{"$error":"#DIV/0!"}},{"$f":"AVERAGE('SS PrePost'!R196:R207)","v":{"$error":"#DIV/0!"}},{"$f":"AVERAGE('SS PrePost'!S196:S207)","v":{"$error":"#DIV/0!"}},{"$f":"AVERAGE('SS PrePost'!T196:T207)","v":{"$error":"#DIV/0!"}},{"$f":"AVERAGE('SS PrePost'!U196:U207)","v":{"$error":"#DIV/0!"}},{"$f":"AVERAGE('SS PrePost'!V196:V207)","v":{"$error":"#DIV/0!"}},{"$f":"AVERAGE('SS PrePost'!W196:W207)","v":{"$error":"#DIV/0!"}},{"$f":"AVERAGE('SS PrePost'!X196:X207)","v":{"$error":"#DIV/0!"}},{"$f":"AVERAGE('SS PrePost'!Y196:Y207)","v":{"$error":"#DIV/0!"}},{"$f":"AVERAGE('SS PrePost'!Z196:Z207)","v":{"$error":"#DIV/0!"}},{"$f":"AVERAGE('SS PrePost'!AA196:AA207)","v":{"$error":"#DIV/0!"}},{"$f":"AVERAGE('SS PrePost'!AB196:AB207)","v":{"$error":"#DIV/0!"}},{"$f":"AVERAGE('SS PrePost'!AC196:AC207)","v":{"$error":"#DIV/0!"}},{"$f":"AVERAGE('SS PrePost'!AD196:AD207)","v":{"$error":"#DIV/0!"}},{"$f":"AVERAGE('SS PrePost'!AE196:AE207)","v":{"$error":"#DIV/0!"}},{"$f":"AVERAGE('SS PrePost'!AF196:AF207)","v":{"$error":"#DIV/0!"}},{"$f":"AVERAGE('SS PrePost'!AG196:AG207)","v":{"$error":"#DIV/0!"}},{"$f":"AVERAGE('SS PrePost'!AH196:AH207)","v":{"$error":"#DIV/0!"}},{"$f":"AVERAGE('SS PrePost'!AI196:AI207)","v":{"$error":"#DIV/0!"}},{"$f":"AVERAGE('SS PrePost'!AJ196:AJ207)","v":{"$error":"#DIV/0!"}},{"$f":"AVERAGE('SS PrePost'!AK196:AK207)","v":{"$error":"#DIV/0!"}},{"$f":"AVERAGE('SS PrePost'!AL196:AL207)","v":{"$error":"#DIV/0!"}},{"$f":"AVERAGE('SS PrePost'!AM196:AM207)","v":{"$error":"#DIV/0!"}},{"$f":"AVERAGE('SS PrePost'!AN196:AN207)","v":{"$error":"#DIV/0!"}},{"$f":"AVERAGE('SS PrePost'!AO196:AO207)","v":{"$error":"#DIV/0!"}},{"$f":"AVERAGE('SS PrePost'!AP196:AP207)","v":{"$error":"#DIV/0!"}},{"$f":"AVERAGE('SS PrePost'!AQ196:AQ207)","v":{"$error":"#DIV/0!"}},{"$f":"AVERAGE('SS PrePost'!AR196:AR207)","v":{"$error":"#DIV/0!"}},{"$f":"AVERAGE('SS PrePost'!AS196:AS207)","v":{"$error":"#DIV/0!"}},{"$f":"AVERAGE('SS PrePost'!AT196:AT207)","v":{"$error":"#DIV/0!"}},{"$f":"AVERAGE('SS PrePost'!AU196:AU207)","v":{"$error":"#DIV/0!"}},{"$f":"AVERAGE('SS PrePost'!AV196:AV207)","v":{"$error":"#DIV/0!"}},{"$f":"AVERAGE('SS PrePost'!AW196:AW207)","v":{"$error":"#DIV/0!"}},{"$f":"AVERAGE('SS PrePost'!AX196:AX207)","v":{"$error":"#DIV/0!"}},{"$f":"AVERAGE('SS PrePost'!AY196:AY207)","v":{"$error":"#DIV/0!"}},{"$f":"AVERAGE('SS PrePost'!AZ196:AZ207)","v":{"$error":"#DIV/0!"}},{"$f":"AVERAGE('SS PrePost'!BA196:BA207)","v":{"$error":"#DIV/0!"}}]
[2,null,null,{"$f":"$D$310","v":""},null,null,null,null,null,null,null,null,null,null,null,null,null,null,null,null,null,null,null,null,null,null,null,null,null,null,null,null,null,null,null,null,0,0,0,{"$f":"SUM(AK314:AM314)","v":0},null,"SS2",null,0,0,0,0,0,0,0,0,null,"",null,null,null,null,null,null,null,null,""]
[3,null,null,"",null,null,null,null,null,null,null,null,null,null,null,null,null,null,null,null,null,null,null,null,null,null,null,null,null,null,null,null,null,null,null,null,0,0,0,0,null,"SS3",null,0,0,0,0,0,0,0,0,null,"",null,null,null,null,null,null,null,null,""]
[4,null,null,"",null,null,null,null,null,null,null,null,null,null,null,null,null,null,null,null,null,null,null,null,null,null,null,null,null,null,null,null,null,null,null,null,0,0,0,0,null,"SS4",null,0,0,0,0,0,0,0,0,null,"",null,null,null,null,null,null,null,null,""]
[5,null,null,"",null,null,null,null,null,null,null,null,null,null,null,null,null,null,null,null,null,null,null,null,null,null,null,null,null,null,null,null,null,null,null,null,0,0,0,0,null,"SS5",null,0,0,0,0,0,0,0,0,null,"",null,null,null,null,null,null,null,null,""]
[6,null,null,"",null,null,null,null,null,null,null,null,null,null,null,null,null,null,null,null,null,null,null,null,null,null,null,null,null,null,null,null,null,null,null,null,0,0,0,0,null,"SS6",null,0,0,0,0,0,0,0,0,null,"",null,null,null,null,null,null,null,null,""]
[7,null,null,"",null,null,null,null,null,null,null,null,null,null,null,null,null,null,null,null,null,null,null,null,null,null,null,null,null,null,null,null,null,null,null,null,0,0,0,0,null,"SS7",null,0,0,0,0,0,0,0,0,null,"",null,null,null,null,null,null,null,null,""]
[8,null,null,"",null,null,null,null,null,null,null,null,null,null,null,null,null,null,null,null,null,null,null,null,null,null,null,null,null,null,null,null,null,null,null,null,0,0,0,0,null,"SS8",null,0,0,0,0,0,0,0,0,null,"",null,null,null,null,null,null,null,null,""]
[9,null,null,"",null,null,null,null,null,null,null,null,null,null,null,null,null,null,null,null,null,null,null,null,null,null,null,null,null,null,null,null,null,null,null,null,0,0,0,0,null,"SS9",null,0,0,0,0,0,0,0,0,null,"",null,null,null,null,null,null,null,null,""]
[10,null,null,"",null,null,null,null,null,null,null,null,null,null,null,null,null,null,null,null,null,null,null,null,null,null,null,null,null,null,null,null,null,null,null,null,0,0,0,{"$f":"SUM(AK322:AM322)","v":0},null,"SS10",null,0,0,0,0,0,0,0,0,null,"",null,null,null,null,null,null,null,null,""]
[11,null,null,"",null,null,null,null,null,null,null,null,null,null,null,null,null,null,null,null,null,null,null,null,null,null,null,null,null,null,null,null,null,null,null,null,0,0,0,0,null,null,null,0,0,0,0,0,0,0,0,null,{"$f":"IF(AI323=\"YES\",D323,\"\")","v":""},null,null,null,null,null,null,null,null,{"$f":"IF(AN323>0,D323,\"\")","v":""}]
[12,null,null,"",null,null,null,null,null,null,null,null,null,null,null,null,null,null,null,null,null,null,null,null,null,null,null,null,null,null,null,null,null,null,null,null,0,0,0,0,null,null,null,0,0,0,0,0,0,0,0,null,"",null,null,null,null,null,null,null,null,""]
[null,null,null,null,null,null,null,null,null,null,null,null,null,null,null,null,null,null,null,null,null,null,null,null,null,null,null,null,null,null,null,null,null,null,null,null,null,null,null,null,null,null,null,null,null,null,null,null,null,null,null,null,""]
[null,"Program #18",null,null,null,null,null,null,null,null,null,null,null,null,null,null,null,null,null,null,null,null,null,null,null,null,null,null,null,null,null,null,null,null,null,null,null,null,null,null,null,null,null,null,null,null,null,null,null,null,null,null,""]
[null,"Location",null,null,null,null,null,null,null,null,null,null,null,null,null,null,null,null,null,null,null,null,null,null,null,null,null,null,null,null,null,null,null,null,null,null,null,null,null,null,null,null,null,null,null,null,null,null,null,null,null,null,""]
[null,"Start Date",null,"Qtr","Attendance",null,null,null,null,null,null,null,null,"Skillstreaming",null,null,null,null,null,null,null,null,null,"Anger Control",null,null,null,null,null,null,null,null,null,"Moral Reasoning",null,null,null,null,null,{"$f":"IF(C329,((YEAR(C329)-YEAR($B$1))*12+MONTH(C329)-MONTH($B$1)+1),\"\")","v":""},null,null,null,null,null,null,null,null,null,null,null,null,""]
[null,"Completion Date",null,{"$f":"IF(C329,INT((AN328+2)/3),\"\")","v":""},"SS1","SS2","SS3","SS4","SS5","SS6","SS7","SS8","SS9","SS10","AC1","AC2","AC3","AC4","AC5","AC6","AC7","AC8","AC9","AC10","MR1","MR2","MR3","MR4","MR5","MR6","MR7","MR8","MR9","MR10",null,null,null,null,null,"Month",null,{"$f":"COUNTIF(AN332:AN341,30)","v":0},null,null,null,null,null,null,null,null,null,null,"",null,null,null,null,null,null,null,null,null,null,null,null,"Orange Box indicates they are among 10 lowest agerage skills scores for this group."]
[null,"Group Environment",null,null,{"$f":"LEFT($AQ332,2)","v":""},{"$f":"LEFT($AQ333,2)","v":""},{"$f":"LEFT($AQ334,2)","v":""},{"$f":"LEFT($AQ335,2)","v":""},{"$f":"LEFT($AQ336,2)","v":""},{"$f":"LEFT($AQ337,2)","v":""},{"$f":"LEFT($AQ338,2)","v":""},{"$f":"LEFT($AQ339,2)","v":""},{"$f":"LEFT($AQ340,2)","v":""},{"$f":"LEFT($AQ341,2)","v":""}," ",null,null,null,null,null,null,null,null,null,null,null,null,null,null,null,null,null,null,null,null,null,"Program Attendance Summary",null,null,null,null,null,null,null,null,null,null,null,null,null,null,null,"",null,null,null,null,null,null,null,null,null,null,null,null,"Skills in purple boxes are those recommended in ART manual."]
[null,"Participant Code","Gender",null,null,null,null,null,null,null,null,null,null,null,null,null,null,null,null,null,null,null,null,null,null,null,null,null,null,null,null,null,null,null,"Administrative Withdrawal?",null,"# SS Sessions","# AC Sessions","# MR Sessions","TOTAL Attended",null,null,"Skillstreaming Sessions",null,null,null,null,null,null,null,null,null,"",null,null,null,null,null,null,null,{"$f":"D329","v":""},null,null,null,null,"Mean Skill 01","Mean Skill 02","Mean Skill 03","Mean Skill 04","Mean Skill 05","Mean Skill 06","Mean Skill 07","Mean Skill 08","Mean Skill 09","Mean Skill 10","Mean Skill 11","Mean Skill 12","Mean Skill 13","Mean Skill 14","Mean Skill 15","Mean Skill 16","Mean Skill 17","Mean Skill 18","Mean Skill 19","Mean Skill 20","Mean Skill 21","Mean Skill 22","Mean Skill 23","Mean Skill 24","Mean Skill 25","Mean Skill 26","Mean Skill 27","Mean Skill 28","Mean Skill 29","Mean Skill 30","Mean Skill 31","Mean Skill 32","Mean Skill 33","Mean Skill 34","Mean Skill 35","Mean Skill 36","Mean Skill 37","Mean Skill 38","Mean Skill 39","Mean Skill 40","Mean Skill 41","Mean Skill 42","Mean Skill 43","Mean Skill 44","Mean Skill 45","Mean Skill 46","Mean Skill 47","Mean Skill 48","Mean Skill 49","Mean Skill 50"]
[1,null,null,{"$f":"$D$329","v":""},null,null,null,null,null,null,null,null,null,null,null,null,null,null,null,null,null,null,null,null,null,null,null,null,null,null,null,null,null,null,null,null,{"$f":"COUNTIF(E332:N332,\"Yes\")","v":0},{"$f":"COUNTIF(O332:X332,\"Yes\")","v":0},{"$f":"COUNTIF(Y332:AH332,\"Yes\")","v":0},{"$f":"SUM(AK332:AM332)","v":0},null,"SS1",null,{"$f":"IF(AND($D332=AR$6,$AN332>=$AU$3),1,0)","v":0},0,0,0,0,0,0,0,null,"",null,null,null,null,null,null,null,null,"",null,null,{"$f":"SMALL(BN332:DK332,10)","v":{"$error":"#DIV/0!"}},{"$f":"AVERAGE('SS PrePost'!D208:D219)","v":{"$error":"#DIV/0!"}},{"$f":"AVERAGE('SS PrePost'!E208:E219)","v":{"$error":"#DIV/0!"}},{"$f":"AVERAGE('SS PrePost'!F208:F219)","v":{"$error":"#DIV/0!"}},{"$f":"AVERAGE('SS PrePost'!G208:G219)","v":{"$error":"#DIV/0!"}},{"$f":"AVERAGE('SS PrePost'!H208:H219)","v":{"$error":"#DIV/0!"}},{"$f":"AVERAGE('SS PrePost'!I208:I219)","v":{"$error":"#DIV/0!"}},{"$f":"AVERAGE('SS PrePost'!J208:J219)","v":{"$error":"#DIV/0!"}},{"$f":"AVERAGE('SS PrePost'!K208:K219)","v":{"$error":"#DIV/0!"}},{"$f":"AVERAGE('SS PrePost'!L208:L219)","v":{"$error":"#DIV/0!"}},{"$f":"AVERAGE('SS PrePost'!M208:M219)","v":{"$error":"#DIV/0!"}},{"$f":"AVERAGE('SS PrePost'!N208:N219)","v":{"$error":"#DIV/0!"}},{"$f":"AVERAGE('SS PrePost'!O208:O219)","v":{"$error":"#DIV/0!"}},{"$f":"AVERAGE('SS PrePost'!P208:P219)","v":{"$error":"#DIV/0!"}},{"$f":"AVERAGE('SS PrePost'!Q208:Q219)","v":{"$error":"#DIV/0!"}},{"$f":"AVERAGE('SS PrePost'!R208:R219)","v":{"$error":"#DIV/0!"}},{"$f":"AVERAGE('SS PrePost'!S208:S219)","v":{"$error":"#DIV/0!"}},{"$f":"AVERAGE('SS PrePost'!T208:T219)","v":{"$error":"#DIV/0!"}},{"$f":"AVERAGE('SS PrePost'!U208:U219)","v":{"$error":"#DIV/0!"}},{"$f":"AVERAGE('SS PrePost'!V208:V219)","v":{"$error":"#DIV/0!"}},{"$f":"AVERAGE('SS PrePost'!W208:W219)","v":{"$error":"#DIV/0!"}},{"$f":"AVERAGE('SS PrePost'!X208:X219)","v":{"$error":"#DIV/0!"}},{"$f":"AVERAGE('SS PrePost'!Y208:Y219)","v":{"$error":"#DIV/0!"}},{"$f":"AVERAGE('SS PrePost'!Z208:Z219)","v":{"$error":"#DIV/0!"}},{"$f":"AVERAGE('SS PrePost'!AA208:AA219)","v":{"$error":"#DIV/0!"}},{"$f":"AVERAGE('SS PrePost'!AB208:AB219)","v":{"$error":"#DIV/0!"}},{"$f":"AVERAGE('SS PrePost'!AC208:AC219)","v":{"$error":"#DIV/0!"}},{"$f":"AVERAGE('SS PrePost'!AD208:AD219)","v":{"$error":"#DIV/0!"}},{"$f":"AVERAGE('SS PrePost'!AE208:AE219)","v":{"$error":"#DIV/0!"}},{"$f":"AVERAGE('SS PrePost'!AF208:AF219)","v":{"$error":"#DIV/0!"}},{"$f":"AVERAGE('SS PrePost'!AG208:AG219)","v":{"$error":"#DIV/0!"}},{"$f":"AVERAGE('SS PrePost'!AH208:AH219)","v":{"$error":"#DIV/0!"}},{"$f":"AVERAGE('SS PrePost'!AI208:AI219)","v":{"$error":"#DIV/0!"}},{"$f":"AVERAGE('SS PrePost'!AJ208:AJ219)","v":{"$error":"#DIV/0!"}},{"$f":"AVERAGE('SS PrePost'!AK208:AK219)","v":{"$error":"#DIV/0!"}},{"$f":"AVERAGE('SS PrePost'!AL208:AL219)","v":{"$error":"#DIV/0!"}},{"$f":"AVERAGE('SS PrePost'!AM208:AM219)","v":{"$error":"#DIV/0!"}},{"$f":"AVERAGE('SS PrePost'!AN208:AN219)","v":{"$error":"#DIV/0!"}},{"$f":"AVERAGE('SS PrePost'!AO208:AO219)","v":{"$error":"#DIV/0!"}},{"$f":"AVERAGE('SS PrePost'!AP208:AP219)","v":{"$error":"#DIV/0!"}},{"$f":"AVERAGE('SS PrePost'!AQ208:AQ219)","v":{"$error":"#DIV/0!"}},{"$f":"AVERAGE('SS PrePost'!AR208:AR219)","v":{"$error":"#DIV/0!"}},{"$f":"AVERAGE('SS PrePost'!AS208:AS219)","v":{"$error":"#DIV/0!"}},{"$f":"AVERAGE('SS PrePost'!AT208:AT219)","v":{"$error":"#DIV/0!"}},{"$f":"AVERAGE('SS PrePost'!AU208:AU219)","v":{"$error":"#DIV/0!"}},{"$f":"AVERAGE('SS PrePost'!AV208:AV219)","v":{"$error":"#DIV/0!"}},{"$f":"AVERAGE('SS PrePost'!AW208:AW219)","v":{"$error":"#DIV/0!"}},{"$f":"AVERAGE('SS PrePost'!AX208:AX219)","v":{"$error":"#DIV/0!"}},{"$f":"AVERAGE('SS PrePost'!AY208:AY219)","v":{"$error":"#DIV/0!"}},{"$f":"AVERAGE('SS PrePost'!AZ208:AZ219)","v":{"$error":"#DIV/0!"}},{"$f":"AVERAGE('SS PrePost'!BA208:BA219)","v":{"$error":"#DIV/0!"}}]
[2,null,null,{"$f":"$D$329","v":""},null,null,null,null,null,null,null,null,null,null,null,null,null,null,null,null,null,null,null,null,null,null,null,null,null,null,null,null,null,null,null,null,0,0,0,{"$f":"SUM(AK333:AM333)","v":0},null,"SS2",null,0,0,0,0,0,0,0,0,null,"",null,null,null,null,null,null,null,null,""]
[3,null,null,"",null,null,null,null,null,null,null,null,null,null,null,null,null,null,null,null,null,null,null,null,null,null,null,null,null,null,null,null,null,null,null,null,0,0,0,0,null,"SS3",null,0,0,0,0,0,0,0,0,null,"",null,null,null,null,null,null,null,null,""]
[4,null,null,"",null,null,null,null,null,null,null,null,null,null,null,null,null,null,null,null,null,null,null,null,null,null,null,null,null,null,null,null,null,null,null,null,0,0,0,0,null,"SS4",null,0,0,0,0,0,0,0,0,null,"",null,null,null,null,null,null,null,null,""]
[5,null,null,"",null,null,null,null,null,null,null,null,null,null,null,null,null,null,null,null,null,null,null,null,null,null,null,null,null,null,null,null,null,null,null,null,0,0,0,0,null,"SS5",null,0,0,0,0,0,0,0,0,null,"",null,null,null,null,null,null,null,null,""]
[6,null,null,"",null,null,null,null,null,null,null,null,null,null,null,null,null,null,null,null,null,null,null,null,null,null,null,null,null,null,null,null,null,null,null,null,0,0,0,0,null,"SS6",null,0,0,0,0,0,0,0,0,null,"",null,null,null,null,null,null,null,null,""]
[7,null,null,"",null,null,null,null,null,null,null,null,null,null,null,null,null,null,null,null,null,null,null,null,null,null,null,null,null,null,null,null,null,null,null,null,0,0,0,0,null,"SS7",null,0,0,0,0,0,0,0,0,null,"",null,null,null,null,null,null,null,null,""]
[8,null,null,"",null,null,null,null,null,null,null,null,null,null,null,null,null,null,null,null,null,null,null,null,null,null,null,null,null,null,null,null,null,null,null,null,0,0,0,0,null,"SS8",null,0,0,0,0,0,0,0,0,null,"",null,null,null,null,null,null,null,null,""]
[9,null,null,"",null,null,null,null,null,null,null,null,null,null,null,null,null,null,null,null,null,null,null,null,null,null,null,null,null,null,null,null,null,null,null,null,0,0,0,0,null,"SS9",null,0,0,0,0,0,0,0,0,null,"",null,null,null,null,null,null,null,null,""]
[10,null,null,"",null,null,null,null,null,null,null,null,null,null,null,null,null,null,null,null,null,null,null,null,null,null,null,null,null,null,null,null,null,null,null,null,0,0,0,{"$f":"SUM(AK341:AM341)","v":0},null,"SS10",null,0,0,0,0,0,0,0,0,null,"",null,null,null,null,null,null,null,null,""]
[11,null,null,"",null,null,null,null,null,null,null,null,null,null,null,null,null,null,null,null,null,null,null,null,null,null,null,null,null,null,null,null,null,null,null,null,0,0,0,0,null,null,null,0,0,0,0,0,0,0,0,null,{"$f":"IF(AI342=\"YES\",D342,\"\")","v":""},null,null,null,null,null,null,null,null,{"$f":"IF(AN342>0,D342,\"\")","v":""}]
[12,null,null,"",null,null,null,null,null,null,null,null,null,null,null,null,null,null,null,null,null,null,null,null,null,null,null,null,null,null,null,null,null,null,null,null,0,0,0,0,null,null,null,0,0,0,0,0,0,0,0,null,"",null,null,null,null,null,null,null,null,""]
[null,null,null,null,null,null,null,null,null,null,null,null,null,null,null,null,null,null,null,null,null,null,null,null,null,null,null,null,null,null,null,null,null,null,null,null,null,null,null,null,null,null,null,null,null,null,null,null,null,null,null,null,""]
[null,"Program #19",null,null,null,null,null,null,null,null,null,null,null,null,null,null,null,null,null,null,null,null,null,null,null,null,null,null,null,null,null,null,null,null,null,null,null,null,null,null,null,null,null,null,null,null,null,null,null,null,null,null,""]
[null,"Location",null,null,null,null,null,null,null,null,null,null,null,null,null,null,null,null,null,null,null,null,null,null,null,null,null,null,null,null,null,null,null,null,null,null,null,null,null,null,null,null,null,null,null,null,null,null,null,null,null,null,""]
[null,"Start Date",null,"Qtr","Attendance",null,null,null,null,null,null,null,null,"Skillstreaming",null,null,null,null,null,null,null,null,null,"Anger Control",null,null,null,null,null,null,null,null,null,"Moral Reasoning",null,null,null,null,null,{"$f":"IF(C348,((YEAR(C348)-YEAR($B$1))*12+MONTH(C348)-MONTH($B$1)+1),\"\")","v":""},null,null,null,null,null,null,null,null,null,null,null,null,""]
[null,"Completion Date",null,{"$f":"IF(C348,INT((AN347+2)/3),\"\")","v":""},"SS1","SS2","SS3","SS4","SS5","SS6","SS7","SS8","SS9","SS10","AC1","AC2","AC3","AC4","AC5","AC6","AC7","AC8","AC9","AC10","MR1","MR2","MR3","MR4","MR5","MR6","MR7","MR8","MR9","MR10",null,null,null,null,null,"Month",null,{"$f":"COUNTIF(AN351:AN360,30)","v":0},null,null,null,null,null,null,null,null,null,null,"",null,null,null,null,null,null,null,null,null,null,null,null,"Orange Box indicates they are among 10 lowest agerage skills scores for this group."]
[null,"Group Environment",null,null,{"$f":"LEFT($AQ351,2)","v":""},{"$f":"LEFT($AQ352,2)","v":""},{"$f":"LEFT($AQ353,2)","v":""},{"$f":"LEFT($AQ354,2)","v":""},{"$f":"LEFT($AQ355,2)","v":""},{"$f":"LEFT($AQ356,2)","v":""},{"$f":"LEFT($AQ357,2)","v":""},{"$f":"LEFT($AQ358,2)","v":""},{"$f":"LEFT($AQ359,2)","v":""},{"$f":"LEFT($AQ360,2)","v":""}," ",null,null,null,null,null,null,null,null,null,null,null,null,null,null,null,null,null,null,null,null,null,"Program Attendance Summary",null,null,"TOTAL Attended",null,null,null,null,null,null,null,null,null,null,null,null,"",null,null,null,null,null,null,null,null,null,null,null,null,"Skills in purple boxes are those recommended in ART manual."]
[null,"Participant Code","Gender",null,null,null,null,null,null,null,null,null,null,null,null,null,null,null,null,null,null,null,null,null,null,null,null,null,null,null,null,null,null,null,"Administrative Withdrawal?",null,"# SS Sessions","# AC Sessions","# MR Sessions",null,null,null,"Skillstreaming Sessions",null,null,null,null,null,null,null,null,null,"",null,null,null,null,null,null,null,{"$f":"D348","v":""},null,null,null,null,"Mean Skill 01","Mean Skill 02","Mean Skill 03","Mean Skill 04","Mean Skill 05","Mean Skill 06","Mean Skill 07","Mean Skill 08","Mean Skill 09","Mean Skill 10","Mean Skill 11","Mean Skill 12","Mean Skill 13","Mean Skill 14","Mean Skill 15","Mean Skill 16","Mean Skill 17","Mean Skill 18","Mean Skill 19","Mean Skill 20","Mean Skill 21","Mean Skill 22","Mean Skill 23","Mean Skill 24","Mean Skill 25","Mean Skill 26","Mean Skill 27","Mean Skill 28","Mean Skill 29","Mean Skill 30","Mean Skill 31","Mean Skill 32","Mean Skill 33","Mean Skill 34","Mean Skill 35","Mean Skill 36","Mean Skill 37","Mean Skill 38","Mean Skill 39","Mean Skill 40","Mean Skill 41","Mean Skill 42","Mean Skill 43","Mean Skill 44","Mean Skill 45","Mean Skill 46","Mean Skill 47","Mean Skill 48","Mean Skill 49","Mean Skill 50"]
[1,null,null,{"$f":"$D$348","v":""},null,null,null,null,null,null,null,null,null,null,null,null,null,null,null,null,null,null,null,null,null,null,null,null,null,null,null,null,null,null,null,null,{"$f":"COUNTIF(E351:N351,\"Yes\")","v":0},{"$f":"COUNTIF(O351:X351,\"Yes\")","v":0},{"$f":"COUNTIF(Y351:AH351,\"Yes\")","v":0},{"$f":"SUM(AK351:AM351)","v":0},null,"SS1",null,{"$f":"IF(AND($D351=AR$6,$AN351>=$AU$3),1,0)","v":0},0,0,0,0,0,0,0,null,"",null,null,null,null,null,null,null,null,"",null,null,{"$f":"SMALL(BN351:DK351,10)","v":{"$error":"#DIV/0!"}},{"$f":"AVERAGE('SS PrePost'!D220:D231)","v":{"$error":"#DIV/0!"}},{"$f":"AVERAGE('SS PrePost'!E220:E231)","v":{"$error":"#DIV/0!"}},{"$f":"AVERAGE('SS PrePost'!F220:F231)","v":{"$error":"#DIV/0!"}},{"$f":"AVERAGE('SS PrePost'!G220:G231)","v":{"$error":"#DIV/0!"}},{"$f":"AVERAGE('SS PrePost'!H220:H231)","v":{"$error":"#DIV/0!"}},{"$f":"AVERAGE('SS PrePost'!I220:I231)","v":{"$error":"#DIV/0!"}},{"$f":"AVERAGE('SS PrePost'!J220:J231)","v":{"$error":"#DIV/0!"}},{"$f":"AVERAGE('SS PrePost'!K220:K231)","v":{"$error":"#DIV/0!"}},{"$f":"AVERAGE('SS PrePost'!L220:L231)","v":{"$error":"#DIV/0!"}},{"$f":"AVERAGE('SS PrePost'!M220:M231)","v":{"$error":"#DIV/0!"}},{"$f":"AVERAGE('SS PrePost'!N220:N231)","v":{"$error":"#DIV/0!"}},{"$f":"AVERAGE('SS PrePost'!O220:O231)","v":{"$error":"#DIV/0!"}},{"$f":"AVERAGE('SS PrePost'!P220:P231)","v":{"$error":"#DIV/0!"}},{"$f":"AVERAGE('SS PrePost'!Q220:Q231)","v":{"$error":"#DIV/0!"}},{"$f":"AVERAGE('SS PrePost'!R220:R231)","v":{"$error":"#DIV/0!"}},{"$f":"AVERAGE('SS PrePost'!S220:S231)","v":{"$error":"#DIV/0!"}},{"$f":"AVERAGE('SS PrePost'!T220:T231)","v":{"$error":"#DIV/0!"}},{"$f":"AVERAGE('SS PrePost'!U220:U231)","v":{"$error":"#DIV/0!"}},{"$f":"AVERAGE('SS PrePost'!V220:V231)","v":{"$error":"#DIV/0!"}},{"$f":"AVERAGE('SS PrePost'!W220:W231)","v":{"$error":"#DIV/0!"}},{"$f":"AVERAGE('SS PrePost'!X220:X231)","v":{"$error":"#DIV/0!"}},{"$f":"AVERAGE('SS PrePost'!Y220:Y231)","v":{"$error":"#DIV/0!"}},{"$f":"AVERAGE('SS PrePost'!Z220:Z231)","v":{"$error":"#DIV/0!"}},{"$f":"AVERAGE('SS PrePost'!AA220:AA231)","v":{"$error":"#DIV/0!"}},{"$f":"AVERAGE('SS PrePost'!AB220:AB231)","v":{"$error":"#DIV/0!"}},{"$f":"AVERAGE('SS PrePost'!AC220:AC231)","v":{"$error":"#DIV/0!"}},{"$f":"AVERAGE('SS PrePost'!AD220:AD231)","v":{"$error":"#DIV/0!"}},{"$f":"AVERAGE('SS PrePost'!AE220:AE231)","v":{"$error":"#DIV/0!"}},{"$f":"AVERAGE('SS PrePost'!AF220:AF231)","v":{"$error":"#DIV/0!"}},{"$f":"AVERAGE('SS PrePost'!AG220:AG231)","v":{"$error":"#DIV/0!"}},{"$f":"AVERAGE('SS PrePost'!AH220:AH231)","v":{"$error":"#DIV/0!"}},{"$f":"AVERAGE('SS PrePost'!AI220:AI231)","v":{"$error":"#DIV/0!"}},{"$f":"AVERAGE('SS PrePost'!AJ220:AJ231)","v":{"$error":"#DIV/0!"}},{"$f":"AVERAGE('SS PrePost'!AK220:AK231)","v":{"$error":"#DIV/0!"}},{"$f":"AVERAGE('SS PrePost'!AL220:AL231)","v":{"$error":"#DIV/0!"}},{"$f":"AVERAGE('SS PrePost'!AM220:AM231)","v":{"$error":"#DIV/0!"}},{"$f":"AVERAGE('SS PrePost'!AN220:AN231)","v":{"$error":"#DIV/0!"}},{"$f":"AVERAGE('SS PrePost'!AO220:AO231)","v":{"$error":"#DIV/0!"}},{"$f":"AVERAGE('SS PrePost'!AP220:AP231)","v":{"$error":"#DIV/0!"}},{"$f":"AVERAGE('SS PrePost'!AQ220:AQ231)","v":{"$error":"#DIV/0!"}},{"$f":"AVERAGE('SS PrePost'!AR220:AR231)","v":{"$error":"#DIV/0!"}},{"$f":"AVERAGE('SS PrePost'!AS220:AS231)","v":{"$error":"#DIV/0!"}},{"$f":"AVERAGE('SS PrePost'!AT220:AT231)","v":{"$error":"#DIV/0!"}},{"$f":"AVERAGE('SS PrePost'!AU220:AU231)","v":{"$error":"#DIV/0!"}},{"$f":"AVERAGE('SS PrePost'!AV220:AV231)","v":{"$error":"#DIV/0!"}},{"$f":"AVERAGE('SS PrePost'!AW220:AW231)","v":{"$error":"#DIV/0!"}},{"$f":"AVERAGE('SS PrePost'!AX220:AX231)","v":{"$error":"#DIV/0!"}},{"$f":"AVERAGE('SS PrePost'!AY220:AY231)","v":{"$error":"#DIV/0!"}},{"$f":"AVERAGE('SS PrePost'!AZ220:AZ231)","v":{"$error":"#DIV/0!"}},{"$f":"AVERAGE('SS PrePost'!BA220:BA231)","v":{"$error":"#DIV/0!"}}]
[2,null,null,{"$f":"$D$348","v":""},null,null,null,null,null,null,null,null,null,null,null,null,null,null,null,null,null,null,null,null,null,null,null,null,null,null,null,null,null,null,null,null,0,0,0,{"$f":"SUM(AK352:AM352)","v":0},null,"SS2",null,0,0,0,0,0,0,0,0,null,"",null,null,null,null,null,null,null,null,""]
[3,null,null,"",null,null,null,null,null,null,null,null,null,null,null,null,null,null,null,null,null,null,null,null,null,null,null,null,null,null,null,null,null,null,null,null,0,0,0,0,null,"SS3",null,0,0,0,0,0,0,0,0,null,"",null,null,null,null,null,null,null,null,""]
[4,null,null,"",null,null,null,null,null,null,null,null,null,null,null,null,null,null,null,null,null,null,null,null,null,null,null,null,null,null,null,null,null,null,null,null,0,0,0,0,null,"SS4",null,0,0,0,0,0,0,0,0,null,"",null,null,null,null,null,null,null,null,""]
[5,null,null,"",null,null,null,null,null,null,null,null,null,null,null,null,null,null,null,null,null,null,null,null,null,null,null,null,null,null,null,null,null,null,null,null,0,0,0,0,null,"SS5",null,0,0,0,0,0,0,0,0,null,"",null,null,null,null,null,null,null,null,""]
[6,null,null,"",null,null,null,null,null,null,null,null,null,null,null,null,null,null,null,null,null,null,null,null,null,null,null,null,null,null,null,null,null,null,null,null,0,0,0,0,null,"SS6",null,0,0,0,0,0,0,0,0,null,"",null,null,null,null,null,null,null,null,""]
[7,null,null,"",null,null,null,null,null,null,null,null,null,null,null,null,null,null,null,null,null,null,null,null,null,null,null,null,null,null,null,null,null,null,null,null,0,0,0,0,null,"SS7",null,0,0,0,0,0,0,0,0,null,"",null,null,null,null,null,null,null,null,""]
[8,null,null,"",null,null,null,null,null,null,null,null,null,null,null,null,null,null,null,null,null,null,null,null,null,null,null,null,null,null,null,null,null,null,null,null,0,0,0,0,null,"SS8",null,0,0,0,0,0,0,0,0,null,"",null,null,null,null,null,null,null,null,""]
[9,null,null,"",null,null,null,null,null,null,null,null,null,null,null,null,null,null,null,null,null,null,null,null,null,null,null,null,null,null,null,null,null,null,null,null,0,0,0,0,null,"SS9",null,0,0,0,0,0,0,0,0,null,"",null,null,null,null,null,null,null,null,""]
[10,null,null,"",null,null,null,null,null,null,null,null,null,null,null,null,null,null,null,null,null,null,null,null,null,null,null,null,null,null,null,null,null,null,null,null,0,0,0,{"$f":"SUM(AK360:AM360)","v":0},null,"SS10",null,0,0,0,0,0,0,0,0,null,"",null,null,null,null,null,null,null,null,""]
[11,null,null,"",null,null,null,null,null,null,null,null,null,null,null,null,null,null,null,null,null,null,null,null,null,null,null,null,null,null,null,null,null,null,null,null,0,0,0,0,null,null,null,0,0,0,0,0,0,0,0,null,{"$f":"IF(AI361=\"YES\",D361,\"\")","v":""},null,null,null,null,null,null,null,null,{"$f":"IF(AN361>0,D361,\"\")","v":""}]
[12,null,null,"",null,null,null,null,null,null,null,null,null,null,null,null,null,null,null,null,null,null,null,null,null,null,null,null,null,null,null,null,null,null,null,null,0,0,0,0,null,null,null,0,0,0,0,0,0,0,0,null,"",null,null,null,null,null,null,null,null,""]
[null,null,null,null,null,null,null,null,null,null,null,null,null,null,null,null,null,null,null,null,null,null,null,null,null,null,null,null,null,null,null,null,null,null,null,null,null,null,null,null,null,null,null,null,null,null,null,null,null,null,null,null,""]
[null,"Program #20",null,null,null,null,null,null,null,null,null,null,null,null,null,null,null,null,null,null,null,null,null,null,null,null,null,null,null,null,null,null,null,null,null,null,null,null,null,null,null,null,null,null,null,null,null,null,null,null,null,null,""]
[null,"Location",null,null,null,null,null,null,null,null,null,null,null,null,null,null,null,null,null,null,null,null,null,null,null,null,null,null,null,null,null,null,null,null,null,null,null,null,null,null,null,null,null,null,null,null,null,null,null,null,null,null,""]
[null,"Start Date",null,"Qtr","Attendance",null,null,null,null,null,null,null,null,"Skillstreaming",null,null,null,null,null,null,null,null,null,"Anger Control",null,null,null,null,null,null,null,null,null,"Moral Reasoning",null,null,null,null,null,{"$f":"IF(C367,((YEAR(C367)-YEAR($B$1))*12+MONTH(C367)-MONTH($B$1)+1),\"\")","v":""},null,null,null,null,null,null,null,null,null,null,null,null,""]
[null,"Completion Date",null,{"$f":"IF(C367,INT((AN366+2)/3),\"\")","v":""},"SS1","SS2","SS3","SS4","SS5","SS6","SS7","SS8","SS9","SS10","AC1","AC2","AC3","AC4","AC5","AC6","AC7","AC8","AC9","AC10","MR1","MR2","MR3","MR4","MR5","MR6","MR7","MR8","MR9","MR10",null,null,null,null,null,"Month",null,{"$f":"COUNTIF(AN370:AN379,30)","v":0},null,null,null,null,null,null,null,null,null,null,"",null,null,null,null,null,null,null,null,null,null,null,null,"Orange Box indicates they are among 10 lowest agerage skills scores for this group."]
[null,"Group Environment",null,null,{"$f":"LEFT($AQ370,2)","v":""},{"$f":"LEFT($AQ371,2)","v":""},{"$f":"LEFT($AQ372,2)","v":""},{"$f":"LEFT($AQ373,2)","v":""},{"$f":"LEFT($AQ374,2)","v":""},{"$f":"LEFT($AQ375,2)","v":""},{"$f":"LEFT($AQ376,2)","v":""},{"$f":"LEFT($AQ377,2)","v":""},{"$f":"LEFT($AQ378,2)","v":""},{"$f":"LEFT($AQ379,2)","v":""}," ",null,null,null,null,null,null,null,null,null,null,null,null,null,null,null,null,null,null,null,null,null,"Program Attendance Summary",null,null,null,null,null,null,null,null,null,null,null,null,null,null,null,{"$f":"IF(AI368=\"YES\",D368,\"\")","v":""},null,null,null,null,null,null,null,null,null,null,null,null,"Skills in purple boxes are those recommended in ART manual."]
[null,"Participant Code","Gender",null,null,null,null,null,null,null,null,null,null,null,null,null,null,null,null,null,null,null,null,null,null,null,null,null,null,null,null,null,null,null,"Administrative Withdrawal?",null,"# SS Sessions","# AC Sessions","# MR Sessions","TOTAL Attended",null,null,"Skillstreaming Sessions",null,null,null,null,null,null,null,null,null,"",null,null,null,null,null,null,null,{"$f":"D367","v":""},null,null,null,null,"Mean Skill 01","Mean Skill 02","Mean Skill 03","Mean Skill 04","Mean Skill 05","Mean Skill 06","Mean Skill 07","Mean Skill 08","Mean Skill 09","Mean Skill 10","Mean Skill 11","Mean Skill 12","Mean Skill 13","Mean Skill 14","Mean Skill 15","Mean Skill 16","Mean Skill 17","Mean Skill 18","Mean Skill 19","Mean Skill 20","Mean Skill 21","Mean Skill 22","Mean Skill 23","Mean Skill 24","Mean Skill 25","Mean Skill 26","Mean Skill 27","Mean Skill 28","Mean Skill 29","Mean Skill 30","Mean Skill 31","Mean Skill 32","Mean Skill 33","Mean Skill 34","Mean Skill 35","Mean Skill 36","Mean Skill 37","Mean Skill 38","Mean Skill 39","Mean Skill 40","Mean Skill 41","Mean Skill 42","Mean Skill 43","Mean Skill 44","Mean Skill 45","Mean Skill 46","Mean Skill 47","Mean Skill 48","Mean Skill 49","Mean Skill 50"]
[1,null,null,{"$f":"$D$367","v":""},null,null,null,null,null,null,null,null,null,null,null,null,null,null,null,null,null,null,null,null,null,null,null,null,null,null,null,null,null,null,null,null,{"$f":"COUNTIF(E370:N370,\"Yes\")","v":0},{"$f":"COUNTIF(O370:X370,\"Yes\")","v":0},{"$f":"COUNTIF(Y370:AH370,\"Yes\")","v":0},{"$f":"SUM(AK370:AM370)","v":0},null,"SS1",null,{"$f":"IF(AND($D370=AR$6,$AN370>=$AU$3),1,0)","v":0},0,0,0,0,0,0,0,null,"",null,null,null,null,null,null,null,null,{"$f":"IF(AN370>0,D370,\"\")","v":""},null,null,{"$f":"SMALL(BN370:DK370,10)","v":{"$error":"#DIV/0!"}},{"$f":"AVERAGE('SS PrePost'!D232:D243)","v":{"$error":"#DIV/0!"}},{"$f":"AVERAGE('SS PrePost'!E232:E243)","v":{"$error":"#DIV/0!"}},{"$f":"AVERAGE('SS PrePost'!F232:F243)","v":{"$error":"#DIV/0!"}},{"$f":"AVERAGE('SS PrePost'!G232:G243)","v":{"$error":"#DIV/0!"}},{"$f":"AVERAGE('SS PrePost'!H232:H243)","v":{"$error":"#DIV/0!"}},{"$f":"AVERAGE('SS PrePost'!I232:I243)","v":{"$error":"#DIV/0!"}},{"$f":"AVERAGE('SS PrePost'!J232:J243)","v":{"$error":"#DIV/0!"}},{"$f":"AVERAGE('SS PrePost'!K232:K243)","v":{"$error":"#DIV/0!"}},{"$f":"AVERAGE('SS PrePost'!L232:L243)","v":{"$error":"#DIV/0!"}},{"$f":"AVERAGE('SS PrePost'!M232:M243)","v":{"$error":"#DIV/0!"}},{"$f":"AVERAGE('SS PrePost'!N232:N243)","v":{"$error":"#DIV/0!"}},{"$f":"AVERAGE('SS PrePost'!O232:O243)","v":{"$error":"#DIV/0!"}},{"$f":"AVERAGE('SS PrePost'!P232:P243)","v":{"$error":"#DIV/0!"}},{"$f":"AVERAGE('SS PrePost'!Q232:Q243)","v":{"$error":"#DIV/0!"}},{"$f":"AVERAGE('SS PrePost'!R232:R243)","v":{"$error":"#DIV/0!"}},{"$f":"AVERAGE('SS PrePost'!S232:S243)","v":{"$error":"#DIV/0!"}},{"$f":"AVERAGE('SS PrePost'!T232:T243)","v":{"$error":"#DIV/0!"}},{"$f":"AVERAGE('SS PrePost'!U232:U243)","v":{"$error":"#DIV/0!"}},{"$f":"AVERAGE('SS PrePost'!V232:V243)","v":{"$error":"#DIV/0!"}},{"$f":"AVERAGE('SS PrePost'!W232:W243)","v":{"$error":"#DIV/0!"}},{"$f":"AVERAGE('SS PrePost'!X232:X243)","v":{"$error":"#DIV/0!"}},{"$f":"AVERAGE('SS PrePost'!Y232:Y243)","v":{"$error":"#DIV/0!"}},{"$f":"AVERAGE('SS PrePost'!Z232:Z243)","v":{"$error":"#DIV/0!"}},{"$f":"AVERAGE('SS PrePost'!AA232:AA243)","v":{"$error":"#DIV/0!"}},{"$f":"AVERAGE('SS PrePost'!AB232:AB243)","v":{"$error":"#DIV/0!"}},{"$f":"AVERAGE('SS PrePost'!AC232:AC243)","v":{"$error":"#DIV/0!"}},{"$f":"AVERAGE('SS PrePost'!AD232:AD243)","v":{"$error":"#DIV/0!"}},{"$f":"AVERAGE('SS PrePost'!AE232:AE243)","v":{"$error":"#DIV/0!"}},{"$f":"AVERAGE('SS PrePost'!AF232:AF243)","v":{"$error":"#DIV/0!"}},{"$f":"AVERAGE('SS PrePost'!AG232:AG243)","v":{"$error":"#DIV/0!"}},{"$f":"AVERAGE('SS PrePost'!AH232:AH243)","v":{"$error":"#DIV/0!"}},{"$f":"AVERAGE('SS PrePost'!AI232:AI243)","v":{"$error":"#DIV/0!"}},{"$f":"AVERAGE('SS PrePost'!AJ232:AJ243)","v":{"$error":"#DIV/0!"}},{"$f":"AVERAGE('SS PrePost'!AK232:AK243)","v":{"$error":"#DIV/0!"}},{"$f":"AVERAGE('SS PrePost'!AL232:AL243)","v":{"$error":"#DIV/0!"}},{"$f":"AVERAGE('SS PrePost'!AM232:AM243)","v":{"$error":"#DIV/0!"}},{"$f":"AVERAGE('SS PrePost'!AN232:AN243)","v":{"$error":"#DIV/0!"}},{"$f":"AVERAGE('SS PrePost'!AO232:AO243)","v":{"$error":"#DIV/0!"}},{"$f":"AVERAGE('SS PrePost'!AP232:AP243)","v":{"$error":"#DIV/0!"}},{"$f":"AVERAGE('SS PrePost'!AQ232:AQ243)","v":{"$error":"#DIV/0!"}},{"$f":"AVERAGE('SS PrePost'!AR232:AR243)","v":{"$error":"#DIV/0!"}},{"$f":"AVERAGE('SS PrePost'!AS232:AS243)","v":{"$error":"#DIV/0!"}},{"$f":"AVERAGE('SS PrePost'!AT232:AT243)","v":{"$error":"#DIV/0!"}},{"$f":"AVERAGE('SS PrePost'!AU232:AU243)","v":{"$error":"#DIV/0!"}},{"$f":"AVERAGE('SS PrePost'!AV232:AV243)","v":{"$error":"#DIV/0!"}},{"$f":"AVERAGE('SS PrePost'!AW232:AW243)","v":{"$error":"#DIV/0!"}},{"$f":"AVERAGE('SS PrePost'!AX232:AX243)","v":{"$error":"#DIV/0!"}},{"$f":"AVERAGE('SS PrePost'!AY232:AY243)","v":{"$error":"#DIV/0!"}},{"$f":"AVERAGE('SS PrePost'!AZ232:AZ243)","v":{"$error":"#DIV/0!"}},{"$f":"AVERAGE('SS PrePost'!BA232:BA243)","v":{"$error":"#DIV/0!"}}]
[2,null,null,{"$f":"$D$367","v":""},null,null,null,null,null,null,null,null,null,null,null,null,null,null,null,null,null,null,null,null,null,null,null,null,null,null,null,null,null,null,null,null,0,0,0,{"$f":"SUM(AK371:AM371)","v":0},null,"SS2",null,0,0,0,0,0,0,0,0,null,"",null,null,null,null,null,null,null,null,""]
[3,null,null,"",null,null,null,null,null,null,null,null,null,null,null,null,null,null,null,null,null,null,null,null,null,null,null,null,null,null,null,null,null,null,null,null,0,0,0,0,null,"SS3",null,0,0,0,0,0,0,0,0,null,"",null,null,null,null,null,null,null,null,""]
[4,null,null,"",null,null,null,null,null,null,null,null,null,null,null,null,null,null,null,null,null,null,null,null,null,null,null,null,null,null,null,null,null,null,null,null,0,0,0,0,null,"SS4",null,0,0,0,0,0,0,0,0,null,"",null,null,null,null,null,null,null,null,""]
[5,null,null,"",null,null,null,null,null,null,null,null,null,null,null,null,null,null,null,null,null,null,null,null,null,null,null,null,null,null,null,null,null,null,null,null,0,0,0,0,null,"SS5",null,0,0,0,0,0,0,0,0,null,"",null,null,null,null,null,null,null,null,""]
[6,null,null,"",null,null,null,null,null,null,null,null,null,null,null,null,null,null,null,null,null,null,null,null,null,null,null,null,null,null,null,null,null,null,null,null,0,0,0,0,null,"SS6",null,0,0,0,0,0,0,0,0,null,"",null,null,null,null,null,null,null,null,""]
[7,null,null,"",null,null,null,null,null,null,null,null,null,null,null,null,null,null,null,null,null,null,null,null,null,null,null,null,null,null,null,null,null,null,null,null,0,0,0,0,null,"SS7",null,0,0,0,0,0,0,0,0,null,"",null,null,null,null,null,null,null,null,""]
[8,null,null,"",null,null,null,null,null,null,null,null,null,null,null,null,null,null,null,null,null,null,null,null,null,null,null,null,null,null,null,null,null,null,null,null,0,0,0,0,null,"SS8",null,0,0,0,0,0,0,0,0,null,"",null,null,null,null,null,null,null,null,""]
[9,null,null,"",null,null,null,null,null,null,null,null,null,null,null,null,null,null,null,null,null,null,null,null,null,null,null,null,null,null,null,null,null,null,null,null,0,0,0,0,null,"SS9",null,0,0,0,0,0,0,0,0,null,"",null,null,null,null,null,null,null,null,""]
[10,null,null,"",null,null,null,null,null,null,null,null,null,null,null,null,null,null,null,null,null,null,null,null,null,null,null,null,null,null,null,null,null,null,null,null,0,0,0,{"$f":"SUM(AK379:AM379)","v":0},null,"SS10",null,0,0,0,0,0,0,0,0,null,"",null,null,null,null,null,null,null,null,""]
[11,null,null,"",null,null,null,null,null,null,null,null,null,null,null,null,null,null,null,null,null,null,null,null,null,null,null,null,null,null,null,null,null,null,null,null,0,0,0,0,null,null,null,0,0,0,0,0,0,0,0,null,{"$f":"IF(AI380=\"YES\",D380,\"\")","v":""},null,null,null,null,null,null,null,null,{"$f":"IF(AN380>0,D380,\"\")","v":""}]
[12,null,null,"",null,null,null,null,null,null,null,null,null,null,null,null,null,null,null,null,null,null,null,null,null,null,null,null,null,null,null,null,null,null,null,null,0,0,0,0,null,null,null,0,0,0,0,0,0,0,0,null,"",null,null,null,null,null,null,null,null,""]

{"sheet":"AQ PrePost","index":6,"n_rows":243,"n_cols":172,"rows_kept":243,"cut":false,"hidden":false,"merged":[[1,84,2,84],[1,118,2,118],[219,0,229,0],[231,0,241,0],[147,0,157,0],[159,0,169,0],[171,0,181,0],[183,0,193,0],[195,0,205,0],[207,0,217,0],[1,2,2,2],[111,0,121,0],[135,0,145,0],[51,0,61,0],[63,0,73,0],[75,0,85,0],[87,0,97,0],[123,0,133,0],[3,0,13,0],[15,0,25,0],[27,0,37,0],[39,0,49,0],[99,0,109,0]]}
[{"$f":"Instructions!$A$1","v":"3 Version  - 11/15/2019"},"Aggression Questionnaire Pre-Post ",null,"VER","HOS","ANG","VER","HOS","VER","ANG","PHY","HOS","PHY","PHY","ANG","IND","IND","IND","HOS","PHY","IND","ANG","VER","HOS","ANG","PHY","PHY","PHY","VER","PHY","HOS","ANG","IND","HOS","ANG","HOS","IND","VER","HOS","ANG","VER","HOS","VER","ANG","PHY","HOS","PHY","PHY","ANG","IND","IND","IND","HOS","PHY","IND","ANG","VER","HOS","ANG","PHY","PHY","PHY","VER","PHY","HOS","ANG","IND","HOS","ANG","HOS","IND",null,"AQ Calculations Pre-Test",null,null,null,null,null,null,null,null,null,null,"Invalid PRE Survey Rate",{"$f":"COUNTIF(CG4:CG243,\">4\")/COUNTIF(CF4:CF243,\">0\")","v":{"$error":"#DIV/0!"}},null,null,null,null,null,null,null,null,null,null,null,null,null,null,null,null,null,null,null,null,null,"AQ Calculations Post-Test",null,null,null,null,null,null,null,null,null,null,"Invalid POST Survey Rate",{"$f":"COUNTIF(DO4:DO243,\">4\")/COUNTIF(DN4:DN243,\">0\")","v":{"$error":"#DIV/0!"}},null,null,null,null,null,null,null,null,null,null,null,null,null,"Change Pre-Post",null,"GREEN","= Desired change",null,"RED","= Un-desired change",null,"BLACK","= No change",null,null,null,null,null,"Positive Change Counter - by Quarter number",null,null,null,null,null,null,null,null,null,"Total",null,null,"Negative Change Counter - by Quarter number",null,null,null,null,null,null,null,null,null,"Total"]
[null,null,"Completion Date","Pre","Pre","Pre","Pre","Pre","Pre","Pre","Pre","Pre","Pre","Pre","Pre","Pre","Pre","Pre","Pre","Pre","Pre","Pre","Pre","Pre","Pre","Pre","Pre","Pre","Pre","Pre","Pre","Pre","Pre","Pre","Pre","Pre","Pre","Post","Post","Post","Post","Post","Post","Post","Post","Post","Post","Post","Post","Post","Post","Post","Post","Post","Post","Post","Post","Post","Post","Post","Post","Post","Post","Post","Post","Post","Post","Post","Post","Post","Post",null,"PHY-Pre",null,"VER-Pre",null,"ANG-Pre",null,"HOS-Pre",null,"IND-Pre",null,"AQ",null,"INC Score","INC pair","INC pair","INC pair","INC pair","INC pair","INC pair","INC pair","INC pair","INC pair","INC pair","INC pair","INC pair",null,null,null,null,null,null,null,null,null,"PHY-Post",null,"VER-Post",null,"ANG-Post",null,"HOS-Post",null,"IND-Post",null,"AQ",null,"INC Score","INC pair","INC pair","INC pair","INC pair","INC pair","INC pair","INC pair","INC pair","INC pair","INC pair","INC pair","INC pair",null,"PHY-Post Change",null,"VER-Post Change",null,"ANG-Post Change",null,"HOS-Post Change",null,"IND-Post Change",null,"AQ Change",null,null,null,null,"PHY-Post Change",null,"VER-Post Change",null,"ANG-Post Change",null,"HOS-Post Change",null,"IND-Post Change",null,"AQ Change",null,null,"PHY-Post Change",null,"VER-Post Change",null,"ANG-Post Change",null,"HOS-Post Change",null,"IND-Post Change",null,"AQ Change"]
[null,"Participant Code",null,"Q 1","Q 2","Q 3","Q 4","Q 5","Q 6","Q 7","Q 8","Q 9","Q 10","Q 11","Q 12","Q 13","Q 14","Q 15","Q 16","Q 17","Q 18","Q 19","Q 20","Q 21","Q 22","Q 23","Q 24","Q 25","Q 26","Q 27","Q 28","Q 29","Q 30","Q 31","Q 32","Q 33","Q 34","Q 1","Q 2","Q 3","Q 4","Q 5","Q 6","Q 7","Q 8","Q 9","Q 10","Q 11","Q 12","Q 13","Q 14","Q 15","Q 16","Q 17","Q 18","Q 19","Q 20","Q 21","Q 22","Q 23","Q 24","Q 25","Q 26","Q 27","Q 28","Q 29","Q 30","Q 31","Q 32","Q 33","Q 34",null,"Raw","T","Raw","T","Raw","T","Raw","T","Raw","T","Raw","T",null,1,2,3,4,5,6,7,8,9,10,11,12,null,null,null,null,null,null,null,null,null,"Raw","T","Raw","T","Raw","T","Raw","T","Raw","T","Raw","T",null,1,2,3,4,5,6,7,8,9,10,11,12,null,"Mean","T","Mean","T","Mean","T","Mean","T","Mean","T","Mean","T",null,"Qtr","Completed","Mean","T","Mean","T","Mean","T","Mean","T","Mean","T","Mean","T",null,"Mean","T","Mean","T","Mean","T","Mean","T","Mean","T","Mean","T"]
["Program 1",{"$f":"Programs!B9","v":0},{"$f":"IF(Programs!$C$6=\"\",\"\",Programs!$C$6)","v":""},null,null,null,null,null,null,null,null,null,null,null,null,null,null,null,null,null,null,null,null,null,null,null,null,null,null,null,null,null,null,null,null,null,null,null,null,null,null,null,null,null,null,null,null,null,null,null,null,null,null,null,null,null,null,null,null,null,null,null,null,null,null,null,null,null,null,null,null,{"$f":"Programs!C9","v":0},{"$f":"SUM(K4,M4,N4,T4,Z4,AA4,AB4,AD4)","v":0},{"$f":"IF(OR($BT4=0,BU4=0),\"\",(IF($BT4=\"Male\",(VLOOKUP(BU4,PHYMT,3,FALSE)),(VLOOKUP(BU4,PHFMT,2,FALSE)))))","v":""},{"$f":"SUM(D4,G4,I4,W4,AC4)","v":0},{"$f":"IF(BW4=0,\"\",VLOOKUP(BW4,VER,5,FALSE))","v":""},{"$f":"SUM(F4,J4,O4,LOOKUP(V4,{0,1,2,3,4,5},{0,5,4,3,2,1}),Y4,AF4,AI4)","v":0},{"$f":"IF(BY4=0,\"\",VLOOKUP(BY4,ANG,4,FALSE))","v":""},{"$f":"SUM(E4,H4,L4,S4,X4,AE4,AH4,AJ4)","v":0},{"$f":"IF(CA4=0,\"\",IF(CA4>38,81,VLOOKUP(CA4,HOS,3,FALSE)))","v":""},{"$f":"SUM(P4,Q4,R4,U4,AG4,AK4)","v":0},{"$f":"IF(CC4=0,\"\",VLOOKUP(CC4,IND,2,FALSE))","v":""},{"$f":"SUM(BU4,BW4,BY4,CA4,CC4)","v":0},{"$f":"IF(CE4=0,\"\",VLOOKUP(CE4,AQT,2,FALSE))","v":""},{"$f":"SUM(CH4:CS4)","v":0},{"$f":"IF(ABS(D4-Y4)>1,1,0)","v":0},{"$f":"IF(ABS(E4-H4)>1,1,0)","v":0},{"$f":"IF(ABS(G4-I4)>1,1,0)","v":0},{"$f":"IF(ABS(J4-AJ4)>1,1,0)","v":0},{"$f":"IF(ABS(K4-N4)>1,1,0)","v":0},{"$f":"IF(ABS(L4-AF4)>1,1,0)","v":0},{"$f":"IF(ABS(M4-P4)>1,1,0)","v":0},{"$f":"IF(ABS(O4-AI4)>1,1,0)","v":0},{"$f":"IF(ABS(Q4-T4)>1,1,0)","v":0},{"$f":"IF(ABS(X4-AH4)>1,1,0)","v":0},{"$f":"IF(ABS(Z4-AA4)>1,1,0)","v":0},{"$f":"IF(ABS(AB4-AD4)>1,1,0)","v":0},null,null,null,null,null,null,null,null,null,{"$f":"SUM(AS4,AU4,AV4,BB4,BH4,BI4,BJ4,BL4)","v":0},{"$f":"IF(OR($BT4=0,DC4=0),\"\",(IF($BT4=\"Male\",(VLOOKUP(DC4,PHYMT,3,FALSE)),(VLOOKUP(DC4,PHFMT,2,FALSE)))))","v":""},{"$f":"SUM(AL4,AO4,AQ4,BE4,BK4)","v":0},{"$f":"IF(DE4=0,\"\",VLOOKUP(DE4,VER,5,FALSE))","v":""},{"$f":"SUM(AN4,AR4,AW4,LOOKUP(BD4,{0,1,2,3,4,5},{0,5,4,3,2,1}),BG4,BN4,BQ4)","v":0},{"$f":"IF(DG4=0,\"\",VLOOKUP(DG4,ANG,4,FALSE))","v":""},{"$f":"SUM(AM4,AP4,AT4,BA4,BF4,BM4,BP4,BR4)","v":0},{"$f":"IF(DI4=0,\"\",VLOOKUP(DI4,HOS,3,FALSE))","v":""},{"$f":"SUM(AX4,AY4,AZ4,BC4,BO4,BS4)","v":0},{"$f":"IF(DK4=0,\"\",VLOOKUP(DK4,IND,2,FALSE))","v":""},{"$f":"SUM(DC4,DE4,DG4,DI4,DK4)","v":0},{"$f":"IF(DM4=0,\"\",IF(DM4<39,24,VLOOKUP(DM4,AQT,2,FALSE)))","v":""},{"$f":"SUM(DP4:EA4)","v":0},{"$f":"IF(ABS(AL4-BG4)>1,1,0)","v":0},{"$f":"IF(ABS(AM4-AP4)>1,1,0)","v":0},{"$f":"IF(ABS(AO4-AQ4)>1,1,0)","v":0},{"$f":"IF(ABS(AR4-BR4)>1,1,0)","v":0},{"$f":"IF(ABS(AS4-AV4)>1,1,0)","v":0},{"$f":"IF(ABS(AT4-BN4)>1,1,0)","v":0},{"$f":"IF(ABS(AU4-AX4)>1,1,0)","v":0},{"$f":"IF(ABS(AW4-BQ4)>1,1,0)","v":0},{"$f":"IF(ABS(AY4-BB4)>1,1,0)","v":0},{"$f":"IF(ABS(BF4-BP4)>1,1,0)","v":0},{"$f":"IF(ABS(BH4-BI4)>1,1,0)","v":0},{"$f":"IF(ABS(BJ4-BL4)>1,1,0)","v":0},null,{"$f":"IF(EQ4<>\"\",(DC4/8)-(BU4/8),\"\")","v":""},{"$f":"IF(EQ4<>\"\",IF(BT4=0,\"\",DD4-BV4),\"\")","v":""},{"$f":"IF(EQ4<>\"\",(DE4/5)-(BW4/5),\"\")","v":""},{"$f":"IF(EQ4<>\"\",DF4-BX4,\"\")","v":""},{"$f":"IF(EQ4<>\"\",(DG4/7)-(BY4/7),\"\")","v":""},{"$f":"IF(EQ4<>\"\",DH4-BZ4,\"\")","v":""},{"$f":"IF(EQ4<>\"\",(DI4/8)-(CA4/8),\"\")","v":""},{"$f":"IF(EQ4<>\"\",DJ4-CB4,\"\")","v":""},{"$f":"IF(EQ4<>\"\",(DK4/6)-(CC4/6),\"\")","v":""},{"$f":"IF(EQ4<>\"\",DL4-CD4,\"\")","v":""},{"$f":"IF(EQ4<>\"\",(DM4/34)-(CE4/34),\"\")","v":""},{"$f":"IF(EQ4<>\"\",DN4-CF4,\"\")","v":""},null,{"$f":"IF(Programs!$D$6=\"\",\"\",Programs!$D$6)","v":""},{"$f":"IF(AND(COUNT(D4:AK4)>30,COUNT(AL4:BS4)>30),EP4,\"\")","v":""},{"$f":"IF($EQ4=\"\",\"\",IF(EC4<0,$EQ4,\"\"))","v":""},{"$f":"IF(ED4<0,$EQ4,\"\")","v":""},{"$f":"IF($EQ4=\"\",\"\",IF(EE4<0,$EQ4,\"\"))","v":""},{"$f":"IF(EF4<0,$EQ4,\"\")","v":""},{"$f":"IF($EQ4=\"\",\"\",IF(EG4<0,$EQ4,\"\"))","v":""},{"$f":"IF(EH4<0,$EQ4,\"\")","v":""},{"$f":"IF($EQ4=\"\",\"\",IF(EI4<0,$EQ4,\"\"))","v":""},{"$f":"IF(EJ4<0,$EQ4,\"\")","v":""},{"$f":"IF($EQ4=\"\",\"\",IF(EK4<0,$EQ4,\"\"))","v":""},{"$f":"IF(EL4<0,$EQ4,\"\")","v":""},{"$f":"IF($EQ4=\"\",\"\",IF(EM4<0,$EQ4,\"\"))","v":""},{"$f":"IF(EN4<0,$EQ4,\"\")","v":""},null,{"$f":"IF($EQ4=\"\",\"\",IF(EC4>0,$EQ4,\"\"))","v":""},{"$f":"IF(ED4>0,$EQ4,\"\")","v":""},{"$f":"IF($EQ4=\"\",\"\",IF(EE4>0,$EQ4,\"\"))","v":""},{"$f":"IF(EF4>0,$EQ4,\"\")","v":""},{"$f":"IF($EQ4=\"\",\"\",IF(EG4>0,$EQ4,\"\"))","v":""},{"$f":"IF(EH4>0,$EQ4,\"\")","v":""},{"$f":"IF($EQ4=\"\",\"\",IF(EI4>0,$EQ4,\"\"))","v":""},{"$f":"IF(EJ4>0,$EQ4,\"\")","v":""},{"$f":"IF($EQ4=\"\",\"\",IF(EK4>0,$EQ4,\"\"))","v":""},{"$f":"IF(EL4>0,$EQ4,\"\")","v":""},{"$f":"IF($EQ4=\"\",\"\",IF(EM4>0,$EQ4,\"\"))","v":""},{"$f":"IF(EN4>0,$EQ4,\"\")","v":""}]
[null,{"$f":"Programs!B10","v":0},{"$f":"IF(Programs!$C$6=\"\",\"\",Programs!$C$6)","v":""},null,null,null,null,null,null,null,null,null,null,null,null,null,null,null,null,null,null,null,null,null,null,null,null,null,null,null,null,null,null,null,null,null,null,null,null,null,null,null,null,null,null,null,null,null,null,null,null,null,null,null,null,null,null,null,null,null,null,null,null,null,null,null,null,null,null,null,null,{"$f":"Programs!C10","v":0},{"$f":"SUM(K5,M5,N5,T5,Z5,AA5,AB5,AD5)","v":0},"",{"$f":"SUM(D5,G5,I5,W5,AC5)","v":0},"",{"$f":"SUM(F5,J5,O5,LOOKUP(V5,{0,1,2,3,4,5},{0,5,4,3,2,1}),Y5,AF5,AI5)","v":0},"",{"$f":"SUM(E5,H5,L5,S5,X5,AE5,AH5,AJ5)","v":0},"",{"$f":"SUM(P5,Q5,R5,U5,AG5,AK5)","v":0},"",{"$f":"SUM(BU5,BW5,BY5,CA5,CC5)","v":0},"",0,{"$f":"IF(ABS(D5-Y5)>1,1,0)","v":0},{"$f":"IF(ABS(E5-H5)>1,1,0)","v":0},{"$f":"IF(ABS(G5-I5)>1,1,0)","v":0},{"$f":"IF(ABS(J5-AJ5)>1,1,0)","v":0},{"$f":"IF(ABS(K5-N5)>1,1,0)","v":0},{"$f":"IF(ABS(L5-AF5)>1,1,0)","v":0},{"$f":"IF(ABS(M5-P5)>1,1,0)","v":0},{"$f":"IF(ABS(O5-AI5)>1,1,0)","v":0},{"$f":"IF(ABS(Q5-T5)>1,1,0)","v":0},{"$f":"IF(ABS(X5-AH5)>1,1,0)","v":0},{"$f":"IF(ABS(Z5-AA5)>1,1,0)","v":0},{"$f":"IF(ABS(AB5-AD5)>1,1,0)","v":0},null,null,null,null,null,null,null,null,null,{"$f":"SUM(AS5,AU5,AV5,BB5,BH5,BI5,BJ5,BL5)","v":0},"",{"$f":"SUM(AL5,AO5,AQ5,BE5,BK5)","v":0},"",{"$f":"SUM(AN5,AR5,AW5,LOOKUP(BD5,{0,1,2,3,4,5},{0,5,4,3,2,1}),BG5,BN5,BQ5)","v":0},"",{"$f":"SUM(AM5,AP5,AT5,BA5,BF5,BM5,BP5,BR5)","v":0},"",{"$f":"SUM(AX5,AY5,AZ5,BC5,BO5,BS5)","v":0},"",{"$f":"SUM(DC5,DE5,DG5,DI5,DK5)","v":0},"",{"$f":"SUM(DP5:EA5)","v":0},{"$f":"IF(ABS(AL5-BG5)>1,1,0)","v":0},{"$f":"IF(ABS(AM5-AP5)>1,1,0)","v":0},{"$f":"IF(ABS(AO5-AQ5)>1,1,0)","v":0},{"$f":"IF(ABS(AR5-BR5)>1,1,0)","v":0},{"$f":"IF(ABS(AS5-AV5)>1,1,0)","v":0},{"$f":"IF(ABS(AT5-BN5)>1,1,0)","v":0},{"$f":"IF(ABS(AU5-AX5)>1,1,0)","v":0},{"$f":"IF(ABS(AW5-BQ5)>1,1,0)","v":0},{"$f":"IF(ABS(AY5-BB5)>1,1,0)","v":0},{"$f":"IF(ABS(BF5-BP5)>1,1,0)","v":0},{"$f":"IF(ABS(BH5-BI5)>1,1,0)","v":0},{"$f":"IF(ABS(BJ5-BL5)>1,1,0)","v":0},null,{"$f":"IF(EQ5<>\"\",(DC5/8)-(BU5/8),\"\")","v":""},{"$f":"IF(EQ5<>\"\",IF(BT5=0,\"\",DD5-BV5),\"\")","v":""},{"$f":"IF(EQ5<>\"\",(DE5/5)-(BW5/5),\"\")","v":""},{"$f":"IF(EQ5<>\"\",DF5-BX5,\"\")","v":""},{"$f":"IF(EQ5<>\"\",(DG5/7)-(BY5/7),\"\")","v":""},{"$f":"IF(EQ5<>\"\",DH5-BZ5,\"\")","v":""},{"$f":"IF(EQ5<>\"\",(DI5/8)-(CA5/8),\"\")","v":""},{"$f":"IF(EQ5<>\"\",DJ5-CB5,\"\")","v":""},{"$f":"IF(EQ5<>\"\",(DK5/6)-(CC5/6),\"\")","v":""},{"$f":"IF(EQ5<>\"\",DL5-CD5,\"\")","v":""},{"$f":"IF(EQ5<>\"\",(DM5/34)-(CE5/34),\"\")","v":""},{"$f":"IF(EQ5<>\"\",DN5-CF5,\"\")","v":""},null,{"$f":"IF(Programs!$D$6=\"\",\"\",Programs!$D$6)","v":""},{"$f":"IF(AND(COUNT(D5:AK5)>30,COUNT(AL5:BS5)>30),EP5,\"\")","v":""},{"$f":"IF($EQ5=\"\",\"\",IF(EC5<0,$EQ5,\"\"))","v":""},{"$f":"IF(ED5<0,$EQ5,\"\")","v":""},{"$f":"IF($EQ5=\"\",\"\",IF(EE5<0,$EQ5,\"\"))","v":""},{"$f":"IF(EF5<0,$EQ5,\"\")","v":""},{"$f":"IF($EQ5=\"\",\"\",IF(EG5<0,$EQ5,\"\"))","v":""},{"$f":"IF(EH5<0,$EQ5,\"\")","v":""},{"$f":"IF($EQ5=\"\",\"\",IF(EI5<0,$EQ5,\"\"))","v":""},{"$f":"IF(EJ5<0,$EQ5,\"\")","v":""},{"$f":"IF($EQ5=\"\",\"\",IF(EK5<0,$EQ5,\"\"))","v":""},{"$f":"IF(EL5<0,$EQ5,\"\")","v":""},{"$f":"IF($EQ5=\"\",\"\",IF(EM5<0,$EQ5,\"\"))","v":""},{"$f":"IF(EN5<0,$EQ5,\"\")","v":""},null,{"$f":"IF($EQ5=\"\",\"\",IF(EC5>0,$EQ5,\"\"))","v":""},{"$f":"IF(ED5>0,$EQ5,\"\")","v":""},{"$f":"IF($EQ5=\"\",\"\",IF(EE5>0,$EQ5,\"\"))","v":""},{"$f":"IF(EF5>0,$EQ5,\"\")","v":""},{"$f":"IF($EQ5=\"\",\"\",IF(EG5>0,$EQ5,\"\"))","v":""},{"$f":"IF(EH5>0,$EQ5,\"\")","v":""},{"$f":"IF($EQ5=\"\",\"\",IF(EI5>0,$EQ5,\"\"))","v":""},{"$f":"IF(EJ5>0,$EQ5,\"\")","v":""},{"$f":"IF($EQ5=\"\",\"\",IF(EK5>0,$EQ5,\"\"))","v":""},{"$f":"IF(EL5>0,$EQ5,\"\")","v":""},{"$f":"IF($EQ5=\"\",\"\",IF(EM5>0,$EQ5,\"\"))","v":""},{"$f":"IF(EN5>0,$EQ5,\"\")","v":""}]
[null,{"$f":"Programs!B11","v":0},{"$f":"IF(Programs!$C$6=\"\",\"\",Programs!$C$6)","v":""},null,null,null,null,null,null,null,null,null,null,null,null,null,null,null,null,null,null,null,null,null,null,null,null,null,null,null,null,null,null,null,null,null,null,null,null,null,null,null,null,null,null,null,null,null,null,null,null,null,null,null,null,null,null,null,null,null,null,null,null,null,null,null,null,null,null,null,null,{"$f":"Programs!C11","v":0},0,"",0,"",{"$f":"SUM(F6,J6,O6,LOOKUP(V6,{0,1,2,3,4,5},{0,5,4,3,2,1}),Y6,AF6,AI6)","v":0},"",0,"",0,"",0,"",0,0,0,0,0,0,0,0,0,0,0,0,0,null,null,null,null,null,null,null,null,null,0,"",0,"",{"$f":"SUM(AN6,AR6,AW6,LOOKUP(BD6,{0,1,2,3,4,5},{0,5,4,3,2,1}),BG6,BN6,BQ6)","v":0},"",0,"",0,"",0,"",0,0,0,0,0,0,0,0,0,0,0,0,0,null,"","","","","","","","","","","","",null,{"$f":"IF(Programs!$D$6=\"\",\"\",Programs!$D$6)","v":""},"","","","","","","","","","","","","",null,"","","","","","","","","","","",""]
[null,{"$f":"Programs!B12","v":0},{"$f":"IF(Programs!$C$6=\"\",\"\",Programs!$C$6)","v":""},null,null,null,null,null,null,null,null,null,null,null,null,null,null,null,null,null,null,null,null,null,null,null,null,null,null,null,null,null,null,null,null,null,null,null,null,null,null,null,null,null,null,null,null,null,null,null,null,null,null,null,null,null,null,null,null,null,null,null,null,null,null,null,null,null,null,null,null,{"$f":"Programs!C12","v":0},0,"",0,"",{"$f":"SUM(F7,J7,O7,LOOKUP(V7,{0,1,2,3,4,5},{0,5,4,3,2,1}),Y7,AF7,AI7)","v":0},"",0,"",0,"",0,"",0,0,0,0,0,0,0,0,0,0,0,0,0,null,null,null,null,null,null,null,null,null,0,"",0,"",{"$f":"SUM(AN7,AR7,AW7,LOOKUP(BD7,{0,1,2,3,4,5},{0,5,4,3,2,1}),BG7,BN7,BQ7)","v":0},"",0,"",0,"",0,"",0,0,0,0,0,0,0,0,0,0,0,0,0,null,"","","","","","","","","","","","",null,{"$f":"IF(Programs!$D$6=\"\",\"\",Programs!$D$6)","v":""},"","","","","","","","","","","","","",null,"","","","","","","","","","","",""]
[null,{"$f":"Programs!B13","v":0},{"$f":"IF(Programs!$C$6=\"\",\"\",Programs!$C$6)","v":""},null,null,null,null,null,null,null,null,null,null,null,null,null,null,null,null,null,null,null,null,null,null,null,null,null,null,null,null,null,null,null,null,null,null,null,null,null,null,null,null,null,null,null,null,null,null,null,null,null,null,null,null,null,null,null,null,null,null,null,null,null,null,null,null,null,null,null,null,{"$f":"Programs!C13","v":0},0,"",0,"",{"$f":"SUM(F8,J8,O8,LOOKUP(V8,{0,1,2,3,4,5},{0,5,4,3,2,1}),Y8,AF8,AI8)","v":0},"",0,"",0,"",0,"",0,0,0,0,0,0,0,0,0,0,0,0,0,null,null,null,null,null,null,null,null,null,0,"",0,"",{"$f":"SUM(AN8,AR8,AW8,LOOKUP(BD8,{0,1,2,3,4,5},{0,5,4,3,2,1}),BG8,BN8,BQ8)","v":0},"",0,"",0,"",0,"",0,0,0,0,0,0,0,0,0,0,0,0,0,null,"","","","","","","","","","","","",null,{"$f":"IF(Programs!$D$6=\"\",\"\",Programs!$D$6)","v":""},"","","","","","","","","","","","","",null,"","","","","","","","","","","",""]
[null,{"$f":"Programs!B14","v":0},{"$f":"IF(Programs!$C$6=\"\",\"\",Programs!$C$6)","v":""},null,null,null,null,null,null,null,null,null,null,null,null,null,null,null,null,null,null,null,null,null,null,null,null,null,null,null,null,null,null,null,null,null,null,null,null,null,null,null,null,null,null,null,null,null,null,null,null,null,null,null,null,null,null,null,null,null,null,null,null,null,null,null,null,null,null,null,null,{"$f":"Programs!C14","v":0},0,"",0,"",{"$f":"SUM(F9,J9,O9,LOOKUP(V9,{0,1,2,3,4,5},{0,5,4,3,2,1}),Y9,AF9,AI9)","v":0},"",0,"",0,"",0,"",0,0,0,0,0,0,0,0,0,0,0,0,0,null,null,null,null,null,null,null,null,null,0,"",0,"",{"$f":"SUM(AN9,AR9,AW9,LOOKUP(BD9,{0,1,2,3,4,5},{0,5,4,3,2,1}),BG9,BN9,BQ9)","v":0},"",0,"",0,"",0,"",0,0,0,0,0,0,0,0,0,0,0,0,0,null,"","","","","","","","","","","","",null,{"$f":"IF(Programs!$D$6=\"\",\"\",Programs!$D$6)","v":""},"","","","","","","","","","","","","",null,"","","","","","","","","","","",""]
[null,{"$f":"Programs!B15","v":0},{"$f":"IF(Programs!$C$6=\"\",\"\",Programs!$C$6)","v":""},null,null,null,null,null,null,null,null,null,null,null,null,null,null,null,null,null,null,null,null,null,null,null,null,null,null,null,null,null,null,null,null,null,null,null,null,null,null,null,null,null,null,null,null,null,null,null,null,null,null,null,null,null,null,null,null,null,null,null,null,null,null,null,null,null,null,null,null,{"$f":"Programs!C15","v":0},0,"",0,"",{"$f":"SUM(F10,J10,O10,LOOKUP(V10,{0,1,2,3,4,5},{0,5,4,3,2,1}),Y10,AF10,AI10)","v":0},"",0,"",0,"",0,"",0,0,0,0,0,0,0,0,0,0,0,0,0,null,null,null,null,null,null,null,null,null,0,"",0,"",{"$f":"SUM(AN10,AR10,AW10,LOOKUP(BD10,{0,1,2,3,4,5},{0,5,4,3,2,1}),BG10,BN10,BQ10)","v":0},"",0,"",0,"",0,"",0,0,0,0,0,0,0,0,0,0,0,0,0,null,"","","","","","","","","","","","",null,{"$f":"IF(Programs!$D$6=\"\",\"\",Programs!$D$6)","v":""},"","","","","","","","","","","","","",null,"","","","","","","","","","","",""]
[null,{"$f":"Programs!B16","v":0},{"$f":"IF(Programs!$C$6=\"\",\"\",Programs!$C$6)","v":""},null,null,null,null,null,null,null,null,null,null,null,null,null,null,null,null,null,null,null,null,null,null,null,null,null,null,null,null,null,null,null,null,null,null,null,null,null,null,null,null,null,null,null,null,null,null,null,null,null,null,null,null,null,null,null,null,null,null,null,null,null,null,null,null,null,null,null,null,{"$f":"Programs!C16","v":0},0,"",0,"",{"$f":"SUM(F11,J11,O11,LOOKUP(V11,{0,1,2,3,4,5},{0,5,4,3,2,1}),Y11,AF11,AI11)","v":0},"",0,"",0,"",0,"",0,0,0,0,0,0,0,0,0,0,0,0,0,null,null,null,null,null,null,null,null,null,0,"",0,"",{"$f":"SUM(AN11,AR11,AW11,LOOKUP(BD11,{0,1,2,3,4,5},{0,5,4,3,2,1}),BG11,BN11,BQ11)","v":0},"",0,"",0,"",0,"",0,0,0,0,0,0,0,0,0,0,0,0,0,null,"","","","","","","","","","","","",null,{"$f":"IF(Programs!$D$6=\"\",\"\",Programs!$D$6)","v":""},"","","","","","","","","","","","","",null,"","","","","","","","","","","",""]
[null,{"$f":"Programs!B17","v":0},{"$f":"IF(Programs!$C$6=\"\",\"\",Programs!$C$6)","v":""},null,null,null,null,null,null,null,null,null,null,null,null,null,null,null,null,null,null,null,null,null,null,null,null,null,null,null,null,null,null,null,null,null,null,null,null,null,null,null,null,null,null,null,null,null,null,null,null,null,null,null,null,null,null,null,null,null,null,null,null,null,null,null,null,null,null,null,null,{"$f":"Programs!C17","v":0},{"$f":"SUM(K12,M12,N12,T12,Z12,AA12,AB12,AD12)","v":0},{"$f":"IF(OR($BT12=0,BU12=0),\"\",(IF($BT12=\"Male\",(VLOOKUP(BU12,PHYMT,3,FALSE)),(VLOOKUP(BU12,PHFMT,2,FALSE)))))","v":""},{"$f":"SUM(D12,G12,I12,W12,AC12)","v":0},{"$f":"IF(BW12=0,\"\",VLOOKUP(BW12,VER,5,FALSE))","v":""},{"$f":"SUM(F12,J12,O12,LOOKUP(V12,{0,1,2,3,4,5},{0,5,4,3,2,1}),Y12,AF12,AI12)","v":0},{"$f":"IF(BY12=0,\"\",VLOOKUP(BY12,ANG,4,FALSE))","v":""},{"$f":"SUM(E12,H12,L12,S12,X12,AE12,AH12,AJ12)","v":0},{"$f":"IF(CA12=0,\"\",IF(CA12>38,81,VLOOKUP(CA12,HOS,3,FALSE)))","v":""},{"$f":"SUM(P12,Q12,R12,U12,AG12,AK12)","v":0},{"$f":"IF(CC12=0,\"\",VLOOKUP(CC12,IND,2,FALSE))","v":""},{"$f":"SUM(BU12,BW12,BY12,CA12,CC12)","v":0},{"$f":"IF(CE12=0,\"\",VLOOKUP(CE12,AQT,2,FALSE))","v":""},{"$f":"SUM(CH12:CS12)","v":0},{"$f":"IF(ABS(D12-Y12)>1,1,0)","v":0},{"$f":"IF(ABS(E12-H12)>1,1,0)","v":0},{"$f":"IF(ABS(G12-I12)>1,1,0)","v":0},{"$f":"IF(ABS(J12-AJ12)>1,1,0)","v":0},{"$f":"IF(ABS(K12-N12)>1,1,0)","v":0},{"$f":"IF(ABS(L12-AF12)>1,1,0)","v":0},{"$f":"IF(ABS(M12-P12)>1,1,0)","v":0},{"$f":"IF(ABS(O12-AI12)>1,1,0)","v":0},{"$f":"IF(ABS(Q12-T12)>1,1,0)","v":0},{"$f":"IF(ABS(X12-AH12)>1,1,0)","v":0},{"$f":"IF(ABS(Z12-AA12)>1,1,0)","v":0},{"$f":"IF(ABS(AB12-AD12)>1,1,0)","v":0},null,null,null,null,null,null,null,null,null,{"$f":"SUM(AS12,AU12,AV12,BB12,BH12,BI12,BJ12,BL12)","v":0},{"$f":"IF(OR($BT12=0,DC12=0),\"\",(IF($BT12=\"Male\",(VLOOKUP(DC12,PHYMT,3,FALSE)),(VLOOKUP(DC12,PHFMT,2,FALSE)))))","v":""},{"$f":"SUM(AL12,AO12,AQ12,BE12,BK12)","v":0},{"$f":"IF(DE12=0,\"\",VLOOKUP(DE12,VER,5,FALSE))","v":""},{"$f":"SUM(AN12,AR12,AW12,LOOKUP(BD12,{0,1,2,3,4,5},{0,5,4,3,2,1}),BG12,BN12,BQ12)","v":0},{"$f":"IF(DG12=0,\"\",VLOOKUP(DG12,ANG,4,FALSE))","v":""},{"$f":"SUM(AM12,AP12,AT12,BA12,BF12,BM12,BP12,BR12)","v":0},{"$f":"IF(DI12=0,\"\",VLOOKUP(DI12,HOS,3,FALSE))","v":""},{"$f":"SUM(AX12,AY12,AZ12,BC12,BO12,BS12)","v":0},{"$f":"IF(DK12=0,\"\",VLOOKUP(DK12,IND,2,FALSE))","v":""},{"$f":"SUM(DC12,DE12,DG12,DI12,DK12)","v":0},{"$f":"IF(DM12=0,\"\",IF(DM12<39,24,VLOOKUP(DM12,AQT,2,FALSE)))","v":""},{"$f":"SUM(DP12:EA12)","v":0},{"$f":"IF(ABS(AL12-BG12)>1,1,0)","v":0},{"$f":"IF(ABS(AM12-AP12)>1,1,0)","v":0},{"$f":"IF(ABS(AO12-AQ12)>1,1,0)","v":0},{"$f":"IF(ABS(AR12-BR12)>1,1,0)","v":0},{"$f":"IF(ABS(AS12-AV12)>1,1,0)","v":0},{"$f":"IF(ABS(AT12-BN12)>1,1,0)","v":0},{"$f":"IF(ABS(AU12-AX12)>1,1,0)","v":0},{"$f":"IF(ABS(AW12-BQ12)>1,1,0)","v":0},{"$f":"IF(ABS(AY12-BB12)>1,1,0)","v":0},{"$f":"IF(ABS(BF12-BP12)>1,1,0)","v":0},{"$f":"IF(ABS(BH12-BI12)>1,1,0)","v":0},{"$f":"IF(ABS(BJ12-BL12)>1,1,0)","v":0},null,{"$f":"IF(EQ12<>\"\",(DC12/8)-(BU12/8),\"\")","v":""},{"$f":"IF(EQ12<>\"\",IF(BT12=0,\"\",DD12-BV12),\"\")","v":""},{"$f":"IF(EQ12<>\"\",(DE12/5)-(BW12/5),\"\")","v":""},{"$f":"IF(EQ12<>\"\",DF12-BX12,\"\")","v":""},{"$f":"IF(EQ12<>\"\",(DG12/7)-(BY12/7),\"\")","v":""},{"$f":"IF(EQ12<>\"\",DH12-BZ12,\"\")","v":""},{"$f":"IF(EQ12<>\"\",(DI12/8)-(CA12/8),\"\")","v":""},{"$f":"IF(EQ12<>\"\",DJ12-CB12,\"\")","v":""},{"$f":"IF(EQ12<>\"\",(DK12/6)-(CC12/6),\"\")","v":""},{"$f":"IF(EQ12<>\"\",DL12-CD12,\"\")","v":""},{"$f":"IF(EQ12<>\"\",(DM12/34)-(CE12/34),\"\")","v":""},{"$f":"IF(EQ12<>\"\",DN12-CF12,\"\")","v":""},null,{"$f":"IF(Programs!$D$6=\"\",\"\",Programs!$D$6)","v":""},{"$f":"IF(AND(COUNT(D12:AK12)>30,COUNT(AL12:BS12)>30),EP12,\"\")","v":""},"","","","","","","","","","","","",null,"","","","","","","","","","","",""]
[null,{"$f":"Programs!B18","v":0},{"$f":"IF(Programs!$C$6=\"\",\"\",Programs!$C$6)","v":""},null,null,null,null,null,null,null,null,null,null,null,null,null,null,null,null,null,null,null,null,null,null,null,null,null,null,null,null,null,null,null,null,null,null,null,null,null,null,null,null,null,null,null,null,null,null,null,null,null,null,null,null,null,null,null,null,null,null,null,null,null,null,null,null,null,null,null,null,{"$f":"Programs!C18","v":0},0,"",0,"",{"$f":"SUM(F13,J13,O13,LOOKUP(V13,{0,1,2,3,4,5},{0,5,4,3,2,1}),Y13,AF13,AI13)","v":0},"",0,"",0,"",0,"",0,0,0,0,0,0,0,0,0,0,0,0,0,null,null,null,null,null,null,null,null,null,0,"",0,"",{"$f":"SUM(AN13,AR13,AW13,LOOKUP(BD13,{0,1,2,3,4,5},{0,5,4,3,2,1}),BG13,BN13,BQ13)","v":0},"",0,"",0,"",0,"",0,0,0,0,0,0,0,0,0,0,0,0,0,null,"","","","","","","","","","","","",null,{"$f":"IF(Programs!$D$6=\"\",\"\",Programs!$D$6)","v":""},"","","","","","","","","","","","","",null,"","","","","","","","","","","",""]
[null,{"$f":"Programs!B19","v":0},{"$f":"IF(Programs!$C$6=\"\",\"\",Programs!$C$6)","v":""},null,null,null,null,null,null,null,null,null,null,null,null,null,null,null,null,null,null,null,null,null,null,null,null,null,null,null,null,null,null,null,null,null,null,null,null,null,null,null,null,null,null,null,null,null,null,null,null,null,null,null,null,null,null,null,null,null,null,null,null,null,null,null,null,null,null,null,null,{"$f":"Programs!C19","v":0},0,"",0,"",{"$f":"SUM(F14,J14,O14,LOOKUP(V14,{0,1,2,3,4,5},{0,5,4,3,2,1}),Y14,AF14,AI14)","v":0},"",0,"",0,"",0,"",0,0,0,0,0,0,0,0,0,0,0,0,0,null,null,null,null,null,null,null,null,null,0,"",0,"",{"$f":"SUM(AN14,AR14,AW14,LOOKUP(BD14,{0,1,2,3,4,5},{0,5,4,3,2,1}),BG14,BN14,BQ14)","v":0},"",0,"",0,"",0,"",0,0,0,0,0,0,0,0,0,0,0,0,0,null,"","","","","","","","","","","","",null,{"$f":"IF(Programs!$D$6=\"\",\"\",Programs!$D$6)","v":""},"","","","","","","","","","","","","",null,"","","","","","","","","","","",""]
[null,{"$f":"Programs!B20","v":0},{"$f":"IF(Programs!$C$6=\"\",\"\",Programs!$C$6)","v":""},null,null,null,null,null,null,null,null,null,null,null,null,null,null,null,null,null,null,null,null,null,null,null,null,null,null,null,null,null,null,null,null,null,null,null,null,null,null,null,null,null,null,null,null,null,null,null,null,null,null,null,null,null,null,null,null,null,null,null,null,null,null,null,null,null,null,null,null,{"$f":"Programs!C20","v":0},0,"",0,"",{"$f":"SUM(F15,J15,O15,LOOKUP(V15,{0,1,2,3,4,5},{0,5,4,3,2,1}),Y15,AF15,AI15)","v":0},"",0,"",0,"",0,"",0,0,0,0,0,0,0,0,0,0,0,0,0,null,null,null,null,null,null,null,null,null,0,"",0,"",{"$f":"SUM(AN15,AR15,AW15,LOOKUP(BD15,{0,1,2,3,4,5},{0,5,4,3,2,1}),BG15,BN15,BQ15)","v":0},"",0,"",0,"",0,"",0,0,0,0,0,0,0,0,0,0,0,0,0,null,"","","","","","","","","","","","",null,{"$f":"IF(Programs!$D$6=\"\",\"\",Programs!$D$6)","v":""},"","","","","","","","","","","","","",null,"","","","","","","","","","","",""]
["Program 2",{"$f":"Programs!B28","v":0},{"$f":"IF(Programs!$C$25=\"\",\"\",Programs!$C$25)","v":""},null,null,null,null,null,null,null,null,null,null,null,null,null,null,null,null,null,null,null,null,null,null,null,null,null,null,null,null,null,null,null,null,null,null,null,null,null,null,null,null,null,null,null,null,null,null,null,null,null,null,null,null,null,null,null,null,null,null,null,null,null,null,null,null,null,null,null,null,{"$f":"Programs!C28","v":0},0,"",0,"",{"$f":"SUM(F16,J16,O16,LOOKUP(V16,{0,1,2,3,4,5},{0,5,4,3,2,1}),Y16,AF16,AI16)","v":0},"",0,"",0,"",0,"",0,0,0,0,0,0,0,0,0,0,0,0,0,null,null,null,null,null,null,null,null,null,0,"",0,"",{"$f":"SUM(AN16,AR16,AW16,LOOKUP(BD16,{0,1,2,3,4,5},{0,5,4,3,2,1}),BG16,BN16,BQ16)","v":0},"",0,"",0,"",0,"",0,0,0,0,0,0,0,0,0,0,0,0,0,null,"","","","","","","","","","","","",null,{"$f":"IF(Programs!$D$25=\"\",\"\",Programs!$D$25)","v":""},"","","","","","","","","","","","","",null,"","","","","","","","","","","",""]
[null,{"$f":"Programs!B29","v":0},{"$f":"IF(Programs!$C$25=\"\",\"\",Programs!$C$25)","v":""},null,null,null,null,null,null,null,null,null,null,null,null,null,null,null,null,null,null,null,null,null,null,null,null,null,null,null,null,null,null,null,null,null,null,null,null,null,null,null,null,null,null,null,null,null,null,null,null,null,null,null,null,null,null,null,null,null,null,null,null,null,null,null,null,null,null,null,null,{"$f":"Programs!C29","v":0},0,"",0,"",{"$f":"SUM(F17,J17,O17,LOOKUP(V17,{0,1,2,3,4,5},{0,5,4,3,2,1}),Y17,AF17,AI17)","v":0},"",0,"",0,"",0,"",0,0,0,0,0,0,0,0,0,0,0,0,0,null,null,null,null,null,null,null,null,null,0,"",0,"",{"$f":"SUM(AN17,AR17,AW17,LOOKUP(BD17,{0,1,2,3,4,5},{0,5,4,3,2,1}),BG17,BN17,BQ17)","v":0},"",0,"",0,"",0,"",0,0,0,0,0,0,0,0,0,0,0,0,0,null,"","","","","","","","","","","","",null,{"$f":"IF(Programs!$D$25=\"\",\"\",Programs!$D$25)","v":""},"","","","","","","","","","","","","",null,"","","","","","","","","","","",""]
[null,{"$f":"Programs!B30","v":0},{"$f":"IF(Programs!$C$25=\"\",\"\",Programs!$C$25)","v":""},null,null,null,null,null,null,null,null,null,null,null,null,null,null,null,null,null,null,null,null,null,null,null,null,null,null,null,null,null,null,null,null,null,null,null,null,null,null,null,null,null,null,null,null,null,null,null,null,null,null,null,null,null,null,null,null,null,null,null,null,null,null,null,null,null,null,null,null,{"$f":"Programs!C30","v":0},0,"",0,"",{"$f":"SUM(F18,J18,O18,LOOKUP(V18,{0,1,2,3,4,5},{0,5,4,3,2,1}),Y18,AF18,AI18)","v":0},"",0,"",0,"",0,"",0,0,0,0,0,0,0,0,0,0,0,0,0,null,null,null,null,null,null,null,null,null,0,"",0,"",{"$f":"SUM(AN18,AR18,AW18,LOOKUP(BD18,{0,1,2,3,4,5},{0,5,4,3,2,1}),BG18,BN18,BQ18)","v":0},"",0,"",0,"",0,"",0,0,0,0,0,0,0,0,0,0,0,0,0,null,"","","","","","","","","","","","",null,{"$f":"IF(Programs!$D$25=\"\",\"\",Programs!$D$25)","v":""},"","","","","","","","","","","","","",null,"","","","","","","","","","","",""]
[null,{"$f":"Programs!B31","v":0},{"$f":"IF(Programs!$C$25=\"\",\"\",Programs!$C$25)","v":""},null,null,null,null,null,null,null,null,null,null,null,null,null,null,null,null,null,null,null,null,null,null,null,null,null,null,null,null,null,null,null,null,null,null,null,null,null,null,null,null,null,null,null,null,null,null,null,null,null,null,null,null,null,null,null,null,null,null,null,null,null,null,null,null,null,null,null,null,{"$f":"Programs!C31","v":0},0,"",0,"",{"$f":"SUM(F19,J19,O19,LOOKUP(V19,{0,1,2,3,4,5},{0,5,4,3,2,1}),Y19,AF19,AI19)","v":0},"",0,"",0,"",0,"",0,0,0,0,0,0,0,0,0,0,0,0,0,null,null,null,null,null,null,null,null,null,0,"",0,"",{"$f":"SUM(AN19,AR19,AW19,LOOKUP(BD19,{0,1,2,3,4,5},{0,5,4,3,2,1}),BG19,BN19,BQ19)","v":0},"",0,"",0,"",0,"",0,0,0,0,0,0,0,0,0,0,0,0,0,null,"","","","","","","","","","","","",null,{"$f":"IF(Programs!$D$25=\"\",\"\",Programs!$D$25)","v":""},"","","","","","","","","","","","","",null,"","","","","","","","","","","",""]
[null,{"$f":"Programs!B32","v":0},{"$f":"IF(Programs!$C$25=\"\",\"\",Programs!$C$25)","v":""},null,null,null,null,null,null,null,null,null,null,null,null,null,null,null,null,null,null,null,null,null,null,null,null,null,null,null,null,null,null,null,null,null,null,null,null,null,null,null,null,null,null,null,null,null,null,null,null,null,null,null,null,null,null,null,null,null,null,null,null,null,null,null,null,null,null,null,null,{"$f":"Programs!C32","v":0},0,"",0,"",{"$f":"SUM(F20,J20,O20,LOOKUP(V20,{0,1,2,3,4,5},{0,5,4,3,2,1}),Y20,AF20,AI20)","v":0},"",0,"",0,"",0,"",0,0,0,0,0,0,0,0,0,0,0,0,0,null,null,null,null,null,null,null,null,null,0,"",0,"",{"$f":"SUM(AN20,AR20,AW20,LOOKUP(BD20,{0,1,2,3,4,5},{0,5,4,3,2,1}),BG20,BN20,BQ20)","v":0},"",0,"",0,"",0,"",0,0,0,0,0,0,0,0,0,0,0,0,0,null,"","","","","","","","","","","","",null,{"$f":"IF(Programs!$D$25=\"\",\"\",Programs!$D$25)","v":""},"","","","","","","","","","","","","",null,"","","","","","","","","","","",""]
[null,{"$f":"Programs!B33","v":0},{"$f":"IF(Programs!$C$25=\"\",\"\",Programs!$C$25)","v":""},null,null,null,null,null,null,null,null,null,null,null,null,null,null,null,null,null,null,null,null,null,null,null,null,null,null,null,null,null,null,null,null,null,null,null,null,null,null,null,null,null,null,null,null,null,null,null,null,null,null,null,null,null,null,null,null,null,null,null,null,null,null,null,null,null,null,null,null,{"$f":"Programs!C33","v":0},0,"",0,"",{"$f":"SUM(F21,J21,O21,LOOKUP(V21,{0,1,2,3,4,5},{0,5,4,3,2,1}),Y21,AF21,AI21)","v":0},"",0,"",0,"",0,"",0,0,0,0,0,0,0,0,0,0,0,0,0,null,null,null,null,null,null,null,null,null,0,"",0,"",{"$f":"SUM(AN21,AR21,AW21,LOOKUP(BD21,{0,1,2,3,4,5},{0,5,4,3,2,1}),BG21,BN21,BQ21)","v":0},"",0,"",0,"",0,"",0,0,0,0,0,0,0,0,0,0,0,0,0,null,"","","","","","","","","","","","",null,{"$f":"IF(Programs!$D$25=\"\",\"\",Programs!$D$25)","v":""},"","","","","","","","","","","","","",null,"","","","","","","","","","","",""]
[null,{"$f":"Programs!B34","v":0},{"$f":"IF(Programs!$C$25=\"\",\"\",Programs!$C$25)","v":""},null,null,null,null,null,null,null,null,null,null,null,null,null,null,null,null,null,null,null,null,null,null,null,null,null,null,null,null,null,null,null,null,null,null,null,null,null,null,null,null,null,null,null,null,null,null,null,null,null,null,null,null,null,null,null,null,null,null,null,null,null,null,null,null,null,null,null,null,{"$f":"Programs!C34","v":0},0,"",0,"",{"$f":"SUM(F22,J22,O22,LOOKUP(V22,{0,1,2,3,4,5},{0,5,4,3,2,1}),Y22,AF22,AI22)","v":0},"",0,"",0,"",0,"",0,0,0,0,0,0,0,0,0,0,0,0,0,null,null,null,null,null,null,null,null,null,0,"",0,"",{"$f":"SUM(AN22,AR22,AW22,LOOKUP(BD22,{0,1,2,3,4,5},{0,5,4,3,2,1}),BG22,BN22,BQ22)","v":0},"",0,"",0,"",0,"",0,0,0,0,0,0,0,0,0,0,0,0,0,null,"","","","","","","","","","","","",null,{"$f":"IF(Programs!$D$25=\"\",\"\",Programs!$D$25)","v":""},"","","","","","","","","","","","","",null,"","","","","","","","","","","",""]
[null,{"$f":"Programs!B35","v":0},{"$f":"IF(Programs!$C$25=\"\",\"\",Programs!$C$25)","v":""},null,null,null,null,null,null,null,null,null,null,null,null,null,null,null,null,null,null,null,null,null,null,null,null,null,null,null,null,null,null,null,null,null,null,null,null,null,null,null,null,null,null,null,null,null,null,null,null,null,null,null,null,null,null,null,null,null,null,null,null,null,null,null,null,null,null,null,null,{"$f":"Programs!C35","v":0},0,"",0,"",{"$f":"SUM(F23,J23,O23,LOOKUP(V23,{0,1,2,3,4,5},{0,5,4,3,2,1}),Y23,AF23,AI23)","v":0},"",0,"",0,"",0,"",0,0,0,0,0,0,0,0,0,0,0,0,0,null,null,null,null,null,null,null,null,null,0,"",0,"",{"$f":"SUM(AN23,AR23,AW23,LOOKUP(BD23,{0,1,2,3,4,5},{0,5,4,3,2,1}),BG23,BN23,BQ23)","v":0},"",0,"",0,"",0,"",0,0,0,0,0,0,0,0,0,0,0,0,0,null,"","","","","","","","","","","","",null,{"$f":"IF(Programs!$D$25=\"\",\"\",Programs!$D$25)","v":""},"","","","","","","","","","","","","",null,"","","","","","","","","","","",""]
[null,{"$f":"Programs!B36","v":0},{"$f":"IF(Programs!$C$25=\"\",\"\",Programs!$C$25)","v":""},null,null,null,null,null,null,null,null,null,null,null,null,null,null,null,null,null,null,null,null,null,null,null,null,null,null,null,null,null,null,null,null,null,null,null,null,null,null,null,null,null,null,null,null,null,null,null,null,null,null,null,null,null,null,null,null,null,null,null,null,null,null,null,null,null,null,null,null,{"$f":"Programs!C36","v":0},{"$f":"SUM(K24,M24,N24,T24,Z24,AA24,AB24,AD24)","v":0},{"$f":"IF(OR($BT24=0,BU24=0),\"\",(IF($BT24=\"Male\",(VLOOKUP(BU24,PHYMT,3,FALSE)),(VLOOKUP(BU24,PHFMT,2,FALSE)))))","v":""},{"$f":"SUM(D24,G24,I24,W24,AC24)","v":0},{"$f":"IF(BW24=0,\"\",VLOOKUP(BW24,VER,5,FALSE))","v":""},{"$f":"SUM(F24,J24,O24,LOOKUP(V24,{0,1,2,3,4,5},{0,5,4,3,2,1}),Y24,AF24,AI24)","v":0},{"$f":"IF(BY24=0,\"\",VLOOKUP(BY24,ANG,4,FALSE))","v":""},{"$f":"SUM(E24,H24,L24,S24,X24,AE24,AH24,AJ24)","v":0},{"$f":"IF(CA24=0,\"\",IF(CA24>38,81,VLOOKUP(CA24,HOS,3,FALSE)))","v":""},{"$f":"SUM(P24,Q24,R24,U24,AG24,AK24)","v":0},{"$f":"IF(CC24=0,\"\",VLOOKUP(CC24,IND,2,FALSE))","v":""},{"$f":"SUM(BU24,BW24,BY24,CA24,CC24)","v":0},{"$f":"IF(CE24=0,\"\",VLOOKUP(CE24,AQT,2,FALSE))","v":""},{"$f":"SUM(CH24:CS24)","v":0},{"$f":"IF(ABS(D24-Y24)>1,1,0)","v":0},{"$f":"IF(ABS(E24-H24)>1,1,0)","v":0},{"$f":"IF(ABS(G24-I24)>1,1,0)","v":0},{"$f":"IF(ABS(J24-AJ24)>1,1,0)","v":0},{"$f":"IF(ABS(K24-N24)>1,1,0)","v":0},{"$f":"IF(ABS(L24-AF24)>1,1,0)","v":0},{"$f":"IF(ABS(M24-P24)>1,1,0)","v":0},{"$f":"IF(ABS(O24-AI24)>1,1,0)","v":0},{"$f":"IF(ABS(Q24-T24)>1,1,0)","v":0},{"$f":"IF(ABS(X24-AH24)>1,1,0)","v":0},{"$f":"IF(ABS(Z24-AA24)>1,1,0)","v":0},{"$f":"IF(ABS(AB24-AD24)>1,1,0)","v":0},null,null,null,null,null,null,null,null,null,{"$f":"SUM(AS24,AU24,AV24,BB24,BH24,BI24,BJ24,BL24)","v":0},{"$f":"IF(OR($BT24=0,DC24=0),\"\",(IF($BT24=\"Male\",(VLOOKUP(DC24,PHYMT,3,FALSE)),(VLOOKUP(DC24,PHFMT,2,FALSE)))))","v":""},{"$f":"SUM(AL24,AO24,AQ24,BE24,BK24)","v":0},{"$f":"IF(DE24=0,\"\",VLOOKUP(DE24,VER,5,FALSE))","v":""},{"$f":"SUM(AN24,AR24,AW24,LOOKUP(BD24,{0,1,2,3,4,5},{0,5,4,3,2,1}),BG24,BN24,BQ24)","v":0},{"$f":"IF(DG24=0,\"\",VLOOKUP(DG24,ANG,4,FALSE))","v":""},{"$f":"SUM(AM24,AP24,AT24,BA24,BF24,BM24,BP24,BR24)","v":0},{"$f":"IF(DI24=0,\"\",VLOOKUP(DI24,HOS,3,FALSE))","v":""},{"$f":"SUM(AX24,AY24,AZ24,BC24,BO24,BS24)","v":0},{"$f":"IF(DK24=0,\"\",VLOOKUP(DK24,IND,2,FALSE))","v":""},{"$f":"SUM(DC24,DE24,DG24,DI24,DK24)","v":0},{"$f":"IF(DM24=0,\"\",IF(DM24<39,24,VLOOKUP(DM24,AQT,2,FALSE)))","v":""},{"$f":"SUM(DP24:EA24)","v":0},{"$f":"IF(ABS(AL24-BG24)>1,1,0)","v":0},{"$f":"IF(ABS(AM24-AP24)>1,1,0)","v":0},{"$f":"IF(ABS(AO24-AQ24)>1,1,0)","v":0},{"$f":"IF(ABS(AR24-BR24)>1,1,0)","v":0},{"$f":"IF(ABS(AS24-AV24)>1,1,0)","v":0},{"$f":"IF(ABS(AT24-BN24)>1,1,0)","v":0},{"$f":"IF(ABS(AU24-AX24)>1,1,0)","v":0},{"$f":"IF(ABS(AW24-BQ24)>1,1,0)","v":0},{"$f":"IF(ABS(AY24-BB24)>1,1,0)","v":0},{"$f":"IF(ABS(BF24-BP24)>1,1,0)","v":0},{"$f":"IF(ABS(BH24-BI24)>1,1,0)","v":0},{"$f":"IF(ABS(BJ24-BL24)>1,1,0)","v":0},null,{"$f":"IF(EQ24<>\"\",(DC24/8)-(BU24/8),\"\")","v":""},{"$f":"IF(EQ24<>\"\",IF(BT24=0,\"\",DD24-BV24),\"\")","v":""},{"$f":"IF(EQ24<>\"\",(DE24/5)-(BW24/5),\"\")","v":""},{"$f":"IF(EQ24<>\"\",DF24-BX24,\"\")","v":""},{"$f":"IF(EQ24<>\"\",(DG24/7)-(BY24/7),\"\")","v":""},{"$f":"IF(EQ24<>\"\",DH24-BZ24,\"\")","v":""},{"$f":"IF(EQ24<>\"\",(DI24/8)-(CA24/8),\"\")","v":""},{"$f":"IF(EQ24<>\"\",DJ24-CB24,\"\")","v":""},{"$f":"IF(EQ24<>\"\",(DK24/6)-(CC24/6),\"\")","v":""},{"$f":"IF(EQ24<>\"\",DL24-CD24,\"\")","v":""},{"$f":"IF(EQ24<>\"\",(DM24/34)-(CE24/34),\"\")","v":""},{"$f":"IF(EQ24<>\"\",DN24-CF24,\"\")","v":""},null,{"$f":"IF(Programs!$D$25=\"\",\"\",Programs!$D$25)","v":""},{"$f":"IF(AND(COUNT(D24:AK24)>30,COUNT(AL24:BS24)>30),EP24,\"\")","v":""},"","","","","","","","","","","","",null,"","","","","","","","","","","",""]
[null,{"$f":"Programs!B37","v":0},{"$f":"IF(Programs!$C$25=\"\",\"\",Programs!$C$25)","v":""},null,null,null,null,null,null,null,null,null,null,null,null,null,null,null,null,null,null,null,null,null,null,null,null,null,null,null,null,null,null,null,null,null,null,null,null,null,null,null,null,null,null,null,null,null,null,null,null,null,null,null,null,null,null,null,null,null,null,null,null,null,null,null,null,null,null,null,null,{"$f":"Programs!C37","v":0},0,"",0,"",{"$f":"SUM(F25,J25,O25,LOOKUP(V25,{0,1,2,3,4,5},{0,5,4,3,2,1}),Y25,AF25,AI25)","v":0},"",0,"",0,"",0,"",0,0,0,0,0,0,0,0,0,0,0,0,0,null,null,null,null,null,null,null,null,null,0,"",0,"",{"$f":"SUM(AN25,AR25,AW25,LOOKUP(BD25,{0,1,2,3,4,5},{0,5,4,3,2,1}),BG25,BN25,BQ25)","v":0},"",0,"",0,"",0,"",0,0,0,0,0,0,0,0,0,0,0,0,0,null,"","","","","","","","","","","","",null,{"$f":"IF(Programs!$D$25=\"\",\"\",Programs!$D$25)","v":""},"","","","","","","","","","","","","",null,"","","","","","","","","","","",""]
[null,{"$f":"Programs!B38","v":0},{"$f":"IF(Programs!$C$25=\"\",\"\",Programs!$C$25)","v":""},null,null,null,null,null,null,null,null,null,null,null,null,null,null,null,null,null,null,null,null,null,null,null,null,null,null,null,null,null,null,null,null,null,null,null,null,null,null,null,null,null,null,null,null,null,null,null,null,null,null,null,null,null,null,null,null,null,null,null,null,null,null,null,null,null,null,null,null,{"$f":"Programs!C38","v":0},0,"",0,"",{"$f":"SUM(F26,J26,O26,LOOKUP(V26,{0,1,2,3,4,5},{0,5,4,3,2,1}),Y26,AF26,AI26)","v":0},"",0,"",0,"",0,"",0,0,0,0,0,0,0,0,0,0,0,0,0,null,null,null,null,null,null,null,null,null,0,"",0,"",{"$f":"SUM(AN26,AR26,AW26,LOOKUP(BD26,{0,1,2,3,4,5},{0,5,4,3,2,1}),BG26,BN26,BQ26)","v":0},"",0,"",0,"",0,"",0,0,0,0,0,0,0,0,0,0,0,0,0,null,"","","","","","","","","","","","",null,{"$f":"IF(Programs!$D$25=\"\",\"\",Programs!$D$25)","v":""},"","","","","","","","","","","","","",null,"","","","","","","","","","","",""]
[null,{"$f":"Programs!B39","v":0},{"$f":"IF(Programs!$C$25=\"\",\"\",Programs!$C$25)","v":""},null,null,null,null,null,null,null,null,null,null,null,null,null,null,null,null,null,null,null,null,null,null,null,null,null,null,null,null,null,null,null,null,null,null,null,null,null,null,null,null,null,null,null,null,null,null,null,null,null,null,null,null,null,null,null,null,null,null,null,null,null,null,null,null,null,null,null,null,{"$f":"Programs!C39","v":0},0,"",0,"",{"$f":"SUM(F27,J27,O27,LOOKUP(V27,{0,1,2,3,4,5},{0,5,4,3,2,1}),Y27,AF27,AI27)","v":0},"",0,"",0,"",0,"",0,0,0,0,0,0,0,0,0,0,0,0,0,null,null,null,null,null,null,null,null,null,0,"",0,"",{"$f":"SUM(AN27,AR27,AW27,LOOKUP(BD27,{0,1,2,3,4,5},{0,5,4,3,2,1}),BG27,BN27,BQ27)","v":0},"",0,"",0,"",0,"",0,0,0,0,0,0,0,0,0,0,0,0,0,null,"","","","","","","","","","","","",null,{"$f":"IF(Programs!$D$25=\"\",\"\",Programs!$D$25)","v":""},"","","","","","","","","","","","","",null,"","","","","","","","","","","",""]
["Program 3",{"$f":"Programs!B47","v":0},{"$f":"IF(Programs!$C$44=\"\",\"\",Programs!$C$44)","v":""},null,null,null,null,null,null,null,null,null,null,null,null,null,null,null,null,null,null,null,null,null,null,null,null,null,null,null,null,null,null,null,null,null,null,null,null,null,null,null,null,null,null,null,null,null,null,null,null,null,null,null,null,null,null,null,null,null,null,null,null,null,null,null,null,null,null,null,null,{"$f":"Programs!C47","v":0},0,"",0,"",{"$f":"SUM(F28,J28,O28,LOOKUP(V28,{0,1,2,3,4,5},{0,5,4,3,2,1}),Y28,AF28,AI28)","v":0},"",0,"",0,"",0,"",0,0,0,0,0,0,0,0,0,0,0,0,0,null,null,null,null,null,null,null,null,null,0,"",0,"",{"$f":"SUM(AN28,AR28,AW28,LOOKUP(BD28,{0,1,2,3,4,5},{0,5,4,3,2,1}),BG28,BN28,BQ28)","v":0},"",0,"",0,"",0,"",0,0,0,0,0,0,0,0,0,0,0,0,0,null,"","","","","","","","","","","","",null,{"$f":"IF(Programs!$D$44=\"\",\"\",Programs!$D$44)","v":""},"","","","","","","","","","","","","",null,"","","","","","","","","","","",""]
[null,{"$f":"Programs!B48","v":0},{"$f":"IF(Programs!$C$44=\"\",\"\",Programs!$C$44)","v":""},null,null,null,null,null,null,null,null,null,null,null,null,null,null,null,null,null,null,null,null,null,null,null,null,null,null,null,null,null,null,null,null,null,null,null,null,null,null,null,null,null,null,null,null,null,null,null,null,null,null,null,null,null,null,null,null,null,null,null,null,null,null,null,null,null,null,null,null,{"$f":"Programs!C48","v":0},0,"",0,"",{"$f":"SUM(F29,J29,O29,LOOKUP(V29,{0,1,2,3,4,5},{0,5,4,3,2,1}),Y29,AF29,AI29)","v":0},"",0,"",0,"",0,"",0,0,0,0,0,0,0,0,0,0,0,0,0,null,null,null,null,null,null,null,null,null,0,"",0,"",{"$f":"SUM(AN29,AR29,AW29,LOOKUP(BD29,{0,1,2,3,4,5},{0,5,4,3,2,1}),BG29,BN29,BQ29)","v":0},"",0,"",0,"",0,"",0,0,0,0,0,0,0,0,0,0,0,0,0,null,{"$f":"IF(EQ29<>\"\",(DC29/8)-(BU29/8),\"\")","v":""},{"$f":"IF(EQ29<>\"\",IF(BT29=0,\"\",DD29-BV29),\"\")","v":""},{"$f":"IF(EQ29<>\"\",(DE29/5)-(BW29/5),\"\")","v":""},{"$f":"IF(EQ29<>\"\",DF29-BX29,\"\")","v":""},{"$f":"IF(EQ29<>\"\",(DG29/7)-(BY29/7),\"\")","v":""},{"$f":"IF(EQ29<>\"\",DH29-BZ29,\"\")","v":""},{"$f":"IF(EQ29<>\"\",(DI29/8)-(CA29/8),\"\")","v":""},{"$f":"IF(EQ29<>\"\",DJ29-CB29,\"\")","v":""},{"$f":"IF(EQ29<>\"\",(DK29/6)-(CC29/6),\"\")","v":""},{"$f":"IF(EQ29<>\"\",DL29-CD29,\"\")","v":""},{"$f":"IF(EQ29<>\"\",(DM29/34)-(CE29/34),\"\")","v":""},{"$f":"IF(EQ29<>\"\",DN29-CF29,\"\")","v":""},null,{"$f":"IF(Programs!$D$44=\"\",\"\",Programs!$D$44)","v":""},"","","","","","","","","","","","","",null,"","","","","","","","","","","",""]
[null,{"$f":"Programs!B49","v":0},{"$f":"IF(Programs!$C$44=\"\",\"\",Programs!$C$44)","v":""},null,null,null,null,null,null,null,null,null,null,null,null,null,null,null,null,null,null,null,null,null,null,null,null,null,null,null,null,null,null,null,null,null,null,null,null,null,null,null,null,null,null,null,null,null,null,null,null,null,null,null,null,null,null,null,null,null,null,null,null,null,null,null,null,null,null,null,null,{"$f":"Programs!C49","v":0},0,"",0,"",{"$f":"SUM(F30,J30,O30,LOOKUP(V30,{0,1,2,3,4,5},{0,5,4,3,2,1}),Y30,AF30,AI30)","v":0},"",0,"",0,"",0,"",0,0,0,0,0,0,0,0,0,0,0,0,0,null,null,null,null,null,null,null,null,null,0,"",0,"",{"$f":"SUM(AN30,AR30,AW30,LOOKUP(BD30,{0,1,2,3,4,5},{0,5,4,3,2,1}),BG30,BN30,BQ30)","v":0},"",0,"",0,"",0,"",0,0,0,0,0,0,0,0,0,0,0,0,0,null,"","","","","","","","","","","","",null,{"$f":"IF(Programs!$D$44=\"\",\"\",Programs!$D$44)","v":""},"","","","","","","","","","","","","",null,"","","","","","","","","","","",""]
[null,{"$f":"Programs!B50","v":0},{"$f":"IF(Programs!$C$44=\"\",\"\",Programs!$C$44)","v":""},null,null,null,null,null,null,null,null,null,null,null,null,null,null,null,null,null,null,null,null,null,null,null,null,null,null,null,null,null,null,null,null,null,null,null,null,null,null,null,null,null,null,null,null,null,null,null,null,null,null,null,null,null,null,null,null,null,null,null,null,null,null,null,null,null,null,null,null,{"$f":"Programs!C50","v":0},0,"",0,"",{"$f":"SUM(F31,J31,O31,LOOKUP(V31,{0,1,2,3,4,5},{0,5,4,3,2,1}),Y31,AF31,AI31)","v":0},"",0,"",0,"",0,"",0,0,0,0,0,0,0,0,0,0,0,0,0,null,null,null,null,null,null,null,null,null,0,"",0,"",{"$f":"SUM(AN31,AR31,AW31,LOOKUP(BD31,{0,1,2,3,4,5},{0,5,4,3,2,1}),BG31,BN31,BQ31)","v":0},"",0,"",0,"",0,"",0,0,0,0,0,0,0,0,0,0,0,0,0,null,"","","","","","","","","","","","",null,{"$f":"IF(Programs!$D$44=\"\",\"\",Programs!$D$44)","v":""},"","","","","","","","","","","","","",null,"","","","","","","","","","","",""]
[null,{"$f":"Programs!B51","v":0},{"$f":"IF(Programs!$C$44=\"\",\"\",Programs!$C$44)","v":""},null,null,null,null,null,null,null,null,null,null,null,null,null,null,null,null,null,null,null,null,null,null,null,null,null,null,null,null,null,null,null,null,null,null,null,null,null,null,null,null,null,null,null,null,null,null,null,null,null,null,null,null,null,null,null,null,null,null,null,null,null,null,null,null,null,null,null,null,{"$f":"Programs!C51","v":0},0,"",0,"",{"$f":"SUM(F32,J32,O32,LOOKUP(V32,{0,1,2,3,4,5},{0,5,4,3,2,1}),Y32,AF32,AI32)","v":0},"",0,"",0,"",0,"",0,0,0,0,0,0,0,0,0,0,0,0,0,null,null,null,null,null,null,null,null,null,0,"",0,"",{"$f":"SUM(AN32,AR32,AW32,LOOKUP(BD32,{0,1,2,3,4,5},{0,5,4,3,2,1}),BG32,BN32,BQ32)","v":0},"",0,"",0,"",0,"",0,0,0,0,0,0,0,0,0,0,0,0,0,null,"","","","","","","","","","","","",null,{"$f":"IF(Programs!$D$44=\"\",\"\",Programs!$D$44)","v":""},"","","","","","","","","","","","","",null,"","","","","","","","","","","",""]
[null,{"$f":"Programs!B52","v":0},{"$f":"IF(Programs!$C$44=\"\",\"\",Programs!$C$44)","v":""},null,null,null,null,null,null,null,null,null,null,null,null,null,null,null,null,null,null,null,null,null,null,null,null,null,null,null,null,null,null,null,null,null,null,null,null,null,null,null,null,null,null,null,null,null,null,null,null,null,null,null,null,null,null,null,null,null,null,null,null,null,null,null,null,null,null,null,null,{"$f":"Programs!C52","v":0},0,"",0,"",{"$f":"SUM(F33,J33,O33,LOOKUP(V33,{0,1,2,3,4,5},{0,5,4,3,2,1}),Y33,AF33,AI33)","v":0},"",0,"",0,"",0,"",0,0,0,0,0,0,0,0,0,0,0,0,0,null,null,null,null,null,null,null,null,null,0,"",0,"",{"$f":"SUM(AN33,AR33,AW33,LOOKUP(BD33,{0,1,2,3,4,5},{0,5,4,3,2,1}),BG33,BN33,BQ33)","v":0},"",0,"",0,"",0,"",0,0,0,0,0,0,0,0,0,0,0,0,0,null,"","","","","","","","","","","","",null,{"$f":"IF(Programs!$D$44=\"\",\"\",Programs!$D$44)","v":""},"","","","","","","","","","","","","",null,"","","","","","","","","","","",""]
[null,{"$f":"Programs!B53","v":0},{"$f":"IF(Programs!$C$44=\"\",\"\",Programs!$C$44)","v":""},null,null,null,null,null,null,null,null,null,null,null,null,null,null,null,null,null,null,null,null,null,null,null,null,null,null,null,null,null,null,null,null,null,null,null,null,null,null,null,null,null,null,null,null,null,null,null,null,null,null,null,null,null,null,null,null,null,null,null,null,null,null,null,null,null,null,null,null,{"$f":"Programs!C53","v":0},0,"",0,"",{"$f":"SUM(F34,J34,O34,LOOKUP(V34,{0,1,2,3,4,5},{0,5,4,3,2,1}),Y34,AF34,AI34)","v":0},"",0,"",0,"",0,"",0,0,0,0,0,0,0,0,0,0,0,0,0,null,null,null,null,null,null,null,null,null,0,"",0,"",{"$f":"SUM(AN34,AR34,AW34,LOOKUP(BD34,{0,1,2,3,4,5},{0,5,4,3,2,1}),BG34,BN34,BQ34)","v":0},"",0,"",0,"",0,"",0,0,0,0,0,0,0,0,0,0,0,0,0,null,"","","","","","","","","","","","",null,{"$f":"IF(Programs!$D$44=\"\",\"\",Programs!$D$44)","v":""},"","","","","","","","","","","","","",null,"","","","","","","","","","","",""]
[null,{"$f":"Programs!B54","v":0},{"$f":"IF(Programs!$C$44=\"\",\"\",Programs!$C$44)","v":""},null,null,null,null,null,null,null,null,null,null,null,null,null,null,null,null,null,null,null,null,null,null,null,null,null,null,null,null,null,null,null,null,null,null,null,null,null,null,null,null,null,null,null,null,null,null,null,null,null,null,null,null,null,null,null,null,null,null,null,null,null,null,null,null,null,null,null,null,{"$f":"Programs!C54","v":0},0,"",0,"",{"$f":"SUM(F35,J35,O35,LOOKUP(V35,{0,1,2,3,4,5},{0,5,4,3,2,1}),Y35,AF35,AI35)","v":0},"",0,"",0,"",0,"",0,0,0,0,0,0,0,0,0,0,0,0,0,null,null,null,null,null,null,null,null,null,0,"",0,"",{"$f":"SUM(AN35,AR35,AW35,LOOKUP(BD35,{0,1,2,3,4,5},{0,5,4,3,2,1}),BG35,BN35,BQ35)","v":0},"",0,"",0,"",0,"",0,0,0,0,0,0,0,0,0,0,0,0,0,null,"","","","","","","","","","","","",null,{"$f":"IF(Programs!$D$44=\"\",\"\",Programs!$D$44)","v":""},"","","","","","","","","","","","","",null,"","","","","","","","","","","",""]
[null,{"$f":"Programs!B55","v":0},{"$f":"IF(Programs!$C$44=\"\",\"\",Programs!$C$44)","v":""},null,null,null,null,null,null,null,null,null,null,null,null,null,null,null,null,null,null,null,null,null,null,null,null,null,null,null,null,null,null,null,null,null,null,null,null,null,null,null,null,null,null,null,null,null,null,null,null,null,null,null,null,null,null,null,null,null,null,null,null,null,null,null,null,null,null,null,null,{"$f":"Programs!C55","v":0},{"$f":"SUM(K36,M36,N36,T36,Z36,AA36,AB36,AD36)","v":0},{"$f":"IF(OR($BT36=0,BU36=0),\"\",(IF($BT36=\"Male\",(VLOOKUP(BU36,PHYMT,3,FALSE)),(VLOOKUP(BU36,PHFMT,2,FALSE)))))","v":""},{"$f":"SUM(D36,G36,I36,W36,AC36)","v":0},{"$f":"IF(BW36=0,\"\",VLOOKUP(BW36,VER,5,FALSE))","v":""},{"$f":"SUM(F36,J36,O36,LOOKUP(V36,{0,1,2,3,4,5},{0,5,4,3,2,1}),Y36,AF36,AI36)","v":0},{"$f":"IF(BY36=0,\"\",VLOOKUP(BY36,ANG,4,FALSE))","v":""},{"$f":"SUM(E36,H36,L36,S36,X36,AE36,AH36,AJ36)","v":0},{"$f":"IF(CA36=0,\"\",IF(CA36>38,81,VLOOKUP(CA36,HOS,3,FALSE)))","v":""},{"$f":"SUM(P36,Q36,R36,U36,AG36,AK36)","v":0},{"$f":"IF(CC36=0,\"\",VLOOKUP(CC36,IND,2,FALSE))","v":""},{"$f":"SUM(BU36,BW36,BY36,CA36,CC36)","v":0},{"$f":"IF(CE36=0,\"\",VLOOKUP(CE36,AQT,2,FALSE))","v":""},{"$f":"SUM(CH36:CS36)","v":0},{"$f":"IF(ABS(D36-Y36)>1,1,0)","v":0},{"$f":"IF(ABS(E36-H36)>1,1,0)","v":0},{"$f":"IF(ABS(G36-I36)>1,1,0)","v":0},{"$f":"IF(ABS(J36-AJ36)>1,1,0)","v":0},{"$f":"IF(ABS(K36-N36)>1,1,0)","v":0},{"$f":"IF(ABS(L36-AF36)>1,1,0)","v":0},{"$f":"IF(ABS(M36-P36)>1,1,0)","v":0},{"$f":"IF(ABS(O36-AI36)>1,1,0)","v":0},{"$f":"IF(ABS(Q36-T36)>1,1,0)","v":0},{"$f":"IF(ABS(X36-AH36)>1,1,0)","v":0},{"$f":"IF(ABS(Z36-AA36)>1,1,0)","v":0},{"$f":"IF(ABS(AB36-AD36)>1,1,0)","v":0},null,null,null,null,null,null,null,null,null,{"$f":"SUM(AS36,AU36,AV36,BB36,BH36,BI36,BJ36,BL36)","v":0},{"$f":"IF(OR($BT36=0,DC36=0),\"\",(IF($BT36=\"Male\",(VLOOKUP(DC36,PHYMT,3,FALSE)),(VLOOKUP(DC36,PHFMT,2,FALSE)))))","v":""},{"$f":"SUM(AL36,AO36,AQ36,BE36,BK36)","v":0},{"$f":"IF(DE36=0,\"\",VLOOKUP(DE36,VER,5,FALSE))","v":""},{"$f":"SUM(AN36,AR36,AW36,LOOKUP(BD36,{0,1,2,3,4,5},{0,5,4,3,2,1}),BG36,BN36,BQ36)","v":0},{"$f":"IF(DG36=0,\"\",VLOOKUP(DG36,ANG,4,FALSE))","v":""},{"$f":"SUM(AM36,AP36,AT36,BA36,BF36,BM36,BP36,BR36)","v":0},{"$f":"IF(DI36=0,\"\",VLOOKUP(DI36,HOS,3,FALSE))","v":""},{"$f":"SUM(AX36,AY36,AZ36,BC36,BO36,BS36)","v":0},{"$f":"IF(DK36=0,\"\",VLOOKUP(DK36,IND,2,FALSE))","v":""},{"$f":"SUM(DC36,DE36,DG36,DI36,DK36)","v":0},{"$f":"IF(DM36=0,\"\",IF(DM36<39,24,VLOOKUP(DM36,AQT,2,FALSE)))","v":""},{"$f":"SUM(DP36:EA36)","v":0},{"$f":"IF(ABS(AL36-BG36)>1,1,0)","v":0},{"$f":"IF(ABS(AM36-AP36)>1,1,0)","v":0},{"$f":"IF(ABS(AO36-AQ36)>1,1,0)","v":0},{"$f":"IF(ABS(AR36-BR36)>1,1,0)","v":0},{"$f":"IF(ABS(AS36-AV36)>1,1,0)","v":0},{"$f":"IF(ABS(AT36-BN36)>1,1,0)","v":0},{"$f":"IF(ABS(AU36-AX36)>1,1,0)","v":0},{"$f":"IF(ABS(AW36-BQ36)>1,1,0)","v":0},{"$f":"IF(ABS(AY36-BB36)>1,1,0)","v":0},{"$f":"IF(ABS(BF36-BP36)>1,1,0)","v":0},{"$f":"IF(ABS(BH36-BI36)>1,1,0)","v":0},{"$f":"IF(ABS(BJ36-BL36)>1,1,0)","v":0},null,{"$f":"IF(EQ36<>\"\",(DC36/8)-(BU36/8),\"\")","v":""},{"$f":"IF(EQ36<>\"\",IF(BT36=0,\"\",DD36-BV36),\"\")","v":""},{"$f":"IF(EQ36<>\"\",(DE36/5)-(BW36/5),\"\")","v":""},{"$f":"IF(EQ36<>\"\",DF36-BX36,\"\")","v":""},{"$f":"IF(EQ36<>\"\",(DG36/7)-(BY36/7),\"\")","v":""},{"$f":"IF(EQ36<>\"\",DH36-BZ36,\"\")","v":""},{"$f":"IF(EQ36<>\"\",(DI36/8)-(CA36/8),\"\")","v":""},{"$f":"IF(EQ36<>\"\",DJ36-CB36,\"\")","v":""},{"$f":"IF(EQ36<>\"\",(DK36/6)-(CC36/6),\"\")","v":""},{"$f":"IF(EQ36<>\"\",DL36-CD36,\"\")","v":""},{"$f":"IF(EQ36<>\"\",(DM36/34)-(CE36/34),\"\")","v":""},{"$f":"IF(EQ36<>\"\",DN36-CF36,\"\")","v":""},null,{"$f":"IF(Programs!$D$44=\"\",\"\",Programs!$D$44)","v":""},{"$f":"IF(AND(COUNT(D36:AK36)>30,COUNT(AL36:BS36)>30),EP36,\"\")","v":""},"","","","","","","","","","","","",null,"","","","","","","","","","","",""]
[null,{"$f":"Programs!B56","v":0},{"$f":"IF(Programs!$C$44=\"\",\"\",Programs!$C$44)","v":""},null,null,null,null,null,null,null,null,null,null,null,null,null,null,null,null,null,null,null,null,null,null,null,null,null,null,null,null,null,null,null,null,null,null,null,null,null,null,null,null,null,null,null,null,null,null,null,null,null,null,null,null,null,null,null,null,null,null,null,null,null,null,null,null,null,null,null,null,{"$f":"Programs!C56","v":0},0,"",0,"",{"$f":"SUM(F37,J37,O37,LOOKUP(V37,{0,1,2,3,4,5},{0,5,4,3,2,1}),Y37,AF37,AI37)","v":0},"",0,"",0,"",0,"",0,0,0,0,0,0,0,0,0,0,0,0,0,null,null,null,null,null,null,null,null,null,0,"",0,"",{"$f":"SUM(AN37,AR37,AW37,LOOKUP(BD37,{0,1,2,3,4,5},{0,5,4,3,2,1}),BG37,BN37,BQ37)","v":0},"",0,"",0,"",0,"",0,0,0,0,0,0,0,0,0,0,0,0,0,null,"","","","","","","","","","","","",null,{"$f":"IF(Programs!$D$44=\"\",\"\",Programs!$D$44)","v":""},"","","","","","","","","","","","","",null,"","","","","","","","","","","",""]
[null,{"$f":"Programs!B57","v":0},{"$f":"IF(Programs!$C$44=\"\",\"\",Programs!$C$44)","v":""},null,null,null,null,null,null,null,null,null,null,null,null,null,null,null,null,null,null,null,null,null,null,null,null,null,null,null,null,null,null,null,null,null,null,null,null,null,null,null,null,null,null,null,null,null,null,null,null,null,null,null,null,null,null,null,null,null,null,null,null,null,null,null,null,null,null,null,null,{"$f":"Programs!C57","v":0},0,"",0,"",{"$f":"SUM(F38,J38,O38,LOOKUP(V38,{0,1,2,3,4,5},{0,5,4,3,2,1}),Y38,AF38,AI38)","v":0},"",0,"",0,"",0,"",0,0,0,0,0,0,0,0,0,0,0,0,0,null,null,null,null,null,null,null,null,null,0,"",0,"",{"$f":"SUM(AN38,AR38,AW38,LOOKUP(BD38,{0,1,2,3,4,5},{0,5,4,3,2,1}),BG38,BN38,BQ38)","v":0},"",0,"",0,"",0,"",0,0,0,0,0,0,0,0,0,0,0,0,0,null,"","","","","","","","","","","","",null,{"$f":"IF(Programs!$D$44=\"\",\"\",Programs!$D$44)","v":""},"","","","","","","","","","","","","",null,"","","","","","","","","","","",""]
[null,{"$f":"Programs!B58","v":0},{"$f":"IF(Programs!$C$44=\"\",\"\",Programs!$C$44)","v":""},null,null,null,null,null,null,null,null,null,null,null,null,null,null,null,null,null,null,null,null,null,null,null,null,null,null,null,null,null,null,null,null,null,null,null,null,null,null,null,null,null,null,null,null,null,null,null,null,null,null,null,null,null,null,null,null,null,null,null,null,null,null,null,null,null,null,null,null,{"$f":"Programs!C58","v":0},0,"",0,"",{"$f":"SUM(F39,J39,O39,LOOKUP(V39,{0,1,2,3,4,5},{0,5,4,3,2,1}),Y39,AF39,AI39)","v":0},"",0,"",0,"",0,"",0,0,0,0,0,0,0,0,0,0,0,0,0,null,null,null,null,null,null,null,null,null,0,"",0,"",{"$f":"SUM(AN39,AR39,AW39,LOOKUP(BD39,{0,1,2,3,4,5},{0,5,4,3,2,1}),BG39,BN39,BQ39)","v":0},"",0,"",0,"",0,"",0,0,0,0,0,0,0,0,0,0,0,0,0,null,"","","","","","","","","","","","",null,{"$f":"IF(Programs!$D$44=\"\",\"\",Programs!$D$44)","v":""},"","","","","","","","","","","","","",null,"","","","","","","","","","","",""]
["Program 4",{"$f":"Programs!B66","v":0},{"$f":"IF(Programs!$C$63=\"\",\"\",Programs!$C$63)","v":""},null,null,null,null,null,null,null,null,null,null,null,null,null,null,null,null,null,null,null,null,null,null,null,null,null,null,null,null,null,null,null,null,null,null,null,null,null,null,null,null,null,null,null,null,null,null,null,null,null,null,null,null,null,null,null,null,null,null,null,null,null,null,null,null,null,null,null,null,{"$f":"Programs!C66","v":0},0,"",0,"",{"$f":"SUM(F40,J40,O40,LOOKUP(V40,{0,1,2,3,4,5},{0,5,4,3,2,1}),Y40,AF40,AI40)","v":0},"",0,"",0,"",0,"",0,0,0,0,0,0,0,0,0,0,0,0,0,null,null,null,null,null,null,null,null,null,0,"",0,"",{"$f":"SUM(AN40,AR40,AW40,LOOKUP(BD40,{0,1,2,3,4,5},{0,5,4,3,2,1}),BG40,BN40,BQ40)","v":0},"",0,"",0,"",0,"",0,0,0,0,0,0,0,0,0,0,0,0,0,null,"","","","","","","","","","","","",null,{"$f":"IF(Programs!$D$63=\"\",\"\",Programs!$D$63)","v":""},"","","","","","","","","","","","","",null,"","","","","","","","","","","",""]
[null,{"$f":"Programs!B67","v":0},{"$f":"IF(Programs!$C$63=\"\",\"\",Programs!$C$63)","v":""},null,null,null,null,null,null,null,null,null,null,null,null,null,null,null,null,null,null,null,null,null,null,null,null,null,null,null,null,null,null,null,null,null,null,null,null,null,null,null,null,null,null,null,null,null,null,null,null,null,null,null,null,null,null,null,null,null,null,null,null,null,null,null,null,null,null,null,null,{"$f":"Programs!C67","v":0},0,"",0,"",{"$f":"SUM(F41,J41,O41,LOOKUP(V41,{0,1,2,3,4,5},{0,5,4,3,2,1}),Y41,AF41,AI41)","v":0},"",0,"",0,"",0,"",0,0,0,0,0,0,0,0,0,0,0,0,0,null,null,null,null,null,null,null,null,null,0,"",0,"",{"$f":"SUM(AN41,AR41,AW41,LOOKUP(BD41,{0,1,2,3,4,5},{0,5,4,3,2,1}),BG41,BN41,BQ41)","v":0},"",0,"",0,"",0,"",0,0,0,0,0,0,0,0,0,0,0,0,0,null,"","","","","","","","","","","","",null,{"$f":"IF(Programs!$D$63=\"\",\"\",Programs!$D$63)","v":""},"","","","","","","","","","","","","",null,"","","","","","","","","","","",""]
[null,{"$f":"Programs!B68","v":0},{"$f":"IF(Programs!$C$63=\"\",\"\",Programs!$C$63)","v":""},null,null,null,null,null,null,null,null,null,null,null,null,null,null,null,null,null,null,null,null,null,null,null,null,null,null,null,null,null,null,null,null,null,null,null,null,null,null,null,null,null,null,null,null,null,null,null,null,null,null,null,null,null,null,null,null,null,null,null,null,null,null,null,null,null,null,null,null,{"$f":"Programs!C68","v":0},0,{"$f":"IF(OR($BT42=0,BU42=0),\"\",(IF($BT42=\"Male\",(VLOOKUP(BU42,PHYMT,3,FALSE)),(VLOOKUP(BU42,PHFMT,2,FALSE)))))","v":""},0,{"$f":"IF(BW42=0,\"\",VLOOKUP(BW42,VER,5,FALSE))","v":""},{"$f":"SUM(F42,J42,O42,LOOKUP(V42,{0,1,2,3,4,5},{0,5,4,3,2,1}),Y42,AF42,AI42)","v":0},{"$f":"IF(BY42=0,\"\",VLOOKUP(BY42,ANG,4,FALSE))","v":""},0,{"$f":"IF(CA42=0,\"\",IF(CA42>38,81,VLOOKUP(CA42,HOS,3,FALSE)))","v":""},0,{"$f":"IF(CC42=0,\"\",VLOOKUP(CC42,IND,2,FALSE))","v":""},0,{"$f":"IF(CE42=0,\"\",VLOOKUP(CE42,AQT,2,FALSE))","v":""},0,0,0,0,0,0,0,0,0,0,0,0,0,null,null,null,null,null,null,null,null,null,0,{"$f":"IF(OR($BT42=0,DC42=0),\"\",(IF($BT42=\"Male\",(VLOOKUP(DC42,PHYMT,3,FALSE)),(VLOOKUP(DC42,PHFMT,2,FALSE)))))","v":""},0,{"$f":"IF(DE42=0,\"\",VLOOKUP(DE42,VER,5,FALSE))","v":""},{"$f":"SUM(AN42,AR42,AW42,LOOKUP(BD42,{0,1,2,3,4,5},{0,5,4,3,2,1}),BG42,BN42,BQ42)","v":0},{"$f":"IF(DG42=0,\"\",VLOOKUP(DG42,ANG,4,FALSE))","v":""},0,{"$f":"IF(DI42=0,\"\",VLOOKUP(DI42,HOS,3,FALSE))","v":""},0,{"$f":"IF(DK42=0,\"\",VLOOKUP(DK42,IND,2,FALSE))","v":""},0,{"$f":"IF(DM42=0,\"\",IF(DM42<39,24,VLOOKUP(DM42,AQT,2,FALSE)))","v":""},0,0,0,0,0,0,0,0,0,0,0,0,0,null,"","","","","","","","","","","","",null,{"$f":"IF(Programs!$D$63=\"\",\"\",Programs!$D$63)","v":""},"","","","","","","","","","","","","",null,"","","","","","","","","","","",""]
[null,{"$f":"Programs!B69","v":0},{"$f":"IF(Programs!$C$63=\"\",\"\",Programs!$C$63)","v":""},null,null,null,null,null,null,null,null,null,null,null,null,null,null,null,null,null,null,null,null,null,null,null,null,null,null,null,null,null,null,null,null,null,null,null,null,null,null,null,null,null,null,null,null,null,null,null,null,null,null,null,null,null,null,null,null,null,null,null,null,null,null,null,null,null,null,null,null,{"$f":"Programs!C69","v":0},0,"",0,"",{"$f":"SUM(F43,J43,O43,LOOKUP(V43,{0,1,2,3,4,5},{0,5,4,3,2,1}),Y43,AF43,AI43)","v":0},"",0,"",0,"",0,"",0,0,0,0,0,0,0,0,0,0,0,0,0,null,null,null,null,null,null,null,null,null,0,"",0,"",{"$f":"SUM(AN43,AR43,AW43,LOOKUP(BD43,{0,1,2,3,4,5},{0,5,4,3,2,1}),BG43,BN43,BQ43)","v":0},"",0,"",0,"",0,"",0,0,0,0,0,0,0,0,0,0,0,0,0,null,"","","","","","","","","","","","",null,{"$f":"IF(Programs!$D$63=\"\",\"\",Programs!$D$63)","v":""},"","","","","","","","","","","","","",null,"","","","","","","","","","","",""]
[null,{"$f":"Programs!B70","v":0},{"$f":"IF(Programs!$C$63=\"\",\"\",Programs!$C$63)","v":""},null,null,null,null,null,null,null,null,null,null,null,null,null,null,null,null,null,null,null,null,null,null,null,null,null,null,null,null,null,null,null,null,null,null,null,null,null,null,null,null,null,null,null,null,null,null,null,null,null,null,null,null,null,null,null,null,null,null,null,null,null,null,null,null,null,null,null,null,{"$f":"Programs!C70","v":0},0,"",0,"",{"$f":"SUM(F44,J44,O44,LOOKUP(V44,{0,1,2,3,4,5},{0,5,4,3,2,1}),Y44,AF44,AI44)","v":0},"",0,"",0,"",0,"",0,0,0,0,0,0,0,0,0,0,0,0,0,null,null,null,null,null,null,null,null,null,0,"",0,"",{"$f":"SUM(AN44,AR44,AW44,LOOKUP(BD44,{0,1,2,3,4,5},{0,5,4,3,2,1}),BG44,BN44,BQ44)","v":0},"",0,"",0,"",0,"",0,0,0,0,0,0,0,0,0,0,0,0,0,null,"","","","","","","","","","","","",null,{"$f":"IF(Programs!$D$63=\"\",\"\",Programs!$D$63)","v":""},"","","","","","","","","","","","","",null,"","","","","","","","","","","",""]
[null,{"$f":"Programs!B71","v":0},{"$f":"IF(Programs!$C$63=\"\",\"\",Programs!$C$63)","v":""},null,null,null,null,null,null,null,null,null,null,null,null,null,null,null,null,null,null,null,null,null,null,null,null,null,null,null,null,null,null,null,null,null,null,null,null,null,null,null,null,null,null,null,null,null,null,null,null,null,null,null,null,null,null,null,null,null,null,null,null,null,null,null,null,null,null,null,null,{"$f":"Programs!C71","v":0},0,"",0,"",{"$f":"SUM(F45,J45,O45,LOOKUP(V45,{0,1,2,3,4,5},{0,5,4,3,2,1}),Y45,AF45,AI45)","v":0},"",0,"",0,"",0,"",0,0,0,0,0,0,0,0,0,0,0,0,0,null,null,null,null,null,null,null,null,null,0,"",0,"",{"$f":"SUM(AN45,AR45,AW45,LOOKUP(BD45,{0,1,2,3,4,5},{0,5,4,3,2,1}),BG45,BN45,BQ45)","v":0},"",0,"",0,"",0,"",0,0,0,0,0,0,0,0,0,0,0,0,0,null,"","","","","","","","","","","","",null,{"$f":"IF(Programs!$D$63=\"\",\"\",Programs!$D$63)","v":""},"","","","","","","","","","","","","",null,"","","","","","","","","","","",""]
[null,{"$f":"Programs!B72","v":0},{"$f":"IF(Programs!$C$63=\"\",\"\",Programs!$C$63)","v":""},null,null,null,null,null,null,null,null,null,null,null,null,null,null,null,null,null,null,null,null,null,null,null,null,null,null,null,null,null,null,null,null,null,null,null,null,null,null,null,null,null,null,null,null,null,null,null,null,null,null,null,null,null,null,null,null,null,null,null,null,null,null,null,null,null,null,null,null,{"$f":"Programs!C72","v":0},0,"",0,"",{"$f":"SUM(F46,J46,O46,LOOKUP(V46,{0,1,2,3,4,5},{0,5,4,3,2,1}),Y46,AF46,AI46)","v":0},"",0,"",0,"",0,"",0,0,0,0,0,0,0,0,0,0,0,0,0,null,null,null,null,null,null,null,null,null,0,"",0,"",{"$f":"SUM(AN46,AR46,AW46,LOOKUP(BD46,{0,1,2,3,4,5},{0,5,4,3,2,1}),BG46,BN46,BQ46)","v":0},"",0,"",0,"",0,"",0,0,0,0,0,0,0,0,0,0,0,0,0,null,"","","","","","","","","","","","",null,{"$f":"IF(Programs!$D$63=\"\",\"\",Programs!$D$63)","v":""},"","","","","","","","","","","","","",null,"","","","","","","","","","","",""]
[null,{"$f":"Programs!B73","v":0},{"$f":"IF(Programs!$C$63=\"\",\"\",Programs!$C$63)","v":""},null,null,null,null,null,null,null,null,null,null,null,null,null,null,null,null,null,null,null,null,null,null,null,null,null,null,null,null,null,null,null,null,null,null,null,null,null,null,null,null,null,null,null,null,null,null,null,null,null,null,null,null,null,null,null,null,null,null,null,null,null,null,null,null,null,null,null,null,{"$f":"Programs!C73","v":0},0,"",0,"",{"$f":"SUM(F47,J47,O47,LOOKUP(V47,{0,1,2,3,4,5},{0,5,4,3,2,1}),Y47,AF47,AI47)","v":0},"",0,"",0,"",0,"",0,0,0,0,0,0,0,0,0,0,0,0,0,null,null,null,null,null,null,null,null,null,0,"",0,"",{"$f":"SUM(AN47,AR47,AW47,LOOKUP(BD47,{0,1,2,3,4,5},{0,5,4,3,2,1}),BG47,BN47,BQ47)","v":0},"",0,"",0,"",0,"",0,0,0,0,0,0,0,0,0,0,0,0,0,null,"","","","","","","","","","","","",null,{"$f":"IF(Programs!$D$63=\"\",\"\",Programs!$D$63)","v":""},"","","","","","","","","","","","","",null,"","","","","","","","","","","",""]
[null,{"$f":"Programs!B74","v":0},{"$f":"IF(Programs!$C$63=\"\",\"\",Programs!$C$63)","v":""},null,null,null,null,null,null,null,null,null,null,null,null,null,null,null,null,null,null,null,null,null,null,null,null,null,null,null,null,null,null,null,null,null,null,null,null,null,null,null,null,null,null,null,null,null,null,null,null,null,null,null,null,null,null,null,null,null,null,null,null,null,null,null,null,null,null,null,null,{"$f":"Programs!C74","v":0},{"$f":"SUM(K48,M48,N48,T48,Z48,AA48,AB48,AD48)","v":0},{"$f":"IF(OR($BT48=0,BU48=0),\"\",(IF($BT48=\"Male\",(VLOOKUP(BU48,PHYMT,3,FALSE)),(VLOOKUP(BU48,PHFMT,2,FALSE)))))","v":""},{"$f":"SUM(D48,G48,I48,W48,AC48)","v":0},{"$f":"IF(BW48=0,\"\",VLOOKUP(BW48,VER,5,FALSE))","v":""},{"$f":"SUM(F48,J48,O48,LOOKUP(V48,{0,1,2,3,4,5},{0,5,4,3,2,1}),Y48,AF48,AI48)","v":0},{"$f":"IF(BY48=0,\"\",VLOOKUP(BY48,ANG,4,FALSE))","v":""},{"$f":"SUM(E48,H48,L48,S48,X48,AE48,AH48,AJ48)","v":0},{"$f":"IF(CA48=0,\"\",IF(CA48>38,81,VLOOKUP(CA48,HOS,3,FALSE)))","v":""},{"$f":"SUM(P48,Q48,R48,U48,AG48,AK48)","v":0},{"$f":"IF(CC48=0,\"\",VLOOKUP(CC48,IND,2,FALSE))","v":""},{"$f":"SUM(BU48,BW48,BY48,CA48,CC48)","v":0},{"$f":"IF(CE48=0,\"\",VLOOKUP(CE48,AQT,2,FALSE))","v":""},{"$f":"SUM(CH48:CS48)","v":0},{"$f":"IF(ABS(D48-Y48)>1,1,0)","v":0},{"$f":"IF(ABS(E48-H48)>1,1,0)","v":0},{"$f":"IF(ABS(G48-I48)>1,1,0)","v":0},{"$f":"IF(ABS(J48-AJ48)>1,1,0)","v":0},{"$f":"IF(ABS(K48-N48)>1,1,0)","v":0},{"$f":"IF(ABS(L48-AF48)>1,1,0)","v":0},{"$f":"IF(ABS(M48-P48)>1,1,0)","v":0},{"$f":"IF(ABS(O48-AI48)>1,1,0)","v":0},{"$f":"IF(ABS(Q48-T48)>1,1,0)","v":0},{"$f":"IF(ABS(X48-AH48)>1,1,0)","v":0},{"$f":"IF(ABS(Z48-AA48)>1,1,0)","v":0},{"$f":"IF(ABS(AB48-AD48)>1,1,0)","v":0},null,null,null,null,null,null,null,null,null,{"$f":"SUM(AS48,AU48,AV48,BB48,BH48,BI48,BJ48,BL48)","v":0},{"$f":"IF(OR($BT48=0,DC48=0),\"\",(IF($BT48=\"Male\",(VLOOKUP(DC48,PHYMT,3,FALSE)),(VLOOKUP(DC48,PHFMT,2,FALSE)))))","v":""},{"$f":"SUM(AL48,AO48,AQ48,BE48,BK48)","v":0},{"$f":"IF(DE48=0,\"\",VLOOKUP(DE48,VER,5,FALSE))","v":""},{"$f":"SUM(AN48,AR48,AW48,LOOKUP(BD48,{0,1,2,3,4,5},{0,5,4,3,2,1}),BG48,BN48,BQ48)","v":0},{"$f":"IF(DG48=0,\"\",VLOOKUP(DG48,ANG,4,FALSE))","v":""},{"$f":"SUM(AM48,AP48,AT48,BA48,BF48,BM48,BP48,BR48)","v":0},{"$f":"IF(DI48=0,\"\",VLOOKUP(DI48,HOS,3,FALSE))","v":""},{"$f":"SUM(AX48,AY48,AZ48,BC48,BO48,BS48)","v":0},{"$f":"IF(DK48=0,\"\",VLOOKUP(DK48,IND,2,FALSE))","v":""},{"$f":"SUM(DC48,DE48,DG48,DI48,DK48)","v":0},{"$f":"IF(DM48=0,\"\",IF(DM48<39,24,VLOOKUP(DM48,AQT,2,FALSE)))","v":""},{"$f":"SUM(DP48:EA48)","v":0},{"$f":"IF(ABS(AL48-BG48)>1,1,0)","v":0},{"$f":"IF(ABS(AM48-AP48)>1,1,0)","v":0},{"$f":"IF(ABS(AO48-AQ48)>1,1,0)","v":0},{"$f":"IF(ABS(AR48-BR48)>1,1,0)","v":0},{"$f":"IF(ABS(AS48-AV48)>1,1,0)","v":0},{"$f":"IF(ABS(AT48-BN48)>1,1,0)","v":0},{"$f":"IF(ABS(AU48-AX48)>1,1,0)","v":0},{"$f":"IF(ABS(AW48-BQ48)>1,1,0)","v":0},{"$f":"IF(ABS(AY48-BB48)>1,1,0)","v":0},{"$f":"IF(ABS(BF48-BP48)>1,1,0)","v":0},{"$f":"IF(ABS(BH48-BI48)>1,1,0)","v":0},{"$f":"IF(ABS(BJ48-BL48)>1,1,0)","v":0},null,{"$f":"IF(EQ48<>\"\",(DC48/8)-(BU48/8),\"\")","v":""},{"$f":"IF(EQ48<>\"\",IF(BT48=0,\"\",DD48-BV48),\"\")","v":""},{"$f":"IF(EQ48<>\"\",(DE48/5)-(BW48/5),\"\")","v":""},{"$f":"IF(EQ48<>\"\",DF48-BX48,\"\")","v":""},{"$f":"IF(EQ48<>\"\",(DG48/7)-(BY48/7),\"\")","v":""},{"$f":"IF(EQ48<>\"\",DH48-BZ48,\"\")","v":""},{"$f":"IF(EQ48<>\"\",(DI48/8)-(CA48/8),\"\")","v":""},{"$f":"IF(EQ48<>\"\",DJ48-CB48,\"\")","v":""},{"$f":"IF(EQ48<>\"\",(DK48/6)-(CC48/6),\"\")","v":""},{"$f":"IF(EQ48<>\"\",DL48-CD48,\"\")","v":""},{"$f":"IF(EQ48<>\"\",(DM48/34)-(CE48/34),\"\")","v":""},{"$f":"IF(EQ48<>\"\",DN48-CF48,\"\")","v":""},null,{"$f":"IF(Programs!$D$63=\"\",\"\",Programs!$D$63)","v":""},{"$f":"IF(AND(COUNT(D48:AK48)>30,COUNT(AL48:BS48)>30),EP48,\"\")","v":""},"","","","","","","","","","","","",null,"","","","","","","","","","","",""]
[null,{"$f":"Programs!B75","v":0},{"$f":"IF(Programs!$C$63=\"\",\"\",Programs!$C$63)","v":""},null,null,null,null,null,null,null,null,null,null,null,null,null,null,null,null,null,null,null,null,null,null,null,null,null,null,null,null,null,null,null,null,null,null,null,null,null,null,null,null,null,null,null,null,null,null,null,null,null,null,null,null,null,null,null,null,null,null,null,null,null,null,null,null,null,null,null,null,{"$f":"Programs!C75","v":0},0,"",0,"",{"$f":"SUM(F49,J49,O49,LOOKUP(V49,{0,1,2,3,4,5},{0,5,4,3,2,1}),Y49,AF49,AI49)","v":0},"",0,"",0,"",0,"",0,0,0,0,0,0,0,0,0,0,0,0,0,null,null,null,null,null,null,null,null,null,0,"",0,"",{"$f":"SUM(AN49,AR49,AW49,LOOKUP(BD49,{0,1,2,3,4,5},{0,5,4,3,2,1}),BG49,BN49,BQ49)","v":0},"",0,"",0,"",0,"",0,0,0,0,0,0,0,0,0,0,0,0,0,null,"","","","","","","","","","","","",null,{"$f":"IF(Programs!$D$63=\"\",\"\",Programs!$D$63)","v":""},"","","","","","","","","","","","","",null,"","","","","","","","","","","",""]
[null,{"$f":"Programs!B76","v":0},{"$f":"IF(Programs!$C$63=\"\",\"\",Programs!$C$63)","v":""},null,null,null,null,null,null,null,null,null,null,null,null,null,null,null,null,null,null,null,null,null,null,null,null,null,null,null,null,null,null,null,null,null,null,null,null,null,null,null,null,null,null,null,null,null,null,null,null,null,null,null,null,null,null,null,null,null,null,null,null,null,null,null,null,null,null,null,null,{"$f":"Programs!C76","v":0},0,"",0,"",{"$f":"SUM(F50,J50,O50,LOOKUP(V50,{0,1,2,3,4,5},{0,5,4,3,2,1}),Y50,AF50,AI50)","v":0},"",0,"",0,"",0,"",0,0,0,0,0,0,0,0,0,0,0,0,0,null,null,null,null,null,null,null,null,null,0,"",0,"",{"$f":"SUM(AN50,AR50,AW50,LOOKUP(BD50,{0,1,2,3,4,5},{0,5,4,3,2,1}),BG50,BN50,BQ50)","v":0},"",0,"",0,"",0,"",0,0,0,0,0,0,0,0,0,0,0,0,0,null,"","","","","","","","","","","","",null,{"$f":"IF(Programs!$D$63=\"\",\"\",Programs!$D$63)","v":""},"","","","","","","","","","","","","",null,"","","","","","","","","","","",""]
[null,{"$f":"Programs!B77","v":0},{"$f":"IF(Programs!$C$63=\"\",\"\",Programs!$C$63)","v":""},null,null,null,null,null,null,null,null,null,null,null,null,null,null,null,null,null,null,null,null,null,null,null,null,null,null,null,null,null,null,null,null,null,null,null,null,null,null,null,null,null,null,null,null,null,null,null,null,null,null,null,null,null,null,null,null,null,null,null,null,null,null,null,null,null,null,null,null,{"$f":"Programs!C77","v":0},0,"",0,"",{"$f":"SUM(F51,J51,O51,LOOKUP(V51,{0,1,2,3,4,5},{0,5,4,3,2,1}),Y51,AF51,AI51)","v":0},"",0,"",0,"",0,"",0,0,0,0,0,0,0,0,0,0,0,0,0,null,null,null,null,null,null,null,null,null,0,"",0,"",{"$f":"SUM(AN51,AR51,AW51,LOOKUP(BD51,{0,1,2,3,4,5},{0,5,4,3,2,1}),BG51,BN51,BQ51)","v":0},"",0,"",0,"",0,"",0,0,0,0,0,0,0,0,0,0,0,0,0,null,"","","","","","","","","","","","",null,{"$f":"IF(Programs!$D$63=\"\",\"\",Programs!$D$63)","v":""},"","","","","","","","","","","","","",null,"","","","","","","","","","","",""]
["Program 5",{"$f":"Programs!B85","v":0},{"$f":"IF(Programs!$C$82=\"\",\"\",Programs!$C$82)","v":""},null,null,null,null,null,null,null,null,null,null,null,null,null,null,null,null,null,null,null,null,null,null,null,null,null,null,null,null,null,null,null,null,null,null,null,null,null,null,null,null,null,null,null,null,null,null,null,null,null,null,null,null,null,null,null,null,null,null,null,null,null,null,null,null,null,null,null,null,{"$f":"Programs!C85","v":0},0,"",0,"",{"$f":"SUM(F52,J52,O52,LOOKUP(V52,{0,1,2,3,4,5},{0,5,4,3,2,1}),Y52,AF52,AI52)","v":0},"",0,"",0,"",0,"",0,0,0,0,0,0,0,0,0,0,0,0,0,null,null,null,null,null,null,null,null,null,0,"",0,"",{"$f":"SUM(AN52,AR52,AW52,LOOKUP(BD52,{0,1,2,3,4,5},{0,5,4,3,2,1}),BG52,BN52,BQ52)","v":0},"",0,"",0,"",0,"",0,0,0,0,0,0,0,0,0,0,0,0,0,null,"","","","","","","","","","","","",null,{"$f":"IF(Programs!$D$85=\"\",\"\",Programs!$D$85)","v":""},"","","","","","","","","","","","","",null,"","","","","","","","","","","",""]
[null,{"$f":"Programs!B86","v":0},{"$f":"IF(Programs!$C$82=\"\",\"\",Programs!$C$82)","v":""},null,null,null,null,null,null,null,null,null,null,null,null,null,null,null,null,null,null,null,null,null,null,null,null,null,null,null,null,null,null,null,null,null,null,null,null,null,null,null,null,null,null,null,null,null,null,null,null,null,null,null,null,null,null,null,null,null,null,null,null,null,null,null,null,null,null,null,null,{"$f":"Programs!C86","v":0},0,"",0,"",{"$f":"SUM(F53,J53,O53,LOOKUP(V53,{0,1,2,3,4,5},{0,5,4,3,2,1}),Y53,AF53,AI53)","v":0},"",0,"",0,"",0,"",0,0,0,0,0,0,0,0,0,0,0,0,0,null,null,null,null,null,null,null,null,null,0,"",0,"",{"$f":"SUM(AN53,AR53,AW53,LOOKUP(BD53,{0,1,2,3,4,5},{0,5,4,3,2,1}),BG53,BN53,BQ53)","v":0},"",0,"",0,"",0,"",0,0,0,0,0,0,0,0,0,0,0,0,0,null,"","","","","","","","","","","","",null,{"$f":"IF(Programs!$D$85=\"\",\"\",Programs!$D$85)","v":""},"","","","","","","","","","","","","",null,"","","","","","","","","","","",""]
[null,{"$f":"Programs!B87","v":0},{"$f":"IF(Programs!$C$82=\"\",\"\",Programs!$C$82)","v":""},null,null,null,null,null,null,null,null,null,null,null,null,null,null,null,null,null,null,null,null,null,null,null,null,null,null,null,null,null,null,null,null,null,null,null,null,null,null,null,null,null,null,null,null,null,null,null,null,null,null,null,null,null,null,null,null,null,null,null,null,null,null,null,null,null,null,null,null,{"$f":"Programs!C87","v":0},0,"",0,"",{"$f":"SUM(F54,J54,O54,LOOKUP(V54,{0,1,2,3,4,5},{0,5,4,3,2,1}),Y54,AF54,AI54)","v":0},"",0,"",0,"",0,"",0,0,0,0,0,0,0,0,0,0,0,0,0,null,null,null,null,null,null,null,null,null,0,"",0,"",{"$f":"SUM(AN54,AR54,AW54,LOOKUP(BD54,{0,1,2,3,4,5},{0,5,4,3,2,1}),BG54,BN54,BQ54)","v":0},"",0,"",0,"",0,"",0,0,0,0,0,0,0,0,0,0,0,0,0,null,"","","","","","","","","","","","",null,{"$f":"IF(Programs!$D$85=\"\",\"\",Programs!$D$85)","v":""},"","","","","","","","","","","","","",null,"","","","","","","","","","","",""]
[null,{"$f":"Programs!B88","v":0},{"$f":"IF(Programs!$C$82=\"\",\"\",Programs!$C$82)","v":""},null,null,null,null,null,null,null,null,null,null,null,null,null,null,null,null,null,null,null,null,null,null,null,null,null,null,null,null,null,null,null,null,null,null,null,null,null,null,null,null,null,null,null,null,null,null,null,null,null,null,null,null,null,null,null,null,null,null,null,null,null,null,null,null,null,null,null,null,{"$f":"Programs!C88","v":0},0,"",0,"",{"$f":"SUM(F55,J55,O55,LOOKUP(V55,{0,1,2,3,4,5},{0,5,4,3,2,1}),Y55,AF55,AI55)","v":0},"",0,"",0,"",0,"",0,0,0,0,0,0,0,0,0,0,0,0,0,null,null,null,null,null,null,null,null,null,0,"",0,"",{"$f":"SUM(AN55,AR55,AW55,LOOKUP(BD55,{0,1,2,3,4,5},{0,5,4,3,2,1}),BG55,BN55,BQ55)","v":0},"",0,"",0,"",0,"",0,0,0,0,0,0,0,0,0,0,0,0,0,null,"","","","","","","","","","","","",null,{"$f":"IF(Programs!$D$85=\"\",\"\",Programs!$D$85)","v":""},"","","","","","","","","","","","","",null,"","","","","","","","","","","",""]
[null,{"$f":"Programs!B89","v":0},{"$f":"IF(Programs!$C$82=\"\",\"\",Programs!$C$82)","v":""},null,null,null,null,null,null,null,null,null,null,null,null,null,null,null,null,null,null,null,null,null,null,null,null,null,null,null,null,null,null,null,null,null,null,null,null,null,null,null,null,null,null,null,null,null,null,null,null,null,null,null,null,null,null,null,null,null,null,null,null,null,null,null,null,null,null,null,null,{"$f":"Programs!C89","v":0},0,"",0,"",{"$f":"SUM(F56,J56,O56,LOOKUP(V56,{0,1,2,3,4,5},{0,5,4,3,2,1}),Y56,AF56,AI56)","v":0},"",0,"",0,"",0,"",0,0,0,0,0,0,0,0,0,0,0,0,0,null,null,null,null,null,null,null,null,null,0,"",0,"",{"$f":"SUM(AN56,AR56,AW56,LOOKUP(BD56,{0,1,2,3,4,5},{0,5,4,3,2,1}),BG56,BN56,BQ56)","v":0},"",0,"",0,"",0,"",0,0,0,0,0,0,0,0,0,0,0,0,0,null,"","","","","","","","","","","","",null,{"$f":"IF(Programs!$D$85=\"\",\"\",Programs!$D$85)","v":""},"","","","","","","","","","","","","",null,"","","","","","","","","","","",""]
[null,{"$f":"Programs!B90","v":0},{"$f":"IF(Programs!$C$82=\"\",\"\",Programs!$C$82)","v":""},null,null,null,null,null,null,null,null,null,null,null,null,null,null,null,null,null,null,null,null,null,null,null,null,null,null,null,null,null,null,null,null,null,null,null,null,null,null,null,null,null,null,null,null,null,null,null,null,null,null,null,null,null,null,null,null,null,null,null,null,null,null,null,null,null,null,null,null,{"$f":"Programs!C90","v":0},0,"",0,"",{"$f":"SUM(F57,J57,O57,LOOKUP(V57,{0,1,2,3,4,5},{0,5,4,3,2,1}),Y57,AF57,AI57)","v":0},"",0,"",0,"",0,"",0,0,0,0,0,0,0,0,0,0,0,0,0,null,null,null,null,null,null,null,null,null,0,"",0,"",{"$f":"SUM(AN57,AR57,AW57,LOOKUP(BD57,{0,1,2,3,4,5},{0,5,4,3,2,1}),BG57,BN57,BQ57)","v":0},"",0,"",0,"",0,"",0,0,0,0,0,0,0,0,0,0,0,0,0,null,"","","","","","","","","","","","",null,{"$f":"IF(Programs!$D$85=\"\",\"\",Programs!$D$85)","v":""},"","","","","","","","","","","","","",null,"","","","","","","","","","","",""]
[null,{"$f":"Programs!B91","v":0},{"$f":"IF(Programs!$C$82=\"\",\"\",Programs!$C$82)","v":""},null,null,null,null,null,null,null,null,null,null,null,null,null,null,null,null,null,null,null,null,null,null,null,null,null,null,null,null,null,null,null,null,null,null,null,null,null,null,null,null,null,null,null,null,null,null,null,null,null,null,null,null,null,null,null,null,null,null,null,null,null,null,null,null,null,null,null,null,{"$f":"Programs!C91","v":0},0,"",0,"",{"$f":"SUM(F58,J58,O58,LOOKUP(V58,{0,1,2,3,4,5},{0,5,4,3,2,1}),Y58,AF58,AI58)","v":0},"",0,"",0,"",0,"",0,0,0,0,0,0,0,0,0,0,0,0,0,null,null,null,null,null,null,null,null,null,0,"",0,"",{"$f":"SUM(AN58,AR58,AW58,LOOKUP(BD58,{0,1,2,3,4,5},{0,5,4,3,2,1}),BG58,BN58,BQ58)","v":0},"",0,"",0,"",0,"",0,0,0,0,0,0,0,0,0,0,0,0,0,null,"","","","","","","","","","","","",null,{"$f":"IF(Programs!$D$85=\"\",\"\",Programs!$D$85)","v":""},"","","","","","","","","","","","","",null,"","","","","","","","","","","",""]
[null,{"$f":"Programs!B92","v":0},{"$f":"IF(Programs!$C$82=\"\",\"\",Programs!$C$82)","v":""},null,null,null,null,null,null,null,null,null,null,null,null,null,null,null,null,null,null,null,null,null,null,null,null,null,null,null,null,null,null,null,null,null,null,null,null,null,null,null,null,null,null,null,null,null,null,null,null,null,null,null,null,null,null,null,null,null,null,null,null,null,null,null,null,null,null,null,null,{"$f":"Programs!C92","v":0},0,"",0,"",{"$f":"SUM(F59,J59,O59,LOOKUP(V59,{0,1,2,3,4,5},{0,5,4,3,2,1}),Y59,AF59,AI59)","v":0},"",0,"",0,"",0,"",0,0,0,0,0,0,0,0,0,0,0,0,0,null,null,null,null,null,null,null,null,null,0,"",0,"",{"$f":"SUM(AN59,AR59,AW59,LOOKUP(BD59,{0,1,2,3,4,5},{0,5,4,3,2,1}),BG59,BN59,BQ59)","v":0},"",0,"",0,"",0,"",0,0,0,0,0,0,0,0,0,0,0,0,0,null,"","","","","","","","","","","","",null,{"$f":"IF(Programs!$D$85=\"\",\"\",Programs!$D$85)","v":""},"","","","","","","","","","","","","",null,"","","","","","","","","","","",""]
[null,{"$f":"Programs!B93","v":0},{"$f":"IF(Programs!$C$82=\"\",\"\",Programs!$C$82)","v":""},null,null,null,null,null,null,null,null,null,null,null,null,null,null,null,null,null,null,null,null,null,null,null,null,null,null,null,null,null,null,null,null,null,null,null,null,null,null,null,null,null,null,null,null,null,null,null,null,null,null,null,null,null,null,null,null,null,null,null,null,null,null,null,null,null,null,null,null,{"$f":"Programs!C93","v":0},{"$f":"SUM(K60,M60,N60,T60,Z60,AA60,AB60,AD60)","v":0},{"$f":"IF(OR($BT60=0,BU60=0),\"\",(IF($BT60=\"Male\",(VLOOKUP(BU60,PHYMT,3,FALSE)),(VLOOKUP(BU60,PHFMT,2,FALSE)))))","v":""},{"$f":"SUM(D60,G60,I60,W60,AC60)","v":0},{"$f":"IF(BW60=0,\"\",VLOOKUP(BW60,VER,5,FALSE))","v":""},{"$f":"SUM(F60,J60,O60,LOOKUP(V60,{0,1,2,3,4,5},{0,5,4,3,2,1}),Y60,AF60,AI60)","v":0},{"$f":"IF(BY60=0,\"\",VLOOKUP(BY60,ANG,4,FALSE))","v":""},{"$f":"SUM(E60,H60,L60,S60,X60,AE60,AH60,AJ60)","v":0},{"$f":"IF(CA60=0,\"\",IF(CA60>38,81,VLOOKUP(CA60,HOS,3,FALSE)))","v":""},{"$f":"SUM(P60,Q60,R60,U60,AG60,AK60)","v":0},{"$f":"IF(CC60=0,\"\",VLOOKUP(CC60,IND,2,FALSE))","v":""},{"$f":"SUM(BU60,BW60,BY60,CA60,CC60)","v":0},{"$f":"IF(CE60=0,\"\",VLOOKUP(CE60,AQT,2,FALSE))","v":""},{"$f":"SUM(CH60:CS60)","v":0},{"$f":"IF(ABS(D60-Y60)>1,1,0)","v":0},{"$f":"IF(ABS(E60-H60)>1,1,0)","v":0},{"$f":"IF(ABS(G60-I60)>1,1,0)","v":0},{"$f":"IF(ABS(J60-AJ60)>1,1,0)","v":0},{"$f":"IF(ABS(K60-N60)>1,1,0)","v":0},{"$f":"IF(ABS(L60-AF60)>1,1,0)","v":0},{"$f":"IF(ABS(M60-P60)>1,1,0)","v":0},{"$f":"IF(ABS(O60-AI60)>1,1,0)","v":0},{"$f":"IF(ABS(Q60-T60)>1,1,0)","v":0},{"$f":"IF(ABS(X60-AH60)>1,1,0)","v":0},{"$f":"IF(ABS(Z60-AA60)>1,1,0)","v":0},{"$f":"IF(ABS(AB60-AD60)>1,1,0)","v":0},null,null,null,null,null,null,null,null,null,{"$f":"SUM(AS60,AU60,AV60,BB60,BH60,BI60,BJ60,BL60)","v":0},{"$f":"IF(OR($BT60=0,DC60=0),\"\",(IF($BT60=\"Male\",(VLOOKUP(DC60,PHYMT,3,FALSE)),(VLOOKUP(DC60,PHFMT,2,FALSE)))))","v":""},{"$f":"SUM(AL60,AO60,AQ60,BE60,BK60)","v":0},{"$f":"IF(DE60=0,\"\",VLOOKUP(DE60,VER,5,FALSE))","v":""},{"$f":"SUM(AN60,AR60,AW60,LOOKUP(BD60,{0,1,2,3,4,5},{0,5,4,3,2,1}),BG60,BN60,BQ60)","v":0},{"$f":"IF(DG60=0,\"\",VLOOKUP(DG60,ANG,4,FALSE))","v":""},{"$f":"SUM(AM60,AP60,AT60,BA60,BF60,BM60,BP60,BR60)","v":0},{"$f":"IF(DI60=0,\"\",VLOOKUP(DI60,HOS,3,FALSE))","v":""},{"$f":"SUM(AX60,AY60,AZ60,BC60,BO60,BS60)","v":0},{"$f":"IF(DK60=0,\"\",VLOOKUP(DK60,IND,2,FALSE))","v":""},{"$f":"SUM(DC60,DE60,DG60,DI60,DK60)","v":0},{"$f":"IF(DM60=0,\"\",IF(DM60<39,24,VLOOKUP(DM60,AQT,2,FALSE)))","v":""},{"$f":"SUM(DP60:EA60)","v":0},{"$f":"IF(ABS(AL60-BG60)>1,1,0)","v":0},{"$f":"IF(ABS(AM60-AP60)>1,1,0)","v":0},{"$f":"IF(ABS(AO60-AQ60)>1,1,0)","v":0},{"$f":"IF(ABS(AR60-BR60)>1,1,0)","v":0},{"$f":"IF(ABS(AS60-AV60)>1,1,0)","v":0},{"$f":"IF(ABS(AT60-BN60)>1,1,0)","v":0},{"$f":"IF(ABS(AU60-AX60)>1,1,0)","v":0},{"$f":"IF(ABS(AW60-BQ60)>1,1,0)","v":0},{"$f":"IF(ABS(AY60-BB60)>1,1,0)","v":0},{"$f":"IF(ABS(BF60-BP60)>1,1,0)","v":0},{"$f":"IF(ABS(BH60-BI60)>1,1,0)","v":0},{"$f":"IF(ABS(BJ60-BL60)>1,1,0)","v":0},null,{"$f":"IF(EQ60<>\"\",(DC60/8)-(BU60/8),\"\")","v":""},{"$f":"IF(EQ60<>\"\",IF(BT60=0,\"\",DD60-BV60),\"\")","v":""},{"$f":"IF(EQ60<>\"\",(DE60/5)-(BW60/5),\"\")","v":""},{"$f":"IF(EQ60<>\"\",DF60-BX60,\"\")","v":""},{"$f":"IF(EQ60<>\"\",(DG60/7)-(BY60/7),\"\")","v":""},{"$f":"IF(EQ60<>\"\",DH60-BZ60,\"\")","v":""},{"$f":"IF(EQ60<>\"\",(DI60/8)-(CA60/8),\"\")","v":""},{"$f":"IF(EQ60<>\"\",DJ60-CB60,\"\")","v":""},{"$f":"IF(EQ60<>\"\",(DK60/6)-(CC60/6),\"\")","v":""},{"$f":"IF(EQ60<>\"\",DL60-CD60,\"\")","v":""},{"$f":"IF(EQ60<>\"\",(DM60/34)-(CE60/34),\"\")","v":""},{"$f":"IF(EQ60<>\"\",DN60-CF60,\"\")","v":""},null,{"$f":"IF(Programs!$D$85=\"\",\"\",Programs!$D$85)","v":""},{"$f":"IF(AND(COUNT(D60:AK60)>30,COUNT(AL60:BS60)>30),EP60,\"\")","v":""},"","","","","","","","","","","","",null,"","","","","","","","","","","",""]
[null,{"$f":"Programs!B94","v":0},{"$f":"IF(Programs!$C$82=\"\",\"\",Programs!$C$82)","v":""},null,null,null,null,null,null,null,null,null,null,null,null,null,null,null,null,null,null,null,null,null,null,null,null,null,null,null,null,null,null,null,null,null,null,null,null,null,null,null,null,null,null,null,null,null,null,null,null,null,null,null,null,null,null,null,null,null,null,null,null,null,null,null,null,null,null,null,null,{"$f":"Programs!C94","v":0},0,"",0,"",{"$f":"SUM(F61,J61,O61,LOOKUP(V61,{0,1,2,3,4,5},{0,5,4,3,2,1}),Y61,AF61,AI61)","v":0},"",0,"",0,"",0,"",0,0,0,0,0,0,0,0,0,0,0,0,0,null,null,null,null,null,null,null,null,null,0,"",0,"",{"$f":"SUM(AN61,AR61,AW61,LOOKUP(BD61,{0,1,2,3,4,5},{0,5,4,3,2,1}),BG61,BN61,BQ61)","v":0},"",0,"",0,"",0,"",0,0,0,0,0,0,0,0,0,0,0,0,0,null,"","","","","","","","","","","","",null,{"$f":"IF(Programs!$D$85=\"\",\"\",Programs!$D$85)","v":""},"","","","","","","","","","","","","",null,"","","","","","","","","","","",""]
[null,{"$f":"Programs!B95","v":0},{"$f":"IF(Programs!$C$82=\"\",\"\",Programs!$C$82)","v":""},null,null,null,null,null,null,null,null,null,null,null,null,null,null,null,null,null,null,null,null,null,null,null,null,null,null,null,null,null,null,null,null,null,null,null,null,null,null,null,null,null,null,null,null,null,null,null,null,null,null,null,null,null,null,null,null,null,null,null,null,null,null,null,null,null,null,null,null,{"$f":"Programs!C95","v":0},0,"",0,"",{"$f":"SUM(F62,J62,O62,LOOKUP(V62,{0,1,2,3,4,5},{0,5,4,3,2,1}),Y62,AF62,AI62)","v":0},"",0,"",0,"",0,"",0,0,0,0,0,0,0,0,0,0,0,0,0,null,null,null,null,null,null,null,null,null,0,"",0,"",{"$f":"SUM(AN62,AR62,AW62,LOOKUP(BD62,{0,1,2,3,4,5},{0,5,4,3,2,1}),BG62,BN62,BQ62)","v":0},"",0,"",0,"",0,"",0,0,0,0,0,0,0,0,0,0,0,0,0,null,"","","","","","","","","","","","",null,{"$f":"IF(Programs!$D$85=\"\",\"\",Programs!$D$85)","v":""},"","","","","","","","","","","","","",null,"","","","","","","","","","","",""]
[null,{"$f":"Programs!B96","v":0},{"$f":"IF(Programs!$C$82=\"\",\"\",Programs!$C$82)","v":""},null,null,null,null,null,null,null,null,null,null,null,null,null,null,null,null,null,null,null,null,null,null,null,null,null,null,null,null,null,null,null,null,null,null,null,null,null,null,null,null,null,null,null,null,null,null,null,null,null,null,null,null,null,null,null,null,null,null,null,null,null,null,null,null,null,null,null,null,{"$f":"Programs!C96","v":0},0,"",0,"",{"$f":"SUM(F63,J63,O63,LOOKUP(V63,{0,1,2,3,4,5},{0,5,4,3,2,1}),Y63,AF63,AI63)","v":0},"",0,"",0,"",0,"",0,0,0,0,0,0,0,0,0,0,0,0,0,null,null,null,null,null,null,null,null,null,0,"",0,"",{"$f":"SUM(AN63,AR63,AW63,LOOKUP(BD63,{0,1,2,3,4,5},{0,5,4,3,2,1}),BG63,BN63,BQ63)","v":0},"",0,"",0,"",0,"",0,0,0,0,0,0,0,0,0,0,0,0,0,null,"","","","","","","","","","","","",null,{"$f":"IF(Programs!$D$85=\"\",\"\",Programs!$D$85)","v":""},"","","","","","","","","","","","","",null,"","","","","","","","","","","",""]
["Program 6",{"$f":"Programs!B104","v":0},{"$f":"IF(Programs!$C$101=\"\",\"\",Programs!$C$101)","v":""},null,null,null,null,null,null,null,null,null,null,null,null,null,null,null,null,null,null,null,null,null,null,null,null,null,null,null,null,null,null,null,null,null,null,null,null,null,null,null,null,null,null,null,null,null,null,null,null,null,null,null,null,null,null,null,null,null,null,null,null,null,null,null,null,null,null,null,null,{"$f":"Programs!C104","v":0},0,"",0,"",{"$f":"SUM(F64,J64,O64,LOOKUP(V64,{0,1,2,3,4,5},{0,5,4,3,2,1}),Y64,AF64,AI64)","v":0},"",0,"",0,"",0,"",0,0,0,0,0,0,0,0,0,0,0,0,0,null,null,null,null,null,null,null,null,null,0,"",0,"",{"$f":"SUM(AN64,AR64,AW64,LOOKUP(BD64,{0,1,2,3,4,5},{0,5,4,3,2,1}),BG64,BN64,BQ64)","v":0},"",0,"",0,"",0,"",0,0,0,0,0,0,0,0,0,0,0,0,0,null,"","","","","","","","","","","","",null,{"$f":"IF(Programs!$D$104=\"\",\"\",Programs!$D$104)","v":""},"","","","","","","","","","","","","",null,"","","","","","","","","","","",""]
[null,{"$f":"Programs!B105","v":0},{"$f":"IF(Programs!$C$101=\"\",\"\",Programs!$C$101)","v":""},null,null,null,null,null,null,null,null,null,null,null,null,null,null,null,null,null,null,null,null,null,null,null,null,null,null,null,null,null,null,null,null,null,null,null,null,null,null,null,null,null,null,null,null,null,null,null,null,null,null,null,null,null,null,null,null,null,null,null,null,null,null,null,null,null,null,null,null,{"$f":"Programs!C105","v":0},0,"",0,"",{"$f":"SUM(F65,J65,O65,LOOKUP(V65,{0,1,2,3,4,5},{0,5,4,3,2,1}),Y65,AF65,AI65)","v":0},"",0,"",0,"",0,"",0,0,0,0,0,0,0,0,0,0,0,0,0,null,null,null,null,null,null,null,null,null,0,"",0,"",{"$f":"SUM(AN65,AR65,AW65,LOOKUP(BD65,{0,1,2,3,4,5},{0,5,4,3,2,1}),BG65,BN65,BQ65)","v":0},"",0,"",0,"",0,"",0,0,0,0,0,0,0,0,0,0,0,0,0,null,"","","","","","","","","","","","",null,{"$f":"IF(Programs!$D$104=\"\",\"\",Programs!$D$104)","v":""},"","","","","","","","","","","","","",null,"","","","","","","","","","","",""]
[null,{"$f":"Programs!B106","v":0},{"$f":"IF(Programs!$C$101=\"\",\"\",Programs!$C$101)","v":""},null,null,null,null,null,null,null,null,null,null,null,null,null,null,null,null,null,null,null,null,null,null,null,null,null,null,null,null,null,null,null,null,null,null,null,null,null,null,null,null,null,null,null,null,null,null,null,null,null,null,null,null,null,null,null,null,null,null,null,null,null,null,null,null,null,null,null,null,{"$f":"Programs!C106","v":0},0,"",0,"",{"$f":"SUM(F66,J66,O66,LOOKUP(V66,{0,1,2,3,4,5},{0,5,4,3,2,1}),Y66,AF66,AI66)","v":0},"",0,"",0,"",0,"",0,0,0,0,0,0,0,0,0,0,0,0,0,null,null,null,null,null,null,null,null,null,0,"",0,"",{"$f":"SUM(AN66,AR66,AW66,LOOKUP(BD66,{0,1,2,3,4,5},{0,5,4,3,2,1}),BG66,BN66,BQ66)","v":0},"",0,"",0,"",0,"",0,0,0,0,0,0,0,0,0,0,0,0,0,null,"","","","","","","","","","","","",null,{"$f":"IF(Programs!$D$104=\"\",\"\",Programs!$D$104)","v":""},"","","","","","","","","","","","","",null,"","","","","","","","","","","",""]
[null,{"$f":"Programs!B107","v":0},{"$f":"IF(Programs!$C$101=\"\",\"\",Programs!$C$101)","v":""},null,null,null,null,null,null,null,null,null,null,null,null,null,null,null,null,null,null,null,null,null,null,null,null,null,null,null,null,null,null,null,null,null,null,null,null,null,null,null,null,null,null,null,null,null,null,null,null,null,null,null,null,null,null,null,null,null,null,null,null,null,null,null,null,null,null,null,null,{"$f":"Programs!C107","v":0},0,"",0,"",{"$f":"SUM(F67,J67,O67,LOOKUP(V67,{0,1,2,3,4,5},{0,5,4,3,2,1}),Y67,AF67,AI67)","v":0},"",0,"",0,"",0,"",0,0,0,0,0,0,0,0,0,0,0,0,0,null,null,null,null,null,null,null,null,null,0,"",0,"",{"$f":"SUM(AN67,AR67,AW67,LOOKUP(BD67,{0,1,2,3,4,5},{0,5,4,3,2,1}),BG67,BN67,BQ67)","v":0},"",0,"",0,"",0,"",0,0,0,0,0,0,0,0,0,0,0,0,0,null,"","","","","","","","","","","","",null,{"$f":"IF(Programs!$D$104=\"\",\"\",Programs!$D$104)","v":""},"","","","","","","","","","","","","",null,"","","","","","","","","","","",""]
[null,{"$f":"Programs!B108","v":0},{"$f":"IF(Programs!$C$101=\"\",\"\",Programs!$C$101)","v":""},null,null,null,null,null,null,null,null,null,null,null,null,null,null,null,null,null,null,null,null,null,null,null,null,null,null,null,null,null,null,null,null,null,null,null,null,null,null,null,null,null,null,null,null,null,null,null,null,null,null,null,null,null,null,null,null,null,null,null,null,null,null,null,null,null,null,null,null,{"$f":"Programs!C108","v":0},0,"",0,"",{"$f":"SUM(F68,J68,O68,LOOKUP(V68,{0,1,2,3,4,5},{0,5,4,3,2,1}),Y68,AF68,AI68)","v":0},"",0,"",0,"",0,"",0,0,0,0,0,0,0,0,0,0,0,0,0,null,null,null,null,null,null,null,null,null,0,"",0,"",{"$f":"SUM(AN68,AR68,AW68,LOOKUP(BD68,{0,1,2,3,4,5},{0,5,4,3,2,1}),BG68,BN68,BQ68)","v":0},"",0,"",0,"",0,"",0,0,0,0,0,0,0,0,0,0,0,0,0,null,"","","","","","","","","","","","",null,{"$f":"IF(Programs!$D$104=\"\",\"\",Programs!$D$104)","v":""},"","","","","","","","","","","","","",null,"","","","","","","","","","","",""]
[null,{"$f":"Programs!B109","v":0},{"$f":"IF(Programs!$C$101=\"\",\"\",Programs!$C$101)","v":""},null,null,null,null,null,null,null,null,null,null,null,null,null,null,null,null,null,null,null,null,null,null,null,null,null,null,null,null,null,null,null,null,null,null,null,null,null,null,null,null,null,null,null,null,null,null,null,null,null,null,null,null,null,null,null,null,null,null,null,null,null,null,null,null,null,null,null,null,{"$f":"Programs!C109","v":0},0,"",0,"",{"$f":"SUM(F69,J69,O69,LOOKUP(V69,{0,1,2,3,4,5},{0,5,4,3,2,1}),Y69,AF69,AI69)","v":0},"",0,"",0,"",0,"",0,0,0,0,0,0,0,0,0,0,0,0,0,null,null,null,null,null,null,null,null,null,0,"",0,"",{"$f":"SUM(AN69,AR69,AW69,LOOKUP(BD69,{0,1,2,3,4,5},{0,5,4,3,2,1}),BG69,BN69,BQ69)","v":0},"",0,"",0,"",0,"",0,0,0,0,0,0,0,0,0,0,0,0,0,null,"","","","","","","","","","","","",null,{"$f":"IF(Programs!$D$104=\"\",\"\",Programs!$D$104)","v":""},"",{"$f":"IF($EQ69=\"\",\"\",IF(EC69<0,$EQ69,\"\"))","v":""},{"$f":"IF(ED69<0,$EQ69,\"\")","v":""},{"$f":"IF($EQ69=\"\",\"\",IF(EE69<0,$EQ69,\"\"))","v":""},{"$f":"IF(EF69<0,$EQ69,\"\")","v":""},{"$f":"IF($EQ69=\"\",\"\",IF(EG69<0,$EQ69,\"\"))","v":""},{"$f":"IF(EH69<0,$EQ69,\"\")","v":""},{"$f":"IF($EQ69=\"\",\"\",IF(EI69<0,$EQ69,\"\"))","v":""},{"$f":"IF(EJ69<0,$EQ69,\"\")","v":""},{"$f":"IF($EQ69=\"\",\"\",IF(EK69<0,$EQ69,\"\"))","v":""},{"$f":"IF(EL69<0,$EQ69,\"\")","v":""},{"$f":"IF($EQ69=\"\",\"\",IF(EM69<0,$EQ69,\"\"))","v":""},{"$f":"IF(EN69<0,$EQ69,\"\")","v":""},null,{"$f":"IF($EQ69=\"\",\"\",IF(EC69>0,$EQ69,\"\"))","v":""},{"$f":"IF(ED69>0,$EQ69,\"\")","v":""},{"$f":"IF($EQ69=\"\",\"\",IF(EE69>0,$EQ69,\"\"))","v":""},{"$f":"IF(EF69>0,$EQ69,\"\")","v":""},{"$f":"IF($EQ69=\"\",\"\",IF(EG69>0,$EQ69,\"\"))","v":""},{"$f":"IF(EH69>0,$EQ69,\"\")","v":""},{"$f":"IF($EQ69=\"\",\"\",IF(EI69>0,$EQ69,\"\"))","v":""},{"$f":"IF(EJ69>0,$EQ69,\"\")","v":""},{"$f":"IF($EQ69=\"\",\"\",IF(EK69>0,$EQ69,\"\"))","v":""},{"$f":"IF(EL69>0,$EQ69,\"\")","v":""},{"$f":"IF($EQ69=\"\",\"\",IF(EM69>0,$EQ69,\"\"))","v":""},{"$f":"IF(EN69>0,$EQ69,\"\")","v":""}]
[null,{"$f":"Programs!B110","v":0},{"$f":"IF(Programs!$C$101=\"\",\"\",Programs!$C$101)","v":""},null,null,null,null,null,null,null,null,null,null,null,null,null,null,null,null,null,null,null,null,null,null,null,null,null,null,null,null,null,null,null,null,null,null,null,null,null,null,null,null,null,null,null,null,null,null,null,null,null,null,null,null,null,null,null,null,null,null,null,null,null,null,null,null,null,null,null,null,{"$f":"Programs!C110","v":0},0,"",0,"",{"$f":"SUM(F70,J70,O70,LOOKUP(V70,{0,1,2,3,4,5},{0,5,4,3,2,1}),Y70,AF70,AI70)","v":0},"",0,"",0,"",0,"",0,0,0,0,0,0,0,0,0,0,0,0,0,null,null,null,null,null,null,null,null,null,0,"",0,"",{"$f":"SUM(AN70,AR70,AW70,LOOKUP(BD70,{0,1,2,3,4,5},{0,5,4,3,2,1}),BG70,BN70,BQ70)","v":0},"",0,"",0,"",0,"",0,0,0,0,0,0,0,0,0,0,0,0,0,null,"","","","","","","","","","","","",null,{"$f":"IF(Programs!$D$104=\"\",\"\",Programs!$D$104)","v":""},"","","","","","","","","","","","","",null,"","","","","","","","","","","",""]
[null,{"$f":"Programs!B111","v":0},{"$f":"IF(Programs!$C$101=\"\",\"\",Programs!$C$101)","v":""},null,null,null,null,null,null,null,null,null,null,null,null,null,null,null,null,null,null,null,null,null,null,null,null,null,null,null,null,null,null,null,null,null,null,null,null,null,null,null,null,null,null,null,null,null,null,null,null,null,null,null,null,null,null,null,null,null,null,null,null,null,null,null,null,null,null,null,null,{"$f":"Programs!C111","v":0},0,"",0,"",{"$f":"SUM(F71,J71,O71,LOOKUP(V71,{0,1,2,3,4,5},{0,5,4,3,2,1}),Y71,AF71,AI71)","v":0},"",0,"",0,"",0,"",0,0,0,0,0,0,0,0,0,0,0,0,0,null,null,null,null,null,null,null,null,null,0,"",0,"",{"$f":"SUM(AN71,AR71,AW71,LOOKUP(BD71,{0,1,2,3,4,5},{0,5,4,3,2,1}),BG71,BN71,BQ71)","v":0},"",0,"",0,"",0,"",0,0,0,0,0,0,0,0,0,0,0,0,0,null,"","","","","","","","","","","","",null,{"$f":"IF(Programs!$D$104=\"\",\"\",Programs!$D$104)","v":""},"","","","","","","","","","","","","",null,"","","","","","","","","","","",""]
[null,{"$f":"Programs!B112","v":0},{"$f":"IF(Programs!$C$101=\"\",\"\",Programs!$C$101)","v":""},null,null,null,null,null,null,null,null,null,null,null,null,null,null,null,null,null,null,null,null,null,null,null,null,null,null,null,null,null,null,null,null,null,null,null,null,null,null,null,null,null,null,null,null,null,null,null,null,null,null,null,null,null,null,null,null,null,null,null,null,null,null,null,null,null,null,null,null,{"$f":"Programs!C112","v":0},{"$f":"SUM(K72,M72,N72,T72,Z72,AA72,AB72,AD72)","v":0},{"$f":"IF(OR($BT72=0,BU72=0),\"\",(IF($BT72=\"Male\",(VLOOKUP(BU72,PHYMT,3,FALSE)),(VLOOKUP(BU72,PHFMT,2,FALSE)))))","v":""},{"$f":"SUM(D72,G72,I72,W72,AC72)","v":0},{"$f":"IF(BW72=0,\"\",VLOOKUP(BW72,VER,5,FALSE))","v":""},{"$f":"SUM(F72,J72,O72,LOOKUP(V72,{0,1,2,3,4,5},{0,5,4,3,2,1}),Y72,AF72,AI72)","v":0},{"$f":"IF(BY72=0,\"\",VLOOKUP(BY72,ANG,4,FALSE))","v":""},{"$f":"SUM(E72,H72,L72,S72,X72,AE72,AH72,AJ72)","v":0},{"$f":"IF(CA72=0,\"\",IF(CA72>38,81,VLOOKUP(CA72,HOS,3,FALSE)))","v":""},{"$f":"SUM(P72,Q72,R72,U72,AG72,AK72)","v":0},{"$f":"IF(CC72=0,\"\",VLOOKUP(CC72,IND,2,FALSE))","v":""},{"$f":"SUM(BU72,BW72,BY72,CA72,CC72)","v":0},{"$f":"IF(CE72=0,\"\",VLOOKUP(CE72,AQT,2,FALSE))","v":""},{"$f":"SUM(CH72:CS72)","v":0},{"$f":"IF(ABS(D72-Y72)>1,1,0)","v":0},{"$f":"IF(ABS(E72-H72)>1,1,0)","v":0},{"$f":"IF(ABS(G72-I72)>1,1,0)","v":0},{"$f":"IF(ABS(J72-AJ72)>1,1,0)","v":0},{"$f":"IF(ABS(K72-N72)>1,1,0)","v":0},{"$f":"IF(ABS(L72-AF72)>1,1,0)","v":0},{"$f":"IF(ABS(M72-P72)>1,1,0)","v":0},{"$f":"IF(ABS(O72-AI72)>1,1,0)","v":0},{"$f":"IF(ABS(Q72-T72)>1,1,0)","v":0},{"$f":"IF(ABS(X72-AH72)>1,1,0)","v":0},{"$f":"IF(ABS(Z72-AA72)>1,1,0)","v":0},{"$f":"IF(ABS(AB72-AD72)>1,1,0)","v":0},null,null,null,null,null,null,null,null,null,{"$f":"SUM(AS72,AU72,AV72,BB72,BH72,BI72,BJ72,BL72)","v":0},{"$f":"IF(OR($BT72=0,DC72=0),\"\",(IF($BT72=\"Male\",(VLOOKUP(DC72,PHYMT,3,FALSE)),(VLOOKUP(DC72,PHFMT,2,FALSE)))))","v":""},{"$f":"SUM(AL72,AO72,AQ72,BE72,BK72)","v":0},{"$f":"IF(DE72=0,\"\",VLOOKUP(DE72,VER,5,FALSE))","v":""},{"$f":"SUM(AN72,AR72,AW72,LOOKUP(BD72,{0,1,2,3,4,5},{0,5,4,3,2,1}),BG72,BN72,BQ72)","v":0},{"$f":"IF(DG72=0,\"\",VLOOKUP(DG72,ANG,4,FALSE))","v":""},{"$f":"SUM(AM72,AP72,AT72,BA72,BF72,BM72,BP72,BR72)","v":0},{"$f":"IF(DI72=0,\"\",VLOOKUP(DI72,HOS,3,FALSE))","v":""},{"$f":"SUM(AX72,AY72,AZ72,BC72,BO72,BS72)","v":0},{"$f":"IF(DK72=0,\"\",VLOOKUP(DK72,IND,2,FALSE))","v":""},{"$f":"SUM(DC72,DE72,DG72,DI72,DK72)","v":0},{"$f":"IF(DM72=0,\"\",IF(DM72<39,24,VLOOKUP(DM72,AQT,2,FALSE)))","v":""},{"$f":"SUM(DP72:EA72)","v":0},{"$f":"IF(ABS(AL72-BG72)>1,1,0)","v":0},{"$f":"IF(ABS(AM72-AP72)>1,1,0)","v":0},{"$f":"IF(ABS(AO72-AQ72)>1,1,0)","v":0},{"$f":"IF(ABS(AR72-BR72)>1,1,0)","v":0},{"$f":"IF(ABS(AS72-AV72)>1,1,0)","v":0},{"$f":"IF(ABS(AT72-BN72)>1,1,0)","v":0},{"$f":"IF(ABS(AU72-AX72)>1,1,0)","v":0},{"$f":"IF(ABS(AW72-BQ72)>1,1,0)","v":0},{"$f":"IF(ABS(AY72-BB72)>1,1,0)","v":0},{"$f":"IF(ABS(BF72-BP72)>1,1,0)","v":0},{"$f":"IF(ABS(BH72-BI72)>1,1,0)","v":0},{"$f":"IF(ABS(BJ72-BL72)>1,1,0)","v":0},null,{"$f":"IF(EQ72<>\"\",(DC72/8)-(BU72/8),\"\")","v":""},{"$f":"IF(EQ72<>\"\",IF(BT72=0,\"\",DD72-BV72),\"\")","v":""},{"$f":"IF(EQ72<>\"\",(DE72/5)-(BW72/5),\"\")","v":""},{"$f":"IF(EQ72<>\"\",DF72-BX72,\"\")","v":""},{"$f":"IF(EQ72<>\"\",(DG72/7)-(BY72/7),\"\")","v":""},{"$f":"IF(EQ72<>\"\",DH72-BZ72,\"\")","v":""},{"$f":"IF(EQ72<>\"\",(DI72/8)-(CA72/8),\"\")","v":""},{"$f":"IF(EQ72<>\"\",DJ72-CB72,\"\")","v":""},{"$f":"IF(EQ72<>\"\",(DK72/6)-(CC72/6),\"\")","v":""},{"$f":"IF(EQ72<>\"\",DL72-CD72,\"\")","v":""},{"$f":"IF(EQ72<>\"\",(DM72/34)-(CE72/34),\"\")","v":""},{"$f":"IF(EQ72<>\"\",DN72-CF72,\"\")","v":""},null,{"$f":"IF(Programs!$D$104=\"\",\"\",Programs!$D$104)","v":""},{"$f":"IF(AND(COUNT(D72:AK72)>30,COUNT(AL72:BS72)>30),EP72,\"\")","v":""},"","","","","","","","","","","","",null,"","","","","","","","","","","",""]
[null,{"$f":"Programs!B113","v":0},{"$f":"IF(Programs!$C$101=\"\",\"\",Programs!$C$101)","v":""},null,null,null,null,null,null,null,null,null,null,null,null,null,null,null,null,null,null,null,null,null,null,null,null,null,null,null,null,null,null,null,null,null,null,null,null,null,null,null,null,null,null,null,null,null,null,null,null,null,null,null,null,null,null,null,null,null,null,null,null,null,null,null,null,null,null,null,null,{"$f":"Programs!C113","v":0},0,"",0,"",{"$f":"SUM(F73,J73,O73,LOOKUP(V73,{0,1,2,3,4,5},{0,5,4,3,2,1}),Y73,AF73,AI73)","v":0},"",0,"",0,"",0,"",0,0,0,0,0,0,0,0,0,0,0,0,0,null,null,null,null,null,null,null,null,null,0,"",0,"",{"$f":"SUM(AN73,AR73,AW73,LOOKUP(BD73,{0,1,2,3,4,5},{0,5,4,3,2,1}),BG73,BN73,BQ73)","v":0},"",0,"",0,"",0,"",0,0,0,0,0,0,0,0,0,0,0,0,0,null,"","","","","","","","","","","","",null,{"$f":"IF(Programs!$D$104=\"\",\"\",Programs!$D$104)","v":""},"","","","","","","","","","","","","",null,"","","","","","","","","","","",""]
[null,{"$f":"Programs!B114","v":0},{"$f":"IF(Programs!$C$101=\"\",\"\",Programs!$C$101)","v":""},null,null,null,null,null,null,null,null,null,null,null,null,null,null,null,null,null,null,null,null,null,null,null,null,null,null,null,null,null,null,null,null,null,null,null,null,null,null,null,null,null,null,null,null,null,null,null,null,null,null,null,null,null,null,null,null,null,null,null,null,null,null,null,null,null,null,null,null,{"$f":"Programs!C114","v":0},0,"",0,"",{"$f":"SUM(F74,J74,O74,LOOKUP(V74,{0,1,2,3,4,5},{0,5,4,3,2,1}),Y74,AF74,AI74)","v":0},"",0,"",0,"",0,"",0,0,0,0,0,0,0,0,0,0,0,0,0,null,null,null,null,null,null,null,null,null,0,"",0,"",{"$f":"SUM(AN74,AR74,AW74,LOOKUP(BD74,{0,1,2,3,4,5},{0,5,4,3,2,1}),BG74,BN74,BQ74)","v":0},"",0,"",0,"",0,"",0,0,0,0,0,0,0,0,0,0,0,0,0,null,"","","","","","","","","","","","",null,{"$f":"IF(Programs!$D$104=\"\",\"\",Programs!$D$104)","v":""},"","","","","","","","","","","","","",null,"","","","","","","","","","","",""]
[null,{"$f":"Programs!B115","v":0},{"$f":"IF(Programs!$C$101=\"\",\"\",Programs!$C$101)","v":""},null,null,null,null,null,null,null,null,null,null,null,null,null,null,null,null,null,null,null,null,null,null,null,null,null,null,null,null,null,null,null,null,null,null,null,null,null,null,null,null,null,null,null,null,null,null,null,null,null,null,null,null,null,null,null,null,null,null,null,null,null,null,null,null,null,null,null,null,{"$f":"Programs!C115","v":0},0,"",0,"",{"$f":"SUM(F75,J75,O75,LOOKUP(V75,{0,1,2,3,4,5},{0,5,4,3,2,1}),Y75,AF75,AI75)","v":0},"",0,"",0,"",0,"",0,0,0,0,0,0,0,0,0,0,0,0,0,null,null,null,null,null,null,null,null,null,0,"",0,"",{"$f":"SUM(AN75,AR75,AW75,LOOKUP(BD75,{0,1,2,3,4,5},{0,5,4,3,2,1}),BG75,BN75,BQ75)","v":0},"",0,"",0,"",0,"",0,0,0,0,0,0,0,0,0,0,0,0,0,null,"","","","","","","","","","","","",null,{"$f":"IF(Programs!$D$104=\"\",\"\",Programs!$D$104)","v":""},"","","","","","","","","","","","","",null,"","","","","","","","","","","",""]
["Program 7",{"$f":"Programs!B123","v":0},{"$f":"IF(Programs!$C$120=\"\",\"\",Programs!$C$120)","v":""},null,null,null,null,null,null,null,null,null,null,null,null,null,null,null,null,null,null,null,null,null,null,null,null,null,null,null,null,null,null,null,null,null,null,null,null,null,null,null,null,null,null,null,null,null,null,null,null,null,null,null,null,null,null,null,null,null,null,null,null,null,null,null,null,null,null,null,null,{"$f":"Programs!C123","v":0},0,"",0,"",{"$f":"SUM(F76,J76,O76,LOOKUP(V76,{0,1,2,3,4,5},{0,5,4,3,2,1}),Y76,AF76,AI76)","v":0},"",0,"",0,"",0,"",0,0,0,0,0,0,0,0,0,0,0,0,0,null,null,null,null,null,null,null,null,null,0,"",0,"",{"$f":"SUM(AN76,AR76,AW76,LOOKUP(BD76,{0,1,2,3,4,5},{0,5,4,3,2,1}),BG76,BN76,BQ76)","v":0},"",0,"",0,"",0,"",0,0,0,0,0,0,0,0,0,0,0,0,0,null,"","","","","","","","","","","","",null,{"$f":"IF(Programs!$D$120=\"\",\"\",Programs!$D$120)","v":""},"","","","","","","","","","","","","",null,"","","","","","","","","","","",""]
[null,{"$f":"Programs!B124","v":0},{"$f":"IF(Programs!$C$120=\"\",\"\",Programs!$C$120)","v":""},null,null,null,null,null,null,null,null,null,null,null,null,null,null,null,null,null,null,null,null,null,null,null,null,null,null,null,null,null,null,null,null,null,null,null,null,null,null,null,null,null,null,null,null,null,null,null,null,null,null,null,null,null,null,null,null,null,null,null,null,null,null,null,null,null,null,null,null,{"$f":"Programs!C124","v":0},0,"",0,"",{"$f":"SUM(F77,J77,O77,LOOKUP(V77,{0,1,2,3,4,5},{0,5,4,3,2,1}),Y77,AF77,AI77)","v":0},"",0,"",0,"",0,"",0,0,0,0,0,0,0,0,0,0,0,0,0,null,null,null,null,null,null,null,null,null,0,"",0,"",{"$f":"SUM(AN77,AR77,AW77,LOOKUP(BD77,{0,1,2,3,4,5},{0,5,4,3,2,1}),BG77,BN77,BQ77)","v":0},"",0,"",0,"",0,"",0,0,0,0,0,0,0,0,0,0,0,0,0,null,"","","","","","","","","","","","",null,{"$f":"IF(Programs!$D$120=\"\",\"\",Programs!$D$120)","v":""},"","","","","","","","","","","","","",null,"","","","","","","","","","","",""]
[null,{"$f":"Programs!B125","v":0},{"$f":"IF(Programs!$C$120=\"\",\"\",Programs!$C$120)","v":""},null,null,null,null,null,null,null,null,null,null,null,null,null,null,null,null,null,null,null,null,null,null,null,null,null,null,null,null,null,null,null,null,null,null,null,null,null,null,null,null,null,null,null,null,null,null,null,null,null,null,null,null,null,null,null,null,null,null,null,null,null,null,null,null,null,null,null,null,{"$f":"Programs!C125","v":0},0,"",0,"",{"$f":"SUM(F78,J78,O78,LOOKUP(V78,{0,1,2,3,4,5},{0,5,4,3,2,1}),Y78,AF78,AI78)","v":0},"",0,"",0,"",0,"",0,0,0,0,0,0,0,0,0,0,0,0,0,null,null,null,null,null,null,null,null,null,0,"",0,"",{"$f":"SUM(AN78,AR78,AW78,LOOKUP(BD78,{0,1,2,3,4,5},{0,5,4,3,2,1}),BG78,BN78,BQ78)","v":0},"",0,"",0,"",0,"",0,0,0,0,0,0,0,0,0,0,0,0,0,null,"","","","","","","","","","","","",null,{"$f":"IF(Programs!$D$120=\"\",\"\",Programs!$D$120)","v":""},"","","","","","","","","","","","","",null,"","","","","","","","","","","",""]
[null,{"$f":"Programs!B126","v":0},{"$f":"IF(Programs!$C$120=\"\",\"\",Programs!$C$120)","v":""},null,null,null,null,null,null,null,null,null,null,null,null,null,null,null,null,null,null,null,null,null,null,null,null,null,null,null,null,null,null,null,null,null,null,null,null,null,null,null,null,null,null,null,null,null,null,null,null,null,null,null,null,null,null,null,null,null,null,null,null,null,null,null,null,null,null,null,null,{"$f":"Programs!C126","v":0},0,"",0,"",{"$f":"SUM(F79,J79,O79,LOOKUP(V79,{0,1,2,3,4,5},{0,5,4,3,2,1}),Y79,AF79,AI79)","v":0},"",0,"",0,"",0,"",0,0,0,0,0,0,0,0,0,0,0,0,0,null,null,null,null,null,null,null,null,null,0,"",0,"",{"$f":"SUM(AN79,AR79,AW79,LOOKUP(BD79,{0,1,2,3,4,5},{0,5,4,3,2,1}),BG79,BN79,BQ79)","v":0},"",0,"",0,"",0,"",0,0,0,0,0,0,0,0,0,0,0,0,0,null,"","","","","","","","","","","","",null,{"$f":"IF(Programs!$D$120=\"\",\"\",Programs!$D$120)","v":""},"","","","","","","","","","","","","",null,"","","","","","","","","","","",""]
[null,{"$f":"Programs!B127","v":0},{"$f":"IF(Programs!$C$120=\"\",\"\",Programs!$C$120)","v":""},null,null,null,null,null,null,null,null,null,null,null,null,null,null,null,null,null,null,null,null,null,null,null,null,null,null,null,null,null,null,null,null,null,null,null,null,null,null,null,null,null,null,null,null,null,null,null,null,null,null,null,null,null,null,null,null,null,null,null,null,null,null,null,null,null,null,null,null,{"$f":"Programs!C127","v":0},0,{"$f":"IF(OR($BT80=0,BU80=0),\"\",(IF($BT80=\"Male\",(VLOOKUP(BU80,PHYMT,3,FALSE)),(VLOOKUP(BU80,PHFMT,2,FALSE)))))","v":""},0,{"$f":"IF(BW80=0,\"\",VLOOKUP(BW80,VER,5,FALSE))","v":""},{"$f":"SUM(F80,J80,O80,LOOKUP(V80,{0,1,2,3,4,5},{0,5,4,3,2,1}),Y80,AF80,AI80)","v":0},{"$f":"IF(BY80=0,\"\",VLOOKUP(BY80,ANG,4,FALSE))","v":""},0,{"$f":"IF(CA80=0,\"\",IF(CA80>38,81,VLOOKUP(CA80,HOS,3,FALSE)))","v":""},0,{"$f":"IF(CC80=0,\"\",VLOOKUP(CC80,IND,2,FALSE))","v":""},0,{"$f":"IF(CE80=0,\"\",VLOOKUP(CE80,AQT,2,FALSE))","v":""},0,0,0,0,0,0,0,0,0,0,0,0,0,null,null,null,null,null,null,null,null,null,0,{"$f":"IF(OR($BT80=0,DC80=0),\"\",(IF($BT80=\"Male\",(VLOOKUP(DC80,PHYMT,3,FALSE)),(VLOOKUP(DC80,PHFMT,2,FALSE)))))","v":""},0,{"$f":"IF(DE80=0,\"\",VLOOKUP(DE80,VER,5,FALSE))","v":""},{"$f":"SUM(AN80,AR80,AW80,LOOKUP(BD80,{0,1,2,3,4,5},{0,5,4,3,2,1}),BG80,BN80,BQ80)","v":0},{"$f":"IF(DG80=0,\"\",VLOOKUP(DG80,ANG,4,FALSE))","v":""},0,{"$f":"IF(DI80=0,\"\",VLOOKUP(DI80,HOS,3,FALSE))","v":""},0,{"$f":"IF(DK80=0,\"\",VLOOKUP(DK80,IND,2,FALSE))","v":""},0,{"$f":"IF(DM80=0,\"\",IF(DM80<39,24,VLOOKUP(DM80,AQT,2,FALSE)))","v":""},0,0,0,0,0,0,0,0,0,0,0,0,0,null,"","","","","","","","","","","","",null,{"$f":"IF(Programs!$D$120=\"\",\"\",Programs!$D$120)","v":""},"","","","","","","","","","","","","",null,"","","","","","","","","","","",""]
[null,{"$f":"Programs!B128","v":0},{"$f":"IF(Programs!$C$120=\"\",\"\",Programs!$C$120)","v":""},null,null,null,null,null,null,null,null,null,null,null,null,null,null,null,null,null,null,null,null,null,null,null,null,null,null,null,null,null,null,null,null,null,null,null,null,null,null,null,null,null,null,null,null,null,null,null,null,null,null,null,null,null,null,null,null,null,null,null,null,null,null,null,null,null,null,null,null,{"$f":"Programs!C128","v":0},{"$f":"SUM(K81,M81,N81,T81,Z81,AA81,AB81,AD81)","v":0},"",{"$f":"SUM(D81,G81,I81,W81,AC81)","v":0},"",{"$f":"SUM(F81,J81,O81,LOOKUP(V81,{0,1,2,3,4,5},{0,5,4,3,2,1}),Y81,AF81,AI81)","v":0},"",{"$f":"SUM(E81,H81,L81,S81,X81,AE81,AH81,AJ81)","v":0},"",{"$f":"SUM(P81,Q81,R81,U81,AG81,AK81)","v":0},"",{"$f":"SUM(BU81,BW81,BY81,CA81,CC81)","v":0},"",{"$f":"SUM(CH81:CS81)","v":0},{"$f":"IF(ABS(D81-Y81)>1,1,0)","v":0},{"$f":"IF(ABS(E81-H81)>1,1,0)","v":0},{"$f":"IF(ABS(G81-I81)>1,1,0)","v":0},{"$f":"IF(ABS(J81-AJ81)>1,1,0)","v":0},{"$f":"IF(ABS(K81-N81)>1,1,0)","v":0},{"$f":"IF(ABS(L81-AF81)>1,1,0)","v":0},{"$f":"IF(ABS(M81-P81)>1,1,0)","v":0},{"$f":"IF(ABS(O81-AI81)>1,1,0)","v":0},{"$f":"IF(ABS(Q81-T81)>1,1,0)","v":0},{"$f":"IF(ABS(X81-AH81)>1,1,0)","v":0},{"$f":"IF(ABS(Z81-AA81)>1,1,0)","v":0},{"$f":"IF(ABS(AB81-AD81)>1,1,0)","v":0},null,null,null,null,null,null,null,null,null,{"$f":"SUM(AS81,AU81,AV81,BB81,BH81,BI81,BJ81,BL81)","v":0},"",{"$f":"SUM(AL81,AO81,AQ81,BE81,BK81)","v":0},"",{"$f":"SUM(AN81,AR81,AW81,LOOKUP(BD81,{0,1,2,3,4,5},{0,5,4,3,2,1}),BG81,BN81,BQ81)","v":0},"",{"$f":"SUM(AM81,AP81,AT81,BA81,BF81,BM81,BP81,BR81)","v":0},"",{"$f":"SUM(AX81,AY81,AZ81,BC81,BO81,BS81)","v":0},"",{"$f":"SUM(DC81,DE81,DG81,DI81,DK81)","v":0},"",{"$f":"SUM(DP81:EA81)","v":0},{"$f":"IF(ABS(AL81-BG81)>1,1,0)","v":0},{"$f":"IF(ABS(AM81-AP81)>1,1,0)","v":0},{"$f":"IF(ABS(AO81-AQ81)>1,1,0)","v":0},{"$f":"IF(ABS(AR81-BR81)>1,1,0)","v":0},{"$f":"IF(ABS(AS81-AV81)>1,1,0)","v":0},{"$f":"IF(ABS(AT81-BN81)>1,1,0)","v":0},{"$f":"IF(ABS(AU81-AX81)>1,1,0)","v":0},{"$f":"IF(ABS(AW81-BQ81)>1,1,0)","v":0},{"$f":"IF(ABS(AY81-BB81)>1,1,0)","v":0},{"$f":"IF(ABS(BF81-BP81)>1,1,0)","v":0},{"$f":"IF(ABS(BH81-BI81)>1,1,0)","v":0},{"$f":"IF(ABS(BJ81-BL81)>1,1,0)","v":0},null,"","","","","","","","","","","","",null,{"$f":"IF(Programs!$D$120=\"\",\"\",Programs!$D$120)","v":""},{"$f":"IF(AND(COUNT(D81:AK81)>30,COUNT(AL81:BS81)>30),EP81,\"\")","v":""},"","","","","","","","","","","","",null,"","","","","","","","","","","",""]
[null,{"$f":"Programs!B129","v":0},{"$f":"IF(Programs!$C$120=\"\",\"\",Programs!$C$120)","v":""},null,null,null,null,null,null,null,null,null,null,null,null,null,null,null,null,null,null,null,null,null,null,null,null,null,null,null,null,null,null,null,null,null,null,null,null,null,null,null,null,null,null,null,null,null,null,null,null,null,null,null,null,null,null,null,null,null,null,null,null,null,null,null,null,null,null,null,null,{"$f":"Programs!C129","v":0},0,"",0,"",{"$f":"SUM(F82,J82,O82,LOOKUP(V82,{0,1,2,3,4,5},{0,5,4,3,2,1}),Y82,AF82,AI82)","v":0},"",0,"",0,"",0,"",0,0,0,0,0,0,0,0,0,0,0,0,0,null,null,null,null,null,null,null,null,null,0,"",0,"",{"$f":"SUM(AN82,AR82,AW82,LOOKUP(BD82,{0,1,2,3,4,5},{0,5,4,3,2,1}),BG82,BN82,BQ82)","v":0},"",0,"",0,"",0,"",0,0,0,0,0,0,0,0,0,0,0,0,0,null,"","","","","","","","","","","","",null,{"$f":"IF(Programs!$D$120=\"\",\"\",Programs!$D$120)","v":""},"","","","","","","","","","","","","",null,"","","","","","","","","","","",""]
[null,{"$f":"Programs!B130","v":0},{"$f":"IF(Programs!$C$120=\"\",\"\",Programs!$C$120)","v":""},null,null,null,null,null,null,null,null,null,null,null,null,null,null,null,null,null,null,null,null,null,null,null,null,null,null,null,null,null,null,null,null,null,null,null,null,null,null,null,null,null,null,null,null,null,null,null,null,null,null,null,null,null,null,null,null,null,null,null,null,null,null,null,null,null,null,null,null,{"$f":"Programs!C130","v":0},0,"",0,"",{"$f":"SUM(F83,J83,O83,LOOKUP(V83,{0,1,2,3,4,5},{0,5,4,3,2,1}),Y83,AF83,AI83)","v":0},"",0,"",0,"",0,"",0,0,0,0,0,0,0,0,0,0,0,0,0,null,null,null,null,null,null,null,null,null,0,"",0,"",{"$f":"SUM(AN83,AR83,AW83,LOOKUP(BD83,{0,1,2,3,4,5},{0,5,4,3,2,1}),BG83,BN83,BQ83)","v":0},"",0,"",0,"",0,"",0,0,0,0,0,0,0,0,0,0,0,0,0,null,"","","","","","","","","","","","",null,{"$f":"IF(Programs!$D$120=\"\",\"\",Programs!$D$120)","v":""},"","","","","","","","","","","","","",null,"","","","","","","","","","","",""]
[null,{"$f":"Programs!B131","v":0},{"$f":"IF(Programs!$C$120=\"\",\"\",Programs!$C$120)","v":""},null,null,null,null,null,null,null,null,null,null,null,null,null,null,null,null,null,null,null,null,null,null,null,null,null,null,null,null,null,null,null,null,null,null,null,null,null,null,null,null,null,null,null,null,null,null,null,null,null,null,null,null,null,null,null,null,null,null,null,null,null,null,null,null,null,null,null,null,{"$f":"Programs!C131","v":0},{"$f":"SUM(K84,M84,N84,T84,Z84,AA84,AB84,AD84)","v":0},{"$f":"IF(OR($BT84=0,BU84=0),\"\",(IF($BT84=\"Male\",(VLOOKUP(BU84,PHYMT,3,FALSE)),(VLOOKUP(BU84,PHFMT,2,FALSE)))))","v":""},{"$f":"SUM(D84,G84,I84,W84,AC84)","v":0},{"$f":"IF(BW84=0,\"\",VLOOKUP(BW84,VER,5,FALSE))","v":""},{"$f":"SUM(F84,J84,O84,LOOKUP(V84,{0,1,2,3,4,5},{0,5,4,3,2,1}),Y84,AF84,AI84)","v":0},{"$f":"IF(BY84=0,\"\",VLOOKUP(BY84,ANG,4,FALSE))","v":""},{"$f":"SUM(E84,H84,L84,S84,X84,AE84,AH84,AJ84)","v":0},{"$f":"IF(CA84=0,\"\",IF(CA84>38,81,VLOOKUP(CA84,HOS,3,FALSE)))","v":""},{"$f":"SUM(P84,Q84,R84,U84,AG84,AK84)","v":0},{"$f":"IF(CC84=0,\"\",VLOOKUP(CC84,IND,2,FALSE))","v":""},{"$f":"SUM(BU84,BW84,BY84,CA84,CC84)","v":0},{"$f":"IF(CE84=0,\"\",VLOOKUP(CE84,AQT,2,FALSE))","v":""},{"$f":"SUM(CH84:CS84)","v":0},{"$f":"IF(ABS(D84-Y84)>1,1,0)","v":0},{"$f":"IF(ABS(E84-H84)>1,1,0)","v":0},{"$f":"IF(ABS(G84-I84)>1,1,0)","v":0},{"$f":"IF(ABS(J84-AJ84)>1,1,0)","v":0},{"$f":"IF(ABS(K84-N84)>1,1,0)","v":0},{"$f":"IF(ABS(L84-AF84)>1,1,0)","v":0},{"$f":"IF(ABS(M84-P84)>1,1,0)","v":0},{"$f":"IF(ABS(O84-AI84)>1,1,0)","v":0},{"$f":"IF(ABS(Q84-T84)>1,1,0)","v":0},{"$f":"IF(ABS(X84-AH84)>1,1,0)","v":0},{"$f":"IF(ABS(Z84-AA84)>1,1,0)","v":0},{"$f":"IF(ABS(AB84-AD84)>1,1,0)","v":0},null,null,null,null,null,null,null,null,null,{"$f":"SUM(AS84,AU84,AV84,BB84,BH84,BI84,BJ84,BL84)","v":0},{"$f":"IF(OR($BT84=0,DC84=0),\"\",(IF($BT84=\"Male\",(VLOOKUP(DC84,PHYMT,3,FALSE)),(VLOOKUP(DC84,PHFMT,2,FALSE)))))","v":""},{"$f":"SUM(AL84,AO84,AQ84,BE84,BK84)","v":0},{"$f":"IF(DE84=0,\"\",VLOOKUP(DE84,VER,5,FALSE))","v":""},{"$f":"SUM(AN84,AR84,AW84,LOOKUP(BD84,{0,1,2,3,4,5},{0,5,4,3,2,1}),BG84,BN84,BQ84)","v":0},{"$f":"IF(DG84=0,\"\",VLOOKUP(DG84,ANG,4,FALSE))","v":""},{"$f":"SUM(AM84,AP84,AT84,BA84,BF84,BM84,BP84,BR84)","v":0},{"$f":"IF(DI84=0,\"\",VLOOKUP(DI84,HOS,3,FALSE))","v":""},{"$f":"SUM(AX84,AY84,AZ84,BC84,BO84,BS84)","v":0},{"$f":"IF(DK84=0,\"\",VLOOKUP(DK84,IND,2,FALSE))","v":""},{"$f":"SUM(DC84,DE84,DG84,DI84,DK84)","v":0},{"$f":"IF(DM84=0,\"\",IF(DM84<39,24,VLOOKUP(DM84,AQT,2,FALSE)))","v":""},{"$f":"SUM(DP84:EA84)","v":0},{"$f":"IF(ABS(AL84-BG84)>1,1,0)","v":0},{"$f":"IF(ABS(AM84-AP84)>1,1,0)","v":0},{"$f":"IF(ABS(AO84-AQ84)>1,1,0)","v":0},{"$f":"IF(ABS(AR84-BR84)>1,1,0)","v":0},{"$f":"IF(ABS(AS84-AV84)>1,1,0)","v":0},{"$f":"IF(ABS(AT84-BN84)>1,1,0)","v":0},{"$f":"IF(ABS(AU84-AX84)>1,1,0)","v":0},{"$f":"IF(ABS(AW84-BQ84)>1,1,0)","v":0},{"$f":"IF(ABS(AY84-BB84)>1,1,0)","v":0},{"$f":"IF(ABS(BF84-BP84)>1,1,0)","v":0},{"$f":"IF(ABS(BH84-BI84)>1,1,0)","v":0},{"$f":"IF(ABS(BJ84-BL84)>1,1,0)","v":0},null,{"$f":"IF(EQ84<>\"\",(DC84/8)-(BU84/8),\"\")","v":""},{"$f":"IF(EQ84<>\"\",IF(BT84=0,\"\",DD84-BV84),\"\")","v":""},{"$f":"IF(EQ84<>\"\",(DE84/5)-(BW84/5),\"\")","v":""},{"$f":"IF(EQ84<>\"\",DF84-BX84,\"\")","v":""},{"$f":"IF(EQ84<>\"\",(DG84/7)-(BY84/7),\"\")","v":""},{"$f":"IF(EQ84<>\"\",DH84-BZ84,\"\")","v":""},{"$f":"IF(EQ84<>\"\",(DI84/8)-(CA84/8),\"\")","v":""},{"$f":"IF(EQ84<>\"\",DJ84-CB84,\"\")","v":""},{"$f":"IF(EQ84<>\"\",(DK84/6)-(CC84/6),\"\")","v":""},{"$f":"IF(EQ84<>\"\",DL84-CD84,\"\")","v":""},{"$f":"IF(EQ84<>\"\",(DM84/34)-(CE84/34),\"\")","v":""},{"$f":"IF(EQ84<>\"\",DN84-CF84,\"\")","v":""},null,{"$f":"IF(Programs!$D$120=\"\",\"\",Programs!$D$120)","v":""},{"$f":"IF(AND(COUNT(D84:AK84)>30,COUNT(AL84:BS84)>30),EP84,\"\")","v":""},"","","","","","","","","","","","",null,"","","","","","","","","","","",""]
[null,{"$f":"Programs!B132","v":0},{"$f":"IF(Programs!$C$120=\"\",\"\",Programs!$C$120)","v":""},null,null,null,null,null,null,null,null,null,null,null,null,null,null,null,null,null,null,null,null,null,null,null,null,null,null,null,null,null,null,null,null,null,null,null,null,null,null,null,null,null,null,null,null,null,null,null,null,null,null,null,null,null,null,null,null,null,null,null,null,null,null,null,null,null,null,null,null,{"$f":"Programs!C132","v":0},0,"",0,"",{"$f":"SUM(F85,J85,O85,LOOKUP(V85,{0,1,2,3,4,5},{0,5,4,3,2,1}),Y85,AF85,AI85)","v":0},"",0,"",0,"",0,"",0,0,0,0,0,0,0,0,0,0,0,0,0,null,null,null,null,null,null,null,null,null,0,"",0,"",{"$f":"SUM(AN85,AR85,AW85,LOOKUP(BD85,{0,1,2,3,4,5},{0,5,4,3,2,1}),BG85,BN85,BQ85)","v":0},"",0,"",0,"",0,"",0,0,0,0,0,0,0,0,0,0,0,0,0,null,"","","","","","","","","","","","",null,{"$f":"IF(Programs!$D$120=\"\",\"\",Programs!$D$120)","v":""},"","","","","","","","","","","","","",null,"","","","","","","","","","","",""]
[null,{"$f":"Programs!B133","v":0},{"$f":"IF(Programs!$C$120=\"\",\"\",Programs!$C$120)","v":""},null,null,null,null,null,null,null,null,null,null,null,null,null,null,null,null,null,null,null,null,null,null,null,null,null,null,null,null,null,null,null,null,null,null,null,null,null,null,null,null,null,null,null,null,null,null,null,null,null,null,null,null,null,null,null,null,null,null,null,null,null,null,null,null,null,null,null,null,{"$f":"Programs!C133","v":0},0,"",0,"",{"$f":"SUM(F86,J86,O86,LOOKUP(V86,{0,1,2,3,4,5},{0,5,4,3,2,1}),Y86,AF86,AI86)","v":0},"",0,"",0,"",0,"",0,0,0,0,0,0,0,0,0,0,0,0,0,null,null,null,null,null,null,null,null,null,0,"",0,"",{"$f":"SUM(AN86,AR86,AW86,LOOKUP(BD86,{0,1,2,3,4,5},{0,5,4,3,2,1}),BG86,BN86,BQ86)","v":0},"",0,"",0,"",0,"",0,0,0,0,0,0,0,0,0,0,0,0,0,null,"","","","","","","","","","","","",null,{"$f":"IF(Programs!$D$120=\"\",\"\",Programs!$D$120)","v":""},"","","","","","","","","","","","","",null,"","","","","","","","","","","",""]
[null,{"$f":"Programs!B134","v":0},{"$f":"IF(Programs!$C$120=\"\",\"\",Programs!$C$120)","v":""},null,null,null,null,null,null,null,null,null,null,null,null,null,null,null,null,null,null,null,null,null,null,null,null,null,null,null,null,null,null,null,null,null,null,null,null,null,null,null,null,null,null,null,null,null,null,null,null,null,null,null,null,null,null,null,null,null,null,null,null,null,null,null,null,null,null,null,null,{"$f":"Programs!C134","v":0},0,"",0,"",{"$f":"SUM(F87,J87,O87,LOOKUP(V87,{0,1,2,3,4,5},{0,5,4,3,2,1}),Y87,AF87,AI87)","v":0},"",0,"",0,"",0,"",0,0,0,0,0,0,0,0,0,0,0,0,0,null,null,null,null,null,null,null,null,null,0,"",0,"",{"$f":"SUM(AN87,AR87,AW87,LOOKUP(BD87,{0,1,2,3,4,5},{0,5,4,3,2,1}),BG87,BN87,BQ87)","v":0},"",0,"",0,"",0,"",0,0,0,0,0,0,0,0,0,0,0,0,0,null,"","","","","","","","","","","","",null,{"$f":"IF(Programs!$D$120=\"\",\"\",Programs!$D$120)","v":""},"","","","","","","","","","","","","",null,"","","","","","","","","","","",""]
["Program 8",{"$f":"Programs!B142","v":0},{"$f":"IF(Programs!$C$139=\"\",\"\",Programs!$C$139)","v":""},null,null,null,null,null,null,null,null,null,null,null,null,null,null,null,null,null,null,null,null,null,null,null,null,null,null,null,null,null,null,null,null,null,null,null,null,null,null,null,null,null,null,null,null,null,null,null,null,null,null,null,null,null,null,null,null,null,null,null,null,null,null,null,null,null,null,null,null,{"$f":"Programs!C142","v":0},0,"",0,"",{"$f":"SUM(F88,J88,O88,LOOKUP(V88,{0,1,2,3,4,5},{0,5,4,3,2,1}),Y88,AF88,AI88)","v":0},"",0,"",0,"",0,"",0,0,0,0,0,0,0,0,0,0,0,0,0,null,null,null,null,null,null,null,null,null,0,"",0,"",{"$f":"SUM(AN88,AR88,AW88,LOOKUP(BD88,{0,1,2,3,4,5},{0,5,4,3,2,1}),BG88,BN88,BQ88)","v":0},"",0,"",0,"",0,"",0,0,0,0,0,0,0,0,0,0,0,0,0,null,"","","","","","","","","","","","",null,{"$f":"IF(Programs!$D$139=\"\",\"\",Programs!$D$139)","v":""},"","","","","","","","","","","","","",null,"","","","","","","","","","","",""]
[null,{"$f":"Programs!B143","v":0},{"$f":"IF(Programs!$C$139=\"\",\"\",Programs!$C$139)","v":""},null,null,null,null,null,null,null,null,null,null,null,null,null,null,null,null,null,null,null,null,null,null,null,null,null,null,null,null,null,null,null,null,null,null,null,null,null,null,null,null,null,null,null,null,null,null,null,null,null,null,null,null,null,null,null,null,null,null,null,null,null,null,null,null,null,null,null,null,{"$f":"Programs!C143","v":0},0,"",0,"",{"$f":"SUM(F89,J89,O89,LOOKUP(V89,{0,1,2,3,4,5},{0,5,4,3,2,1}),Y89,AF89,AI89)","v":0},"",0,"",0,"",0,"",0,0,0,0,0,0,0,0,0,0,0,0,0,null,null,null,null,null,null,null,null,null,0,"",0,"",{"$f":"SUM(AN89,AR89,AW89,LOOKUP(BD89,{0,1,2,3,4,5},{0,5,4,3,2,1}),BG89,BN89,BQ89)","v":0},"",0,"",0,"",0,"",0,0,0,0,0,0,0,0,0,0,0,0,0,null,{"$f":"IF(EQ89<>\"\",(DC89/8)-(BU89/8),\"\")","v":""},{"$f":"IF(EQ89<>\"\",IF(BT89=0,\"\",DD89-BV89),\"\")","v":""},{"$f":"IF(EQ89<>\"\",(DE89/5)-(BW89/5),\"\")","v":""},{"$f":"IF(EQ89<>\"\",DF89-BX89,\"\")","v":""},{"$f":"IF(EQ89<>\"\",(DG89/7)-(BY89/7),\"\")","v":""},{"$f":"IF(EQ89<>\"\",DH89-BZ89,\"\")","v":""},{"$f":"IF(EQ89<>\"\",(DI89/8)-(CA89/8),\"\")","v":""},{"$f":"IF(EQ89<>\"\",DJ89-CB89,\"\")","v":""},{"$f":"IF(EQ89<>\"\",(DK89/6)-(CC89/6),\"\")","v":""},{"$f":"IF(EQ89<>\"\",DL89-CD89,\"\")","v":""},{"$f":"IF(EQ89<>\"\",(DM89/34)-(CE89/34),\"\")","v":""},{"$f":"IF(EQ89<>\"\",DN89-CF89,\"\")","v":""},null,{"$f":"IF(Programs!$D$139=\"\",\"\",Programs!$D$139)","v":""},"","","","","","","","","","","","","",null,"","","","","","","","","","","",""]
[null,{"$f":"Programs!B144","v":0},{"$f":"IF(Programs!$C$139=\"\",\"\",Programs!$C$139)","v":""},null,null,null,null,null,null,null,null,null,null,null,null,null,null,null,null,null,null,null,null,null,null,null,null,null,null,null,null,null,null,null,null,null,null,null,null,null,null,null,null,null,null,null,null,null,null,null,null,null,null,null,null,null,null,null,null,null,null,null,null,null,null,null,null,null,null,null,null,{"$f":"Programs!C144","v":0},0,"",0,"",{"$f":"SUM(F90,J90,O90,LOOKUP(V90,{0,1,2,3,4,5},{0,5,4,3,2,1}),Y90,AF90,AI90)","v":0},"",0,"",0,"",0,"",0,0,0,0,0,0,0,0,0,0,0,0,0,null,null,null,null,null,null,null,null,null,0,"",0,"",{"$f":"SUM(AN90,AR90,AW90,LOOKUP(BD90,{0,1,2,3,4,5},{0,5,4,3,2,1}),BG90,BN90,BQ90)","v":0},"",0,"",0,"",0,"",0,0,0,0,0,0,0,0,0,0,0,0,0,null,"","","","","","","","","","","","",null,{"$f":"IF(Programs!$D$139=\"\",\"\",Programs!$D$139)","v":""},"","","","","","","","","","","","","",null,"","","","","","","","","","","",""]
[null,{"$f":"Programs!B145","v":0},{"$f":"IF(Programs!$C$139=\"\",\"\",Programs!$C$139)","v":""},null,null,null,null,null,null,null,null,null,null,null,null,null,null,null,null,null,null,null,null,null,null,null,null,null,null,null,null,null,null,null,null,null,null,null,null,null,null,null,null,null,null,null,null,null,null,null,null,null,null,null,null,null,null,null,null,null,null,null,null,null,null,null,null,null,null,null,null,{"$f":"Programs!C145","v":0},0,"",0,"",{"$f":"SUM(F91,J91,O91,LOOKUP(V91,{0,1,2,3,4,5},{0,5,4,3,2,1}),Y91,AF91,AI91)","v":0},"",0,"",0,"",0,"",0,0,0,0,0,0,0,0,0,0,0,0,0,null,null,null,null,null,null,null,null,null,0,"",0,"",{"$f":"SUM(AN91,AR91,AW91,LOOKUP(BD91,{0,1,2,3,4,5},{0,5,4,3,2,1}),BG91,BN91,BQ91)","v":0},"",0,"",0,"",0,"",0,0,0,0,0,0,0,0,0,0,0,0,0,null,"","","","","","","","","","","","",null,{"$f":"IF(Programs!$D$139=\"\",\"\",Programs!$D$139)","v":""},"","","","","","","","","","","","","",null,"","","","","","","","","","","",""]
[null,{"$f":"Programs!B146","v":0},{"$f":"IF(Programs!$C$139=\"\",\"\",Programs!$C$139)","v":""},null,null,null,null,null,null,null,null,null,null,null,null,null,null,null,null,null,null,null,null,null,null,null,null,null,null,null,null,null,null,null,null,null,null,null,null,null,null,null,null,null,null,null,null,null,null,null,null,null,null,null,null,null,null,null,null,null,null,null,null,null,null,null,null,null,null,null,null,{"$f":"Programs!C146","v":0},0,"",0,"",{"$f":"SUM(F92,J92,O92,LOOKUP(V92,{0,1,2,3,4,5},{0,5,4,3,2,1}),Y92,AF92,AI92)","v":0},"",0,"",0,"",0,"",0,0,0,0,0,0,0,0,0,0,0,0,0,null,null,null,null,null,null,null,null,null,0,"",0,"",{"$f":"SUM(AN92,AR92,AW92,LOOKUP(BD92,{0,1,2,3,4,5},{0,5,4,3,2,1}),BG92,BN92,BQ92)","v":0},"",0,"",0,"",0,"",0,0,0,0,0,0,0,0,0,0,0,0,0,null,"","","","","","","","","","","","",null,{"$f":"IF(Programs!$D$139=\"\",\"\",Programs!$D$139)","v":""},"","","","","","","","","","","","","",null,"","","","","","","","","","","",""]
[null,{"$f":"Programs!B147","v":0},{"$f":"IF(Programs!$C$139=\"\",\"\",Programs!$C$139)","v":""},null,null,null,null,null,null,null,null,null,null,null,null,null,null,null,null,null,null,null,null,null,null,null,null,null,null,null,null,null,null,null,null,null,null,null,null,null,null,null,null,null,null,null,null,null,null,null,null,null,null,null,null,null,null,null,null,null,null,null,null,null,null,null,null,null,null,null,null,{"$f":"Programs!C147","v":0},0,"",0,"",{"$f":"SUM(F93,J93,O93,LOOKUP(V93,{0,1,2,3,4,5},{0,5,4,3,2,1}),Y93,AF93,AI93)","v":0},"",0,"",0,"",0,"",0,0,0,0,0,0,0,0,0,0,0,0,0,null,null,null,null,null,null,null,null,null,0,"",0,"",{"$f":"SUM(AN93,AR93,AW93,LOOKUP(BD93,{0,1,2,3,4,5},{0,5,4,3,2,1}),BG93,BN93,BQ93)","v":0},"",0,"",0,"",0,"",0,0,0,0,0,0,0,0,0,0,0,0,0,null,"","","","","","","","","","","","",null,{"$f":"IF(Programs!$D$139=\"\",\"\",Programs!$D$139)","v":""},"","","","","","","","","","","","","",null,"","","","","","","","","","","",""]
[null,{"$f":"Programs!B148","v":0},{"$f":"IF(Programs!$C$139=\"\",\"\",Programs!$C$139)","v":""},null,null,null,null,null,null,null,null,null,null,null,null,null,null,null,null,null,null,null,null,null,null,null,null,null,null,null,null,null,null,null,null,null,null,null,null,null,null,null,null,null,null,null,null,null,null,null,null,null,null,null,null,null,null,null,null,null,null,null,null,null,null,null,null,null,null,null,null,{"$f":"Programs!C148","v":0},0,"",0,"",{"$f":"SUM(F94,J94,O94,LOOKUP(V94,{0,1,2,3,4,5},{0,5,4,3,2,1}),Y94,AF94,AI94)","v":0},"",0,"",0,"",0,"",0,0,0,0,0,0,0,0,0,0,0,0,0,null,null,null,null,null,null,null,null,null,0,"",0,"",{"$f":"SUM(AN94,AR94,AW94,LOOKUP(BD94,{0,1,2,3,4,5},{0,5,4,3,2,1}),BG94,BN94,BQ94)","v":0},"",0,"",0,"",0,"",0,0,0,0,0,0,0,0,0,0,0,0,0,null,"","","","","","","","","","","","",null,{"$f":"IF(Programs!$D$139=\"\",\"\",Programs!$D$139)","v":""},"","","","","","","","","","","","","",null,"","","","","","","","","","","",""]
[null,{"$f":"Programs!B149","v":0},{"$f":"IF(Programs!$C$139=\"\",\"\",Programs!$C$139)","v":""},null,null,null,null,null,null,null,null,null,null,null,null,null,null,null,null,null,null,null,null,null,null,null,null,null,null,null,null,null,null,null,null,null,null,null,null,null,null,null,null,null,null,null,null,null,null,null,null,null,null,null,null,null,null,null,null,null,null,null,null,null,null,null,null,null,null,null,null,{"$f":"Programs!C149","v":0},0,"",0,"",{"$f":"SUM(F95,J95,O95,LOOKUP(V95,{0,1,2,3,4,5},{0,5,4,3,2,1}),Y95,AF95,AI95)","v":0},"",0,"",0,"",0,"",0,0,0,0,0,0,0,0,0,0,0,0,0,null,null,null,null,null,null,null,null,null,0,"",0,"",{"$f":"SUM(AN95,AR95,AW95,LOOKUP(BD95,{0,1,2,3,4,5},{0,5,4,3,2,1}),BG95,BN95,BQ95)","v":0},"",0,"",0,"",0,"",0,0,0,0,0,0,0,0,0,0,0,0,0,null,"","","","","","","","","","","","",null,{"$f":"IF(Programs!$D$139=\"\",\"\",Programs!$D$139)","v":""},"","","","","","","","","","","","","",null,"","","","","","","","","","","",""]
[null,{"$f":"Programs!B150","v":0},{"$f":"IF(Programs!$C$139=\"\",\"\",Programs!$C$139)","v":""},null,null,null,null,null,null,null,null,null,null,null,null,null,null,null,null,null,null,null,null,null,null,null,null,null,null,null,null,null,null,null,null,null,null,null,null,null,null,null,null,null,null,null,null,null,null,null,null,null,null,null,null,null,null,null,null,null,null,null,null,null,null,null,null,null,null,null,null,{"$f":"Programs!C150","v":0},{"$f":"SUM(K96,M96,N96,T96,Z96,AA96,AB96,AD96)","v":0},{"$f":"IF(OR($BT96=0,BU96=0),\"\",(IF($BT96=\"Male\",(VLOOKUP(BU96,PHYMT,3,FALSE)),(VLOOKUP(BU96,PHFMT,2,FALSE)))))","v":""},{"$f":"SUM(D96,G96,I96,W96,AC96)","v":0},{"$f":"IF(BW96=0,\"\",VLOOKUP(BW96,VER,5,FALSE))","v":""},{"$f":"SUM(F96,J96,O96,LOOKUP(V96,{0,1,2,3,4,5},{0,5,4,3,2,1}),Y96,AF96,AI96)","v":0},{"$f":"IF(BY96=0,\"\",VLOOKUP(BY96,ANG,4,FALSE))","v":""},{"$f":"SUM(E96,H96,L96,S96,X96,AE96,AH96,AJ96)","v":0},{"$f":"IF(CA96=0,\"\",IF(CA96>38,81,VLOOKUP(CA96,HOS,3,FALSE)))","v":""},{"$f":"SUM(P96,Q96,R96,U96,AG96,AK96)","v":0},{"$f":"IF(CC96=0,\"\",VLOOKUP(CC96,IND,2,FALSE))","v":""},{"$f":"SUM(BU96,BW96,BY96,CA96,CC96)","v":0},{"$f":"IF(CE96=0,\"\",VLOOKUP(CE96,AQT,2,FALSE))","v":""},{"$f":"SUM(CH96:CS96)","v":0},{"$f":"IF(ABS(D96-Y96)>1,1,0)","v":0},{"$f":"IF(ABS(E96-H96)>1,1,0)","v":0},{"$f":"IF(ABS(G96-I96)>1,1,0)","v":0},{"$f":"IF(ABS(J96-AJ96)>1,1,0)","v":0},{"$f":"IF(ABS(K96-N96)>1,1,0)","v":0},{"$f":"IF(ABS(L96-AF96)>1,1,0)","v":0},{"$f":"IF(ABS(M96-P96)>1,1,0)","v":0},{"$f":"IF(ABS(O96-AI96)>1,1,0)","v":0},{"$f":"IF(ABS(Q96-T96)>1,1,0)","v":0},{"$f":"IF(ABS(X96-AH96)>1,1,0)","v":0},{"$f":"IF(ABS(Z96-AA96)>1,1,0)","v":0},{"$f":"IF(ABS(AB96-AD96)>1,1,0)","v":0},null,null,null,null,null,null,null,null,null,{"$f":"SUM(AS96,AU96,AV96,BB96,BH96,BI96,BJ96,BL96)","v":0},{"$f":"IF(OR($BT96=0,DC96=0),\"\",(IF($BT96=\"Male\",(VLOOKUP(DC96,PHYMT,3,FALSE)),(VLOOKUP(DC96,PHFMT,2,FALSE)))))","v":""},{"$f":"SUM(AL96,AO96,AQ96,BE96,BK96)","v":0},{"$f":"IF(DE96=0,\"\",VLOOKUP(DE96,VER,5,FALSE))","v":""},{"$f":"SUM(AN96,AR96,AW96,LOOKUP(BD96,{0,1,2,3,4,5},{0,5,4,3,2,1}),BG96,BN96,BQ96)","v":0},{"$f":"IF(DG96=0,\"\",VLOOKUP(DG96,ANG,4,FALSE))","v":""},{"$f":"SUM(AM96,AP96,AT96,BA96,BF96,BM96,BP96,BR96)","v":0},{"$f":"IF(DI96=0,\"\",VLOOKUP(DI96,HOS,3,FALSE))","v":""},{"$f":"SUM(AX96,AY96,AZ96,BC96,BO96,BS96)","v":0},{"$f":"IF(DK96=0,\"\",VLOOKUP(DK96,IND,2,FALSE))","v":""},{"$f":"SUM(DC96,DE96,DG96,DI96,DK96)","v":0},{"$f":"IF(DM96=0,\"\",IF(DM96<39,24,VLOOKUP(DM96,AQT,2,FALSE)))","v":""},{"$f":"SUM(DP96:EA96)","v":0},{"$f":"IF(ABS(AL96-BG96)>1,1,0)","v":0},{"$f":"IF(ABS(AM96-AP96)>1,1,0)","v":0},{"$f":"IF(ABS(AO96-AQ96)>1,1,0)","v":0},{"$f":"IF(ABS(AR96-BR96)>1,1,0)","v":0},{"$f":"IF(ABS(AS96-AV96)>1,1,0)","v":0},{"$f":"IF(ABS(AT96-BN96)>1,1,0)","v":0},{"$f":"IF(ABS(AU96-AX96)>1,1,0)","v":0},{"$f":"IF(ABS(AW96-BQ96)>1,1,0)","v":0},{"$f":"IF(ABS(AY96-BB96)>1,1,0)","v":0},{"$f":"IF(ABS(BF96-BP96)>1,1,0)","v":0},{"$f":"IF(ABS(BH96-BI96)>1,1,0)","v":0},{"$f":"IF(ABS(BJ96-BL96)>1,1,0)","v":0},null,{"$f":"IF(EQ96<>\"\",(DC96/8)-(BU96/8),\"\")","v":""},{"$f":"IF(EQ96<>\"\",IF(BT96=0,\"\",DD96-BV96),\"\")","v":""},{"$f":"IF(EQ96<>\"\",(DE96/5)-(BW96/5),\"\")","v":""},{"$f":"IF(EQ96<>\"\",DF96-BX96,\"\")","v":""},{"$f":"IF(EQ96<>\"\",(DG96/7)-(BY96/7),\"\")","v":""},{"$f":"IF(EQ96<>\"\",DH96-BZ96,\"\")","v":""},{"$f":"IF(EQ96<>\"\",(DI96/8)-(CA96/8),\"\")","v":""},{"$f":"IF(EQ96<>\"\",DJ96-CB96,\"\")","v":""},{"$f":"IF(EQ96<>\"\",(DK96/6)-(CC96/6),\"\")","v":""},{"$f":"IF(EQ96<>\"\",DL96-CD96,\"\")","v":""},{"$f":"IF(EQ96<>\"\",(DM96/34)-(CE96/34),\"\")","v":""},{"$f":"IF(EQ96<>\"\",DN96-CF96,\"\")","v":""},null,{"$f":"IF(Programs!$D$139=\"\",\"\",Programs!$D$139)","v":""},{"$f":"IF(AND(COUNT(D96:AK96)>30,COUNT(AL96:BS96)>30),EP96,\"\")","v":""},"","","","","","","","","","","","",null,"","","","","","","","","","","",""]
[null,{"$f":"Programs!B151","v":0},{"$f":"IF(Programs!$C$139=\"\",\"\",Programs!$C$139)","v":""},null,null,null,null,null,null,null,null,null,null,null,null,null,null,null,null,null,null,null,null,null,null,null,null,null,null,null,null,null,null,null,null,null,null,null,null,null,null,null,null,null,null,null,null,null,null,null,null,null,null,null,null,null,null,null,null,null,null,null,null,null,null,null,null,null,null,null,null,{"$f":"Programs!C151","v":0},0,"",0,"",{"$f":"SUM(F97,J97,O97,LOOKUP(V97,{0,1,2,3,4,5},{0,5,4,3,2,1}),Y97,AF97,AI97)","v":0},"",0,"",0,"",0,"",0,0,0,0,0,0,0,0,0,0,0,0,0,null,null,null,null,null,null,null,null,null,0,"",0,"",{"$f":"SUM(AN97,AR97,AW97,LOOKUP(BD97,{0,1,2,3,4,5},{0,5,4,3,2,1}),BG97,BN97,BQ97)","v":0},"",0,"",0,"",0,"",0,0,0,0,0,0,0,0,0,0,0,0,0,null,"","","","","","","","","","","","",null,{"$f":"IF(Programs!$D$139=\"\",\"\",Programs!$D$139)","v":""},"","","","","","","","","","","","","",null,"","","","","","","","","","","",""]
[null,{"$f":"Programs!B152","v":0},{"$f":"IF(Programs!$C$139=\"\",\"\",Programs!$C$139)","v":""},null,null,null,null,null,null,null,null,null,null,null,null,null,null,null,null,null,null,null,null,null,null,null,null,null,null,null,null,null,null,null,null,null,null,null,null,null,null,null,null,null,null,null,null,null,null,null,null,null,null,null,null,null,null,null,null,null,null,null,null,null,null,null,null,null,null,null,null,{"$f":"Programs!C152","v":0},0,"",0,"",{"$f":"SUM(F98,J98,O98,LOOKUP(V98,{0,1,2,3,4,5},{0,5,4,3,2,1}),Y98,AF98,AI98)","v":0},"",0,"",0,"",0,"",0,0,0,0,0,0,0,0,0,0,0,0,0,null,null,null,null,null,null,null,null,null,0,"",0,"",{"$f":"SUM(AN98,AR98,AW98,LOOKUP(BD98,{0,1,2,3,4,5},{0,5,4,3,2,1}),BG98,BN98,BQ98)","v":0},"",0,"",0,"",0,"",0,0,0,0,0,0,0,0,0,0,0,0,0,null,"","","","","","","","","","","","",null,{"$f":"IF(Programs!$D$139=\"\",\"\",Programs!$D$139)","v":""},"","","","","","","","","","","","","",null,"","","","","","","","","","","",""]
[null,{"$f":"Programs!B153","v":0},{"$f":"IF(Programs!$C$139=\"\",\"\",Programs!$C$139)","v":""},null,null,null,null,null,null,null,null,null,null,null,null,null,null,null,null,null,null,null,null,null,null,null,null,null,null,null,null,null,null,null,null,null,null,null,null,null,null,null,null,null,null,null,null,null,null,null,null,null,null,null,null,null,null,null,null,null,null,null,null,null,null,null,null,null,null,null,null,{"$f":"Programs!C153","v":0},0,"",0,"",{"$f":"SUM(F99,J99,O99,LOOKUP(V99,{0,1,2,3,4,5},{0,5,4,3,2,1}),Y99,AF99,AI99)","v":0},"",0,"",0,"",0,"",0,0,0,0,0,0,0,0,0,0,0,0,0,null,null,null,null,null,null,null,null,null,0,"",0,"",{"$f":"SUM(AN99,AR99,AW99,LOOKUP(BD99,{0,1,2,3,4,5},{0,5,4,3,2,1}),BG99,BN99,BQ99)","v":0},"",0,"",0,"",0,"",0,0,0,0,0,0,0,0,0,0,0,0,0,null,"","","","","","","","","","","","",null,{"$f":"IF(Programs!$D$139=\"\",\"\",Programs!$D$139)","v":""},"","","","","","","","","","","","","",null,"","","","","","","","","","","",""]
["Program 9",{"$f":"Programs!B161","v":0},{"$f":"IF(Programs!$C$158=\"\",\"\",Programs!$C$158)","v":""},null,null,null,null,null,null,null,null,null,null,null,null,null,null,null,null,null,null,null,null,null,null,null,null,null,null,null,null,null,null,null,null,null,null,null,null,null,null,null,null,null,null,null,null,null,null,null,null,null,null,null,null,null,null,null,null,null,null,null,null,null,null,null,null,null,null,null,null,{"$f":"Programs!C161","v":0},0,"",0,"",{"$f":"SUM(F100,J100,O100,LOOKUP(V100,{0,1,2,3,4,5},{0,5,4,3,2,1}),Y100,AF100,AI100)","v":0},"",0,"",0,"",0,"",0,0,0,0,0,0,0,0,0,0,0,0,0,null,null,null,null,null,null,null,null,null,0,"",0,"",{"$f":"SUM(AN100,AR100,AW100,LOOKUP(BD100,{0,1,2,3,4,5},{0,5,4,3,2,1}),BG100,BN100,BQ100)","v":0},"",0,"",0,"",0,"",0,0,0,0,0,0,0,0,0,0,0,0,0,null,"","","","","","","","","","","","",null,{"$f":"IF(Programs!$D$158=\"\",\"\",Programs!$D$158)","v":""},"","","","","","","","","","","","","",null,"","","","","","","","","","","",""]
[null,{"$f":"Programs!B162","v":0},{"$f":"IF(Programs!$C$158=\"\",\"\",Programs!$C$158)","v":""},null,null,null,null,null,null,null,null,null,null,null,null,null,null,null,null,null,null,null,null,null,null,null,null,null,null,null,null,null,null,null,null,null,null,null,null,null,null,null,null,null,null,null,null,null,null,null,null,null,null,null,null,null,null,null,null,null,null,null,null,null,null,null,null,null,null,null,null,{"$f":"Programs!C162","v":0},0,"",0,"",{"$f":"SUM(F101,J101,O101,LOOKUP(V101,{0,1,2,3,4,5},{0,5,4,3,2,1}),Y101,AF101,AI101)","v":0},"",0,"",0,"",0,"",0,0,0,0,0,0,0,0,0,0,0,0,0,null,null,null,null,null,null,null,null,null,0,"",0,"",{"$f":"SUM(AN101,AR101,AW101,LOOKUP(BD101,{0,1,2,3,4,5},{0,5,4,3,2,1}),BG101,BN101,BQ101)","v":0},"",0,"",0,"",0,"",0,0,0,0,0,0,0,0,0,0,0,0,0,null,"","","","","","","","","","","","",null,{"$f":"IF(Programs!$D$158=\"\",\"\",Programs!$D$158)","v":""},"","","","","","","","","","","","","",null,"","","","","","","","","","","",""]
[null,{"$f":"Programs!B163","v":0},{"$f":"IF(Programs!$C$158=\"\",\"\",Programs!$C$158)","v":""},null,null,null,null,null,null,null,null,null,null,null,null,null,null,null,null,null,null,null,null,null,null,null,null,null,null,null,null,null,null,null,null,null,null,null,null,null,null,null,null,null,null,null,null,null,null,null,null,null,null,null,null,null,null,null,null,null,null,null,null,null,null,null,null,null,null,null,null,{"$f":"Programs!C163","v":0},0,"",0,"",{"$f":"SUM(F102,J102,O102,LOOKUP(V102,{0,1,2,3,4,5},{0,5,4,3,2,1}),Y102,AF102,AI102)","v":0},"",0,"",0,"",0,"",0,0,0,0,0,0,0,0,0,0,0,0,0,null,null,null,null,null,null,null,null,null,0,"",0,"",{"$f":"SUM(AN102,AR102,AW102,LOOKUP(BD102,{0,1,2,3,4,5},{0,5,4,3,2,1}),BG102,BN102,BQ102)","v":0},"",0,"",0,"",0,"",0,0,0,0,0,0,0,0,0,0,0,0,0,null,"","","","","","","","","","","","",null,{"$f":"IF(Programs!$D$158=\"\",\"\",Programs!$D$158)","v":""},"","","","","","","","","","","","","",null,"","","","","","","","","","","",""]
[null,{"$f":"Programs!B164","v":0},{"$f":"IF(Programs!$C$158=\"\",\"\",Programs!$C$158)","v":""},null,null,null,null,null,null,null,null,null,null,null,null,null,null,null,null,null,null,null,null,null,null,null,null,null,null,null,null,null,null,null,null,null,null,null,null,null,null,null,null,null,null,null,null,null,null,null,null,null,null,null,null,null,null,null,null,null,null,null,null,null,null,null,null,null,null,null,null,{"$f":"Programs!C164","v":0},0,"",0,"",{"$f":"SUM(F103,J103,O103,LOOKUP(V103,{0,1,2,3,4,5},{0,5,4,3,2,1}),Y103,AF103,AI103)","v":0},"",0,"",0,"",0,"",0,0,0,0,0,0,0,0,0,0,0,0,0,null,null,null,null,null,null,null,null,null,0,"",0,"",{"$f":"SUM(AN103,AR103,AW103,LOOKUP(BD103,{0,1,2,3,4,5},{0,5,4,3,2,1}),BG103,BN103,BQ103)","v":0},"",0,"",0,"",0,"",0,0,0,0,0,0,0,0,0,0,0,0,0,null,"","","","","","","","","","","","",null,{"$f":"IF(Programs!$D$158=\"\",\"\",Programs!$D$158)","v":""},"","","","","","","","","","","","","",null,"","","","","","","","","","","",""]
[null,{"$f":"Programs!B165","v":0},{"$f":"IF(Programs!$C$158=\"\",\"\",Programs!$C$158)","v":""},null,null,null,null,null,null,null,null,null,null,null,null,null,null,null,null,null,null,null,null,null,null,null,null,null,null,null,null,null,null,null,null,null,null,null,null,null,null,null,null,null,null,null,null,null,null,null,null,null,null,null,null,null,null,null,null,null,null,null,null,null,null,null,null,null,null,null,null,{"$f":"Programs!C165","v":0},0,"",0,"",{"$f":"SUM(F104,J104,O104,LOOKUP(V104,{0,1,2,3,4,5},{0,5,4,3,2,1}),Y104,AF104,AI104)","v":0},"",0,"",0,"",0,"",0,0,0,0,0,0,0,0,0,0,0,0,0,null,null,null,null,null,null,null,null,null,0,"",0,"",{"$f":"SUM(AN104,AR104,AW104,LOOKUP(BD104,{0,1,2,3,4,5},{0,5,4,3,2,1}),BG104,BN104,BQ104)","v":0},"",0,"",0,"",0,"",0,0,0,0,0,0,0,0,0,0,0,0,0,null,"","","","","","","","","","","","",null,{"$f":"IF(Programs!$D$158=\"\",\"\",Programs!$D$158)","v":""},"","","","","","","","","","","","","",null,"","","","","","","","","","","",""]
[null,{"$f":"Programs!B166","v":0},{"$f":"IF(Programs!$C$158=\"\",\"\",Programs!$C$158)","v":""},null,null,null,null,null,null,null,null,null,null,null,null,null,null,null,null,null,null,null,null,null,null,null,null,null,null,null,null,null,null,null,null,null,null,null,null,null,null,null,null,null,null,null,null,null,null,null,null,null,null,null,null,null,null,null,null,null,null,null,null,null,null,null,null,null,null,null,null,{"$f":"Programs!C166","v":0},0,"",0,"",{"$f":"SUM(F105,J105,O105,LOOKUP(V105,{0,1,2,3,4,5},{0,5,4,3,2,1}),Y105,AF105,AI105)","v":0},"",0,"",0,"",0,"",0,0,0,0,0,0,0,0,0,0,0,0,0,null,null,null,null,null,null,null,null,null,0,"",0,"",{"$f":"SUM(AN105,AR105,AW105,LOOKUP(BD105,{0,1,2,3,4,5},{0,5,4,3,2,1}),BG105,BN105,BQ105)","v":0},"",0,"",0,"",0,"",0,0,0,0,0,0,0,0,0,0,0,0,0,null,"","","","","","","","","","","","",null,{"$f":"IF(Programs!$D$158=\"\",\"\",Programs!$D$158)","v":""},"","","","","","","","","","","","","",null,"","","","","","","","","","","",""]
[null,{"$f":"Programs!B167","v":0},{"$f":"IF(Programs!$C$158=\"\",\"\",Programs!$C$158)","v":""},null,null,null,null,null,null,null,null,null,null,null,null,null,null,null,null,null,null,null,null,null,null,null,null,null,null,null,null,null,null,null,null,null,null,null,null,null,null,null,null,null,null,null,null,null,null,null,null,null,null,null,null,null,null,null,null,null,null,null,null,null,null,null,null,null,null,null,null,{"$f":"Programs!C167","v":0},0,"",0,"",{"$f":"SUM(F106,J106,O106,LOOKUP(V106,{0,1,2,3,4,5},{0,5,4,3,2,1}),Y106,AF106,AI106)","v":0},"",0,"",0,"",0,"",0,0,0,0,0,0,0,0,0,0,0,0,0,null,null,null,null,null,null,null,null,null,0,"",0,"",{"$f":"SUM(AN106,AR106,AW106,LOOKUP(BD106,{0,1,2,3,4,5},{0,5,4,3,2,1}),BG106,BN106,BQ106)","v":0},"",0,"",0,"",0,"",0,0,0,0,0,0,0,0,0,0,0,0,0,null,"","","","","","","","","","","","",null,{"$f":"IF(Programs!$D$158=\"\",\"\",Programs!$D$158)","v":""},"","","","","","","","","","","","","",null,"","","","","","","","","","","",""]
[null,{"$f":"Programs!B168","v":0},{"$f":"IF(Programs!$C$158=\"\",\"\",Programs!$C$158)","v":""},null,null,null,null,null,null,null,null,null,null,null,null,null,null,null,null,null,null,null,null,null,null,null,null,null,null,null,null,null,null,null,null,null,null,null,null,null,null,null,null,null,null,null,null,null,null,null,null,null,null,null,null,null,null,null,null,null,null,null,null,null,null,null,null,null,null,null,null,{"$f":"Programs!C168","v":0},0,"",0,"",{"$f":"SUM(F107,J107,O107,LOOKUP(V107,{0,1,2,3,4,5},{0,5,4,3,2,1}),Y107,AF107,AI107)","v":0},"",0,"",0,"",0,"",0,0,0,0,0,0,0,0,0,0,0,0,0,null,null,null,null,null,null,null,null,null,0,"",0,"",{"$f":"SUM(AN107,AR107,AW107,LOOKUP(BD107,{0,1,2,3,4,5},{0,5,4,3,2,1}),BG107,BN107,BQ107)","v":0},"",0,"",0,"",0,"",0,0,0,0,0,0,0,0,0,0,0,0,0,null,"","","","","","","","","","","","",null,{"$f":"IF(Programs!$D$158=\"\",\"\",Programs!$D$158)","v":""},"","","","","","","","","","","","","",null,"","","","","","","","","","","",""]
[null,{"$f":"Programs!B169","v":0},{"$f":"IF(Programs!$C$158=\"\",\"\",Programs!$C$158)","v":""},null,null,null,null,null,null,null,null,null,null,null,null,null,null,null,null,null,null,null,null,null,null,null,null,null,null,null,null,null,null,null,null,null,null,null,null,null,null,null,null,null,null,null,null,null,null,null,null,null,null,null,null,null,null,null,null,null,null,null,null,null,null,null,null,null,null,null,null,{"$f":"Programs!C169","v":0},{"$f":"SUM(K108,M108,N108,T108,Z108,AA108,AB108,AD108)","v":0},{"$f":"IF(OR($BT108=0,BU108=0),\"\",(IF($BT108=\"Male\",(VLOOKUP(BU108,PHYMT,3,FALSE)),(VLOOKUP(BU108,PHFMT,2,FALSE)))))","v":""},{"$f":"SUM(D108,G108,I108,W108,AC108)","v":0},{"$f":"IF(BW108=0,\"\",VLOOKUP(BW108,VER,5,FALSE))","v":""},{"$f":"SUM(F108,J108,O108,LOOKUP(V108,{0,1,2,3,4,5},{0,5,4,3,2,1}),Y108,AF108,AI108)","v":0},{"$f":"IF(BY108=0,\"\",VLOOKUP(BY108,ANG,4,FALSE))","v":""},{"$f":"SUM(E108,H108,L108,S108,X108,AE108,AH108,AJ108)","v":0},{"$f":"IF(CA108=0,\"\",IF(CA108>38,81,VLOOKUP(CA108,HOS,3,FALSE)))","v":""},{"$f":"SUM(P108,Q108,R108,U108,AG108,AK108)","v":0},{"$f":"IF(CC108=0,\"\",VLOOKUP(CC108,IND,2,FALSE))","v":""},{"$f":"SUM(BU108,BW108,BY108,CA108,CC108)","v":0},{"$f":"IF(CE108=0,\"\",VLOOKUP(CE108,AQT,2,FALSE))","v":""},{"$f":"SUM(CH108:CS108)","v":0},{"$f":"IF(ABS(D108-Y108)>1,1,0)","v":0},{"$f":"IF(ABS(E108-H108)>1,1,0)","v":0},{"$f":"IF(ABS(G108-I108)>1,1,0)","v":0},{"$f":"IF(ABS(J108-AJ108)>1,1,0)","v":0},{"$f":"IF(ABS(K108-N108)>1,1,0)","v":0},{"$f":"IF(ABS(L108-AF108)>1,1,0)","v":0},{"$f":"IF(ABS(M108-P108)>1,1,0)","v":0},{"$f":"IF(ABS(O108-AI108)>1,1,0)","v":0},{"$f":"IF(ABS(Q108-T108)>1,1,0)","v":0},{"$f":"IF(ABS(X108-AH108)>1,1,0)","v":0},{"$f":"IF(ABS(Z108-AA108)>1,1,0)","v":0},{"$f":"IF(ABS(AB108-AD108)>1,1,0)","v":0},null,null,null,null,null,null,null,null,null,{"$f":"SUM(AS108,AU108,AV108,BB108,BH108,BI108,BJ108,BL108)","v":0},{"$f":"IF(OR($BT108=0,DC108=0),\"\",(IF($BT108=\"Male\",(VLOOKUP(DC108,PHYMT,3,FALSE)),(VLOOKUP(DC108,PHFMT,2,FALSE)))))","v":""},{"$f":"SUM(AL108,AO108,AQ108,BE108,BK108)","v":0},{"$f":"IF(DE108=0,\"\",VLOOKUP(DE108,VER,5,FALSE))","v":""},{"$f":"SUM(AN108,AR108,AW108,LOOKUP(BD108,{0,1,2,3,4,5},{0,5,4,3,2,1}),BG108,BN108,BQ108)","v":0},{"$f":"IF(DG108=0,\"\",VLOOKUP(DG108,ANG,4,FALSE))","v":""},{"$f":"SUM(AM108,AP108,AT108,BA108,BF108,BM108,BP108,BR108)","v":0},{"$f":"IF(DI108=0,\"\",VLOOKUP(DI108,HOS,3,FALSE))","v":""},{"$f":"SUM(AX108,AY108,AZ108,BC108,BO108,BS108)","v":0},{"$f":"IF(DK108=0,\"\",VLOOKUP(DK108,IND,2,FALSE))","v":""},{"$f":"SUM(DC108,DE108,DG108,DI108,DK108)","v":0},{"$f":"IF(DM108=0,\"\",IF(DM108<39,24,VLOOKUP(DM108,AQT,2,FALSE)))","v":""},{"$f":"SUM(DP108:EA108)","v":0},{"$f":"IF(ABS(AL108-BG108)>1,1,0)","v":0},{"$f":"IF(ABS(AM108-AP108)>1,1,0)","v":0},{"$f":"IF(ABS(AO108-AQ108)>1,1,0)","v":0},{"$f":"IF(ABS(AR108-BR108)>1,1,0)","v":0},{"$f":"IF(ABS(AS108-AV108)>1,1,0)","v":0},{"$f":"IF(ABS(AT108-BN108)>1,1,0)","v":0},{"$f":"IF(ABS(AU108-AX108)>1,1,0)","v":0},{"$f":"IF(ABS(AW108-BQ108)>1,1,0)","v":0},{"$f":"IF(ABS(AY108-BB108)>1,1,0)","v":0},{"$f":"IF(ABS(BF108-BP108)>1,1,0)","v":0},{"$f":"IF(ABS(BH108-BI108)>1,1,0)","v":0},{"$f":"IF(ABS(BJ108-BL108)>1,1,0)","v":0},null,{"$f":"IF(EQ108<>\"\",(DC108/8)-(BU108/8),\"\")","v":""},{"$f":"IF(EQ108<>\"\",IF(BT108=0,\"\",DD108-BV108),\"\")","v":""},{"$f":"IF(EQ108<>\"\",(DE108/5)-(BW108/5),\"\")","v":""},{"$f":"IF(EQ108<>\"\",DF108-BX108,\"\")","v":""},{"$f":"IF(EQ108<>\"\",(DG108/7)-(BY108/7),\"\")","v":""},{"$f":"IF(EQ108<>\"\",DH108-BZ108,\"\")","v":""},{"$f":"IF(EQ108<>\"\",(DI108/8)-(CA108/8),\"\")","v":""},{"$f":"IF(EQ108<>\"\",DJ108-CB108,\"\")","v":""},{"$f":"IF(EQ108<>\"\",(DK108/6)-(CC108/6),\"\")","v":""},{"$f":"IF(EQ108<>\"\",DL108-CD108,\"\")","v":""},{"$f":"IF(EQ108<>\"\",(DM108/34)-(CE108/34),\"\")","v":""},{"$f":"IF(EQ108<>\"\",DN108-CF108,\"\")","v":""},null,{"$f":"IF(Programs!$D$158=\"\",\"\",Programs!$D$158)","v":""},{"$f":"IF(AND(COUNT(D108:AK108)>30,COUNT(AL108:BS108)>30),EP108,\"\")","v":""},"","","","","","","","","","","","",null,"","","","","","","","","","","",""]
[null,{"$f":"Programs!B170","v":0},{"$f":"IF(Programs!$C$158=\"\",\"\",Programs!$C$158)","v":""},null,null,null,null,null,null,null,null,null,null,null,null,null,null,null,null,null,null,null,null,null,null,null,null,null,null,null,null,null,null,null,null,null,null,null,null,null,null,null,null,null,null,null,null,null,null,null,null,null,null,null,null,null,null,null,null,null,null,null,null,null,null,null,null,null,null,null,null,{"$f":"Programs!C170","v":0},0,"",0,"",{"$f":"SUM(F109,J109,O109,LOOKUP(V109,{0,1,2,3,4,5},{0,5,4,3,2,1}),Y109,AF109,AI109)","v":0},"",0,"",0,"",0,"",0,0,0,0,0,0,0,0,0,0,0,0,0,null,null,null,null,null,null,null,null,null,0,"",0,"",{"$f":"SUM(AN109,AR109,AW109,LOOKUP(BD109,{0,1,2,3,4,5},{0,5,4,3,2,1}),BG109,BN109,BQ109)","v":0},"",0,"",0,"",0,"",0,0,0,0,0,0,0,0,0,0,0,0,0,null,"","","","","","","","","","","","",null,{"$f":"IF(Programs!$D$158=\"\",\"\",Programs!$D$158)","v":""},"","","","","","","","","","","","","",null,"","","","","","","","","","","",""]
[null,{"$f":"Programs!B171","v":0},{"$f":"IF(Programs!$C$158=\"\",\"\",Programs!$C$158)","v":""},null,null,null,null,null,null,null,null,null,null,null,null,null,null,null,null,null,null,null,null,null,null,null,null,null,null,null,null,null,null,null,null,null,null,null,null,null,null,null,null,null,null,null,null,null,null,null,null,null,null,null,null,null,null,null,null,null,null,null,null,null,null,null,null,null,null,null,null,{"$f":"Programs!C171","v":0},0,"",0,"",{"$f":"SUM(F110,J110,O110,LOOKUP(V110,{0,1,2,3,4,5},{0,5,4,3,2,1}),Y110,AF110,AI110)","v":0},"",0,"",0,"",0,"",0,0,0,0,0,0,0,0,0,0,0,0,0,null,null,null,null,null,null,null,null,null,0,"",0,"",{"$f":"SUM(AN110,AR110,AW110,LOOKUP(BD110,{0,1,2,3,4,5},{0,5,4,3,2,1}),BG110,BN110,BQ110)","v":0},"",0,"",0,"",0,"",0,0,0,0,0,0,0,0,0,0,0,0,0,null,"","","","","","","","","","","","",null,{"$f":"IF(Programs!$D$158=\"\",\"\",Programs!$D$158)","v":""},"","","","","","","","","","","","","",null,"","","","","","","","","","","",""]
[null,{"$f":"Programs!B172","v":0},{"$f":"IF(Programs!$C$158=\"\",\"\",Programs!$C$158)","v":""},null,null,null,null,null,null,null,null,null,null,null,null,null,null,null,null,null,null,null,null,null,null,null,null,null,null,null,null,null,null,null,null,null,null,null,null,null,null,null,null,null,null,null,null,null,null,null,null,null,null,null,null,null,null,null,null,null,null,null,null,null,null,null,null,null,null,null,null,{"$f":"Programs!C172","v":0},0,"",0,"",{"$f":"SUM(F111,J111,O111,LOOKUP(V111,{0,1,2,3,4,5},{0,5,4,3,2,1}),Y111,AF111,AI111)","v":0},"",0,"",0,"",0,"",0,0,0,0,0,0,0,0,0,0,0,0,0,null,null,null,null,null,null,null,null,null,0,"",0,"",{"$f":"SUM(AN111,AR111,AW111,LOOKUP(BD111,{0,1,2,3,4,5},{0,5,4,3,2,1}),BG111,BN111,BQ111)","v":0},"",0,"",0,"",0,"",0,0,0,0,0,0,0,0,0,0,0,0,0,null,"","","","","","","","","","","","",null,{"$f":"IF(Programs!$D$158=\"\",\"\",Programs!$D$158)","v":""},"","","","","","","","","","","","","",null,"","","","","","","","","","","",""]
["Program 10",{"$f":"Programs!B180","v":0},{"$f":"IF(Programs!$C$177=\"\",\"\",Programs!$C$177)","v":""},null,null,null,null,null,null,null,null,null,null,null,null,null,null,null,null,null,null,null,null,null,null,null,null,null,null,null,null,null,null,null,null,null,null,null,null,null,null,null,null,null,null,null,null,null,null,null,null,null,null,null,null,null,null,null,null,null,null,null,null,null,null,null,null,null,null,null,null,{"$f":"Programs!C180","v":0},0,"",0,"",{"$f":"SUM(F112,J112,O112,LOOKUP(V112,{0,1,2,3,4,5},{0,5,4,3,2,1}),Y112,AF112,AI112)","v":0},"",0,"",0,"",0,"",0,0,0,0,0,0,0,0,0,0,0,0,0,null,null,null,null,null,null,null,null,null,0,"",0,"",{"$f":"SUM(AN112,AR112,AW112,LOOKUP(BD112,{0,1,2,3,4,5},{0,5,4,3,2,1}),BG112,BN112,BQ112)","v":0},"",0,"",0,"",0,"",0,0,0,0,0,0,0,0,0,0,0,0,0,null,"","","","","","","","","","","","",null,{"$f":"IF(Programs!$D$177=\"\",\"\",Programs!$D$177)","v":""},"","","","","","","","","","","","","",null,"","","","","","","","","","","",""]
[null,{"$f":"Programs!B181","v":0},{"$f":"IF(Programs!$C$177=\"\",\"\",Programs!$C$177)","v":""},null,null,null,null,null,null,null,null,null,null,null,null,null,null,null,null,null,null,null,null,null,null,null,null,null,null,null,null,null,null,null,null,null,null,null,null,null,null,null,null,null,null,null,null,null,null,null,null,null,null,null,null,null,null,null,null,null,null,null,null,null,null,null,null,null,null,null,null,{"$f":"Programs!C181","v":0},0,"",0,"",{"$f":"SUM(F113,J113,O113,LOOKUP(V113,{0,1,2,3,4,5},{0,5,4,3,2,1}),Y113,AF113,AI113)","v":0},"",0,"",0,"",0,"",0,0,0,0,0,0,0,0,0,0,0,0,0,null,null,null,null,null,null,null,null,null,0,"",0,"",{"$f":"SUM(AN113,AR113,AW113,LOOKUP(BD113,{0,1,2,3,4,5},{0,5,4,3,2,1}),BG113,BN113,BQ113)","v":0},"",0,"",0,"",0,"",0,0,0,0,0,0,0,0,0,0,0,0,0,null,"","","","","","","","","","","","",null,{"$f":"IF(Programs!$D$177=\"\",\"\",Programs!$D$177)","v":""},"","","","","","","","","","","","","",null,"","","","","","","","","","","",""]
[null,{"$f":"Programs!B182","v":0},{"$f":"IF(Programs!$C$177=\"\",\"\",Programs!$C$177)","v":""},null,null,null,null,null,null,null,null,null,null,null,null,null,null,null,null,null,null,null,null,null,null,null,null,null,null,null,null,null,null,null,null,null,null,null,null,null,null,null,null,null,null,null,null,null,null,null,null,null,null,null,null,null,null,null,null,null,null,null,null,null,null,null,null,null,null,null,null,{"$f":"Programs!C182","v":0},0,"",0,"",{"$f":"SUM(F114,J114,O114,LOOKUP(V114,{0,1,2,3,4,5},{0,5,4,3,2,1}),Y114,AF114,AI114)","v":0},"",0,"",0,"",0,"",0,0,0,0,0,0,0,0,0,0,0,0,0,null,null,null,null,null,null,null,null,null,0,"",0,"",{"$f":"SUM(AN114,AR114,AW114,LOOKUP(BD114,{0,1,2,3,4,5},{0,5,4,3,2,1}),BG114,BN114,BQ114)","v":0},"",0,"",0,"",0,"",0,0,0,0,0,0,0,0,0,0,0,0,0,null,"","","","","","","","","","","","",null,{"$f":"IF(Programs!$D$177=\"\",\"\",Programs!$D$177)","v":""},"","","","","","","","","","","","","",null,"","","","","","","","","","","",""]
[null,{"$f":"Programs!B183","v":0},{"$f":"IF(Programs!$C$177=\"\",\"\",Programs!$C$177)","v":""},null,null,null,null,null,null,null,null,null,null,null,null,null,null,null,null,null,null,null,null,null,null,null,null,null,null,null,null,null,null,null,null,null,null,null,null,null,null,null,null,null,null,null,null,null,null,null,null,null,null,null,null,null,null,null,null,null,null,null,null,null,null,null,null,null,null,null,null,{"$f":"Programs!C183","v":0},0,"",0,"",{"$f":"SUM(F115,J115,O115,LOOKUP(V115,{0,1,2,3,4,5},{0,5,4,3,2,1}),Y115,AF115,AI115)","v":0},"",0,"",0,"",0,"",0,0,0,0,0,0,0,0,0,0,0,0,0,null,null,null,null,null,null,null,null,null,0,"",0,"",{"$f":"SUM(AN115,AR115,AW115,LOOKUP(BD115,{0,1,2,3,4,5},{0,5,4,3,2,1}),BG115,BN115,BQ115)","v":0},"",0,"",0,"",0,"",0,0,0,0,0,0,0,0,0,0,0,0,0,null,"","","","","","","","","","","","",null,{"$f":"IF(Programs!$D$177=\"\",\"\",Programs!$D$177)","v":""},"","","","","","","","","","","","","",null,"","","","","","","","","","","",""]
[null,{"$f":"Programs!B184","v":0},{"$f":"IF(Programs!$C$177=\"\",\"\",Programs!$C$177)","v":""},null,null,null,null,null,null,null,null,null,null,null,null,null,null,null,null,null,null,null,null,null,null,null,null,null,null,null,null,null,null,null,null,null,null,null,null,null,null,null,null,null,null,null,null,null,null,null,null,null,null,null,null,null,null,null,null,null,null,null,null,null,null,null,null,null,null,null,null,{"$f":"Programs!C184","v":0},0,"",0,"",{"$f":"SUM(F116,J116,O116,LOOKUP(V116,{0,1,2,3,4,5},{0,5,4,3,2,1}),Y116,AF116,AI116)","v":0},"",0,"",0,"",0,"",0,0,0,0,0,0,0,0,0,0,0,0,0,null,null,null,null,null,null,null,null,null,0,"",0,"",{"$f":"SUM(AN116,AR116,AW116,LOOKUP(BD116,{0,1,2,3,4,5},{0,5,4,3,2,1}),BG116,BN116,BQ116)","v":0},"",0,"",0,"",0,"",0,0,0,0,0,0,0,0,0,0,0,0,0,null,"","","","","","","","","","","","",null,{"$f":"IF(Programs!$D$177=\"\",\"\",Programs!$D$177)","v":""},"","","","","","","","","","","","","",null,"","","","","","","","","","","",""]
[null,{"$f":"Programs!B185","v":0},{"$f":"IF(Programs!$C$177=\"\",\"\",Programs!$C$177)","v":""},null,null,null,null,null,null,null,null,null,null,null,null,null,null,null,null,null,null,null,null,null,null,null,null,null,null,null,null,null,null,null,null,null,null,null,null,null,null,null,null,null,null,null,null,null,null,null,null,null,null,null,null,null,null,null,null,null,null,null,null,null,null,null,null,null,null,null,null,{"$f":"Programs!C185","v":0},0,"",0,"",{"$f":"SUM(F117,J117,O117,LOOKUP(V117,{0,1,2,3,4,5},{0,5,4,3,2,1}),Y117,AF117,AI117)","v":0},"",0,"",0,"",0,"",0,0,0,0,0,0,0,0,0,0,0,0,0,null,null,null,null,null,null,null,null,null,0,"",0,"",{"$f":"SUM(AN117,AR117,AW117,LOOKUP(BD117,{0,1,2,3,4,5},{0,5,4,3,2,1}),BG117,BN117,BQ117)","v":0},"",0,"",0,"",0,"",0,0,0,0,0,0,0,0,0,0,0,0,0,null,"","","","","","","","","","","","",null,{"$f":"IF(Programs!$D$177=\"\",\"\",Programs!$D$177)","v":""},"","","","","","","","","","","","","",null,"","","","","","","","","","","",""]
[null,{"$f":"Programs!B186","v":0},{"$f":"IF(Programs!$C$177=\"\",\"\",Programs!$C$177)","v":""},null,null,null,null,null,null,null,null,null,null,null,null,null,null,null,null,null,null,null,null,null,null,null,null,null,null,null,null,null,null,null,null,null,null,null,null,null,null,null,null,null,null,null,null,null,null,null,null,null,null,null,null,null,null,null,null,null,null,null,null,null,null,null,null,null,null,null,null,{"$f":"Programs!C186","v":0},0,{"$f":"IF(OR($BT118=0,BU118=0),\"\",(IF($BT118=\"Male\",(VLOOKUP(BU118,PHYMT,3,FALSE)),(VLOOKUP(BU118,PHFMT,2,FALSE)))))","v":""},0,{"$f":"IF(BW118=0,\"\",VLOOKUP(BW118,VER,5,FALSE))","v":""},{"$f":"SUM(F118,J118,O118,LOOKUP(V118,{0,1,2,3,4,5},{0,5,4,3,2,1}),Y118,AF118,AI118)","v":0},{"$f":"IF(BY118=0,\"\",VLOOKUP(BY118,ANG,4,FALSE))","v":""},0,{"$f":"IF(CA118=0,\"\",IF(CA118>38,81,VLOOKUP(CA118,HOS,3,FALSE)))","v":""},0,{"$f":"IF(CC118=0,\"\",VLOOKUP(CC118,IND,2,FALSE))","v":""},0,{"$f":"IF(CE118=0,\"\",VLOOKUP(CE118,AQT,2,FALSE))","v":""},0,0,0,0,0,0,0,0,0,0,0,0,0,null,null,null,null,null,null,null,null,null,0,{"$f":"IF(OR($BT118=0,DC118=0),\"\",(IF($BT118=\"Male\",(VLOOKUP(DC118,PHYMT,3,FALSE)),(VLOOKUP(DC118,PHFMT,2,FALSE)))))","v":""},0,{"$f":"IF(DE118=0,\"\",VLOOKUP(DE118,VER,5,FALSE))","v":""},{"$f":"SUM(AN118,AR118,AW118,LOOKUP(BD118,{0,1,2,3,4,5},{0,5,4,3,2,1}),BG118,BN118,BQ118)","v":0},{"$f":"IF(DG118=0,\"\",VLOOKUP(DG118,ANG,4,FALSE))","v":""},0,{"$f":"IF(DI118=0,\"\",VLOOKUP(DI118,HOS,3,FALSE))","v":""},0,{"$f":"IF(DK118=0,\"\",VLOOKUP(DK118,IND,2,FALSE))","v":""},0,{"$f":"IF(DM118=0,\"\",IF(DM118<39,24,VLOOKUP(DM118,AQT,2,FALSE)))","v":""},0,0,0,0,0,0,0,0,0,0,0,0,0,null,"","","","","","","","","","","","",null,{"$f":"IF(Programs!$D$177=\"\",\"\",Programs!$D$177)","v":""},"","","","","","","","","","","","","",null,"","","","","","","","","","","",""]
[null,{"$f":"Programs!B187","v":0},{"$f":"IF(Programs!$C$177=\"\",\"\",Programs!$C$177)","v":""},null,null,null,null,null,null,null,null,null,null,null,null,null,null,null,null,null,null,null,null,null,null,null,null,null,null,null,null,null,null,null,null,null,null,null,null,null,null,null,null,null,null,null,null,null,null,null,null,null,null,null,null,null,null,null,null,null,null,null,null,null,null,null,null,null,null,null,null,{"$f":"Programs!C187","v":0},0,"",0,"",{"$f":"SUM(F119,J119,O119,LOOKUP(V119,{0,1,2,3,4,5},{0,5,4,3,2,1}),Y119,AF119,AI119)","v":0},"",0,"",0,"",0,"",0,0,0,0,0,0,0,0,0,0,0,0,0,null,null,null,null,null,null,null,null,null,0,"",0,"",{"$f":"SUM(AN119,AR119,AW119,LOOKUP(BD119,{0,1,2,3,4,5},{0,5,4,3,2,1}),BG119,BN119,BQ119)","v":0},"",0,"",0,"",0,"",0,0,0,0,0,0,0,0,0,0,0,0,0,null,"","","","","","","","","","","","",null,{"$f":"IF(Programs!$D$177=\"\",\"\",Programs!$D$177)","v":""},"","","","","","","","","","","","","",null,"","","","","","","","","","","",""]
[null,{"$f":"Programs!B188","v":0},{"$f":"IF(Programs!$C$177=\"\",\"\",Programs!$C$177)","v":""},null,null,null,null,null,null,null,null,null,null,null,null,null,null,null,null,null,null,null,null,null,null,null,null,null,null,null,null,null,null,null,null,null,null,null,null,null,null,null,null,null,null,null,null,null,null,null,null,null,null,null,null,null,null,null,null,null,null,null,null,null,null,null,null,null,null,null,null,{"$f":"Programs!C188","v":0},{"$f":"SUM(K120,M120,N120,T120,Z120,AA120,AB120,AD120)","v":0},{"$f":"IF(OR($BT120=0,BU120=0),\"\",(IF($BT120=\"Male\",(VLOOKUP(BU120,PHYMT,3,FALSE)),(VLOOKUP(BU120,PHFMT,2,FALSE)))))","v":""},{"$f":"SUM(D120,G120,I120,W120,AC120)","v":0},{"$f":"IF(BW120=0,\"\",VLOOKUP(BW120,VER,5,FALSE))","v":""},{"$f":"SUM(F120,J120,O120,LOOKUP(V120,{0,1,2,3,4,5},{0,5,4,3,2,1}),Y120,AF120,AI120)","v":0},{"$f":"IF(BY120=0,\"\",VLOOKUP(BY120,ANG,4,FALSE))","v":""},{"$f":"SUM(E120,H120,L120,S120,X120,AE120,AH120,AJ120)","v":0},{"$f":"IF(CA120=0,\"\",IF(CA120>38,81,VLOOKUP(CA120,HOS,3,FALSE)))","v":""},{"$f":"SUM(P120,Q120,R120,U120,AG120,AK120)","v":0},{"$f":"IF(CC120=0,\"\",VLOOKUP(CC120,IND,2,FALSE))","v":""},{"$f":"SUM(BU120,BW120,BY120,CA120,CC120)","v":0},{"$f":"IF(CE120=0,\"\",VLOOKUP(CE120,AQT,2,FALSE))","v":""},{"$f":"SUM(CH120:CS120)","v":0},{"$f":"IF(ABS(D120-Y120)>1,1,0)","v":0},{"$f":"IF(ABS(E120-H120)>1,1,0)","v":0},{"$f":"IF(ABS(G120-I120)>1,1,0)","v":0},{"$f":"IF(ABS(J120-AJ120)>1,1,0)","v":0},{"$f":"IF(ABS(K120-N120)>1,1,0)","v":0},{"$f":"IF(ABS(L120-AF120)>1,1,0)","v":0},{"$f":"IF(ABS(M120-P120)>1,1,0)","v":0},{"$f":"IF(ABS(O120-AI120)>1,1,0)","v":0},{"$f":"IF(ABS(Q120-T120)>1,1,0)","v":0},{"$f":"IF(ABS(X120-AH120)>1,1,0)","v":0},{"$f":"IF(ABS(Z120-AA120)>1,1,0)","v":0},{"$f":"IF(ABS(AB120-AD120)>1,1,0)","v":0},null,null,null,null,null,null,null,null,null,{"$f":"SUM(AS120,AU120,AV120,BB120,BH120,BI120,BJ120,BL120)","v":0},{"$f":"IF(OR($BT120=0,DC120=0),\"\",(IF($BT120=\"Male\",(VLOOKUP(DC120,PHYMT,3,FALSE)),(VLOOKUP(DC120,PHFMT,2,FALSE)))))","v":""},{"$f":"SUM(AL120,AO120,AQ120,BE120,BK120)","v":0},{"$f":"IF(DE120=0,\"\",VLOOKUP(DE120,VER,5,FALSE))","v":""},{"$f":"SUM(AN120,AR120,AW120,LOOKUP(BD120,{0,1,2,3,4,5},{0,5,4,3,2,1}),BG120,BN120,BQ120)","v":0},{"$f":"IF(DG120=0,\"\",VLOOKUP(DG120,ANG,4,FALSE))","v":""},{"$f":"SUM(AM120,AP120,AT120,BA120,BF120,BM120,BP120,BR120)","v":0},{"$f":"IF(DI120=0,\"\",VLOOKUP(DI120,HOS,3,FALSE))","v":""},{"$f":"SUM(AX120,AY120,AZ120,BC120,BO120,BS120)","v":0},{"$f":"IF(DK120=0,\"\",VLOOKUP(DK120,IND,2,FALSE))","v":""},{"$f":"SUM(DC120,DE120,DG120,DI120,DK120)","v":0},{"$f":"IF(DM120=0,\"\",IF(DM120<39,24,VLOOKUP(DM120,AQT,2,FALSE)))","v":""},{"$f":"SUM(DP120:EA120)","v":0},{"$f":"IF(ABS(AL120-BG120)>1,1,0)","v":0},{"$f":"IF(ABS(AM120-AP120)>1,1,0)","v":0},{"$f":"IF(ABS(AO120-AQ120)>1,1,0)","v":0},{"$f":"IF(ABS(AR120-BR120)>1,1,0)","v":0},{"$f":"IF(ABS(AS120-AV120)>1,1,0)","v":0},{"$f":"IF(ABS(AT120-BN120)>1,1,0)","v":0},{"$f":"IF(ABS(AU120-AX120)>1,1,0)","v":0},{"$f":"IF(ABS(AW120-BQ120)>1,1,0)","v":0},{"$f":"IF(ABS(AY120-BB120)>1,1,0)","v":0},{"$f":"IF(ABS(BF120-BP120)>1,1,0)","v":0},{"$f":"IF(ABS(BH120-BI120)>1,1,0)","v":0},{"$f":"IF(ABS(BJ120-BL120)>1,1,0)","v":0},null,{"$f":"IF(EQ120<>\"\",(DC120/8)-(BU120/8),\"\")","v":""},{"$f":"IF(EQ120<>\"\",IF(BT120=0,\"\",DD120-BV120),\"\")","v":""},{"$f":"IF(EQ120<>\"\",(DE120/5)-(BW120/5),\"\")","v":""},{"$f":"IF(EQ120<>\"\",DF120-BX120,\"\")","v":""},{"$f":"IF(EQ120<>\"\",(DG120/7)-(BY120/7),\"\")","v":""},{"$f":"IF(EQ120<>\"\",DH120-BZ120,\"\")","v":""},{"$f":"IF(EQ120<>\"\",(DI120/8)-(CA120/8),\"\")","v":""},{"$f":"IF(EQ120<>\"\",DJ120-CB120,\"\")","v":""},{"$f":"IF(EQ120<>\"\",(DK120/6)-(CC120/6),\"\")","v":""},{"$f":"IF(EQ120<>\"\",DL120-CD120,\"\")","v":""},{"$f":"IF(EQ120<>\"\",(DM120/34)-(CE120/34),\"\")","v":""},{"$f":"IF(EQ120<>\"\",DN120-CF120,\"\")","v":""},null,{"$f":"IF(Programs!$D$177=\"\",\"\",Programs!$D$177)","v":""},{"$f":"IF(AND(COUNT(D120:AK120)>30,COUNT(AL120:BS120)>30),EP120,\"\")","v":""},"","","","","","","","","","","","",null,"","","","","","","","","","","",""]
[null,{"$f":"Programs!B189","v":0},{"$f":"IF(Programs!$C$177=\"\",\"\",Programs!$C$177)","v":""},null,null,null,null,null,null,null,null,null,null,null,null,null,null,null,null,null,null,null,null,null,null,null,null,null,null,null,null,null,null,null,null,null,null,null,null,null,null,null,null,null,null,null,null,null,null,null,null,null,null,null,null,null,null,null,null,null,null,null,null,null,null,null,null,null,null,null,null,{"$f":"Programs!C189","v":0},0,"",0,"",{"$f":"SUM(F121,J121,O121,LOOKUP(V121,{0,1,2,3,4,5},{0,5,4,3,2,1}),Y121,AF121,AI121)","v":0},"",0,"",0,"",0,"",0,0,0,0,0,0,0,0,0,0,0,0,0,null,null,null,null,null,null,null,null,null,0,"",0,"",{"$f":"SUM(AN121,AR121,AW121,LOOKUP(BD121,{0,1,2,3,4,5},{0,5,4,3,2,1}),BG121,BN121,BQ121)","v":0},"",0,"",0,"",0,"",0,0,0,0,0,0,0,0,0,0,0,0,0,null,"","","","","","","","","","","","",null,{"$f":"IF(Programs!$D$177=\"\",\"\",Programs!$D$177)","v":""},"","","","","","","","","","","","","",null,"","","","","","","","","","","",""]
[null,{"$f":"Programs!B190","v":0},{"$f":"IF(Programs!$C$177=\"\",\"\",Programs!$C$177)","v":""},null,null,null,null,null,null,null,null,null,null,null,null,null,null,null,null,null,null,null,null,null,null,null,null,null,null,null,null,null,null,null,null,null,null,null,null,null,null,null,null,null,null,null,null,null,null,null,null,null,null,null,null,null,null,null,null,null,null,null,null,null,null,null,null,null,null,null,null,{"$f":"Programs!C190","v":0},0,"",0,"",{"$f":"SUM(F122,J122,O122,LOOKUP(V122,{0,1,2,3,4,5},{0,5,4,3,2,1}),Y122,AF122,AI122)","v":0},"",0,"",0,"",0,"",0,0,0,0,0,0,0,0,0,0,0,0,0,null,null,null,null,null,null,null,null,null,0,"",0,"",{"$f":"SUM(AN122,AR122,AW122,LOOKUP(BD122,{0,1,2,3,4,5},{0,5,4,3,2,1}),BG122,BN122,BQ122)","v":0},"",0,"",0,"",0,"",0,0,0,0,0,0,0,0,0,0,0,0,0,null,"","","","","","","","","","","","",null,{"$f":"IF(Programs!$D$177=\"\",\"\",Programs!$D$177)","v":""},"","","","","","","","","","","","","",null,"","","","","","","","","","","",""]
[null,{"$f":"Programs!B191","v":0},{"$f":"IF(Programs!$C$177=\"\",\"\",Programs!$C$177)","v":""},null,null,null,null,null,null,null,null,null,null,null,null,null,null,null,null,null,null,null,null,null,null,null,null,null,null,null,null,null,null,null,null,null,null,null,null,null,null,null,null,null,null,null,null,null,null,null,null,null,null,null,null,null,null,null,null,null,null,null,null,null,null,null,null,null,null,null,null,{"$f":"Programs!C191","v":0},0,"",0,"",{"$f":"SUM(F123,J123,O123,LOOKUP(V123,{0,1,2,3,4,5},{0,5,4,3,2,1}),Y123,AF123,AI123)","v":0},"",0,"",0,"",0,"",0,0,0,0,0,0,0,0,0,0,0,0,0,null,null,null,null,null,null,null,null,null,0,"",0,"",{"$f":"SUM(AN123,AR123,AW123,LOOKUP(BD123,{0,1,2,3,4,5},{0,5,4,3,2,1}),BG123,BN123,BQ123)","v":0},"",0,"",0,"",0,"",0,0,0,0,0,0,0,0,0,0,0,0,0,null,"","","","","","","","","","","","",null,{"$f":"IF(Programs!$D$177=\"\",\"\",Programs!$D$177)","v":""},"","","","","","","","","","","","","",null,"","","","","","","","","","","",""]
["Program 11",{"$f":"Programs!B199","v":0},{"$f":"IF(Programs!$C$196=\"\",\"\",Programs!$C$196)","v":""},null,null,null,null,null,null,null,null,null,null,null,null,null,null,null,null,null,null,null,null,null,null,null,null,null,null,null,null,null,null,null,null,null,null,null,null,null,null,null,null,null,null,null,null,null,null,null,null,null,null,null,null,null,null,null,null,null,null,null,null,null,null,null,null,null,null,null,null,{"$f":"Programs!C199","v":0},0,"",0,"",{"$f":"SUM(F124,J124,O124,LOOKUP(V124,{0,1,2,3,4,5},{0,5,4,3,2,1}),Y124,AF124,AI124)","v":0},"",0,"",0,"",0,"",0,0,0,0,0,0,0,0,0,0,0,0,0,null,null,null,null,null,null,null,null,null,0,"",0,"",{"$f":"SUM(AN124,AR124,AW124,LOOKUP(BD124,{0,1,2,3,4,5},{0,5,4,3,2,1}),BG124,BN124,BQ124)","v":0},"",0,"",0,"",0,"",0,0,0,0,0,0,0,0,0,0,0,0,0,null,"","","","","","","","","","","","",null,{"$f":"IF(Programs!$D$196=\"\",\"\",Programs!$D$196)","v":""},"","","","","","","","","","","","","",null,"","","","","","","","","","","",""]
[null,{"$f":"Programs!B200","v":0},{"$f":"IF(Programs!$C$196=\"\",\"\",Programs!$C$196)","v":""},null,null,null,null,null,null,null,null,null,null,null,null,null,null,null,null,null,null,null,null,null,null,null,null,null,null,null,null,null,null,null,null,null,null,null,null,null,null,null,null,null,null,null,null,null,null,null,null,null,null,null,null,null,null,null,null,null,null,null,null,null,null,null,null,null,null,null,null,{"$f":"Programs!C200","v":0},0,"",0,"",{"$f":"SUM(F125,J125,O125,LOOKUP(V125,{0,1,2,3,4,5},{0,5,4,3,2,1}),Y125,AF125,AI125)","v":0},"",0,"",0,"",0,"",0,0,0,0,0,0,0,0,0,0,0,0,0,null,null,null,null,null,null,null,null,null,0,"",0,"",{"$f":"SUM(AN125,AR125,AW125,LOOKUP(BD125,{0,1,2,3,4,5},{0,5,4,3,2,1}),BG125,BN125,BQ125)","v":0},"",0,"",0,"",0,"",0,0,0,0,0,0,0,0,0,0,0,0,0,null,"","","","","","","","","","","","",null,{"$f":"IF(Programs!$D$196=\"\",\"\",Programs!$D$196)","v":""},"","","","","","","","","","","","","",null,"","","","","","","","","","","",""]
[null,{"$f":"Programs!B201","v":0},{"$f":"IF(Programs!$C$196=\"\",\"\",Programs!$C$196)","v":""},null,null,null,null,null,null,null,null,null,null,null,null,null,null,null,null,null,null,null,null,null,null,null,null,null,null,null,null,null,null,null,null,null,null,null,null,null,null,null,null,null,null,null,null,null,null,null,null,null,null,null,null,null,null,null,null,null,null,null,null,null,null,null,null,null,null,null,null,{"$f":"Programs!C201","v":0},0,"",0,"",{"$f":"SUM(F126,J126,O126,LOOKUP(V126,{0,1,2,3,4,5},{0,5,4,3,2,1}),Y126,AF126,AI126)","v":0},"",0,"",0,"",0,"",0,0,0,0,0,0,0,0,0,0,0,0,0,null,null,null,null,null,null,null,null,null,0,"",0,"",{"$f":"SUM(AN126,AR126,AW126,LOOKUP(BD126,{0,1,2,3,4,5},{0,5,4,3,2,1}),BG126,BN126,BQ126)","v":0},"",0,"",0,"",0,"",0,0,0,0,0,0,0,0,0,0,0,0,0,null,"","","","","","","","","","","","",null,{"$f":"IF(Programs!$D$196=\"\",\"\",Programs!$D$196)","v":""},"","","","","","","","","","","","","",null,"","","","","","","","","","","",""]
[null,{"$f":"Programs!B202","v":0},{"$f":"IF(Programs!$C$196=\"\",\"\",Programs!$C$196)","v":""},null,null,null,null,null,null,null,null,null,null,null,null,null,null,null,null,null,null,null,null,null,null,null,null,null,null,null,null,null,null,null,null,null,null,null,null,null,null,null,null,null,null,null,null,null,null,null,null,null,null,null,null,null,null,null,null,null,null,null,null,null,null,null,null,null,null,null,null,{"$f":"Programs!C202","v":0},0,"",0,"",{"$f":"SUM(F127,J127,O127,LOOKUP(V127,{0,1,2,3,4,5},{0,5,4,3,2,1}),Y127,AF127,AI127)","v":0},"",0,"",0,"",0,"",0,0,0,0,0,0,0,0,0,0,0,0,0,null,null,null,null,null,null,null,null,null,0,"",0,"",{"$f":"SUM(AN127,AR127,AW127,LOOKUP(BD127,{0,1,2,3,4,5},{0,5,4,3,2,1}),BG127,BN127,BQ127)","v":0},"",0,"",0,"",0,"",0,0,0,0,0,0,0,0,0,0,0,0,0,null,"","","","","","","","","","","","",null,{"$f":"IF(Programs!$D$196=\"\",\"\",Programs!$D$196)","v":""},"","","","","","","","","","","","","",null,"","","","","","","","","","","",""]
[null,{"$f":"Programs!B203","v":0},{"$f":"IF(Programs!$C$196=\"\",\"\",Programs!$C$196)","v":""},null,null,null,null,null,null,null,null,null,null,null,null,null,null,null,null,null,null,null,null,null,null,null,null,null,null,null,null,null,null,null,null,null,null,null,null,null,null,null,null,null,null,null,null,null,null,null,null,null,null,null,null,null,null,null,null,null,null,null,null,null,null,null,null,null,null,null,null,{"$f":"Programs!C203","v":0},0,"",0,"",{"$f":"SUM(F128,J128,O128,LOOKUP(V128,{0,1,2,3,4,5},{0,5,4,3,2,1}),Y128,AF128,AI128)","v":0},"",0,"",0,"",0,"",0,0,0,0,0,0,0,0,0,0,0,0,0,null,null,null,null,null,null,null,null,null,0,"",0,"",{"$f":"SUM(AN128,AR128,AW128,LOOKUP(BD128,{0,1,2,3,4,5},{0,5,4,3,2,1}),BG128,BN128,BQ128)","v":0},"",0,"",0,"",0,"",0,0,0,0,0,0,0,0,0,0,0,0,0,null,"","","","","","","","","","","","",null,{"$f":"IF(Programs!$D$196=\"\",\"\",Programs!$D$196)","v":""},"","","","","","","","","","","","","",null,"","","","","","","","","","","",""]
[null,{"$f":"Programs!B204","v":0},{"$f":"IF(Programs!$C$196=\"\",\"\",Programs!$C$196)","v":""},null,null,null,null,null,null,null,null,null,null,null,null,null,null,null,null,null,null,null,null,null,null,null,null,null,null,null,null,null,null,null,null,null,null,null,null,null,null,null,null,null,null,null,null,null,null,null,null,null,null,null,null,null,null,null,null,null,null,null,null,null,null,null,null,null,null,null,null,{"$f":"Programs!C204","v":0},0,"",0,"",{"$f":"SUM(F129,J129,O129,LOOKUP(V129,{0,1,2,3,4,5},{0,5,4,3,2,1}),Y129,AF129,AI129)","v":0},"",0,"",0,"",0,"",0,0,0,0,0,0,0,0,0,0,0,0,0,null,null,null,null,null,null,null,null,null,0,"",0,"",{"$f":"SUM(AN129,AR129,AW129,LOOKUP(BD129,{0,1,2,3,4,5},{0,5,4,3,2,1}),BG129,BN129,BQ129)","v":0},"",0,"",0,"",0,"",0,0,0,0,0,0,0,0,0,0,0,0,0,null,"","","","","","","","","","","","",null,{"$f":"IF(Programs!$D$196=\"\",\"\",Programs!$D$196)","v":""},"","","","","","","","","","","","","",null,"","","","","","","","","","","",""]
[null,{"$f":"Programs!B205","v":0},{"$f":"IF(Programs!$C$196=\"\",\"\",Programs!$C$196)","v":""},null,null,null,null,null,null,null,null,null,null,null,null,null,null,null,null,null,null,null,null,null,null,null,null,null,null,null,null,null,null,null,null,null,null,null,null,null,null,null,null,null,null,null,null,null,null,null,null,null,null,null,null,null,null,null,null,null,null,null,null,null,null,null,null,null,null,null,null,{"$f":"Programs!C205","v":0},0,"",0,"",{"$f":"SUM(F130,J130,O130,LOOKUP(V130,{0,1,2,3,4,5},{0,5,4,3,2,1}),Y130,AF130,AI130)","v":0},"",0,"",0,"",0,"",0,0,0,0,0,0,0,0,0,0,0,0,0,null,null,null,null,null,null,null,null,null,0,"",0,"",{"$f":"SUM(AN130,AR130,AW130,LOOKUP(BD130,{0,1,2,3,4,5},{0,5,4,3,2,1}),BG130,BN130,BQ130)","v":0},"",0,"",0,"",0,"",0,0,0,0,0,0,0,0,0,0,0,0,0,null,"","","","","","","","","","","","",null,{"$f":"IF(Programs!$D$196=\"\",\"\",Programs!$D$196)","v":""},"","","","","","","","","","","","","",null,"","","","","","","","","","","",""]
[null,{"$f":"Programs!B206","v":0},{"$f":"IF(Programs!$C$196=\"\",\"\",Programs!$C$196)","v":""},null,null,null,null,null,null,null,null,null,null,null,null,null,null,null,null,null,null,null,null,null,null,null,null,null,null,null,null,null,null,null,null,null,null,null,null,null,null,null,null,null,null,null,null,null,null,null,null,null,null,null,null,null,null,null,null,null,null,null,null,null,null,null,null,null,null,null,null,{"$f":"Programs!C206","v":0},0,"",0,"",{"$f":"SUM(F131,J131,O131,LOOKUP(V131,{0,1,2,3,4,5},{0,5,4,3,2,1}),Y131,AF131,AI131)","v":0},"",0,"",0,"",0,"",0,0,0,0,0,0,0,0,0,0,0,0,0,null,null,null,null,null,null,null,null,null,0,"",0,"",{"$f":"SUM(AN131,AR131,AW131,LOOKUP(BD131,{0,1,2,3,4,5},{0,5,4,3,2,1}),BG131,BN131,BQ131)","v":0},"",0,"",0,"",0,"",0,0,0,0,0,0,0,0,0,0,0,0,0,null,"","","","","","","","","","","","",null,{"$f":"IF(Programs!$D$196=\"\",\"\",Programs!$D$196)","v":""},"","","","","","","","","","","","","",null,"","","","","","","","","","","",""]
[null,{"$f":"Programs!B207","v":0},{"$f":"IF(Programs!$C$196=\"\",\"\",Programs!$C$196)","v":""},null,null,null,null,null,null,null,null,null,null,null,null,null,null,null,null,null,null,null,null,null,null,null,null,null,null,null,null,null,null,null,null,null,null,null,null,null,null,null,null,null,null,null,null,null,null,null,null,null,null,null,null,null,null,null,null,null,null,null,null,null,null,null,null,null,null,null,null,{"$f":"Programs!C207","v":0},{"$f":"SUM(K132,M132,N132,T132,Z132,AA132,AB132,AD132)","v":0},{"$f":"IF(OR($BT132=0,BU132=0),\"\",(IF($BT132=\"Male\",(VLOOKUP(BU132,PHYMT,3,FALSE)),(VLOOKUP(BU132,PHFMT,2,FALSE)))))","v":""},{"$f":"SUM(D132,G132,I132,W132,AC132)","v":0},{"$f":"IF(BW132=0,\"\",VLOOKUP(BW132,VER,5,FALSE))","v":""},{"$f":"SUM(F132,J132,O132,LOOKUP(V132,{0,1,2,3,4,5},{0,5,4,3,2,1}),Y132,AF132,AI132)","v":0},{"$f":"IF(BY132=0,\"\",VLOOKUP(BY132,ANG,4,FALSE))","v":""},{"$f":"SUM(E132,H132,L132,S132,X132,AE132,AH132,AJ132)","v":0},{"$f":"IF(CA132=0,\"\",IF(CA132>38,81,VLOOKUP(CA132,HOS,3,FALSE)))","v":""},{"$f":"SUM(P132,Q132,R132,U132,AG132,AK132)","v":0},{"$f":"IF(CC132=0,\"\",VLOOKUP(CC132,IND,2,FALSE))","v":""},{"$f":"SUM(BU132,BW132,BY132,CA132,CC132)","v":0},{"$f":"IF(CE132=0,\"\",VLOOKUP(CE132,AQT,2,FALSE))","v":""},{"$f":"SUM(CH132:CS132)","v":0},{"$f":"IF(ABS(D132-Y132)>1,1,0)","v":0},{"$f":"IF(ABS(E132-H132)>1,1,0)","v":0},{"$f":"IF(ABS(G132-I132)>1,1,0)","v":0},{"$f":"IF(ABS(J132-AJ132)>1,1,0)","v":0},{"$f":"IF(ABS(K132-N132)>1,1,0)","v":0},{"$f":"IF(ABS(L132-AF132)>1,1,0)","v":0},{"$f":"IF(ABS(M132-P132)>1,1,0)","v":0},{"$f":"IF(ABS(O132-AI132)>1,1,0)","v":0},{"$f":"IF(ABS(Q132-T132)>1,1,0)","v":0},{"$f":"IF(ABS(X132-AH132)>1,1,0)","v":0},{"$f":"IF(ABS(Z132-AA132)>1,1,0)","v":0},{"$f":"IF(ABS(AB132-AD132)>1,1,0)","v":0},null,null,null,null,null,null,null,null,null,{"$f":"SUM(AS132,AU132,AV132,BB132,BH132,BI132,BJ132,BL132)","v":0},{"$f":"IF(OR($BT132=0,DC132=0),\"\",(IF($BT132=\"Male\",(VLOOKUP(DC132,PHYMT,3,FALSE)),(VLOOKUP(DC132,PHFMT,2,FALSE)))))","v":""},{"$f":"SUM(AL132,AO132,AQ132,BE132,BK132)","v":0},{"$f":"IF(DE132=0,\"\",VLOOKUP(DE132,VER,5,FALSE))","v":""},{"$f":"SUM(AN132,AR132,AW132,LOOKUP(BD132,{0,1,2,3,4,5},{0,5,4,3,2,1}),BG132,BN132,BQ132)","v":0},{"$f":"IF(DG132=0,\"\",VLOOKUP(DG132,ANG,4,FALSE))","v":""},{"$f":"SUM(AM132,AP132,AT132,BA132,BF132,BM132,BP132,BR132)","v":0},{"$f":"IF(DI132=0,\"\",VLOOKUP(DI132,HOS,3,FALSE))","v":""},{"$f":"SUM(AX132,AY132,AZ132,BC132,BO132,BS132)","v":0},{"$f":"IF(DK132=0,\"\",VLOOKUP(DK132,IND,2,FALSE))","v":""},{"$f":"SUM(DC132,DE132,DG132,DI132,DK132)","v":0},{"$f":"IF(DM132=0,\"\",IF(DM132<39,24,VLOOKUP(DM132,AQT,2,FALSE)))","v":""},{"$f":"SUM(DP132:EA132)","v":0},{"$f":"IF(ABS(AL132-BG132)>1,1,0)","v":0},{"$f":"IF(ABS(AM132-AP132)>1,1,0)","v":0},{"$f":"IF(ABS(AO132-AQ132)>1,1,0)","v":0},{"$f":"IF(ABS(AR132-BR132)>1,1,0)","v":0},{"$f":"IF(ABS(AS132-AV132)>1,1,0)","v":0},{"$f":"IF(ABS(AT132-BN132)>1,1,0)","v":0},{"$f":"IF(ABS(AU132-AX132)>1,1,0)","v":0},{"$f":"IF(ABS(AW132-BQ132)>1,1,0)","v":0},{"$f":"IF(ABS(AY132-BB132)>1,1,0)","v":0},{"$f":"IF(ABS(BF132-BP132)>1,1,0)","v":0},{"$f":"IF(ABS(BH132-BI132)>1,1,0)","v":0},{"$f":"IF(ABS(BJ132-BL132)>1,1,0)","v":0},null,{"$f":"IF(EQ132<>\"\",(DC132/8)-(BU132/8),\"\")","v":""},{"$f":"IF(EQ132<>\"\",IF(BT132=0,\"\",DD132-BV132),\"\")","v":""},{"$f":"IF(EQ132<>\"\",(DE132/5)-(BW132/5),\"\")","v":""},{"$f":"IF(EQ132<>\"\",DF132-BX132,\"\")","v":""},{"$f":"IF(EQ132<>\"\",(DG132/7)-(BY132/7),\"\")","v":""},{"$f":"IF(EQ132<>\"\",DH132-BZ132,\"\")","v":""},{"$f":"IF(EQ132<>\"\",(DI132/8)-(CA132/8),\"\")","v":""},{"$f":"IF(EQ132<>\"\",DJ132-CB132,\"\")","v":""},{"$f":"IF(EQ132<>\"\",(DK132/6)-(CC132/6),\"\")","v":""},{"$f":"IF(EQ132<>\"\",DL132-CD132,\"\")","v":""},{"$f":"IF(EQ132<>\"\",(DM132/34)-(CE132/34),\"\")","v":""},{"$f":"IF(EQ132<>\"\",DN132-CF132,\"\")","v":""},null,{"$f":"IF(Programs!$D$196=\"\",\"\",Programs!$D$196)","v":""},{"$f":"IF(AND(COUNT(D132:AK132)>30,COUNT(AL132:BS132)>30),EP132,\"\")","v":""},"","","","","","","","","","","","",null,"","","","","","","","","","","",""]
[null,{"$f":"Programs!B208","v":0},{"$f":"IF(Programs!$C$196=\"\",\"\",Programs!$C$196)","v":""},null,null,null,null,null,null,null,null,null,null,null,null,null,null,null,null,null,null,null,null,null,null,null,null,null,null,null,null,null,null,null,null,null,null,null,null,null,null,null,null,null,null,null,null,null,null,null,null,null,null,null,null,null,null,null,null,null,null,null,null,null,null,null,null,null,null,null,null,{"$f":"Programs!C208","v":0},0,"",0,"",{"$f":"SUM(F133,J133,O133,LOOKUP(V133,{0,1,2,3,4,5},{0,5,4,3,2,1}),Y133,AF133,AI133)","v":0},"",0,"",0,"",0,"",0,0,0,0,0,0,0,0,0,0,0,0,0,null,null,null,null,null,null,null,null,null,0,"",0,"",{"$f":"SUM(AN133,AR133,AW133,LOOKUP(BD133,{0,1,2,3,4,5},{0,5,4,3,2,1}),BG133,BN133,BQ133)","v":0},"",0,"",0,"",0,"",0,0,0,0,0,0,0,0,0,0,0,0,0,null,"","","","","","","","","","","","",null,{"$f":"IF(Programs!$D$196=\"\",\"\",Programs!$D$196)","v":""},"",{"$f":"IF($EQ133=\"\",\"\",IF(EC133<0,$EQ133,\"\"))","v":""},{"$f":"IF(ED133<0,$EQ133,\"\")","v":""},{"$f":"IF($EQ133=\"\",\"\",IF(EE133<0,$EQ133,\"\"))","v":""},{"$f":"IF(EF133<0,$EQ133,\"\")","v":""},{"$f":"IF($EQ133=\"\",\"\",IF(EG133<0,$EQ133,\"\"))","v":""},{"$f":"IF(EH133<0,$EQ133,\"\")","v":""},{"$f":"IF($EQ133=\"\",\"\",IF(EI133<0,$EQ133,\"\"))","v":""},{"$f":"IF(EJ133<0,$EQ133,\"\")","v":""},{"$f":"IF($EQ133=\"\",\"\",IF(EK133<0,$EQ133,\"\"))","v":""},{"$f":"IF(EL133<0,$EQ133,\"\")","v":""},{"$f":"IF($EQ133=\"\",\"\",IF(EM133<0,$EQ133,\"\"))","v":""},{"$f":"IF(EN133<0,$EQ133,\"\")","v":""},null,{"$f":"IF($EQ133=\"\",\"\",IF(EC133>0,$EQ133,\"\"))","v":""},{"$f":"IF(ED133>0,$EQ133,\"\")","v":""},{"$f":"IF($EQ133=\"\",\"\",IF(EE133>0,$EQ133,\"\"))","v":""},{"$f":"IF(EF133>0,$EQ133,\"\")","v":""},{"$f":"IF($EQ133=\"\",\"\",IF(EG133>0,$EQ133,\"\"))","v":""},{"$f":"IF(EH133>0,$EQ133,\"\")","v":""},{"$f":"IF($EQ133=\"\",\"\",IF(EI133>0,$EQ133,\"\"))","v":""},{"$f":"IF(EJ133>0,$EQ133,\"\")","v":""},{"$f":"IF($EQ133=\"\",\"\",IF(EK133>0,$EQ133,\"\"))","v":""},{"$f":"IF(EL133>0,$EQ133,\"\")","v":""},{"$f":"IF($EQ133=\"\",\"\",IF(EM133>0,$EQ133,\"\"))","v":""},{"$f":"IF(EN133>0,$EQ133,\"\")","v":""}]
[null,{"$f":"Programs!B209","v":0},{"$f":"IF(Programs!$C$196=\"\",\"\",Programs!$C$196)","v":""},null,null,null,null,null,null,null,null,null,null,null,null,null,null,null,null,null,null,null,null,null,null,null,null,null,null,null,null,null,null,null,null,null,null,null,null,null,null,null,null,null,null,null,null,null,null,null,null,null,null,null,null,null,null,null,null,null,null,null,null,null,null,null,null,null,null,null,null,{"$f":"Programs!C209","v":0},0,"",0,"",{"$f":"SUM(F134,J134,O134,LOOKUP(V134,{0,1,2,3,4,5},{0,5,4,3,2,1}),Y134,AF134,AI134)","v":0},"",0,"",0,"",0,"",0,0,0,0,0,0,0,0,0,0,0,0,0,null,null,null,null,null,null,null,null,null,0,"",0,"",{"$f":"SUM(AN134,AR134,AW134,LOOKUP(BD134,{0,1,2,3,4,5},{0,5,4,3,2,1}),BG134,BN134,BQ134)","v":0},"",0,"",0,"",0,"",0,0,0,0,0,0,0,0,0,0,0,0,0,null,"","","","","","","","","","","","",null,{"$f":"IF(Programs!$D$196=\"\",\"\",Programs!$D$196)","v":""},"","","","","","","","","","","","","",null,"","","","","","","","","","","",""]
[null,{"$f":"Programs!B210","v":0},{"$f":"IF(Programs!$C$196=\"\",\"\",Programs!$C$196)","v":""},null,null,null,null,null,null,null,null,null,null,null,null,null,null,null,null,null,null,null,null,null,null,null,null,null,null,null,null,null,null,null,null,null,null,null,null,null,null,null,null,null,null,null,null,null,null,null,null,null,null,null,null,null,null,null,null,null,null,null,null,null,null,null,null,null,null,null,null,{"$f":"Programs!C210","v":0},0,"",0,"",{"$f":"SUM(F135,J135,O135,LOOKUP(V135,{0,1,2,3,4,5},{0,5,4,3,2,1}),Y135,AF135,AI135)","v":0},"",0,"",0,"",0,"",0,0,0,0,0,0,0,0,0,0,0,0,0,null,null,null,null,null,null,null,null,null,0,"",0,"",{"$f":"SUM(AN135,AR135,AW135,LOOKUP(BD135,{0,1,2,3,4,5},{0,5,4,3,2,1}),BG135,BN135,BQ135)","v":0},"",0,"",0,"",0,"",0,0,0,0,0,0,0,0,0,0,0,0,0,null,"","","","","","","","","","","","",null,{"$f":"IF(Programs!$D$196=\"\",\"\",Programs!$D$196)","v":""},"","","","","","","","","","","","","",null,"","","","","","","","","","","",""]
["Program 12",{"$f":"Programs!B218","v":0},{"$f":"IF(Programs!$C$215=\"\",\"\",Programs!$C$215)","v":""},null,null,null,null,null,null,null,null,null,null,null,null,null,null,null,null,null,null,null,null,null,null,null,null,null,null,null,null,null,null,null,null,null,null,null,null,null,null,null,null,null,null,null,null,null,null,null,null,null,null,null,null,null,null,null,null,null,null,null,null,null,null,null,null,null,null,null,null,{"$f":"Programs!C218","v":0},0,"",0,"",{"$f":"SUM(F136,J136,O136,LOOKUP(V136,{0,1,2,3,4,5},{0,5,4,3,2,1}),Y136,AF136,AI136)","v":0},"",0,"",0,"",0,"",0,0,0,0,0,0,0,0,0,0,0,0,0,null,null,null,null,null,null,null,null,null,0,"",0,"",{"$f":"SUM(AN136,AR136,AW136,LOOKUP(BD136,{0,1,2,3,4,5},{0,5,4,3,2,1}),BG136,BN136,BQ136)","v":0},"",0,"",0,"",0,"",0,0,0,0,0,0,0,0,0,0,0,0,0,null,"","","","","","","","","","","","",null,{"$f":"IF(Programs!$D$215=\"\",\"\",Programs!$D$215)","v":""},"","","","","","","","","","","","","",null,"","","","","","","","","","","",""]
[null,{"$f":"Programs!B219","v":0},{"$f":"IF(Programs!$C$215=\"\",\"\",Programs!$C$215)","v":""},null,null,null,null,null,null,null,null,null,null,null,null,null,null,null,null,null,null,null,null,null,null,null,null,null,null,null,null,null,null,null,null,null,null,null,null,null,null,null,null,null,null,null,null,null,null,null,null,null,null,null,null,null,null,null,null,null,null,null,null,null,null,null,null,null,null,null,null,{"$f":"Programs!C219","v":0},0,"",0,"",{"$f":"SUM(F137,J137,O137,LOOKUP(V137,{0,1,2,3,4,5},{0,5,4,3,2,1}),Y137,AF137,AI137)","v":0},"",0,"",0,"",0,"",0,0,0,0,0,0,0,0,0,0,0,0,0,null,null,null,null,null,null,null,null,null,0,"",0,"",{"$f":"SUM(AN137,AR137,AW137,LOOKUP(BD137,{0,1,2,3,4,5},{0,5,4,3,2,1}),BG137,BN137,BQ137)","v":0},"",0,"",0,"",0,"",0,0,0,0,0,0,0,0,0,0,0,0,0,null,"","","","","","","","","","","","",null,{"$f":"IF(Programs!$D$215=\"\",\"\",Programs!$D$215)","v":""},"","","","","","","","","","","","","",null,"","","","","","","","","","","",""]
[null,{"$f":"Programs!B220","v":0},{"$f":"IF(Programs!$C$215=\"\",\"\",Programs!$C$215)","v":""},null,null,null,null,null,null,null,null,null,null,null,null,null,null,null,null,null,null,null,null,null,null,null,null,null,null,null,null,null,null,null,null,null,null,null,null,null,null,null,null,null,null,null,null,null,null,null,null,null,null,null,null,null,null,null,null,null,null,null,null,null,null,null,null,null,null,null,null,{"$f":"Programs!C220","v":0},0,"",0,"",{"$f":"SUM(F138,J138,O138,LOOKUP(V138,{0,1,2,3,4,5},{0,5,4,3,2,1}),Y138,AF138,AI138)","v":0},"",0,"",0,"",0,"",0,0,0,0,0,0,0,0,0,0,0,0,0,null,null,null,null,null,null,null,null,null,0,"",0,"",{"$f":"SUM(AN138,AR138,AW138,LOOKUP(BD138,{0,1,2,3,4,5},{0,5,4,3,2,1}),BG138,BN138,BQ138)","v":0},"",0,"",0,"",0,"",0,0,0,0,0,0,0,0,0,0,0,0,0,null,"","","","","","","","","","","","",null,{"$f":"IF(Programs!$D$215=\"\",\"\",Programs!$D$215)","v":""},"","","","","","","","","","","","","",null,"","","","","","","","","","","",""]
[null,{"$f":"Programs!B221","v":0},{"$f":"IF(Programs!$C$215=\"\",\"\",Programs!$C$215)","v":""},null,null,null,null,null,null,null,null,null,null,null,null,null,null,null,null,null,null,null,null,null,null,null,null,null,null,null,null,null,null,null,null,null,null,null,null,null,null,null,null,null,null,null,null,null,null,null,null,null,null,null,null,null,null,null,null,null,null,null,null,null,null,null,null,null,null,null,null,{"$f":"Programs!C221","v":0},0,"",0,"",{"$f":"SUM(F139,J139,O139,LOOKUP(V139,{0,1,2,3,4,5},{0,5,4,3,2,1}),Y139,AF139,AI139)","v":0},"",0,"",0,"",0,"",0,0,0,0,0,0,0,0,0,0,0,0,0,null,null,null,null,null,null,null,null,null,0,"",0,"",{"$f":"SUM(AN139,AR139,AW139,LOOKUP(BD139,{0,1,2,3,4,5},{0,5,4,3,2,1}),BG139,BN139,BQ139)","v":0},"",0,"",0,"",0,"",0,0,0,0,0,0,0,0,0,0,0,0,0,null,"","","","","","","","","","","","",null,{"$f":"IF(Programs!$D$215=\"\",\"\",Programs!$D$215)","v":""},"","","","","","","","","","","","","",null,"","","","","","","","","","","",""]
[null,{"$f":"Programs!B222","v":0},{"$f":"IF(Programs!$C$215=\"\",\"\",Programs!$C$215)","v":""},null,null,null,null,null,null,null,null,null,null,null,null,null,null,null,null,null,null,null,null,null,null,null,null,null,null,null,null,null,null,null,null,null,null,null,null,null,null,null,null,null,null,null,null,null,null,null,null,null,null,null,null,null,null,null,null,null,null,null,null,null,null,null,null,null,null,null,null,{"$f":"Programs!C222","v":0},0,"",0,"",{"$f":"SUM(F140,J140,O140,LOOKUP(V140,{0,1,2,3,4,5},{0,5,4,3,2,1}),Y140,AF140,AI140)","v":0},"",0,"",0,"",0,"",0,0,0,0,0,0,0,0,0,0,0,0,0,null,null,null,null,null,null,null,null,null,0,"",0,"",{"$f":"SUM(AN140,AR140,AW140,LOOKUP(BD140,{0,1,2,3,4,5},{0,5,4,3,2,1}),BG140,BN140,BQ140)","v":0},"",0,"",0,"",0,"",0,0,0,0,0,0,0,0,0,0,0,0,0,null,"","","","","","","","","","","","",null,{"$f":"IF(Programs!$D$215=\"\",\"\",Programs!$D$215)","v":""},"","","","","","","","","","","","","",null,"","","","","","","","","","","",""]
[null,{"$f":"Programs!B223","v":0},{"$f":"IF(Programs!$C$215=\"\",\"\",Programs!$C$215)","v":""},null,null,null,null,null,null,null,null,null,null,null,null,null,null,null,null,null,null,null,null,null,null,null,null,null,null,null,null,null,null,null,null,null,null,null,null,null,null,null,null,null,null,null,null,null,null,null,null,null,null,null,null,null,null,null,null,null,null,null,null,null,null,null,null,null,null,null,null,{"$f":"Programs!C223","v":0},0,"",0,"",{"$f":"SUM(F141,J141,O141,LOOKUP(V141,{0,1,2,3,4,5},{0,5,4,3,2,1}),Y141,AF141,AI141)","v":0},"",0,"",0,"",0,"",0,0,0,0,0,0,0,0,0,0,0,0,0,null,null,null,null,null,null,null,null,null,0,"",0,"",{"$f":"SUM(AN141,AR141,AW141,LOOKUP(BD141,{0,1,2,3,4,5},{0,5,4,3,2,1}),BG141,BN141,BQ141)","v":0},"",0,"",0,"",0,"",0,0,0,0,0,0,0,0,0,0,0,0,0,null,"","","","","","","","","","","","",null,{"$f":"IF(Programs!$D$215=\"\",\"\",Programs!$D$215)","v":""},"","","","","","","","","","","","","",null,"","","","","","","","","","","",""]
[null,{"$f":"Programs!B224","v":0},{"$f":"IF(Programs!$C$215=\"\",\"\",Programs!$C$215)","v":""},null,null,null,null,null,null,null,null,null,null,null,null,null,null,null,null,null,null,null,null,null,null,null,null,null,null,null,null,null,null,null,null,null,null,null,null,null,null,null,null,null,null,null,null,null,null,null,null,null,null,null,null,null,null,null,null,null,null,null,null,null,null,null,null,null,null,null,null,{"$f":"Programs!C224","v":0},0,"",0,"",{"$f":"SUM(F142,J142,O142,LOOKUP(V142,{0,1,2,3,4,5},{0,5,4,3,2,1}),Y142,AF142,AI142)","v":0},"",0,"",0,"",0,"",0,0,0,0,0,0,0,0,0,0,0,0,0,null,null,null,null,null,null,null,null,null,0,"",0,"",{"$f":"SUM(AN142,AR142,AW142,LOOKUP(BD142,{0,1,2,3,4,5},{0,5,4,3,2,1}),BG142,BN142,BQ142)","v":0},"",0,"",0,"",0,"",0,0,0,0,0,0,0,0,0,0,0,0,0,null,"","","","","","","","","","","","",null,{"$f":"IF(Programs!$D$215=\"\",\"\",Programs!$D$215)","v":""},"","","","","","","","","","","","","",null,"","","","","","","","","","","",""]
[null,{"$f":"Programs!B225","v":0},{"$f":"IF(Programs!$C$215=\"\",\"\",Programs!$C$215)","v":""},null,null,null,null,null,null,null,null,null,null,null,null,null,null,null,null,null,null,null,null,null,null,null,null,null,null,null,null,null,null,null,null,null,null,null,null,null,null,null,null,null,null,null,null,null,null,null,null,null,null,null,null,null,null,null,null,null,null,null,null,null,null,null,null,null,null,null,null,{"$f":"Programs!C225","v":0},0,"",0,"",{"$f":"SUM(F143,J143,O143,LOOKUP(V143,{0,1,2,3,4,5},{0,5,4,3,2,1}),Y143,AF143,AI143)","v":0},"",0,"",0,"",0,"",0,0,0,0,0,0,0,0,0,0,0,0,0,null,null,null,null,null,null,null,null,null,0,"",0,"",{"$f":"SUM(AN143,AR143,AW143,LOOKUP(BD143,{0,1,2,3,4,5},{0,5,4,3,2,1}),BG143,BN143,BQ143)","v":0},"",0,"",0,"",0,"",0,0,0,0,0,0,0,0,0,0,0,0,0,null,"","","","","","","","","","","","",null,{"$f":"IF(Programs!$D$215=\"\",\"\",Programs!$D$215)","v":""},"","","","","","","","","","","","","",null,"","","","","","","","","","","",""]
[null,{"$f":"Programs!B226","v":0},{"$f":"IF(Programs!$C$215=\"\",\"\",Programs!$C$215)","v":""},null,null,null,null,null,null,null,null,null,null,null,null,null,null,null,null,null,null,null,null,null,null,null,null,null,null,null,null,null,null,null,null,null,null,null,null,null,null,null,null,null,null,null,null,null,null,null,null,null,null,null,null,null,null,null,null,null,null,null,null,null,null,null,null,null,null,null,null,{"$f":"Programs!C226","v":0},{"$f":"SUM(K144,M144,N144,T144,Z144,AA144,AB144,AD144)","v":0},{"$f":"IF(OR($BT144=0,BU144=0),\"\",(IF($BT144=\"Male\",(VLOOKUP(BU144,PHYMT,3,FALSE)),(VLOOKUP(BU144,PHFMT,2,FALSE)))))","v":""},{"$f":"SUM(D144,G144,I144,W144,AC144)","v":0},{"$f":"IF(BW144=0,\"\",VLOOKUP(BW144,VER,5,FALSE))","v":""},{"$f":"SUM(F144,J144,O144,LOOKUP(V144,{0,1,2,3,4,5},{0,5,4,3,2,1}),Y144,AF144,AI144)","v":0},{"$f":"IF(BY144=0,\"\",VLOOKUP(BY144,ANG,4,FALSE))","v":""},{"$f":"SUM(E144,H144,L144,S144,X144,AE144,AH144,AJ144)","v":0},{"$f":"IF(CA144=0,\"\",IF(CA144>38,81,VLOOKUP(CA144,HOS,3,FALSE)))","v":""},{"$f":"SUM(P144,Q144,R144,U144,AG144,AK144)","v":0},{"$f":"IF(CC144=0,\"\",VLOOKUP(CC144,IND,2,FALSE))","v":""},{"$f":"SUM(BU144,BW144,BY144,CA144,CC144)","v":0},{"$f":"IF(CE144=0,\"\",VLOOKUP(CE144,AQT,2,FALSE))","v":""},{"$f":"SUM(CH144:CS144)","v":0},{"$f":"IF(ABS(D144-Y144)>1,1,0)","v":0},{"$f":"IF(ABS(E144-H144)>1,1,0)","v":0},{"$f":"IF(ABS(G144-I144)>1,1,0)","v":0},{"$f":"IF(ABS(J144-AJ144)>1,1,0)","v":0},{"$f":"IF(ABS(K144-N144)>1,1,0)","v":0},{"$f":"IF(ABS(L144-AF144)>1,1,0)","v":0},{"$f":"IF(ABS(M144-P144)>1,1,0)","v":0},{"$f":"IF(ABS(O144-AI144)>1,1,0)","v":0},{"$f":"IF(ABS(Q144-T144)>1,1,0)","v":0},{"$f":"IF(ABS(X144-AH144)>1,1,0)","v":0},{"$f":"IF(ABS(Z144-AA144)>1,1,0)","v":0},{"$f":"IF(ABS(AB144-AD144)>1,1,0)","v":0},null,null,null,null,null,null,null,null,null,{"$f":"SUM(AS144,AU144,AV144,BB144,BH144,BI144,BJ144,BL144)","v":0},{"$f":"IF(OR($BT144=0,DC144=0),\"\",(IF($BT144=\"Male\",(VLOOKUP(DC144,PHYMT,3,FALSE)),(VLOOKUP(DC144,PHFMT,2,FALSE)))))","v":""},{"$f":"SUM(AL144,AO144,AQ144,BE144,BK144)","v":0},{"$f":"IF(DE144=0,\"\",VLOOKUP(DE144,VER,5,FALSE))","v":""},{"$f":"SUM(AN144,AR144,AW144,LOOKUP(BD144,{0,1,2,3,4,5},{0,5,4,3,2,1}),BG144,BN144,BQ144)","v":0},{"$f":"IF(DG144=0,\"\",VLOOKUP(DG144,ANG,4,FALSE))","v":""},{"$f":"SUM(AM144,AP144,AT144,BA144,BF144,BM144,BP144,BR144)","v":0},{"$f":"IF(DI144=0,\"\",VLOOKUP(DI144,HOS,3,FALSE))","v":""},{"$f":"SUM(AX144,AY144,AZ144,BC144,BO144,BS144)","v":0},{"$f":"IF(DK144=0,\"\",VLOOKUP(DK144,IND,2,FALSE))","v":""},{"$f":"SUM(DC144,DE144,DG144,DI144,DK144)","v":0},{"$f":"IF(DM144=0,\"\",IF(DM144<39,24,VLOOKUP(DM144,AQT,2,FALSE)))","v":""},{"$f":"SUM(DP144:EA144)","v":0},{"$f":"IF(ABS(AL144-BG144)>1,1,0)","v":0},{"$f":"IF(ABS(AM144-AP144)>1,1,0)","v":0},{"$f":"IF(ABS(AO144-AQ144)>1,1,0)","v":0},{"$f":"IF(ABS(AR144-BR144)>1,1,0)","v":0},{"$f":"IF(ABS(AS144-AV144)>1,1,0)","v":0},{"$f":"IF(ABS(AT144-BN144)>1,1,0)","v":0},{"$f":"IF(ABS(AU144-AX144)>1,1,0)","v":0},{"$f":"IF(ABS(AW144-BQ144)>1,1,0)","v":0},{"$f":"IF(ABS(AY144-BB144)>1,1,0)","v":0},{"$f":"IF(ABS(BF144-BP144)>1,1,0)","v":0},{"$f":"IF(ABS(BH144-BI144)>1,1,0)","v":0},{"$f":"IF(ABS(BJ144-BL144)>1,1,0)","v":0},null,{"$f":"IF(EQ144<>\"\",(DC144/8)-(BU144/8),\"\")","v":""},{"$f":"IF(EQ144<>\"\",IF(BT144=0,\"\",DD144-BV144),\"\")","v":""},{"$f":"IF(EQ144<>\"\",(DE144/5)-(BW144/5),\"\")","v":""},{"$f":"IF(EQ144<>\"\",DF144-BX144,\"\")","v":""},{"$f":"IF(EQ144<>\"\",(DG144/7)-(BY144/7),\"\")","v":""},{"$f":"IF(EQ144<>\"\",DH144-BZ144,\"\")","v":""},{"$f":"IF(EQ144<>\"\",(DI144/8)-(CA144/8),\"\")","v":""},{"$f":"IF(EQ144<>\"\",DJ144-CB144,\"\")","v":""},{"$f":"IF(EQ144<>\"\",(DK144/6)-(CC144/6),\"\")","v":""},{"$f":"IF(EQ144<>\"\",DL144-CD144,\"\")","v":""},{"$f":"IF(EQ144<>\"\",(DM144/34)-(CE144/34),\"\")","v":""},{"$f":"IF(EQ144<>\"\",DN144-CF144,\"\")","v":""},null,{"$f":"IF(Programs!$D$215=\"\",\"\",Programs!$D$215)","v":""},{"$f":"IF(AND(COUNT(D144:AK144)>30,COUNT(AL144:BS144)>30),EP144,\"\")","v":""},"","","","","","","","","","","","",null,"","","","","","","","","","","",""]
[null,{"$f":"Programs!B227","v":0},{"$f":"IF(Programs!$C$215=\"\",\"\",Programs!$C$215)","v":""},null,null,null,null,null,null,null,null,null,null,null,null,null,null,null,null,null,null,null,null,null,null,null,null,null,null,null,null,null,null,null,null,null,null,null,null,null,null,null,null,null,null,null,null,null,null,null,null,null,null,null,null,null,null,null,null,null,null,null,null,null,null,null,null,null,null,null,null,{"$f":"Programs!C227","v":0},0,"",0,"",{"$f":"SUM(F145,J145,O145,LOOKUP(V145,{0,1,2,3,4,5},{0,5,4,3,2,1}),Y145,AF145,AI145)","v":0},"",0,"",0,"",0,"",0,0,0,0,0,0,0,0,0,0,0,0,0,null,null,null,null,null,null,null,null,null,0,"",0,"",{"$f":"SUM(AN145,AR145,AW145,LOOKUP(BD145,{0,1,2,3,4,5},{0,5,4,3,2,1}),BG145,BN145,BQ145)","v":0},"",0,"",0,"",0,"",0,0,0,0,0,0,0,0,0,0,0,0,0,null,"","","","","","","","","","","","",null,{"$f":"IF(Programs!$D$215=\"\",\"\",Programs!$D$215)","v":""},"","","","","","","","","","","","","",null,"","","","","","","","","","","",""]
[null,{"$f":"Programs!B228","v":0},{"$f":"IF(Programs!$C$215=\"\",\"\",Programs!$C$215)","v":""},null,null,null,null,null,null,null,null,null,null,null,null,null,null,null,null,null,null,null,null,null,null,null,null,null,null,null,null,null,null,null,null,null,null,null,null,null,null,null,null,null,null,null,null,null,null,null,null,null,null,null,null,null,null,null,null,null,null,null,null,null,null,null,null,null,null,null,null,{"$f":"Programs!C228","v":0},0,"",0,"",{"$f":"SUM(F146,J146,O146,LOOKUP(V146,{0,1,2,3,4,5},{0,5,4,3,2,1}),Y146,AF146,AI146)","v":0},"",0,"",0,"",0,"",0,0,0,0,0,0,0,0,0,0,0,0,0,null,null,null,null,null,null,null,null,null,0,"",0,"",{"$f":"SUM(AN146,AR146,AW146,LOOKUP(BD146,{0,1,2,3,4,5},{0,5,4,3,2,1}),BG146,BN146,BQ146)","v":0},"",0,"",0,"",0,"",0,0,0,0,0,0,0,0,0,0,0,0,0,null,"","","","","","","","","","","","",null,{"$f":"IF(Programs!$D$215=\"\",\"\",Programs!$D$215)","v":""},"","","","","","","","","","","","","",null,"","","","","","","","","","","",""]
[null,{"$f":"Programs!B229","v":0},{"$f":"IF(Programs!$C$215=\"\",\"\",Programs!$C$215)","v":""},null,null,null,null,null,null,null,null,null,null,null,null,null,null,null,null,null,null,null,null,null,null,null,null,null,null,null,null,null,null,null,null,null,null,null,null,null,null,null,null,null,null,null,null,null,null,null,null,null,null,null,null,null,null,null,null,null,null,null,null,null,null,null,null,null,null,null,null,{"$f":"Programs!C229","v":0},0,"",0,"",{"$f":"SUM(F147,J147,O147,LOOKUP(V147,{0,1,2,3,4,5},{0,5,4,3,2,1}),Y147,AF147,AI147)","v":0},"",0,"",0,"",0,"",0,0,0,0,0,0,0,0,0,0,0,0,0,null,null,null,null,null,null,null,null,null,0,"",0,"",{"$f":"SUM(AN147,AR147,AW147,LOOKUP(BD147,{0,1,2,3,4,5},{0,5,4,3,2,1}),BG147,BN147,BQ147)","v":0},"",0,"",0,"",0,"",0,0,0,0,0,0,0,0,0,0,0,0,0,null,"","","","","","","","","","","","",null,{"$f":"IF(Programs!$D$215=\"\",\"\",Programs!$D$215)","v":""},"","","","","","","","","","","","","",null,"","","","","","","","","","","",""]
["Program 13",{"$f":"Programs!B237","v":0},{"$f":"IF(Programs!$C$234=\"\",\"\",Programs!$C$234)","v":""},null,null,null,null,null,null,null,null,null,null,null,null,null,null,null,null,null,null,null,null,null,null,null,null,null,null,null,null,null,null,null,null,null,null,null,null,null,null,null,null,null,null,null,null,null,null,null,null,null,null,null,null,null,null,null,null,null,null,null,null,null,null,null,null,null,null,null,null,{"$f":"Programs!C237","v":0},0,"",0,"",{"$f":"SUM(F148,J148,O148,LOOKUP(V148,{0,1,2,3,4,5},{0,5,4,3,2,1}),Y148,AF148,AI148)","v":0},"",0,"",0,"",0,"",0,0,0,0,0,0,0,0,0,0,0,0,0,null,null,null,null,null,null,null,null,null,0,"",0,"",{"$f":"SUM(AN148,AR148,AW148,LOOKUP(BD148,{0,1,2,3,4,5},{0,5,4,3,2,1}),BG148,BN148,BQ148)","v":0},"",0,"",0,"",0,"",0,0,0,0,0,0,0,0,0,0,0,0,0,null,"","","","","","","","","","","","",null,{"$f":"IF(Programs!$D$234=\"\",\"\",Programs!$D$234)","v":""},"","","","","","","","","","","","","",null,"","","","","","","","","","","",""]
[null,{"$f":"Programs!B238","v":0},{"$f":"IF(Programs!$C$234=\"\",\"\",Programs!$C$234)","v":""},null,null,null,null,null,null,null,null,null,null,null,null,null,null,null,null,null,null,null,null,null,null,null,null,null,null,null,null,null,null,null,null,null,null,null,null,null,null,null,null,null,null,null,null,null,null,null,null,null,null,null,null,null,null,null,null,null,null,null,null,null,null,null,null,null,null,null,null,{"$f":"Programs!C238","v":0},0,"",0,"",{"$f":"SUM(F149,J149,O149,LOOKUP(V149,{0,1,2,3,4,5},{0,5,4,3,2,1}),Y149,AF149,AI149)","v":0},"",0,"",0,"",0,"",0,0,0,0,0,0,0,0,0,0,0,0,0,null,null,null,null,null,null,null,null,null,0,"",0,"",{"$f":"SUM(AN149,AR149,AW149,LOOKUP(BD149,{0,1,2,3,4,5},{0,5,4,3,2,1}),BG149,BN149,BQ149)","v":0},"",0,"",0,"",0,"",0,0,0,0,0,0,0,0,0,0,0,0,0,null,"","","","","","","","","","","","",null,{"$f":"IF(Programs!$D$234=\"\",\"\",Programs!$D$234)","v":""},"","","","","","","","","","","","","",null,"","","","","","","","","","","",""]
[null,{"$f":"Programs!B239","v":0},{"$f":"IF(Programs!$C$234=\"\",\"\",Programs!$C$234)","v":""},null,null,null,null,null,null,null,null,null,null,null,null,null,null,null,null,null,null,null,null,null,null,null,null,null,null,null,null,null,null,null,null,null,null,null,null,null,null,null,null,null,null,null,null,null,null,null,null,null,null,null,null,null,null,null,null,null,null,null,null,null,null,null,null,null,null,null,null,{"$f":"Programs!C239","v":0},0,"",0,"",{"$f":"SUM(F150,J150,O150,LOOKUP(V150,{0,1,2,3,4,5},{0,5,4,3,2,1}),Y150,AF150,AI150)","v":0},"",0,"",0,"",0,"",0,0,0,0,0,0,0,0,0,0,0,0,0,null,null,null,null,null,null,null,null,null,0,"",0,"",{"$f":"SUM(AN150,AR150,AW150,LOOKUP(BD150,{0,1,2,3,4,5},{0,5,4,3,2,1}),BG150,BN150,BQ150)","v":0},"",0,"",0,"",0,"",0,0,0,0,0,0,0,0,0,0,0,0,0,null,"","","","","","","","","","","","",null,{"$f":"IF(Programs!$D$234=\"\",\"\",Programs!$D$234)","v":""},"","","","","","","","","","","","","",null,"","","","","","","","","","","",""]
[null,{"$f":"Programs!B240","v":0},{"$f":"IF(Programs!$C$234=\"\",\"\",Programs!$C$234)","v":""},null,null,null,null,null,null,null,null,null,null,null,null,null,null,null,null,null,null,null,null,null,null,null,null,null,null,null,null,null,null,null,null,null,null,null,null,null,null,null,null,null,null,null,null,null,null,null,null,null,null,null,null,null,null,null,null,null,null,null,null,null,null,null,null,null,null,null,null,{"$f":"Programs!C240","v":0},0,"",0,"",{"$f":"SUM(F151,J151,O151,LOOKUP(V151,{0,1,2,3,4,5},{0,5,4,3,2,1}),Y151,AF151,AI151)","v":0},"",0,"",0,"",0,"",0,0,0,0,0,0,0,0,0,0,0,0,0,null,null,null,null,null,null,null,null,null,0,"",0,"",{"$f":"SUM(AN151,AR151,AW151,LOOKUP(BD151,{0,1,2,3,4,5},{0,5,4,3,2,1}),BG151,BN151,BQ151)","v":0},"",0,"",0,"",0,"",0,0,0,0,0,0,0,0,0,0,0,0,0,null,"","","","","","","","","","","","",null,{"$f":"IF(Programs!$D$234=\"\",\"\",Programs!$D$234)","v":""},"","","","","","","","","","","","","",null,"","","","","","","","","","","",""]
[null,{"$f":"Programs!B241","v":0},{"$f":"IF(Programs!$C$234=\"\",\"\",Programs!$C$234)","v":""},null,null,null,null,null,null,null,null,null,null,null,null,null,null,null,null,null,null,null,null,null,null,null,null,null,null,null,null,null,null,null,null,null,null,null,null,null,null,null,null,null,null,null,null,null,null,null,null,null,null,null,null,null,null,null,null,null,null,null,null,null,null,null,null,null,null,null,null,{"$f":"Programs!C241","v":0},0,"",0,"",{"$f":"SUM(F152,J152,O152,LOOKUP(V152,{0,1,2,3,4,5},{0,5,4,3,2,1}),Y152,AF152,AI152)","v":0},"",0,"",0,"",0,"",0,0,0,0,0,0,0,0,0,0,0,0,0,null,null,null,null,null,null,null,null,null,0,"",0,"",{"$f":"SUM(AN152,AR152,AW152,LOOKUP(BD152,{0,1,2,3,4,5},{0,5,4,3,2,1}),BG152,BN152,BQ152)","v":0},"",0,"",0,"",0,"",0,0,0,0,0,0,0,0,0,0,0,0,0,null,"","","","","","","","","","","","",null,{"$f":"IF(Programs!$D$234=\"\",\"\",Programs!$D$234)","v":""},"","","","","","","","","","","","","",null,"","","","","","","","","","","",""]
[null,{"$f":"Programs!B242","v":0},{"$f":"IF(Programs!$C$234=\"\",\"\",Programs!$C$234)","v":""},null,null,null,null,null,null,null,null,null,null,null,null,null,null,null,null,null,null,null,null,null,null,null,null,null,null,null,null,null,null,null,null,null,null,null,null,null,null,null,null,null,null,null,null,null,null,null,null,null,null,null,null,null,null,null,null,null,null,null,null,null,null,null,null,null,null,null,null,{"$f":"Programs!C242","v":0},0,"",0,"",{"$f":"SUM(F153,J153,O153,LOOKUP(V153,{0,1,2,3,4,5},{0,5,4,3,2,1}),Y153,AF153,AI153)","v":0},"",0,"",0,"",0,"",0,0,0,0,0,0,0,0,0,0,0,0,0,null,null,null,null,null,null,null,null,null,0,"",0,"",{"$f":"SUM(AN153,AR153,AW153,LOOKUP(BD153,{0,1,2,3,4,5},{0,5,4,3,2,1}),BG153,BN153,BQ153)","v":0},"",0,"",0,"",0,"",0,0,0,0,0,0,0,0,0,0,0,0,0,null,"","","","","","","","","","","","",null,{"$f":"IF(Programs!$D$234=\"\",\"\",Programs!$D$234)","v":""},"","","","","","","","","","","","","",null,"","","","","","","","","","","",""]
[null,{"$f":"Programs!B243","v":0},{"$f":"IF(Programs!$C$234=\"\",\"\",Programs!$C$234)","v":""},null,null,null,null,null,null,null,null,null,null,null,null,null,null,null,null,null,null,null,null,null,null,null,null,null,null,null,null,null,null,null,null,null,null,null,null,null,null,null,null,null,null,null,null,null,null,null,null,null,null,null,null,null,null,null,null,null,null,null,null,null,null,null,null,null,null,null,null,{"$f":"Programs!C243","v":0},0,"",0,"",{"$f":"SUM(F154,J154,O154,LOOKUP(V154,{0,1,2,3,4,5},{0,5,4,3,2,1}),Y154,AF154,AI154)","v":0},"",0,"",0,"",0,"",0,0,0,0,0,0,0,0,0,0,0,0,0,null,null,null,null,null,null,null,null,null,0,"",0,"",{"$f":"SUM(AN154,AR154,AW154,LOOKUP(BD154,{0,1,2,3,4,5},{0,5,4,3,2,1}),BG154,BN154,BQ154)","v":0},"",0,"",0,"",0,"",0,0,0,0,0,0,0,0,0,0,0,0,0,null,"","","","","","","","","","","","",null,{"$f":"IF(Programs!$D$234=\"\",\"\",Programs!$D$234)","v":""},"","","","","","","","","","","","","",null,"","","","","","","","","","","",""]
[null,{"$f":"Programs!B244","v":0},{"$f":"IF(Programs!$C$234=\"\",\"\",Programs!$C$234)","v":""},null,null,null,null,null,null,null,null,null,null,null,null,null,null,null,null,null,null,null,null,null,null,null,null,null,null,null,null,null,null,null,null,null,null,null,null,null,null,null,null,null,null,null,null,null,null,null,null,null,null,null,null,null,null,null,null,null,null,null,null,null,null,null,null,null,null,null,null,{"$f":"Programs!C244","v":0},0,"",0,"",{"$f":"SUM(F155,J155,O155,LOOKUP(V155,{0,1,2,3,4,5},{0,5,4,3,2,1}),Y155,AF155,AI155)","v":0},"",0,"",0,"",0,"",0,0,0,0,0,0,0,0,0,0,0,0,0,null,null,null,null,null,null,null,null,null,0,"",0,"",{"$f":"SUM(AN155,AR155,AW155,LOOKUP(BD155,{0,1,2,3,4,5},{0,5,4,3,2,1}),BG155,BN155,BQ155)","v":0},"",0,"",0,"",0,"",0,0,0,0,0,0,0,0,0,0,0,0,0,null,"","","","","","","","","","","","",null,{"$f":"IF(Programs!$D$234=\"\",\"\",Programs!$D$234)","v":""},"","","","","","","","","","","","","",null,"","","","","","","","","","","",""]
[null,{"$f":"Programs!B245","v":0},{"$f":"IF(Programs!$C$234=\"\",\"\",Programs!$C$234)","v":""},null,null,null,null,null,null,null,null,null,null,null,null,null,null,null,null,null,null,null,null,null,null,null,null,null,null,null,null,null,null,null,null,null,null,null,null,null,null,null,null,null,null,null,null,null,null,null,null,null,null,null,null,null,null,null,null,null,null,null,null,null,null,null,null,null,null,null,null,{"$f":"Programs!C245","v":0},{"$f":"SUM(K156,M156,N156,T156,Z156,AA156,AB156,AD156)","v":0},{"$f":"IF(OR($BT156=0,BU156=0),\"\",(IF($BT156=\"Male\",(VLOOKUP(BU156,PHYMT,3,FALSE)),(VLOOKUP(BU156,PHFMT,2,FALSE)))))","v":""},{"$f":"SUM(D156,G156,I156,W156,AC156)","v":0},{"$f":"IF(BW156=0,\"\",VLOOKUP(BW156,VER,5,FALSE))","v":""},{"$f":"SUM(F156,J156,O156,LOOKUP(V156,{0,1,2,3,4,5},{0,5,4,3,2,1}),Y156,AF156,AI156)","v":0},{"$f":"IF(BY156=0,\"\",VLOOKUP(BY156,ANG,4,FALSE))","v":""},{"$f":"SUM(E156,H156,L156,S156,X156,AE156,AH156,AJ156)","v":0},{"$f":"IF(CA156=0,\"\",IF(CA156>38,81,VLOOKUP(CA156,HOS,3,FALSE)))","v":""},{"$f":"SUM(P156,Q156,R156,U156,AG156,AK156)","v":0},{"$f":"IF(CC156=0,\"\",VLOOKUP(CC156,IND,2,FALSE))","v":""},{"$f":"SUM(BU156,BW156,BY156,CA156,CC156)","v":0},{"$f":"IF(CE156=0,\"\",VLOOKUP(CE156,AQT,2,FALSE))","v":""},{"$f":"SUM(CH156:CS156)","v":0},{"$f":"IF(ABS(D156-Y156)>1,1,0)","v":0},{"$f":"IF(ABS(E156-H156)>1,1,0)","v":0},{"$f":"IF(ABS(G156-I156)>1,1,0)","v":0},{"$f":"IF(ABS(J156-AJ156)>1,1,0)","v":0},{"$f":"IF(ABS(K156-N156)>1,1,0)","v":0},{"$f":"IF(ABS(L156-AF156)>1,1,0)","v":0},{"$f":"IF(ABS(M156-P156)>1,1,0)","v":0},{"$f":"IF(ABS(O156-AI156)>1,1,0)","v":0},{"$f":"IF(ABS(Q156-T156)>1,1,0)","v":0},{"$f":"IF(ABS(X156-AH156)>1,1,0)","v":0},{"$f":"IF(ABS(Z156-AA156)>1,1,0)","v":0},{"$f":"IF(ABS(AB156-AD156)>1,1,0)","v":0},null,null,null,null,null,null,null,null,null,{"$f":"SUM(AS156,AU156,AV156,BB156,BH156,BI156,BJ156,BL156)","v":0},{"$f":"IF(OR($BT156=0,DC156=0),\"\",(IF($BT156=\"Male\",(VLOOKUP(DC156,PHYMT,3,FALSE)),(VLOOKUP(DC156,PHFMT,2,FALSE)))))","v":""},{"$f":"SUM(AL156,AO156,AQ156,BE156,BK156)","v":0},{"$f":"IF(DE156=0,\"\",VLOOKUP(DE156,VER,5,FALSE))","v":""},{"$f":"SUM(AN156,AR156,AW156,LOOKUP(BD156,{0,1,2,3,4,5},{0,5,4,3,2,1}),BG156,BN156,BQ156)","v":0},{"$f":"IF(DG156=0,\"\",VLOOKUP(DG156,ANG,4,FALSE))","v":""},{"$f":"SUM(AM156,AP156,AT156,BA156,BF156,BM156,BP156,BR156)","v":0},{"$f":"IF(DI156=0,\"\",VLOOKUP(DI156,HOS,3,FALSE))","v":""},{"$f":"SUM(AX156,AY156,AZ156,BC156,BO156,BS156)","v":0},{"$f":"IF(DK156=0,\"\",VLOOKUP(DK156,IND,2,FALSE))","v":""},{"$f":"SUM(DC156,DE156,DG156,DI156,DK156)","v":0},{"$f":"IF(DM156=0,\"\",IF(DM156<39,24,VLOOKUP(DM156,AQT,2,FALSE)))","v":""},{"$f":"SUM(DP156:EA156)","v":0},{"$f":"IF(ABS(AL156-BG156)>1,1,0)","v":0},{"$f":"IF(ABS(AM156-AP156)>1,1,0)","v":0},{"$f":"IF(ABS(AO156-AQ156)>1,1,0)","v":0},{"$f":"IF(ABS(AR156-BR156)>1,1,0)","v":0},{"$f":"IF(ABS(AS156-AV156)>1,1,0)","v":0},{"$f":"IF(ABS(AT156-BN156)>1,1,0)","v":0},{"$f":"IF(ABS(AU156-AX156)>1,1,0)","v":0},{"$f":"IF(ABS(AW156-BQ156)>1,1,0)","v":0},{"$f":"IF(ABS(AY156-BB156)>1,1,0)","v":0},{"$f":"IF(ABS(BF156-BP156)>1,1,0)","v":0},{"$f":"IF(ABS(BH156-BI156)>1,1,0)","v":0},{"$f":"IF(ABS(BJ156-BL156)>1,1,0)","v":0},null,{"$f":"IF(EQ156<>\"\",(DC156/8)-(BU156/8),\"\")","v":""},{"$f":"IF(EQ156<>\"\",IF(BT156=0,\"\",DD156-BV156),\"\")","v":""},{"$f":"IF(EQ156<>\"\",(DE156/5)-(BW156/5),\"\")","v":""},{"$f":"IF(EQ156<>\"\",DF156-BX156,\"\")","v":""},{"$f":"IF(EQ156<>\"\",(DG156/7)-(BY156/7),\"\")","v":""},{"$f":"IF(EQ156<>\"\",DH156-BZ156,\"\")","v":""},{"$f":"IF(EQ156<>\"\",(DI156/8)-(CA156/8),\"\")","v":""},{"$f":"IF(EQ156<>\"\",DJ156-CB156,\"\")","v":""},{"$f":"IF(EQ156<>\"\",(DK156/6)-(CC156/6),\"\")","v":""},{"$f":"IF(EQ156<>\"\",DL156-CD156,\"\")","v":""},{"$f":"IF(EQ156<>\"\",(DM156/34)-(CE156/34),\"\")","v":""},{"$f":"IF(EQ156<>\"\",DN156-CF156,\"\")","v":""},null,{"$f":"IF(Programs!$D$234=\"\",\"\",Programs!$D$234)","v":""},{"$f":"IF(AND(COUNT(D156:AK156)>30,COUNT(AL156:BS156)>30),EP156,\"\")","v":""},"","","","","","","","","","","","",null,"","","","","","","","","","","",""]
[null,{"$f":"Programs!B246","v":0},{"$f":"IF(Programs!$C$234=\"\",\"\",Programs!$C$234)","v":""},null,null,null,null,null,null,null,null,null,null,null,null,null,null,null,null,null,null,null,null,null,null,null,null,null,null,null,null,null,null,null,null,null,null,null,null,null,null,null,null,null,null,null,null,null,null,null,null,null,null,null,null,null,null,null,null,null,null,null,null,null,null,null,null,null,null,null,null,{"$f":"Programs!C246","v":0},0,"",0,"",{"$f":"SUM(F157,J157,O157,LOOKUP(V157,{0,1,2,3,4,5},{0,5,4,3,2,1}),Y157,AF157,AI157)","v":0},"",0,"",0,"",0,"",0,0,0,0,0,0,0,0,0,0,0,0,0,null,null,null,null,null,null,null,null,null,0,"",0,"",{"$f":"SUM(AN157,AR157,AW157,LOOKUP(BD157,{0,1,2,3,4,5},{0,5,4,3,2,1}),BG157,BN157,BQ157)","v":0},"",0,"",0,"",0,"",0,0,0,0,0,0,0,0,0,0,0,0,0,null,"","","","","","","","","","","","",null,{"$f":"IF(Programs!$D$234=\"\",\"\",Programs!$D$234)","v":""},"","","","","","","","","","","","","",null,"","","","","","","","","","","",""]
[null,{"$f":"Programs!B247","v":0},{"$f":"IF(Programs!$C$234=\"\",\"\",Programs!$C$234)","v":""},null,null,null,null,null,null,null,null,null,null,null,null,null,null,null,null,null,null,null,null,null,null,null,null,null,null,null,null,null,null,null,null,null,null,null,null,null,null,null,null,null,null,null,null,null,null,null,null,null,null,null,null,null,null,null,null,null,null,null,null,null,null,null,null,null,null,null,null,{"$f":"Programs!C247","v":0},0,"",0,"",{"$f":"SUM(F158,J158,O158,LOOKUP(V158,{0,1,2,3,4,5},{0,5,4,3,2,1}),Y158,AF158,AI158)","v":0},"",0,"",0,"",0,"",0,0,0,0,0,0,0,0,0,0,0,0,0,null,null,null,null,null,null,null,null,null,0,"",0,"",{"$f":"SUM(AN158,AR158,AW158,LOOKUP(BD158,{0,1,2,3,4,5},{0,5,4,3,2,1}),BG158,BN158,BQ158)","v":0},"",0,"",0,"",0,"",0,0,0,0,0,0,0,0,0,0,0,0,0,null,"","","","","","","","","","","","",null,{"$f":"IF(Programs!$D$234=\"\",\"\",Programs!$D$234)","v":""},"","","","","","","","","","","","","",null,"","","","","","","","","","","",""]
[null,{"$f":"Programs!B248","v":0},{"$f":"IF(Programs!$C$234=\"\",\"\",Programs!$C$234)","v":""},null,null,null,null,null,null,null,null,null,null,null,null,null,null,null,null,null,null,null,null,null,null,null,null,null,null,null,null,null,null,null,null,null,null,null,null,null,null,null,null,null,null,null,null,null,null,null,null,null,null,null,null,null,null,null,null,null,null,null,null,null,null,null,null,null,null,null,null,{"$f":"Programs!C248","v":0},0,"",0,"",{"$f":"SUM(F159,J159,O159,LOOKUP(V159,{0,1,2,3,4,5},{0,5,4,3,2,1}),Y159,AF159,AI159)","v":0},"",0,"",0,"",0,"",0,0,0,0,0,0,0,0,0,0,0,0,0,null,null,null,null,null,null,null,null,null,0,"",0,"",{"$f":"SUM(AN159,AR159,AW159,LOOKUP(BD159,{0,1,2,3,4,5},{0,5,4,3,2,1}),BG159,BN159,BQ159)","v":0},"",0,"",0,"",0,"",0,0,0,0,0,0,0,0,0,0,0,0,0,null,"","","","","","","","","","","","",null,{"$f":"IF(Programs!$D$234=\"\",\"\",Programs!$D$234)","v":""},"","","","","","","","","","","","","",null,"","","","","","","","","","","",""]
["Program 14",{"$f":"Programs!B256","v":0},{"$f":"IF(Programs!$C$253=\"\",\"\",Programs!$C$253)","v":""},null,null,null,null,null,null,null,null,null,null,null,null,null,null,null,null,null,null,null,null,null,null,null,null,null,null,null,null,null,null,null,null,null,null,null,null,null,null,null,null,null,null,null,null,null,null,null,null,null,null,null,null,null,null,null,null,null,null,null,null,null,null,null,null,null,null,null,null,{"$f":"Programs!C256","v":0},{"$f":"SUM(K160,M160,N160,T160,Z160,AA160,AB160,AD160)","v":0},{"$f":"IF(OR($BT160=0,BU160=0),\"\",(IF($BT160=\"Male\",(VLOOKUP(BU160,PHYMT,3,FALSE)),(VLOOKUP(BU160,PHFMT,2,FALSE)))))","v":""},{"$f":"SUM(D160,G160,I160,W160,AC160)","v":0},{"$f":"IF(BW160=0,\"\",VLOOKUP(BW160,VER,5,FALSE))","v":""},{"$f":"SUM(F160,J160,O160,LOOKUP(V160,{0,1,2,3,4,5},{0,5,4,3,2,1}),Y160,AF160,AI160)","v":0},{"$f":"IF(BY160=0,\"\",VLOOKUP(BY160,ANG,4,FALSE))","v":""},{"$f":"SUM(E160,H160,L160,S160,X160,AE160,AH160,AJ160)","v":0},{"$f":"IF(CA160=0,\"\",IF(CA160>38,81,VLOOKUP(CA160,HOS,3,FALSE)))","v":""},{"$f":"SUM(P160,Q160,R160,U160,AG160,AK160)","v":0},{"$f":"IF(CC160=0,\"\",VLOOKUP(CC160,IND,2,FALSE))","v":""},{"$f":"SUM(BU160,BW160,BY160,CA160,CC160)","v":0},{"$f":"IF(CE160=0,\"\",VLOOKUP(CE160,AQT,2,FALSE))","v":""},{"$f":"SUM(CH160:CS160)","v":0},{"$f":"IF(ABS(D160-Y160)>1,1,0)","v":0},{"$f":"IF(ABS(E160-H160)>1,1,0)","v":0},{"$f":"IF(ABS(G160-I160)>1,1,0)","v":0},{"$f":"IF(ABS(J160-AJ160)>1,1,0)","v":0},{"$f":"IF(ABS(K160-N160)>1,1,0)","v":0},{"$f":"IF(ABS(L160-AF160)>1,1,0)","v":0},{"$f":"IF(ABS(M160-P160)>1,1,0)","v":0},{"$f":"IF(ABS(O160-AI160)>1,1,0)","v":0},{"$f":"IF(ABS(Q160-T160)>1,1,0)","v":0},{"$f":"IF(ABS(X160-AH160)>1,1,0)","v":0},{"$f":"IF(ABS(Z160-AA160)>1,1,0)","v":0},{"$f":"IF(ABS(AB160-AD160)>1,1,0)","v":0},null,null,null,null,null,null,null,null,null,{"$f":"SUM(AS160,AU160,AV160,BB160,BH160,BI160,BJ160,BL160)","v":0},{"$f":"IF(OR($BT160=0,DC160=0),\"\",(IF($BT160=\"Male\",(VLOOKUP(DC160,PHYMT,3,FALSE)),(VLOOKUP(DC160,PHFMT,2,FALSE)))))","v":""},{"$f":"SUM(AL160,AO160,AQ160,BE160,BK160)","v":0},{"$f":"IF(DE160=0,\"\",VLOOKUP(DE160,VER,5,FALSE))","v":""},{"$f":"SUM(AN160,AR160,AW160,LOOKUP(BD160,{0,1,2,3,4,5},{0,5,4,3,2,1}),BG160,BN160,BQ160)","v":0},{"$f":"IF(DG160=0,\"\",VLOOKUP(DG160,ANG,4,FALSE))","v":""},{"$f":"SUM(AM160,AP160,AT160,BA160,BF160,BM160,BP160,BR160)","v":0},{"$f":"IF(DI160=0,\"\",VLOOKUP(DI160,HOS,3,FALSE))","v":""},{"$f":"SUM(AX160,AY160,AZ160,BC160,BO160,BS160)","v":0},{"$f":"IF(DK160=0,\"\",VLOOKUP(DK160,IND,2,FALSE))","v":""},{"$f":"SUM(DC160,DE160,DG160,DI160,DK160)","v":0},{"$f":"IF(DM160=0,\"\",IF(DM160<39,24,VLOOKUP(DM160,AQT,2,FALSE)))","v":""},{"$f":"SUM(DP160:EA160)","v":0},{"$f":"IF(ABS(AL160-BG160)>1,1,0)","v":0},{"$f":"IF(ABS(AM160-AP160)>1,1,0)","v":0},{"$f":"IF(ABS(AO160-AQ160)>1,1,0)","v":0},{"$f":"IF(ABS(AR160-BR160)>1,1,0)","v":0},{"$f":"IF(ABS(AS160-AV160)>1,1,0)","v":0},{"$f":"IF(ABS(AT160-BN160)>1,1,0)","v":0},{"$f":"IF(ABS(AU160-AX160)>1,1,0)","v":0},{"$f":"IF(ABS(AW160-BQ160)>1,1,0)","v":0},{"$f":"IF(ABS(AY160-BB160)>1,1,0)","v":0},{"$f":"IF(ABS(BF160-BP160)>1,1,0)","v":0},{"$f":"IF(ABS(BH160-BI160)>1,1,0)","v":0},{"$f":"IF(ABS(BJ160-BL160)>1,1,0)","v":0},null,"","","","","","","","","","","","",null,{"$f":"IF(Programs!$D$253=\"\",\"\",Programs!$D$253)","v":""},{"$f":"IF(AND(COUNT(D160:AK160)>30,COUNT(AL160:BS160)>30),EP160,\"\")","v":""},"","","","","","","","","","","","",null,"","","","","","","","","","","",""]
[null,{"$f":"Programs!B257","v":0},{"$f":"IF(Programs!$C$253=\"\",\"\",Programs!$C$253)","v":""},null,null,null,null,null,null,null,null,null,null,null,null,null,null,null,null,null,null,null,null,null,null,null,null,null,null,null,null,null,null,null,null,null,null,null,null,null,null,null,null,null,null,null,null,null,null,null,null,null,null,null,null,null,null,null,null,null,null,null,null,null,null,null,null,null,null,null,null,{"$f":"Programs!C257","v":0},0,"",0,"",{"$f":"SUM(F161,J161,O161,LOOKUP(V161,{0,1,2,3,4,5},{0,5,4,3,2,1}),Y161,AF161,AI161)","v":0},"",0,"",0,"",0,"",0,0,0,0,0,0,0,0,0,0,0,0,0,null,null,null,null,null,null,null,null,null,0,"",0,"",{"$f":"SUM(AN161,AR161,AW161,LOOKUP(BD161,{0,1,2,3,4,5},{0,5,4,3,2,1}),BG161,BN161,BQ161)","v":0},"",0,"",0,"",0,"",0,0,0,0,0,0,0,0,0,0,0,0,0,null,"","","","","","","","","","","","",null,{"$f":"IF(Programs!$D$253=\"\",\"\",Programs!$D$253)","v":""},"","","","","","","","","","","","","",null,"","","","","","","","","","","",""]
[null,{"$f":"Programs!B258","v":0},{"$f":"IF(Programs!$C$253=\"\",\"\",Programs!$C$253)","v":""},null,null,null,null,null,null,null,null,null,null,null,null,null,null,null,null,null,null,null,null,null,null,null,null,null,null,null,null,null,null,null,null,null,null,null,null,null,null,null,null,null,null,null,null,null,null,null,null,null,null,null,null,null,null,null,null,null,null,null,null,null,null,null,null,null,null,null,null,{"$f":"Programs!C258","v":0},0,"",0,"",{"$f":"SUM(F162,J162,O162,LOOKUP(V162,{0,1,2,3,4,5},{0,5,4,3,2,1}),Y162,AF162,AI162)","v":0},"",0,"",0,"",0,"",0,0,0,0,0,0,0,0,0,0,0,0,0,null,null,null,null,null,null,null,null,null,0,"",0,"",{"$f":"SUM(AN162,AR162,AW162,LOOKUP(BD162,{0,1,2,3,4,5},{0,5,4,3,2,1}),BG162,BN162,BQ162)","v":0},"",0,"",0,"",0,"",0,0,0,0,0,0,0,0,0,0,0,0,0,null,"","","","","","","","","","","","",null,{"$f":"IF(Programs!$D$253=\"\",\"\",Programs!$D$253)","v":""},"","","","","","","","","","","","","",null,"","","","","","","","","","","",""]
[null,{"$f":"Programs!B259","v":0},{"$f":"IF(Programs!$C$253=\"\",\"\",Programs!$C$253)","v":""},null,null,null,null,null,null,null,null,null,null,null,null,null,null,null,null,null,null,null,null,null,null,null,null,null,null,null,null,null,null,null,null,null,null,null,null,null,null,null,null,null,null,null,null,null,null,null,null,null,null,null,null,null,null,null,null,null,null,null,null,null,null,null,null,null,null,null,null,{"$f":"Programs!C259","v":0},0,"",0,"",{"$f":"SUM(F163,J163,O163,LOOKUP(V163,{0,1,2,3,4,5},{0,5,4,3,2,1}),Y163,AF163,AI163)","v":0},"",0,"",0,"",0,"",0,0,0,0,0,0,0,0,0,0,0,0,0,null,null,null,null,null,null,null,null,null,0,"",0,"",{"$f":"SUM(AN163,AR163,AW163,LOOKUP(BD163,{0,1,2,3,4,5},{0,5,4,3,2,1}),BG163,BN163,BQ163)","v":0},"",0,"",0,"",0,"",0,0,0,0,0,0,0,0,0,0,0,0,0,null,"","","","","","","","","","","","",null,{"$f":"IF(Programs!$D$253=\"\",\"\",Programs!$D$253)","v":""},"","","","","","","","","","","","","",null,"","","","","","","","","","","",""]
[null,{"$f":"Programs!B260","v":0},{"$f":"IF(Programs!$C$253=\"\",\"\",Programs!$C$253)","v":""},null,null,null,null,null,null,null,null,null,null,null,null,null,null,null,null,null,null,null,null,null,null,null,null,null,null,null,null,null,null,null,null,null,null,null,null,null,null,null,null,null,null,null,null,null,null,null,null,null,null,null,null,null,null,null,null,null,null,null,null,null,null,null,null,null,null,null,null,{"$f":"Programs!C260","v":0},0,"",0,"",{"$f":"SUM(F164,J164,O164,LOOKUP(V164,{0,1,2,3,4,5},{0,5,4,3,2,1}),Y164,AF164,AI164)","v":0},"",0,"",0,"",0,"",0,0,0,0,0,0,0,0,0,0,0,0,0,null,null,null,null,null,null,null,null,null,0,"",0,"",{"$f":"SUM(AN164,AR164,AW164,LOOKUP(BD164,{0,1,2,3,4,5},{0,5,4,3,2,1}),BG164,BN164,BQ164)","v":0},"",0,"",0,"",0,"",0,0,0,0,0,0,0,0,0,0,0,0,0,null,"","","","","","","","","","","","",null,{"$f":"IF(Programs!$D$253=\"\",\"\",Programs!$D$253)","v":""},"","","","","","","","","","","","","",null,"","","","","","","","","","","",""]
[null,{"$f":"Programs!B261","v":0},{"$f":"IF(Programs!$C$253=\"\",\"\",Programs!$C$253)","v":""},null,null,null,null,null,null,null,null,null,null,null,null,null,null,null,null,null,null,null,null,null,null,null,null,null,null,null,null,null,null,null,null,null,null,null,null,null,null,null,null,null,null,null,null,null,null,null,null,null,null,null,null,null,null,null,null,null,null,null,null,null,null,null,null,null,null,null,null,{"$f":"Programs!C261","v":0},0,"",0,"",{"$f":"SUM(F165,J165,O165,LOOKUP(V165,{0,1,2,3,4,5},{0,5,4,3,2,1}),Y165,AF165,AI165)","v":0},"",0,"",0,"",0,"",0,0,0,0,0,0,0,0,0,0,0,0,0,null,null,null,null,null,null,null,null,null,0,"",0,"",{"$f":"SUM(AN165,AR165,AW165,LOOKUP(BD165,{0,1,2,3,4,5},{0,5,4,3,2,1}),BG165,BN165,BQ165)","v":0},"",0,"",0,"",0,"",0,0,0,0,0,0,0,0,0,0,0,0,0,null,{"$f":"IF(EQ165<>\"\",(DC165/8)-(BU165/8),\"\")","v":""},{"$f":"IF(EQ165<>\"\",IF(BT165=0,\"\",DD165-BV165),\"\")","v":""},{"$f":"IF(EQ165<>\"\",(DE165/5)-(BW165/5),\"\")","v":""},{"$f":"IF(EQ165<>\"\",DF165-BX165,\"\")","v":""},{"$f":"IF(EQ165<>\"\",(DG165/7)-(BY165/7),\"\")","v":""},{"$f":"IF(EQ165<>\"\",DH165-BZ165,\"\")","v":""},{"$f":"IF(EQ165<>\"\",(DI165/8)-(CA165/8),\"\")","v":""},{"$f":"IF(EQ165<>\"\",DJ165-CB165,\"\")","v":""},{"$f":"IF(EQ165<>\"\",(DK165/6)-(CC165/6),\"\")","v":""},{"$f":"IF(EQ165<>\"\",DL165-CD165,\"\")","v":""},{"$f":"IF(EQ165<>\"\",(DM165/34)-(CE165/34),\"\")","v":""},{"$f":"IF(EQ165<>\"\",DN165-CF165,\"\")","v":""},null,{"$f":"IF(Programs!$D$253=\"\",\"\",Programs!$D$253)","v":""},"","","","","","","","","","","","","",null,"","","","","","","","","","","",""]
[null,{"$f":"Programs!B262","v":0},{"$f":"IF(Programs!$C$253=\"\",\"\",Programs!$C$253)","v":""},null,null,null,null,null,null,null,null,null,null,null,null,null,null,null,null,null,null,null,null,null,null,null,null,null,null,null,null,null,null,null,null,null,null,null,null,null,null,null,null,null,null,null,null,null,null,null,null,null,null,null,null,null,null,null,null,null,null,null,null,null,null,null,null,null,null,null,null,{"$f":"Programs!C262","v":0},0,"",0,"",{"$f":"SUM(F166,J166,O166,LOOKUP(V166,{0,1,2,3,4,5},{0,5,4,3,2,1}),Y166,AF166,AI166)","v":0},"",0,"",0,"",0,"",0,0,0,0,0,0,0,0,0,0,0,0,0,null,null,null,null,null,null,null,null,null,0,"",0,"",{"$f":"SUM(AN166,AR166,AW166,LOOKUP(BD166,{0,1,2,3,4,5},{0,5,4,3,2,1}),BG166,BN166,BQ166)","v":0},"",0,"",0,"",0,"",0,0,0,0,0,0,0,0,0,0,0,0,0,null,"","","","","","","","","","","","",null,{"$f":"IF(Programs!$D$253=\"\",\"\",Programs!$D$253)","v":""},"","","","","","","","","","","","","",null,"","","","","","","","","","","",""]
[null,{"$f":"Programs!B263","v":0},{"$f":"IF(Programs!$C$253=\"\",\"\",Programs!$C$253)","v":""},null,null,null,null,null,null,null,null,null,null,null,null,null,null,null,null,null,null,null,null,null,null,null,null,null,null,null,null,null,null,null,null,null,null,null,null,null,null,null,null,null,null,null,null,null,null,null,null,null,null,null,null,null,null,null,null,null,null,null,null,null,null,null,null,null,null,null,null,{"$f":"Programs!C263","v":0},0,"",0,"",{"$f":"SUM(F167,J167,O167,LOOKUP(V167,{0,1,2,3,4,5},{0,5,4,3,2,1}),Y167,AF167,AI167)","v":0},"",0,"",0,"",0,"",0,0,0,0,0,0,0,0,0,0,0,0,0,null,null,null,null,null,null,null,null,null,0,"",0,"",{"$f":"SUM(AN167,AR167,AW167,LOOKUP(BD167,{0,1,2,3,4,5},{0,5,4,3,2,1}),BG167,BN167,BQ167)","v":0},"",0,"",0,"",0,"",0,0,0,0,0,0,0,0,0,0,0,0,0,null,"","","","","","","","","","","","",null,{"$f":"IF(Programs!$D$253=\"\",\"\",Programs!$D$253)","v":""},"","","","","","","","","","","","","",null,"","","","","","","","","","","",""]
[null,{"$f":"Programs!B264","v":0},{"$f":"IF(Programs!$C$253=\"\",\"\",Programs!$C$253)","v":""},null,null,null,null,null,null,null,null,null,null,null,null,null,null,null,null,null,null,null,null,null,null,null,null,null,null,null,null,null,null,null,null,null,null,null,null,null,null,null,null,null,null,null,null,null,null,null,null,null,null,null,null,null,null,null,null,null,null,null,null,null,null,null,null,null,null,null,null,{"$f":"Programs!C264","v":0},{"$f":"SUM(K168,M168,N168,T168,Z168,AA168,AB168,AD168)","v":0},{"$f":"IF(OR($BT168=0,BU168=0),\"\",(IF($BT168=\"Male\",(VLOOKUP(BU168,PHYMT,3,FALSE)),(VLOOKUP(BU168,PHFMT,2,FALSE)))))","v":""},{"$f":"SUM(D168,G168,I168,W168,AC168)","v":0},{"$f":"IF(BW168=0,\"\",VLOOKUP(BW168,VER,5,FALSE))","v":""},{"$f":"SUM(F168,J168,O168,LOOKUP(V168,{0,1,2,3,4,5},{0,5,4,3,2,1}),Y168,AF168,AI168)","v":0},{"$f":"IF(BY168=0,\"\",VLOOKUP(BY168,ANG,4,FALSE))","v":""},{"$f":"SUM(E168,H168,L168,S168,X168,AE168,AH168,AJ168)","v":0},{"$f":"IF(CA168=0,\"\",IF(CA168>38,81,VLOOKUP(CA168,HOS,3,FALSE)))","v":""},{"$f":"SUM(P168,Q168,R168,U168,AG168,AK168)","v":0},{"$f":"IF(CC168=0,\"\",VLOOKUP(CC168,IND,2,FALSE))","v":""},{"$f":"SUM(BU168,BW168,BY168,CA168,CC168)","v":0},{"$f":"IF(CE168=0,\"\",VLOOKUP(CE168,AQT,2,FALSE))","v":""},{"$f":"SUM(CH168:CS168)","v":0},{"$f":"IF(ABS(D168-Y168)>1,1,0)","v":0},{"$f":"IF(ABS(E168-H168)>1,1,0)","v":0},{"$f":"IF(ABS(G168-I168)>1,1,0)","v":0},{"$f":"IF(ABS(J168-AJ168)>1,1,0)","v":0},{"$f":"IF(ABS(K168-N168)>1,1,0)","v":0},{"$f":"IF(ABS(L168-AF168)>1,1,0)","v":0},{"$f":"IF(ABS(M168-P168)>1,1,0)","v":0},{"$f":"IF(ABS(O168-AI168)>1,1,0)","v":0},{"$f":"IF(ABS(Q168-T168)>1,1,0)","v":0},{"$f":"IF(ABS(X168-AH168)>1,1,0)","v":0},{"$f":"IF(ABS(Z168-AA168)>1,1,0)","v":0},{"$f":"IF(ABS(AB168-AD168)>1,1,0)","v":0},null,null,null,null,null,null,null,null,null,{"$f":"SUM(AS168,AU168,AV168,BB168,BH168,BI168,BJ168,BL168)","v":0},{"$f":"IF(OR($BT168=0,DC168=0),\"\",(IF($BT168=\"Male\",(VLOOKUP(DC168,PHYMT,3,FALSE)),(VLOOKUP(DC168,PHFMT,2,FALSE)))))","v":""},{"$f":"SUM(AL168,AO168,AQ168,BE168,BK168)","v":0},{"$f":"IF(DE168=0,\"\",VLOOKUP(DE168,VER,5,FALSE))","v":""},{"$f":"SUM(AN168,AR168,AW168,LOOKUP(BD168,{0,1,2,3,4,5},{0,5,4,3,2,1}),BG168,BN168,BQ168)","v":0},{"$f":"IF(DG168=0,\"\",VLOOKUP(DG168,ANG,4,FALSE))","v":""},{"$f":"SUM(AM168,AP168,AT168,BA168,BF168,BM168,BP168,BR168)","v":0},{"$f":"IF(DI168=0,\"\",VLOOKUP(DI168,HOS,3,FALSE))","v":""},{"$f":"SUM(AX168,AY168,AZ168,BC168,BO168,BS168)","v":0},{"$f":"IF(DK168=0,\"\",VLOOKUP(DK168,IND,2,FALSE))","v":""},{"$f":"SUM(DC168,DE168,DG168,DI168,DK168)","v":0},{"$f":"IF(DM168=0,\"\",IF(DM168<39,24,VLOOKUP(DM168,AQT,2,FALSE)))","v":""},{"$f":"SUM(DP168:EA168)","v":0},{"$f":"IF(ABS(AL168-BG168)>1,1,0)","v":0},{"$f":"IF(ABS(AM168-AP168)>1,1,0)","v":0},{"$f":"IF(ABS(AO168-AQ168)>1,1,0)","v":0},{"$f":"IF(ABS(AR168-BR168)>1,1,0)","v":0},{"$f":"IF(ABS(AS168-AV168)>1,1,0)","v":0},{"$f":"IF(ABS(AT168-BN168)>1,1,0)","v":0},{"$f":"IF(ABS(AU168-AX168)>1,1,0)","v":0},{"$f":"IF(ABS(AW168-BQ168)>1,1,0)","v":0},{"$f":"IF(ABS(AY168-BB168)>1,1,0)","v":0},{"$f":"IF(ABS(BF168-BP168)>1,1,0)","v":0},{"$f":"IF(ABS(BH168-BI168)>1,1,0)","v":0},{"$f":"IF(ABS(BJ168-BL168)>1,1,0)","v":0},null,{"$f":"IF(EQ168<>\"\",(DC168/8)-(BU168/8),\"\")","v":""},{"$f":"IF(EQ168<>\"\",IF(BT168=0,\"\",DD168-BV168),\"\")","v":""},{"$f":"IF(EQ168<>\"\",(DE168/5)-(BW168/5),\"\")","v":""},{"$f":"IF(EQ168<>\"\",DF168-BX168,\"\")","v":""},{"$f":"IF(EQ168<>\"\",(DG168/7)-(BY168/7),\"\")","v":""},{"$f":"IF(EQ168<>\"\",DH168-BZ168,\"\")","v":""},{"$f":"IF(EQ168<>\"\",(DI168/8)-(CA168/8),\"\")","v":""},{"$f":"IF(EQ168<>\"\",DJ168-CB168,\"\")","v":""},{"$f":"IF(EQ168<>\"\",(DK168/6)-(CC168/6),\"\")","v":""},{"$f":"IF(EQ168<>\"\",DL168-CD168,\"\")","v":""},{"$f":"IF(EQ168<>\"\",(DM168/34)-(CE168/34),\"\")","v":""},{"$f":"IF(EQ168<>\"\",DN168-CF168,\"\")","v":""},null,{"$f":"IF(Programs!$D$253=\"\",\"\",Programs!$D$253)","v":""},{"$f":"IF(AND(COUNT(D168:AK168)>30,COUNT(AL168:BS168)>30),EP168,\"\")","v":""},"","","","","","","","","","","","",null,"","","","","","","","","","","",""]
[null,{"$f":"Programs!B265","v":0},{"$f":"IF(Programs!$C$253=\"\",\"\",Programs!$C$253)","v":""},null,null,null,null,null,null,null,null,null,null,null,null,null,null,null,null,null,null,null,null,null,null,null,null,null,null,null,null,null,null,null,null,null,null,null,null,null,null,null,null,null,null,null,null,null,null,null,null,null,null,null,null,null,null,null,null,null,null,null,null,null,null,null,null,null,null,null,null,{"$f":"Programs!C265","v":0},0,"",0,"",{"$f":"SUM(F169,J169,O169,LOOKUP(V169,{0,1,2,3,4,5},{0,5,4,3,2,1}),Y169,AF169,AI169)","v":0},"",0,"",0,"",0,"",0,0,0,0,0,0,0,0,0,0,0,0,0,null,null,null,null,null,null,null,null,null,0,"",0,"",{"$f":"SUM(AN169,AR169,AW169,LOOKUP(BD169,{0,1,2,3,4,5},{0,5,4,3,2,1}),BG169,BN169,BQ169)","v":0},"",0,"",0,"",0,"",0,0,0,0,0,0,0,0,0,0,0,0,0,null,"","","","","","","","","","","","",null,{"$f":"IF(Programs!$D$253=\"\",\"\",Programs!$D$253)","v":""},"","","","","","","","","","","","","",null,"","","","","","","","","","","",""]
[null,{"$f":"Programs!B266","v":0},{"$f":"IF(Programs!$C$253=\"\",\"\",Programs!$C$253)","v":""},null,null,null,null,null,null,null,null,null,null,null,null,null,null,null,null,null,null,null,null,null,null,null,null,null,null,null,null,null,null,null,null,null,null,null,null,null,null,null,null,null,null,null,null,null,null,null,null,null,null,null,null,null,null,null,null,null,null,null,null,null,null,null,null,null,null,null,null,{"$f":"Programs!C266","v":0},0,"",0,"",{"$f":"SUM(F170,J170,O170,LOOKUP(V170,{0,1,2,3,4,5},{0,5,4,3,2,1}),Y170,AF170,AI170)","v":0},"",0,"",0,"",0,"",0,0,0,0,0,0,0,0,0,0,0,0,0,null,null,null,null,null,null,null,null,null,0,"",0,"",{"$f":"SUM(AN170,AR170,AW170,LOOKUP(BD170,{0,1,2,3,4,5},{0,5,4,3,2,1}),BG170,BN170,BQ170)","v":0},"",0,"",0,"",0,"",0,0,0,0,0,0,0,0,0,0,0,0,0,null,"","","","","","","","","","","","",null,{"$f":"IF(Programs!$D$253=\"\",\"\",Programs!$D$253)","v":""},"","","","","","","","","","","","","",null,"","","","","","","","","","","",""]
[null,{"$f":"Programs!B267","v":0},{"$f":"IF(Programs!$C$253=\"\",\"\",Programs!$C$253)","v":""},null,null,null,null,null,null,null,null,null,null,null,null,null,null,null,null,null,null,null,null,null,null,null,null,null,null,null,null,null,null,null,null,null,null,null,null,null,null,null,null,null,null,null,null,null,null,null,null,null,null,null,null,null,null,null,null,null,null,null,null,null,null,null,null,null,null,null,null,{"$f":"Programs!C267","v":0},0,"",0,"",{"$f":"SUM(F171,J171,O171,LOOKUP(V171,{0,1,2,3,4,5},{0,5,4,3,2,1}),Y171,AF171,AI171)","v":0},"",0,"",0,"",0,"",0,0,0,0,0,0,0,0,0,0,0,0,0,null,null,null,null,null,null,null,null,null,0,"",0,"",{"$f":"SUM(AN171,AR171,AW171,LOOKUP(BD171,{0,1,2,3,4,5},{0,5,4,3,2,1}),BG171,BN171,BQ171)","v":0},"",0,"",0,"",0,"",0,0,0,0,0,0,0,0,0,0,0,0,0,null,"","","","","","","","","","","","",null,{"$f":"IF(Programs!$D$253=\"\",\"\",Programs!$D$253)","v":""},"","","","","","","","","","","","","",null,"","","","","","","","","","","",""]
["Program 15",{"$f":"Programs!B275","v":0},{"$f":"IF(Programs!$C$272=\"\",\"\",Programs!$C$272)","v":""},null,null,null,null,null,null,null,null,null,null,null,null,null,null,null,null,null,null,null,null,null,null,null,null,null,null,null,null,null,null,null,null,null,null,null,null,null,null,null,null,null,null,null,null,null,null,null,null,null,null,null,null,null,null,null,null,null,null,null,null,null,null,null,null,null,null,null,null,{"$f":"Programs!C275","v":0},0,"",0,"",{"$f":"SUM(F172,J172,O172,LOOKUP(V172,{0,1,2,3,4,5},{0,5,4,3,2,1}),Y172,AF172,AI172)","v":0},"",0,"",0,"",0,"",0,0,0,0,0,0,0,0,0,0,0,0,0,null,null,null,null,null,null,null,null,null,0,"",0,"",{"$f":"SUM(AN172,AR172,AW172,LOOKUP(BD172,{0,1,2,3,4,5},{0,5,4,3,2,1}),BG172,BN172,BQ172)","v":0},"",0,"",0,"",0,"",0,0,0,0,0,0,0,0,0,0,0,0,0,null,"","","","","","","","","","","","",null,{"$f":"IF(Programs!$D$272=\"\",\"\",Programs!$D$272)","v":""},"","","","","","","","","","","","","",null,"","","","","","","","","","","",""]
[null,{"$f":"Programs!B276","v":0},{"$f":"IF(Programs!$C$272=\"\",\"\",Programs!$C$272)","v":""},null,null,null,null,null,null,null,null,null,null,null,null,null,null,null,null,null,null,null,null,null,null,null,null,null,null,null,null,null,null,null,null,null,null,null,null,null,null,null,null,null,null,null,null,null,null,null,null,null,null,null,null,null,null,null,null,null,null,null,null,null,null,null,null,null,null,null,null,{"$f":"Programs!C276","v":0},0,"",0,"",{"$f":"SUM(F173,J173,O173,LOOKUP(V173,{0,1,2,3,4,5},{0,5,4,3,2,1}),Y173,AF173,AI173)","v":0},"",0,"",0,"",0,"",0,0,0,0,0,0,0,0,0,0,0,0,0,null,null,null,null,null,null,null,null,null,0,"",0,"",{"$f":"SUM(AN173,AR173,AW173,LOOKUP(BD173,{0,1,2,3,4,5},{0,5,4,3,2,1}),BG173,BN173,BQ173)","v":0},"",0,"",0,"",0,"",0,0,0,0,0,0,0,0,0,0,0,0,0,null,"","","","","","","","","","","","",null,{"$f":"IF(Programs!$D$272=\"\",\"\",Programs!$D$272)","v":""},"","","","","","","","","","","","","",null,"","","","","","","","","","","",""]
[null,{"$f":"Programs!B277","v":0},{"$f":"IF(Programs!$C$272=\"\",\"\",Programs!$C$272)","v":""},null,null,null,null,null,null,null,null,null,null,null,null,null,null,null,null,null,null,null,null,null,null,null,null,null,null,null,null,null,null,null,null,null,null,null,null,null,null,null,null,null,null,null,null,null,null,null,null,null,null,null,null,null,null,null,null,null,null,null,null,null,null,null,null,null,null,null,null,{"$f":"Programs!C277","v":0},0,"",0,"",{"$f":"SUM(F174,J174,O174,LOOKUP(V174,{0,1,2,3,4,5},{0,5,4,3,2,1}),Y174,AF174,AI174)","v":0},"",0,"",0,"",0,"",0,0,0,0,0,0,0,0,0,0,0,0,0,null,null,null,null,null,null,null,null,null,0,"",0,"",{"$f":"SUM(AN174,AR174,AW174,LOOKUP(BD174,{0,1,2,3,4,5},{0,5,4,3,2,1}),BG174,BN174,BQ174)","v":0},"",0,"",0,"",0,"",0,0,0,0,0,0,0,0,0,0,0,0,0,null,"","","","","","","","","","","","",null,{"$f":"IF(Programs!$D$272=\"\",\"\",Programs!$D$272)","v":""},"","","","","","","","","","","","","",null,"","","","","","","","","","","",""]
[null,{"$f":"Programs!B278","v":0},{"$f":"IF(Programs!$C$272=\"\",\"\",Programs!$C$272)","v":""},null,null,null,null,null,null,null,null,null,null,null,null,null,null,null,null,null,null,null,null,null,null,null,null,null,null,null,null,null,null,null,null,null,null,null,null,null,null,null,null,null,null,null,null,null,null,null,null,null,null,null,null,null,null,null,null,null,null,null,null,null,null,null,null,null,null,null,null,{"$f":"Programs!C278","v":0},0,"",0,"",{"$f":"SUM(F175,J175,O175,LOOKUP(V175,{0,1,2,3,4,5},{0,5,4,3,2,1}),Y175,AF175,AI175)","v":0},"",0,"",0,"",0,"",0,0,0,0,0,0,0,0,0,0,0,0,0,null,null,null,null,null,null,null,null,null,0,"",0,"",{"$f":"SUM(AN175,AR175,AW175,LOOKUP(BD175,{0,1,2,3,4,5},{0,5,4,3,2,1}),BG175,BN175,BQ175)","v":0},"",0,"",0,"",0,"",0,0,0,0,0,0,0,0,0,0,0,0,0,null,"","","","","","","","","","","","",null,{"$f":"IF(Programs!$D$272=\"\",\"\",Programs!$D$272)","v":""},"","","","","","","","","","","","","",null,"","","","","","","","","","","",""]
[null,{"$f":"Programs!B279","v":0},{"$f":"IF(Programs!$C$272=\"\",\"\",Programs!$C$272)","v":""},null,null,null,null,null,null,null,null,null,null,null,null,null,null,null,null,null,null,null,null,null,null,null,null,null,null,null,null,null,null,null,null,null,null,null,null,null,null,null,null,null,null,null,null,null,null,null,null,null,null,null,null,null,null,null,null,null,null,null,null,null,null,null,null,null,null,null,null,{"$f":"Programs!C279","v":0},0,"",0,"",{"$f":"SUM(F176,J176,O176,LOOKUP(V176,{0,1,2,3,4,5},{0,5,4,3,2,1}),Y176,AF176,AI176)","v":0},"",0,"",0,"",0,"",0,0,0,0,0,0,0,0,0,0,0,0,0,null,null,null,null,null,null,null,null,null,0,"",0,"",{"$f":"SUM(AN176,AR176,AW176,LOOKUP(BD176,{0,1,2,3,4,5},{0,5,4,3,2,1}),BG176,BN176,BQ176)","v":0},"",0,"",0,"",0,"",0,0,0,0,0,0,0,0,0,0,0,0,0,null,"","","","","","","","","","","","",null,{"$f":"IF(Programs!$D$272=\"\",\"\",Programs!$D$272)","v":""},"","","","","","","","","","","","","",null,"","","","","","","","","","","",""]
[null,{"$f":"Programs!B280","v":0},{"$f":"IF(Programs!$C$272=\"\",\"\",Programs!$C$272)","v":""},null,null,null,null,null,null,null,null,null,null,null,null,null,null,null,null,null,null,null,null,null,null,null,null,null,null,null,null,null,null,null,null,null,null,null,null,null,null,null,null,null,null,null,null,null,null,null,null,null,null,null,null,null,null,null,null,null,null,null,null,null,null,null,null,null,null,null,null,{"$f":"Programs!C280","v":0},0,"",0,"",{"$f":"SUM(F177,J177,O177,LOOKUP(V177,{0,1,2,3,4,5},{0,5,4,3,2,1}),Y177,AF177,AI177)","v":0},"",0,"",0,"",0,"",0,0,0,0,0,0,0,0,0,0,0,0,0,null,null,null,null,null,null,null,null,null,0,"",0,"",{"$f":"SUM(AN177,AR177,AW177,LOOKUP(BD177,{0,1,2,3,4,5},{0,5,4,3,2,1}),BG177,BN177,BQ177)","v":0},"",0,"",0,"",0,"",0,0,0,0,0,0,0,0,0,0,0,0,0,null,"","","","","","","","","","","","",null,{"$f":"IF(Programs!$D$272=\"\",\"\",Programs!$D$272)","v":""},"","","","","","","","","","","","","",null,"","","","","","","","","","","",""]
[null,{"$f":"Programs!B281","v":0},{"$f":"IF(Programs!$C$272=\"\",\"\",Programs!$C$272)","v":""},null,null,null,null,null,null,null,null,null,null,null,null,null,null,null,null,null,null,null,null,null,null,null,null,null,null,null,null,null,null,null,null,null,null,null,null,null,null,null,null,null,null,null,null,null,null,null,null,null,null,null,null,null,null,null,null,null,null,null,null,null,null,null,null,null,null,null,null,{"$f":"Programs!C281","v":0},0,"",0,"",{"$f":"SUM(F178,J178,O178,LOOKUP(V178,{0,1,2,3,4,5},{0,5,4,3,2,1}),Y178,AF178,AI178)","v":0},"",0,"",0,"",0,"",0,0,0,0,0,0,0,0,0,0,0,0,0,null,null,null,null,null,null,null,null,null,0,"",0,"",{"$f":"SUM(AN178,AR178,AW178,LOOKUP(BD178,{0,1,2,3,4,5},{0,5,4,3,2,1}),BG178,BN178,BQ178)","v":0},"",0,"",0,"",0,"",0,0,0,0,0,0,0,0,0,0,0,0,0,null,"","","","","","","","","","","","",null,{"$f":"IF(Programs!$D$272=\"\",\"\",Programs!$D$272)","v":""},"","","","","","","","","","","","","",null,"","","","","","","","","","","",""]
[null,{"$f":"Programs!B282","v":0},{"$f":"IF(Programs!$C$272=\"\",\"\",Programs!$C$272)","v":""},null,null,null,null,null,null,null,null,null,null,null,null,null,null,null,null,null,null,null,null,null,null,null,null,null,null,null,null,null,null,null,null,null,null,null,null,null,null,null,null,null,null,null,null,null,null,null,null,null,null,null,null,null,null,null,null,null,null,null,null,null,null,null,null,null,null,null,null,{"$f":"Programs!C282","v":0},0,"",0,"",{"$f":"SUM(F179,J179,O179,LOOKUP(V179,{0,1,2,3,4,5},{0,5,4,3,2,1}),Y179,AF179,AI179)","v":0},"",0,"",0,"",0,"",0,0,0,0,0,0,0,0,0,0,0,0,0,null,null,null,null,null,null,null,null,null,0,"",0,"",{"$f":"SUM(AN179,AR179,AW179,LOOKUP(BD179,{0,1,2,3,4,5},{0,5,4,3,2,1}),BG179,BN179,BQ179)","v":0},"",0,"",0,"",0,"",0,0,0,0,0,0,0,0,0,0,0,0,0,null,"","","","","","","","","","","","",null,{"$f":"IF(Programs!$D$272=\"\",\"\",Programs!$D$272)","v":""},"","","","","","","","","","","","","",null,"","","","","","","","","","","",""]
[null,{"$f":"Programs!B283","v":0},{"$f":"IF(Programs!$C$272=\"\",\"\",Programs!$C$272)","v":""},null,null,null,null,null,null,null,null,null,null,null,null,null,null,null,null,null,null,null,null,null,null,null,null,null,null,null,null,null,null,null,null,null,null,null,null,null,null,null,null,null,null,null,null,null,null,null,null,null,null,null,null,null,null,null,null,null,null,null,null,null,null,null,null,null,null,null,null,{"$f":"Programs!C283","v":0},{"$f":"SUM(K180,M180,N180,T180,Z180,AA180,AB180,AD180)","v":0},{"$f":"IF(OR($BT180=0,BU180=0),\"\",(IF($BT180=\"Male\",(VLOOKUP(BU180,PHYMT,3,FALSE)),(VLOOKUP(BU180,PHFMT,2,FALSE)))))","v":""},{"$f":"SUM(D180,G180,I180,W180,AC180)","v":0},{"$f":"IF(BW180=0,\"\",VLOOKUP(BW180,VER,5,FALSE))","v":""},{"$f":"SUM(F180,J180,O180,LOOKUP(V180,{0,1,2,3,4,5},{0,5,4,3,2,1}),Y180,AF180,AI180)","v":0},{"$f":"IF(BY180=0,\"\",VLOOKUP(BY180,ANG,4,FALSE))","v":""},{"$f":"SUM(E180,H180,L180,S180,X180,AE180,AH180,AJ180)","v":0},{"$f":"IF(CA180=0,\"\",IF(CA180>38,81,VLOOKUP(CA180,HOS,3,FALSE)))","v":""},{"$f":"SUM(P180,Q180,R180,U180,AG180,AK180)","v":0},{"$f":"IF(CC180=0,\"\",VLOOKUP(CC180,IND,2,FALSE))","v":""},{"$f":"SUM(BU180,BW180,BY180,CA180,CC180)","v":0},{"$f":"IF(CE180=0,\"\",VLOOKUP(CE180,AQT,2,FALSE))","v":""},{"$f":"SUM(CH180:CS180)","v":0},{"$f":"IF(ABS(D180-Y180)>1,1,0)","v":0},{"$f":"IF(ABS(E180-H180)>1,1,0)","v":0},{"$f":"IF(ABS(G180-I180)>1,1,0)","v":0},{"$f":"IF(ABS(J180-AJ180)>1,1,0)","v":0},{"$f":"IF(ABS(K180-N180)>1,1,0)","v":0},{"$f":"IF(ABS(L180-AF180)>1,1,0)","v":0},{"$f":"IF(ABS(M180-P180)>1,1,0)","v":0},{"$f":"IF(ABS(O180-AI180)>1,1,0)","v":0},{"$f":"IF(ABS(Q180-T180)>1,1,0)","v":0},{"$f":"IF(ABS(X180-AH180)>1,1,0)","v":0},{"$f":"IF(ABS(Z180-AA180)>1,1,0)","v":0},{"$f":"IF(ABS(AB180-AD180)>1,1,0)","v":0},null,null,null,null,null,null,null,null,null,{"$f":"SUM(AS180,AU180,AV180,BB180,BH180,BI180,BJ180,BL180)","v":0},{"$f":"IF(OR($BT180=0,DC180=0),\"\",(IF($BT180=\"Male\",(VLOOKUP(DC180,PHYMT,3,FALSE)),(VLOOKUP(DC180,PHFMT,2,FALSE)))))","v":""},{"$f":"SUM(AL180,AO180,AQ180,BE180,BK180)","v":0},{"$f":"IF(DE180=0,\"\",VLOOKUP(DE180,VER,5,FALSE))","v":""},{"$f":"SUM(AN180,AR180,AW180,LOOKUP(BD180,{0,1,2,3,4,5},{0,5,4,3,2,1}),BG180,BN180,BQ180)","v":0},{"$f":"IF(DG180=0,\"\",VLOOKUP(DG180,ANG,4,FALSE))","v":""},{"$f":"SUM(AM180,AP180,AT180,BA180,BF180,BM180,BP180,BR180)","v":0},{"$f":"IF(DI180=0,\"\",VLOOKUP(DI180,HOS,3,FALSE))","v":""},{"$f":"SUM(AX180,AY180,AZ180,BC180,BO180,BS180)","v":0},{"$f":"IF(DK180=0,\"\",VLOOKUP(DK180,IND,2,FALSE))","v":""},{"$f":"SUM(DC180,DE180,DG180,DI180,DK180)","v":0},{"$f":"IF(DM180=0,\"\",IF(DM180<39,24,VLOOKUP(DM180,AQT,2,FALSE)))","v":""},{"$f":"SUM(DP180:EA180)","v":0},{"$f":"IF(ABS(AL180-BG180)>1,1,0)","v":0},{"$f":"IF(ABS(AM180-AP180)>1,1,0)","v":0},{"$f":"IF(ABS(AO180-AQ180)>1,1,0)","v":0},{"$f":"IF(ABS(AR180-BR180)>1,1,0)","v":0},{"$f":"IF(ABS(AS180-AV180)>1,1,0)","v":0},{"$f":"IF(ABS(AT180-BN180)>1,1,0)","v":0},{"$f":"IF(ABS(AU180-AX180)>1,1,0)","v":0},{"$f":"IF(ABS(AW180-BQ180)>1,1,0)","v":0},{"$f":"IF(ABS(AY180-BB180)>1,1,0)","v":0},{"$f":"IF(ABS(BF180-BP180)>1,1,0)","v":0},{"$f":"IF(ABS(BH180-BI180)>1,1,0)","v":0},{"$f":"IF(ABS(BJ180-BL180)>1,1,0)","v":0},null,{"$f":"IF(EQ180<>\"\",(DC180/8)-(BU180/8),\"\")","v":""},{"$f":"IF(EQ180<>\"\",IF(BT180=0,\"\",DD180-BV180),\"\")","v":""},{"$f":"IF(EQ180<>\"\",(DE180/5)-(BW180/5),\"\")","v":""},{"$f":"IF(EQ180<>\"\",DF180-BX180,\"\")","v":""},{"$f":"IF(EQ180<>\"\",(DG180/7)-(BY180/7),\"\")","v":""},{"$f":"IF(EQ180<>\"\",DH180-BZ180,\"\")","v":""},{"$f":"IF(EQ180<>\"\",(DI180/8)-(CA180/8),\"\")","v":""},{"$f":"IF(EQ180<>\"\",DJ180-CB180,\"\")","v":""},{"$f":"IF(EQ180<>\"\",(DK180/6)-(CC180/6),\"\")","v":""},{"$f":"IF(EQ180<>\"\",DL180-CD180,\"\")","v":""},{"$f":"IF(EQ180<>\"\",(DM180/34)-(CE180/34),\"\")","v":""},{"$f":"IF(EQ180<>\"\",DN180-CF180,\"\")","v":""},null,{"$f":"IF(Programs!$D$272=\"\",\"\",Programs!$D$272)","v":""},{"$f":"IF(AND(COUNT(D180:AK180)>30,COUNT(AL180:BS180)>30),EP180,\"\")","v":""},"","","","","","","","","","","","",null,"","","","","","","","","","","",""]
[null,{"$f":"Programs!B284","v":0},{"$f":"IF(Programs!$C$272=\"\",\"\",Programs!$C$272)","v":""},null,null,null,null,null,null,null,null,null,null,null,null,null,null,null,null,null,null,null,null,null,null,null,null,null,null,null,null,null,null,null,null,null,null,null,null,null,null,null,null,null,null,null,null,null,null,null,null,null,null,null,null,null,null,null,null,null,null,null,null,null,null,null,null,null,null,null,null,{"$f":"Programs!C284","v":0},0,"",0,"",{"$f":"SUM(F181,J181,O181,LOOKUP(V181,{0,1,2,3,4,5},{0,5,4,3,2,1}),Y181,AF181,AI181)","v":0},"",0,"",0,"",0,"",0,0,0,0,0,0,0,0,0,0,0,0,0,null,null,null,null,null,null,null,null,null,0,"",0,"",{"$f":"SUM(AN181,AR181,AW181,LOOKUP(BD181,{0,1,2,3,4,5},{0,5,4,3,2,1}),BG181,BN181,BQ181)","v":0},"",0,"",0,"",0,"",0,0,0,0,0,0,0,0,0,0,0,0,0,null,"","","","","","","","","","","","",null,{"$f":"IF(Programs!$D$272=\"\",\"\",Programs!$D$272)","v":""},"","","","","","","","","","","","","",null,"","","","","","","","","","","",""]
[null,{"$f":"Programs!B285","v":0},{"$f":"IF(Programs!$C$272=\"\",\"\",Programs!$C$272)","v":""},null,null,null,null,null,null,null,null,null,null,null,null,null,null,null,null,null,null,null,null,null,null,null,null,null,null,null,null,null,null,null,null,null,null,null,null,null,null,null,null,null,null,null,null,null,null,null,null,null,null,null,null,null,null,null,null,null,null,null,null,null,null,null,null,null,null,null,null,{"$f":"Programs!C285","v":0},0,"",0,"",{"$f":"SUM(F182,J182,O182,LOOKUP(V182,{0,1,2,3,4,5},{0,5,4,3,2,1}),Y182,AF182,AI182)","v":0},"",0,"",0,"",0,"",0,0,0,0,0,0,0,0,0,0,0,0,0,null,null,null,null,null,null,null,null,null,0,"",0,"",{"$f":"SUM(AN182,AR182,AW182,LOOKUP(BD182,{0,1,2,3,4,5},{0,5,4,3,2,1}),BG182,BN182,BQ182)","v":0},"",0,"",0,"",0,"",0,0,0,0,0,0,0,0,0,0,0,0,0,null,"","","","","","","","","","","","",null,{"$f":"IF(Programs!$D$272=\"\",\"\",Programs!$D$272)","v":""},"","","","","","","","","","","","","",null,"","","","","","","","","","","",""]
[null,{"$f":"Programs!B286","v":0},{"$f":"IF(Programs!$C$272=\"\",\"\",Programs!$C$272)","v":""},null,null,null,null,null,null,null,null,null,null,null,null,null,null,null,null,null,null,null,null,null,null,null,null,null,null,null,null,null,null,null,null,null,null,null,null,null,null,null,null,null,null,null,null,null,null,null,null,null,null,null,null,null,null,null,null,null,null,null,null,null,null,null,null,null,null,null,null,{"$f":"Programs!C286","v":0},0,"",0,"",{"$f":"SUM(F183,J183,O183,LOOKUP(V183,{0,1,2,3,4,5},{0,5,4,3,2,1}),Y183,AF183,AI183)","v":0},"",0,"",0,"",0,"",0,0,0,0,0,0,0,0,0,0,0,0,0,null,null,null,null,null,null,null,null,null,0,"",0,"",{"$f":"SUM(AN183,AR183,AW183,LOOKUP(BD183,{0,1,2,3,4,5},{0,5,4,3,2,1}),BG183,BN183,BQ183)","v":0},"",0,"",0,"",0,"",0,0,0,0,0,0,0,0,0,0,0,0,0,null,"","","","","","","","","","","","",null,{"$f":"IF(Programs!$D$272=\"\",\"\",Programs!$D$272)","v":""},"","","","","","","","","","","","","",null,"","","","","","","","","","","",""]
["Program 16",{"$f":"Programs!B294","v":0},{"$f":"IF(Programs!$C$291=\"\",\"\",Programs!$C$291)","v":""},null,null,null,null,null,null,null,null,null,null,null,null,null,null,null,null,null,null,null,null,null,null,null,null,null,null,null,null,null,null,null,null,null,null,null,null,null,null,null,null,null,null,null,null,null,null,null,null,null,null,null,null,null,null,null,null,null,null,null,null,null,null,null,null,null,null,null,null,{"$f":"Programs!C294","v":0},0,"",0,"",{"$f":"SUM(F184,J184,O184,LOOKUP(V184,{0,1,2,3,4,5},{0,5,4,3,2,1}),Y184,AF184,AI184)","v":0},"",0,"",0,"",0,"",0,0,0,0,0,0,0,0,0,0,0,0,0,null,null,null,null,null,null,null,null,null,0,"",0,"",{"$f":"SUM(AN184,AR184,AW184,LOOKUP(BD184,{0,1,2,3,4,5},{0,5,4,3,2,1}),BG184,BN184,BQ184)","v":0},"",0,"",0,"",0,"",0,0,0,0,0,0,0,0,0,0,0,0,0,null,"","","","","","","","","","","","",null,{"$f":"IF(Programs!$D$291=\"\",\"\",Programs!$D$291)","v":""},"","","","","","","","","","","","","",null,"","","","","","","","","","","",""]
[null,{"$f":"Programs!B295","v":0},{"$f":"IF(Programs!$C$291=\"\",\"\",Programs!$C$291)","v":""},null,null,null,null,null,null,null,null,null,null,null,null,null,null,null,null,null,null,null,null,null,null,null,null,null,null,null,null,null,null,null,null,null,null,null,null,null,null,null,null,null,null,null,null,null,null,null,null,null,null,null,null,null,null,null,null,null,null,null,null,null,null,null,null,null,null,null,null,{"$f":"Programs!C295","v":0},0,"",0,"",{"$f":"SUM(F185,J185,O185,LOOKUP(V185,{0,1,2,3,4,5},{0,5,4,3,2,1}),Y185,AF185,AI185)","v":0},"",0,"",0,"",0,"",0,0,0,0,0,0,0,0,0,0,0,0,0,null,null,null,null,null,null,null,null,null,0,"",0,"",{"$f":"SUM(AN185,AR185,AW185,LOOKUP(BD185,{0,1,2,3,4,5},{0,5,4,3,2,1}),BG185,BN185,BQ185)","v":0},"",0,"",0,"",0,"",0,0,0,0,0,0,0,0,0,0,0,0,0,null,"","","","","","","","","","","","",null,{"$f":"IF(Programs!$D$291=\"\",\"\",Programs!$D$291)","v":""},"","","","","","","","","","","","","",null,"","","","","","","","","","","",""]
[null,{"$f":"Programs!B296","v":0},{"$f":"IF(Programs!$C$291=\"\",\"\",Programs!$C$291)","v":""},null,null,null,null,null,null,null,null,null,null,null,null,null,null,null,null,null,null,null,null,null,null,null,null,null,null,null,null,null,null,null,null,null,null,null,null,null,null,null,null,null,null,null,null,null,null,null,null,null,null,null,null,null,null,null,null,null,null,null,null,null,null,null,null,null,null,null,null,{"$f":"Programs!C296","v":0},0,"",0,"",{"$f":"SUM(F186,J186,O186,LOOKUP(V186,{0,1,2,3,4,5},{0,5,4,3,2,1}),Y186,AF186,AI186)","v":0},"",0,"",0,"",0,"",0,0,0,0,0,0,0,0,0,0,0,0,0,null,null,null,null,null,null,null,null,null,0,"",0,"",{"$f":"SUM(AN186,AR186,AW186,LOOKUP(BD186,{0,1,2,3,4,5},{0,5,4,3,2,1}),BG186,BN186,BQ186)","v":0},"",0,"",0,"",0,"",0,0,0,0,0,0,0,0,0,0,0,0,0,null,"","","","","","","","","","","","",null,{"$f":"IF(Programs!$D$291=\"\",\"\",Programs!$D$291)","v":""},"","","","","","","","","","","","","",null,"","","","","","","","","","","",""]
[null,{"$f":"Programs!B297","v":0},{"$f":"IF(Programs!$C$291=\"\",\"\",Programs!$C$291)","v":""},null,null,null,null,null,null,null,null,null,null,null,null,null,null,null,null,null,null,null,null,null,null,null,null,null,null,null,null,null,null,null,null,null,null,null,null,null,null,null,null,null,null,null,null,null,null,null,null,null,null,null,null,null,null,null,null,null,null,null,null,null,null,null,null,null,null,null,null,{"$f":"Programs!C297","v":0},0,"",0,"",{"$f":"SUM(F187,J187,O187,LOOKUP(V187,{0,1,2,3,4,5},{0,5,4,3,2,1}),Y187,AF187,AI187)","v":0},"",0,"",0,"",0,"",0,0,0,0,0,0,0,0,0,0,0,0,0,null,null,null,null,null,null,null,null,null,0,"",0,"",{"$f":"SUM(AN187,AR187,AW187,LOOKUP(BD187,{0,1,2,3,4,5},{0,5,4,3,2,1}),BG187,BN187,BQ187)","v":0},"",0,"",0,"",0,"",0,0,0,0,0,0,0,0,0,0,0,0,0,null,"","","","","","","","","","","","",null,{"$f":"IF(Programs!$D$291=\"\",\"\",Programs!$D$291)","v":""},"","","","","","","","","","","","","",null,"","","","","","","","","","","",""]
[null,{"$f":"Programs!B298","v":0},{"$f":"IF(Programs!$C$291=\"\",\"\",Programs!$C$291)","v":""},null,null,null,null,null,null,null,null,null,null,null,null,null,null,null,null,null,null,null,null,null,null,null,null,null,null,null,null,null,null,null,null,null,null,null,null,null,null,null,null,null,null,null,null,null,null,null,null,null,null,null,null,null,null,null,null,null,null,null,null,null,null,null,null,null,null,null,null,{"$f":"Programs!C298","v":0},0,"",0,"",{"$f":"SUM(F188,J188,O188,LOOKUP(V188,{0,1,2,3,4,5},{0,5,4,3,2,1}),Y188,AF188,AI188)","v":0},"",0,"",0,"",0,"",0,0,0,0,0,0,0,0,0,0,0,0,0,null,null,null,null,null,null,null,null,null,0,"",0,"",{"$f":"SUM(AN188,AR188,AW188,LOOKUP(BD188,{0,1,2,3,4,5},{0,5,4,3,2,1}),BG188,BN188,BQ188)","v":0},"",0,"",0,"",0,"",0,0,0,0,0,0,0,0,0,0,0,0,0,null,"","","","","","","","","","","","",null,{"$f":"IF(Programs!$D$291=\"\",\"\",Programs!$D$291)","v":""},"","","","","","","","","","","","","",null,"","","","","","","","","","","",""]
[null,{"$f":"Programs!B299","v":0},{"$f":"IF(Programs!$C$291=\"\",\"\",Programs!$C$291)","v":""},null,null,null,null,null,null,null,null,null,null,null,null,null,null,null,null,null,null,null,null,null,null,null,null,null,null,null,null,null,null,null,null,null,null,null,null,null,null,null,null,null,null,null,null,null,null,null,null,null,null,null,null,null,null,null,null,null,null,null,null,null,null,null,null,null,null,null,null,{"$f":"Programs!C299","v":0},0,"",0,"",{"$f":"SUM(F189,J189,O189,LOOKUP(V189,{0,1,2,3,4,5},{0,5,4,3,2,1}),Y189,AF189,AI189)","v":0},"",0,"",0,"",0,"",0,0,0,0,0,0,0,0,0,0,0,0,0,null,null,null,null,null,null,null,null,null,0,"",0,"",{"$f":"SUM(AN189,AR189,AW189,LOOKUP(BD189,{0,1,2,3,4,5},{0,5,4,3,2,1}),BG189,BN189,BQ189)","v":0},"",0,"",0,"",0,"",0,0,0,0,0,0,0,0,0,0,0,0,0,null,"","","","","","","","","","","","",null,{"$f":"IF(Programs!$D$291=\"\",\"\",Programs!$D$291)","v":""},"","","","","","","","","","","","","",null,"","","","","","","","","","","",""]
[null,{"$f":"Programs!B300","v":0},{"$f":"IF(Programs!$C$291=\"\",\"\",Programs!$C$291)","v":""},null,null,null,null,null,null,null,null,null,null,null,null,null,null,null,null,null,null,null,null,null,null,null,null,null,null,null,null,null,null,null,null,null,null,null,null,null,null,null,null,null,null,null,null,null,null,null,null,null,null,null,null,null,null,null,null,null,null,null,null,null,null,null,null,null,null,null,null,{"$f":"Programs!C300","v":0},0,"",0,"",{"$f":"SUM(F190,J190,O190,LOOKUP(V190,{0,1,2,3,4,5},{0,5,4,3,2,1}),Y190,AF190,AI190)","v":0},"",0,"",0,"",0,"",0,0,0,0,0,0,0,0,0,0,0,0,0,null,null,null,null,null,null,null,null,null,0,"",0,"",{"$f":"SUM(AN190,AR190,AW190,LOOKUP(BD190,{0,1,2,3,4,5},{0,5,4,3,2,1}),BG190,BN190,BQ190)","v":0},"",0,"",0,"",0,"",0,0,0,0,0,0,0,0,0,0,0,0,0,null,"","","","","","","","","","","","",null,{"$f":"IF(Programs!$D$291=\"\",\"\",Programs!$D$291)","v":""},"","","","","","","","","","","","","",null,"","","","","","","","","","","",""]
[null,{"$f":"Programs!B301","v":0},{"$f":"IF(Programs!$C$291=\"\",\"\",Programs!$C$291)","v":""},null,null,null,null,null,null,null,null,null,null,null,null,null,null,null,null,null,null,null,null,null,null,null,null,null,null,null,null,null,null,null,null,null,null,null,null,null,null,null,null,null,null,null,null,null,null,null,null,null,null,null,null,null,null,null,null,null,null,null,null,null,null,null,null,null,null,null,null,{"$f":"Programs!C301","v":0},0,"",0,"",{"$f":"SUM(F191,J191,O191,LOOKUP(V191,{0,1,2,3,4,5},{0,5,4,3,2,1}),Y191,AF191,AI191)","v":0},"",0,"",0,"",0,"",0,0,0,0,0,0,0,0,0,0,0,0,0,null,null,null,null,null,null,null,null,null,0,"",0,"",{"$f":"SUM(AN191,AR191,AW191,LOOKUP(BD191,{0,1,2,3,4,5},{0,5,4,3,2,1}),BG191,BN191,BQ191)","v":0},"",0,"",0,"",0,"",0,0,0,0,0,0,0,0,0,0,0,0,0,null,"","","","","","","","","","","","",null,{"$f":"IF(Programs!$D$291=\"\",\"\",Programs!$D$291)","v":""},"","","","","","","","","","","","","",null,"","","","","","","","","","","",""]
[null,{"$f":"Programs!B302","v":0},{"$f":"IF(Programs!$C$291=\"\",\"\",Programs!$C$291)","v":""},null,null,null,null,null,null,null,null,null,null,null,null,null,null,null,null,null,null,null,null,null,null,null,null,null,null,null,null,null,null,null,null,null,null,null,null,null,null,null,null,null,null,null,null,null,null,null,null,null,null,null,null,null,null,null,null,null,null,null,null,null,null,null,null,null,null,null,null,{"$f":"Programs!C302","v":0},{"$f":"SUM(K192,M192,N192,T192,Z192,AA192,AB192,AD192)","v":0},{"$f":"IF(OR($BT192=0,BU192=0),\"\",(IF($BT192=\"Male\",(VLOOKUP(BU192,PHYMT,3,FALSE)),(VLOOKUP(BU192,PHFMT,2,FALSE)))))","v":""},{"$f":"SUM(D192,G192,I192,W192,AC192)","v":0},{"$f":"IF(BW192=0,\"\",VLOOKUP(BW192,VER,5,FALSE))","v":""},{"$f":"SUM(F192,J192,O192,LOOKUP(V192,{0,1,2,3,4,5},{0,5,4,3,2,1}),Y192,AF192,AI192)","v":0},{"$f":"IF(BY192=0,\"\",VLOOKUP(BY192,ANG,4,FALSE))","v":""},{"$f":"SUM(E192,H192,L192,S192,X192,AE192,AH192,AJ192)","v":0},{"$f":"IF(CA192=0,\"\",IF(CA192>38,81,VLOOKUP(CA192,HOS,3,FALSE)))","v":""},{"$f":"SUM(P192,Q192,R192,U192,AG192,AK192)","v":0},{"$f":"IF(CC192=0,\"\",VLOOKUP(CC192,IND,2,FALSE))","v":""},{"$f":"SUM(BU192,BW192,BY192,CA192,CC192)","v":0},{"$f":"IF(CE192=0,\"\",VLOOKUP(CE192,AQT,2,FALSE))","v":""},{"$f":"SUM(CH192:CS192)","v":0},{"$f":"IF(ABS(D192-Y192)>1,1,0)","v":0},{"$f":"IF(ABS(E192-H192)>1,1,0)","v":0},{"$f":"IF(ABS(G192-I192)>1,1,0)","v":0},{"$f":"IF(ABS(J192-AJ192)>1,1,0)","v":0},{"$f":"IF(ABS(K192-N192)>1,1,0)","v":0},{"$f":"IF(ABS(L192-AF192)>1,1,0)","v":0},{"$f":"IF(ABS(M192-P192)>1,1,0)","v":0},{"$f":"IF(ABS(O192-AI192)>1,1,0)","v":0},{"$f":"IF(ABS(Q192-T192)>1,1,0)","v":0},{"$f":"IF(ABS(X192-AH192)>1,1,0)","v":0},{"$f":"IF(ABS(Z192-AA192)>1,1,0)","v":0},{"$f":"IF(ABS(AB192-AD192)>1,1,0)","v":0},null,null,null,null,null,null,null,null,null,{"$f":"SUM(AS192,AU192,AV192,BB192,BH192,BI192,BJ192,BL192)","v":0},{"$f":"IF(OR($BT192=0,DC192=0),\"\",(IF($BT192=\"Male\",(VLOOKUP(DC192,PHYMT,3,FALSE)),(VLOOKUP(DC192,PHFMT,2,FALSE)))))","v":""},{"$f":"SUM(AL192,AO192,AQ192,BE192,BK192)","v":0},{"$f":"IF(DE192=0,\"\",VLOOKUP(DE192,VER,5,FALSE))","v":""},{"$f":"SUM(AN192,AR192,AW192,LOOKUP(BD192,{0,1,2,3,4,5},{0,5,4,3,2,1}),BG192,BN192,BQ192)","v":0},{"$f":"IF(DG192=0,\"\",VLOOKUP(DG192,ANG,4,FALSE))","v":""},{"$f":"SUM(AM192,AP192,AT192,BA192,BF192,BM192,BP192,BR192)","v":0},{"$f":"IF(DI192=0,\"\",VLOOKUP(DI192,HOS,3,FALSE))","v":""},{"$f":"SUM(AX192,AY192,AZ192,BC192,BO192,BS192)","v":0},{"$f":"IF(DK192=0,\"\",VLOOKUP(DK192,IND,2,FALSE))","v":""},{"$f":"SUM(DC192,DE192,DG192,DI192,DK192)","v":0},{"$f":"IF(DM192=0,\"\",IF(DM192<39,24,VLOOKUP(DM192,AQT,2,FALSE)))","v":""},{"$f":"SUM(DP192:EA192)","v":0},{"$f":"IF(ABS(AL192-BG192)>1,1,0)","v":0},{"$f":"IF(ABS(AM192-AP192)>1,1,0)","v":0},{"$f":"IF(ABS(AO192-AQ192)>1,1,0)","v":0},{"$f":"IF(ABS(AR192-BR192)>1,1,0)","v":0},{"$f":"IF(ABS(AS192-AV192)>1,1,0)","v":0},{"$f":"IF(ABS(AT192-BN192)>1,1,0)","v":0},{"$f":"IF(ABS(AU192-AX192)>1,1,0)","v":0},{"$f":"IF(ABS(AW192-BQ192)>1,1,0)","v":0},{"$f":"IF(ABS(AY192-BB192)>1,1,0)","v":0},{"$f":"IF(ABS(BF192-BP192)>1,1,0)","v":0},{"$f":"IF(ABS(BH192-BI192)>1,1,0)","v":0},{"$f":"IF(ABS(BJ192-BL192)>1,1,0)","v":0},null,{"$f":"IF(EQ192<>\"\",(DC192/8)-(BU192/8),\"\")","v":""},{"$f":"IF(EQ192<>\"\",IF(BT192=0,\"\",DD192-BV192),\"\")","v":""},{"$f":"IF(EQ192<>\"\",(DE192/5)-(BW192/5),\"\")","v":""},{"$f":"IF(EQ192<>\"\",DF192-BX192,\"\")","v":""},{"$f":"IF(EQ192<>\"\",(DG192/7)-(BY192/7),\"\")","v":""},{"$f":"IF(EQ192<>\"\",DH192-BZ192,\"\")","v":""},{"$f":"IF(EQ192<>\"\",(DI192/8)-(CA192/8),\"\")","v":""},{"$f":"IF(EQ192<>\"\",DJ192-CB192,\"\")","v":""},{"$f":"IF(EQ192<>\"\",(DK192/6)-(CC192/6),\"\")","v":""},{"$f":"IF(EQ192<>\"\",DL192-CD192,\"\")","v":""},{"$f":"IF(EQ192<>\"\",(DM192/34)-(CE192/34),\"\")","v":""},{"$f":"IF(EQ192<>\"\",DN192-CF192,\"\")","v":""},null,{"$f":"IF(Programs!$D$291=\"\",\"\",Programs!$D$291)","v":""},{"$f":"IF(AND(COUNT(D192:AK192)>30,COUNT(AL192:BS192)>30),EP192,\"\")","v":""},"","","","","","","","","","","","",null,"","","","","","","","","","","",""]
[null,{"$f":"Programs!B303","v":0},{"$f":"IF(Programs!$C$291=\"\",\"\",Programs!$C$291)","v":""},null,null,null,null,null,null,null,null,null,null,null,null,null,null,null,null,null,null,null,null,null,null,null,null,null,null,null,null,null,null,null,null,null,null,null,null,null,null,null,null,null,null,null,null,null,null,null,null,null,null,null,null,null,null,null,null,null,null,null,null,null,null,null,null,null,null,null,null,{"$f":"Programs!C303","v":0},0,"",0,"",{"$f":"SUM(F193,J193,O193,LOOKUP(V193,{0,1,2,3,4,5},{0,5,4,3,2,1}),Y193,AF193,AI193)","v":0},"",0,"",0,"",0,"",0,0,0,0,0,0,0,0,0,0,0,0,0,null,null,null,null,null,null,null,null,null,0,"",0,"",{"$f":"SUM(AN193,AR193,AW193,LOOKUP(BD193,{0,1,2,3,4,5},{0,5,4,3,2,1}),BG193,BN193,BQ193)","v":0},"",0,"",0,"",0,"",0,0,0,0,0,0,0,0,0,0,0,0,0,null,"","","","","","","","","","","","",null,{"$f":"IF(Programs!$D$291=\"\",\"\",Programs!$D$291)","v":""},"","","","","","","","","","","","","",null,"","","","","","","","","","","",""]
[null,{"$f":"Programs!B304","v":0},{"$f":"IF(Programs!$C$291=\"\",\"\",Programs!$C$291)","v":""},null,null,null,null,null,null,null,null,null,null,null,null,null,null,null,null,null,null,null,null,null,null,null,null,null,null,null,null,null,null,null,null,null,null,null,null,null,null,null,null,null,null,null,null,null,null,null,null,null,null,null,null,null,null,null,null,null,null,null,null,null,null,null,null,null,null,null,null,{"$f":"Programs!C304","v":0},0,"",0,"",{"$f":"SUM(F194,J194,O194,LOOKUP(V194,{0,1,2,3,4,5},{0,5,4,3,2,1}),Y194,AF194,AI194)","v":0},"",0,"",0,"",0,"",0,0,0,0,0,0,0,0,0,0,0,0,0,null,null,null,null,null,null,null,null,null,0,"",0,"",{"$f":"SUM(AN194,AR194,AW194,LOOKUP(BD194,{0,1,2,3,4,5},{0,5,4,3,2,1}),BG194,BN194,BQ194)","v":0},"",0,"",0,"",0,"",0,0,0,0,0,0,0,0,0,0,0,0,0,null,"","","","","","","","","","","","",null,{"$f":"IF(Programs!$D$291=\"\",\"\",Programs!$D$291)","v":""},"","","","","","","","","","","","","",null,"","","","","","","","","","","",""]
[null,{"$f":"Programs!B305","v":0},{"$f":"IF(Programs!$C$291=\"\",\"\",Programs!$C$291)","v":""},null,null,null,null,null,null,null,null,null,null,null,null,null,null,null,null,null,null,null,null,null,null,null,null,null,null,null,null,null,null,null,null,null,null,null,null,null,null,null,null,null,null,null,null,null,null,null,null,null,null,null,null,null,null,null,null,null,null,null,null,null,null,null,null,null,null,null,null,{"$f":"Programs!C305","v":0},0,"",0,"",{"$f":"SUM(F195,J195,O195,LOOKUP(V195,{0,1,2,3,4,5},{0,5,4,3,2,1}),Y195,AF195,AI195)","v":0},"",0,"",0,"",0,"",0,0,0,0,0,0,0,0,0,0,0,0,0,null,null,null,null,null,null,null,null,null,0,"",0,"",{"$f":"SUM(AN195,AR195,AW195,LOOKUP(BD195,{0,1,2,3,4,5},{0,5,4,3,2,1}),BG195,BN195,BQ195)","v":0},"",0,"",0,"",0,"",0,0,0,0,0,0,0,0,0,0,0,0,0,null,"","","","","","","","","","","","",null,{"$f":"IF(Programs!$D$291=\"\",\"\",Programs!$D$291)","v":""},"","","","","","","","","","","","","",null,"","","","","","","","","","","",""]
["Program 17",{"$f":"Programs!B313","v":0},{"$f":"IF(Programs!$C$310=\"\",\"\",Programs!$C$310)","v":""},null,null,null,null,null,null,null,null,null,null,null,null,null,null,null,null,null,null,null,null,null,null,null,null,null,null,null,null,null,null,null,null,null,null,null,null,null,null,null,null,null,null,null,null,null,null,null,null,null,null,null,null,null,null,null,null,null,null,null,null,null,null,null,null,null,null,null,null,{"$f":"Programs!C313","v":0},0,{"$f":"IF(OR($BT196=0,BU196=0),\"\",(IF($BT196=\"Male\",(VLOOKUP(BU196,PHYMT,3,FALSE)),(VLOOKUP(BU196,PHFMT,2,FALSE)))))","v":""},0,{"$f":"IF(BW196=0,\"\",VLOOKUP(BW196,VER,5,FALSE))","v":""},{"$f":"SUM(F196,J196,O196,LOOKUP(V196,{0,1,2,3,4,5},{0,5,4,3,2,1}),Y196,AF196,AI196)","v":0},{"$f":"IF(BY196=0,\"\",VLOOKUP(BY196,ANG,4,FALSE))","v":""},0,{"$f":"IF(CA196=0,\"\",IF(CA196>38,81,VLOOKUP(CA196,HOS,3,FALSE)))","v":""},0,{"$f":"IF(CC196=0,\"\",VLOOKUP(CC196,IND,2,FALSE))","v":""},0,{"$f":"IF(CE196=0,\"\",VLOOKUP(CE196,AQT,2,FALSE))","v":""},0,0,0,0,0,0,0,0,0,0,0,0,0,null,null,null,null,null,null,null,null,null,0,{"$f":"IF(OR($BT196=0,DC196=0),\"\",(IF($BT196=\"Male\",(VLOOKUP(DC196,PHYMT,3,FALSE)),(VLOOKUP(DC196,PHFMT,2,FALSE)))))","v":""},0,{"$f":"IF(DE196=0,\"\",VLOOKUP(DE196,VER,5,FALSE))","v":""},{"$f":"SUM(AN196,AR196,AW196,LOOKUP(BD196,{0,1,2,3,4,5},{0,5,4,3,2,1}),BG196,BN196,BQ196)","v":0},{"$f":"IF(DG196=0,\"\",VLOOKUP(DG196,ANG,4,FALSE))","v":""},0,{"$f":"IF(DI196=0,\"\",VLOOKUP(DI196,HOS,3,FALSE))","v":""},0,{"$f":"IF(DK196=0,\"\",VLOOKUP(DK196,IND,2,FALSE))","v":""},0,{"$f":"IF(DM196=0,\"\",IF(DM196<39,24,VLOOKUP(DM196,AQT,2,FALSE)))","v":""},0,0,0,0,0,0,0,0,0,0,0,0,0,null,"","","","","","","","","","","","",null,{"$f":"IF(Programs!$D$310=\"\",\"\",Programs!$D$310)","v":""},"","","","","","","","","","","","","",null,"","","","","","","","","","","",""]
[null,{"$f":"Programs!B314","v":0},{"$f":"IF(Programs!$C$310=\"\",\"\",Programs!$C$310)","v":""},null,null,null,null,null,null,null,null,null,null,null,null,null,null,null,null,null,null,null,null,null,null,null,null,null,null,null,null,null,null,null,null,null,null,null,null,null,null,null,null,null,null,null,null,null,null,null,null,null,null,null,null,null,null,null,null,null,null,null,null,null,null,null,null,null,null,null,null,{"$f":"Programs!C314","v":0},0,"",0,"",{"$f":"SUM(F197,J197,O197,LOOKUP(V197,{0,1,2,3,4,5},{0,5,4,3,2,1}),Y197,AF197,AI197)","v":0},"",0,"",0,"",0,"",0,0,0,0,0,0,0,0,0,0,0,0,0,null,null,null,null,null,null,null,null,null,0,"",0,"",{"$f":"SUM(AN197,AR197,AW197,LOOKUP(BD197,{0,1,2,3,4,5},{0,5,4,3,2,1}),BG197,BN197,BQ197)","v":0},"",0,"",0,"",0,"",0,0,0,0,0,0,0,0,0,0,0,0,0,null,"","","","","","","","","","","","",null,{"$f":"IF(Programs!$D$310=\"\",\"\",Programs!$D$310)","v":""},"",{"$f":"IF($EQ197=\"\",\"\",IF(EC197<0,$EQ197,\"\"))","v":""},{"$f":"IF(ED197<0,$EQ197,\"\")","v":""},{"$f":"IF($EQ197=\"\",\"\",IF(EE197<0,$EQ197,\"\"))","v":""},{"$f":"IF(EF197<0,$EQ197,\"\")","v":""},{"$f":"IF($EQ197=\"\",\"\",IF(EG197<0,$EQ197,\"\"))","v":""},{"$f":"IF(EH197<0,$EQ197,\"\")","v":""},{"$f":"IF($EQ197=\"\",\"\",IF(EI197<0,$EQ197,\"\"))","v":""},{"$f":"IF(EJ197<0,$EQ197,\"\")","v":""},{"$f":"IF($EQ197=\"\",\"\",IF(EK197<0,$EQ197,\"\"))","v":""},{"$f":"IF(EL197<0,$EQ197,\"\")","v":""},{"$f":"IF($EQ197=\"\",\"\",IF(EM197<0,$EQ197,\"\"))","v":""},{"$f":"IF(EN197<0,$EQ197,\"\")","v":""},null,{"$f":"IF($EQ197=\"\",\"\",IF(EC197>0,$EQ197,\"\"))","v":""},{"$f":"IF(ED197>0,$EQ197,\"\")","v":""},{"$f":"IF($EQ197=\"\",\"\",IF(EE197>0,$EQ197,\"\"))","v":""},{"$f":"IF(EF197>0,$EQ197,\"\")","v":""},{"$f":"IF($EQ197=\"\",\"\",IF(EG197>0,$EQ197,\"\"))","v":""},{"$f":"IF(EH197>0,$EQ197,\"\")","v":""},{"$f":"IF($EQ197=\"\",\"\",IF(EI197>0,$EQ197,\"\"))","v":""},{"$f":"IF(EJ197>0,$EQ197,\"\")","v":""},{"$f":"IF($EQ197=\"\",\"\",IF(EK197>0,$EQ197,\"\"))","v":""},{"$f":"IF(EL197>0,$EQ197,\"\")","v":""},{"$f":"IF($EQ197=\"\",\"\",IF(EM197>0,$EQ197,\"\"))","v":""},{"$f":"IF(EN197>0,$EQ197,\"\")","v":""}]
[null,{"$f":"Programs!B315","v":0},{"$f":"IF(Programs!$C$310=\"\",\"\",Programs!$C$310)","v":""},null,null,null,null,null,null,null,null,null,null,null,null,null,null,null,null,null,null,null,null,null,null,null,null,null,null,null,null,null,null,null,null,null,null,null,null,null,null,null,null,null,null,null,null,null,null,null,null,null,null,null,null,null,null,null,null,null,null,null,null,null,null,null,null,null,null,null,null,{"$f":"Programs!C315","v":0},0,"",0,"",{"$f":"SUM(F198,J198,O198,LOOKUP(V198,{0,1,2,3,4,5},{0,5,4,3,2,1}),Y198,AF198,AI198)","v":0},"",0,"",0,"",0,"",0,0,0,0,0,0,0,0,0,0,0,0,0,null,null,null,null,null,null,null,null,null,0,"",0,"",{"$f":"SUM(AN198,AR198,AW198,LOOKUP(BD198,{0,1,2,3,4,5},{0,5,4,3,2,1}),BG198,BN198,BQ198)","v":0},"",0,"",0,"",0,"",0,0,0,0,0,0,0,0,0,0,0,0,0,null,"","","","","","","","","","","","",null,{"$f":"IF(Programs!$D$310=\"\",\"\",Programs!$D$310)","v":""},"","","","","","","","","","","","","",null,"","","","","","","","","","","",""]
[null,{"$f":"Programs!B316","v":0},{"$f":"IF(Programs!$C$310=\"\",\"\",Programs!$C$310)","v":""},null,null,null,null,null,null,null,null,null,null,null,null,null,null,null,null,null,null,null,null,null,null,null,null,null,null,null,null,null,null,null,null,null,null,null,null,null,null,null,null,null,null,null,null,null,null,null,null,null,null,null,null,null,null,null,null,null,null,null,null,null,null,null,null,null,null,null,null,{"$f":"Programs!C316","v":0},0,"",0,"",{"$f":"SUM(F199,J199,O199,LOOKUP(V199,{0,1,2,3,4,5},{0,5,4,3,2,1}),Y199,AF199,AI199)","v":0},"",0,"",0,"",0,"",0,0,0,0,0,0,0,0,0,0,0,0,0,null,null,null,null,null,null,null,null,null,0,"",0,"",{"$f":"SUM(AN199,AR199,AW199,LOOKUP(BD199,{0,1,2,3,4,5},{0,5,4,3,2,1}),BG199,BN199,BQ199)","v":0},"",0,"",0,"",0,"",0,0,0,0,0,0,0,0,0,0,0,0,0,null,"","","","","","","","","","","","",null,{"$f":"IF(Programs!$D$310=\"\",\"\",Programs!$D$310)","v":""},"","","","","","","","","","","","","",null,"","","","","","","","","","","",""]
[null,{"$f":"Programs!B317","v":0},{"$f":"IF(Programs!$C$310=\"\",\"\",Programs!$C$310)","v":""},null,null,null,null,null,null,null,null,null,null,null,null,null,null,null,null,null,null,null,null,null,null,null,null,null,null,null,null,null,null,null,null,null,null,null,null,null,null,null,null,null,null,null,null,null,null,null,null,null,null,null,null,null,null,null,null,null,null,null,null,null,null,null,null,null,null,null,null,{"$f":"Programs!C317","v":0},0,"",0,"",{"$f":"SUM(F200,J200,O200,LOOKUP(V200,{0,1,2,3,4,5},{0,5,4,3,2,1}),Y200,AF200,AI200)","v":0},"",0,"",0,"",0,"",0,0,0,0,0,0,0,0,0,0,0,0,0,null,null,null,null,null,null,null,null,null,0,"",0,"",{"$f":"SUM(AN200,AR200,AW200,LOOKUP(BD200,{0,1,2,3,4,5},{0,5,4,3,2,1}),BG200,BN200,BQ200)","v":0},"",0,"",0,"",0,"",0,0,0,0,0,0,0,0,0,0,0,0,0,null,"","","","","","","","","","","","",null,{"$f":"IF(Programs!$D$310=\"\",\"\",Programs!$D$310)","v":""},"","","","","","","","","","","","","",null,"","","","","","","","","","","",""]
[null,{"$f":"Programs!B318","v":0},{"$f":"IF(Programs!$C$310=\"\",\"\",Programs!$C$310)","v":""},null,null,null,null,null,null,null,null,null,null,null,null,null,null,null,null,null,null,null,null,null,null,null,null,null,null,null,null,null,null,null,null,null,null,null,null,null,null,null,null,null,null,null,null,null,null,null,null,null,null,null,null,null,null,null,null,null,null,null,null,null,null,null,null,null,null,null,null,{"$f":"Programs!C318","v":0},0,"",0,"",{"$f":"SUM(F201,J201,O201,LOOKUP(V201,{0,1,2,3,4,5},{0,5,4,3,2,1}),Y201,AF201,AI201)","v":0},"",0,"",0,"",0,"",0,0,0,0,0,0,0,0,0,0,0,0,0,null,null,null,null,null,null,null,null,null,0,"",0,"",{"$f":"SUM(AN201,AR201,AW201,LOOKUP(BD201,{0,1,2,3,4,5},{0,5,4,3,2,1}),BG201,BN201,BQ201)","v":0},"",0,"",0,"",0,"",0,0,0,0,0,0,0,0,0,0,0,0,0,null,"","","","","","","","","","","","",null,{"$f":"IF(Programs!$D$310=\"\",\"\",Programs!$D$310)","v":""},"","","","","","","","","","","","","",null,"","","","","","","","","","","",""]
[null,{"$f":"Programs!B319","v":0},{"$f":"IF(Programs!$C$310=\"\",\"\",Programs!$C$310)","v":""},null,null,null,null,null,null,null,null,null,null,null,null,null,null,null,null,null,null,null,null,null,null,null,null,null,null,null,null,null,null,null,null,null,null,null,null,null,null,null,null,null,null,null,null,null,null,null,null,null,null,null,null,null,null,null,null,null,null,null,null,null,null,null,null,null,null,null,null,{"$f":"Programs!C319","v":0},0,"",0,"",{"$f":"SUM(F202,J202,O202,LOOKUP(V202,{0,1,2,3,4,5},{0,5,4,3,2,1}),Y202,AF202,AI202)","v":0},"",0,"",0,"",0,"",0,0,0,0,0,0,0,0,0,0,0,0,0,null,null,null,null,null,null,null,null,null,0,"",0,"",{"$f":"SUM(AN202,AR202,AW202,LOOKUP(BD202,{0,1,2,3,4,5},{0,5,4,3,2,1}),BG202,BN202,BQ202)","v":0},"",0,"",0,"",0,"",0,0,0,0,0,0,0,0,0,0,0,0,0,null,"","","","","","","","","","","","",null,{"$f":"IF(Programs!$D$310=\"\",\"\",Programs!$D$310)","v":""},"","","","","","","","","","","","","",null,"","","","","","","","","","","",""]
[null,{"$f":"Programs!B320","v":0},{"$f":"IF(Programs!$C$310=\"\",\"\",Programs!$C$310)","v":""},null,null,null,null,null,null,null,null,null,null,null,null,null,null,null,null,null,null,null,null,null,null,null,null,null,null,null,null,null,null,null,null,null,null,null,null,null,null,null,null,null,null,null,null,null,null,null,null,null,null,null,null,null,null,null,null,null,null,null,null,null,null,null,null,null,null,null,null,{"$f":"Programs!C320","v":0},0,"",0,"",{"$f":"SUM(F203,J203,O203,LOOKUP(V203,{0,1,2,3,4,5},{0,5,4,3,2,1}),Y203,AF203,AI203)","v":0},"",0,"",0,"",0,"",0,0,0,0,0,0,0,0,0,0,0,0,0,null,null,null,null,null,null,null,null,null,0,"",0,"",{"$f":"SUM(AN203,AR203,AW203,LOOKUP(BD203,{0,1,2,3,4,5},{0,5,4,3,2,1}),BG203,BN203,BQ203)","v":0},"",0,"",0,"",0,"",0,0,0,0,0,0,0,0,0,0,0,0,0,null,"","","","","","","","","","","","",null,{"$f":"IF(Programs!$D$310=\"\",\"\",Programs!$D$310)","v":""},"","","","","","","","","","","","","",null,"","","","","","","","","","","",""]
[null,{"$f":"Programs!B321","v":0},{"$f":"IF(Programs!$C$310=\"\",\"\",Programs!$C$310)","v":""},null,null,null,null,null,null,null,null,null,null,null,null,null,null,null,null,null,null,null,null,null,null,null,null,null,null,null,null,null,null,null,null,null,null,null,null,null,null,null,null,null,null,null,null,null,null,null,null,null,null,null,null,null,null,null,null,null,null,null,null,null,null,null,null,null,null,null,null,{"$f":"Programs!C321","v":0},{"$f":"SUM(K204,M204,N204,T204,Z204,AA204,AB204,AD204)","v":0},{"$f":"IF(OR($BT204=0,BU204=0),\"\",(IF($BT204=\"Male\",(VLOOKUP(BU204,PHYMT,3,FALSE)),(VLOOKUP(BU204,PHFMT,2,FALSE)))))","v":""},{"$f":"SUM(D204,G204,I204,W204,AC204)","v":0},{"$f":"IF(BW204=0,\"\",VLOOKUP(BW204,VER,5,FALSE))","v":""},{"$f":"SUM(F204,J204,O204,LOOKUP(V204,{0,1,2,3,4,5},{0,5,4,3,2,1}),Y204,AF204,AI204)","v":0},{"$f":"IF(BY204=0,\"\",VLOOKUP(BY204,ANG,4,FALSE))","v":""},{"$f":"SUM(E204,H204,L204,S204,X204,AE204,AH204,AJ204)","v":0},{"$f":"IF(CA204=0,\"\",IF(CA204>38,81,VLOOKUP(CA204,HOS,3,FALSE)))","v":""},{"$f":"SUM(P204,Q204,R204,U204,AG204,AK204)","v":0},{"$f":"IF(CC204=0,\"\",VLOOKUP(CC204,IND,2,FALSE))","v":""},{"$f":"SUM(BU204,BW204,BY204,CA204,CC204)","v":0},{"$f":"IF(CE204=0,\"\",VLOOKUP(CE204,AQT,2,FALSE))","v":""},{"$f":"SUM(CH204:CS204)","v":0},{"$f":"IF(ABS(D204-Y204)>1,1,0)","v":0},{"$f":"IF(ABS(E204-H204)>1,1,0)","v":0},{"$f":"IF(ABS(G204-I204)>1,1,0)","v":0},{"$f":"IF(ABS(J204-AJ204)>1,1,0)","v":0},{"$f":"IF(ABS(K204-N204)>1,1,0)","v":0},{"$f":"IF(ABS(L204-AF204)>1,1,0)","v":0},{"$f":"IF(ABS(M204-P204)>1,1,0)","v":0},{"$f":"IF(ABS(O204-AI204)>1,1,0)","v":0},{"$f":"IF(ABS(Q204-T204)>1,1,0)","v":0},{"$f":"IF(ABS(X204-AH204)>1,1,0)","v":0},{"$f":"IF(ABS(Z204-AA204)>1,1,0)","v":0},{"$f":"IF(ABS(AB204-AD204)>1,1,0)","v":0},null,null,null,null,null,null,null,null,null,{"$f":"SUM(AS204,AU204,AV204,BB204,BH204,BI204,BJ204,BL204)","v":0},{"$f":"IF(OR($BT204=0,DC204=0),\"\",(IF($BT204=\"Male\",(VLOOKUP(DC204,PHYMT,3,FALSE)),(VLOOKUP(DC204,PHFMT,2,FALSE)))))","v":""},{"$f":"SUM(AL204,AO204,AQ204,BE204,BK204)","v":0},{"$f":"IF(DE204=0,\"\",VLOOKUP(DE204,VER,5,FALSE))","v":""},{"$f":"SUM(AN204,AR204,AW204,LOOKUP(BD204,{0,1,2,3,4,5},{0,5,4,3,2,1}),BG204,BN204,BQ204)","v":0},{"$f":"IF(DG204=0,\"\",VLOOKUP(DG204,ANG,4,FALSE))","v":""},{"$f":"SUM(AM204,AP204,AT204,BA204,BF204,BM204,BP204,BR204)","v":0},{"$f":"IF(DI204=0,\"\",VLOOKUP(DI204,HOS,3,FALSE))","v":""},{"$f":"SUM(AX204,AY204,AZ204,BC204,BO204,BS204)","v":0},{"$f":"IF(DK204=0,\"\",VLOOKUP(DK204,IND,2,FALSE))","v":""},{"$f":"SUM(DC204,DE204,DG204,DI204,DK204)","v":0},{"$f":"IF(DM204=0,\"\",IF(DM204<39,24,VLOOKUP(DM204,AQT,2,FALSE)))","v":""},{"$f":"SUM(DP204:EA204)","v":0},{"$f":"IF(ABS(AL204-BG204)>1,1,0)","v":0},{"$f":"IF(ABS(AM204-AP204)>1,1,0)","v":0},{"$f":"IF(ABS(AO204-AQ204)>1,1,0)","v":0},{"$f":"IF(ABS(AR204-BR204)>1,1,0)","v":0},{"$f":"IF(ABS(AS204-AV204)>1,1,0)","v":0},{"$f":"IF(ABS(AT204-BN204)>1,1,0)","v":0},{"$f":"IF(ABS(AU204-AX204)>1,1,0)","v":0},{"$f":"IF(ABS(AW204-BQ204)>1,1,0)","v":0},{"$f":"IF(ABS(AY204-BB204)>1,1,0)","v":0},{"$f":"IF(ABS(BF204-BP204)>1,1,0)","v":0},{"$f":"IF(ABS(BH204-BI204)>1,1,0)","v":0},{"$f":"IF(ABS(BJ204-BL204)>1,1,0)","v":0},null,{"$f":"IF(EQ204<>\"\",(DC204/8)-(BU204/8),\"\")","v":""},{"$f":"IF(EQ204<>\"\",IF(BT204=0,\"\",DD204-BV204),\"\")","v":""},{"$f":"IF(EQ204<>\"\",(DE204/5)-(BW204/5),\"\")","v":""},{"$f":"IF(EQ204<>\"\",DF204-BX204,\"\")","v":""},{"$f":"IF(EQ204<>\"\",(DG204/7)-(BY204/7),\"\")","v":""},{"$f":"IF(EQ204<>\"\",DH204-BZ204,\"\")","v":""},{"$f":"IF(EQ204<>\"\",(DI204/8)-(CA204/8),\"\")","v":""},{"$f":"IF(EQ204<>\"\",DJ204-CB204,\"\")","v":""},{"$f":"IF(EQ204<>\"\",(DK204/6)-(CC204/6),\"\")","v":""},{"$f":"IF(EQ204<>\"\",DL204-CD204,\"\")","v":""},{"$f":"IF(EQ204<>\"\",(DM204/34)-(CE204/34),\"\")","v":""},{"$f":"IF(EQ204<>\"\",DN204-CF204,\"\")","v":""},null,{"$f":"IF(Programs!$D$310=\"\",\"\",Programs!$D$310)","v":""},{"$f":"IF(AND(COUNT(D204:AK204)>30,COUNT(AL204:BS204)>30),EP204,\"\")","v":""},"","","","","","","","","","","","",null,"","","","","","","","","","","",""]
[null,{"$f":"Programs!B322","v":0},{"$f":"IF(Programs!$C$310=\"\",\"\",Programs!$C$310)","v":""},null,null,null,null,null,null,null,null,null,null,null,null,null,null,null,null,null,null,null,null,null,null,null,null,null,null,null,null,null,null,null,null,null,null,null,null,null,null,null,null,null,null,null,null,null,null,null,null,null,null,null,null,null,null,null,null,null,null,null,null,null,null,null,null,null,null,null,null,{"$f":"Programs!C322","v":0},0,"",0,"",{"$f":"SUM(F205,J205,O205,LOOKUP(V205,{0,1,2,3,4,5},{0,5,4,3,2,1}),Y205,AF205,AI205)","v":0},"",0,"",0,"",0,"",0,0,0,0,0,0,0,0,0,0,0,0,0,null,null,null,null,null,null,null,null,null,0,"",0,"",{"$f":"SUM(AN205,AR205,AW205,LOOKUP(BD205,{0,1,2,3,4,5},{0,5,4,3,2,1}),BG205,BN205,BQ205)","v":0},"",0,"",0,"",0,"",0,0,0,0,0,0,0,0,0,0,0,0,0,null,"","","","","","","","","","","","",null,{"$f":"IF(Programs!$D$310=\"\",\"\",Programs!$D$310)","v":""},"","","","","","","","","","","","","",null,"","","","","","","","","","","",""]
[null,{"$f":"Programs!B323","v":0},{"$f":"IF(Programs!$C$310=\"\",\"\",Programs!$C$310)","v":""},null,null,null,null,null,null,null,null,null,null,null,null,null,null,null,null,null,null,null,null,null,null,null,null,null,null,null,null,null,null,null,null,null,null,null,null,null,null,null,null,null,null,null,null,null,null,null,null,null,null,null,null,null,null,null,null,null,null,null,null,null,null,null,null,null,null,null,null,{"$f":"Programs!C323","v":0},0,"",0,"",{"$f":"SUM(F206,J206,O206,LOOKUP(V206,{0,1,2,3,4,5},{0,5,4,3,2,1}),Y206,AF206,AI206)","v":0},"",0,"",0,"",0,"",0,0,0,0,0,0,0,0,0,0,0,0,0,null,null,null,null,null,null,null,null,null,0,"",0,"",{"$f":"SUM(AN206,AR206,AW206,LOOKUP(BD206,{0,1,2,3,4,5},{0,5,4,3,2,1}),BG206,BN206,BQ206)","v":0},"",0,"",0,"",0,"",0,0,0,0,0,0,0,0,0,0,0,0,0,null,"","","","","","","","","","","","",null,{"$f":"IF(Programs!$D$310=\"\",\"\",Programs!$D$310)","v":""},"","","","","","","","","","","","","",null,"","","","","","","","","","","",""]
[null,{"$f":"Programs!B324","v":0},{"$f":"IF(Programs!$C$310=\"\",\"\",Programs!$C$310)","v":""},null,null,null,null,null,null,null,null,null,null,null,null,null,null,null,null,null,null,null,null,null,null,null,null,null,null,null,null,null,null,null,null,null,null,null,null,null,null,null,null,null,null,null,null,null,null,null,null,null,null,null,null,null,null,null,null,null,null,null,null,null,null,null,null,null,null,null,null,{"$f":"Programs!C324","v":0},0,"",0,"",{"$f":"SUM(F207,J207,O207,LOOKUP(V207,{0,1,2,3,4,5},{0,5,4,3,2,1}),Y207,AF207,AI207)","v":0},"",0,"",0,"",0,"",0,0,0,0,0,0,0,0,0,0,0,0,0,null,null,null,null,null,null,null,null,null,0,"",0,"",{"$f":"SUM(AN207,AR207,AW207,LOOKUP(BD207,{0,1,2,3,4,5},{0,5,4,3,2,1}),BG207,BN207,BQ207)","v":0},"",0,"",0,"",0,"",0,0,0,0,0,0,0,0,0,0,0,0,0,null,"","","","","","","","","","","","",null,{"$f":"IF(Programs!$D$310=\"\",\"\",Programs!$D$310)","v":""},"","","","","","","","","","","","","",null,"","","","","","","","","","","",""]
["Program 18",{"$f":"Programs!B332","v":0},{"$f":"IF(Programs!$C$329=\"\",\"\",Programs!$C$329)","v":""},null,null,null,null,null,null,null,null,null,null,null,null,null,null,null,null,null,null,null,null,null,null,null,null,null,null,null,null,null,null,null,null,null,null,null,null,null,null,null,null,null,null,null,null,null,null,null,null,null,null,null,null,null,null,null,null,null,null,null,null,null,null,null,null,null,null,null,null,{"$f":"Programs!C332","v":0},0,"",0,"",{"$f":"SUM(F208,J208,O208,LOOKUP(V208,{0,1,2,3,4,5},{0,5,4,3,2,1}),Y208,AF208,AI208)","v":0},"",0,"",0,"",0,"",0,0,0,0,0,0,0,0,0,0,0,0,0,null,null,null,null,null,null,null,null,null,0,"",0,"",{"$f":"SUM(AN208,AR208,AW208,LOOKUP(BD208,{0,1,2,3,4,5},{0,5,4,3,2,1}),BG208,BN208,BQ208)","v":0},"",0,"",0,"",0,"",0,0,0,0,0,0,0,0,0,0,0,0,0,null,"","","","","","","","","","","","",null,{"$f":"IF(Programs!$D$329=\"\",\"\",Programs!$D$329)","v":""},"","","","","","","","","","","","","",null,"","","","","","","","","","","",""]
[null,{"$f":"Programs!B333","v":0},{"$f":"IF(Programs!$C$329=\"\",\"\",Programs!$C$329)","v":""},null,null,null,null,null,null,null,null,null,null,null,null,null,null,null,null,null,null,null,null,null,null,null,null,null,null,null,null,null,null,null,null,null,null,null,null,null,null,null,null,null,null,null,null,null,null,null,null,null,null,null,null,null,null,null,null,null,null,null,null,null,null,null,null,null,null,null,null,{"$f":"Programs!C333","v":0},0,"",0,"",{"$f":"SUM(F209,J209,O209,LOOKUP(V209,{0,1,2,3,4,5},{0,5,4,3,2,1}),Y209,AF209,AI209)","v":0},"",0,"",0,"",0,"",0,0,0,0,0,0,0,0,0,0,0,0,0,null,null,null,null,null,null,null,null,null,0,"",0,"",{"$f":"SUM(AN209,AR209,AW209,LOOKUP(BD209,{0,1,2,3,4,5},{0,5,4,3,2,1}),BG209,BN209,BQ209)","v":0},"",0,"",0,"",0,"",0,0,0,0,0,0,0,0,0,0,0,0,0,null,"","","","","","","","","","","","",null,{"$f":"IF(Programs!$D$329=\"\",\"\",Programs!$D$329)","v":""},"","","","","","","","","","","","","",null,"","","","","","","","","","","",""]
[null,{"$f":"Programs!B334","v":0},{"$f":"IF(Programs!$C$329=\"\",\"\",Programs!$C$329)","v":""},null,null,null,null,null,null,null,null,null,null,null,null,null,null,null,null,null,null,null,null,null,null,null,null,null,null,null,null,null,null,null,null,null,null,null,null,null,null,null,null,null,null,null,null,null,null,null,null,null,null,null,null,null,null,null,null,null,null,null,null,null,null,null,null,null,null,null,null,{"$f":"Programs!C334","v":0},0,"",0,"",{"$f":"SUM(F210,J210,O210,LOOKUP(V210,{0,1,2,3,4,5},{0,5,4,3,2,1}),Y210,AF210,AI210)","v":0},"",0,"",0,"",0,"",0,0,0,0,0,0,0,0,0,0,0,0,0,null,null,null,null,null,null,null,null,null,0,"",0,"",{"$f":"SUM(AN210,AR210,AW210,LOOKUP(BD210,{0,1,2,3,4,5},{0,5,4,3,2,1}),BG210,BN210,BQ210)","v":0},"",0,"",0,"",0,"",0,0,0,0,0,0,0,0,0,0,0,0,0,null,"","","","","","","","","","","","",null,{"$f":"IF(Programs!$D$329=\"\",\"\",Programs!$D$329)","v":""},"","","","","","","","","","","","","",null,"","","","","","","","","","","",""]
[null,{"$f":"Programs!B335","v":0},{"$f":"IF(Programs!$C$329=\"\",\"\",Programs!$C$329)","v":""},null,null,null,null,null,null,null,null,null,null,null,null,null,null,null,null,null,null,null,null,null,null,null,null,null,null,null,null,null,null,null,null,null,null,null,null,null,null,null,null,null,null,null,null,null,null,null,null,null,null,null,null,null,null,null,null,null,null,null,null,null,null,null,null,null,null,null,null,{"$f":"Programs!C335","v":0},0,"",0,"",{"$f":"SUM(F211,J211,O211,LOOKUP(V211,{0,1,2,3,4,5},{0,5,4,3,2,1}),Y211,AF211,AI211)","v":0},"",0,"",0,"",0,"",0,0,0,0,0,0,0,0,0,0,0,0,0,null,null,null,null,null,null,null,null,null,0,"",0,"",{"$f":"SUM(AN211,AR211,AW211,LOOKUP(BD211,{0,1,2,3,4,5},{0,5,4,3,2,1}),BG211,BN211,BQ211)","v":0},"",0,"",0,"",0,"",0,0,0,0,0,0,0,0,0,0,0,0,0,null,"","","","","","","","","","","","",null,{"$f":"IF(Programs!$D$329=\"\",\"\",Programs!$D$329)","v":""},"","","","","","","","","","","","","",null,"","","","","","","","","","","",""]
[null,{"$f":"Programs!B336","v":0},{"$f":"IF(Programs!$C$329=\"\",\"\",Programs!$C$329)","v":""},null,null,null,null,null,null,null,null,null,null,null,null,null,null,null,null,null,null,null,null,null,null,null,null,null,null,null,null,null,null,null,null,null,null,null,null,null,null,null,null,null,null,null,null,null,null,null,null,null,null,null,null,null,null,null,null,null,null,null,null,null,null,null,null,null,null,null,null,{"$f":"Programs!C336","v":0},0,"",0,"",{"$f":"SUM(F212,J212,O212,LOOKUP(V212,{0,1,2,3,4,5},{0,5,4,3,2,1}),Y212,AF212,AI212)","v":0},"",0,"",0,"",0,"",0,0,0,0,0,0,0,0,0,0,0,0,0,null,null,null,null,null,null,null,null,null,0,"",0,"",{"$f":"SUM(AN212,AR212,AW212,LOOKUP(BD212,{0,1,2,3,4,5},{0,5,4,3,2,1}),BG212,BN212,BQ212)","v":0},"",0,"",0,"",0,"",0,0,0,0,0,0,0,0,0,0,0,0,0,null,"","","","","","","","","","","","",null,{"$f":"IF(Programs!$D$329=\"\",\"\",Programs!$D$329)","v":""},"","","","","","","","","","","","","",null,"","","","","","","","","","","",""]
[null,{"$f":"Programs!B337","v":0},{"$f":"IF(Programs!$C$329=\"\",\"\",Programs!$C$329)","v":""},null,null,null,null,null,null,null,null,null,null,null,null,null,null,null,null,null,null,null,null,null,null,null,null,null,null,null,null,null,null,null,null,null,null,null,null,null,null,null,null,null,null,null,null,null,null,null,null,null,null,null,null,null,null,null,null,null,null,null,null,null,null,null,null,null,null,null,null,{"$f":"Programs!C337","v":0},0,"",0,"",{"$f":"SUM(F213,J213,O213,LOOKUP(V213,{0,1,2,3,4,5},{0,5,4,3,2,1}),Y213,AF213,AI213)","v":0},"",0,"",0,"",0,"",0,0,0,0,0,0,0,0,0,0,0,0,0,null,null,null,null,null,null,null,null,null,0,"",0,"",{"$f":"SUM(AN213,AR213,AW213,LOOKUP(BD213,{0,1,2,3,4,5},{0,5,4,3,2,1}),BG213,BN213,BQ213)","v":0},"",0,"",0,"",0,"",0,0,0,0,0,0,0,0,0,0,0,0,0,null,"","","","","","","","","","","","",null,{"$f":"IF(Programs!$D$329=\"\",\"\",Programs!$D$329)","v":""},"","","","","","","","","","","","","",null,"","","","","","","","","","","",""]
[null,{"$f":"Programs!B338","v":0},{"$f":"IF(Programs!$C$329=\"\",\"\",Programs!$C$329)","v":""},null,null,null,null,null,null,null,null,null,null,null,null,null,null,null,null,null,null,null,null,null,null,null,null,null,null,null,null,null,null,null,null,null,null,null,null,null,null,null,null,null,null,null,null,null,null,null,null,null,null,null,null,null,null,null,null,null,null,null,null,null,null,null,null,null,null,null,null,{"$f":"Programs!C338","v":0},0,"",0,"",{"$f":"SUM(F214,J214,O214,LOOKUP(V214,{0,1,2,3,4,5},{0,5,4,3,2,1}),Y214,AF214,AI214)","v":0},"",0,"",0,"",0,"",0,0,0,0,0,0,0,0,0,0,0,0,0,null,null,null,null,null,null,null,null,null,0,"",0,"",{"$f":"SUM(AN214,AR214,AW214,LOOKUP(BD214,{0,1,2,3,4,5},{0,5,4,3,2,1}),BG214,BN214,BQ214)","v":0},"",0,"",0,"",0,"",0,0,0,0,0,0,0,0,0,0,0,0,0,null,"","","","","","","","","","","","",null,{"$f":"IF(Programs!$D$329=\"\",\"\",Programs!$D$329)","v":""},"","","","","","","","","","","","","",null,"","","","","","","","","","","",""]
[null,{"$f":"Programs!B339","v":0},{"$f":"IF(Programs!$C$329=\"\",\"\",Programs!$C$329)","v":""},null,null,null,null,null,null,null,null,null,null,null,null,null,null,null,null,null,null,null,null,null,null,null,null,null,null,null,null,null,null,null,null,null,null,null,null,null,null,null,null,null,null,null,null,null,null,null,null,null,null,null,null,null,null,null,null,null,null,null,null,null,null,null,null,null,null,null,null,{"$f":"Programs!C339","v":0},0,"",0,"",{"$f":"SUM(F215,J215,O215,LOOKUP(V215,{0,1,2,3,4,5},{0,5,4,3,2,1}),Y215,AF215,AI215)","v":0},"",0,"",0,"",0,"",0,0,0,0,0,0,0,0,0,0,0,0,0,null,null,null,null,null,null,null,null,null,0,"",0,"",{"$f":"SUM(AN215,AR215,AW215,LOOKUP(BD215,{0,1,2,3,4,5},{0,5,4,3,2,1}),BG215,BN215,BQ215)","v":0},"",0,"",0,"",0,"",0,0,0,0,0,0,0,0,0,0,0,0,0,null,"","","","","","","","","","","","",null,{"$f":"IF(Programs!$D$329=\"\",\"\",Programs!$D$329)","v":""},"","","","","","","","","","","","","",null,"","","","","","","","","","","",""]
[null,{"$f":"Programs!B340","v":0},{"$f":"IF(Programs!$C$329=\"\",\"\",Programs!$C$329)","v":""},null,null,null,null,null,null,null,null,null,null,null,null,null,null,null,null,null,null,null,null,null,null,null,null,null,null,null,null,null,null,null,null,null,null,null,null,null,null,null,null,null,null,null,null,null,null,null,null,null,null,null,null,null,null,null,null,null,null,null,null,null,null,null,null,null,null,null,null,{"$f":"Programs!C340","v":0},{"$f":"SUM(K216,M216,N216,T216,Z216,AA216,AB216,AD216)","v":0},{"$f":"IF(OR($BT216=0,BU216=0),\"\",(IF($BT216=\"Male\",(VLOOKUP(BU216,PHYMT,3,FALSE)),(VLOOKUP(BU216,PHFMT,2,FALSE)))))","v":""},{"$f":"SUM(D216,G216,I216,W216,AC216)","v":0},{"$f":"IF(BW216=0,\"\",VLOOKUP(BW216,VER,5,FALSE))","v":""},{"$f":"SUM(F216,J216,O216,LOOKUP(V216,{0,1,2,3,4,5},{0,5,4,3,2,1}),Y216,AF216,AI216)","v":0},{"$f":"IF(BY216=0,\"\",VLOOKUP(BY216,ANG,4,FALSE))","v":""},{"$f":"SUM(E216,H216,L216,S216,X216,AE216,AH216,AJ216)","v":0},{"$f":"IF(CA216=0,\"\",IF(CA216>38,81,VLOOKUP(CA216,HOS,3,FALSE)))","v":""},{"$f":"SUM(P216,Q216,R216,U216,AG216,AK216)","v":0},{"$f":"IF(CC216=0,\"\",VLOOKUP(CC216,IND,2,FALSE))","v":""},{"$f":"SUM(BU216,BW216,BY216,CA216,CC216)","v":0},{"$f":"IF(CE216=0,\"\",VLOOKUP(CE216,AQT,2,FALSE))","v":""},{"$f":"SUM(CH216:CS216)","v":0},{"$f":"IF(ABS(D216-Y216)>1,1,0)","v":0},{"$f":"IF(ABS(E216-H216)>1,1,0)","v":0},{"$f":"IF(ABS(G216-I216)>1,1,0)","v":0},{"$f":"IF(ABS(J216-AJ216)>1,1,0)","v":0},{"$f":"IF(ABS(K216-N216)>1,1,0)","v":0},{"$f":"IF(ABS(L216-AF216)>1,1,0)","v":0},{"$f":"IF(ABS(M216-P216)>1,1,0)","v":0},{"$f":"IF(ABS(O216-AI216)>1,1,0)","v":0},{"$f":"IF(ABS(Q216-T216)>1,1,0)","v":0},{"$f":"IF(ABS(X216-AH216)>1,1,0)","v":0},{"$f":"IF(ABS(Z216-AA216)>1,1,0)","v":0},{"$f":"IF(ABS(AB216-AD216)>1,1,0)","v":0},null,null,null,null,null,null,null,null,null,{"$f":"SUM(AS216,AU216,AV216,BB216,BH216,BI216,BJ216,BL216)","v":0},{"$f":"IF(OR($BT216=0,DC216=0),\"\",(IF($BT216=\"Male\",(VLOOKUP(DC216,PHYMT,3,FALSE)),(VLOOKUP(DC216,PHFMT,2,FALSE)))))","v":""},{"$f":"SUM(AL216,AO216,AQ216,BE216,BK216)","v":0},{"$f":"IF(DE216=0,\"\",VLOOKUP(DE216,VER,5,FALSE))","v":""},{"$f":"SUM(AN216,AR216,AW216,LOOKUP(BD216,{0,1,2,3,4,5},{0,5,4,3,2,1}),BG216,BN216,BQ216)","v":0},{"$f":"IF(DG216=0,\"\",VLOOKUP(DG216,ANG,4,FALSE))","v":""},{"$f":"SUM(AM216,AP216,AT216,BA216,BF216,BM216,BP216,BR216)","v":0},{"$f":"IF(DI216=0,\"\",VLOOKUP(DI216,HOS,3,FALSE))","v":""},{"$f":"SUM(AX216,AY216,AZ216,BC216,BO216,BS216)","v":0},{"$f":"IF(DK216=0,\"\",VLOOKUP(DK216,IND,2,FALSE))","v":""},{"$f":"SUM(DC216,DE216,DG216,DI216,DK216)","v":0},{"$f":"IF(DM216=0,\"\",IF(DM216<39,24,VLOOKUP(DM216,AQT,2,FALSE)))","v":""},{"$f":"SUM(DP216:EA216)","v":0},{"$f":"IF(ABS(AL216-BG216)>1,1,0)","v":0},{"$f":"IF(ABS(AM216-AP216)>1,1,0)","v":0},{"$f":"IF(ABS(AO216-AQ216)>1,1,0)","v":0},{"$f":"IF(ABS(AR216-BR216)>1,1,0)","v":0},{"$f":"IF(ABS(AS216-AV216)>1,1,0)","v":0},{"$f":"IF(ABS(AT216-BN216)>1,1,0)","v":0},{"$f":"IF(ABS(AU216-AX216)>1,1,0)","v":0},{"$f":"IF(ABS(AW216-BQ216)>1,1,0)","v":0},{"$f":"IF(ABS(AY216-BB216)>1,1,0)","v":0},{"$f":"IF(ABS(BF216-BP216)>1,1,0)","v":0},{"$f":"IF(ABS(BH216-BI216)>1,1,0)","v":0},{"$f":"IF(ABS(BJ216-BL216)>1,1,0)","v":0},null,{"$f":"IF(EQ216<>\"\",(DC216/8)-(BU216/8),\"\")","v":""},{"$f":"IF(EQ216<>\"\",IF(BT216=0,\"\",DD216-BV216),\"\")","v":""},{"$f":"IF(EQ216<>\"\",(DE216/5)-(BW216/5),\"\")","v":""},{"$f":"IF(EQ216<>\"\",DF216-BX216,\"\")","v":""},{"$f":"IF(EQ216<>\"\",(DG216/7)-(BY216/7),\"\")","v":""},{"$f":"IF(EQ216<>\"\",DH216-BZ216,\"\")","v":""},{"$f":"IF(EQ216<>\"\",(DI216/8)-(CA216/8),\"\")","v":""},{"$f":"IF(EQ216<>\"\",DJ216-CB216,\"\")","v":""},{"$f":"IF(EQ216<>\"\",(DK216/6)-(CC216/6),\"\")","v":""},{"$f":"IF(EQ216<>\"\",DL216-CD216,\"\")","v":""},{"$f":"IF(EQ216<>\"\",(DM216/34)-(CE216/34),\"\")","v":""},{"$f":"IF(EQ216<>\"\",DN216-CF216,\"\")","v":""},null,{"$f":"IF(Programs!$D$329=\"\",\"\",Programs!$D$329)","v":""},{"$f":"IF(AND(COUNT(D216:AK216)>30,COUNT(AL216:BS216)>30),EP216,\"\")","v":""},"","","","","","","","","","","","",null,"","","","","","","","","","","",""]
[null,{"$f":"Programs!B341","v":0},{"$f":"IF(Programs!$C$329=\"\",\"\",Programs!$C$329)","v":""},null,null,null,null,null,null,null,null,null,null,null,null,null,null,null,null,null,null,null,null,null,null,null,null,null,null,null,null,null,null,null,null,null,null,null,null,null,null,null,null,null,null,null,null,null,null,null,null,null,null,null,null,null,null,null,null,null,null,null,null,null,null,null,null,null,null,null,null,{"$f":"Programs!C341","v":0},0,"",0,"",{"$f":"SUM(F217,J217,O217,LOOKUP(V217,{0,1,2,3,4,5},{0,5,4,3,2,1}),Y217,AF217,AI217)","v":0},"",0,"",0,"",0,"",0,0,0,0,0,0,0,0,0,0,0,0,0,null,null,null,null,null,null,null,null,null,0,"",0,"",{"$f":"SUM(AN217,AR217,AW217,LOOKUP(BD217,{0,1,2,3,4,5},{0,5,4,3,2,1}),BG217,BN217,BQ217)","v":0},"",0,"",0,"",0,"",0,0,0,0,0,0,0,0,0,0,0,0,0,null,"","","","","","","","","","","","",null,{"$f":"IF(Programs!$D$329=\"\",\"\",Programs!$D$329)","v":""},"","","","","","","","","","","","","",null,"","","","","","","","","","","",""]
[null,{"$f":"Programs!B342","v":0},{"$f":"IF(Programs!$C$329=\"\",\"\",Programs!$C$329)","v":""},null,null,null,null,null,null,null,null,null,null,null,null,null,null,null,null,null,null,null,null,null,null,null,null,null,null,null,null,null,null,null,null,null,null,null,null,null,null,null,null,null,null,null,null,null,null,null,null,null,null,null,null,null,null,null,null,null,null,null,null,null,null,null,null,null,null,null,null,{"$f":"Programs!C342","v":0},0,"",0,"",{"$f":"SUM(F218,J218,O218,LOOKUP(V218,{0,1,2,3,4,5},{0,5,4,3,2,1}),Y218,AF218,AI218)","v":0},"",0,"",0,"",0,"",0,0,0,0,0,0,0,0,0,0,0,0,0,null,null,null,null,null,null,null,null,null,0,"",0,"",{"$f":"SUM(AN218,AR218,AW218,LOOKUP(BD218,{0,1,2,3,4,5},{0,5,4,3,2,1}),BG218,BN218,BQ218)","v":0},"",0,"",0,"",0,"",0,0,0,0,0,0,0,0,0,0,0,0,0,null,"","","","","","","","","","","","",null,{"$f":"IF(Programs!$D$329=\"\",\"\",Programs!$D$329)","v":""},"","","","","","","","","","","","","",null,"","","","","","","","","","","",""]
[null,{"$f":"Programs!B343","v":0},{"$f":"IF(Programs!$C$329=\"\",\"\",Programs!$C$329)","v":""},null,null,null,null,null,null,null,null,null,null,null,null,null,null,null,null,null,null,null,null,null,null,null,null,null,null,null,null,null,null,null,null,null,null,null,null,null,null,null,null,null,null,null,null,null,null,null,null,null,null,null,null,null,null,null,null,null,null,null,null,null,null,null,null,null,null,null,null,{"$f":"Programs!C343","v":0},0,"",0,"",{"$f":"SUM(F219,J219,O219,LOOKUP(V219,{0,1,2,3,4,5},{0,5,4,3,2,1}),Y219,AF219,AI219)","v":0},"",0,"",0,"",0,"",0,0,0,0,0,0,0,0,0,0,0,0,0,null,null,null,null,null,null,null,null,null,0,"",0,"",{"$f":"SUM(AN219,AR219,AW219,LOOKUP(BD219,{0,1,2,3,4,5},{0,5,4,3,2,1}),BG219,BN219,BQ219)","v":0},"",0,"",0,"",0,"",0,0,0,0,0,0,0,0,0,0,0,0,0,null,"","","","","","","","","","","","",null,{"$f":"IF(Programs!$D$329=\"\",\"\",Programs!$D$329)","v":""},"","","","","","","","","","","","","",null,"","","","","","","","","","","",""]
["Program 19",{"$f":"Programs!B351","v":0},{"$f":"IF(Programs!$C$348=\"\",\"\",Programs!$C$348)","v":""},null,null,null,null,null,null,null,null,null,null,null,null,null,null,null,null,null,null,null,null,null,null,null,null,null,null,null,null,null,null,null,null,null,null,null,null,null,null,null,null,null,null,null,null,null,null,null,null,null,null,null,null,null,null,null,null,null,null,null,null,null,null,null,null,null,null,null,null,{"$f":"Programs!C351","v":0},0,"",0,"",{"$f":"SUM(F220,J220,O220,LOOKUP(V220,{0,1,2,3,4,5},{0,5,4,3,2,1}),Y220,AF220,AI220)","v":0},"",0,"",0,"",0,"",0,0,0,0,0,0,0,0,0,0,0,0,0,null,null,null,null,null,null,null,null,null,0,"",0,"",{"$f":"SUM(AN220,AR220,AW220,LOOKUP(BD220,{0,1,2,3,4,5},{0,5,4,3,2,1}),BG220,BN220,BQ220)","v":0},"",0,"",0,"",0,"",0,0,0,0,0,0,0,0,0,0,0,0,0,null,"","","","","","","","","","","","",null,{"$f":"IF(Programs!$D$348=\"\",\"\",Programs!$D$348)","v":""},"","","","","","","","","","","","","",null,"","","","","","","","","","","",""]
[null,{"$f":"Programs!B352","v":0},{"$f":"IF(Programs!$C$348=\"\",\"\",Programs!$C$348)","v":""},null,null,null,null,null,null,null,null,null,null,null,null,null,null,null,null,null,null,null,null,null,null,null,null,null,null,null,null,null,null,null,null,null,null,null,null,null,null,null,null,null,null,null,null,null,null,null,null,null,null,null,null,null,null,null,null,null,null,null,null,null,null,null,null,null,null,null,null,{"$f":"Programs!C352","v":0},0,"",0,"",{"$f":"SUM(F221,J221,O221,LOOKUP(V221,{0,1,2,3,4,5},{0,5,4,3,2,1}),Y221,AF221,AI221)","v":0},"",0,"",0,"",0,"",0,0,0,0,0,0,0,0,0,0,0,0,0,null,null,null,null,null,null,null,null,null,0,"",0,"",{"$f":"SUM(AN221,AR221,AW221,LOOKUP(BD221,{0,1,2,3,4,5},{0,5,4,3,2,1}),BG221,BN221,BQ221)","v":0},"",0,"",0,"",0,"",0,0,0,0,0,0,0,0,0,0,0,0,0,null,"","","","","","","","","","","","",null,{"$f":"IF(Programs!$D$348=\"\",\"\",Programs!$D$348)","v":""},"","","","","","","","","","","","","",null,"","","","","","","","","","","",""]
[null,{"$f":"Programs!B353","v":0},{"$f":"IF(Programs!$C$348=\"\",\"\",Programs!$C$348)","v":""},null,null,null,null,null,null,null,null,null,null,null,null,null,null,null,null,null,null,null,null,null,null,null,null,null,null,null,null,null,null,null,null,null,null,null,null,null,null,null,null,null,null,null,null,null,null,null,null,null,null,null,null,null,null,null,null,null,null,null,null,null,null,null,null,null,null,null,null,{"$f":"Programs!C353","v":0},0,"",0,"",{"$f":"SUM(F222,J222,O222,LOOKUP(V222,{0,1,2,3,4,5},{0,5,4,3,2,1}),Y222,AF222,AI222)","v":0},"",0,"",0,"",0,"",0,0,0,0,0,0,0,0,0,0,0,0,0,null,null,null,null,null,null,null,null,null,0,"",0,"",{"$f":"SUM(AN222,AR222,AW222,LOOKUP(BD222,{0,1,2,3,4,5},{0,5,4,3,2,1}),BG222,BN222,BQ222)","v":0},"",0,"",0,"",0,"",0,0,0,0,0,0,0,0,0,0,0,0,0,null,"","","","","","","","","","","","",null,{"$f":"IF(Programs!$D$348=\"\",\"\",Programs!$D$348)","v":""},"","","","","","","","","","","","","",null,"","","","","","","","","","","",""]
[null,{"$f":"Programs!B354","v":0},{"$f":"IF(Programs!$C$348=\"\",\"\",Programs!$C$348)","v":""},null,null,null,null,null,null,null,null,null,null,null,null,null,null,null,null,null,null,null,null,null,null,null,null,null,null,null,null,null,null,null,null,null,null,null,null,null,null,null,null,null,null,null,null,null,null,null,null,null,null,null,null,null,null,null,null,null,null,null,null,null,null,null,null,null,null,null,null,{"$f":"Programs!C354","v":0},0,"",0,"",{"$f":"SUM(F223,J223,O223,LOOKUP(V223,{0,1,2,3,4,5},{0,5,4,3,2,1}),Y223,AF223,AI223)","v":0},"",0,"",0,"",0,"",0,0,0,0,0,0,0,0,0,0,0,0,0,null,null,null,null,null,null,null,null,null,0,"",0,"",{"$f":"SUM(AN223,AR223,AW223,LOOKUP(BD223,{0,1,2,3,4,5},{0,5,4,3,2,1}),BG223,BN223,BQ223)","v":0},"",0,"",0,"",0,"",0,0,0,0,0,0,0,0,0,0,0,0,0,null,"","","","","","","","","","","","",null,{"$f":"IF(Programs!$D$348=\"\",\"\",Programs!$D$348)","v":""},"","","","","","","","","","","","","",null,"","","","","","","","","","","",""]
[null,{"$f":"Programs!B355","v":0},{"$f":"IF(Programs!$C$348=\"\",\"\",Programs!$C$348)","v":""},null,null,null,null,null,null,null,null,null,null,null,null,null,null,null,null,null,null,null,null,null,null,null,null,null,null,null,null,null,null,null,null,null,null,null,null,null,null,null,null,null,null,null,null,null,null,null,null,null,null,null,null,null,null,null,null,null,null,null,null,null,null,null,null,null,null,null,null,{"$f":"Programs!C355","v":0},0,"",0,"",{"$f":"SUM(F224,J224,O224,LOOKUP(V224,{0,1,2,3,4,5},{0,5,4,3,2,1}),Y224,AF224,AI224)","v":0},"",0,"",0,"",0,"",0,0,0,0,0,0,0,0,0,0,0,0,0,null,null,null,null,null,null,null,null,null,0,"",0,"",{"$f":"SUM(AN224,AR224,AW224,LOOKUP(BD224,{0,1,2,3,4,5},{0,5,4,3,2,1}),BG224,BN224,BQ224)","v":0},"",0,"",0,"",0,"",0,0,0,0,0,0,0,0,0,0,0,0,0,null,"","","","","","","","","","","","",null,{"$f":"IF(Programs!$D$348=\"\",\"\",Programs!$D$348)","v":""},"","","","","","","","","","","","","",null,"","","","","","","","","","","",""]
[null,{"$f":"Programs!B356","v":0},{"$f":"IF(Programs!$C$348=\"\",\"\",Programs!$C$348)","v":""},null,null,null,null,null,null,null,null,null,null,null,null,null,null,null,null,null,null,null,null,null,null,null,null,null,null,null,null,null,null,null,null,null,null,null,null,null,null,null,null,null,null,null,null,null,null,null,null,null,null,null,null,null,null,null,null,null,null,null,null,null,null,null,null,null,null,null,null,{"$f":"Programs!C356","v":0},0,"",0,"",{"$f":"SUM(F225,J225,O225,LOOKUP(V225,{0,1,2,3,4,5},{0,5,4,3,2,1}),Y225,AF225,AI225)","v":0},"",0,"",0,"",0,"",0,0,0,0,0,0,0,0,0,0,0,0,0,null,null,null,null,null,null,null,null,null,0,"",0,"",{"$f":"SUM(AN225,AR225,AW225,LOOKUP(BD225,{0,1,2,3,4,5},{0,5,4,3,2,1}),BG225,BN225,BQ225)","v":0},"",0,"",0,"",0,"",0,0,0,0,0,0,0,0,0,0,0,0,0,null,"","","","","","","","","","","","",null,{"$f":"IF(Programs!$D$348=\"\",\"\",Programs!$D$348)","v":""},"","","","","","","","","","","","","",null,"","","","","","","","","","","",""]
[null,{"$f":"Programs!B357","v":0},{"$f":"IF(Programs!$C$348=\"\",\"\",Programs!$C$348)","v":""},null,null,null,null,null,null,null,null,null,null,null,null,null,null,null,null,null,null,null,null,null,null,null,null,null,null,null,null,null,null,null,null,null,null,null,null,null,null,null,null,null,null,null,null,null,null,null,null,null,null,null,null,null,null,null,null,null,null,null,null,null,null,null,null,null,null,null,null,{"$f":"Programs!C357","v":0},0,"",0,"",{"$f":"SUM(F226,J226,O226,LOOKUP(V226,{0,1,2,3,4,5},{0,5,4,3,2,1}),Y226,AF226,AI226)","v":0},"",0,"",0,"",0,"",0,0,0,0,0,0,0,0,0,0,0,0,0,null,null,null,null,null,null,null,null,null,0,"",0,"",{"$f":"SUM(AN226,AR226,AW226,LOOKUP(BD226,{0,1,2,3,4,5},{0,5,4,3,2,1}),BG226,BN226,BQ226)","v":0},"",0,"",0,"",0,"",0,0,0,0,0,0,0,0,0,0,0,0,0,null,"","","","","","","","","","","","",null,{"$f":"IF(Programs!$D$348=\"\",\"\",Programs!$D$348)","v":""},"","","","","","","","","","","","","",null,"","","","","","","","","","","",""]
[null,{"$f":"Programs!B358","v":0},{"$f":"IF(Programs!$C$348=\"\",\"\",Programs!$C$348)","v":""},null,null,null,null,null,null,null,null,null,null,null,null,null,null,null,null,null,null,null,null,null,null,null,null,null,null,null,null,null,null,null,null,null,null,null,null,null,null,null,null,null,null,null,null,null,null,null,null,null,null,null,null,null,null,null,null,null,null,null,null,null,null,null,null,null,null,null,null,{"$f":"Programs!C358","v":0},0,"",0,"",{"$f":"SUM(F227,J227,O227,LOOKUP(V227,{0,1,2,3,4,5},{0,5,4,3,2,1}),Y227,AF227,AI227)","v":0},"",0,"",0,"",0,"",0,0,0,0,0,0,0,0,0,0,0,0,0,null,null,null,null,null,null,null,null,null,0,"",0,"",{"$f":"SUM(AN227,AR227,AW227,LOOKUP(BD227,{0,1,2,3,4,5},{0,5,4,3,2,1}),BG227,BN227,BQ227)","v":0},"",0,"",0,"",0,"",0,0,0,0,0,0,0,0,0,0,0,0,0,null,"","","","","","","","","","","","",null,{"$f":"IF(Programs!$D$348=\"\",\"\",Programs!$D$348)","v":""},"","","","","","","","","","","","","",null,"","","","","","","","","","","",""]
[null,{"$f":"Programs!B359","v":0},{"$f":"IF(Programs!$C$348=\"\",\"\",Programs!$C$348)","v":""},null,null,null,null,null,null,null,null,null,null,null,null,null,null,null,null,null,null,null,null,null,null,null,null,null,null,null,null,null,null,null,null,null,null,null,null,null,null,null,null,null,null,null,null,null,null,null,null,null,null,null,null,null,null,null,null,null,null,null,null,null,null,null,null,null,null,null,null,{"$f":"Programs!C359","v":0},{"$f":"SUM(K228,M228,N228,T228,Z228,AA228,AB228,AD228)","v":0},{"$f":"IF(OR($BT228=0,BU228=0),\"\",(IF($BT228=\"Male\",(VLOOKUP(BU228,PHYMT,3,FALSE)),(VLOOKUP(BU228,PHFMT,2,FALSE)))))","v":""},{"$f":"SUM(D228,G228,I228,W228,AC228)","v":0},{"$f":"IF(BW228=0,\"\",VLOOKUP(BW228,VER,5,FALSE))","v":""},{"$f":"SUM(F228,J228,O228,LOOKUP(V228,{0,1,2,3,4,5},{0,5,4,3,2,1}),Y228,AF228,AI228)","v":0},{"$f":"IF(BY228=0,\"\",VLOOKUP(BY228,ANG,4,FALSE))","v":""},{"$f":"SUM(E228,H228,L228,S228,X228,AE228,AH228,AJ228)","v":0},{"$f":"IF(CA228=0,\"\",IF(CA228>38,81,VLOOKUP(CA228,HOS,3,FALSE)))","v":""},{"$f":"SUM(P228,Q228,R228,U228,AG228,AK228)","v":0},{"$f":"IF(CC228=0,\"\",VLOOKUP(CC228,IND,2,FALSE))","v":""},{"$f":"SUM(BU228,BW228,BY228,CA228,CC228)","v":0},{"$f":"IF(CE228=0,\"\",VLOOKUP(CE228,AQT,2,FALSE))","v":""},{"$f":"SUM(CH228:CS228)","v":0},{"$f":"IF(ABS(D228-Y228)>1,1,0)","v":0},{"$f":"IF(ABS(E228-H228)>1,1,0)","v":0},{"$f":"IF(ABS(G228-I228)>1,1,0)","v":0},{"$f":"IF(ABS(J228-AJ228)>1,1,0)","v":0},{"$f":"IF(ABS(K228-N228)>1,1,0)","v":0},{"$f":"IF(ABS(L228-AF228)>1,1,0)","v":0},{"$f":"IF(ABS(M228-P228)>1,1,0)","v":0},{"$f":"IF(ABS(O228-AI228)>1,1,0)","v":0},{"$f":"IF(ABS(Q228-T228)>1,1,0)","v":0},{"$f":"IF(ABS(X228-AH228)>1,1,0)","v":0},{"$f":"IF(ABS(Z228-AA228)>1,1,0)","v":0},{"$f":"IF(ABS(AB228-AD228)>1,1,0)","v":0},null,null,null,null,null,null,null,null,null,{"$f":"SUM(AS228,AU228,AV228,BB228,BH228,BI228,BJ228,BL228)","v":0},{"$f":"IF(OR($BT228=0,DC228=0),\"\",(IF($BT228=\"Male\",(VLOOKUP(DC228,PHYMT,3,FALSE)),(VLOOKUP(DC228,PHFMT,2,FALSE)))))","v":""},{"$f":"SUM(AL228,AO228,AQ228,BE228,BK228)","v":0},{"$f":"IF(DE228=0,\"\",VLOOKUP(DE228,VER,5,FALSE))","v":""},{"$f":"SUM(AN228,AR228,AW228,LOOKUP(BD228,{0,1,2,3,4,5},{0,5,4,3,2,1}),BG228,BN228,BQ228)","v":0},{"$f":"IF(DG228=0,\"\",VLOOKUP(DG228,ANG,4,FALSE))","v":""},{"$f":"SUM(AM228,AP228,AT228,BA228,BF228,BM228,BP228,BR228)","v":0},{"$f":"IF(DI228=0,\"\",VLOOKUP(DI228,HOS,3,FALSE))","v":""},{"$f":"SUM(AX228,AY228,AZ228,BC228,BO228,BS228)","v":0},{"$f":"IF(DK228=0,\"\",VLOOKUP(DK228,IND,2,FALSE))","v":""},{"$f":"SUM(DC228,DE228,DG228,DI228,DK228)","v":0},{"$f":"IF(DM228=0,\"\",IF(DM228<39,24,VLOOKUP(DM228,AQT,2,FALSE)))","v":""},{"$f":"SUM(DP228:EA228)","v":0},{"$f":"IF(ABS(AL228-BG228)>1,1,0)","v":0},{"$f":"IF(ABS(AM228-AP228)>1,1,0)","v":0},{"$f":"IF(ABS(AO228-AQ228)>1,1,0)","v":0},{"$f":"IF(ABS(AR228-BR228)>1,1,0)","v":0},{"$f":"IF(ABS(AS228-AV228)>1,1,0)","v":0},{"$f":"IF(ABS(AT228-BN228)>1,1,0)","v":0},{"$f":"IF(ABS(AU228-AX228)>1,1,0)","v":0},{"$f":"IF(ABS(AW228-BQ228)>1,1,0)","v":0},{"$f":"IF(ABS(AY228-BB228)>1,1,0)","v":0},{"$f":"IF(ABS(BF228-BP228)>1,1,0)","v":0},{"$f":"IF(ABS(BH228-BI228)>1,1,0)","v":0},{"$f":"IF(ABS(BJ228-BL228)>1,1,0)","v":0},null,{"$f":"IF(EQ228<>\"\",(DC228/8)-(BU228/8),\"\")","v":""},{"$f":"IF(EQ228<>\"\",IF(BT228=0,\"\",DD228-BV228),\"\")","v":""},{"$f":"IF(EQ228<>\"\",(DE228/5)-(BW228/5),\"\")","v":""},{"$f":"IF(EQ228<>\"\",DF228-BX228,\"\")","v":""},{"$f":"IF(EQ228<>\"\",(DG228/7)-(BY228/7),\"\")","v":""},{"$f":"IF(EQ228<>\"\",DH228-BZ228,\"\")","v":""},{"$f":"IF(EQ228<>\"\",(DI228/8)-(CA228/8),\"\")","v":""},{"$f":"IF(EQ228<>\"\",DJ228-CB228,\"\")","v":""},{"$f":"IF(EQ228<>\"\",(DK228/6)-(CC228/6),\"\")","v":""},{"$f":"IF(EQ228<>\"\",DL228-CD228,\"\")","v":""},{"$f":"IF(EQ228<>\"\",(DM228/34)-(CE228/34),\"\")","v":""},{"$f":"IF(EQ228<>\"\",DN228-CF228,\"\")","v":""},null,{"$f":"IF(Programs!$D$348=\"\",\"\",Programs!$D$348)","v":""},{"$f":"IF(AND(COUNT(D228:AK228)>30,COUNT(AL228:BS228)>30),EP228,\"\")","v":""},"","","","","","","","","","","","",null,"","","","","","","","","","","",""]
[null,{"$f":"Programs!B360","v":0},{"$f":"IF(Programs!$C$348=\"\",\"\",Programs!$C$348)","v":""},null,null,null,null,null,null,null,null,null,null,null,null,null,null,null,null,null,null,null,null,null,null,null,null,null,null,null,null,null,null,null,null,null,null,null,null,null,null,null,null,null,null,null,null,null,null,null,null,null,null,null,null,null,null,null,null,null,null,null,null,null,null,null,null,null,null,null,null,{"$f":"Programs!C360","v":0},0,"",0,"",{"$f":"SUM(F229,J229,O229,LOOKUP(V229,{0,1,2,3,4,5},{0,5,4,3,2,1}),Y229,AF229,AI229)","v":0},"",0,"",0,"",0,"",0,0,0,0,0,0,0,0,0,0,0,0,0,null,null,null,null,null,null,null,null,null,0,"",0,"",{"$f":"SUM(AN229,AR229,AW229,LOOKUP(BD229,{0,1,2,3,4,5},{0,5,4,3,2,1}),BG229,BN229,BQ229)","v":0},"",0,"",0,"",0,"",0,0,0,0,0,0,0,0,0,0,0,0,0,null,"","","","","","","","","","","","",null,{"$f":"IF(Programs!$D$348=\"\",\"\",Programs!$D$348)","v":""},"","","","","","","","","","","","","",null,"","","","","","","","","","","",""]
[null,{"$f":"Programs!B361","v":0},{"$f":"IF(Programs!$C$348=\"\",\"\",Programs!$C$348)","v":""},null,null,null,null,null,null,null,null,null,null,null,null,null,null,null,null,null,null,null,null,null,null,null,null,null,null,null,null,null,null,null,null,null,null,null,null,null,null,null,null,null,null,null,null,null,null,null,null,null,null,null,null,null,null,null,null,null,null,null,null,null,null,null,null,null,null,null,null,{"$f":"Programs!C361","v":0},0,"",0,"",{"$f":"SUM(F230,J230,O230,LOOKUP(V230,{0,1,2,3,4,5},{0,5,4,3,2,1}),Y230,AF230,AI230)","v":0},"",0,"",0,"",0,"",0,0,0,0,0,0,0,0,0,0,0,0,0,null,null,null,null,null,null,null,null,null,0,"",0,"",{"$f":"SUM(AN230,AR230,AW230,LOOKUP(BD230,{0,1,2,3,4,5},{0,5,4,3,2,1}),BG230,BN230,BQ230)","v":0},"",0,"",0,"",0,"",0,0,0,0,0,0,0,0,0,0,0,0,0,null,"","","","","","","","","","","","",null,{"$f":"IF(Programs!$D$348=\"\",\"\",Programs!$D$348)","v":""},"","","","","","","","","","","","","",null,"","","","","","","","","","","",""]
[null,{"$f":"Programs!B362","v":0},{"$f":"IF(Programs!$C$348=\"\",\"\",Programs!$C$348)","v":""},null,null,null,null,null,null,null,null,null,null,null,null,null,null,null,null,null,null,null,null,null,null,null,null,null,null,null,null,null,null,null,null,null,null,null,null,null,null,null,null,null,null,null,null,null,null,null,null,null,null,null,null,null,null,null,null,null,null,null,null,null,null,null,null,null,null,null,null,{"$f":"Programs!C362","v":0},0,"",0,"",{"$f":"SUM(F231,J231,O231,LOOKUP(V231,{0,1,2,3,4,5},{0,5,4,3,2,1}),Y231,AF231,AI231)","v":0},"",0,"",0,"",0,"",0,0,0,0,0,0,0,0,0,0,0,0,0,null,null,null,null,null,null,null,null,null,0,"",0,"",{"$f":"SUM(AN231,AR231,AW231,LOOKUP(BD231,{0,1,2,3,4,5},{0,5,4,3,2,1}),BG231,BN231,BQ231)","v":0},"",0,"",0,"",0,"",0,0,0,0,0,0,0,0,0,0,0,0,0,null,"","","","","","","","","","","","",null,{"$f":"IF(Programs!$D$348=\"\",\"\",Programs!$D$348)","v":""},"","","","","","","","","","","","","",null,"","","","","","","","","","","",""]
["Program 20",{"$f":"Programs!B370","v":0},{"$f":"IF(Programs!$C$367=\"\",\"\",Programs!$C$367)","v":""},null,null,null,null,null,null,null,null,null,null,null,null,null,null,null,null,null,null,null,null,null,null,null,null,null,null,null,null,null,null,null,null,null,null,null,null,null,null,null,null,null,null,null,null,null,null,null,null,null,null,null,null,null,null,null,null,null,null,null,null,null,null,null,null,null,null,null,null,{"$f":"Programs!C370","v":0},0,"",0,"",{"$f":"SUM(F232,J232,O232,LOOKUP(V232,{0,1,2,3,4,5},{0,5,4,3,2,1}),Y232,AF232,AI232)","v":0},"",0,"",0,"",0,"",0,0,0,0,0,0,0,0,0,0,0,0,0,null,null,null,null,null,null,null,null,null,0,"",0,"",{"$f":"SUM(AN232,AR232,AW232,LOOKUP(BD232,{0,1,2,3,4,5},{0,5,4,3,2,1}),BG232,BN232,BQ232)","v":0},"",0,"",0,"",0,"",0,0,0,0,0,0,0,0,0,0,0,0,0,null,"","","","","","","","","","","","",null,{"$f":"IF(Programs!$D$367=\"\",\"\",Programs!$D$367)","v":""},"","","","","","","","","","","","","",null,"","","","","","","","","","","",""]
[null,{"$f":"Programs!B371","v":0},{"$f":"IF(Programs!$C$367=\"\",\"\",Programs!$C$367)","v":""},null,null,null,null,null,null,null,null,null,null,null,null,null,null,null,null,null,null,null,null,null,null,null,null,null,null,null,null,null,null,null,null,null,null,null,null,null,null,null,null,null,null,null,null,null,null,null,null,null,null,null,null,null,null,null,null,null,null,null,null,null,null,null,null,null,null,null,null,{"$f":"Programs!C371","v":0},0,"",0,"",{"$f":"SUM(F233,J233,O233,LOOKUP(V233,{0,1,2,3,4,5},{0,5,4,3,2,1}),Y233,AF233,AI233)","v":0},"",0,"",0,"",0,"",0,0,0,0,0,0,0,0,0,0,0,0,0,null,null,null,null,null,null,null,null,null,0,"",0,"",{"$f":"SUM(AN233,AR233,AW233,LOOKUP(BD233,{0,1,2,3,4,5},{0,5,4,3,2,1}),BG233,BN233,BQ233)","v":0},"",0,"",0,"",0,"",0,0,0,0,0,0,0,0,0,0,0,0,0,null,"","","","","","","","","","","","",null,{"$f":"IF(Programs!$D$367=\"\",\"\",Programs!$D$367)","v":""},"","","","","","","","","","","","","",null,"","","","","","","","","","","",""]
[null,{"$f":"Programs!B372","v":0},{"$f":"IF(Programs!$C$367=\"\",\"\",Programs!$C$367)","v":""},null,null,null,null,null,null,null,null,null,null,null,null,null,null,null,null,null,null,null,null,null,null,null,null,null,null,null,null,null,null,null,null,null,null,null,null,null,null,null,null,null,null,null,null,null,null,null,null,null,null,null,null,null,null,null,null,null,null,null,null,null,null,null,null,null,null,null,null,{"$f":"Programs!C372","v":0},0,{"$f":"IF(OR($BT234=0,BU234=0),\"\",(IF($BT234=\"Male\",(VLOOKUP(BU234,PHYMT,3,FALSE)),(VLOOKUP(BU234,PHFMT,2,FALSE)))))","v":""},0,{"$f":"IF(BW234=0,\"\",VLOOKUP(BW234,VER,5,FALSE))","v":""},{"$f":"SUM(F234,J234,O234,LOOKUP(V234,{0,1,2,3,4,5},{0,5,4,3,2,1}),Y234,AF234,AI234)","v":0},{"$f":"IF(BY234=0,\"\",VLOOKUP(BY234,ANG,4,FALSE))","v":""},0,{"$f":"IF(CA234=0,\"\",IF(CA234>38,81,VLOOKUP(CA234,HOS,3,FALSE)))","v":""},0,{"$f":"IF(CC234=0,\"\",VLOOKUP(CC234,IND,2,FALSE))","v":""},0,{"$f":"IF(CE234=0,\"\",VLOOKUP(CE234,AQT,2,FALSE))","v":""},0,0,0,0,0,0,0,0,0,0,0,0,0,null,null,null,null,null,null,null,null,null,0,{"$f":"IF(OR($BT234=0,DC234=0),\"\",(IF($BT234=\"Male\",(VLOOKUP(DC234,PHYMT,3,FALSE)),(VLOOKUP(DC234,PHFMT,2,FALSE)))))","v":""},0,{"$f":"IF(DE234=0,\"\",VLOOKUP(DE234,VER,5,FALSE))","v":""},{"$f":"SUM(AN234,AR234,AW234,LOOKUP(BD234,{0,1,2,3,4,5},{0,5,4,3,2,1}),BG234,BN234,BQ234)","v":0},{"$f":"IF(DG234=0,\"\",VLOOKUP(DG234,ANG,4,FALSE))","v":""},0,{"$f":"IF(DI234=0,\"\",VLOOKUP(DI234,HOS,3,FALSE))","v":""},0,{"$f":"IF(DK234=0,\"\",VLOOKUP(DK234,IND,2,FALSE))","v":""},0,{"$f":"IF(DM234=0,\"\",IF(DM234<39,24,VLOOKUP(DM234,AQT,2,FALSE)))","v":""},0,0,0,0,0,0,0,0,0,0,0,0,0,null,"","","","","","","","","","","","",null,{"$f":"IF(Programs!$D$367=\"\",\"\",Programs!$D$367)","v":""},"","","","","","","","","","","","","",null,"","","","","","","","","","","",""]
[null,{"$f":"Programs!B373","v":0},{"$f":"IF(Programs!$C$367=\"\",\"\",Programs!$C$367)","v":""},null,null,null,null,null,null,null,null,null,null,null,null,null,null,null,null,null,null,null,null,null,null,null,null,null,null,null,null,null,null,null,null,null,null,null,null,null,null,null,null,null,null,null,null,null,null,null,null,null,null,null,null,null,null,null,null,null,null,null,null,null,null,null,null,null,null,null,null,{"$f":"Programs!C373","v":0},{"$f":"SUM(K235,M235,N235,T235,Z235,AA235,AB235,AD235)","v":0},"",{"$f":"SUM(D235,G235,I235,W235,AC235)","v":0},"",{"$f":"SUM(F235,J235,O235,LOOKUP(V235,{0,1,2,3,4,5},{0,5,4,3,2,1}),Y235,AF235,AI235)","v":0},"",{"$f":"SUM(E235,H235,L235,S235,X235,AE235,AH235,AJ235)","v":0},"",{"$f":"SUM(P235,Q235,R235,U235,AG235,AK235)","v":0},"",{"$f":"SUM(BU235,BW235,BY235,CA235,CC235)","v":0},"",{"$f":"SUM(CH235:CS235)","v":0},{"$f":"IF(ABS(D235-Y235)>1,1,0)","v":0},{"$f":"IF(ABS(E235-H235)>1,1,0)","v":0},{"$f":"IF(ABS(G235-I235)>1,1,0)","v":0},{"$f":"IF(ABS(J235-AJ235)>1,1,0)","v":0},{"$f":"IF(ABS(K235-N235)>1,1,0)","v":0},{"$f":"IF(ABS(L235-AF235)>1,1,0)","v":0},{"$f":"IF(ABS(M235-P235)>1,1,0)","v":0},{"$f":"IF(ABS(O235-AI235)>1,1,0)","v":0},{"$f":"IF(ABS(Q235-T235)>1,1,0)","v":0},{"$f":"IF(ABS(X235-AH235)>1,1,0)","v":0},{"$f":"IF(ABS(Z235-AA235)>1,1,0)","v":0},{"$f":"IF(ABS(AB235-AD235)>1,1,0)","v":0},null,null,null,null,null,null,null,null,null,{"$f":"SUM(AS235,AU235,AV235,BB235,BH235,BI235,BJ235,BL235)","v":0},"",{"$f":"SUM(AL235,AO235,AQ235,BE235,BK235)","v":0},"",{"$f":"SUM(AN235,AR235,AW235,LOOKUP(BD235,{0,1,2,3,4,5},{0,5,4,3,2,1}),BG235,BN235,BQ235)","v":0},"",{"$f":"SUM(AM235,AP235,AT235,BA235,BF235,BM235,BP235,BR235)","v":0},"",{"$f":"SUM(AX235,AY235,AZ235,BC235,BO235,BS235)","v":0},"",{"$f":"SUM(DC235,DE235,DG235,DI235,DK235)","v":0},"",{"$f":"SUM(DP235:EA235)","v":0},{"$f":"IF(ABS(AL235-BG235)>1,1,0)","v":0},{"$f":"IF(ABS(AM235-AP235)>1,1,0)","v":0},{"$f":"IF(ABS(AO235-AQ235)>1,1,0)","v":0},{"$f":"IF(ABS(AR235-BR235)>1,1,0)","v":0},{"$f":"IF(ABS(AS235-AV235)>1,1,0)","v":0},{"$f":"IF(ABS(AT235-BN235)>1,1,0)","v":0},{"$f":"IF(ABS(AU235-AX235)>1,1,0)","v":0},{"$f":"IF(ABS(AW235-BQ235)>1,1,0)","v":0},{"$f":"IF(ABS(AY235-BB235)>1,1,0)","v":0},{"$f":"IF(ABS(BF235-BP235)>1,1,0)","v":0},{"$f":"IF(ABS(BH235-BI235)>1,1,0)","v":0},{"$f":"IF(ABS(BJ235-BL235)>1,1,0)","v":0},null,"","","","","","","","","","","","",null,{"$f":"IF(Programs!$D$367=\"\",\"\",Programs!$D$367)","v":""},{"$f":"IF(AND(COUNT(D235:AK235)>30,COUNT(AL235:BS235)>30),EP235,\"\")","v":""},"","","","","","","","","","","","",null,"","","","","","","","","","","",""]
[null,{"$f":"Programs!B374","v":0},{"$f":"IF(Programs!$C$367=\"\",\"\",Programs!$C$367)","v":""},null,null,null,null,null,null,null,null,null,null,null,null,null,null,null,null,null,null,null,null,null,null,null,null,null,null,null,null,null,null,null,null,null,null,null,null,null,null,null,null,null,null,null,null,null,null,null,null,null,null,null,null,null,null,null,null,null,null,null,null,null,null,null,null,null,null,null,null,{"$f":"Programs!C374","v":0},0,"",0,"",{"$f":"SUM(F236,J236,O236,LOOKUP(V236,{0,1,2,3,4,5},{0,5,4,3,2,1}),Y236,AF236,AI236)","v":0},"",0,"",0,"",0,"",0,0,0,0,0,0,0,0,0,0,0,0,0,null,null,null,null,null,null,null,null,null,0,"",0,"",{"$f":"SUM(AN236,AR236,AW236,LOOKUP(BD236,{0,1,2,3,4,5},{0,5,4,3,2,1}),BG236,BN236,BQ236)","v":0},"",0,"",0,"",0,"",0,0,0,0,0,0,0,0,0,0,0,0,0,null,"","","","","","","","","","","","",null,{"$f":"IF(Programs!$D$367=\"\",\"\",Programs!$D$367)","v":""},"","","","","","","","","","","","","",null,"","","","","","","","","","","",""]
[null,{"$f":"Programs!B375","v":0},{"$f":"IF(Programs!$C$367=\"\",\"\",Programs!$C$367)","v":""},null,null,null,null,null,null,null,null,null,null,null,null,null,null,null,null,null,null,null,null,null,null,null,null,null,null,null,null,null,null,null,null,null,null,null,null,null,null,null,null,null,null,null,null,null,null,null,null,null,null,null,null,null,null,null,null,null,null,null,null,null,null,null,null,null,null,null,null,{"$f":"Programs!C375","v":0},0,"",0,"",{"$f":"SUM(F237,J237,O237,LOOKUP(V237,{0,1,2,3,4,5},{0,5,4,3,2,1}),Y237,AF237,AI237)","v":0},"",0,"",0,"",0,"",0,0,0,0,0,0,0,0,0,0,0,0,0,null,null,null,null,null,null,null,null,null,0,"",0,"",{"$f":"SUM(AN237,AR237,AW237,LOOKUP(BD237,{0,1,2,3,4,5},{0,5,4,3,2,1}),BG237,BN237,BQ237)","v":0},"",0,"",0,"",0,"",0,0,0,0,0,0,0,0,0,0,0,0,0,null,"","","","","","","","","","","","",null,{"$f":"IF(Programs!$D$367=\"\",\"\",Programs!$D$367)","v":""},"","","","","","","","","","","","","",null,"","","","","","","","","","","",""]
[null,{"$f":"Programs!B376","v":0},{"$f":"IF(Programs!$C$367=\"\",\"\",Programs!$C$367)","v":""},null,null,null,null,null,null,null,null,null,null,null,null,null,null,null,null,null,null,null,null,null,null,null,null,null,null,null,null,null,null,null,null,null,null,null,null,null,null,null,null,null,null,null,null,null,null,null,null,null,null,null,null,null,null,null,null,null,null,null,null,null,null,null,null,null,null,null,null,{"$f":"Programs!C376","v":0},0,"",0,"",{"$f":"SUM(F238,J238,O238,LOOKUP(V238,{0,1,2,3,4,5},{0,5,4,3,2,1}),Y238,AF238,AI238)","v":0},"",0,"",0,"",0,"",0,0,0,0,0,0,0,0,0,0,0,0,0,null,null,null,null,null,null,null,null,null,0,"",0,"",{"$f":"SUM(AN238,AR238,AW238,LOOKUP(BD238,{0,1,2,3,4,5},{0,5,4,3,2,1}),BG238,BN238,BQ238)","v":0},"",0,"",0,"",0,"",0,0,0,0,0,0,0,0,0,0,0,0,0,null,"","","","","","","","","","","","",null,{"$f":"IF(Programs!$D$367=\"\",\"\",Programs!$D$367)","v":""},"","","","","","","","","","","","","",null,"","","","","","","","","","","",""]
[null,{"$f":"Programs!B377","v":0},{"$f":"IF(Programs!$C$367=\"\",\"\",Programs!$C$367)","v":""},null,null,null,null,null,null,null,null,null,null,null,null,null,null,null,null,null,null,null,null,null,null,null,null,null,null,null,null,null,null,null,null,null,null,null,null,null,null,null,null,null,null,null,null,null,null,null,null,null,null,null,null,null,null,null,null,null,null,null,null,null,null,null,null,null,null,null,null,{"$f":"Programs!C377","v":0},0,"",0,"",{"$f":"SUM(F239,J239,O239,LOOKUP(V239,{0,1,2,3,4,5},{0,5,4,3,2,1}),Y239,AF239,AI239)","v":0},"",0,"",0,"",0,"",0,0,0,0,0,0,0,0,0,0,0,0,0,null,null,null,null,null,null,null,null,null,0,"",0,"",{"$f":"SUM(AN239,AR239,AW239,LOOKUP(BD239,{0,1,2,3,4,5},{0,5,4,3,2,1}),BG239,BN239,BQ239)","v":0},"",0,"",0,"",0,"",0,0,0,0,0,0,0,0,0,0,0,0,0,null,"","","","","","","","","","","","",null,{"$f":"IF(Programs!$D$367=\"\",\"\",Programs!$D$367)","v":""},"","","","","","","","","","","","","",null,"","","","","","","","","","","",""]
[null,{"$f":"Programs!B378","v":0},{"$f":"IF(Programs!$C$367=\"\",\"\",Programs!$C$367)","v":""},null,null,null,null,null,null,null,null,null,null,null,null,null,null,null,null,null,null,null,null,null,null,null,null,null,null,null,null,null,null,null,null,null,null,null,null,null,null,null,null,null,null,null,null,null,null,null,null,null,null,null,null,null,null,null,null,null,null,null,null,null,null,null,null,null,null,null,null,{"$f":"Programs!C378","v":0},{"$f":"SUM(K240,M240,N240,T240,Z240,AA240,AB240,AD240)","v":0},{"$f":"IF(OR($BT240=0,BU240=0),\"\",(IF($BT240=\"Male\",(VLOOKUP(BU240,PHYMT,3,FALSE)),(VLOOKUP(BU240,PHFMT,2,FALSE)))))","v":""},{"$f":"SUM(D240,G240,I240,W240,AC240)","v":0},{"$f":"IF(BW240=0,\"\",VLOOKUP(BW240,VER,5,FALSE))","v":""},{"$f":"SUM(F240,J240,O240,LOOKUP(V240,{0,1,2,3,4,5},{0,5,4,3,2,1}),Y240,AF240,AI240)","v":0},{"$f":"IF(BY240=0,\"\",VLOOKUP(BY240,ANG,4,FALSE))","v":""},{"$f":"SUM(E240,H240,L240,S240,X240,AE240,AH240,AJ240)","v":0},{"$f":"IF(CA240=0,\"\",IF(CA240>38,81,VLOOKUP(CA240,HOS,3,FALSE)))","v":""},{"$f":"SUM(P240,Q240,R240,U240,AG240,AK240)","v":0},{"$f":"IF(CC240=0,\"\",VLOOKUP(CC240,IND,2,FALSE))","v":""},{"$f":"SUM(BU240,BW240,BY240,CA240,CC240)","v":0},{"$f":"IF(CE240=0,\"\",VLOOKUP(CE240,AQT,2,FALSE))","v":""},{"$f":"SUM(CH240:CS240)","v":0},{"$f":"IF(ABS(D240-Y240)>1,1,0)","v":0},{"$f":"IF(ABS(E240-H240)>1,1,0)","v":0},{"$f":"IF(ABS(G240-I240)>1,1,0)","v":0},{"$f":"IF(ABS(J240-AJ240)>1,1,0)","v":0},{"$f":"IF(ABS(K240-N240)>1,1,0)","v":0},{"$f":"IF(ABS(L240-AF240)>1,1,0)","v":0},{"$f":"IF(ABS(M240-P240)>1,1,0)","v":0},{"$f":"IF(ABS(O240-AI240)>1,1,0)","v":0},{"$f":"IF(ABS(Q240-T240)>1,1,0)","v":0},{"$f":"IF(ABS(X240-AH240)>1,1,0)","v":0},{"$f":"IF(ABS(Z240-AA240)>1,1,0)","v":0},{"$f":"IF(ABS(AB240-AD240)>1,1,0)","v":0},null,null,null,null,null,null,null,null,null,{"$f":"SUM(AS240,AU240,AV240,BB240,BH240,BI240,BJ240,BL240)","v":0},{"$f":"IF(OR($BT240=0,DC240=0),\"\",(IF($BT240=\"Male\",(VLOOKUP(DC240,PHYMT,3,FALSE)),(VLOOKUP(DC240,PHFMT,2,FALSE)))))","v":""},{"$f":"SUM(AL240,AO240,AQ240,BE240,BK240)","v":0},{"$f":"IF(DE240=0,\"\",VLOOKUP(DE240,VER,5,FALSE))","v":""},{"$f":"SUM(AN240,AR240,AW240,LOOKUP(BD240,{0,1,2,3,4,5},{0,5,4,3,2,1}),BG240,BN240,BQ240)","v":0},{"$f":"IF(DG240=0,\"\",VLOOKUP(DG240,ANG,4,FALSE))","v":""},{"$f":"SUM(AM240,AP240,AT240,BA240,BF240,BM240,BP240,BR240)","v":0},{"$f":"IF(DI240=0,\"\",VLOOKUP(DI240,HOS,3,FALSE))","v":""},{"$f":"SUM(AX240,AY240,AZ240,BC240,BO240,BS240)","v":0},{"$f":"IF(DK240=0,\"\",VLOOKUP(DK240,IND,2,FALSE))","v":""},{"$f":"SUM(DC240,DE240,DG240,DI240,DK240)","v":0},{"$f":"IF(DM240=0,\"\",IF(DM240<39,24,VLOOKUP(DM240,AQT,2,FALSE)))","v":""},{"$f":"SUM(DP240:EA240)","v":0},{"$f":"IF(ABS(AL240-BG240)>1,1,0)","v":0},{"$f":"IF(ABS(AM240-AP240)>1,1,0)","v":0},{"$f":"IF(ABS(AO240-AQ240)>1,1,0)","v":0},{"$f":"IF(ABS(AR240-BR240)>1,1,0)","v":0},{"$f":"IF(ABS(AS240-AV240)>1,1,0)","v":0},{"$f":"IF(ABS(AT240-BN240)>1,1,0)","v":0},{"$f":"IF(ABS(AU240-AX240)>1,1,0)","v":0},{"$f":"IF(ABS(AW240-BQ240)>1,1,0)","v":0},{"$f":"IF(ABS(AY240-BB240)>1,1,0)","v":0},{"$f":"IF(ABS(BF240-BP240)>1,1,0)","v":0},{"$f":"IF(ABS(BH240-BI240)>1,1,0)","v":0},{"$f":"IF(ABS(BJ240-BL240)>1,1,0)","v":0},null,{"$f":"IF(EQ240<>\"\",(DC240/8)-(BU240/8),\"\")","v":""},{"$f":"IF(EQ240<>\"\",IF(BT240=0,\"\",DD240-BV240),\"\")","v":""},{"$f":"IF(EQ240<>\"\",(DE240/5)-(BW240/5),\"\")","v":""},{"$f":"IF(EQ240<>\"\",DF240-BX240,\"\")","v":""},{"$f":"IF(EQ240<>\"\",(DG240/7)-(BY240/7),\"\")","v":""},{"$f":"IF(EQ240<>\"\",DH240-BZ240,\"\")","v":""},{"$f":"IF(EQ240<>\"\",(DI240/8)-(CA240/8),\"\")","v":""},{"$f":"IF(EQ240<>\"\",DJ240-CB240,\"\")","v":""},{"$f":"IF(EQ240<>\"\",(DK240/6)-(CC240/6),\"\")","v":""},{"$f":"IF(EQ240<>\"\",DL240-CD240,\"\")","v":""},{"$f":"IF(EQ240<>\"\",(DM240/34)-(CE240/34),\"\")","v":""},{"$f":"IF(EQ240<>\"\",DN240-CF240,\"\")","v":""},null,{"$f":"IF(Programs!$D$367=\"\",\"\",Programs!$D$367)","v":""},{"$f":"IF(AND(COUNT(D240:AK240)>30,COUNT(AL240:BS240)>30),EP240,\"\")","v":""},"","","","","","","","","","","","",null,"","","","","","","","","","","",""]
[null,{"$f":"Programs!B379","v":0},{"$f":"IF(Programs!$C$367=\"\",\"\",Programs!$C$367)","v":""},null,null,null,null,null,null,null,null,null,null,null,null,null,null,null,null,null,null,null,null,null,null,null,null,null,null,null,null,null,null,null,null,null,null,null,null,null,null,null,null,null,null,null,null,null,null,null,null,null,null,null,null,null,null,null,null,null,null,null,null,null,null,null,null,null,null,null,null,{"$f":"Programs!C379","v":0},0,"",0,"",{"$f":"SUM(F241,J241,O241,LOOKUP(V241,{0,1,2,3,4,5},{0,5,4,3,2,1}),Y241,AF241,AI241)","v":0},"",0,"",0,"",0,"",0,0,0,0,0,0,0,0,0,0,0,0,0,null,null,null,null,null,null,null,null,null,0,"",0,"",{"$f":"SUM(AN241,AR241,AW241,LOOKUP(BD241,{0,1,2,3,4,5},{0,5,4,3,2,1}),BG241,BN241,BQ241)","v":0},"",0,"",0,"",0,"",0,0,0,0,0,0,0,0,0,0,0,0,0,null,"","","","","","","","","","","","",null,{"$f":"IF(Programs!$D$367=\"\",\"\",Programs!$D$367)","v":""},"","","","","","","","","","","","","",null,"","","","","","","","","","","",""]
[null,{"$f":"Programs!B380","v":0},{"$f":"IF(Programs!$C$367=\"\",\"\",Programs!$C$367)","v":""},null,null,null,null,null,null,null,null,null,null,null,null,null,null,null,null,null,null,null,null,null,null,null,null,null,null,null,null,null,null,null,null,null,null,null,null,null,null,null,null,null,null,null,null,null,null,null,null,null,null,null,null,null,null,null,null,null,null,null,null,null,null,null,null,null,null,null,null,{"$f":"Programs!C380","v":0},0,"",0,"",{"$f":"SUM(F242,J242,O242,LOOKUP(V242,{0,1,2,3,4,5},{0,5,4,3,2,1}),Y242,AF242,AI242)","v":0},"",0,"",0,"",0,"",0,0,0,0,0,0,0,0,0,0,0,0,0,null,null,null,null,null,null,null,null,null,0,"",0,"",{"$f":"SUM(AN242,AR242,AW242,LOOKUP(BD242,{0,1,2,3,4,5},{0,5,4,3,2,1}),BG242,BN242,BQ242)","v":0},"",0,"",0,"",0,"",0,0,0,0,0,0,0,0,0,0,0,0,0,null,"","","","","","","","","","","","",null,{"$f":"IF(Programs!$D$367=\"\",\"\",Programs!$D$367)","v":""},"","","","","","","","","","","","","",null,"","","","","","","","","","","",""]
[null,{"$f":"Programs!B381","v":0},{"$f":"IF(Programs!$C$367=\"\",\"\",Programs!$C$367)","v":""},null,null,null,null,null,null,null,null,null,null,null,null,null,null,null,null,null,null,null,null,null,null,null,null,null,null,null,null,null,null,null,null,null,null,null,null,null,null,null,null,null,null,null,null,null,null,null,null,null,null,null,null,null,null,null,null,null,null,null,null,null,null,null,null,null,null,null,null,{"$f":"Programs!C381","v":0},0,"",0,"",{"$f":"SUM(F243,J243,O243,LOOKUP(V243,{0,1,2,3,4,5},{0,5,4,3,2,1}),Y243,AF243,AI243)","v":0},"",0,"",0,"",0,"",0,0,0,0,0,0,0,0,0,0,0,0,0,null,null,null,null,null,null,null,null,null,0,"",0,"",{"$f":"SUM(AN243,AR243,AW243,LOOKUP(BD243,{0,1,2,3,4,5},{0,5,4,3,2,1}),BG243,BN243,BQ243)","v":0},"",0,"",0,"",0,"",0,0,0,0,0,0,0,0,0,0,0,0,0,null,"","","","","","","","","","","","",null,{"$f":"IF(Programs!$D$367=\"\",\"\",Programs!$D$367)","v":""},"","","","","","","","","","","","","",null,"","","","","","","","","","","",""]

{"sheet":"HIT PrePost","index":7,"n_rows":243,"n_cols":227,"rows_kept":243,"cut":false,"hidden":false,"merged":[[1,112,2,112],[1,137,2,137],[0,123,0,126],[0,148,0,151],[195,0,205,0],[1,2,2,2],[111,0,121,0],[135,0,145,0],[51,0,61,0],[63,0,73,0],[75,0,85,0],[87,0,97,0],[123,0,133,0],[3,0,13,0],[15,0,25,0],[27,0,37,0],[39,0,49,0],[99,0,109,0],[207,0,217,0],[219,0,229,0],[231,0,241,0],[147,0,157,0],[159,0,169,0],[171,0,181,0],[183,0,193,0]]}
[{"$f":"Instructions!$A$1","v":"3 Version  - 11/15/2019"},"How I Think Pre-Post ",null,null,"AW, OD","SC,  L","AR","MM,PA","BO,OD","SC, S","AW,L",null,"SC, PA","BO,S","MM,OD","AR","MM,L","AW,PA",null,"MM,S","AW, OD","MM,PA","AR","BO, L","SC, S","AW,PA",null,"BO,S","BO, L","AR","SC, PA","AW, OD","MM,S","AR","AW,PA","MM,L",null,"AW,S","BO,PA","SC,OD","AR","BO,S","MM,OD",null,"SC,OD","AW,S","BO,PA","AR","BO,OD","MM,S",null,"AW,L","BO,PA","AR","SC,  L","AW,S","SC,OD",null,"AW, OD","SC,  L","AR","MM,PA","BO,OD","SC, S","AW,L",null,"SC, PA","BO,S","MM,OD","AR","MM,L","AW,PA",null,"MM,S","AW, OD","MM,PA","AR","BO, L","SC, S","AW,PA",null,"BO,S","BO, L","AR","SC, PA","AW, OD","MM,S","AR","AW,PA","MM,L",null,"AW,S","BO,PA","SC,OD","AR","BO,S","MM,OD",null,"SC,OD","AW,S","BO,PA","AR","BO,OD","MM,S",null,"AW,L","BO,PA","AR","SC,  L","AW,S","SC,OD",null,"HIT Computations Pre-Test",null,null,null,null,null,null,null,"Invalid PRE Survey Rate",{"$f":"COUNTIF(DI4:DI243,\">=4.25\")/COUNTIF(DI4:DI243,\">0\")","v":{"$error":"#DIV/0!"}},null,"Anomalous Response (AR) Scores RED and YELLOW cells\n\nIf cell in AR-Pre Score column turns RED, this means the test scores should be considered not reliable.\nGrantees are expected to readminister the test a second time. If the INC score improves enter the new raw data from second test. If INC score does not improve leave the original scores entered.\n\nIf cell in AR-Pre Score column turns YELLOW, this means the test scores should be considered less reliable.\nGrantees may choose to readminister the test a second time. If the INC score improves enter the new raw data from second test. If INC score does not improve leave the original scores entered.",null,null,null,null,null,null,null,null,null,null,null,null,null,"HIT Computations Post-Test",null,null,null,null,null,null,null,"Invalid POST Survey Rate",{"$f":"COUNTIF(EH4:EH243,\">=4.25\")/COUNTIF(EH4:EH243,\">0\")","v":{"$error":"#DIV/0!"}},null,"Anomalous Response (AR) Scores RED and YELLOW cells\n\nIf cell in AR-Pre Score column turns RED, this means the test scores should be considered not reliable.\nGrantees are expected to readminister the test a second time. If the INC score improves enter the new raw data from second test. If INC score does not improve leave the original scores entered.\n\nIf cell in AR-Pre Score column turns YELLOW, this means the test scores should be considered less reliable.\nGrantees may choose to readminister the test a second time. If the INC score improves enter the new raw data from second test. If INC score does not improve leave the original scores entered.",null,null,null,null,null,null,null,null,null,null,null,null,null,null,"Change Pre-Post",null,"GREEN","= Desired change",null,"RED","= Un-desired change",null,"BLACK","= No change",null,null,null,null,null,null,null,null,null,null,null,null,null,null,null,"Pos Change Count by quarter",null,null,null,null,null,null,null,null,null,null,null,null,null,null,null,null,null,null,null,"Neg Change Count by quarter"]
[null,null,"Completion Date","Pre","Pre","Pre","Pre","Pre","Pre","Pre","Pre","Pre","Pre","Pre","Pre","Pre","Pre","Pre","Pre","Pre","Pre","Pre","Pre","Pre","Pre","Pre","Pre","Pre","Pre","Pre","Pre","Pre","Pre","Pre","Pre","Pre","Pre","Pre","Pre","Pre","Pre","Pre","Pre","Pre","Pre","Pre","Pre","Pre","Pre","Pre","Pre","Pre","Pre","Pre","Pre","Pre","Pre","Post","Post","Post","Post","Post","Post","Post","Post","Post","Post","Post","Post","Post","Post","Post","Post","Post","Post","Post","Post","Post","Post","Post","Post","Post","Post","Post","Post","Post","Post","Post","Post","Post","Post","Post","Post","Post","Post","Post","Post","Post","Post","Post","Post","Post","Post","Post","Post","Post","Post","Post","Post","Post","Post",null,"AR-Pre",null,null,"SC-Pre",null,"BO-Pre",null,"MM-Pre",null,"AW-Pre",null,"OD-Pre",null,"PA-Pre",null,"L-Pre",null,"S-Pre",null,"OV-Pre","COV-Pre","HIT-Pre",null,null,null,"AR-Post",null,null,"SC-Post",null,"BO-Post",null,"MM-Post",null,"AW-Post",null,"OD-Post",null,"PA-Post",null,"L-Post",null,"S-Post",null,"OV-Post","COV-Post","HIT-Post",null,"AR-Change",null,null,"SC-Change",null,"BO-Change",null,"MM-Change",null,"AW-Change",null,"OD-Change",null,"PA-Change",null,"L-Change",null,"S-Change",null,"OV-Change","COV-Change","HIT-Change",null,null,null,"AR-Change",null,null,"SC-Change",null,"BO-Change",null,"MM-Change",null,"AW-Change",null,"OD-Change",null,"PA-Change",null,"L-Change",null,"S-Change",null,"OV-Change","COV-Change","HIT-Change",null,"SC-Change",null,"BO-Change",null,"MM-Change",null,"AW-Change",null,"OD-Change",null,"PA-Change",null,"L-Change",null,"S-Change",null,"OV-Change","COV-Change","HIT-Change"]
[null,"Participant Code",null,"Q 1","Q 2","Q 3","Q 4","Q 5","Q 6","Q 7","Q 8","Q 9","Q 10","Q 11","Q 12","Q 13","Q 14","Q 15","Q 16","Q 17","Q 18","Q 19","Q 20","Q 21","Q 22","Q 23","Q 24","Q 25","Q 26","Q 27","Q 28","Q 29","Q 30","Q 31","Q 32","Q 33","Q 34","Q 35","Q 36","Q 37","Q 38","Q 39","Q 40","Q 41","Q 42","Q 43","Q 44","Q 45","Q 46","Q 47","Q 48","Q 49","Q 50","Q 51","Q 52","Q 53","Q 54","Q 1","Q 2","Q 3","Q 4","Q 5","Q 6","Q 7","Q 8","Q 9","Q 10","Q 11","Q 12","Q 13","Q 14","Q 15","Q 16","Q 17","Q 18","Q 19","Q 20","Q 21","Q 22","Q 23","Q 24","Q 25","Q 26","Q 27","Q 28","Q 29","Q 30","Q 31","Q 32","Q 33","Q 34","Q 35","Q 36","Q 37","Q 38","Q 39","Q 40","Q 41","Q 42","Q 43","Q 44","Q 45","Q 46","Q 47","Q 48","Q 49","Q 50","Q 51","Q 52","Q 53","Q 54",null,null,"Valid?",null,"Sum","Mean","Sum","Mean","Sum","Mean","Sum","Mean","Sum","Mean","Sum","Mean","Sum","Mean","Sum","Mean","Mean","Mean","Mean",null,null,null,null,"Valid?",null,"Sum","Mean","Sum","Mean","Sum","Mean","Sum","Mean","Sum","Mean","Sum","Mean","Sum","Mean","Sum","Mean","Mean","Mean","Mean",null,"Mean","Valid?",null,"Sum","Mean","Sum","Mean","Sum","Mean","Sum","Mean","Sum","Mean","Sum","Mean","Sum","Mean","Sum","Mean","Mean","Mean","Mean",null,"Qtr","Completed?","Mean","Valid?",null,"Sum","Mean","Sum","Mean","Sum","Mean","Sum","Mean","Sum","Mean","Sum","Mean","Sum","Mean","Sum","Mean","Mean","Mean","Mean",null,"Sum","Mean","Sum","Mean","Sum","Mean","Sum","Mean","Sum","Mean","Sum","Mean","Sum","Mean","Sum","Mean","Mean","Mean","Mean"]
["Program 1",{"$f":"Programs!B9","v":0},{"$f":"IF(Programs!$C$6=\"\",\"\",Programs!$C$6)","v":""},null,null,null,null,null,null,null,null,null,null,null,null,null,null,null,null,null,null,null,null,null,null,null,null,null,null,null,null,null,null,null,null,null,null,null,null,null,null,null,null,null,null,null,null,null,null,null,null,null,null,null,null,null,null,null,null,null,null,null,null,null,null,null,null,null,null,null,null,null,null,null,null,null,null,null,null,null,null,null,null,null,null,null,null,null,null,null,null,null,null,null,null,null,null,null,null,null,null,null,null,null,null,null,null,null,null,null,null,null,{"$f":"IF(SUM(G4,P4,W4,AD4,AH4,AO4,AV4,BB4)>0,(7-(SUM(G4,P4,W4,AD4,AH4,AO4,AV4,BB4)/8)),0)","v":0},null,null,{"$f":"SUM(F4,J4,M4,Y4,AE4,AN4,AS4,BC4,BE4)","v":0},{"$f":"DL4/9","v":0},{"$f":"SUM(I4,N4,X4,AB4,AC4,AM4,AP4,AU4,AW4,BA4)","v":0},{"$f":"DN4/10","v":0},{"$f":"SUM(H4,O4,Q4,T4,V4,AG4,AJ4,AQ4,AX4)","v":0},{"$f":"DP4/9","v":0},{"$f":"SUM(E4,K4,R4,U4,Z4,AF4,AI4,AL4,AT4,AZ4,BD4)","v":0},{"$f":"DR4/11","v":0},{"$f":"SUM(E4,I4,O4,U4,AF4,AN4,AQ4,AS4,AW4,BE4)","v":0},{"$f":"DT4/10","v":0},{"$f":"SUM(H4,M4,R4,V4,Z4,AE4,AI4,AM4,AU4,BA4)","v":0},{"$f":"DV4/10","v":0},{"$f":"SUM(F4,K4,Q4,X4,AC4,AJ4,AZ4,BC4)","v":0},{"$f":"DX4/8","v":0},{"$f":"SUM(J4,N4,T4,Y4,AB4,AG4,AL4,AP4,AT4,AX4,BD4)","v":0},{"$f":"DZ4/11","v":0},{"$f":"SUM(DU4,DW4)/2","v":0},{"$f":"SUM(DY4,EA4)/2","v":0},{"$f":"SUM(DM4,DO4,DQ4,DS4,DU4,DW4,DY4,EA4)/8","v":0},null,null,null,{"$f":"IF(SUM(BI4,BR4,BY4,CF4,CJ4,CQ4,CX4,DD4)>0,(7-(SUM(BI4,BR4,BY4,CF4,CJ4,CQ4,CX4,DD4)/8)),0)","v":0},null,null,{"$f":"SUM(BH4,BL4,BO4,CA4,CG4,CP4,CU4,DE4,DG4)","v":0},{"$f":"EK4/9","v":0},{"$f":"SUM(BK4,BP4,BZ4,CD4,CE4,CO4,CR4,CW4,CY4,DC4)","v":0},{"$f":"EM4/10","v":0},{"$f":"SUM(BJ4,BQ4,BS4,BV4,BX4,CI4,CL4,CS4,CZ4)","v":0},{"$f":"EO4/9","v":0},{"$f":"SUM(BG4,BM4,BT4,BW4,CB4,CH4,CK4,CN4,CV4,DB4,DF4)","v":0},{"$f":"EQ4/11","v":0},{"$f":"SUM(BG4,BK4,BQ4,BW4,CH4,CP4,CS4,CU4,CY4,DG4)","v":0},{"$f":"ES4/10","v":0},{"$f":"SUM(BJ4,BO4,BT4,BX4,CB4,CG4,CK4,CO4,CW4,DC4)","v":0},{"$f":"EU4/10","v":0},{"$f":"SUM(BH4,BM4,BS4,BZ4,CE4,CL4,DB4,DE4)","v":0},{"$f":"EW4/8","v":0},{"$f":"SUM(BL4,BP4,BV4,CA4,CD4,CI4,CN4,CR4,CV4,CZ4,DF4)","v":0},{"$f":"EY4/11","v":0},{"$f":"SUM(ET4,EV4)/2","v":0},{"$f":"SUM(EX4,EZ4)/2","v":0},{"$f":"SUM(EL4,EN4,EP4,ER4,ET4,EV4,EX4,EZ4)/8","v":0},null,{"$f":"IF($GC4<>\"\",EH4-DI4,\"\")","v":""},{"$f":"IF($GC4<>\"\",EI4-DJ4,\"\")","v":""},null,{"$f":"IF($GC4<>\"\",EK4-DL4,\"\")","v":""},{"$f":"IF($GC4<>\"\",EL4-DM4,\"\")","v":""},{"$f":"IF($GC4<>\"\",EM4-DN4,\"\")","v":""},{"$f":"IF($GC4<>\"\",EN4-DO4,\"\")","v":""},{"$f":"IF($GC4<>\"\",EO4-DP4,\"\")","v":""},{"$f":"IF($GC4<>\"\",EP4-DQ4,\"\")","v":""},{"$f":"IF($GC4<>\"\",EQ4-DR4,\"\")","v":""},{"$f":"IF($GC4<>\"\",ER4-DS4,\"\")","v":""},{"$f":"IF($GC4<>\"\",ES4-DT4,\"\")","v":""},{"$f":"IF($GC4<>\"\",ET4-DU4,\"\")","v":""},{"$f":"IF($GC4<>\"\",EU4-DV4,\"\")","v":""},{"$f":"IF($GC4<>\"\",EV4-DW4,\"\")","v":""},{"$f":"IF($GC4<>\"\",EW4-DX4,\"\")","v":""},{"$f":"IF($GC4<>\"\",EX4-DY4,\"\")","v":""},{"$f":"IF($GC4<>\"\",EY4-DZ4,\"\")","v":""},{"$f":"IF($GC4<>\"\",EZ4-EA4,\"\")","v":""},{"$f":"IF($GC4<>\"\",FA4-EB4,\"\")","v":""},{"$f":"IF($GC4<>\"\",FB4-EC4,\"\")","v":""},{"$f":"IF($GC4<>\"\",FC4-ED4,\"\")","v":""},null,{"$f":"IF(Programs!$D$6=\"\",\"\",Programs!$D$6)","v":""},{"$f":"IF(AND(COUNT(D4:BE4)>48,COUNT(BF4:DG4)>48),GB4,\"\")","v":""},{"$f":"IF($GC4=\"\",\"\",(IF(FE4<0,$GC4,\"\")))","v":""},{"$f":"IF($GC4=\"\",\"\",(IF(FF4<0,$GC4,\"\")))","v":""},{"$f":"IF($GC4=\"\",\"\",(IF(FG4<0,$GC4,\"\")))","v":""},{"$f":"IF($GC4=\"\",\"\",(IF(FH4<0,$GC4,\"\")))","v":""},{"$f":"IF($GC4=\"\",\"\",IF(FI4<0,$GC4,\"\"))","v":""},{"$f":"IF($GC4=\"\",\"\",(IF(FJ4<0,$GC4,\"\")))","v":""},{"$f":"IF($GC4=\"\",\"\",IF(FK4<0,$GC4,\"\"))","v":""},{"$f":"IF($GC4=\"\",\"\",(IF(FL4<0,$GC4,\"\")))","v":""},{"$f":"IF($GC4=\"\",\"\",IF(FM4<0,$GC4,\"\"))","v":""},{"$f":"IF($GC4=\"\",\"\",(IF(FN4<0,$GC4,\"\")))","v":""},{"$f":"IF($GC4=\"\",\"\",IF(FO4<0,$GC4,\"\"))","v":""},{"$f":"IF($GC4=\"\",\"\",(IF(FP4<0,$GC4,\"\")))","v":""},{"$f":"IF($GC4=\"\",\"\",IF(FQ4<0,$GC4,\"\"))","v":""},{"$f":"IF($GC4=\"\",\"\",(IF(FR4<0,$GC4,\"\")))","v":""},{"$f":"IF($GC4=\"\",\"\",IF(FS4<0,$GC4,\"\"))","v":""},{"$f":"IF($GC4=\"\",\"\",(IF(FT4<0,$GC4,\"\")))","v":""},{"$f":"IF($GC4=\"\",\"\",IF(FU4<0,$GC4,\"\"))","v":""},{"$f":"IF($GC4=\"\",\"\",(IF(FV4<0,$GC4,\"\")))","v":""},{"$f":"IF($GC4=\"\",\"\",IF(FW4<0,$GC4,\"\"))","v":""},{"$f":"IF($GC4=\"\",\"\",IF(FX4<0,$GC4,\"\"))","v":""},{"$f":"IF($GC4=\"\",\"\",IF(FY4<0,$GC4,\"\"))","v":""},{"$f":"IF($GC4=\"\",\"\",IF(FZ4<0,$GC4,\"\"))","v":""},null,{"$f":"IF($GC4=\"\",\"\",(IF(FH4>0,$GC4,\"\")))","v":""},{"$f":"IF($GC4=\"\",\"\",(IF(FI4>0,$GC4,\"\")))","v":""},"","","","","","","","","","","","","","","","",""]
[null,{"$f":"Programs!B10","v":0},{"$f":"IF(Programs!$C$6=\"\",\"\",Programs!$C$6)","v":""},null,null,null,null,null,null,null,null,null,null,null,null,null,null,null,null,null,null,null,null,null,null,null,null,null,null,null,null,null,null,null,null,null,null,null,null,null,null,null,null,null,null,null,null,null,null,null,null,null,null,null,null,null,null,null,null,null,null,null,null,null,null,null,null,null,null,null,null,null,null,null,null,null,null,null,null,null,null,null,null,null,null,null,null,null,null,null,null,null,null,null,null,null,null,null,null,null,null,null,null,null,null,null,null,null,null,null,null,null,{"$f":"IF(SUM(G5,P5,W5,AD5,AH5,AO5,AV5,BB5)>0,(7-(SUM(G5,P5,W5,AD5,AH5,AO5,AV5,BB5)/8)),0)","v":0},null,null,{"$f":"SUM(F5,J5,M5,Y5,AE5,AN5,AS5,BC5,BE5)","v":0},{"$f":"DL5/9","v":0},{"$f":"SUM(I5,N5,X5,AB5,AC5,AM5,AP5,AU5,AW5,BA5)","v":0},{"$f":"DN5/10","v":0},{"$f":"SUM(H5,O5,Q5,T5,V5,AG5,AJ5,AQ5,AX5)","v":0},{"$f":"DP5/9","v":0},{"$f":"SUM(E5,K5,R5,U5,Z5,AF5,AI5,AL5,AT5,AZ5,BD5)","v":0},{"$f":"DR5/11","v":0},{"$f":"SUM(E5,I5,O5,U5,AF5,AN5,AQ5,AS5,AW5,BE5)","v":0},{"$f":"DT5/10","v":0},{"$f":"SUM(H5,M5,R5,V5,Z5,AE5,AI5,AM5,AU5,BA5)","v":0},{"$f":"DV5/10","v":0},{"$f":"SUM(F5,K5,Q5,X5,AC5,AJ5,AZ5,BC5)","v":0},{"$f":"DX5/8","v":0},{"$f":"SUM(J5,N5,T5,Y5,AB5,AG5,AL5,AP5,AT5,AX5,BD5)","v":0},{"$f":"DZ5/11","v":0},{"$f":"SUM(DU5,DW5)/2","v":0},{"$f":"SUM(DY5,EA5)/2","v":0},{"$f":"SUM(DM5,DO5,DQ5,DS5,DU5,DW5,DY5,EA5)/8","v":0},null,null,null,0,null,null,0,{"$f":"EK5/9","v":0},0,{"$f":"EM5/10","v":0},0,{"$f":"EO5/9","v":0},0,{"$f":"EQ5/11","v":0},0,{"$f":"ES5/10","v":0},0,{"$f":"EU5/10","v":0},0,{"$f":"EW5/8","v":0},0,{"$f":"EY5/11","v":0},{"$f":"SUM(ET5,EV5)/2","v":0},{"$f":"SUM(EX5,EZ5)/2","v":0},{"$f":"SUM(EL5,EN5,EP5,ER5,ET5,EV5,EX5,EZ5)/8","v":0},null,"","",null,"","","","","","","","","","","","","","","","","","","",null,{"$f":"IF(Programs!$D$6=\"\",\"\",Programs!$D$6)","v":""},{"$f":"IF(AND(COUNT(D5:BE5)>48,COUNT(BF5:DG5)>48),GB5,\"\")","v":""},"","","",{"$f":"IF($GC5=\"\",\"\",(IF(FH5<0,$GC5,\"\")))","v":""},{"$f":"IF($GC5=\"\",\"\",IF(FI5<0,$GC5,\"\"))","v":""},{"$f":"IF($GC5=\"\",\"\",(IF(FJ5<0,$GC5,\"\")))","v":""},{"$f":"IF($GC5=\"\",\"\",IF(FK5<0,$GC5,\"\"))","v":""},{"$f":"IF($GC5=\"\",\"\",(IF(FL5<0,$GC5,\"\")))","v":""},{"$f":"IF($GC5=\"\",\"\",IF(FM5<0,$GC5,\"\"))","v":""},{"$f":"IF($GC5=\"\",\"\",(IF(FN5<0,$GC5,\"\")))","v":""},{"$f":"IF($GC5=\"\",\"\",IF(FO5<0,$GC5,\"\"))","v":""},{"$f":"IF($GC5=\"\",\"\",(IF(FP5<0,$GC5,\"\")))","v":""},{"$f":"IF($GC5=\"\",\"\",IF(FQ5<0,$GC5,\"\"))","v":""},{"$f":"IF($GC5=\"\",\"\",(IF(FR5<0,$GC5,\"\")))","v":""},{"$f":"IF($GC5=\"\",\"\",IF(FS5<0,$GC5,\"\"))","v":""},{"$f":"IF($GC5=\"\",\"\",(IF(FT5<0,$GC5,\"\")))","v":""},{"$f":"IF($GC5=\"\",\"\",IF(FU5<0,$GC5,\"\"))","v":""},{"$f":"IF($GC5=\"\",\"\",(IF(FV5<0,$GC5,\"\")))","v":""},{"$f":"IF($GC5=\"\",\"\",IF(FW5<0,$GC5,\"\"))","v":""},{"$f":"IF($GC5=\"\",\"\",IF(FX5<0,$GC5,\"\"))","v":""},{"$f":"IF($GC5=\"\",\"\",IF(FY5<0,$GC5,\"\"))","v":""},{"$f":"IF($GC5=\"\",\"\",IF(FZ5<0,$GC5,\"\"))","v":""},null,{"$f":"IF($GC5=\"\",\"\",(IF(FH5>0,$GC5,\"\")))","v":""},{"$f":"IF($GC5=\"\",\"\",(IF(FI5>0,$GC5,\"\")))","v":""},{"$f":"IF($GC5=\"\",\"\",(IF(FJ5>0,$GC5,\"\")))","v":""},{"$f":"IF($GC5=\"\",\"\",(IF(FK5>0,$GC5,\"\")))","v":""},{"$f":"IF($GC5=\"\",\"\",(IF(FL5>0,$GC5,\"\")))","v":""},{"$f":"IF($GC5=\"\",\"\",(IF(FM5>0,$GC5,\"\")))","v":""},{"$f":"IF($GC5=\"\",\"\",(IF(FN5>0,$GC5,\"\")))","v":""},{"$f":"IF($GC5=\"\",\"\",(IF(FO5>0,$GC5,\"\")))","v":""},{"$f":"IF($GC5=\"\",\"\",(IF(FP5>0,$GC5,\"\")))","v":""},{"$f":"IF($GC5=\"\",\"\",(IF(FQ5>0,$GC5,\"\")))","v":""},{"$f":"IF($GC5=\"\",\"\",(IF(FR5>0,$GC5,\"\")))","v":""},{"$f":"IF($GC5=\"\",\"\",(IF(FS5>0,$GC5,\"\")))","v":""},{"$f":"IF($GC5=\"\",\"\",(IF(FT5>0,$GC5,\"\")))","v":""},{"$f":"IF($GC5=\"\",\"\",(IF(FU5>0,$GC5,\"\")))","v":""},{"$f":"IF($GC5=\"\",\"\",(IF(FV5>0,$GC5,\"\")))","v":""},{"$f":"IF($GC5=\"\",\"\",(IF(FW5>0,$GC5,\"\")))","v":""},{"$f":"IF($GC5=\"\",\"\",(IF(FX5>0,$GC5,\"\")))","v":""},{"$f":"IF($GC5=\"\",\"\",(IF(FY5>0,$GC5,\"\")))","v":""},{"$f":"IF($GC5=\"\",\"\",(IF(FZ5>0,$GC5,\"\")))","v":""}]
[null,{"$f":"Programs!B11","v":0},{"$f":"IF(Programs!$C$6=\"\",\"\",Programs!$C$6)","v":""},null,null,null,null,null,null,null,null,null,null,null,null,null,null,null,null,null,null,null,null,null,null,null,null,null,null,null,null,null,null,null,null,null,null,null,null,null,null,null,null,null,null,null,null,null,null,null,null,null,null,null,null,null,null,null,null,null,null,null,null,null,null,null,null,null,null,null,null,null,null,null,null,null,null,null,null,null,null,null,null,null,null,null,null,null,null,null,null,null,null,null,null,null,null,null,null,null,null,null,null,null,null,null,null,null,null,null,null,null,0,null,null,0,0,0,0,0,0,0,0,0,0,0,0,0,0,0,0,0,0,0,null,null,null,0,null,null,0,0,0,0,0,0,0,0,0,0,0,0,0,0,0,0,0,0,0,null,"","",null,"","","","","","","","","","","","","","","","","","","",null,{"$f":"IF(Programs!$D$6=\"\",\"\",Programs!$D$6)","v":""},"","","","","","","","","","","","","","","","","","","","","","","",null,"","","","","","","","","","","","","","","","","","",""]
[null,{"$f":"Programs!B12","v":0},{"$f":"IF(Programs!$C$6=\"\",\"\",Programs!$C$6)","v":""},null,null,null,null,null,null,null,null,null,null,null,null,null,null,null,null,null,null,null,null,null,null,null,null,null,null,null,null,null,null,null,null,null,null,null,null,null,null,null,null,null,null,null,null,null,null,null,null,null,null,null,null,null,null,null,null,null,null,null,null,null,null,null,null,null,null,null,null,null,null,null,null,null,null,null,null,null,null,null,null,null,null,null,null,null,null,null,null,null,null,null,null,null,null,null,null,null,null,null,null,null,null,null,null,null,null,null,null,null,0,null,null,0,0,0,0,0,0,0,0,0,0,0,0,0,0,0,0,0,0,0,null,null,null,0,null,null,0,0,0,0,0,0,0,0,0,0,0,0,0,0,0,0,0,0,0,null,"","",null,"","","","","","","","","","","","","","","","","","","",null,{"$f":"IF(Programs!$D$6=\"\",\"\",Programs!$D$6)","v":""},"","","","","","","","","","","","","","","","","","","","","","","",null,"","","","","","","","","","","","","","","","","","",""]
[null,{"$f":"Programs!B13","v":0},{"$f":"IF(Programs!$C$6=\"\",\"\",Programs!$C$6)","v":""},null,null,null,null,null,null,null,null,null,null,null,null,null,null,null,null,null,null,null,null,null,null,null,null,null,null,null,null,null,null,null,null,null,null,null,null,null,null,null,null,null,null,null,null,null,null,null,null,null,null,null,null,null,null,null,null,null,null,null,null,null,null,null,null,null,null,null,null,null,null,null,null,null,null,null,null,null,null,null,null,null,null,null,null,null,null,null,null,null,null,null,null,null,null,null,null,null,null,null,null,null,null,null,null,null,null,null,null,null,0,null,null,0,0,0,0,0,0,0,0,0,0,0,0,0,0,0,0,0,0,0,null,null,null,0,null,null,0,0,0,0,0,0,0,0,0,0,0,0,0,0,0,0,0,0,0,null,"","",null,"","","","","","","","","","","","","","","","","","","",null,{"$f":"IF(Programs!$D$6=\"\",\"\",Programs!$D$6)","v":""},"","","","","","","","","","","","","","","","","","","","","","","",null,"","","","","","","","","","","","","","","","","","",""]
[null,{"$f":"Programs!B14","v":0},{"$f":"IF(Programs!$C$6=\"\",\"\",Programs!$C$6)","v":""},null,null,null,null,null,null,null,null,null,null,null,null,null,null,null,null,null,null,null,null,null,null,null,null,null,null,null,null,null,null,null,null,null,null,null,null,null,null,null,null,null,null,null,null,null,null,null,null,null,null,null,null,null,null,null,null,null,null,null,null,null,null,null,null,null,null,null,null,null,null,null,null,null,null,null,null,null,null,null,null,null,null,null,null,null,null,null,null,null,null,null,null,null,null,null,null,null,null,null,null,null,null,null,null,null,null,null,null,null,0,null,null,0,0,0,0,0,0,0,0,0,0,0,0,0,0,0,0,0,0,0,null,null,null,0,null,null,0,0,0,0,0,0,0,0,0,0,0,0,0,0,0,0,0,0,0,null,"","",null,"","","","","","","","","","","","","","","","","","","",null,{"$f":"IF(Programs!$D$6=\"\",\"\",Programs!$D$6)","v":""},"","","","","","","","","","","","","","","","","","","","","","","",null,"","","","","","","","","","","","","","","","","","",""]
[null,{"$f":"Programs!B15","v":0},{"$f":"IF(Programs!$C$6=\"\",\"\",Programs!$C$6)","v":""},null,null,null,null,null,null,null,null,null,null,null,null,null,null,null,null,null,null,null,null,null,null,null,null,null,null,null,null,null,null,null,null,null,null,null,null,null,null,null,null,null,null,null,null,null,null,null,null,null,null,null,null,null,null,null,null,null,null,null,null,null,null,null,null,null,null,null,null,null,null,null,null,null,null,null,null,null,null,null,null,null,null,null,null,null,null,null,null,null,null,null,null,null,null,null,null,null,null,null,null,null,null,null,null,null,null,null,null,null,0,null,null,0,0,0,0,0,0,0,0,0,0,0,0,0,0,0,0,0,0,0,null,null,null,0,null,null,0,0,0,0,0,0,0,0,0,0,0,0,0,0,0,0,0,0,0,null,"","",null,"","","","","","","","","","","","","","","","","","","",null,{"$f":"IF(Programs!$D$6=\"\",\"\",Programs!$D$6)","v":""},"","","","","","","","","","","","","","","","","","","","","","","",null,"","","","","","","","","","","","","","","","","","",""]
[null,{"$f":"Programs!B16","v":0},{"$f":"IF(Programs!$C$6=\"\",\"\",Programs!$C$6)","v":""},null,null,null,null,null,null,null,null,null,null,null,null,null,null,null,null,null,null,null,null,null,null,null,null,null,null,null,null,null,null,null,null,null,null,null,null,null,null,null,null,null,null,null,null,null,null,null,null,null,null,null,null,null,null,null,null,null,null,null,null,null,null,null,null,null,null,null,null,null,null,null,null,null,null,null,null,null,null,null,null,null,null,null,null,null,null,null,null,null,null,null,null,null,null,null,null,null,null,null,null,null,null,null,null,null,null,null,null,null,0,null,null,0,0,0,0,0,0,0,0,0,0,0,0,0,0,0,0,0,0,0,null,null,null,0,null,null,0,0,0,0,0,0,0,0,0,0,0,0,0,0,0,0,0,0,0,null,"","",null,"","","","","","","","","","","","","","","","","","","",null,{"$f":"IF(Programs!$D$6=\"\",\"\",Programs!$D$6)","v":""},"","","","","","","","","","","","","","","","","","","","","","","",null,"","","","","","","","","","","","","","","","","","",""]
[null,{"$f":"Programs!B17","v":0},{"$f":"IF(Programs!$C$6=\"\",\"\",Programs!$C$6)","v":""},null,null,null,null,null,null,null,null,null,null,null,null,null,null,null,null,null,null,null,null,null,null,null,null,null,null,null,null,null,null,null,null,null,null,null,null,null,null,null,null,null,null,null,null,null,null,null,null,null,null,null,null,null,null,null,null,null,null,null,null,null,null,null,null,null,null,null,null,null,null,null,null,null,null,null,null,null,null,null,null,null,null,null,null,null,null,null,null,null,null,null,null,null,null,null,null,null,null,null,null,null,null,null,null,null,null,null,null,null,{"$f":"IF(SUM(G12,P12,W12,AD12,AH12,AO12,AV12,BB12)>0,(7-(SUM(G12,P12,W12,AD12,AH12,AO12,AV12,BB12)/8)),0)","v":0},null,null,{"$f":"SUM(F12,J12,M12,Y12,AE12,AN12,AS12,BC12,BE12)","v":0},{"$f":"DL12/9","v":0},{"$f":"SUM(I12,N12,X12,AB12,AC12,AM12,AP12,AU12,AW12,BA12)","v":0},{"$f":"DN12/10","v":0},{"$f":"SUM(H12,O12,Q12,T12,V12,AG12,AJ12,AQ12,AX12)","v":0},{"$f":"DP12/9","v":0},{"$f":"SUM(E12,K12,R12,U12,Z12,AF12,AI12,AL12,AT12,AZ12,BD12)","v":0},{"$f":"DR12/11","v":0},{"$f":"SUM(E12,I12,O12,U12,AF12,AN12,AQ12,AS12,AW12,BE12)","v":0},{"$f":"DT12/10","v":0},{"$f":"SUM(H12,M12,R12,V12,Z12,AE12,AI12,AM12,AU12,BA12)","v":0},{"$f":"DV12/10","v":0},{"$f":"SUM(F12,K12,Q12,X12,AC12,AJ12,AZ12,BC12)","v":0},{"$f":"DX12/8","v":0},{"$f":"SUM(J12,N12,T12,Y12,AB12,AG12,AL12,AP12,AT12,AX12,BD12)","v":0},{"$f":"DZ12/11","v":0},{"$f":"SUM(DU12,DW12)/2","v":0},{"$f":"SUM(DY12,EA12)/2","v":0},{"$f":"SUM(DM12,DO12,DQ12,DS12,DU12,DW12,DY12,EA12)/8","v":0},null,null,null,{"$f":"IF(SUM(BI12,BR12,BY12,CF12,CJ12,CQ12,CX12,DD12)>0,(7-(SUM(BI12,BR12,BY12,CF12,CJ12,CQ12,CX12,DD12)/8)),0)","v":0},null,null,{"$f":"SUM(BH12,BL12,BO12,CA12,CG12,CP12,CU12,DE12,DG12)","v":0},{"$f":"EK12/9","v":0},{"$f":"SUM(BK12,BP12,BZ12,CD12,CE12,CO12,CR12,CW12,CY12,DC12)","v":0},{"$f":"EM12/10","v":0},{"$f":"SUM(BJ12,BQ12,BS12,BV12,BX12,CI12,CL12,CS12,CZ12)","v":0},{"$f":"EO12/9","v":0},{"$f":"SUM(BG12,BM12,BT12,BW12,CB12,CH12,CK12,CN12,CV12,DB12,DF12)","v":0},{"$f":"EQ12/11","v":0},{"$f":"SUM(BG12,BK12,BQ12,BW12,CH12,CP12,CS12,CU12,CY12,DG12)","v":0},{"$f":"ES12/10","v":0},{"$f":"SUM(BJ12,BO12,BT12,BX12,CB12,CG12,CK12,CO12,CW12,DC12)","v":0},{"$f":"EU12/10","v":0},{"$f":"SUM(BH12,BM12,BS12,BZ12,CE12,CL12,DB12,DE12)","v":0},{"$f":"EW12/8","v":0},{"$f":"SUM(BL12,BP12,BV12,CA12,CD12,CI12,CN12,CR12,CV12,CZ12,DF12)","v":0},{"$f":"EY12/11","v":0},{"$f":"SUM(ET12,EV12)/2","v":0},{"$f":"SUM(EX12,EZ12)/2","v":0},{"$f":"SUM(EL12,EN12,EP12,ER12,ET12,EV12,EX12,EZ12)/8","v":0},null,{"$f":"IF($GC12<>\"\",EH12-DI12,\"\")","v":""},{"$f":"IF($GC12<>\"\",EI12-DJ12,\"\")","v":""},null,{"$f":"IF($GC12<>\"\",EK12-DL12,\"\")","v":""},{"$f":"IF($GC12<>\"\",EL12-DM12,\"\")","v":""},{"$f":"IF($GC12<>\"\",EM12-DN12,\"\")","v":""},{"$f":"IF($GC12<>\"\",EN12-DO12,\"\")","v":""},{"$f":"IF($GC12<>\"\",EO12-DP12,\"\")","v":""},{"$f":"IF($GC12<>\"\",EP12-DQ12,\"\")","v":""},{"$f":"IF($GC12<>\"\",EQ12-DR12,\"\")","v":""},{"$f":"IF($GC12<>\"\",ER12-DS12,\"\")","v":""},{"$f":"IF($GC12<>\"\",ES12-DT12,\"\")","v":""},{"$f":"IF($GC12<>\"\",ET12-DU12,\"\")","v":""},{"$f":"IF($GC12<>\"\",EU12-DV12,\"\")","v":""},{"$f":"IF($GC12<>\"\",EV12-DW12,\"\")","v":""},{"$f":"IF($GC12<>\"\",EW12-DX12,\"\")","v":""},{"$f":"IF($GC12<>\"\",EX12-DY12,\"\")","v":""},{"$f":"IF($GC12<>\"\",EY12-DZ12,\"\")","v":""},{"$f":"IF($GC12<>\"\",EZ12-EA12,\"\")","v":""},{"$f":"IF($GC12<>\"\",FA12-EB12,\"\")","v":""},{"$f":"IF($GC12<>\"\",FB12-EC12,\"\")","v":""},{"$f":"IF($GC12<>\"\",FC12-ED12,\"\")","v":""},null,{"$f":"IF(Programs!$D$6=\"\",\"\",Programs!$D$6)","v":""},{"$f":"IF(AND(COUNT(D12:BE12)>48,COUNT(BF12:DG12)>48),GB12,\"\")","v":""},{"$f":"IF($GC12=\"\",\"\",(IF(FE12<0,$GC12,\"\")))","v":""},{"$f":"IF($GC12=\"\",\"\",(IF(FF12<0,$GC12,\"\")))","v":""},{"$f":"IF($GC12=\"\",\"\",(IF(FG12<0,$GC12,\"\")))","v":""},"","","","","","","","","","","","","","","","","","","",null,"","","","","","","","","","","","","","","","","","",""]
[null,{"$f":"Programs!B18","v":0},{"$f":"IF(Programs!$C$6=\"\",\"\",Programs!$C$6)","v":""},null,null,null,null,null,null,null,null,null,null,null,null,null,null,null,null,null,null,null,null,null,null,null,null,null,null,null,null,null,null,null,null,null,null,null,null,null,null,null,null,null,null,null,null,null,null,null,null,null,null,null,null,null,null,null,null,null,null,null,null,null,null,null,null,null,null,null,null,null,null,null,null,null,null,null,null,null,null,null,null,null,null,null,null,null,null,null,null,null,null,null,null,null,null,null,null,null,null,null,null,null,null,null,null,null,null,null,null,null,0,null,null,0,0,0,0,0,0,0,0,0,0,0,0,0,0,0,0,0,0,0,null,null,null,0,null,null,0,0,0,0,0,0,0,0,0,0,0,0,0,0,0,0,0,0,0,null,"","",null,"","","","","","","","","","","","","","","","","","","",null,{"$f":"IF(Programs!$D$6=\"\",\"\",Programs!$D$6)","v":""},"","","","","","","","","","","","","","","","","","","","","","","",null,"","","","","","","","","","","","","","","","","","",""]
[null,{"$f":"Programs!B19","v":0},{"$f":"IF(Programs!$C$6=\"\",\"\",Programs!$C$6)","v":""},null,null,null,null,null,null,null,null,null,null,null,null,null,null,null,null,null,null,null,null,null,null,null,null,null,null,null,null,null,null,null,null,null,null,null,null,null,null,null,null,null,null,null,null,null,null,null,null,null,null,null,null,null,null,null,null,null,null,null,null,null,null,null,null,null,null,null,null,null,null,null,null,null,null,null,null,null,null,null,null,null,null,null,null,null,null,null,null,null,null,null,null,null,null,null,null,null,null,null,null,null,null,null,null,null,null,null,null,null,0,null,null,0,0,0,0,0,0,0,0,0,0,0,0,0,0,0,0,0,0,0,null,null,null,0,null,null,0,0,0,0,0,0,0,0,0,0,0,0,0,0,0,0,0,0,0,null,"","",null,"","","","","","","","","","","","","","","","","","","",null,{"$f":"IF(Programs!$D$6=\"\",\"\",Programs!$D$6)","v":""},"","","","","","","","","","","","","","","","","","","","","","","",null,"","","","","","","","","","","","","","","","","","",""]
[null,{"$f":"Programs!B20","v":0},{"$f":"IF(Programs!$C$6=\"\",\"\",Programs!$C$6)","v":""},null,null,null,null,null,null,null,null,null,null,null,null,null,null,null,null,null,null,null,null,null,null,null,null,null,null,null,null,null,null,null,null,null,null,null,null,null,null,null,null,null,null,null,null,null,null,null,null,null,null,null,null,null,null,null,null,null,null,null,null,null,null,null,null,null,null,null,null,null,null,null,null,null,null,null,null,null,null,null,null,null,null,null,null,null,null,null,null,null,null,null,null,null,null,null,null,null,null,null,null,null,null,null,null,null,null,null,null,null,0,null,null,0,0,0,0,0,0,0,0,0,0,0,0,0,0,0,0,0,0,0,null,null,null,0,null,null,0,0,0,0,0,0,0,0,0,0,0,0,0,0,0,0,0,0,0,null,"","",null,"","","","","","","","","","","","","","","","","","","",null,{"$f":"IF(Programs!$D$6=\"\",\"\",Programs!$D$6)","v":""},"","","","","","","","","","","","","","","","","","","","","","","",null,"","","","","","","","","","","","","","","","","","",""]
["Program 2",{"$f":"Programs!B28","v":0},{"$f":"IF(Programs!$C$25=\"\",\"\",Programs!$C$25)","v":""},null,null,null,null,null,null,null,null,null,null,null,null,null,null,null,null,null,null,null,null,null,null,null,null,null,null,null,null,null,null,null,null,null,null,null,null,null,null,null,null,null,null,null,null,null,null,null,null,null,null,null,null,null,null,null,null,null,null,null,null,null,null,null,null,null,null,null,null,null,null,null,null,null,null,null,null,null,null,null,null,null,null,null,null,null,null,null,null,null,null,null,null,null,null,null,null,null,null,null,null,null,null,null,null,null,null,null,null,null,{"$f":"IF(SUM(G16,P16,W16,AD16,AH16,AO16,AV16,BB16)>0,(7-(SUM(G16,P16,W16,AD16,AH16,AO16,AV16,BB16)/8)),0)","v":0},null,null,{"$f":"SUM(F16,J16,M16,Y16,AE16,AN16,AS16,BC16,BE16)","v":0},{"$f":"DL16/9","v":0},{"$f":"SUM(I16,N16,X16,AB16,AC16,AM16,AP16,AU16,AW16,BA16)","v":0},{"$f":"DN16/10","v":0},{"$f":"SUM(H16,O16,Q16,T16,V16,AG16,AJ16,AQ16,AX16)","v":0},{"$f":"DP16/9","v":0},{"$f":"SUM(E16,K16,R16,U16,Z16,AF16,AI16,AL16,AT16,AZ16,BD16)","v":0},{"$f":"DR16/11","v":0},{"$f":"SUM(E16,I16,O16,U16,AF16,AN16,AQ16,AS16,AW16,BE16)","v":0},{"$f":"DT16/10","v":0},{"$f":"SUM(H16,M16,R16,V16,Z16,AE16,AI16,AM16,AU16,BA16)","v":0},{"$f":"DV16/10","v":0},{"$f":"SUM(F16,K16,Q16,X16,AC16,AJ16,AZ16,BC16)","v":0},{"$f":"DX16/8","v":0},{"$f":"SUM(J16,N16,T16,Y16,AB16,AG16,AL16,AP16,AT16,AX16,BD16)","v":0},{"$f":"DZ16/11","v":0},{"$f":"SUM(DU16,DW16)/2","v":0},{"$f":"SUM(DY16,EA16)/2","v":0},{"$f":"SUM(DM16,DO16,DQ16,DS16,DU16,DW16,DY16,EA16)/8","v":0},null,null,null,0,null,null,0,{"$f":"EK16/9","v":0},0,{"$f":"EM16/10","v":0},0,{"$f":"EO16/9","v":0},0,{"$f":"EQ16/11","v":0},0,{"$f":"ES16/10","v":0},0,{"$f":"EU16/10","v":0},0,{"$f":"EW16/8","v":0},0,{"$f":"EY16/11","v":0},{"$f":"SUM(ET16,EV16)/2","v":0},{"$f":"SUM(EX16,EZ16)/2","v":0},{"$f":"SUM(EL16,EN16,EP16,ER16,ET16,EV16,EX16,EZ16)/8","v":0},null,"","",null,"","","","","","","","","","","","","","","","","","","",null,{"$f":"IF(Programs!$D$25=\"\",\"\",Programs!$D$25)","v":""},"","","","","","","","","","","","","","","","","","","","","","","",null,"","","","","","","","","","","","","","","","","","",""]
[null,{"$f":"Programs!B29","v":0},{"$f":"IF(Programs!$C$25=\"\",\"\",Programs!$C$25)","v":""},null,null,null,null,null,null,null,null,null,null,null,null,null,null,null,null,null,null,null,null,null,null,null,null,null,null,null,null,null,null,null,null,null,null,null,null,null,null,null,null,null,null,null,null,null,null,null,null,null,null,null,null,null,null,null,null,null,null,null,null,null,null,null,null,null,null,null,null,null,null,null,null,null,null,null,null,null,null,null,null,null,null,null,null,null,null,null,null,null,null,null,null,null,null,null,null,null,null,null,null,null,null,null,null,null,null,null,null,null,0,null,null,0,0,0,0,0,0,0,0,0,0,0,0,0,0,0,0,0,0,0,null,null,null,0,null,null,0,0,0,0,0,0,0,0,0,0,0,0,0,0,0,0,0,0,0,null,"","",null,"","","","","","","","","","","","","","","","","","","",null,{"$f":"IF(Programs!$D$25=\"\",\"\",Programs!$D$25)","v":""},"","","","","","","","","","","","","","","","","","","","","","","",null,"","","","","","","","","","","","","","","","","","",""]
[null,{"$f":"Programs!B30","v":0},{"$f":"IF(Programs!$C$25=\"\",\"\",Programs!$C$25)","v":""},null,null,null,null,null,null,null,null,null,null,null,null,null,null,null,null,null,null,null,null,null,null,null,null,null,null,null,null,null,null,null,null,null,null,null,null,null,null,null,null,null,null,null,null,null,null,null,null,null,null,null,null,null,null,null,null,null,null,null,null,null,null,null,null,null,null,null,null,null,null,null,null,null,null,null,null,null,null,null,null,null,null,null,null,null,null,null,null,null,null,null,null,null,null,null,null,null,null,null,null,null,null,null,null,null,null,null,null,null,0,null,null,0,0,0,0,0,0,0,0,0,0,0,0,0,0,0,0,0,0,0,null,null,null,0,null,null,0,0,0,0,0,0,0,0,0,0,0,0,0,0,0,0,0,0,0,null,"","",null,"","","","","","","","","","","","","","","","","","","",null,{"$f":"IF(Programs!$D$25=\"\",\"\",Programs!$D$25)","v":""},"","","","","","","","","","","","","","","","","","","","","","","",null,"","","","","","","","","","","","","","","","","","",""]
[null,{"$f":"Programs!B31","v":0},{"$f":"IF(Programs!$C$25=\"\",\"\",Programs!$C$25)","v":""},null,null,null,null,null,null,null,null,null,null,null,null,null,null,null,null,null,null,null,null,null,null,null,null,null,null,null,null,null,null,null,null,null,null,null,null,null,null,null,null,null,null,null,null,null,null,null,null,null,null,null,null,null,null,null,null,null,null,null,null,null,null,null,null,null,null,null,null,null,null,null,null,null,null,null,null,null,null,null,null,null,null,null,null,null,null,null,null,null,null,null,null,null,null,null,null,null,null,null,null,null,null,null,null,null,null,null,null,null,0,null,null,0,0,0,0,0,0,0,0,0,0,0,0,0,0,0,0,0,0,0,null,null,null,0,null,null,0,0,0,0,0,0,0,0,0,0,0,0,0,0,0,0,0,0,0,null,"","",null,"","","","","","","","","","","","","","","","","","","",null,{"$f":"IF(Programs!$D$25=\"\",\"\",Programs!$D$25)","v":""},"","","","","","","","","","","","","","","","","","","","","","","",null,"","","","","","","","","","","","","","","","","","",""]
[null,{"$f":"Programs!B32","v":0},{"$f":"IF(Programs!$C$25=\"\",\"\",Programs!$C$25)","v":""},null,null,null,null,null,null,null,null,null,null,null,null,null,null,null,null,null,null,null,null,null,null,null,null,null,null,null,null,null,null,null,null,null,null,null,null,null,null,null,null,null,null,null,null,null,null,null,null,null,null,null,null,null,null,null,null,null,null,null,null,null,null,null,null,null,null,null,null,null,null,null,null,null,null,null,null,null,null,null,null,null,null,null,null,null,null,null,null,null,null,null,null,null,null,null,null,null,null,null,null,null,null,null,null,null,null,null,null,null,0,null,null,0,0,0,0,0,0,0,0,0,0,0,0,0,0,0,0,0,0,0,null,null,null,0,null,null,0,0,0,0,0,0,0,0,0,0,0,0,0,0,0,0,0,0,0,null,"","",null,"","","","","","","","","","","","","","","","","","","",null,{"$f":"IF(Programs!$D$25=\"\",\"\",Programs!$D$25)","v":""},"","","","","","","","","","","","","","","","","","","","","","","",null,"","","","","","","","","","","","","","","","","","",""]
[null,{"$f":"Programs!B33","v":0},{"$f":"IF(Programs!$C$25=\"\",\"\",Programs!$C$25)","v":""},null,null,null,null,null,null,null,null,null,null,null,null,null,null,null,null,null,null,null,null,null,null,null,null,null,null,null,null,null,null,null,null,null,null,null,null,null,null,null,null,null,null,null,null,null,null,null,null,null,null,null,null,null,null,null,null,null,null,null,null,null,null,null,null,null,null,null,null,null,null,null,null,null,null,null,null,null,null,null,null,null,null,null,null,null,null,null,null,null,null,null,null,null,null,null,null,null,null,null,null,null,null,null,null,null,null,null,null,null,0,null,null,0,0,0,0,0,0,0,0,0,0,0,0,0,0,0,0,0,0,0,null,null,null,0,null,null,0,0,0,0,0,0,0,0,0,0,0,0,0,0,0,0,0,0,0,null,"","",null,"","","","","","","","","","","","","","","","","","","",null,{"$f":"IF(Programs!$D$25=\"\",\"\",Programs!$D$25)","v":""},"","","","","","","","","","","","","","","","","","","","","","","",null,"","","","","","","","","","","","","","","","","","",""]
[null,{"$f":"Programs!B34","v":0},{"$f":"IF(Programs!$C$25=\"\",\"\",Programs!$C$25)","v":""},null,null,null,null,null,null,null,null,null,null,null,null,null,null,null,null,null,null,null,null,null,null,null,null,null,null,null,null,null,null,null,null,null,null,null,null,null,null,null,null,null,null,null,null,null,null,null,null,null,null,null,null,null,null,null,null,null,null,null,null,null,null,null,null,null,null,null,null,null,null,null,null,null,null,null,null,null,null,null,null,null,null,null,null,null,null,null,null,null,null,null,null,null,null,null,null,null,null,null,null,null,null,null,null,null,null,null,null,null,0,null,null,0,0,0,0,0,0,0,0,0,0,0,0,0,0,0,0,0,0,0,null,null,null,0,null,null,0,0,0,0,0,0,0,0,0,0,0,0,0,0,0,0,0,0,0,null,"","",null,"","","","","","","","","","","","","","","","","","","",null,{"$f":"IF(Programs!$D$25=\"\",\"\",Programs!$D$25)","v":""},"","","","","","","","","","","","","","","","","","","","","","","",null,"","","","","","","","","","","","","","","","","","",""]
[null,{"$f":"Programs!B35","v":0},{"$f":"IF(Programs!$C$25=\"\",\"\",Programs!$C$25)","v":""},null,null,null,null,null,null,null,null,null,null,null,null,null,null,null,null,null,null,null,null,null,null,null,null,null,null,null,null,null,null,null,null,null,null,null,null,null,null,null,null,null,null,null,null,null,null,null,null,null,null,null,null,null,null,null,null,null,null,null,null,null,null,null,null,null,null,null,null,null,null,null,null,null,null,null,null,null,null,null,null,null,null,null,null,null,null,null,null,null,null,null,null,null,null,null,null,null,null,null,null,null,null,null,null,null,null,null,null,null,0,null,null,0,0,0,0,0,0,0,0,0,0,0,0,0,0,0,0,0,0,0,null,null,null,0,null,null,0,0,0,0,0,0,0,0,0,0,0,0,0,0,0,0,0,0,0,null,"","",null,"","","","","","","","","","","","","","","","","","","",null,{"$f":"IF(Programs!$D$25=\"\",\"\",Programs!$D$25)","v":""},"","","","","","","","","","","","","","","","","","","","","","","",null,"","","","","","","","","","","","","","","","","","",""]
[null,{"$f":"Programs!B36","v":0},{"$f":"IF(Programs!$C$25=\"\",\"\",Programs!$C$25)","v":""},null,null,null,null,null,null,null,null,null,null,null,null,null,null,null,null,null,null,null,null,null,null,null,null,null,null,null,null,null,null,null,null,null,null,null,null,null,null,null,null,null,null,null,null,null,null,null,null,null,null,null,null,null,null,null,null,null,null,null,null,null,null,null,null,null,null,null,null,null,null,null,null,null,null,null,null,null,null,null,null,null,null,null,null,null,null,null,null,null,null,null,null,null,null,null,null,null,null,null,null,null,null,null,null,null,null,null,null,null,{"$f":"IF(SUM(G24,P24,W24,AD24,AH24,AO24,AV24,BB24)>0,(7-(SUM(G24,P24,W24,AD24,AH24,AO24,AV24,BB24)/8)),0)","v":0},null,null,{"$f":"SUM(F24,J24,M24,Y24,AE24,AN24,AS24,BC24,BE24)","v":0},{"$f":"DL24/9","v":0},{"$f":"SUM(I24,N24,X24,AB24,AC24,AM24,AP24,AU24,AW24,BA24)","v":0},{"$f":"DN24/10","v":0},{"$f":"SUM(H24,O24,Q24,T24,V24,AG24,AJ24,AQ24,AX24)","v":0},{"$f":"DP24/9","v":0},{"$f":"SUM(E24,K24,R24,U24,Z24,AF24,AI24,AL24,AT24,AZ24,BD24)","v":0},{"$f":"DR24/11","v":0},{"$f":"SUM(E24,I24,O24,U24,AF24,AN24,AQ24,AS24,AW24,BE24)","v":0},{"$f":"DT24/10","v":0},{"$f":"SUM(H24,M24,R24,V24,Z24,AE24,AI24,AM24,AU24,BA24)","v":0},{"$f":"DV24/10","v":0},{"$f":"SUM(F24,K24,Q24,X24,AC24,AJ24,AZ24,BC24)","v":0},{"$f":"DX24/8","v":0},{"$f":"SUM(J24,N24,T24,Y24,AB24,AG24,AL24,AP24,AT24,AX24,BD24)","v":0},{"$f":"DZ24/11","v":0},{"$f":"SUM(DU24,DW24)/2","v":0},{"$f":"SUM(DY24,EA24)/2","v":0},{"$f":"SUM(DM24,DO24,DQ24,DS24,DU24,DW24,DY24,EA24)/8","v":0},null,null,null,{"$f":"IF(SUM(BI24,BR24,BY24,CF24,CJ24,CQ24,CX24,DD24)>0,(7-(SUM(BI24,BR24,BY24,CF24,CJ24,CQ24,CX24,DD24)/8)),0)","v":0},null,null,{"$f":"SUM(BH24,BL24,BO24,CA24,CG24,CP24,CU24,DE24,DG24)","v":0},{"$f":"EK24/9","v":0},{"$f":"SUM(BK24,BP24,BZ24,CD24,CE24,CO24,CR24,CW24,CY24,DC24)","v":0},{"$f":"EM24/10","v":0},{"$f":"SUM(BJ24,BQ24,BS24,BV24,BX24,CI24,CL24,CS24,CZ24)","v":0},{"$f":"EO24/9","v":0},{"$f":"SUM(BG24,BM24,BT24,BW24,CB24,CH24,CK24,CN24,CV24,DB24,DF24)","v":0},{"$f":"EQ24/11","v":0},{"$f":"SUM(BG24,BK24,BQ24,BW24,CH24,CP24,CS24,CU24,CY24,DG24)","v":0},{"$f":"ES24/10","v":0},{"$f":"SUM(BJ24,BO24,BT24,BX24,CB24,CG24,CK24,CO24,CW24,DC24)","v":0},{"$f":"EU24/10","v":0},{"$f":"SUM(BH24,BM24,BS24,BZ24,CE24,CL24,DB24,DE24)","v":0},{"$f":"EW24/8","v":0},{"$f":"SUM(BL24,BP24,BV24,CA24,CD24,CI24,CN24,CR24,CV24,CZ24,DF24)","v":0},{"$f":"EY24/11","v":0},{"$f":"SUM(ET24,EV24)/2","v":0},{"$f":"SUM(EX24,EZ24)/2","v":0},{"$f":"SUM(EL24,EN24,EP24,ER24,ET24,EV24,EX24,EZ24)/8","v":0},null,{"$f":"IF($GC24<>\"\",EH24-DI24,\"\")","v":""},{"$f":"IF($GC24<>\"\",EI24-DJ24,\"\")","v":""},null,{"$f":"IF($GC24<>\"\",EK24-DL24,\"\")","v":""},{"$f":"IF($GC24<>\"\",EL24-DM24,\"\")","v":""},{"$f":"IF($GC24<>\"\",EM24-DN24,\"\")","v":""},{"$f":"IF($GC24<>\"\",EN24-DO24,\"\")","v":""},{"$f":"IF($GC24<>\"\",EO24-DP24,\"\")","v":""},{"$f":"IF($GC24<>\"\",EP24-DQ24,\"\")","v":""},{"$f":"IF($GC24<>\"\",EQ24-DR24,\"\")","v":""},{"$f":"IF($GC24<>\"\",ER24-DS24,\"\")","v":""},{"$f":"IF($GC24<>\"\",ES24-DT24,\"\")","v":""},{"$f":"IF($GC24<>\"\",ET24-DU24,\"\")","v":""},{"$f":"IF($GC24<>\"\",EU24-DV24,\"\")","v":""},{"$f":"IF($GC24<>\"\",EV24-DW24,\"\")","v":""},{"$f":"IF($GC24<>\"\",EW24-DX24,\"\")","v":""},{"$f":"IF($GC24<>\"\",EX24-DY24,\"\")","v":""},{"$f":"IF($GC24<>\"\",EY24-DZ24,\"\")","v":""},{"$f":"IF($GC24<>\"\",EZ24-EA24,\"\")","v":""},{"$f":"IF($GC24<>\"\",FA24-EB24,\"\")","v":""},{"$f":"IF($GC24<>\"\",FB24-EC24,\"\")","v":""},{"$f":"IF($GC24<>\"\",FC24-ED24,\"\")","v":""},null,{"$f":"IF(Programs!$D$25=\"\",\"\",Programs!$D$25)","v":""},{"$f":"IF(AND(COUNT(D24:BE24)>48,COUNT(BF24:DG24)>48),GB24,\"\")","v":""},{"$f":"IF($GC24=\"\",\"\",(IF(FE24<0,$GC24,\"\")))","v":""},{"$f":"IF($GC24=\"\",\"\",(IF(FF24<0,$GC24,\"\")))","v":""},{"$f":"IF($GC24=\"\",\"\",(IF(FG24<0,$GC24,\"\")))","v":""},"","","","","","","","","","","","","","","","","","","",null,"","","","","","","","","","","","","","","","","","",""]
[null,{"$f":"Programs!B37","v":0},{"$f":"IF(Programs!$C$25=\"\",\"\",Programs!$C$25)","v":""},null,null,null,null,null,null,null,null,null,null,null,null,null,null,null,null,null,null,null,null,null,null,null,null,null,null,null,null,null,null,null,null,null,null,null,null,null,null,null,null,null,null,null,null,null,null,null,null,null,null,null,null,null,null,null,null,null,null,null,null,null,null,null,null,null,null,null,null,null,null,null,null,null,null,null,null,null,null,null,null,null,null,null,null,null,null,null,null,null,null,null,null,null,null,null,null,null,null,null,null,null,null,null,null,null,null,null,null,null,0,null,null,0,0,0,0,0,0,0,0,0,0,0,0,0,0,0,0,0,0,0,null,null,null,0,null,null,0,0,0,0,0,0,0,0,0,0,0,0,0,0,0,0,0,0,0,null,"","",null,"","","","","","","","","","","","","","","","","","","",null,{"$f":"IF(Programs!$D$25=\"\",\"\",Programs!$D$25)","v":""},"","","","","","","","","","","","","","","","","","","","","","","",null,"","","","","","","","","","","","","","","","","","",""]
[null,{"$f":"Programs!B38","v":0},{"$f":"IF(Programs!$C$25=\"\",\"\",Programs!$C$25)","v":""},null,null,null,null,null,null,null,null,null,null,null,null,null,null,null,null,null,null,null,null,null,null,null,null,null,null,null,null,null,null,null,null,null,null,null,null,null,null,null,null,null,null,null,null,null,null,null,null,null,null,null,null,null,null,null,null,null,null,null,null,null,null,null,null,null,null,null,null,null,null,null,null,null,null,null,null,null,null,null,null,null,null,null,null,null,null,null,null,null,null,null,null,null,null,null,null,null,null,null,null,null,null,null,null,null,null,null,null,null,0,null,null,0,0,0,0,0,0,0,0,0,0,0,0,0,0,0,0,0,0,0,null,null,null,0,null,null,0,0,0,0,0,0,0,0,0,0,0,0,0,0,0,0,0,0,0,null,"","",null,"","","","","","","","","","","","","","","","","","","",null,{"$f":"IF(Programs!$D$25=\"\",\"\",Programs!$D$25)","v":""},"","","","","","","","","","","","","","","","","","","","","","","",null,"","","","","","","","","","","","","","","","","","",""]
[null,{"$f":"Programs!B39","v":0},{"$f":"IF(Programs!$C$25=\"\",\"\",Programs!$C$25)","v":""},null,null,null,null,null,null,null,null,null,null,null,null,null,null,null,null,null,null,null,null,null,null,null,null,null,null,null,null,null,null,null,null,null,null,null,null,null,null,null,null,null,null,null,null,null,null,null,null,null,null,null,null,null,null,null,null,null,null,null,null,null,null,null,null,null,null,null,null,null,null,null,null,null,null,null,null,null,null,null,null,null,null,null,null,null,null,null,null,null,null,null,null,null,null,null,null,null,null,null,null,null,null,null,null,null,null,null,null,null,0,null,null,0,0,0,0,0,0,0,0,0,0,0,0,0,0,0,0,0,0,0,null,null,null,0,null,null,0,0,0,0,0,0,0,0,0,0,0,0,0,0,0,0,0,0,0,null,"","",null,"","","","","","","","","","","","","","","","","","","",null,{"$f":"IF(Programs!$D$25=\"\",\"\",Programs!$D$25)","v":""},"","","","","","","","","","","","","","","","","","","","","","","",null,"","","","","","","","","","","","","","","","","","",""]
["Program 3",{"$f":"Programs!B47","v":0},{"$f":"IF(Programs!$C$44=\"\",\"\",Programs!$C$44)","v":""},null,null,null,null,null,null,null,null,null,null,null,null,null,null,null,null,null,null,null,null,null,null,null,null,null,null,null,null,null,null,null,null,null,null,null,null,null,null,null,null,null,null,null,null,null,null,null,null,null,null,null,null,null,null,null,null,null,null,null,null,null,null,null,null,null,null,null,null,null,null,null,null,null,null,null,null,null,null,null,null,null,null,null,null,null,null,null,null,null,null,null,null,null,null,null,null,null,null,null,null,null,null,null,null,null,null,null,null,null,0,null,null,0,0,0,0,0,0,0,0,0,0,0,0,0,0,0,0,0,0,0,null,null,null,0,null,null,0,0,0,0,0,0,0,0,0,0,0,0,0,0,0,0,0,0,0,null,"","",null,"","","","","","","","","","","","","","","","","","","",null,{"$f":"IF(Programs!$D$44=\"\",\"\",Programs!$D$44)","v":""},"","","","","","","","","","","","","","","","","","","","","","","",null,"","","","","","","","","","","","","","","","","","",""]
[null,{"$f":"Programs!B48","v":0},{"$f":"IF(Programs!$C$44=\"\",\"\",Programs!$C$44)","v":""},null,null,null,null,null,null,null,null,null,null,null,null,null,null,null,null,null,null,null,null,null,null,null,null,null,null,null,null,null,null,null,null,null,null,null,null,null,null,null,null,null,null,null,null,null,null,null,null,null,null,null,null,null,null,null,null,null,null,null,null,null,null,null,null,null,null,null,null,null,null,null,null,null,null,null,null,null,null,null,null,null,null,null,null,null,null,null,null,null,null,null,null,null,null,null,null,null,null,null,null,null,null,null,null,null,null,null,null,null,0,null,null,0,0,0,0,0,0,0,0,0,0,0,0,0,0,0,0,0,0,0,null,null,null,0,null,null,0,0,0,0,0,0,0,0,0,0,0,0,0,0,0,0,0,0,0,null,"","",null,"","","","","","","","","","","","","","","","","","","",null,{"$f":"IF(Programs!$D$44=\"\",\"\",Programs!$D$44)","v":""},"","","","","","","","","","","","","","","","","","","","","","","",null,"","","","","","","","","","","","","","","","","","",""]
[null,{"$f":"Programs!B49","v":0},{"$f":"IF(Programs!$C$44=\"\",\"\",Programs!$C$44)","v":""},null,null,null,null,null,null,null,null,null,null,null,null,null,null,null,null,null,null,null,null,null,null,null,null,null,null,null,null,null,null,null,null,null,null,null,null,null,null,null,null,null,null,null,null,null,null,null,null,null,null,null,null,null,null,null,null,null,null,null,null,null,null,null,null,null,null,null,null,null,null,null,null,null,null,null,null,null,null,null,null,null,null,null,null,null,null,null,null,null,null,null,null,null,null,null,null,null,null,null,null,null,null,null,null,null,null,null,null,null,0,null,null,0,0,0,0,0,0,0,0,0,0,0,0,0,0,0,0,0,0,0,null,null,null,0,null,null,0,0,0,0,0,0,0,0,0,0,0,0,0,0,0,0,0,0,0,null,"","",null,"","","","","","","","","","","","","","","","","","","",null,{"$f":"IF(Programs!$D$44=\"\",\"\",Programs!$D$44)","v":""},"","","","","","","","","","","","","","","","","","","","","","","",null,"","","","","","","","","","","","","","","","","","",""]
[null,{"$f":"Programs!B50","v":0},{"$f":"IF(Programs!$C$44=\"\",\"\",Programs!$C$44)","v":""},null,null,null,null,null,null,null,null,null,null,null,null,null,null,null,null,null,null,null,null,null,null,null,null,null,null,null,null,null,null,null,null,null,null,null,null,null,null,null,null,null,null,null,null,null,null,null,null,null,null,null,null,null,null,null,null,null,null,null,null,null,null,null,null,null,null,null,null,null,null,null,null,null,null,null,null,null,null,null,null,null,null,null,null,null,null,null,null,null,null,null,null,null,null,null,null,null,null,null,null,null,null,null,null,null,null,null,null,null,0,null,null,0,0,0,0,0,0,0,0,0,0,0,0,0,0,0,0,0,0,0,null,null,null,0,null,null,0,0,0,0,0,0,0,0,0,0,0,0,0,0,0,0,0,0,0,null,"","",null,"","","","","","","","","","","","","","","","","","","",null,{"$f":"IF(Programs!$D$44=\"\",\"\",Programs!$D$44)","v":""},"","","","","","","","","","","","","","","","","","","","","","","",null,"","","","","","","","","","","","","","","","","","",""]
[null,{"$f":"Programs!B51","v":0},{"$f":"IF(Programs!$C$44=\"\",\"\",Programs!$C$44)","v":""},null,null,null,null,null,null,null,null,null,null,null,null,null,null,null,null,null,null,null,null,null,null,null,null,null,null,null,null,null,null,null,null,null,null,null,null,null,null,null,null,null,null,null,null,null,null,null,null,null,null,null,null,null,null,null,null,null,null,null,null,null,null,null,null,null,null,null,null,null,null,null,null,null,null,null,null,null,null,null,null,null,null,null,null,null,null,null,null,null,null,null,null,null,null,null,null,null,null,null,null,null,null,null,null,null,null,null,null,null,0,null,null,0,0,0,0,0,0,0,0,0,0,0,0,0,0,0,0,0,0,0,null,null,null,0,null,null,0,0,0,0,0,0,0,0,0,0,0,0,0,0,0,0,0,0,0,null,"","",null,"","","","","","","","","","","","","","","","","","","",null,{"$f":"IF(Programs!$D$44=\"\",\"\",Programs!$D$44)","v":""},"","","","","","","","","","","","","","","","","","","","","","","",null,"","","","","","","","","","","","","","","","","","",""]
[null,{"$f":"Programs!B52","v":0},{"$f":"IF(Programs!$C$44=\"\",\"\",Programs!$C$44)","v":""},null,null,null,null,null,null,null,null,null,null,null,null,null,null,null,null,null,null,null,null,null,null,null,null,null,null,null,null,null,null,null,null,null,null,null,null,null,null,null,null,null,null,null,null,null,null,null,null,null,null,null,null,null,null,null,null,null,null,null,null,null,null,null,null,null,null,null,null,null,null,null,null,null,null,null,null,null,null,null,null,null,null,null,null,null,null,null,null,null,null,null,null,null,null,null,null,null,null,null,null,null,null,null,null,null,null,null,null,null,0,null,null,0,0,0,0,0,0,0,0,0,0,0,0,0,0,0,0,0,0,0,null,null,null,0,null,null,0,0,0,0,0,0,0,0,0,0,0,0,0,0,0,0,0,0,0,null,"","",null,"","","","","","","","","","","","","","","","","","","",null,{"$f":"IF(Programs!$D$44=\"\",\"\",Programs!$D$44)","v":""},"","","","","","","","","","","","","","","","","","","","","","","",null,"","","","","","","","","","","","","","","","","","",""]
[null,{"$f":"Programs!B53","v":0},{"$f":"IF(Programs!$C$44=\"\",\"\",Programs!$C$44)","v":""},null,null,null,null,null,null,null,null,null,null,null,null,null,null,null,null,null,null,null,null,null,null,null,null,null,null,null,null,null,null,null,null,null,null,null,null,null,null,null,null,null,null,null,null,null,null,null,null,null,null,null,null,null,null,null,null,null,null,null,null,null,null,null,null,null,null,null,null,null,null,null,null,null,null,null,null,null,null,null,null,null,null,null,null,null,null,null,null,null,null,null,null,null,null,null,null,null,null,null,null,null,null,null,null,null,null,null,null,null,0,null,null,0,0,0,0,0,0,0,0,0,0,0,0,0,0,0,0,0,0,0,null,null,null,0,null,null,0,0,0,0,0,0,0,0,0,0,0,0,0,0,0,0,0,0,0,null,"","",null,"","","","","","","","","","","","","","","","","","","",null,{"$f":"IF(Programs!$D$44=\"\",\"\",Programs!$D$44)","v":""},"","","","","","","","","","","","","","","","","","","","","","","",null,"","","","","","","","","","","","","","","","","","",""]
[null,{"$f":"Programs!B54","v":0},{"$f":"IF(Programs!$C$44=\"\",\"\",Programs!$C$44)","v":""},null,null,null,null,null,null,null,null,null,null,null,null,null,null,null,null,null,null,null,null,null,null,null,null,null,null,null,null,null,null,null,null,null,null,null,null,null,null,null,null,null,null,null,null,null,null,null,null,null,null,null,null,null,null,null,null,null,null,null,null,null,null,null,null,null,null,null,null,null,null,null,null,null,null,null,null,null,null,null,null,null,null,null,null,null,null,null,null,null,null,null,null,null,null,null,null,null,null,null,null,null,null,null,null,null,null,null,null,null,0,null,null,0,0,0,0,0,0,0,0,0,0,0,0,0,0,0,0,0,0,0,null,null,null,0,null,null,0,0,0,0,0,0,0,0,0,0,0,0,0,0,0,0,0,0,0,null,"","",null,"","","","","","","","","","","","","","","","","","","",null,{"$f":"IF(Programs!$D$44=\"\",\"\",Programs!$D$44)","v":""},"","","","","","","","","","","","","","","","","","","","","","","",null,"","","","","","","","","","","","","","","","","","",""]
[null,{"$f":"Programs!B55","v":0},{"$f":"IF(Programs!$C$44=\"\",\"\",Programs!$C$44)","v":""},null,null,null,null,null,null,null,null,null,null,null,null,null,null,null,null,null,null,null,null,null,null,null,null,null,null,null,null,null,null,null,null,null,null,null,null,null,null,null,null,null,null,null,null,null,null,null,null,null,null,null,null,null,null,null,null,null,null,null,null,null,null,null,null,null,null,null,null,null,null,null,null,null,null,null,null,null,null,null,null,null,null,null,null,null,null,null,null,null,null,null,null,null,null,null,null,null,null,null,null,null,null,null,null,null,null,null,null,null,{"$f":"IF(SUM(G36,P36,W36,AD36,AH36,AO36,AV36,BB36)>0,(7-(SUM(G36,P36,W36,AD36,AH36,AO36,AV36,BB36)/8)),0)","v":0},null,null,{"$f":"SUM(F36,J36,M36,Y36,AE36,AN36,AS36,BC36,BE36)","v":0},{"$f":"DL36/9","v":0},{"$f":"SUM(I36,N36,X36,AB36,AC36,AM36,AP36,AU36,AW36,BA36)","v":0},{"$f":"DN36/10","v":0},{"$f":"SUM(H36,O36,Q36,T36,V36,AG36,AJ36,AQ36,AX36)","v":0},{"$f":"DP36/9","v":0},{"$f":"SUM(E36,K36,R36,U36,Z36,AF36,AI36,AL36,AT36,AZ36,BD36)","v":0},{"$f":"DR36/11","v":0},{"$f":"SUM(E36,I36,O36,U36,AF36,AN36,AQ36,AS36,AW36,BE36)","v":0},{"$f":"DT36/10","v":0},{"$f":"SUM(H36,M36,R36,V36,Z36,AE36,AI36,AM36,AU36,BA36)","v":0},{"$f":"DV36/10","v":0},{"$f":"SUM(F36,K36,Q36,X36,AC36,AJ36,AZ36,BC36)","v":0},{"$f":"DX36/8","v":0},{"$f":"SUM(J36,N36,T36,Y36,AB36,AG36,AL36,AP36,AT36,AX36,BD36)","v":0},{"$f":"DZ36/11","v":0},{"$f":"SUM(DU36,DW36)/2","v":0},{"$f":"SUM(DY36,EA36)/2","v":0},{"$f":"SUM(DM36,DO36,DQ36,DS36,DU36,DW36,DY36,EA36)/8","v":0},null,null,null,{"$f":"IF(SUM(BI36,BR36,BY36,CF36,CJ36,CQ36,CX36,DD36)>0,(7-(SUM(BI36,BR36,BY36,CF36,CJ36,CQ36,CX36,DD36)/8)),0)","v":0},null,null,{"$f":"SUM(BH36,BL36,BO36,CA36,CG36,CP36,CU36,DE36,DG36)","v":0},{"$f":"EK36/9","v":0},{"$f":"SUM(BK36,BP36,BZ36,CD36,CE36,CO36,CR36,CW36,CY36,DC36)","v":0},{"$f":"EM36/10","v":0},{"$f":"SUM(BJ36,BQ36,BS36,BV36,BX36,CI36,CL36,CS36,CZ36)","v":0},{"$f":"EO36/9","v":0},{"$f":"SUM(BG36,BM36,BT36,BW36,CB36,CH36,CK36,CN36,CV36,DB36,DF36)","v":0},{"$f":"EQ36/11","v":0},{"$f":"SUM(BG36,BK36,BQ36,BW36,CH36,CP36,CS36,CU36,CY36,DG36)","v":0},{"$f":"ES36/10","v":0},{"$f":"SUM(BJ36,BO36,BT36,BX36,CB36,CG36,CK36,CO36,CW36,DC36)","v":0},{"$f":"EU36/10","v":0},{"$f":"SUM(BH36,BM36,BS36,BZ36,CE36,CL36,DB36,DE36)","v":0},{"$f":"EW36/8","v":0},{"$f":"SUM(BL36,BP36,BV36,CA36,CD36,CI36,CN36,CR36,CV36,CZ36,DF36)","v":0},{"$f":"EY36/11","v":0},{"$f":"SUM(ET36,EV36)/2","v":0},{"$f":"SUM(EX36,EZ36)/2","v":0},{"$f":"SUM(EL36,EN36,EP36,ER36,ET36,EV36,EX36,EZ36)/8","v":0},null,{"$f":"IF($GC36<>\"\",EH36-DI36,\"\")","v":""},{"$f":"IF($GC36<>\"\",EI36-DJ36,\"\")","v":""},null,{"$f":"IF($GC36<>\"\",EK36-DL36,\"\")","v":""},{"$f":"IF($GC36<>\"\",EL36-DM36,\"\")","v":""},{"$f":"IF($GC36<>\"\",EM36-DN36,\"\")","v":""},{"$f":"IF($GC36<>\"\",EN36-DO36,\"\")","v":""},{"$f":"IF($GC36<>\"\",EO36-DP36,\"\")","v":""},{"$f":"IF($GC36<>\"\",EP36-DQ36,\"\")","v":""},{"$f":"IF($GC36<>\"\",EQ36-DR36,\"\")","v":""},{"$f":"IF($GC36<>\"\",ER36-DS36,\"\")","v":""},{"$f":"IF($GC36<>\"\",ES36-DT36,\"\")","v":""},{"$f":"IF($GC36<>\"\",ET36-DU36,\"\")","v":""},{"$f":"IF($GC36<>\"\",EU36-DV36,\"\")","v":""},{"$f":"IF($GC36<>\"\",EV36-DW36,\"\")","v":""},{"$f":"IF($GC36<>\"\",EW36-DX36,\"\")","v":""},{"$f":"IF($GC36<>\"\",EX36-DY36,\"\")","v":""},{"$f":"IF($GC36<>\"\",EY36-DZ36,\"\")","v":""},{"$f":"IF($GC36<>\"\",EZ36-EA36,\"\")","v":""},{"$f":"IF($GC36<>\"\",FA36-EB36,\"\")","v":""},{"$f":"IF($GC36<>\"\",FB36-EC36,\"\")","v":""},{"$f":"IF($GC36<>\"\",FC36-ED36,\"\")","v":""},null,{"$f":"IF(Programs!$D$44=\"\",\"\",Programs!$D$44)","v":""},{"$f":"IF(AND(COUNT(D36:BE36)>48,COUNT(BF36:DG36)>48),GB36,\"\")","v":""},{"$f":"IF($GC36=\"\",\"\",(IF(FE36<0,$GC36,\"\")))","v":""},{"$f":"IF($GC36=\"\",\"\",(IF(FF36<0,$GC36,\"\")))","v":""},{"$f":"IF($GC36=\"\",\"\",(IF(FG36<0,$GC36,\"\")))","v":""},"","","","","","","","","","","","","","","","","","","",null,"","","","","","","","","","","","","","","","","","",""]
[null,{"$f":"Programs!B56","v":0},{"$f":"IF(Programs!$C$44=\"\",\"\",Programs!$C$44)","v":""},null,null,null,null,null,null,null,null,null,null,null,null,null,null,null,null,null,null,null,null,null,null,null,null,null,null,null,null,null,null,null,null,null,null,null,null,null,null,null,null,null,null,null,null,null,null,null,null,null,null,null,null,null,null,null,null,null,null,null,null,null,null,null,null,null,null,null,null,null,null,null,null,null,null,null,null,null,null,null,null,null,null,null,null,null,null,null,null,null,null,null,null,null,null,null,null,null,null,null,null,null,null,null,null,null,null,null,null,null,0,null,null,0,0,0,0,0,0,0,0,0,0,0,0,0,0,0,0,0,0,0,null,null,null,0,null,null,0,0,0,0,0,0,0,0,0,0,0,0,0,0,0,0,0,0,0,null,"","",null,"","","","","","","","","","","","","","","","","","","",null,{"$f":"IF(Programs!$D$44=\"\",\"\",Programs!$D$44)","v":""},"","","","","","","","","","","","","","","","","","","","","","","",null,"","","","","","","","","","","","","","","","","","",""]
[null,{"$f":"Programs!B57","v":0},{"$f":"IF(Programs!$C$44=\"\",\"\",Programs!$C$44)","v":""},null,null,null,null,null,null,null,null,null,null,null,null,null,null,null,null,null,null,null,null,null,null,null,null,null,null,null,null,null,null,null,null,null,null,null,null,null,null,null,null,null,null,null,null,null,null,null,null,null,null,null,null,null,null,null,null,null,null,null,null,null,null,null,null,null,null,null,null,null,null,null,null,null,null,null,null,null,null,null,null,null,null,null,null,null,null,null,null,null,null,null,null,null,null,null,null,null,null,null,null,null,null,null,null,null,null,null,null,null,0,null,null,0,0,0,0,0,0,0,0,0,0,0,0,0,0,0,0,0,0,0,null,null,null,0,null,null,0,0,0,0,0,0,0,0,0,0,0,0,0,0,0,0,0,0,0,null,"","",null,"","","","","","","","","","","","","","","","","","","",null,{"$f":"IF(Programs!$D$44=\"\",\"\",Programs!$D$44)","v":""},"","","","","","","","","","","","","","","","","","","","","","","",null,"","","","","","","","","","","","","","","","","","",""]
[null,{"$f":"Programs!B58","v":0},{"$f":"IF(Programs!$C$44=\"\",\"\",Programs!$C$44)","v":""},null,null,null,null,null,null,null,null,null,null,null,null,null,null,null,null,null,null,null,null,null,null,null,null,null,null,null,null,null,null,null,null,null,null,null,null,null,null,null,null,null,null,null,null,null,null,null,null,null,null,null,null,null,null,null,null,null,null,null,null,null,null,null,null,null,null,null,null,null,null,null,null,null,null,null,null,null,null,null,null,null,null,null,null,null,null,null,null,null,null,null,null,null,null,null,null,null,null,null,null,null,null,null,null,null,null,null,null,null,0,null,null,0,0,0,0,0,0,0,0,0,0,0,0,0,0,0,0,0,0,0,null,null,null,0,null,null,0,0,0,0,0,0,0,0,0,0,0,0,0,0,0,0,0,0,0,null,"","",null,"","","","","","","","","","","","","","","","","","","",null,{"$f":"IF(Programs!$D$44=\"\",\"\",Programs!$D$44)","v":""},"","","","","","","","","","","","","","","","","","","","","","","",null,"","","","","","","","","","","","","","","","","","",""]
["Program 4",{"$f":"Programs!B66","v":0},{"$f":"IF(Programs!$C$63=\"\",\"\",Programs!$C$63)","v":""},null,null,null,null,null,null,null,null,null,null,null,null,null,null,null,null,null,null,null,null,null,null,null,null,null,null,null,null,null,null,null,null,null,null,null,null,null,null,null,null,null,null,null,null,null,null,null,null,null,null,null,null,null,null,null,null,null,null,null,null,null,null,null,null,null,null,null,null,null,null,null,null,null,null,null,null,null,null,null,null,null,null,null,null,null,null,null,null,null,null,null,null,null,null,null,null,null,null,null,null,null,null,null,null,null,null,null,null,null,0,null,null,0,0,0,0,0,0,0,0,0,0,0,0,0,0,0,0,0,0,0,null,null,null,0,null,null,0,0,0,0,0,0,0,0,0,0,0,0,0,0,0,0,0,0,0,null,"","",null,"","","","","","","","","","","","","","","","","","","",null,{"$f":"IF(Programs!$D$63=\"\",\"\",Programs!$D$63)","v":""},"","","","","","","","","","","","","","","","","","","","","","","",null,"","","","","","","","","","","","","","","","","","",""]
[null,{"$f":"Programs!B67","v":0},{"$f":"IF(Programs!$C$63=\"\",\"\",Programs!$C$63)","v":""},null,null,null,null,null,null,null,null,null,null,null,null,null,null,null,null,null,null,null,null,null,null,null,null,null,null,null,null,null,null,null,null,null,null,null,null,null,null,null,null,null,null,null,null,null,null,null,null,null,null,null,null,null,null,null,null,null,null,null,null,null,null,null,null,null,null,null,null,null,null,null,null,null,null,null,null,null,null,null,null,null,null,null,null,null,null,null,null,null,null,null,null,null,null,null,null,null,null,null,null,null,null,null,null,null,null,null,null,null,0,null,null,0,0,0,0,0,0,0,0,0,0,0,0,0,0,0,0,0,0,0,null,null,null,0,null,null,0,0,0,0,0,0,0,0,0,0,0,0,0,0,0,0,0,0,0,null,"","",null,"","","","","","","","","","","","","","","","","","","",null,{"$f":"IF(Programs!$D$63=\"\",\"\",Programs!$D$63)","v":""},"","","","","","","","","","","","","","","","","","","","","","","",null,"","","","","","","","","","","","","","","","","","",""]
[null,{"$f":"Programs!B68","v":0},{"$f":"IF(Programs!$C$63=\"\",\"\",Programs!$C$63)","v":""},null,null,null,null,null,null,null,null,null,null,null,null,null,null,null,null,null,null,null,null,null,null,null,null,null,null,null,null,null,null,null,null,null,null,null,null,null,null,null,null,null,null,null,null,null,null,null,null,null,null,null,null,null,null,null,null,null,null,null,null,null,null,null,null,null,null,null,null,null,null,null,null,null,null,null,null,null,null,null,null,null,null,null,null,null,null,null,null,null,null,null,null,null,null,null,null,null,null,null,null,null,null,null,null,null,null,null,null,null,0,null,null,0,0,0,0,0,0,0,0,0,0,0,0,0,0,0,0,0,0,0,null,null,null,{"$f":"IF(SUM(BI42,BR42,BY42,CF42,CJ42,CQ42,CX42,DD42)>0,(7-(SUM(BI42,BR42,BY42,CF42,CJ42,CQ42,CX42,DD42)/8)),0)","v":0},null,null,{"$f":"SUM(BH42,BL42,BO42,CA42,CG42,CP42,CU42,DE42,DG42)","v":0},0,{"$f":"SUM(BK42,BP42,BZ42,CD42,CE42,CO42,CR42,CW42,CY42,DC42)","v":0},0,{"$f":"SUM(BJ42,BQ42,BS42,BV42,BX42,CI42,CL42,CS42,CZ42)","v":0},0,{"$f":"SUM(BG42,BM42,BT42,BW42,CB42,CH42,CK42,CN42,CV42,DB42,DF42)","v":0},0,{"$f":"SUM(BG42,BK42,BQ42,BW42,CH42,CP42,CS42,CU42,CY42,DG42)","v":0},0,{"$f":"SUM(BJ42,BO42,BT42,BX42,CB42,CG42,CK42,CO42,CW42,DC42)","v":0},0,{"$f":"SUM(BH42,BM42,BS42,BZ42,CE42,CL42,DB42,DE42)","v":0},0,{"$f":"SUM(BL42,BP42,BV42,CA42,CD42,CI42,CN42,CR42,CV42,CZ42,DF42)","v":0},0,0,0,0,null,{"$f":"IF($GC42<>\"\",EH42-DI42,\"\")","v":""},{"$f":"IF($GC42<>\"\",EI42-DJ42,\"\")","v":""},null,{"$f":"IF($GC42<>\"\",EK42-DL42,\"\")","v":""},{"$f":"IF($GC42<>\"\",EL42-DM42,\"\")","v":""},{"$f":"IF($GC42<>\"\",EM42-DN42,\"\")","v":""},{"$f":"IF($GC42<>\"\",EN42-DO42,\"\")","v":""},{"$f":"IF($GC42<>\"\",EO42-DP42,\"\")","v":""},{"$f":"IF($GC42<>\"\",EP42-DQ42,\"\")","v":""},{"$f":"IF($GC42<>\"\",EQ42-DR42,\"\")","v":""},{"$f":"IF($GC42<>\"\",ER42-DS42,\"\")","v":""},{"$f":"IF($GC42<>\"\",ES42-DT42,\"\")","v":""},{"$f":"IF($GC42<>\"\",ET42-DU42,\"\")","v":""},{"$f":"IF($GC42<>\"\",EU42-DV42,\"\")","v":""},{"$f":"IF($GC42<>\"\",EV42-DW42,\"\")","v":""},{"$f":"IF($GC42<>\"\",EW42-DX42,\"\")","v":""},{"$f":"IF($GC42<>\"\",EX42-DY42,\"\")","v":""},{"$f":"IF($GC42<>\"\",EY42-DZ42,\"\")","v":""},{"$f":"IF($GC42<>\"\",EZ42-EA42,\"\")","v":""},{"$f":"IF($GC42<>\"\",FA42-EB42,\"\")","v":""},{"$f":"IF($GC42<>\"\",FB42-EC42,\"\")","v":""},{"$f":"IF($GC42<>\"\",FC42-ED42,\"\")","v":""},null,{"$f":"IF(Programs!$D$63=\"\",\"\",Programs!$D$63)","v":""},"",{"$f":"IF($GC42=\"\",\"\",(IF(FE42<0,$GC42,\"\")))","v":""},{"$f":"IF($GC42=\"\",\"\",(IF(FF42<0,$GC42,\"\")))","v":""},{"$f":"IF($GC42=\"\",\"\",(IF(FG42<0,$GC42,\"\")))","v":""},"","","","","","","","","","","","","","","","","","","",null,"","","","","","","","","","","","","","","","","","",""]
[null,{"$f":"Programs!B69","v":0},{"$f":"IF(Programs!$C$63=\"\",\"\",Programs!$C$63)","v":""},null,null,null,null,null,null,null,null,null,null,null,null,null,null,null,null,null,null,null,null,null,null,null,null,null,null,null,null,null,null,null,null,null,null,null,null,null,null,null,null,null,null,null,null,null,null,null,null,null,null,null,null,null,null,null,null,null,null,null,null,null,null,null,null,null,null,null,null,null,null,null,null,null,null,null,null,null,null,null,null,null,null,null,null,null,null,null,null,null,null,null,null,null,null,null,null,null,null,null,null,null,null,null,null,null,null,null,null,null,0,null,null,0,0,0,0,0,0,0,0,0,0,0,0,0,0,0,0,0,0,0,null,null,null,0,null,null,0,0,0,0,0,0,{"$f":"SUM(BG43,BM43,BT43,BW43,CB43,CH43,CK43,CN43,CV43,DB43,DF43)","v":0},0,0,0,0,0,0,0,{"$f":"SUM(BL43,BP43,BV43,CA43,CD43,CI43,CN43,CR43,CV43,CZ43,DF43)","v":0},0,0,0,0,null,"","",null,"","","","","","","","","","","","","","","","","","","",null,{"$f":"IF(Programs!$D$63=\"\",\"\",Programs!$D$63)","v":""},"","","","","","","","","","","","","","","","","","","","","","","",null,"","","","","","","","","","","","","","","","","","",""]
[null,{"$f":"Programs!B70","v":0},{"$f":"IF(Programs!$C$63=\"\",\"\",Programs!$C$63)","v":""},null,null,null,null,null,null,null,null,null,null,null,null,null,null,null,null,null,null,null,null,null,null,null,null,null,null,null,null,null,null,null,null,null,null,null,null,null,null,null,null,null,null,null,null,null,null,null,null,null,null,null,null,null,null,null,null,null,null,null,null,null,null,null,null,null,null,null,null,null,null,null,null,null,null,null,null,null,null,null,null,null,null,null,null,null,null,null,null,null,null,null,null,null,null,null,null,null,null,null,null,null,null,null,null,null,null,null,null,null,0,null,null,0,0,0,0,0,0,0,0,0,0,0,0,0,0,0,0,0,0,0,null,null,null,0,null,null,0,0,0,0,0,0,0,0,0,0,0,0,0,0,0,0,0,0,0,null,"","",null,"","","","","","","","","","","","","","","","","","","",null,{"$f":"IF(Programs!$D$63=\"\",\"\",Programs!$D$63)","v":""},"","","","","","","","","","","","","","","","","","","","","","","",null,"","","","","","","","","","","","","","","","","","",""]
[null,{"$f":"Programs!B71","v":0},{"$f":"IF(Programs!$C$63=\"\",\"\",Programs!$C$63)","v":""},null,null,null,null,null,null,null,null,null,null,null,null,null,null,null,null,null,null,null,null,null,null,null,null,null,null,null,null,null,null,null,null,null,null,null,null,null,null,null,null,null,null,null,null,null,null,null,null,null,null,null,null,null,null,null,null,null,null,null,null,null,null,null,null,null,null,null,null,null,null,null,null,null,null,null,null,null,null,null,null,null,null,null,null,null,null,null,null,null,null,null,null,null,null,null,null,null,null,null,null,null,null,null,null,null,null,null,null,null,0,null,null,0,0,0,0,0,0,0,0,0,0,0,0,0,0,0,0,0,0,0,null,null,null,0,null,null,0,0,0,0,0,0,0,0,0,0,0,0,0,0,0,0,0,0,0,null,"","",null,"","","","","","","","","","","","","","","","","","","",null,{"$f":"IF(Programs!$D$63=\"\",\"\",Programs!$D$63)","v":""},"","","","","","","","","","","","","","","","","","","","","","","",null,"","","","","","","","","","","","","","","","","","",""]
[null,{"$f":"Programs!B72","v":0},{"$f":"IF(Programs!$C$63=\"\",\"\",Programs!$C$63)","v":""},null,null,null,null,null,null,null,null,null,null,null,null,null,null,null,null,null,null,null,null,null,null,null,null,null,null,null,null,null,null,null,null,null,null,null,null,null,null,null,null,null,null,null,null,null,null,null,null,null,null,null,null,null,null,null,null,null,null,null,null,null,null,null,null,null,null,null,null,null,null,null,null,null,null,null,null,null,null,null,null,null,null,null,null,null,null,null,null,null,null,null,null,null,null,null,null,null,null,null,null,null,null,null,null,null,null,null,null,null,0,null,null,0,0,0,0,0,0,0,0,0,0,0,0,0,0,0,0,0,0,0,null,null,null,0,null,null,0,0,0,0,0,0,0,0,0,0,0,0,0,0,0,0,0,0,0,null,"","",null,"","","","","","","","","","","","","","","","","","","",null,{"$f":"IF(Programs!$D$63=\"\",\"\",Programs!$D$63)","v":""},"","","","","","","","","","","","","","","","","","","","","","","",null,"","","","","","","","","","","","","","","","","","",""]
[null,{"$f":"Programs!B73","v":0},{"$f":"IF(Programs!$C$63=\"\",\"\",Programs!$C$63)","v":""},null,null,null,null,null,null,null,null,null,null,null,null,null,null,null,null,null,null,null,null,null,null,null,null,null,null,null,null,null,null,null,null,null,null,null,null,null,null,null,null,null,null,null,null,null,null,null,null,null,null,null,null,null,null,null,null,null,null,null,null,null,null,null,null,null,null,null,null,null,null,null,null,null,null,null,null,null,null,null,null,null,null,null,null,null,null,null,null,null,null,null,null,null,null,null,null,null,null,null,null,null,null,null,null,null,null,null,null,null,0,null,null,0,0,0,0,0,0,0,0,0,0,0,0,0,0,0,0,0,0,0,null,null,null,0,null,null,0,0,0,0,0,0,0,0,0,0,0,0,0,0,0,0,0,0,0,null,"","",null,"","","","","","","","","","","","","","","","","","","",null,{"$f":"IF(Programs!$D$63=\"\",\"\",Programs!$D$63)","v":""},"","","","","","","","","","","","","","","","","","","","","","","",null,"","","","","","","","","","","","","","","","","","",""]
[null,{"$f":"Programs!B74","v":0},{"$f":"IF(Programs!$C$63=\"\",\"\",Programs!$C$63)","v":""},null,null,null,null,null,null,null,null,null,null,null,null,null,null,null,null,null,null,null,null,null,null,null,null,null,null,null,null,null,null,null,null,null,null,null,null,null,null,null,null,null,null,null,null,null,null,null,null,null,null,null,null,null,null,null,null,null,null,null,null,null,null,null,null,null,null,null,null,null,null,null,null,null,null,null,null,null,null,null,null,null,null,null,null,null,null,null,null,null,null,null,null,null,null,null,null,null,null,null,null,null,null,null,null,null,null,null,null,null,{"$f":"IF(SUM(G48,P48,W48,AD48,AH48,AO48,AV48,BB48)>0,(7-(SUM(G48,P48,W48,AD48,AH48,AO48,AV48,BB48)/8)),0)","v":0},null,null,{"$f":"SUM(F48,J48,M48,Y48,AE48,AN48,AS48,BC48,BE48)","v":0},{"$f":"DL48/9","v":0},{"$f":"SUM(I48,N48,X48,AB48,AC48,AM48,AP48,AU48,AW48,BA48)","v":0},{"$f":"DN48/10","v":0},{"$f":"SUM(H48,O48,Q48,T48,V48,AG48,AJ48,AQ48,AX48)","v":0},{"$f":"DP48/9","v":0},{"$f":"SUM(E48,K48,R48,U48,Z48,AF48,AI48,AL48,AT48,AZ48,BD48)","v":0},{"$f":"DR48/11","v":0},{"$f":"SUM(E48,I48,O48,U48,AF48,AN48,AQ48,AS48,AW48,BE48)","v":0},{"$f":"DT48/10","v":0},{"$f":"SUM(H48,M48,R48,V48,Z48,AE48,AI48,AM48,AU48,BA48)","v":0},{"$f":"DV48/10","v":0},{"$f":"SUM(F48,K48,Q48,X48,AC48,AJ48,AZ48,BC48)","v":0},{"$f":"DX48/8","v":0},{"$f":"SUM(J48,N48,T48,Y48,AB48,AG48,AL48,AP48,AT48,AX48,BD48)","v":0},{"$f":"DZ48/11","v":0},{"$f":"SUM(DU48,DW48)/2","v":0},{"$f":"SUM(DY48,EA48)/2","v":0},{"$f":"SUM(DM48,DO48,DQ48,DS48,DU48,DW48,DY48,EA48)/8","v":0},null,null,null,{"$f":"IF(SUM(BI48,BR48,BY48,CF48,CJ48,CQ48,CX48,DD48)>0,(7-(SUM(BI48,BR48,BY48,CF48,CJ48,CQ48,CX48,DD48)/8)),0)","v":0},null,null,{"$f":"SUM(BH48,BL48,BO48,CA48,CG48,CP48,CU48,DE48,DG48)","v":0},{"$f":"EK48/9","v":0},{"$f":"SUM(BK48,BP48,BZ48,CD48,CE48,CO48,CR48,CW48,CY48,DC48)","v":0},{"$f":"EM48/10","v":0},{"$f":"SUM(BJ48,BQ48,BS48,BV48,BX48,CI48,CL48,CS48,CZ48)","v":0},{"$f":"EO48/9","v":0},{"$f":"SUM(BG48,BM48,BT48,BW48,CB48,CH48,CK48,CN48,CV48,DB48,DF48)","v":0},{"$f":"EQ48/11","v":0},{"$f":"SUM(BG48,BK48,BQ48,BW48,CH48,CP48,CS48,CU48,CY48,DG48)","v":0},{"$f":"ES48/10","v":0},{"$f":"SUM(BJ48,BO48,BT48,BX48,CB48,CG48,CK48,CO48,CW48,DC48)","v":0},{"$f":"EU48/10","v":0},{"$f":"SUM(BH48,BM48,BS48,BZ48,CE48,CL48,DB48,DE48)","v":0},{"$f":"EW48/8","v":0},{"$f":"SUM(BL48,BP48,BV48,CA48,CD48,CI48,CN48,CR48,CV48,CZ48,DF48)","v":0},{"$f":"EY48/11","v":0},{"$f":"SUM(ET48,EV48)/2","v":0},{"$f":"SUM(EX48,EZ48)/2","v":0},{"$f":"SUM(EL48,EN48,EP48,ER48,ET48,EV48,EX48,EZ48)/8","v":0},null,{"$f":"IF($GC48<>\"\",EH48-DI48,\"\")","v":""},{"$f":"IF($GC48<>\"\",EI48-DJ48,\"\")","v":""},null,{"$f":"IF($GC48<>\"\",EK48-DL48,\"\")","v":""},{"$f":"IF($GC48<>\"\",EL48-DM48,\"\")","v":""},{"$f":"IF($GC48<>\"\",EM48-DN48,\"\")","v":""},{"$f":"IF($GC48<>\"\",EN48-DO48,\"\")","v":""},{"$f":"IF($GC48<>\"\",EO48-DP48,\"\")","v":""},{"$f":"IF($GC48<>\"\",EP48-DQ48,\"\")","v":""},{"$f":"IF($GC48<>\"\",EQ48-DR48,\"\")","v":""},{"$f":"IF($GC48<>\"\",ER48-DS48,\"\")","v":""},{"$f":"IF($GC48<>\"\",ES48-DT48,\"\")","v":""},{"$f":"IF($GC48<>\"\",ET48-DU48,\"\")","v":""},{"$f":"IF($GC48<>\"\",EU48-DV48,\"\")","v":""},{"$f":"IF($GC48<>\"\",EV48-DW48,\"\")","v":""},{"$f":"IF($GC48<>\"\",EW48-DX48,\"\")","v":""},{"$f":"IF($GC48<>\"\",EX48-DY48,\"\")","v":""},{"$f":"IF($GC48<>\"\",EY48-DZ48,\"\")","v":""},{"$f":"IF($GC48<>\"\",EZ48-EA48,\"\")","v":""},{"$f":"IF($GC48<>\"\",FA48-EB48,\"\")","v":""},{"$f":"IF($GC48<>\"\",FB48-EC48,\"\")","v":""},{"$f":"IF($GC48<>\"\",FC48-ED48,\"\")","v":""},null,{"$f":"IF(Programs!$D$63=\"\",\"\",Programs!$D$63)","v":""},{"$f":"IF(AND(COUNT(D48:BE48)>48,COUNT(BF48:DG48)>48),GB48,\"\")","v":""},{"$f":"IF($GC48=\"\",\"\",(IF(FE48<0,$GC48,\"\")))","v":""},{"$f":"IF($GC48=\"\",\"\",(IF(FF48<0,$GC48,\"\")))","v":""},{"$f":"IF($GC48=\"\",\"\",(IF(FG48<0,$GC48,\"\")))","v":""},"","","","","","","","","","","","","","","","","","","",null,"","","","","","","","","","","","","","","","","","",""]
[null,{"$f":"Programs!B75","v":0},{"$f":"IF(Programs!$C$63=\"\",\"\",Programs!$C$63)","v":""},null,null,null,null,null,null,null,null,null,null,null,null,null,null,null,null,null,null,null,null,null,null,null,null,null,null,null,null,null,null,null,null,null,null,null,null,null,null,null,null,null,null,null,null,null,null,null,null,null,null,null,null,null,null,null,null,null,null,null,null,null,null,null,null,null,null,null,null,null,null,null,null,null,null,null,null,null,null,null,null,null,null,null,null,null,null,null,null,null,null,null,null,null,null,null,null,null,null,null,null,null,null,null,null,null,null,null,null,null,0,null,null,0,0,0,0,0,0,0,0,0,0,0,0,0,0,0,0,0,0,0,null,null,null,0,null,null,0,0,0,0,0,0,0,0,0,0,0,0,0,0,0,0,0,0,0,null,"","",null,"","","","","","","","","","","","","","","","","","","",null,{"$f":"IF(Programs!$D$63=\"\",\"\",Programs!$D$63)","v":""},"","","","","","","","","","","","","","","","","","","","","","","",null,"","","","","","","","","","","","","","","","","","",""]
[null,{"$f":"Programs!B76","v":0},{"$f":"IF(Programs!$C$63=\"\",\"\",Programs!$C$63)","v":""},null,null,null,null,null,null,null,null,null,null,null,null,null,null,null,null,null,null,null,null,null,null,null,null,null,null,null,null,null,null,null,null,null,null,null,null,null,null,null,null,null,null,null,null,null,null,null,null,null,null,null,null,null,null,null,null,null,null,null,null,null,null,null,null,null,null,null,null,null,null,null,null,null,null,null,null,null,null,null,null,null,null,null,null,null,null,null,null,null,null,null,null,null,null,null,null,null,null,null,null,null,null,null,null,null,null,null,null,null,0,null,null,0,0,0,0,0,0,0,0,0,0,0,0,0,0,0,0,0,0,0,null,null,null,0,null,null,0,0,0,0,0,0,0,0,0,0,0,0,0,0,0,0,0,0,0,null,"","",null,"","","","","","","","","","","","","","","","","","","",null,{"$f":"IF(Programs!$D$63=\"\",\"\",Programs!$D$63)","v":""},"","","","","","","","","","","","","","","","","","","","","","","",null,"","","","","","","","","","","","","","","","","","",""]
[null,{"$f":"Programs!B77","v":0},{"$f":"IF(Programs!$C$63=\"\",\"\",Programs!$C$63)","v":""},null,null,null,null,null,null,null,null,null,null,null,null,null,null,null,null,null,null,null,null,null,null,null,null,null,null,null,null,null,null,null,null,null,null,null,null,null,null,null,null,null,null,null,null,null,null,null,null,null,null,null,null,null,null,null,null,null,null,null,null,null,null,null,null,null,null,null,null,null,null,null,null,null,null,null,null,null,null,null,null,null,null,null,null,null,null,null,null,null,null,null,null,null,null,null,null,null,null,null,null,null,null,null,null,null,null,null,null,null,0,null,null,0,0,0,0,0,0,0,0,0,0,0,0,0,0,0,0,0,0,0,null,null,null,0,null,null,0,0,0,0,0,0,0,0,0,0,0,0,0,0,0,0,0,0,0,null,"","",null,"","","","","","","","","","","","","","","","","","","",null,{"$f":"IF(Programs!$D$63=\"\",\"\",Programs!$D$63)","v":""},"","","","","","","","","","","","","","","","","","","","","","","",null,"","","","","","","","","","","","","","","","","","",""]
["Program 5",{"$f":"Programs!B85","v":0},{"$f":"IF(Programs!$C$82=\"\",\"\",Programs!$C$82)","v":""},null,null,null,null,null,null,null,null,null,null,null,null,null,null,null,null,null,null,null,null,null,null,null,null,null,null,null,null,null,null,null,null,null,null,null,null,null,null,null,null,null,null,null,null,null,null,null,null,null,null,null,null,null,null,null,null,null,null,null,null,null,null,null,null,null,null,null,null,null,null,null,null,null,null,null,null,null,null,null,null,null,null,null,null,null,null,null,null,null,null,null,null,null,null,null,null,null,null,null,null,null,null,null,null,null,null,null,null,null,0,null,null,0,0,0,0,0,0,0,0,0,0,0,0,0,0,0,0,0,0,0,null,null,null,0,null,null,0,0,0,0,0,0,0,0,0,0,0,0,0,0,0,0,0,0,0,null,"","",null,"","","","","","","","","","","","","","","","","","","",null,{"$f":"IF(Programs!$D$85=\"\",\"\",Programs!$D$85)","v":""},"","","","","","","","","","","","","","","","","","","","","","","",null,"","","","","","","","","","","","","","","","","","",""]
[null,{"$f":"Programs!B86","v":0},{"$f":"IF(Programs!$C$82=\"\",\"\",Programs!$C$82)","v":""},null,null,null,null,null,null,null,null,null,null,null,null,null,null,null,null,null,null,null,null,null,null,null,null,null,null,null,null,null,null,null,null,null,null,null,null,null,null,null,null,null,null,null,null,null,null,null,null,null,null,null,null,null,null,null,null,null,null,null,null,null,null,null,null,null,null,null,null,null,null,null,null,null,null,null,null,null,null,null,null,null,null,null,null,null,null,null,null,null,null,null,null,null,null,null,null,null,null,null,null,null,null,null,null,null,null,null,null,null,0,null,null,0,0,0,0,0,0,0,0,0,0,0,0,0,0,0,0,0,0,0,null,null,null,0,null,null,0,0,0,0,0,0,0,0,0,0,0,0,0,0,0,0,0,0,0,null,"","",null,"","","","","","","","","","","","","","","","","","","",null,{"$f":"IF(Programs!$D$85=\"\",\"\",Programs!$D$85)","v":""},"","","","","","","","","","","","","","","","","","","","","","","",null,"","","","","","","","","","","","","","","","","","",""]
[null,{"$f":"Programs!B87","v":0},{"$f":"IF(Programs!$C$82=\"\",\"\",Programs!$C$82)","v":""},null,null,null,null,null,null,null,null,null,null,null,null,null,null,null,null,null,null,null,null,null,null,null,null,null,null,null,null,null,null,null,null,null,null,null,null,null,null,null,null,null,null,null,null,null,null,null,null,null,null,null,null,null,null,null,null,null,null,null,null,null,null,null,null,null,null,null,null,null,null,null,null,null,null,null,null,null,null,null,null,null,null,null,null,null,null,null,null,null,null,null,null,null,null,null,null,null,null,null,null,null,null,null,null,null,null,null,null,null,0,null,null,0,0,0,0,0,0,0,0,0,0,0,0,0,0,0,0,0,0,0,null,null,null,0,null,null,0,0,0,0,0,0,0,0,0,0,0,0,0,0,0,0,0,0,0,null,"","",null,"","","","","","","","","","","","","","","","","","","",null,{"$f":"IF(Programs!$D$85=\"\",\"\",Programs!$D$85)","v":""},"","","","","","","","","","","","","","","","","","","","","","","",null,"","","","","","","","","","","","","","","","","","",""]
[null,{"$f":"Programs!B88","v":0},{"$f":"IF(Programs!$C$82=\"\",\"\",Programs!$C$82)","v":""},null,null,null,null,null,null,null,null,null,null,null,null,null,null,null,null,null,null,null,null,null,null,null,null,null,null,null,null,null,null,null,null,null,null,null,null,null,null,null,null,null,null,null,null,null,null,null,null,null,null,null,null,null,null,null,null,null,null,null,null,null,null,null,null,null,null,null,null,null,null,null,null,null,null,null,null,null,null,null,null,null,null,null,null,null,null,null,null,null,null,null,null,null,null,null,null,null,null,null,null,null,null,null,null,null,null,null,null,null,0,null,null,0,0,0,0,0,0,0,0,0,0,0,0,0,0,0,0,0,0,0,null,null,null,0,null,null,0,0,0,0,0,0,0,0,0,0,0,0,0,0,0,0,0,0,0,null,"","",null,"","","","","","","","","","","","","","","","","","","",null,{"$f":"IF(Programs!$D$85=\"\",\"\",Programs!$D$85)","v":""},"","","","","","","","","","","","","","","","","","","","","","","",null,"","","","","","","","","","","","","","","","","","",""]
[null,{"$f":"Programs!B89","v":0},{"$f":"IF(Programs!$C$82=\"\",\"\",Programs!$C$82)","v":""},null,null,null,null,null,null,null,null,null,null,null,null,null,null,null,null,null,null,null,null,null,null,null,null,null,null,null,null,null,null,null,null,null,null,null,null,null,null,null,null,null,null,null,null,null,null,null,null,null,null,null,null,null,null,null,null,null,null,null,null,null,null,null,null,null,null,null,null,null,null,null,null,null,null,null,null,null,null,null,null,null,null,null,null,null,null,null,null,null,null,null,null,null,null,null,null,null,null,null,null,null,null,null,null,null,null,null,null,null,0,null,null,0,0,0,0,0,0,0,0,0,0,0,0,0,0,0,0,0,0,0,null,null,null,0,null,null,0,0,0,0,0,0,0,0,0,0,0,0,0,0,0,0,0,0,0,null,"","",null,"","","","","","","","","","","","","","","","","","","",null,{"$f":"IF(Programs!$D$85=\"\",\"\",Programs!$D$85)","v":""},"","","","","","","","","","","","","","","","","","","","","","","",null,"","","","","","","","","","","","","","","","","","",""]
[null,{"$f":"Programs!B90","v":0},{"$f":"IF(Programs!$C$82=\"\",\"\",Programs!$C$82)","v":""},null,null,null,null,null,null,null,null,null,null,null,null,null,null,null,null,null,null,null,null,null,null,null,null,null,null,null,null,null,null,null,null,null,null,null,null,null,null,null,null,null,null,null,null,null,null,null,null,null,null,null,null,null,null,null,null,null,null,null,null,null,null,null,null,null,null,null,null,null,null,null,null,null,null,null,null,null,null,null,null,null,null,null,null,null,null,null,null,null,null,null,null,null,null,null,null,null,null,null,null,null,null,null,null,null,null,null,null,null,0,null,null,0,0,0,0,0,0,0,0,0,0,0,0,0,0,0,0,0,0,0,null,null,null,0,null,null,0,0,0,0,0,0,0,0,0,0,0,0,0,0,0,0,0,0,0,null,"","",null,"","","","","","","","","","","","","","","","","","","",null,{"$f":"IF(Programs!$D$85=\"\",\"\",Programs!$D$85)","v":""},"","","","","","","","","","","","","","","","","","","","","","","",null,"","","","","","","","","","","","","","","","","","",""]
[null,{"$f":"Programs!B91","v":0},{"$f":"IF(Programs!$C$82=\"\",\"\",Programs!$C$82)","v":""},null,null,null,null,null,null,null,null,null,null,null,null,null,null,null,null,null,null,null,null,null,null,null,null,null,null,null,null,null,null,null,null,null,null,null,null,null,null,null,null,null,null,null,null,null,null,null,null,null,null,null,null,null,null,null,null,null,null,null,null,null,null,null,null,null,null,null,null,null,null,null,null,null,null,null,null,null,null,null,null,null,null,null,null,null,null,null,null,null,null,null,null,null,null,null,null,null,null,null,null,null,null,null,null,null,null,null,null,null,0,null,null,0,0,0,0,0,0,0,0,0,0,0,0,0,0,0,0,0,0,0,null,null,null,0,null,null,0,0,0,0,0,0,0,0,0,0,0,0,0,0,0,0,0,0,0,null,"","",null,"","","","","","","","","","","","","","","","","","","",null,{"$f":"IF(Programs!$D$85=\"\",\"\",Programs!$D$85)","v":""},"","","","","","","","","","","","","","","","","","","","","","","",null,"","","","","","","","","","","","","","","","","","",""]
[null,{"$f":"Programs!B92","v":0},{"$f":"IF(Programs!$C$82=\"\",\"\",Programs!$C$82)","v":""},null,null,null,null,null,null,null,null,null,null,null,null,null,null,null,null,null,null,null,null,null,null,null,null,null,null,null,null,null,null,null,null,null,null,null,null,null,null,null,null,null,null,null,null,null,null,null,null,null,null,null,null,null,null,null,null,null,null,null,null,null,null,null,null,null,null,null,null,null,null,null,null,null,null,null,null,null,null,null,null,null,null,null,null,null,null,null,null,null,null,null,null,null,null,null,null,null,null,null,null,null,null,null,null,null,null,null,null,null,0,null,null,0,0,0,0,0,0,0,0,0,0,0,0,0,0,0,0,0,0,0,null,null,null,0,null,null,0,0,0,0,0,0,0,0,0,0,0,0,0,0,0,0,0,0,0,null,"","",null,"","","","","","","","","","","","","","","","","","","",null,{"$f":"IF(Programs!$D$85=\"\",\"\",Programs!$D$85)","v":""},"","","","","","","","","","","","","","","","","","","","","","","",null,"","","","","","","","","","","","","","","","","","",""]
[null,{"$f":"Programs!B93","v":0},{"$f":"IF(Programs!$C$82=\"\",\"\",Programs!$C$82)","v":""},null,null,null,null,null,null,null,null,null,null,null,null,null,null,null,null,null,null,null,null,null,null,null,null,null,null,null,null,null,null,null,null,null,null,null,null,null,null,null,null,null,null,null,null,null,null,null,null,null,null,null,null,null,null,null,null,null,null,null,null,null,null,null,null,null,null,null,null,null,null,null,null,null,null,null,null,null,null,null,null,null,null,null,null,null,null,null,null,null,null,null,null,null,null,null,null,null,null,null,null,null,null,null,null,null,null,null,null,null,{"$f":"IF(SUM(G60,P60,W60,AD60,AH60,AO60,AV60,BB60)>0,(7-(SUM(G60,P60,W60,AD60,AH60,AO60,AV60,BB60)/8)),0)","v":0},null,null,{"$f":"SUM(F60,J60,M60,Y60,AE60,AN60,AS60,BC60,BE60)","v":0},{"$f":"DL60/9","v":0},{"$f":"SUM(I60,N60,X60,AB60,AC60,AM60,AP60,AU60,AW60,BA60)","v":0},{"$f":"DN60/10","v":0},{"$f":"SUM(H60,O60,Q60,T60,V60,AG60,AJ60,AQ60,AX60)","v":0},{"$f":"DP60/9","v":0},{"$f":"SUM(E60,K60,R60,U60,Z60,AF60,AI60,AL60,AT60,AZ60,BD60)","v":0},{"$f":"DR60/11","v":0},{"$f":"SUM(E60,I60,O60,U60,AF60,AN60,AQ60,AS60,AW60,BE60)","v":0},{"$f":"DT60/10","v":0},{"$f":"SUM(H60,M60,R60,V60,Z60,AE60,AI60,AM60,AU60,BA60)","v":0},{"$f":"DV60/10","v":0},{"$f":"SUM(F60,K60,Q60,X60,AC60,AJ60,AZ60,BC60)","v":0},{"$f":"DX60/8","v":0},{"$f":"SUM(J60,N60,T60,Y60,AB60,AG60,AL60,AP60,AT60,AX60,BD60)","v":0},{"$f":"DZ60/11","v":0},{"$f":"SUM(DU60,DW60)/2","v":0},{"$f":"SUM(DY60,EA60)/2","v":0},{"$f":"SUM(DM60,DO60,DQ60,DS60,DU60,DW60,DY60,EA60)/8","v":0},null,null,null,{"$f":"IF(SUM(BI60,BR60,BY60,CF60,CJ60,CQ60,CX60,DD60)>0,(7-(SUM(BI60,BR60,BY60,CF60,CJ60,CQ60,CX60,DD60)/8)),0)","v":0},null,null,{"$f":"SUM(BH60,BL60,BO60,CA60,CG60,CP60,CU60,DE60,DG60)","v":0},{"$f":"EK60/9","v":0},{"$f":"SUM(BK60,BP60,BZ60,CD60,CE60,CO60,CR60,CW60,CY60,DC60)","v":0},{"$f":"EM60/10","v":0},{"$f":"SUM(BJ60,BQ60,BS60,BV60,BX60,CI60,CL60,CS60,CZ60)","v":0},{"$f":"EO60/9","v":0},{"$f":"SUM(BG60,BM60,BT60,BW60,CB60,CH60,CK60,CN60,CV60,DB60,DF60)","v":0},{"$f":"EQ60/11","v":0},{"$f":"SUM(BG60,BK60,BQ60,BW60,CH60,CP60,CS60,CU60,CY60,DG60)","v":0},{"$f":"ES60/10","v":0},{"$f":"SUM(BJ60,BO60,BT60,BX60,CB60,CG60,CK60,CO60,CW60,DC60)","v":0},{"$f":"EU60/10","v":0},{"$f":"SUM(BH60,BM60,BS60,BZ60,CE60,CL60,DB60,DE60)","v":0},{"$f":"EW60/8","v":0},{"$f":"SUM(BL60,BP60,BV60,CA60,CD60,CI60,CN60,CR60,CV60,CZ60,DF60)","v":0},{"$f":"EY60/11","v":0},{"$f":"SUM(ET60,EV60)/2","v":0},{"$f":"SUM(EX60,EZ60)/2","v":0},{"$f":"SUM(EL60,EN60,EP60,ER60,ET60,EV60,EX60,EZ60)/8","v":0},null,{"$f":"IF($GC60<>\"\",EH60-DI60,\"\")","v":""},{"$f":"IF($GC60<>\"\",EI60-DJ60,\"\")","v":""},null,{"$f":"IF($GC60<>\"\",EK60-DL60,\"\")","v":""},{"$f":"IF($GC60<>\"\",EL60-DM60,\"\")","v":""},{"$f":"IF($GC60<>\"\",EM60-DN60,\"\")","v":""},{"$f":"IF($GC60<>\"\",EN60-DO60,\"\")","v":""},{"$f":"IF($GC60<>\"\",EO60-DP60,\"\")","v":""},{"$f":"IF($GC60<>\"\",EP60-DQ60,\"\")","v":""},{"$f":"IF($GC60<>\"\",EQ60-DR60,\"\")","v":""},{"$f":"IF($GC60<>\"\",ER60-DS60,\"\")","v":""},{"$f":"IF($GC60<>\"\",ES60-DT60,\"\")","v":""},{"$f":"IF($GC60<>\"\",ET60-DU60,\"\")","v":""},{"$f":"IF($GC60<>\"\",EU60-DV60,\"\")","v":""},{"$f":"IF($GC60<>\"\",EV60-DW60,\"\")","v":""},{"$f":"IF($GC60<>\"\",EW60-DX60,\"\")","v":""},{"$f":"IF($GC60<>\"\",EX60-DY60,\"\")","v":""},{"$f":"IF($GC60<>\"\",EY60-DZ60,\"\")","v":""},{"$f":"IF($GC60<>\"\",EZ60-EA60,\"\")","v":""},{"$f":"IF($GC60<>\"\",FA60-EB60,\"\")","v":""},{"$f":"IF($GC60<>\"\",FB60-EC60,\"\")","v":""},{"$f":"IF($GC60<>\"\",FC60-ED60,\"\")","v":""},null,{"$f":"IF(Programs!$D$85=\"\",\"\",Programs!$D$85)","v":""},{"$f":"IF(AND(COUNT(D60:BE60)>48,COUNT(BF60:DG60)>48),GB60,\"\")","v":""},{"$f":"IF($GC60=\"\",\"\",(IF(FE60<0,$GC60,\"\")))","v":""},{"$f":"IF($GC60=\"\",\"\",(IF(FF60<0,$GC60,\"\")))","v":""},{"$f":"IF($GC60=\"\",\"\",(IF(FG60<0,$GC60,\"\")))","v":""},"","","","","","","","","","","","","","","","","","","",null,"","","","","","","","","","","","","","","","","","",""]
[null,{"$f":"Programs!B94","v":0},{"$f":"IF(Programs!$C$82=\"\",\"\",Programs!$C$82)","v":""},null,null,null,null,null,null,null,null,null,null,null,null,null,null,null,null,null,null,null,null,null,null,null,null,null,null,null,null,null,null,null,null,null,null,null,null,null,null,null,null,null,null,null,null,null,null,null,null,null,null,null,null,null,null,null,null,null,null,null,null,null,null,null,null,null,null,null,null,null,null,null,null,null,null,null,null,null,null,null,null,null,null,null,null,null,null,null,null,null,null,null,null,null,null,null,null,null,null,null,null,null,null,null,null,null,null,null,null,null,0,null,null,0,0,0,0,0,0,0,0,0,0,0,0,0,0,0,0,0,0,0,null,null,null,0,null,null,0,0,0,0,0,0,0,0,0,0,0,0,0,0,0,0,0,0,0,null,"","",null,"","","","","","","","","","","","","","","","","","","",null,{"$f":"IF(Programs!$D$85=\"\",\"\",Programs!$D$85)","v":""},"","","","","","","","","","","","","","","","","","","","","","","",null,"","","","","","","","","","","","","","","","","","",""]
[null,{"$f":"Programs!B95","v":0},{"$f":"IF(Programs!$C$82=\"\",\"\",Programs!$C$82)","v":""},null,null,null,null,null,null,null,null,null,null,null,null,null,null,null,null,null,null,null,null,null,null,null,null,null,null,null,null,null,null,null,null,null,null,null,null,null,null,null,null,null,null,null,null,null,null,null,null,null,null,null,null,null,null,null,null,null,null,null,null,null,null,null,null,null,null,null,null,null,null,null,null,null,null,null,null,null,null,null,null,null,null,null,null,null,null,null,null,null,null,null,null,null,null,null,null,null,null,null,null,null,null,null,null,null,null,null,null,null,0,null,null,0,0,0,0,0,0,0,0,0,0,0,0,0,0,0,0,0,0,0,null,null,null,0,null,null,0,0,0,0,0,0,0,0,0,0,0,0,0,0,0,0,0,0,0,null,"","",null,"","","","","","","","","","","","","","","","","","","",null,{"$f":"IF(Programs!$D$85=\"\",\"\",Programs!$D$85)","v":""},"","","","","","","","","","","","","","","","","","","","","","","",null,"","","","","","","","","","","","","","","","","","",""]
[null,{"$f":"Programs!B96","v":0},{"$f":"IF(Programs!$C$82=\"\",\"\",Programs!$C$82)","v":""},null,null,null,null,null,null,null,null,null,null,null,null,null,null,null,null,null,null,null,null,null,null,null,null,null,null,null,null,null,null,null,null,null,null,null,null,null,null,null,null,null,null,null,null,null,null,null,null,null,null,null,null,null,null,null,null,null,null,null,null,null,null,null,null,null,null,null,null,null,null,null,null,null,null,null,null,null,null,null,null,null,null,null,null,null,null,null,null,null,null,null,null,null,null,null,null,null,null,null,null,null,null,null,null,null,null,null,null,null,0,null,null,0,0,0,0,0,0,0,0,0,0,0,0,0,0,0,0,0,0,0,null,null,null,0,null,null,0,0,0,0,0,0,0,0,0,0,0,0,0,0,0,0,0,0,0,null,"","",null,"","","","","","","","","","","","","","","","","","","",null,{"$f":"IF(Programs!$D$85=\"\",\"\",Programs!$D$85)","v":""},"","","","","","","","","","","","","","","","","","","","","","","",null,"","","","","","","","","","","","","","","","","","",""]
["Program 6",{"$f":"Programs!B104","v":0},{"$f":"IF(Programs!$C$101=\"\",\"\",Programs!$C$101)","v":""},null,null,null,null,null,null,null,null,null,null,null,null,null,null,null,null,null,null,null,null,null,null,null,null,null,null,null,null,null,null,null,null,null,null,null,null,null,null,null,null,null,null,null,null,null,null,null,null,null,null,null,null,null,null,null,null,null,null,null,null,null,null,null,null,null,null,null,null,null,null,null,null,null,null,null,null,null,null,null,null,null,null,null,null,null,null,null,null,null,null,null,null,null,null,null,null,null,null,null,null,null,null,null,null,null,null,null,null,null,0,null,null,0,0,0,0,0,0,0,0,0,0,0,0,0,0,0,0,0,0,0,null,null,null,0,null,null,0,0,0,0,0,0,0,0,0,0,0,0,0,0,0,0,0,0,0,null,"","",null,"","","","","","","","","","","","","","","","","","","",null,{"$f":"IF(Programs!$D$104=\"\",\"\",Programs!$D$104)","v":""},"","","","","","","","","","","","","","","","","","","","","","","",null,"","","","","","","","","","","","","","","","","","",""]
[null,{"$f":"Programs!B105","v":0},{"$f":"IF(Programs!$C$101=\"\",\"\",Programs!$C$101)","v":""},null,null,null,null,null,null,null,null,null,null,null,null,null,null,null,null,null,null,null,null,null,null,null,null,null,null,null,null,null,null,null,null,null,null,null,null,null,null,null,null,null,null,null,null,null,null,null,null,null,null,null,null,null,null,null,null,null,null,null,null,null,null,null,null,null,null,null,null,null,null,null,null,null,null,null,null,null,null,null,null,null,null,null,null,null,null,null,null,null,null,null,null,null,null,null,null,null,null,null,null,null,null,null,null,null,null,null,null,null,0,null,null,0,0,0,0,0,0,0,0,0,0,0,0,0,0,0,0,0,0,0,null,null,null,0,null,null,0,0,0,0,0,0,0,0,0,0,0,0,0,0,0,0,0,0,0,null,"","",null,"","","","","","","","","","","","","","","","","","","",null,{"$f":"IF(Programs!$D$104=\"\",\"\",Programs!$D$104)","v":""},"","","","","","","","","","","","","","","","","","","","","","","",null,"","","","","","","","","","","","","","","","","","",""]
[null,{"$f":"Programs!B106","v":0},{"$f":"IF(Programs!$C$101=\"\",\"\",Programs!$C$101)","v":""},null,null,null,null,null,null,null,null,null,null,null,null,null,null,null,null,null,null,null,null,null,null,null,null,null,null,null,null,null,null,null,null,null,null,null,null,null,null,null,null,null,null,null,null,null,null,null,null,null,null,null,null,null,null,null,null,null,null,null,null,null,null,null,null,null,null,null,null,null,null,null,null,null,null,null,null,null,null,null,null,null,null,null,null,null,null,null,null,null,null,null,null,null,null,null,null,null,null,null,null,null,null,null,null,null,null,null,null,null,0,null,null,0,0,0,0,0,0,0,0,0,0,0,0,0,0,0,0,0,0,0,null,null,null,0,null,null,0,0,0,0,0,0,0,0,0,0,0,0,0,0,0,0,0,0,0,null,"","",null,"","","","","","","","","","","","","","","","","","","",null,{"$f":"IF(Programs!$D$104=\"\",\"\",Programs!$D$104)","v":""},"","","","","","","","","","","","","","","","","","","","","","","",null,"","","","","","","","","","","","","","","","","","",""]
[null,{"$f":"Programs!B107","v":0},{"$f":"IF(Programs!$C$101=\"\",\"\",Programs!$C$101)","v":""},null,null,null,null,null,null,null,null,null,null,null,null,null,null,null,null,null,null,null,null,null,null,null,null,null,null,null,null,null,null,null,null,null,null,null,null,null,null,null,null,null,null,null,null,null,null,null,null,null,null,null,null,null,null,null,null,null,null,null,null,null,null,null,null,null,null,null,null,null,null,null,null,null,null,null,null,null,null,null,null,null,null,null,null,null,null,null,null,null,null,null,null,null,null,null,null,null,null,null,null,null,null,null,null,null,null,null,null,null,0,null,null,0,0,0,0,0,0,0,0,0,0,0,0,0,0,0,0,0,0,0,null,null,null,0,null,null,0,0,0,0,0,0,0,0,0,0,0,0,0,0,0,0,0,0,0,null,"","",null,"","","","","","","","","","","","","","","","","","","",null,{"$f":"IF(Programs!$D$104=\"\",\"\",Programs!$D$104)","v":""},"","","","","","","","","","","","","","","","","","","","","","","",null,"","","","","","","","","","","","","","","","","","",""]
[null,{"$f":"Programs!B108","v":0},{"$f":"IF(Programs!$C$101=\"\",\"\",Programs!$C$101)","v":""},null,null,null,null,null,null,null,null,null,null,null,null,null,null,null,null,null,null,null,null,null,null,null,null,null,null,null,null,null,null,null,null,null,null,null,null,null,null,null,null,null,null,null,null,null,null,null,null,null,null,null,null,null,null,null,null,null,null,null,null,null,null,null,null,null,null,null,null,null,null,null,null,null,null,null,null,null,null,null,null,null,null,null,null,null,null,null,null,null,null,null,null,null,null,null,null,null,null,null,null,null,null,null,null,null,null,null,null,null,0,null,null,0,0,0,0,0,0,0,0,0,0,0,0,0,0,0,0,0,0,0,null,null,null,0,null,null,0,0,0,0,0,0,0,0,0,0,0,0,0,0,0,0,0,0,0,null,"","",null,"","","","","","","","","","","","","","","","","","","",null,{"$f":"IF(Programs!$D$104=\"\",\"\",Programs!$D$104)","v":""},"","","","","","","","","","","","","","","","","","","","","","","",null,"","","","","","","","","","","","","","","","","","",""]
[null,{"$f":"Programs!B109","v":0},{"$f":"IF(Programs!$C$101=\"\",\"\",Programs!$C$101)","v":""},null,null,null,null,null,null,null,null,null,null,null,null,null,null,null,null,null,null,null,null,null,null,null,null,null,null,null,null,null,null,null,null,null,null,null,null,null,null,null,null,null,null,null,null,null,null,null,null,null,null,null,null,null,null,null,null,null,null,null,null,null,null,null,null,null,null,null,null,null,null,null,null,null,null,null,null,null,null,null,null,null,null,null,null,null,null,null,null,null,null,null,null,null,null,null,null,null,null,null,null,null,null,null,null,null,null,null,null,null,0,null,null,0,0,0,0,0,0,0,0,0,0,0,0,0,0,0,0,0,0,0,null,null,null,0,null,null,0,0,0,0,0,0,0,0,0,0,0,0,0,0,0,0,0,0,0,null,"","",null,"","","","","","","","","","","","","","","","","","","",null,{"$f":"IF(Programs!$D$104=\"\",\"\",Programs!$D$104)","v":""},"","","","",{"$f":"IF($GC69=\"\",\"\",(IF(FH69<0,$GC69,\"\")))","v":""},{"$f":"IF($GC69=\"\",\"\",IF(FI69<0,$GC69,\"\"))","v":""},{"$f":"IF($GC69=\"\",\"\",(IF(FJ69<0,$GC69,\"\")))","v":""},{"$f":"IF($GC69=\"\",\"\",IF(FK69<0,$GC69,\"\"))","v":""},{"$f":"IF($GC69=\"\",\"\",(IF(FL69<0,$GC69,\"\")))","v":""},{"$f":"IF($GC69=\"\",\"\",IF(FM69<0,$GC69,\"\"))","v":""},{"$f":"IF($GC69=\"\",\"\",(IF(FN69<0,$GC69,\"\")))","v":""},{"$f":"IF($GC69=\"\",\"\",IF(FO69<0,$GC69,\"\"))","v":""},{"$f":"IF($GC69=\"\",\"\",(IF(FP69<0,$GC69,\"\")))","v":""},{"$f":"IF($GC69=\"\",\"\",IF(FQ69<0,$GC69,\"\"))","v":""},{"$f":"IF($GC69=\"\",\"\",(IF(FR69<0,$GC69,\"\")))","v":""},{"$f":"IF($GC69=\"\",\"\",IF(FS69<0,$GC69,\"\"))","v":""},{"$f":"IF($GC69=\"\",\"\",(IF(FT69<0,$GC69,\"\")))","v":""},{"$f":"IF($GC69=\"\",\"\",IF(FU69<0,$GC69,\"\"))","v":""},{"$f":"IF($GC69=\"\",\"\",(IF(FV69<0,$GC69,\"\")))","v":""},{"$f":"IF($GC69=\"\",\"\",IF(FW69<0,$GC69,\"\"))","v":""},{"$f":"IF($GC69=\"\",\"\",IF(FX69<0,$GC69,\"\"))","v":""},{"$f":"IF($GC69=\"\",\"\",IF(FY69<0,$GC69,\"\"))","v":""},{"$f":"IF($GC69=\"\",\"\",IF(FZ69<0,$GC69,\"\"))","v":""},null,{"$f":"IF($GC69=\"\",\"\",(IF(FH69>0,$GC69,\"\")))","v":""},{"$f":"IF($GC69=\"\",\"\",(IF(FI69>0,$GC69,\"\")))","v":""},{"$f":"IF($GC69=\"\",\"\",(IF(FJ69>0,$GC69,\"\")))","v":""},{"$f":"IF($GC69=\"\",\"\",(IF(FK69>0,$GC69,\"\")))","v":""},{"$f":"IF($GC69=\"\",\"\",(IF(FL69>0,$GC69,\"\")))","v":""},{"$f":"IF($GC69=\"\",\"\",(IF(FM69>0,$GC69,\"\")))","v":""},{"$f":"IF($GC69=\"\",\"\",(IF(FN69>0,$GC69,\"\")))","v":""},{"$f":"IF($GC69=\"\",\"\",(IF(FO69>0,$GC69,\"\")))","v":""},{"$f":"IF($GC69=\"\",\"\",(IF(FP69>0,$GC69,\"\")))","v":""},{"$f":"IF($GC69=\"\",\"\",(IF(FQ69>0,$GC69,\"\")))","v":""},{"$f":"IF($GC69=\"\",\"\",(IF(FR69>0,$GC69,\"\")))","v":""},{"$f":"IF($GC69=\"\",\"\",(IF(FS69>0,$GC69,\"\")))","v":""},{"$f":"IF($GC69=\"\",\"\",(IF(FT69>0,$GC69,\"\")))","v":""},{"$f":"IF($GC69=\"\",\"\",(IF(FU69>0,$GC69,\"\")))","v":""},{"$f":"IF($GC69=\"\",\"\",(IF(FV69>0,$GC69,\"\")))","v":""},{"$f":"IF($GC69=\"\",\"\",(IF(FW69>0,$GC69,\"\")))","v":""},{"$f":"IF($GC69=\"\",\"\",(IF(FX69>0,$GC69,\"\")))","v":""},{"$f":"IF($GC69=\"\",\"\",(IF(FY69>0,$GC69,\"\")))","v":""},{"$f":"IF($GC69=\"\",\"\",(IF(FZ69>0,$GC69,\"\")))","v":""}]
[null,{"$f":"Programs!B110","v":0},{"$f":"IF(Programs!$C$101=\"\",\"\",Programs!$C$101)","v":""},null,null,null,null,null,null,null,null,null,null,null,null,null,null,null,null,null,null,null,null,null,null,null,null,null,null,null,null,null,null,null,null,null,null,null,null,null,null,null,null,null,null,null,null,null,null,null,null,null,null,null,null,null,null,null,null,null,null,null,null,null,null,null,null,null,null,null,null,null,null,null,null,null,null,null,null,null,null,null,null,null,null,null,null,null,null,null,null,null,null,null,null,null,null,null,null,null,null,null,null,null,null,null,null,null,null,null,null,null,0,null,null,0,0,0,0,0,0,0,0,0,0,0,0,0,0,0,0,0,0,0,null,null,null,0,null,null,0,0,0,0,0,0,0,0,0,0,0,0,0,0,0,0,0,0,0,null,"","",null,"","","","","","","","","","","","","","","","","","","",null,{"$f":"IF(Programs!$D$104=\"\",\"\",Programs!$D$104)","v":""},"","","","","","","","","","","","","","","","","","","","","","","",null,"","","","","","","","","","","","","","","","","","",""]
[null,{"$f":"Programs!B111","v":0},{"$f":"IF(Programs!$C$101=\"\",\"\",Programs!$C$101)","v":""},null,null,null,null,null,null,null,null,null,null,null,null,null,null,null,null,null,null,null,null,null,null,null,null,null,null,null,null,null,null,null,null,null,null,null,null,null,null,null,null,null,null,null,null,null,null,null,null,null,null,null,null,null,null,null,null,null,null,null,null,null,null,null,null,null,null,null,null,null,null,null,null,null,null,null,null,null,null,null,null,null,null,null,null,null,null,null,null,null,null,null,null,null,null,null,null,null,null,null,null,null,null,null,null,null,null,null,null,null,0,null,null,0,0,0,0,0,0,0,0,0,0,0,0,0,0,0,0,0,0,0,null,null,null,0,null,null,0,0,0,0,0,0,0,0,0,0,0,0,0,0,0,0,0,0,0,null,"","",null,"","","","","","","","","","","","","","","","","","","",null,{"$f":"IF(Programs!$D$104=\"\",\"\",Programs!$D$104)","v":""},"","","","","","","","","","","","","","","","","","","","","","","",null,"","","","","","","","","","","","","","","","","","",""]
[null,{"$f":"Programs!B112","v":0},{"$f":"IF(Programs!$C$101=\"\",\"\",Programs!$C$101)","v":""},null,null,null,null,null,null,null,null,null,null,null,null,null,null,null,null,null,null,null,null,null,null,null,null,null,null,null,null,null,null,null,null,null,null,null,null,null,null,null,null,null,null,null,null,null,null,null,null,null,null,null,null,null,null,null,null,null,null,null,null,null,null,null,null,null,null,null,null,null,null,null,null,null,null,null,null,null,null,null,null,null,null,null,null,null,null,null,null,null,null,null,null,null,null,null,null,null,null,null,null,null,null,null,null,null,null,null,null,null,{"$f":"IF(SUM(G72,P72,W72,AD72,AH72,AO72,AV72,BB72)>0,(7-(SUM(G72,P72,W72,AD72,AH72,AO72,AV72,BB72)/8)),0)","v":0},null,null,{"$f":"SUM(F72,J72,M72,Y72,AE72,AN72,AS72,BC72,BE72)","v":0},{"$f":"DL72/9","v":0},{"$f":"SUM(I72,N72,X72,AB72,AC72,AM72,AP72,AU72,AW72,BA72)","v":0},{"$f":"DN72/10","v":0},{"$f":"SUM(H72,O72,Q72,T72,V72,AG72,AJ72,AQ72,AX72)","v":0},{"$f":"DP72/9","v":0},{"$f":"SUM(E72,K72,R72,U72,Z72,AF72,AI72,AL72,AT72,AZ72,BD72)","v":0},{"$f":"DR72/11","v":0},{"$f":"SUM(E72,I72,O72,U72,AF72,AN72,AQ72,AS72,AW72,BE72)","v":0},{"$f":"DT72/10","v":0},{"$f":"SUM(H72,M72,R72,V72,Z72,AE72,AI72,AM72,AU72,BA72)","v":0},{"$f":"DV72/10","v":0},{"$f":"SUM(F72,K72,Q72,X72,AC72,AJ72,AZ72,BC72)","v":0},{"$f":"DX72/8","v":0},{"$f":"SUM(J72,N72,T72,Y72,AB72,AG72,AL72,AP72,AT72,AX72,BD72)","v":0},{"$f":"DZ72/11","v":0},{"$f":"SUM(DU72,DW72)/2","v":0},{"$f":"SUM(DY72,EA72)/2","v":0},{"$f":"SUM(DM72,DO72,DQ72,DS72,DU72,DW72,DY72,EA72)/8","v":0},null,null,null,{"$f":"IF(SUM(BI72,BR72,BY72,CF72,CJ72,CQ72,CX72,DD72)>0,(7-(SUM(BI72,BR72,BY72,CF72,CJ72,CQ72,CX72,DD72)/8)),0)","v":0},null,null,{"$f":"SUM(BH72,BL72,BO72,CA72,CG72,CP72,CU72,DE72,DG72)","v":0},{"$f":"EK72/9","v":0},{"$f":"SUM(BK72,BP72,BZ72,CD72,CE72,CO72,CR72,CW72,CY72,DC72)","v":0},{"$f":"EM72/10","v":0},{"$f":"SUM(BJ72,BQ72,BS72,BV72,BX72,CI72,CL72,CS72,CZ72)","v":0},{"$f":"EO72/9","v":0},{"$f":"SUM(BG72,BM72,BT72,BW72,CB72,CH72,CK72,CN72,CV72,DB72,DF72)","v":0},{"$f":"EQ72/11","v":0},{"$f":"SUM(BG72,BK72,BQ72,BW72,CH72,CP72,CS72,CU72,CY72,DG72)","v":0},{"$f":"ES72/10","v":0},{"$f":"SUM(BJ72,BO72,BT72,BX72,CB72,CG72,CK72,CO72,CW72,DC72)","v":0},{"$f":"EU72/10","v":0},{"$f":"SUM(BH72,BM72,BS72,BZ72,CE72,CL72,DB72,DE72)","v":0},{"$f":"EW72/8","v":0},{"$f":"SUM(BL72,BP72,BV72,CA72,CD72,CI72,CN72,CR72,CV72,CZ72,DF72)","v":0},{"$f":"EY72/11","v":0},{"$f":"SUM(ET72,EV72)/2","v":0},{"$f":"SUM(EX72,EZ72)/2","v":0},{"$f":"SUM(EL72,EN72,EP72,ER72,ET72,EV72,EX72,EZ72)/8","v":0},null,{"$f":"IF($GC72<>\"\",EH72-DI72,\"\")","v":""},{"$f":"IF($GC72<>\"\",EI72-DJ72,\"\")","v":""},null,{"$f":"IF($GC72<>\"\",EK72-DL72,\"\")","v":""},{"$f":"IF($GC72<>\"\",EL72-DM72,\"\")","v":""},{"$f":"IF($GC72<>\"\",EM72-DN72,\"\")","v":""},{"$f":"IF($GC72<>\"\",EN72-DO72,\"\")","v":""},{"$f":"IF($GC72<>\"\",EO72-DP72,\"\")","v":""},{"$f":"IF($GC72<>\"\",EP72-DQ72,\"\")","v":""},{"$f":"IF($GC72<>\"\",EQ72-DR72,\"\")","v":""},{"$f":"IF($GC72<>\"\",ER72-DS72,\"\")","v":""},{"$f":"IF($GC72<>\"\",ES72-DT72,\"\")","v":""},{"$f":"IF($GC72<>\"\",ET72-DU72,\"\")","v":""},{"$f":"IF($GC72<>\"\",EU72-DV72,\"\")","v":""},{"$f":"IF($GC72<>\"\",EV72-DW72,\"\")","v":""},{"$f":"IF($GC72<>\"\",EW72-DX72,\"\")","v":""},{"$f":"IF($GC72<>\"\",EX72-DY72,\"\")","v":""},{"$f":"IF($GC72<>\"\",EY72-DZ72,\"\")","v":""},{"$f":"IF($GC72<>\"\",EZ72-EA72,\"\")","v":""},{"$f":"IF($GC72<>\"\",FA72-EB72,\"\")","v":""},{"$f":"IF($GC72<>\"\",FB72-EC72,\"\")","v":""},{"$f":"IF($GC72<>\"\",FC72-ED72,\"\")","v":""},null,{"$f":"IF(Programs!$D$104=\"\",\"\",Programs!$D$104)","v":""},{"$f":"IF(AND(COUNT(D72:BE72)>48,COUNT(BF72:DG72)>48),GB72,\"\")","v":""},{"$f":"IF($GC72=\"\",\"\",(IF(FE72<0,$GC72,\"\")))","v":""},{"$f":"IF($GC72=\"\",\"\",(IF(FF72<0,$GC72,\"\")))","v":""},{"$f":"IF($GC72=\"\",\"\",(IF(FG72<0,$GC72,\"\")))","v":""},"","","","","","","","","","","","","","","","","","","",null,"","","","","","","","","","","","","","","","","","",""]
[null,{"$f":"Programs!B113","v":0},{"$f":"IF(Programs!$C$101=\"\",\"\",Programs!$C$101)","v":""},null,null,null,null,null,null,null,null,null,null,null,null,null,null,null,null,null,null,null,null,null,null,null,null,null,null,null,null,null,null,null,null,null,null,null,null,null,null,null,null,null,null,null,null,null,null,null,null,null,null,null,null,null,null,null,null,null,null,null,null,null,null,null,null,null,null,null,null,null,null,null,null,null,null,null,null,null,null,null,null,null,null,null,null,null,null,null,null,null,null,null,null,null,null,null,null,null,null,null,null,null,null,null,null,null,null,null,null,null,0,null,null,0,0,0,0,0,0,0,0,0,0,0,0,0,0,0,0,0,0,0,null,null,null,0,null,null,0,0,0,0,0,0,0,0,0,0,0,0,0,0,0,0,0,0,0,null,"","",null,"","","","","","","","","","","","","","","","","","","",null,{"$f":"IF(Programs!$D$104=\"\",\"\",Programs!$D$104)","v":""},"","","","","","","","","","","","","","","","","","","","","","","",null,"","","","","","","","","","","","","","","","","","",""]
[null,{"$f":"Programs!B114","v":0},{"$f":"IF(Programs!$C$101=\"\",\"\",Programs!$C$101)","v":""},null,null,null,null,null,null,null,null,null,null,null,null,null,null,null,null,null,null,null,null,null,null,null,null,null,null,null,null,null,null,null,null,null,null,null,null,null,null,null,null,null,null,null,null,null,null,null,null,null,null,null,null,null,null,null,null,null,null,null,null,null,null,null,null,null,null,null,null,null,null,null,null,null,null,null,null,null,null,null,null,null,null,null,null,null,null,null,null,null,null,null,null,null,null,null,null,null,null,null,null,null,null,null,null,null,null,null,null,null,0,null,null,0,0,0,0,0,0,0,0,0,0,0,0,0,0,0,0,0,0,0,null,null,null,0,null,null,0,0,0,0,0,0,0,0,0,0,0,0,0,0,0,0,0,0,0,null,"","",null,"","","","","","","","","","","","","","","","","","","",null,{"$f":"IF(Programs!$D$104=\"\",\"\",Programs!$D$104)","v":""},"","","","","","","","","","","","","","","","","","","","","","","",null,"","","","","","","","","","","","","","","","","","",""]
[null,{"$f":"Programs!B115","v":0},{"$f":"IF(Programs!$C$101=\"\",\"\",Programs!$C$101)","v":""},null,null,null,null,null,null,null,null,null,null,null,null,null,null,null,null,null,null,null,null,null,null,null,null,null,null,null,null,null,null,null,null,null,null,null,null,null,null,null,null,null,null,null,null,null,null,null,null,null,null,null,null,null,null,null,null,null,null,null,null,null,null,null,null,null,null,null,null,null,null,null,null,null,null,null,null,null,null,null,null,null,null,null,null,null,null,null,null,null,null,null,null,null,null,null,null,null,null,null,null,null,null,null,null,null,null,null,null,null,0,null,null,0,0,0,0,0,0,0,0,0,0,0,0,0,0,0,0,0,0,0,null,null,null,0,null,null,0,0,0,0,0,0,0,0,0,0,0,0,0,0,0,0,0,0,0,null,"","",null,"","","","","","","","","","","","","","","","","","","",null,{"$f":"IF(Programs!$D$104=\"\",\"\",Programs!$D$104)","v":""},"","","","","","","","","","","","","","","","","","","","","","","",null,"","","","","","","","","","","","","","","","","","",""]
["Program 7",{"$f":"Programs!B123","v":0},{"$f":"IF(Programs!$C$120=\"\",\"\",Programs!$C$120)","v":""},null,null,null,null,null,null,null,null,null,null,null,null,null,null,null,null,null,null,null,null,null,null,null,null,null,null,null,null,null,null,null,null,null,null,null,null,null,null,null,null,null,null,null,null,null,null,null,null,null,null,null,null,null,null,null,null,null,null,null,null,null,null,null,null,null,null,null,null,null,null,null,null,null,null,null,null,null,null,null,null,null,null,null,null,null,null,null,null,null,null,null,null,null,null,null,null,null,null,null,null,null,null,null,null,null,null,null,null,null,0,null,null,0,0,0,0,0,0,0,0,0,0,0,0,0,0,0,0,0,0,0,null,null,null,0,null,null,0,0,0,0,0,0,0,0,0,0,0,0,0,0,0,0,0,0,0,null,"","",null,"","","","","","","","","","","","","","","","","","","",null,{"$f":"IF(Programs!$D$120=\"\",\"\",Programs!$D$120)","v":""},"","","","","","","","","","","","","","","","","","","","","","","",null,"","","","","","","","","","","","","","","","","","",""]
[null,{"$f":"Programs!B124","v":0},{"$f":"IF(Programs!$C$120=\"\",\"\",Programs!$C$120)","v":""},null,null,null,null,null,null,null,null,null,null,null,null,null,null,null,null,null,null,null,null,null,null,null,null,null,null,null,null,null,null,null,null,null,null,null,null,null,null,null,null,null,null,null,null,null,null,null,null,null,null,null,null,null,null,null,null,null,null,null,null,null,null,null,null,null,null,null,null,null,null,null,null,null,null,null,null,null,null,null,null,null,null,null,null,null,null,null,null,null,null,null,null,null,null,null,null,null,null,null,null,null,null,null,null,null,null,null,null,null,0,null,null,0,0,0,0,0,0,0,0,0,0,0,0,0,0,0,0,0,0,0,null,null,null,0,null,null,0,0,0,0,0,0,0,0,0,0,0,0,0,0,0,0,0,0,0,null,"","",null,"","","","","","","","","","","","","","","","","","","",null,{"$f":"IF(Programs!$D$120=\"\",\"\",Programs!$D$120)","v":""},"","","","","","","","","","","","","","","","","","","","","","","",null,"","","","","","","","","","","","","","","","","","",""]
[null,{"$f":"Programs!B125","v":0},{"$f":"IF(Programs!$C$120=\"\",\"\",Programs!$C$120)","v":""},null,null,null,null,null,null,null,null,null,null,null,null,null,null,null,null,null,null,null,null,null,null,null,null,null,null,null,null,null,null,null,null,null,null,null,null,null,null,null,null,null,null,null,null,null,null,null,null,null,null,null,null,null,null,null,null,null,null,null,null,null,null,null,null,null,null,null,null,null,null,null,null,null,null,null,null,null,null,null,null,null,null,null,null,null,null,null,null,null,null,null,null,null,null,null,null,null,null,null,null,null,null,null,null,null,null,null,null,null,0,null,null,0,0,0,0,0,0,0,0,0,0,0,0,0,0,0,0,0,0,0,null,null,null,0,null,null,0,0,0,0,0,0,0,0,0,0,0,0,0,0,0,0,0,0,0,null,"","",null,"","","","","","","","","","","","","","","","","","","",null,{"$f":"IF(Programs!$D$120=\"\",\"\",Programs!$D$120)","v":""},"","","","","","","","","","","","","","","","","","","","","","","",null,"","","","","","","","","","","","","","","","","","",""]
[null,{"$f":"Programs!B126","v":0},{"$f":"IF(Programs!$C$120=\"\",\"\",Programs!$C$120)","v":""},null,null,null,null,null,null,null,null,null,null,null,null,null,null,null,null,null,null,null,null,null,null,null,null,null,null,null,null,null,null,null,null,null,null,null,null,null,null,null,null,null,null,null,null,null,null,null,null,null,null,null,null,null,null,null,null,null,null,null,null,null,null,null,null,null,null,null,null,null,null,null,null,null,null,null,null,null,null,null,null,null,null,null,null,null,null,null,null,null,null,null,null,null,null,null,null,null,null,null,null,null,null,null,null,null,null,null,null,null,0,null,null,0,0,0,0,0,0,0,0,0,0,0,0,0,0,0,0,0,0,0,null,null,null,0,null,null,0,0,0,0,0,0,0,0,0,0,0,0,0,0,0,0,0,0,0,null,"","",null,"","","","","","","","","","","","","","","","","","","",null,{"$f":"IF(Programs!$D$120=\"\",\"\",Programs!$D$120)","v":""},"","","","","","","","","","","","","","","","","","","","","","","",null,"","","","","","","","","","","","","","","","","","",""]
[null,{"$f":"Programs!B127","v":0},{"$f":"IF(Programs!$C$120=\"\",\"\",Programs!$C$120)","v":""},null,null,null,null,null,null,null,null,null,null,null,null,null,null,null,null,null,null,null,null,null,null,null,null,null,null,null,null,null,null,null,null,null,null,null,null,null,null,null,null,null,null,null,null,null,null,null,null,null,null,null,null,null,null,null,null,null,null,null,null,null,null,null,null,null,null,null,null,null,null,null,null,null,null,null,null,null,null,null,null,null,null,null,null,null,null,null,null,null,null,null,null,null,null,null,null,null,null,null,null,null,null,null,null,null,null,null,null,null,0,null,null,0,0,0,0,0,0,0,0,0,0,0,0,0,0,0,0,0,0,0,null,null,null,{"$f":"IF(SUM(BI80,BR80,BY80,CF80,CJ80,CQ80,CX80,DD80)>0,(7-(SUM(BI80,BR80,BY80,CF80,CJ80,CQ80,CX80,DD80)/8)),0)","v":0},null,null,{"$f":"SUM(BH80,BL80,BO80,CA80,CG80,CP80,CU80,DE80,DG80)","v":0},0,{"$f":"SUM(BK80,BP80,BZ80,CD80,CE80,CO80,CR80,CW80,CY80,DC80)","v":0},0,{"$f":"SUM(BJ80,BQ80,BS80,BV80,BX80,CI80,CL80,CS80,CZ80)","v":0},0,{"$f":"SUM(BG80,BM80,BT80,BW80,CB80,CH80,CK80,CN80,CV80,DB80,DF80)","v":0},0,{"$f":"SUM(BG80,BK80,BQ80,BW80,CH80,CP80,CS80,CU80,CY80,DG80)","v":0},0,{"$f":"SUM(BJ80,BO80,BT80,BX80,CB80,CG80,CK80,CO80,CW80,DC80)","v":0},0,{"$f":"SUM(BH80,BM80,BS80,BZ80,CE80,CL80,DB80,DE80)","v":0},0,{"$f":"SUM(BL80,BP80,BV80,CA80,CD80,CI80,CN80,CR80,CV80,CZ80,DF80)","v":0},0,0,0,0,null,{"$f":"IF($GC80<>\"\",EH80-DI80,\"\")","v":""},{"$f":"IF($GC80<>\"\",EI80-DJ80,\"\")","v":""},null,{"$f":"IF($GC80<>\"\",EK80-DL80,\"\")","v":""},{"$f":"IF($GC80<>\"\",EL80-DM80,\"\")","v":""},{"$f":"IF($GC80<>\"\",EM80-DN80,\"\")","v":""},{"$f":"IF($GC80<>\"\",EN80-DO80,\"\")","v":""},{"$f":"IF($GC80<>\"\",EO80-DP80,\"\")","v":""},{"$f":"IF($GC80<>\"\",EP80-DQ80,\"\")","v":""},{"$f":"IF($GC80<>\"\",EQ80-DR80,\"\")","v":""},{"$f":"IF($GC80<>\"\",ER80-DS80,\"\")","v":""},{"$f":"IF($GC80<>\"\",ES80-DT80,\"\")","v":""},{"$f":"IF($GC80<>\"\",ET80-DU80,\"\")","v":""},{"$f":"IF($GC80<>\"\",EU80-DV80,\"\")","v":""},{"$f":"IF($GC80<>\"\",EV80-DW80,\"\")","v":""},{"$f":"IF($GC80<>\"\",EW80-DX80,\"\")","v":""},{"$f":"IF($GC80<>\"\",EX80-DY80,\"\")","v":""},{"$f":"IF($GC80<>\"\",EY80-DZ80,\"\")","v":""},{"$f":"IF($GC80<>\"\",EZ80-EA80,\"\")","v":""},{"$f":"IF($GC80<>\"\",FA80-EB80,\"\")","v":""},{"$f":"IF($GC80<>\"\",FB80-EC80,\"\")","v":""},{"$f":"IF($GC80<>\"\",FC80-ED80,\"\")","v":""},null,{"$f":"IF(Programs!$D$120=\"\",\"\",Programs!$D$120)","v":""},"",{"$f":"IF($GC80=\"\",\"\",(IF(FE80<0,$GC80,\"\")))","v":""},{"$f":"IF($GC80=\"\",\"\",(IF(FF80<0,$GC80,\"\")))","v":""},{"$f":"IF($GC80=\"\",\"\",(IF(FG80<0,$GC80,\"\")))","v":""},"","","","","","","","","","","","","","","","","","","",null,"","","","","","","","","","","","","","","","","","",""]
[null,{"$f":"Programs!B128","v":0},{"$f":"IF(Programs!$C$120=\"\",\"\",Programs!$C$120)","v":""},null,null,null,null,null,null,null,null,null,null,null,null,null,null,null,null,null,null,null,null,null,null,null,null,null,null,null,null,null,null,null,null,null,null,null,null,null,null,null,null,null,null,null,null,null,null,null,null,null,null,null,null,null,null,null,null,null,null,null,null,null,null,null,null,null,null,null,null,null,null,null,null,null,null,null,null,null,null,null,null,null,null,null,null,null,null,null,null,null,null,null,null,null,null,null,null,null,null,null,null,null,null,null,null,null,null,null,null,null,0,null,null,0,0,0,0,0,0,0,0,0,0,0,0,0,0,0,0,0,0,0,null,null,null,0,null,null,0,0,0,0,0,0,0,0,0,0,0,0,0,0,0,0,0,0,0,null,"","",null,"","","","","","","","","","","","","","","","","","","",null,{"$f":"IF(Programs!$D$120=\"\",\"\",Programs!$D$120)","v":""},{"$f":"IF(AND(COUNT(D81:BE81)>48,COUNT(BF81:DG81)>48),GB81,\"\")","v":""},"","","","","","","","","","","","","","","","","","","","","","",null,"","","","","","","","","","","","","","","","","","",""]
[null,{"$f":"Programs!B129","v":0},{"$f":"IF(Programs!$C$120=\"\",\"\",Programs!$C$120)","v":""},null,null,null,null,null,null,null,null,null,null,null,null,null,null,null,null,null,null,null,null,null,null,null,null,null,null,null,null,null,null,null,null,null,null,null,null,null,null,null,null,null,null,null,null,null,null,null,null,null,null,null,null,null,null,null,null,null,null,null,null,null,null,null,null,null,null,null,null,null,null,null,null,null,null,null,null,null,null,null,null,null,null,null,null,null,null,null,null,null,null,null,null,null,null,null,null,null,null,null,null,null,null,null,null,null,null,null,null,null,0,null,null,0,0,0,0,0,0,0,0,0,0,0,0,0,0,0,0,0,0,0,null,null,null,0,null,null,0,0,0,0,0,0,0,0,0,0,0,0,0,0,0,0,0,0,0,null,"","",null,"","","","","","","","","","","","","","","","","","","",null,{"$f":"IF(Programs!$D$120=\"\",\"\",Programs!$D$120)","v":""},"","","","","","","","","","","","","","","","","","","","","","","",null,"","","","","","","","","","","","","","","","","","",""]
[null,{"$f":"Programs!B130","v":0},{"$f":"IF(Programs!$C$120=\"\",\"\",Programs!$C$120)","v":""},null,null,null,null,null,null,null,null,null,null,null,null,null,null,null,null,null,null,null,null,null,null,null,null,null,null,null,null,null,null,null,null,null,null,null,null,null,null,null,null,null,null,null,null,null,null,null,null,null,null,null,null,null,null,null,null,null,null,null,null,null,null,null,null,null,null,null,null,null,null,null,null,null,null,null,null,null,null,null,null,null,null,null,null,null,null,null,null,null,null,null,null,null,null,null,null,null,null,null,null,null,null,null,null,null,null,null,null,null,0,null,null,0,0,0,0,0,0,0,0,0,0,0,0,0,0,0,0,0,0,0,null,null,null,0,null,null,0,0,0,0,0,0,0,0,0,0,0,0,0,0,0,0,0,0,0,null,"","",null,"","","","","","","","","","","","","","","","","","","",null,{"$f":"IF(Programs!$D$120=\"\",\"\",Programs!$D$120)","v":""},"","","","","","","","","","","","","","","","","","","","","","","",null,"","","","","","","","","","","","","","","","","","",""]
[null,{"$f":"Programs!B131","v":0},{"$f":"IF(Programs!$C$120=\"\",\"\",Programs!$C$120)","v":""},null,null,null,null,null,null,null,null,null,null,null,null,null,null,null,null,null,null,null,null,null,null,null,null,null,null,null,null,null,null,null,null,null,null,null,null,null,null,null,null,null,null,null,null,null,null,null,null,null,null,null,null,null,null,null,null,null,null,null,null,null,null,null,null,null,null,null,null,null,null,null,null,null,null,null,null,null,null,null,null,null,null,null,null,null,null,null,null,null,null,null,null,null,null,null,null,null,null,null,null,null,null,null,null,null,null,null,null,null,{"$f":"IF(SUM(G84,P84,W84,AD84,AH84,AO84,AV84,BB84)>0,(7-(SUM(G84,P84,W84,AD84,AH84,AO84,AV84,BB84)/8)),0)","v":0},null,null,{"$f":"SUM(F84,J84,M84,Y84,AE84,AN84,AS84,BC84,BE84)","v":0},{"$f":"DL84/9","v":0},{"$f":"SUM(I84,N84,X84,AB84,AC84,AM84,AP84,AU84,AW84,BA84)","v":0},{"$f":"DN84/10","v":0},{"$f":"SUM(H84,O84,Q84,T84,V84,AG84,AJ84,AQ84,AX84)","v":0},{"$f":"DP84/9","v":0},{"$f":"SUM(E84,K84,R84,U84,Z84,AF84,AI84,AL84,AT84,AZ84,BD84)","v":0},{"$f":"DR84/11","v":0},{"$f":"SUM(E84,I84,O84,U84,AF84,AN84,AQ84,AS84,AW84,BE84)","v":0},{"$f":"DT84/10","v":0},{"$f":"SUM(H84,M84,R84,V84,Z84,AE84,AI84,AM84,AU84,BA84)","v":0},{"$f":"DV84/10","v":0},{"$f":"SUM(F84,K84,Q84,X84,AC84,AJ84,AZ84,BC84)","v":0},{"$f":"DX84/8","v":0},{"$f":"SUM(J84,N84,T84,Y84,AB84,AG84,AL84,AP84,AT84,AX84,BD84)","v":0},{"$f":"DZ84/11","v":0},{"$f":"SUM(DU84,DW84)/2","v":0},{"$f":"SUM(DY84,EA84)/2","v":0},{"$f":"SUM(DM84,DO84,DQ84,DS84,DU84,DW84,DY84,EA84)/8","v":0},null,null,null,{"$f":"IF(SUM(BI84,BR84,BY84,CF84,CJ84,CQ84,CX84,DD84)>0,(7-(SUM(BI84,BR84,BY84,CF84,CJ84,CQ84,CX84,DD84)/8)),0)","v":0},null,null,{"$f":"SUM(BH84,BL84,BO84,CA84,CG84,CP84,CU84,DE84,DG84)","v":0},{"$f":"EK84/9","v":0},{"$f":"SUM(BK84,BP84,BZ84,CD84,CE84,CO84,CR84,CW84,CY84,DC84)","v":0},{"$f":"EM84/10","v":0},{"$f":"SUM(BJ84,BQ84,BS84,BV84,BX84,CI84,CL84,CS84,CZ84)","v":0},{"$f":"EO84/9","v":0},{"$f":"SUM(BG84,BM84,BT84,BW84,CB84,CH84,CK84,CN84,CV84,DB84,DF84)","v":0},{"$f":"EQ84/11","v":0},{"$f":"SUM(BG84,BK84,BQ84,BW84,CH84,CP84,CS84,CU84,CY84,DG84)","v":0},{"$f":"ES84/10","v":0},{"$f":"SUM(BJ84,BO84,BT84,BX84,CB84,CG84,CK84,CO84,CW84,DC84)","v":0},{"$f":"EU84/10","v":0},{"$f":"SUM(BH84,BM84,BS84,BZ84,CE84,CL84,DB84,DE84)","v":0},{"$f":"EW84/8","v":0},{"$f":"SUM(BL84,BP84,BV84,CA84,CD84,CI84,CN84,CR84,CV84,CZ84,DF84)","v":0},{"$f":"EY84/11","v":0},{"$f":"SUM(ET84,EV84)/2","v":0},{"$f":"SUM(EX84,EZ84)/2","v":0},{"$f":"SUM(EL84,EN84,EP84,ER84,ET84,EV84,EX84,EZ84)/8","v":0},null,{"$f":"IF($GC84<>\"\",EH84-DI84,\"\")","v":""},{"$f":"IF($GC84<>\"\",EI84-DJ84,\"\")","v":""},null,{"$f":"IF($GC84<>\"\",EK84-DL84,\"\")","v":""},{"$f":"IF($GC84<>\"\",EL84-DM84,\"\")","v":""},{"$f":"IF($GC84<>\"\",EM84-DN84,\"\")","v":""},{"$f":"IF($GC84<>\"\",EN84-DO84,\"\")","v":""},{"$f":"IF($GC84<>\"\",EO84-DP84,\"\")","v":""},{"$f":"IF($GC84<>\"\",EP84-DQ84,\"\")","v":""},{"$f":"IF($GC84<>\"\",EQ84-DR84,\"\")","v":""},{"$f":"IF($GC84<>\"\",ER84-DS84,\"\")","v":""},{"$f":"IF($GC84<>\"\",ES84-DT84,\"\")","v":""},{"$f":"IF($GC84<>\"\",ET84-DU84,\"\")","v":""},{"$f":"IF($GC84<>\"\",EU84-DV84,\"\")","v":""},{"$f":"IF($GC84<>\"\",EV84-DW84,\"\")","v":""},{"$f":"IF($GC84<>\"\",EW84-DX84,\"\")","v":""},{"$f":"IF($GC84<>\"\",EX84-DY84,\"\")","v":""},{"$f":"IF($GC84<>\"\",EY84-DZ84,\"\")","v":""},{"$f":"IF($GC84<>\"\",EZ84-EA84,\"\")","v":""},{"$f":"IF($GC84<>\"\",FA84-EB84,\"\")","v":""},{"$f":"IF($GC84<>\"\",FB84-EC84,\"\")","v":""},{"$f":"IF($GC84<>\"\",FC84-ED84,\"\")","v":""},null,{"$f":"IF(Programs!$D$120=\"\",\"\",Programs!$D$120)","v":""},{"$f":"IF(AND(COUNT(D84:BE84)>48,COUNT(BF84:DG84)>48),GB84,\"\")","v":""},{"$f":"IF($GC84=\"\",\"\",(IF(FE84<0,$GC84,\"\")))","v":""},{"$f":"IF($GC84=\"\",\"\",(IF(FF84<0,$GC84,\"\")))","v":""},{"$f":"IF($GC84=\"\",\"\",(IF(FG84<0,$GC84,\"\")))","v":""},"","","","","","","","","","","","","","","","","","","",null,"","","","","","","","","","","","","","","","","","",""]
[null,{"$f":"Programs!B132","v":0},{"$f":"IF(Programs!$C$120=\"\",\"\",Programs!$C$120)","v":""},null,null,null,null,null,null,null,null,null,null,null,null,null,null,null,null,null,null,null,null,null,null,null,null,null,null,null,null,null,null,null,null,null,null,null,null,null,null,null,null,null,null,null,null,null,null,null,null,null,null,null,null,null,null,null,null,null,null,null,null,null,null,null,null,null,null,null,null,null,null,null,null,null,null,null,null,null,null,null,null,null,null,null,null,null,null,null,null,null,null,null,null,null,null,null,null,null,null,null,null,null,null,null,null,null,null,null,null,null,0,null,null,0,0,0,0,0,0,0,0,0,0,0,0,0,0,0,0,0,0,0,null,null,null,0,null,null,0,0,0,0,0,0,0,0,0,0,0,0,0,0,0,0,0,0,0,null,"","",null,"","","","","","","","","","","","","","","","","","","",null,{"$f":"IF(Programs!$D$120=\"\",\"\",Programs!$D$120)","v":""},"","","","","","","","","","","","","","","","","","","","","","","",null,"","","","","","","","","","","","","","","","","","",""]
[null,{"$f":"Programs!B133","v":0},{"$f":"IF(Programs!$C$120=\"\",\"\",Programs!$C$120)","v":""},null,null,null,null,null,null,null,null,null,null,null,null,null,null,null,null,null,null,null,null,null,null,null,null,null,null,null,null,null,null,null,null,null,null,null,null,null,null,null,null,null,null,null,null,null,null,null,null,null,null,null,null,null,null,null,null,null,null,null,null,null,null,null,null,null,null,null,null,null,null,null,null,null,null,null,null,null,null,null,null,null,null,null,null,null,null,null,null,null,null,null,null,null,null,null,null,null,null,null,null,null,null,null,null,null,null,null,null,null,0,null,null,0,0,0,0,0,0,0,0,0,0,0,0,0,0,0,0,0,0,0,null,null,null,0,null,null,0,0,0,0,0,0,0,0,0,0,0,0,0,0,0,0,0,0,0,null,"","",null,"","","","","","","","","","","","","","","","","","","",null,{"$f":"IF(Programs!$D$120=\"\",\"\",Programs!$D$120)","v":""},"","","","","","","","","","","","","","","","","","","","","","","",null,"","","","","","","","","","","","","","","","","","",""]
[null,{"$f":"Programs!B134","v":0},{"$f":"IF(Programs!$C$120=\"\",\"\",Programs!$C$120)","v":""},null,null,null,null,null,null,null,null,null,null,null,null,null,null,null,null,null,null,null,null,null,null,null,null,null,null,null,null,null,null,null,null,null,null,null,null,null,null,null,null,null,null,null,null,null,null,null,null,null,null,null,null,null,null,null,null,null,null,null,null,null,null,null,null,null,null,null,null,null,null,null,null,null,null,null,null,null,null,null,null,null,null,null,null,null,null,null,null,null,null,null,null,null,null,null,null,null,null,null,null,null,null,null,null,null,null,null,null,null,0,null,null,0,0,0,0,0,0,0,0,0,0,0,0,0,0,0,0,0,0,0,null,null,null,0,null,null,0,0,0,0,0,0,0,0,0,0,0,0,0,0,0,0,0,0,0,null,"","",null,"","","","","","","","","","","","","","","","","","","",null,{"$f":"IF(Programs!$D$120=\"\",\"\",Programs!$D$120)","v":""},"","","","","","","","","","","","","","","","","","","","","","","",null,"","","","","","","","","","","","","","","","","","",""]
["Program 8",{"$f":"Programs!B142","v":0},{"$f":"IF(Programs!$C$139=\"\",\"\",Programs!$C$139)","v":""},null,null,null,null,null,null,null,null,null,null,null,null,null,null,null,null,null,null,null,null,null,null,null,null,null,null,null,null,null,null,null,null,null,null,null,null,null,null,null,null,null,null,null,null,null,null,null,null,null,null,null,null,null,null,null,null,null,null,null,null,null,null,null,null,null,null,null,null,null,null,null,null,null,null,null,null,null,null,null,null,null,null,null,null,null,null,null,null,null,null,null,null,null,null,null,null,null,null,null,null,null,null,null,null,null,null,null,null,null,0,null,null,0,0,0,0,0,0,0,0,0,0,0,0,0,0,0,0,0,0,0,null,null,null,0,null,null,0,0,0,0,0,0,0,0,0,0,0,0,0,0,0,0,0,0,0,null,"","",null,"","","","","","","","","","","","","","","","","","","",null,{"$f":"IF(Programs!$D$139=\"\",\"\",Programs!$D$139)","v":""},"","","","","","","","","","","","","","","","","","","","","","","",null,"","","","","","","","","","","","","","","","","","",""]
[null,{"$f":"Programs!B143","v":0},{"$f":"IF(Programs!$C$139=\"\",\"\",Programs!$C$139)","v":""},null,null,null,null,null,null,null,null,null,null,null,null,null,null,null,null,null,null,null,null,null,null,null,null,null,null,null,null,null,null,null,null,null,null,null,null,null,null,null,null,null,null,null,null,null,null,null,null,null,null,null,null,null,null,null,null,null,null,null,null,null,null,null,null,null,null,null,null,null,null,null,null,null,null,null,null,null,null,null,null,null,null,null,null,null,null,null,null,null,null,null,null,null,null,null,null,null,null,null,null,null,null,null,null,null,null,null,null,null,0,null,null,0,0,0,0,0,0,0,0,0,0,0,0,0,0,0,0,0,0,0,null,null,null,0,null,null,0,0,0,0,0,0,0,0,0,0,0,0,0,0,0,0,0,0,0,null,"","",null,"","","","","","","","","","","","","","","","","","","",null,{"$f":"IF(Programs!$D$139=\"\",\"\",Programs!$D$139)","v":""},"","","","","","","","","","","","","","","","","","","","","","","",null,"","","","","","","","","","","","","","","","","","",""]
[null,{"$f":"Programs!B144","v":0},{"$f":"IF(Programs!$C$139=\"\",\"\",Programs!$C$139)","v":""},null,null,null,null,null,null,null,null,null,null,null,null,null,null,null,null,null,null,null,null,null,null,null,null,null,null,null,null,null,null,null,null,null,null,null,null,null,null,null,null,null,null,null,null,null,null,null,null,null,null,null,null,null,null,null,null,null,null,null,null,null,null,null,null,null,null,null,null,null,null,null,null,null,null,null,null,null,null,null,null,null,null,null,null,null,null,null,null,null,null,null,null,null,null,null,null,null,null,null,null,null,null,null,null,null,null,null,null,null,0,null,null,0,0,0,0,0,0,0,0,0,0,0,0,0,0,0,0,0,0,0,null,null,null,0,null,null,0,0,0,0,0,0,0,0,0,0,0,0,0,0,0,0,0,0,0,null,"","",null,"","","","","","","","","","","","","","","","","","","",null,{"$f":"IF(Programs!$D$139=\"\",\"\",Programs!$D$139)","v":""},"","","","","","","","","","","","","","","","","","","","","","","",null,"","","","","","","","","","","","","","","","","","",""]
[null,{"$f":"Programs!B145","v":0},{"$f":"IF(Programs!$C$139=\"\",\"\",Programs!$C$139)","v":""},null,null,null,null,null,null,null,null,null,null,null,null,null,null,null,null,null,null,null,null,null,null,null,null,null,null,null,null,null,null,null,null,null,null,null,null,null,null,null,null,null,null,null,null,null,null,null,null,null,null,null,null,null,null,null,null,null,null,null,null,null,null,null,null,null,null,null,null,null,null,null,null,null,null,null,null,null,null,null,null,null,null,null,null,null,null,null,null,null,null,null,null,null,null,null,null,null,null,null,null,null,null,null,null,null,null,null,null,null,{"$f":"IF(SUM(G91,P91,W91,AD91,AH91,AO91,AV91,BB91)>0,(7-(SUM(G91,P91,W91,AD91,AH91,AO91,AV91,BB91)/8)),0)","v":0},null,null,{"$f":"SUM(F91,J91,M91,Y91,AE91,AN91,AS91,BC91,BE91)","v":0},{"$f":"DL91/9","v":0},{"$f":"SUM(I91,N91,X91,AB91,AC91,AM91,AP91,AU91,AW91,BA91)","v":0},{"$f":"DN91/10","v":0},{"$f":"SUM(H91,O91,Q91,T91,V91,AG91,AJ91,AQ91,AX91)","v":0},{"$f":"DP91/9","v":0},{"$f":"SUM(E91,K91,R91,U91,Z91,AF91,AI91,AL91,AT91,AZ91,BD91)","v":0},{"$f":"DR91/11","v":0},{"$f":"SUM(E91,I91,O91,U91,AF91,AN91,AQ91,AS91,AW91,BE91)","v":0},{"$f":"DT91/10","v":0},{"$f":"SUM(H91,M91,R91,V91,Z91,AE91,AI91,AM91,AU91,BA91)","v":0},{"$f":"DV91/10","v":0},{"$f":"SUM(F91,K91,Q91,X91,AC91,AJ91,AZ91,BC91)","v":0},{"$f":"DX91/8","v":0},{"$f":"SUM(J91,N91,T91,Y91,AB91,AG91,AL91,AP91,AT91,AX91,BD91)","v":0},{"$f":"DZ91/11","v":0},{"$f":"SUM(DU91,DW91)/2","v":0},{"$f":"SUM(DY91,EA91)/2","v":0},{"$f":"SUM(DM91,DO91,DQ91,DS91,DU91,DW91,DY91,EA91)/8","v":0},null,null,null,0,null,null,0,{"$f":"EK91/9","v":0},0,{"$f":"EM91/10","v":0},0,{"$f":"EO91/9","v":0},0,{"$f":"EQ91/11","v":0},0,{"$f":"ES91/10","v":0},0,{"$f":"EU91/10","v":0},0,{"$f":"EW91/8","v":0},0,{"$f":"EY91/11","v":0},{"$f":"SUM(ET91,EV91)/2","v":0},{"$f":"SUM(EX91,EZ91)/2","v":0},{"$f":"SUM(EL91,EN91,EP91,ER91,ET91,EV91,EX91,EZ91)/8","v":0},null,"","",null,"","","","","","","","","","","","","","","","","","","",null,{"$f":"IF(Programs!$D$139=\"\",\"\",Programs!$D$139)","v":""},"","","","","","","","","","","","","","","","","","","","","","","",null,"","","","","","","","","","","","","","","","","","",""]
[null,{"$f":"Programs!B146","v":0},{"$f":"IF(Programs!$C$139=\"\",\"\",Programs!$C$139)","v":""},null,null,null,null,null,null,null,null,null,null,null,null,null,null,null,null,null,null,null,null,null,null,null,null,null,null,null,null,null,null,null,null,null,null,null,null,null,null,null,null,null,null,null,null,null,null,null,null,null,null,null,null,null,null,null,null,null,null,null,null,null,null,null,null,null,null,null,null,null,null,null,null,null,null,null,null,null,null,null,null,null,null,null,null,null,null,null,null,null,null,null,null,null,null,null,null,null,null,null,null,null,null,null,null,null,null,null,null,null,0,null,null,0,0,0,0,0,0,0,0,0,0,0,0,0,0,0,0,0,0,0,null,null,null,0,null,null,0,0,0,0,0,0,0,0,0,0,0,0,0,0,0,0,0,0,0,null,"","",null,"","","","","","","","","","","","","","","","","","","",null,{"$f":"IF(Programs!$D$139=\"\",\"\",Programs!$D$139)","v":""},"","","","","","","","","","","","","","","","","","","","","","","",null,"","","","","","","","","","","","","","","","","","",""]
[null,{"$f":"Programs!B147","v":0},{"$f":"IF(Programs!$C$139=\"\",\"\",Programs!$C$139)","v":""},null,null,null,null,null,null,null,null,null,null,null,null,null,null,null,null,null,null,null,null,null,null,null,null,null,null,null,null,null,null,null,null,null,null,null,null,null,null,null,null,null,null,null,null,null,null,null,null,null,null,null,null,null,null,null,null,null,null,null,null,null,null,null,null,null,null,null,null,null,null,null,null,null,null,null,null,null,null,null,null,null,null,null,null,null,null,null,null,null,null,null,null,null,null,null,null,null,null,null,null,null,null,null,null,null,null,null,null,null,0,null,null,0,0,0,0,0,0,0,0,0,0,0,0,0,0,0,0,0,0,0,null,null,null,0,null,null,0,0,0,0,0,0,0,0,0,0,0,0,0,0,0,0,0,0,0,null,"","",null,"","","","","","","","","","","","","","","","","","","",null,{"$f":"IF(Programs!$D$139=\"\",\"\",Programs!$D$139)","v":""},"","","","","","","","","","","","","","","","","","","","","","","",null,"","","","","","","","","","","","","","","","","","",""]
[null,{"$f":"Programs!B148","v":0},{"$f":"IF(Programs!$C$139=\"\",\"\",Programs!$C$139)","v":""},null,null,null,null,null,null,null,null,null,null,null,null,null,null,null,null,null,null,null,null,null,null,null,null,null,null,null,null,null,null,null,null,null,null,null,null,null,null,null,null,null,null,null,null,null,null,null,null,null,null,null,null,null,null,null,null,null,null,null,null,null,null,null,null,null,null,null,null,null,null,null,null,null,null,null,null,null,null,null,null,null,null,null,null,null,null,null,null,null,null,null,null,null,null,null,null,null,null,null,null,null,null,null,null,null,null,null,null,null,0,null,null,0,0,0,0,0,0,0,0,0,0,0,0,0,0,0,0,0,0,0,null,null,null,0,null,null,0,0,0,0,0,0,0,0,0,0,0,0,0,0,0,0,0,0,0,null,"","",null,"","","","","","","","","","","","","","","","","","","",null,{"$f":"IF(Programs!$D$139=\"\",\"\",Programs!$D$139)","v":""},"","","","","","","","","","","","","","","","","","","","","","","",null,"","","","","","","","","","","","","","","","","","",""]
[null,{"$f":"Programs!B149","v":0},{"$f":"IF(Programs!$C$139=\"\",\"\",Programs!$C$139)","v":""},null,null,null,null,null,null,null,null,null,null,null,null,null,null,null,null,null,null,null,null,null,null,null,null,null,null,null,null,null,null,null,null,null,null,null,null,null,null,null,null,null,null,null,null,null,null,null,null,null,null,null,null,null,null,null,null,null,null,null,null,null,null,null,null,null,null,null,null,null,null,null,null,null,null,null,null,null,null,null,null,null,null,null,null,null,null,null,null,null,null,null,null,null,null,null,null,null,null,null,null,null,null,null,null,null,null,null,null,null,0,null,null,0,0,0,0,0,0,0,0,0,0,0,0,0,0,0,0,0,0,0,null,null,null,0,null,null,0,0,0,0,0,0,0,0,0,0,0,0,0,0,0,0,0,0,0,null,"","",null,"","","","","","","","","","","","","","","","","","","",null,{"$f":"IF(Programs!$D$139=\"\",\"\",Programs!$D$139)","v":""},"","","","","","","","","","","","","","","","","","","","","","","",null,"","","","","","","","","","","","","","","","","","",""]
[null,{"$f":"Programs!B150","v":0},{"$f":"IF(Programs!$C$139=\"\",\"\",Programs!$C$139)","v":""},null,null,null,null,null,null,null,null,null,null,null,null,null,null,null,null,null,null,null,null,null,null,null,null,null,null,null,null,null,null,null,null,null,null,null,null,null,null,null,null,null,null,null,null,null,null,null,null,null,null,null,null,null,null,null,null,null,null,null,null,null,null,null,null,null,null,null,null,null,null,null,null,null,null,null,null,null,null,null,null,null,null,null,null,null,null,null,null,null,null,null,null,null,null,null,null,null,null,null,null,null,null,null,null,null,null,null,null,null,{"$f":"IF(SUM(G96,P96,W96,AD96,AH96,AO96,AV96,BB96)>0,(7-(SUM(G96,P96,W96,AD96,AH96,AO96,AV96,BB96)/8)),0)","v":0},null,null,{"$f":"SUM(F96,J96,M96,Y96,AE96,AN96,AS96,BC96,BE96)","v":0},{"$f":"DL96/9","v":0},{"$f":"SUM(I96,N96,X96,AB96,AC96,AM96,AP96,AU96,AW96,BA96)","v":0},{"$f":"DN96/10","v":0},{"$f":"SUM(H96,O96,Q96,T96,V96,AG96,AJ96,AQ96,AX96)","v":0},{"$f":"DP96/9","v":0},{"$f":"SUM(E96,K96,R96,U96,Z96,AF96,AI96,AL96,AT96,AZ96,BD96)","v":0},{"$f":"DR96/11","v":0},{"$f":"SUM(E96,I96,O96,U96,AF96,AN96,AQ96,AS96,AW96,BE96)","v":0},{"$f":"DT96/10","v":0},{"$f":"SUM(H96,M96,R96,V96,Z96,AE96,AI96,AM96,AU96,BA96)","v":0},{"$f":"DV96/10","v":0},{"$f":"SUM(F96,K96,Q96,X96,AC96,AJ96,AZ96,BC96)","v":0},{"$f":"DX96/8","v":0},{"$f":"SUM(J96,N96,T96,Y96,AB96,AG96,AL96,AP96,AT96,AX96,BD96)","v":0},{"$f":"DZ96/11","v":0},{"$f":"SUM(DU96,DW96)/2","v":0},{"$f":"SUM(DY96,EA96)/2","v":0},{"$f":"SUM(DM96,DO96,DQ96,DS96,DU96,DW96,DY96,EA96)/8","v":0},null,null,null,{"$f":"IF(SUM(BI96,BR96,BY96,CF96,CJ96,CQ96,CX96,DD96)>0,(7-(SUM(BI96,BR96,BY96,CF96,CJ96,CQ96,CX96,DD96)/8)),0)","v":0},null,null,{"$f":"SUM(BH96,BL96,BO96,CA96,CG96,CP96,CU96,DE96,DG96)","v":0},{"$f":"EK96/9","v":0},{"$f":"SUM(BK96,BP96,BZ96,CD96,CE96,CO96,CR96,CW96,CY96,DC96)","v":0},{"$f":"EM96/10","v":0},{"$f":"SUM(BJ96,BQ96,BS96,BV96,BX96,CI96,CL96,CS96,CZ96)","v":0},{"$f":"EO96/9","v":0},{"$f":"SUM(BG96,BM96,BT96,BW96,CB96,CH96,CK96,CN96,CV96,DB96,DF96)","v":0},{"$f":"EQ96/11","v":0},{"$f":"SUM(BG96,BK96,BQ96,BW96,CH96,CP96,CS96,CU96,CY96,DG96)","v":0},{"$f":"ES96/10","v":0},{"$f":"SUM(BJ96,BO96,BT96,BX96,CB96,CG96,CK96,CO96,CW96,DC96)","v":0},{"$f":"EU96/10","v":0},{"$f":"SUM(BH96,BM96,BS96,BZ96,CE96,CL96,DB96,DE96)","v":0},{"$f":"EW96/8","v":0},{"$f":"SUM(BL96,BP96,BV96,CA96,CD96,CI96,CN96,CR96,CV96,CZ96,DF96)","v":0},{"$f":"EY96/11","v":0},{"$f":"SUM(ET96,EV96)/2","v":0},{"$f":"SUM(EX96,EZ96)/2","v":0},{"$f":"SUM(EL96,EN96,EP96,ER96,ET96,EV96,EX96,EZ96)/8","v":0},null,{"$f":"IF($GC96<>\"\",EH96-DI96,\"\")","v":""},{"$f":"IF($GC96<>\"\",EI96-DJ96,\"\")","v":""},null,{"$f":"IF($GC96<>\"\",EK96-DL96,\"\")","v":""},{"$f":"IF($GC96<>\"\",EL96-DM96,\"\")","v":""},{"$f":"IF($GC96<>\"\",EM96-DN96,\"\")","v":""},{"$f":"IF($GC96<>\"\",EN96-DO96,\"\")","v":""},{"$f":"IF($GC96<>\"\",EO96-DP96,\"\")","v":""},{"$f":"IF($GC96<>\"\",EP96-DQ96,\"\")","v":""},{"$f":"IF($GC96<>\"\",EQ96-DR96,\"\")","v":""},{"$f":"IF($GC96<>\"\",ER96-DS96,\"\")","v":""},{"$f":"IF($GC96<>\"\",ES96-DT96,\"\")","v":""},{"$f":"IF($GC96<>\"\",ET96-DU96,\"\")","v":""},{"$f":"IF($GC96<>\"\",EU96-DV96,\"\")","v":""},{"$f":"IF($GC96<>\"\",EV96-DW96,\"\")","v":""},{"$f":"IF($GC96<>\"\",EW96-DX96,\"\")","v":""},{"$f":"IF($GC96<>\"\",EX96-DY96,\"\")","v":""},{"$f":"IF($GC96<>\"\",EY96-DZ96,\"\")","v":""},{"$f":"IF($GC96<>\"\",EZ96-EA96,\"\")","v":""},{"$f":"IF($GC96<>\"\",FA96-EB96,\"\")","v":""},{"$f":"IF($GC96<>\"\",FB96-EC96,\"\")","v":""},{"$f":"IF($GC96<>\"\",FC96-ED96,\"\")","v":""},null,{"$f":"IF(Programs!$D$139=\"\",\"\",Programs!$D$139)","v":""},{"$f":"IF(AND(COUNT(D96:BE96)>48,COUNT(BF96:DG96)>48),GB96,\"\")","v":""},{"$f":"IF($GC96=\"\",\"\",(IF(FE96<0,$GC96,\"\")))","v":""},{"$f":"IF($GC96=\"\",\"\",(IF(FF96<0,$GC96,\"\")))","v":""},{"$f":"IF($GC96=\"\",\"\",(IF(FG96<0,$GC96,\"\")))","v":""},"","","","","","","","","","","","","","","","","","","",null,"","","","","","","","","","","","","","","","","","",""]
[null,{"$f":"Programs!B151","v":0},{"$f":"IF(Programs!$C$139=\"\",\"\",Programs!$C$139)","v":""},null,null,null,null,null,null,null,null,null,null,null,null,null,null,null,null,null,null,null,null,null,null,null,null,null,null,null,null,null,null,null,null,null,null,null,null,null,null,null,null,null,null,null,null,null,null,null,null,null,null,null,null,null,null,null,null,null,null,null,null,null,null,null,null,null,null,null,null,null,null,null,null,null,null,null,null,null,null,null,null,null,null,null,null,null,null,null,null,null,null,null,null,null,null,null,null,null,null,null,null,null,null,null,null,null,null,null,null,null,0,null,null,0,0,0,0,0,0,0,0,0,0,0,0,0,0,0,0,0,0,0,null,null,null,0,null,null,0,0,0,0,0,0,0,0,0,0,0,0,0,0,0,0,0,0,0,null,"","",null,"","","","","","","","","","","","","","","","","","","",null,{"$f":"IF(Programs!$D$139=\"\",\"\",Programs!$D$139)","v":""},"","","","","","","","","","","","","","","","","","","","","","","",null,"","","","","","","","","","","","","","","","","","",""]
[null,{"$f":"Programs!B152","v":0},{"$f":"IF(Programs!$C$139=\"\",\"\",Programs!$C$139)","v":""},null,null,null,null,null,null,null,null,null,null,null,null,null,null,null,null,null,null,null,null,null,null,null,null,null,null,null,null,null,null,null,null,null,null,null,null,null,null,null,null,null,null,null,null,null,null,null,null,null,null,null,null,null,null,null,null,null,null,null,null,null,null,null,null,null,null,null,null,null,null,null,null,null,null,null,null,null,null,null,null,null,null,null,null,null,null,null,null,null,null,null,null,null,null,null,null,null,null,null,null,null,null,null,null,null,null,null,null,null,0,null,null,0,0,0,0,0,0,0,0,0,0,0,0,0,0,0,0,0,0,0,null,null,null,0,null,null,0,0,0,0,0,0,0,0,0,0,0,0,0,0,0,0,0,0,0,null,"","",null,"","","","","","","","","","","","","","","","","","","",null,{"$f":"IF(Programs!$D$139=\"\",\"\",Programs!$D$139)","v":""},"","","","","","","","","","","","","","","","","","","","","","","",null,"","","","","","","","","","","","","","","","","","",""]
[null,{"$f":"Programs!B153","v":0},{"$f":"IF(Programs!$C$139=\"\",\"\",Programs!$C$139)","v":""},null,null,null,null,null,null,null,null,null,null,null,null,null,null,null,null,null,null,null,null,null,null,null,null,null,null,null,null,null,null,null,null,null,null,null,null,null,null,null,null,null,null,null,null,null,null,null,null,null,null,null,null,null,null,null,null,null,null,null,null,null,null,null,null,null,null,null,null,null,null,null,null,null,null,null,null,null,null,null,null,null,null,null,null,null,null,null,null,null,null,null,null,null,null,null,null,null,null,null,null,null,null,null,null,null,null,null,null,null,0,null,null,0,0,0,0,0,0,0,0,0,0,0,0,0,0,0,0,0,0,0,null,null,null,0,null,null,0,0,0,0,0,0,0,0,0,0,0,0,0,0,0,0,0,0,0,null,"","",null,"","","","","","","","","","","","","","","","","","","",null,{"$f":"IF(Programs!$D$139=\"\",\"\",Programs!$D$139)","v":""},"","","","","","","","","","","","","","","","","","","","","","","",null,"","","","","","","","","","","","","","","","","","",""]
["Program 9",{"$f":"Programs!B161","v":0},{"$f":"IF(Programs!$C$158=\"\",\"\",Programs!$C$158)","v":""},null,null,null,null,null,null,null,null,null,null,null,null,null,null,null,null,null,null,null,null,null,null,null,null,null,null,null,null,null,null,null,null,null,null,null,null,null,null,null,null,null,null,null,null,null,null,null,null,null,null,null,null,null,null,null,null,null,null,null,null,null,null,null,null,null,null,null,null,null,null,null,null,null,null,null,null,null,null,null,null,null,null,null,null,null,null,null,null,null,null,null,null,null,null,null,null,null,null,null,null,null,null,null,null,null,null,null,null,null,0,null,null,0,0,0,0,0,0,0,0,0,0,0,0,0,0,0,0,0,0,0,null,null,null,0,null,null,0,0,0,0,0,0,0,0,0,0,0,0,0,0,0,0,0,0,0,null,"","",null,"","","","","","","","","","","","","","","","","","","",null,{"$f":"IF(Programs!$D$158=\"\",\"\",Programs!$D$158)","v":""},"","","","","","","","","","","","","","","","","","","","","","","",null,"","","","","","","","","","","","","","","","","","",""]
[null,{"$f":"Programs!B162","v":0},{"$f":"IF(Programs!$C$158=\"\",\"\",Programs!$C$158)","v":""},null,null,null,null,null,null,null,null,null,null,null,null,null,null,null,null,null,null,null,null,null,null,null,null,null,null,null,null,null,null,null,null,null,null,null,null,null,null,null,null,null,null,null,null,null,null,null,null,null,null,null,null,null,null,null,null,null,null,null,null,null,null,null,null,null,null,null,null,null,null,null,null,null,null,null,null,null,null,null,null,null,null,null,null,null,null,null,null,null,null,null,null,null,null,null,null,null,null,null,null,null,null,null,null,null,null,null,null,null,0,null,null,0,0,0,0,0,0,0,0,0,0,0,0,0,0,0,0,0,0,0,null,null,null,0,null,null,0,0,0,0,0,0,0,0,0,0,0,0,0,0,0,0,0,0,0,null,"","",null,"","","","","","","","","","","","","","","","","","","",null,{"$f":"IF(Programs!$D$158=\"\",\"\",Programs!$D$158)","v":""},"","","","","","","","","","","","","","","","","","","","","","","",null,"","","","","","","","","","","","","","","","","","",""]
[null,{"$f":"Programs!B163","v":0},{"$f":"IF(Programs!$C$158=\"\",\"\",Programs!$C$158)","v":""},null,null,null,null,null,null,null,null,null,null,null,null,null,null,null,null,null,null,null,null,null,null,null,null,null,null,null,null,null,null,null,null,null,null,null,null,null,null,null,null,null,null,null,null,null,null,null,null,null,null,null,null,null,null,null,null,null,null,null,null,null,null,null,null,null,null,null,null,null,null,null,null,null,null,null,null,null,null,null,null,null,null,null,null,null,null,null,null,null,null,null,null,null,null,null,null,null,null,null,null,null,null,null,null,null,null,null,null,null,0,null,null,0,0,0,0,0,0,0,0,0,0,0,0,0,0,0,0,0,0,0,null,null,null,0,null,null,0,0,0,0,0,0,0,0,0,0,0,0,0,0,0,0,0,0,0,null,"","",null,"","","","","","","","","","","","","","","","","","","",null,{"$f":"IF(Programs!$D$158=\"\",\"\",Programs!$D$158)","v":""},"","","","","","","","","","","","","","","","","","","","","","","",null,"","","","","","","","","","","","","","","","","","",""]
[null,{"$f":"Programs!B164","v":0},{"$f":"IF(Programs!$C$158=\"\",\"\",Programs!$C$158)","v":""},null,null,null,null,null,null,null,null,null,null,null,null,null,null,null,null,null,null,null,null,null,null,null,null,null,null,null,null,null,null,null,null,null,null,null,null,null,null,null,null,null,null,null,null,null,null,null,null,null,null,null,null,null,null,null,null,null,null,null,null,null,null,null,null,null,null,null,null,null,null,null,null,null,null,null,null,null,null,null,null,null,null,null,null,null,null,null,null,null,null,null,null,null,null,null,null,null,null,null,null,null,null,null,null,null,null,null,null,null,0,null,null,0,0,0,0,0,0,0,0,0,0,0,0,0,0,0,0,0,0,0,null,null,null,0,null,null,0,0,0,0,0,0,0,0,0,0,0,0,0,0,0,0,0,0,0,null,"","",null,"","","","","","","","","","","","","","","","","","","",null,{"$f":"IF(Programs!$D$158=\"\",\"\",Programs!$D$158)","v":""},"","","","","","","","","","","","","","","","","","","","","","","",null,"","","","","","","","","","","","","","","","","","",""]
[null,{"$f":"Programs!B165","v":0},{"$f":"IF(Programs!$C$158=\"\",\"\",Programs!$C$158)","v":""},null,null,null,null,null,null,null,null,null,null,null,null,null,null,null,null,null,null,null,null,null,null,null,null,null,null,null,null,null,null,null,null,null,null,null,null,null,null,null,null,null,null,null,null,null,null,null,null,null,null,null,null,null,null,null,null,null,null,null,null,null,null,null,null,null,null,null,null,null,null,null,null,null,null,null,null,null,null,null,null,null,null,null,null,null,null,null,null,null,null,null,null,null,null,null,null,null,null,null,null,null,null,null,null,null,null,null,null,null,0,null,null,0,0,0,0,0,0,0,0,0,0,0,0,0,0,0,0,0,0,0,null,null,null,0,null,null,0,0,0,0,0,0,0,0,0,0,0,0,0,0,0,0,0,0,0,null,"","",null,"","","","","","","","","","","","","","","","","","","",null,{"$f":"IF(Programs!$D$158=\"\",\"\",Programs!$D$158)","v":""},"","","","","","","","","","","","","","","","","","","","","","","",null,"","","","","","","","","","","","","","","","","","",""]
[null,{"$f":"Programs!B166","v":0},{"$f":"IF(Programs!$C$158=\"\",\"\",Programs!$C$158)","v":""},null,null,null,null,null,null,null,null,null,null,null,null,null,null,null,null,null,null,null,null,null,null,null,null,null,null,null,null,null,null,null,null,null,null,null,null,null,null,null,null,null,null,null,null,null,null,null,null,null,null,null,null,null,null,null,null,null,null,null,null,null,null,null,null,null,null,null,null,null,null,null,null,null,null,null,null,null,null,null,null,null,null,null,null,null,null,null,null,null,null,null,null,null,null,null,null,null,null,null,null,null,null,null,null,null,null,null,null,null,0,null,null,0,0,0,0,0,0,0,0,0,0,0,0,0,0,0,0,0,0,0,null,null,null,0,null,null,0,0,0,0,0,0,0,0,0,0,0,0,0,0,0,0,0,0,0,null,"","",null,"","","","","","","","","","","","","","","","","","","",null,{"$f":"IF(Programs!$D$158=\"\",\"\",Programs!$D$158)","v":""},"","","","","","","","","","","","","","","","","","","","","","","",null,"","","","","","","","","","","","","","","","","","",""]
[null,{"$f":"Programs!B167","v":0},{"$f":"IF(Programs!$C$158=\"\",\"\",Programs!$C$158)","v":""},null,null,null,null,null,null,null,null,null,null,null,null,null,null,null,null,null,null,null,null,null,null,null,null,null,null,null,null,null,null,null,null,null,null,null,null,null,null,null,null,null,null,null,null,null,null,null,null,null,null,null,null,null,null,null,null,null,null,null,null,null,null,null,null,null,null,null,null,null,null,null,null,null,null,null,null,null,null,null,null,null,null,null,null,null,null,null,null,null,null,null,null,null,null,null,null,null,null,null,null,null,null,null,null,null,null,null,null,null,0,null,null,0,0,0,0,0,0,0,0,0,0,0,0,0,0,0,0,0,0,0,null,null,null,0,null,null,0,0,0,0,0,0,0,0,0,0,0,0,0,0,0,0,0,0,0,null,"","",null,"","","","","","","","","","","","","","","","","","","",null,{"$f":"IF(Programs!$D$158=\"\",\"\",Programs!$D$158)","v":""},"","","","","","","","","","","","","","","","","","","","","","","",null,"","","","","","","","","","","","","","","","","","",""]
[null,{"$f":"Programs!B168","v":0},{"$f":"IF(Programs!$C$158=\"\",\"\",Programs!$C$158)","v":""},null,null,null,null,null,null,null,null,null,null,null,null,null,null,null,null,null,null,null,null,null,null,null,null,null,null,null,null,null,null,null,null,null,null,null,null,null,null,null,null,null,null,null,null,null,null,null,null,null,null,null,null,null,null,null,null,null,null,null,null,null,null,null,null,null,null,null,null,null,null,null,null,null,null,null,null,null,null,null,null,null,null,null,null,null,null,null,null,null,null,null,null,null,null,null,null,null,null,null,null,null,null,null,null,null,null,null,null,null,0,null,null,0,0,0,0,0,0,0,0,0,0,0,0,0,0,0,0,0,0,0,null,null,null,0,null,null,0,0,0,0,0,0,0,0,0,0,0,0,0,0,0,0,0,0,0,null,"","",null,"","","","","","","","","","","","","","","","","","","",null,{"$f":"IF(Programs!$D$158=\"\",\"\",Programs!$D$158)","v":""},"","","","","","","","","","","","","","","","","","","","","","","",null,"","","","","","","","","","","","","","","","","","",""]
[null,{"$f":"Programs!B169","v":0},{"$f":"IF(Programs!$C$158=\"\",\"\",Programs!$C$158)","v":""},null,null,null,null,null,null,null,null,null,null,null,null,null,null,null,null,null,null,null,null,null,null,null,null,null,null,null,null,null,null,null,null,null,null,null,null,null,null,null,null,null,null,null,null,null,null,null,null,null,null,null,null,null,null,null,null,null,null,null,null,null,null,null,null,null,null,null,null,null,null,null,null,null,null,null,null,null,null,null,null,null,null,null,null,null,null,null,null,null,null,null,null,null,null,null,null,null,null,null,null,null,null,null,null,null,null,null,null,null,{"$f":"IF(SUM(G108,P108,W108,AD108,AH108,AO108,AV108,BB108)>0,(7-(SUM(G108,P108,W108,AD108,AH108,AO108,AV108,BB108)/8)),0)","v":0},null,null,{"$f":"SUM(F108,J108,M108,Y108,AE108,AN108,AS108,BC108,BE108)","v":0},{"$f":"DL108/9","v":0},{"$f":"SUM(I108,N108,X108,AB108,AC108,AM108,AP108,AU108,AW108,BA108)","v":0},{"$f":"DN108/10","v":0},{"$f":"SUM(H108,O108,Q108,T108,V108,AG108,AJ108,AQ108,AX108)","v":0},{"$f":"DP108/9","v":0},{"$f":"SUM(E108,K108,R108,U108,Z108,AF108,AI108,AL108,AT108,AZ108,BD108)","v":0},{"$f":"DR108/11","v":0},{"$f":"SUM(E108,I108,O108,U108,AF108,AN108,AQ108,AS108,AW108,BE108)","v":0},{"$f":"DT108/10","v":0},{"$f":"SUM(H108,M108,R108,V108,Z108,AE108,AI108,AM108,AU108,BA108)","v":0},{"$f":"DV108/10","v":0},{"$f":"SUM(F108,K108,Q108,X108,AC108,AJ108,AZ108,BC108)","v":0},{"$f":"DX108/8","v":0},{"$f":"SUM(J108,N108,T108,Y108,AB108,AG108,AL108,AP108,AT108,AX108,BD108)","v":0},{"$f":"DZ108/11","v":0},{"$f":"SUM(DU108,DW108)/2","v":0},{"$f":"SUM(DY108,EA108)/2","v":0},{"$f":"SUM(DM108,DO108,DQ108,DS108,DU108,DW108,DY108,EA108)/8","v":0},null,null,null,{"$f":"IF(SUM(BI108,BR108,BY108,CF108,CJ108,CQ108,CX108,DD108)>0,(7-(SUM(BI108,BR108,BY108,CF108,CJ108,CQ108,CX108,DD108)/8)),0)","v":0},null,null,{"$f":"SUM(BH108,BL108,BO108,CA108,CG108,CP108,CU108,DE108,DG108)","v":0},{"$f":"EK108/9","v":0},{"$f":"SUM(BK108,BP108,BZ108,CD108,CE108,CO108,CR108,CW108,CY108,DC108)","v":0},{"$f":"EM108/10","v":0},{"$f":"SUM(BJ108,BQ108,BS108,BV108,BX108,CI108,CL108,CS108,CZ108)","v":0},{"$f":"EO108/9","v":0},{"$f":"SUM(BG108,BM108,BT108,BW108,CB108,CH108,CK108,CN108,CV108,DB108,DF108)","v":0},{"$f":"EQ108/11","v":0},{"$f":"SUM(BG108,BK108,BQ108,BW108,CH108,CP108,CS108,CU108,CY108,DG108)","v":0},{"$f":"ES108/10","v":0},{"$f":"SUM(BJ108,BO108,BT108,BX108,CB108,CG108,CK108,CO108,CW108,DC108)","v":0},{"$f":"EU108/10","v":0},{"$f":"SUM(BH108,BM108,BS108,BZ108,CE108,CL108,DB108,DE108)","v":0},{"$f":"EW108/8","v":0},{"$f":"SUM(BL108,BP108,BV108,CA108,CD108,CI108,CN108,CR108,CV108,CZ108,DF108)","v":0},{"$f":"EY108/11","v":0},{"$f":"SUM(ET108,EV108)/2","v":0},{"$f":"SUM(EX108,EZ108)/2","v":0},{"$f":"SUM(EL108,EN108,EP108,ER108,ET108,EV108,EX108,EZ108)/8","v":0},null,{"$f":"IF($GC108<>\"\",EH108-DI108,\"\")","v":""},{"$f":"IF($GC108<>\"\",EI108-DJ108,\"\")","v":""},null,{"$f":"IF($GC108<>\"\",EK108-DL108,\"\")","v":""},{"$f":"IF($GC108<>\"\",EL108-DM108,\"\")","v":""},{"$f":"IF($GC108<>\"\",EM108-DN108,\"\")","v":""},{"$f":"IF($GC108<>\"\",EN108-DO108,\"\")","v":""},{"$f":"IF($GC108<>\"\",EO108-DP108,\"\")","v":""},{"$f":"IF($GC108<>\"\",EP108-DQ108,\"\")","v":""},{"$f":"IF($GC108<>\"\",EQ108-DR108,\"\")","v":""},{"$f":"IF($GC108<>\"\",ER108-DS108,\"\")","v":""},{"$f":"IF($GC108<>\"\",ES108-DT108,\"\")","v":""},{"$f":"IF($GC108<>\"\",ET108-DU108,\"\")","v":""},{"$f":"IF($GC108<>\"\",EU108-DV108,\"\")","v":""},{"$f":"IF($GC108<>\"\",EV108-DW108,\"\")","v":""},{"$f":"IF($GC108<>\"\",EW108-DX108,\"\")","v":""},{"$f":"IF($GC108<>\"\",EX108-DY108,\"\")","v":""},{"$f":"IF($GC108<>\"\",EY108-DZ108,\"\")","v":""},{"$f":"IF($GC108<>\"\",EZ108-EA108,\"\")","v":""},{"$f":"IF($GC108<>\"\",FA108-EB108,\"\")","v":""},{"$f":"IF($GC108<>\"\",FB108-EC108,\"\")","v":""},{"$f":"IF($GC108<>\"\",FC108-ED108,\"\")","v":""},null,{"$f":"IF(Programs!$D$158=\"\",\"\",Programs!$D$158)","v":""},{"$f":"IF(AND(COUNT(D108:BE108)>48,COUNT(BF108:DG108)>48),GB108,\"\")","v":""},{"$f":"IF($GC108=\"\",\"\",(IF(FE108<0,$GC108,\"\")))","v":""},{"$f":"IF($GC108=\"\",\"\",(IF(FF108<0,$GC108,\"\")))","v":""},{"$f":"IF($GC108=\"\",\"\",(IF(FG108<0,$GC108,\"\")))","v":""},"","","","","","","","","","","","","","","","","","","",null,"","","","","","","","","","","","","","","","","","",""]
[null,{"$f":"Programs!B170","v":0},{"$f":"IF(Programs!$C$158=\"\",\"\",Programs!$C$158)","v":""},null,null,null,null,null,null,null,null,null,null,null,null,null,null,null,null,null,null,null,null,null,null,null,null,null,null,null,null,null,null,null,null,null,null,null,null,null,null,null,null,null,null,null,null,null,null,null,null,null,null,null,null,null,null,null,null,null,null,null,null,null,null,null,null,null,null,null,null,null,null,null,null,null,null,null,null,null,null,null,null,null,null,null,null,null,null,null,null,null,null,null,null,null,null,null,null,null,null,null,null,null,null,null,null,null,null,null,null,null,0,null,null,0,0,0,0,0,0,0,0,0,0,0,0,0,0,0,0,0,0,0,null,null,null,0,null,null,0,0,0,0,0,0,0,0,0,0,0,0,0,0,0,0,0,0,0,null,"","",null,"","","","","","","","","","","","","","","","","","","",null,{"$f":"IF(Programs!$D$158=\"\",\"\",Programs!$D$158)","v":""},"","","","","","","","","","","","","","","","","","","","","","","",null,"","","","","","","","","","","","","","","","","","",""]
[null,{"$f":"Programs!B171","v":0},{"$f":"IF(Programs!$C$158=\"\",\"\",Programs!$C$158)","v":""},null,null,null,null,null,null,null,null,null,null,null,null,null,null,null,null,null,null,null,null,null,null,null,null,null,null,null,null,null,null,null,null,null,null,null,null,null,null,null,null,null,null,null,null,null,null,null,null,null,null,null,null,null,null,null,null,null,null,null,null,null,null,null,null,null,null,null,null,null,null,null,null,null,null,null,null,null,null,null,null,null,null,null,null,null,null,null,null,null,null,null,null,null,null,null,null,null,null,null,null,null,null,null,null,null,null,null,null,null,0,null,null,0,0,0,0,0,0,0,0,0,0,0,0,0,0,0,0,0,0,0,null,null,null,0,null,null,0,0,0,0,0,0,0,0,0,0,0,0,0,0,0,0,0,0,0,null,"","",null,"","","","","","","","","","","","","","","","","","","",null,{"$f":"IF(Programs!$D$158=\"\",\"\",Programs!$D$158)","v":""},"","","","","","","","","","","","","","","","","","","","","","","",null,"","","","","","","","","","","","","","","","","","",""]
[null,{"$f":"Programs!B172","v":0},{"$f":"IF(Programs!$C$158=\"\",\"\",Programs!$C$158)","v":""},null,null,null,null,null,null,null,null,null,null,null,null,null,null,null,null,null,null,null,null,null,null,null,null,null,null,null,null,null,null,null,null,null,null,null,null,null,null,null,null,null,null,null,null,null,null,null,null,null,null,null,null,null,null,null,null,null,null,null,null,null,null,null,null,null,null,null,null,null,null,null,null,null,null,null,null,null,null,null,null,null,null,null,null,null,null,null,null,null,null,null,null,null,null,null,null,null,null,null,null,null,null,null,null,null,null,null,null,null,0,null,null,0,0,0,0,0,0,0,0,0,0,0,0,0,0,0,0,0,0,0,null,null,null,0,null,null,0,0,0,0,0,0,0,0,0,0,0,0,0,0,0,0,0,0,0,null,"","",null,"","","","","","","","","","","","","","","","","","","",null,{"$f":"IF(Programs!$D$158=\"\",\"\",Programs!$D$158)","v":""},"","","","","","","","","","","","","","","","","","","","","","","",null,"","","","","","","","","","","","","","","","","","",""]
["Program 10",{"$f":"Programs!B180","v":0},{"$f":"IF(Programs!$C$177=\"\",\"\",Programs!$C$177)","v":""},null,null,null,null,null,null,null,null,null,null,null,null,null,null,null,null,null,null,null,null,null,null,null,null,null,null,null,null,null,null,null,null,null,null,null,null,null,null,null,null,null,null,null,null,null,null,null,null,null,null,null,null,null,null,null,null,null,null,null,null,null,null,null,null,null,null,null,null,null,null,null,null,null,null,null,null,null,null,null,null,null,null,null,null,null,null,null,null,null,null,null,null,null,null,null,null,null,null,null,null,null,null,null,null,null,null,null,null,null,0,null,null,0,0,0,0,0,0,0,0,0,0,0,0,0,0,0,0,0,0,0,null,null,null,0,null,null,0,0,0,0,0,0,0,0,0,0,0,0,0,0,0,0,0,0,0,null,"","",null,"","","","","","","","","","","","","","","","","","","",null,{"$f":"IF(Programs!$D$177=\"\",\"\",Programs!$D$177)","v":""},"","","","","","","","","","","","","","","","","","","","","","","",null,"","","","","","","","","","","","","","","","","","",""]
[null,{"$f":"Programs!B181","v":0},{"$f":"IF(Programs!$C$177=\"\",\"\",Programs!$C$177)","v":""},null,null,null,null,null,null,null,null,null,null,null,null,null,null,null,null,null,null,null,null,null,null,null,null,null,null,null,null,null,null,null,null,null,null,null,null,null,null,null,null,null,null,null,null,null,null,null,null,null,null,null,null,null,null,null,null,null,null,null,null,null,null,null,null,null,null,null,null,null,null,null,null,null,null,null,null,null,null,null,null,null,null,null,null,null,null,null,null,null,null,null,null,null,null,null,null,null,null,null,null,null,null,null,null,null,null,null,null,null,0,null,null,0,0,0,0,0,0,0,0,0,0,0,0,0,0,0,0,0,0,0,null,null,null,0,null,null,0,0,0,0,0,0,0,0,0,0,0,0,0,0,0,0,0,0,0,null,"","",null,"","","","","","","","","","","","","","","","","","","",null,{"$f":"IF(Programs!$D$177=\"\",\"\",Programs!$D$177)","v":""},"","","","","","","","","","","","","","","","","","","","","","","",null,"","","","","","","","","","","","","","","","","","",""]
[null,{"$f":"Programs!B182","v":0},{"$f":"IF(Programs!$C$177=\"\",\"\",Programs!$C$177)","v":""},null,null,null,null,null,null,null,null,null,null,null,null,null,null,null,null,null,null,null,null,null,null,null,null,null,null,null,null,null,null,null,null,null,null,null,null,null,null,null,null,null,null,null,null,null,null,null,null,null,null,null,null,null,null,null,null,null,null,null,null,null,null,null,null,null,null,null,null,null,null,null,null,null,null,null,null,null,null,null,null,null,null,null,null,null,null,null,null,null,null,null,null,null,null,null,null,null,null,null,null,null,null,null,null,null,null,null,null,null,0,null,null,0,0,0,0,0,0,0,0,0,0,0,0,0,0,0,0,0,0,0,null,null,null,0,null,null,0,0,0,0,0,0,0,0,0,0,0,0,0,0,0,0,0,0,0,null,"","",null,"","","","","","","","","","","","","","","","","","","",null,{"$f":"IF(Programs!$D$177=\"\",\"\",Programs!$D$177)","v":""},"","","","","","","","","","","","","","","","","","","","","","","",null,"","","","","","","","","","","","","","","","","","",""]
[null,{"$f":"Programs!B183","v":0},{"$f":"IF(Programs!$C$177=\"\",\"\",Programs!$C$177)","v":""},null,null,null,null,null,null,null,null,null,null,null,null,null,null,null,null,null,null,null,null,null,null,null,null,null,null,null,null,null,null,null,null,null,null,null,null,null,null,null,null,null,null,null,null,null,null,null,null,null,null,null,null,null,null,null,null,null,null,null,null,null,null,null,null,null,null,null,null,null,null,null,null,null,null,null,null,null,null,null,null,null,null,null,null,null,null,null,null,null,null,null,null,null,null,null,null,null,null,null,null,null,null,null,null,null,null,null,null,null,0,null,null,0,0,0,0,0,0,0,0,0,0,0,0,0,0,0,0,0,0,0,null,null,null,0,null,null,0,0,0,0,0,0,0,0,0,0,0,0,0,0,0,0,0,0,0,null,"","",null,"","","","","","","","","","","","","","","","","","","",null,{"$f":"IF(Programs!$D$177=\"\",\"\",Programs!$D$177)","v":""},"","","","","","","","","","","","","","","","","","","","","","","",null,"","","","","","","","","","","","","","","","","","",""]
[null,{"$f":"Programs!B184","v":0},{"$f":"IF(Programs!$C$177=\"\",\"\",Programs!$C$177)","v":""},null,null,null,null,null,null,null,null,null,null,null,null,null,null,null,null,null,null,null,null,null,null,null,null,null,null,null,null,null,null,null,null,null,null,null,null,null,null,null,null,null,null,null,null,null,null,null,null,null,null,null,null,null,null,null,null,null,null,null,null,null,null,null,null,null,null,null,null,null,null,null,null,null,null,null,null,null,null,null,null,null,null,null,null,null,null,null,null,null,null,null,null,null,null,null,null,null,null,null,null,null,null,null,null,null,null,null,null,null,0,null,null,0,0,0,0,0,0,0,0,0,0,0,0,0,0,0,0,0,0,0,null,null,null,0,null,null,0,0,0,0,0,0,0,0,0,0,0,0,0,0,0,0,0,0,0,null,"","",null,"","","","","","","","","","","","","","","","","","","",null,{"$f":"IF(Programs!$D$177=\"\",\"\",Programs!$D$177)","v":""},"","","","","","","","","","","","","","","","","","","","","","","",null,"","","","","","","","","","","","","","","","","","",""]
[null,{"$f":"Programs!B185","v":0},{"$f":"IF(Programs!$C$177=\"\",\"\",Programs!$C$177)","v":""},null,null,null,null,null,null,null,null,null,null,null,null,null,null,null,null,null,null,null,null,null,null,null,null,null,null,null,null,null,null,null,null,null,null,null,null,null,null,null,null,null,null,null,null,null,null,null,null,null,null,null,null,null,null,null,null,null,null,null,null,null,null,null,null,null,null,null,null,null,null,null,null,null,null,null,null,null,null,null,null,null,null,null,null,null,null,null,null,null,null,null,null,null,null,null,null,null,null,null,null,null,null,null,null,null,null,null,null,null,0,null,null,0,0,0,0,0,0,0,0,0,0,0,0,0,0,0,0,0,0,0,null,null,null,0,null,null,0,0,0,0,0,0,0,0,0,0,0,0,0,0,0,0,0,0,0,null,"","",null,"","","","","","","","","","","","","","","","","","","",null,{"$f":"IF(Programs!$D$177=\"\",\"\",Programs!$D$177)","v":""},"","","","","","","","","","","","","","","","","","","","","","","",null,"","","","","","","","","","","","","","","","","","",""]
[null,{"$f":"Programs!B186","v":0},{"$f":"IF(Programs!$C$177=\"\",\"\",Programs!$C$177)","v":""},null,null,null,null,null,null,null,null,null,null,null,null,null,null,null,null,null,null,null,null,null,null,null,null,null,null,null,null,null,null,null,null,null,null,null,null,null,null,null,null,null,null,null,null,null,null,null,null,null,null,null,null,null,null,null,null,null,null,null,null,null,null,null,null,null,null,null,null,null,null,null,null,null,null,null,null,null,null,null,null,null,null,null,null,null,null,null,null,null,null,null,null,null,null,null,null,null,null,null,null,null,null,null,null,null,null,null,null,null,0,null,null,0,0,0,0,0,0,0,0,0,0,0,0,0,0,0,0,0,0,0,null,null,null,{"$f":"IF(SUM(BI118,BR118,BY118,CF118,CJ118,CQ118,CX118,DD118)>0,(7-(SUM(BI118,BR118,BY118,CF118,CJ118,CQ118,CX118,DD118)/8)),0)","v":0},null,null,{"$f":"SUM(BH118,BL118,BO118,CA118,CG118,CP118,CU118,DE118,DG118)","v":0},0,{"$f":"SUM(BK118,BP118,BZ118,CD118,CE118,CO118,CR118,CW118,CY118,DC118)","v":0},0,{"$f":"SUM(BJ118,BQ118,BS118,BV118,BX118,CI118,CL118,CS118,CZ118)","v":0},0,{"$f":"SUM(BG118,BM118,BT118,BW118,CB118,CH118,CK118,CN118,CV118,DB118,DF118)","v":0},0,{"$f":"SUM(BG118,BK118,BQ118,BW118,CH118,CP118,CS118,CU118,CY118,DG118)","v":0},0,{"$f":"SUM(BJ118,BO118,BT118,BX118,CB118,CG118,CK118,CO118,CW118,DC118)","v":0},0,{"$f":"SUM(BH118,BM118,BS118,BZ118,CE118,CL118,DB118,DE118)","v":0},0,{"$f":"SUM(BL118,BP118,BV118,CA118,CD118,CI118,CN118,CR118,CV118,CZ118,DF118)","v":0},0,0,0,0,null,{"$f":"IF($GC118<>\"\",EH118-DI118,\"\")","v":""},{"$f":"IF($GC118<>\"\",EI118-DJ118,\"\")","v":""},null,{"$f":"IF($GC118<>\"\",EK118-DL118,\"\")","v":""},{"$f":"IF($GC118<>\"\",EL118-DM118,\"\")","v":""},{"$f":"IF($GC118<>\"\",EM118-DN118,\"\")","v":""},{"$f":"IF($GC118<>\"\",EN118-DO118,\"\")","v":""},{"$f":"IF($GC118<>\"\",EO118-DP118,\"\")","v":""},{"$f":"IF($GC118<>\"\",EP118-DQ118,\"\")","v":""},{"$f":"IF($GC118<>\"\",EQ118-DR118,\"\")","v":""},{"$f":"IF($GC118<>\"\",ER118-DS118,\"\")","v":""},{"$f":"IF($GC118<>\"\",ES118-DT118,\"\")","v":""},{"$f":"IF($GC118<>\"\",ET118-DU118,\"\")","v":""},{"$f":"IF($GC118<>\"\",EU118-DV118,\"\")","v":""},{"$f":"IF($GC118<>\"\",EV118-DW118,\"\")","v":""},{"$f":"IF($GC118<>\"\",EW118-DX118,\"\")","v":""},{"$f":"IF($GC118<>\"\",EX118-DY118,\"\")","v":""},{"$f":"IF($GC118<>\"\",EY118-DZ118,\"\")","v":""},{"$f":"IF($GC118<>\"\",EZ118-EA118,\"\")","v":""},{"$f":"IF($GC118<>\"\",FA118-EB118,\"\")","v":""},{"$f":"IF($GC118<>\"\",FB118-EC118,\"\")","v":""},{"$f":"IF($GC118<>\"\",FC118-ED118,\"\")","v":""},null,{"$f":"IF(Programs!$D$177=\"\",\"\",Programs!$D$177)","v":""},"",{"$f":"IF($GC118=\"\",\"\",(IF(FE118<0,$GC118,\"\")))","v":""},{"$f":"IF($GC118=\"\",\"\",(IF(FF118<0,$GC118,\"\")))","v":""},{"$f":"IF($GC118=\"\",\"\",(IF(FG118<0,$GC118,\"\")))","v":""},"","","","","","","","","","","","","","","","","","","",null,"","","","","","","","","","","","","","","","","","",""]
[null,{"$f":"Programs!B187","v":0},{"$f":"IF(Programs!$C$177=\"\",\"\",Programs!$C$177)","v":""},null,null,null,null,null,null,null,null,null,null,null,null,null,null,null,null,null,null,null,null,null,null,null,null,null,null,null,null,null,null,null,null,null,null,null,null,null,null,null,null,null,null,null,null,null,null,null,null,null,null,null,null,null,null,null,null,null,null,null,null,null,null,null,null,null,null,null,null,null,null,null,null,null,null,null,null,null,null,null,null,null,null,null,null,null,null,null,null,null,null,null,null,null,null,null,null,null,null,null,null,null,null,null,null,null,null,null,null,null,0,null,null,0,0,0,0,0,0,0,0,0,0,0,0,0,0,0,0,0,0,0,null,null,null,0,null,null,0,0,0,0,0,0,0,0,0,0,0,0,0,0,0,0,0,0,0,null,"","",null,"","","","","","","","","","","","","","","","","","","",null,{"$f":"IF(Programs!$D$177=\"\",\"\",Programs!$D$177)","v":""},"","","","","","","","","","","","","","","","","","","","","","","",null,"","","","","","","","","","","","","","","","","","",""]
[null,{"$f":"Programs!B188","v":0},{"$f":"IF(Programs!$C$177=\"\",\"\",Programs!$C$177)","v":""},null,null,null,null,null,null,null,null,null,null,null,null,null,null,null,null,null,null,null,null,null,null,null,null,null,null,null,null,null,null,null,null,null,null,null,null,null,null,null,null,null,null,null,null,null,null,null,null,null,null,null,null,null,null,null,null,null,null,null,null,null,null,null,null,null,null,null,null,null,null,null,null,null,null,null,null,null,null,null,null,null,null,null,null,null,null,null,null,null,null,null,null,null,null,null,null,null,null,null,null,null,null,null,null,null,null,null,null,null,{"$f":"IF(SUM(G120,P120,W120,AD120,AH120,AO120,AV120,BB120)>0,(7-(SUM(G120,P120,W120,AD120,AH120,AO120,AV120,BB120)/8)),0)","v":0},null,null,{"$f":"SUM(F120,J120,M120,Y120,AE120,AN120,AS120,BC120,BE120)","v":0},{"$f":"DL120/9","v":0},{"$f":"SUM(I120,N120,X120,AB120,AC120,AM120,AP120,AU120,AW120,BA120)","v":0},{"$f":"DN120/10","v":0},{"$f":"SUM(H120,O120,Q120,T120,V120,AG120,AJ120,AQ120,AX120)","v":0},{"$f":"DP120/9","v":0},{"$f":"SUM(E120,K120,R120,U120,Z120,AF120,AI120,AL120,AT120,AZ120,BD120)","v":0},{"$f":"DR120/11","v":0},{"$f":"SUM(E120,I120,O120,U120,AF120,AN120,AQ120,AS120,AW120,BE120)","v":0},{"$f":"DT120/10","v":0},{"$f":"SUM(H120,M120,R120,V120,Z120,AE120,AI120,AM120,AU120,BA120)","v":0},{"$f":"DV120/10","v":0},{"$f":"SUM(F120,K120,Q120,X120,AC120,AJ120,AZ120,BC120)","v":0},{"$f":"DX120/8","v":0},{"$f":"SUM(J120,N120,T120,Y120,AB120,AG120,AL120,AP120,AT120,AX120,BD120)","v":0},{"$f":"DZ120/11","v":0},{"$f":"SUM(DU120,DW120)/2","v":0},{"$f":"SUM(DY120,EA120)/2","v":0},{"$f":"SUM(DM120,DO120,DQ120,DS120,DU120,DW120,DY120,EA120)/8","v":0},null,null,null,{"$f":"IF(SUM(BI120,BR120,BY120,CF120,CJ120,CQ120,CX120,DD120)>0,(7-(SUM(BI120,BR120,BY120,CF120,CJ120,CQ120,CX120,DD120)/8)),0)","v":0},null,null,{"$f":"SUM(BH120,BL120,BO120,CA120,CG120,CP120,CU120,DE120,DG120)","v":0},{"$f":"EK120/9","v":0},{"$f":"SUM(BK120,BP120,BZ120,CD120,CE120,CO120,CR120,CW120,CY120,DC120)","v":0},{"$f":"EM120/10","v":0},{"$f":"SUM(BJ120,BQ120,BS120,BV120,BX120,CI120,CL120,CS120,CZ120)","v":0},{"$f":"EO120/9","v":0},{"$f":"SUM(BG120,BM120,BT120,BW120,CB120,CH120,CK120,CN120,CV120,DB120,DF120)","v":0},{"$f":"EQ120/11","v":0},{"$f":"SUM(BG120,BK120,BQ120,BW120,CH120,CP120,CS120,CU120,CY120,DG120)","v":0},{"$f":"ES120/10","v":0},{"$f":"SUM(BJ120,BO120,BT120,BX120,CB120,CG120,CK120,CO120,CW120,DC120)","v":0},{"$f":"EU120/10","v":0},{"$f":"SUM(BH120,BM120,BS120,BZ120,CE120,CL120,DB120,DE120)","v":0},{"$f":"EW120/8","v":0},{"$f":"SUM(BL120,BP120,BV120,CA120,CD120,CI120,CN120,CR120,CV120,CZ120,DF120)","v":0},{"$f":"EY120/11","v":0},{"$f":"SUM(ET120,EV120)/2","v":0},{"$f":"SUM(EX120,EZ120)/2","v":0},{"$f":"SUM(EL120,EN120,EP120,ER120,ET120,EV120,EX120,EZ120)/8","v":0},null,{"$f":"IF($GC120<>\"\",EH120-DI120,\"\")","v":""},{"$f":"IF($GC120<>\"\",EI120-DJ120,\"\")","v":""},null,{"$f":"IF($GC120<>\"\",EK120-DL120,\"\")","v":""},{"$f":"IF($GC120<>\"\",EL120-DM120,\"\")","v":""},{"$f":"IF($GC120<>\"\",EM120-DN120,\"\")","v":""},{"$f":"IF($GC120<>\"\",EN120-DO120,\"\")","v":""},{"$f":"IF($GC120<>\"\",EO120-DP120,\"\")","v":""},{"$f":"IF($GC120<>\"\",EP120-DQ120,\"\")","v":""},{"$f":"IF($GC120<>\"\",EQ120-DR120,\"\")","v":""},{"$f":"IF($GC120<>\"\",ER120-DS120,\"\")","v":""},{"$f":"IF($GC120<>\"\",ES120-DT120,\"\")","v":""},{"$f":"IF($GC120<>\"\",ET120-DU120,\"\")","v":""},{"$f":"IF($GC120<>\"\",EU120-DV120,\"\")","v":""},{"$f":"IF($GC120<>\"\",EV120-DW120,\"\")","v":""},{"$f":"IF($GC120<>\"\",EW120-DX120,\"\")","v":""},{"$f":"IF($GC120<>\"\",EX120-DY120,\"\")","v":""},{"$f":"IF($GC120<>\"\",EY120-DZ120,\"\")","v":""},{"$f":"IF($GC120<>\"\",EZ120-EA120,\"\")","v":""},{"$f":"IF($GC120<>\"\",FA120-EB120,\"\")","v":""},{"$f":"IF($GC120<>\"\",FB120-EC120,\"\")","v":""},{"$f":"IF($GC120<>\"\",FC120-ED120,\"\")","v":""},null,{"$f":"IF(Programs!$D$177=\"\",\"\",Programs!$D$177)","v":""},{"$f":"IF(AND(COUNT(D120:BE120)>48,COUNT(BF120:DG120)>48),GB120,\"\")","v":""},{"$f":"IF($GC120=\"\",\"\",(IF(FE120<0,$GC120,\"\")))","v":""},{"$f":"IF($GC120=\"\",\"\",(IF(FF120<0,$GC120,\"\")))","v":""},{"$f":"IF($GC120=\"\",\"\",(IF(FG120<0,$GC120,\"\")))","v":""},"","","","","","","","","","","","","","","","","","","",null,"","","","","","","","","","","","","","","","","","",""]
[null,{"$f":"Programs!B189","v":0},{"$f":"IF(Programs!$C$177=\"\",\"\",Programs!$C$177)","v":""},null,null,null,null,null,null,null,null,null,null,null,null,null,null,null,null,null,null,null,null,null,null,null,null,null,null,null,null,null,null,null,null,null,null,null,null,null,null,null,null,null,null,null,null,null,null,null,null,null,null,null,null,null,null,null,null,null,null,null,null,null,null,null,null,null,null,null,null,null,null,null,null,null,null,null,null,null,null,null,null,null,null,null,null,null,null,null,null,null,null,null,null,null,null,null,null,null,null,null,null,null,null,null,null,null,null,null,null,null,0,null,null,0,0,0,0,0,0,0,0,0,0,0,0,0,0,0,0,0,0,0,null,null,null,0,null,null,0,0,0,0,0,0,0,0,0,0,0,0,0,0,0,0,0,0,0,null,"","",null,"","","","","","","","","","","","","","","","","","","",null,{"$f":"IF(Programs!$D$177=\"\",\"\",Programs!$D$177)","v":""},"","","","","","","","","","","","","","","","","","","","","","","",null,"","","","","","","","","","","","","","","","","","",""]
[null,{"$f":"Programs!B190","v":0},{"$f":"IF(Programs!$C$177=\"\",\"\",Programs!$C$177)","v":""},null,null,null,null,null,null,null,null,null,null,null,null,null,null,null,null,null,null,null,null,null,null,null,null,null,null,null,null,null,null,null,null,null,null,null,null,null,null,null,null,null,null,null,null,null,null,null,null,null,null,null,null,null,null,null,null,null,null,null,null,null,null,null,null,null,null,null,null,null,null,null,null,null,null,null,null,null,null,null,null,null,null,null,null,null,null,null,null,null,null,null,null,null,null,null,null,null,null,null,null,null,null,null,null,null,null,null,null,null,0,null,null,0,0,0,0,0,0,0,0,0,0,0,0,0,0,0,0,0,0,0,null,null,null,0,null,null,0,0,0,0,0,0,0,0,0,0,0,0,0,0,0,0,0,0,0,null,"","",null,"","","","","","","","","","","","","","","","","","","",null,{"$f":"IF(Programs!$D$177=\"\",\"\",Programs!$D$177)","v":""},"","","","","","","","","","","","","","","","","","","","","","","",null,"","","","","","","","","","","","","","","","","","",""]
[null,{"$f":"Programs!B191","v":0},{"$f":"IF(Programs!$C$177=\"\",\"\",Programs!$C$177)","v":""},null,null,null,null,null,null,null,null,null,null,null,null,null,null,null,null,null,null,null,null,null,null,null,null,null,null,null,null,null,null,null,null,null,null,null,null,null,null,null,null,null,null,null,null,null,null,null,null,null,null,null,null,null,null,null,null,null,null,null,null,null,null,null,null,null,null,null,null,null,null,null,null,null,null,null,null,null,null,null,null,null,null,null,null,null,null,null,null,null,null,null,null,null,null,null,null,null,null,null,null,null,null,null,null,null,null,null,null,null,0,null,null,0,0,0,0,0,0,0,0,0,0,0,0,0,0,0,0,0,0,0,null,null,null,0,null,null,0,0,0,0,0,0,0,0,0,0,0,0,0,0,0,0,0,0,0,null,"","",null,"","","","","","","","","","","","","","","","","","","",null,{"$f":"IF(Programs!$D$177=\"\",\"\",Programs!$D$177)","v":""},"","","","","","","","","","","","","","","","","","","","","","","",null,"","","","","","","","","","","","","","","","","","",""]
["Program 11",{"$f":"Programs!B199","v":0},{"$f":"IF(Programs!$C$196=\"\",\"\",Programs!$C$196)","v":""},null,null,null,null,null,null,null,null,null,null,null,null,null,null,null,null,null,null,null,null,null,null,null,null,null,null,null,null,null,null,null,null,null,null,null,null,null,null,null,null,null,null,null,null,null,null,null,null,null,null,null,null,null,null,null,null,null,null,null,null,null,null,null,null,null,null,null,null,null,null,null,null,null,null,null,null,null,null,null,null,null,null,null,null,null,null,null,null,null,null,null,null,null,null,null,null,null,null,null,null,null,null,null,null,null,null,null,null,null,0,null,null,0,0,0,0,0,0,0,0,0,0,0,0,0,0,0,0,0,0,0,null,null,null,0,null,null,0,0,0,0,0,0,0,0,0,0,0,0,0,0,0,0,0,0,0,null,"","",null,"","","","","","","","","","","","","","","","","","","",null,{"$f":"IF(Programs!$D$196=\"\",\"\",Programs!$D$196)","v":""},"","","","","","","","","","","","","","","","","","","","","","","",null,"","","","","","","","","","","","","","","","","","",""]
[null,{"$f":"Programs!B200","v":0},{"$f":"IF(Programs!$C$196=\"\",\"\",Programs!$C$196)","v":""},null,null,null,null,null,null,null,null,null,null,null,null,null,null,null,null,null,null,null,null,null,null,null,null,null,null,null,null,null,null,null,null,null,null,null,null,null,null,null,null,null,null,null,null,null,null,null,null,null,null,null,null,null,null,null,null,null,null,null,null,null,null,null,null,null,null,null,null,null,null,null,null,null,null,null,null,null,null,null,null,null,null,null,null,null,null,null,null,null,null,null,null,null,null,null,null,null,null,null,null,null,null,null,null,null,null,null,null,null,0,null,null,0,0,0,0,0,0,0,0,0,0,0,0,0,0,0,0,0,0,0,null,null,null,0,null,null,0,0,0,0,0,0,0,0,0,0,0,0,0,0,0,0,0,0,0,null,"","",null,"","","","","","","","","","","","","","","","","","","",null,{"$f":"IF(Programs!$D$196=\"\",\"\",Programs!$D$196)","v":""},"","","","","","","","","","","","","","","","","","","","","","","",null,"","","","","","","","","","","","","","","","","","",""]
[null,{"$f":"Programs!B201","v":0},{"$f":"IF(Programs!$C$196=\"\",\"\",Programs!$C$196)","v":""},null,null,null,null,null,null,null,null,null,null,null,null,null,null,null,null,null,null,null,null,null,null,null,null,null,null,null,null,null,null,null,null,null,null,null,null,null,null,null,null,null,null,null,null,null,null,null,null,null,null,null,null,null,null,null,null,null,null,null,null,null,null,null,null,null,null,null,null,null,null,null,null,null,null,null,null,null,null,null,null,null,null,null,null,null,null,null,null,null,null,null,null,null,null,null,null,null,null,null,null,null,null,null,null,null,null,null,null,null,0,null,null,0,0,0,0,0,0,0,0,0,0,0,0,0,0,0,0,0,0,0,null,null,null,0,null,null,0,0,0,0,0,0,0,0,0,0,0,0,0,0,0,0,0,0,0,null,"","",null,"","","","","","","","","","","","","","","","","","","",null,{"$f":"IF(Programs!$D$196=\"\",\"\",Programs!$D$196)","v":""},"","","","","","","","","","","","","","","","","","","","","","","",null,"","","","","","","","","","","","","","","","","","",""]
[null,{"$f":"Programs!B202","v":0},{"$f":"IF(Programs!$C$196=\"\",\"\",Programs!$C$196)","v":""},null,null,null,null,null,null,null,null,null,null,null,null,null,null,null,null,null,null,null,null,null,null,null,null,null,null,null,null,null,null,null,null,null,null,null,null,null,null,null,null,null,null,null,null,null,null,null,null,null,null,null,null,null,null,null,null,null,null,null,null,null,null,null,null,null,null,null,null,null,null,null,null,null,null,null,null,null,null,null,null,null,null,null,null,null,null,null,null,null,null,null,null,null,null,null,null,null,null,null,null,null,null,null,null,null,null,null,null,null,0,null,null,0,0,0,0,0,0,0,0,0,0,0,0,0,0,0,0,0,0,0,null,null,null,0,null,null,0,0,0,0,0,0,0,0,0,0,0,0,0,0,0,0,0,0,0,null,"","",null,"","","","","","","","","","","","","","","","","","","",null,{"$f":"IF(Programs!$D$196=\"\",\"\",Programs!$D$196)","v":""},"","","","","","","","","","","","","","","","","","","","","","","",null,"","","","","","","","","","","","","","","","","","",""]
[null,{"$f":"Programs!B203","v":0},{"$f":"IF(Programs!$C$196=\"\",\"\",Programs!$C$196)","v":""},null,null,null,null,null,null,null,null,null,null,null,null,null,null,null,null,null,null,null,null,null,null,null,null,null,null,null,null,null,null,null,null,null,null,null,null,null,null,null,null,null,null,null,null,null,null,null,null,null,null,null,null,null,null,null,null,null,null,null,null,null,null,null,null,null,null,null,null,null,null,null,null,null,null,null,null,null,null,null,null,null,null,null,null,null,null,null,null,null,null,null,null,null,null,null,null,null,null,null,null,null,null,null,null,null,null,null,null,null,0,null,null,0,0,0,0,0,0,0,0,0,0,0,0,0,0,0,0,0,0,0,null,null,null,0,null,null,0,0,0,0,0,0,0,0,0,0,0,0,0,0,0,0,0,0,0,null,"","",null,"","","","","","","","","","","","","","","","","","","",null,{"$f":"IF(Programs!$D$196=\"\",\"\",Programs!$D$196)","v":""},"","","","","","","","","","","","","","","","","","","","","","","",null,"","","","","","","","","","","","","","","","","","",""]
[null,{"$f":"Programs!B204","v":0},{"$f":"IF(Programs!$C$196=\"\",\"\",Programs!$C$196)","v":""},null,null,null,null,null,null,null,null,null,null,null,null,null,null,null,null,null,null,null,null,null,null,null,null,null,null,null,null,null,null,null,null,null,null,null,null,null,null,null,null,null,null,null,null,null,null,null,null,null,null,null,null,null,null,null,null,null,null,null,null,null,null,null,null,null,null,null,null,null,null,null,null,null,null,null,null,null,null,null,null,null,null,null,null,null,null,null,null,null,null,null,null,null,null,null,null,null,null,null,null,null,null,null,null,null,null,null,null,null,0,null,null,0,0,0,0,0,0,0,0,0,0,0,0,0,0,0,0,0,0,0,null,null,null,0,null,null,0,0,0,0,0,0,0,0,0,0,0,0,0,0,0,0,0,0,0,null,"","",null,"","","","","","","","","","","","","","","","","","","",null,{"$f":"IF(Programs!$D$196=\"\",\"\",Programs!$D$196)","v":""},"","","","","","","","","","","","","","","","","","","","","","","",null,"","","","","","","","","","","","","","","","","","",""]
[null,{"$f":"Programs!B205","v":0},{"$f":"IF(Programs!$C$196=\"\",\"\",Programs!$C$196)","v":""},null,null,null,null,null,null,null,null,null,null,null,null,null,null,null,null,null,null,null,null,null,null,null,null,null,null,null,null,null,null,null,null,null,null,null,null,null,null,null,null,null,null,null,null,null,null,null,null,null,null,null,null,null,null,null,null,null,null,null,null,null,null,null,null,null,null,null,null,null,null,null,null,null,null,null,null,null,null,null,null,null,null,null,null,null,null,null,null,null,null,null,null,null,null,null,null,null,null,null,null,null,null,null,null,null,null,null,null,null,0,null,null,0,0,0,0,0,0,0,0,0,0,0,0,0,0,0,0,0,0,0,null,null,null,0,null,null,0,0,0,0,0,0,0,0,0,0,0,0,0,0,0,0,0,0,0,null,"","",null,"","","","","","","","","","","","","","","","","","","",null,{"$f":"IF(Programs!$D$196=\"\",\"\",Programs!$D$196)","v":""},"","","","","","","","","","","","","","","","","","","","","","","",null,"","","","","","","","","","","","","","","","","","",""]
[null,{"$f":"Programs!B206","v":0},{"$f":"IF(Programs!$C$196=\"\",\"\",Programs!$C$196)","v":""},null,null,null,null,null,null,null,null,null,null,null,null,null,null,null,null,null,null,null,null,null,null,null,null,null,null,null,null,null,null,null,null,null,null,null,null,null,null,null,null,null,null,null,null,null,null,null,null,null,null,null,null,null,null,null,null,null,null,null,null,null,null,null,null,null,null,null,null,null,null,null,null,null,null,null,null,null,null,null,null,null,null,null,null,null,null,null,null,null,null,null,null,null,null,null,null,null,null,null,null,null,null,null,null,null,null,null,null,null,0,null,null,0,0,0,0,0,0,0,0,0,0,0,0,0,0,0,0,0,0,0,null,null,null,0,null,null,0,0,0,0,0,0,0,0,0,0,0,0,0,0,0,0,0,0,0,null,"","",null,"","","","","","","","","","","","","","","","","","","",null,{"$f":"IF(Programs!$D$196=\"\",\"\",Programs!$D$196)","v":""},"","","","","","","","","","","","","","","","","","","","","","","",null,"","","","","","","","","","","","","","","","","","",""]
[null,{"$f":"Programs!B207","v":0},{"$f":"IF(Programs!$C$196=\"\",\"\",Programs!$C$196)","v":""},null,null,null,null,null,null,null,null,null,null,null,null,null,null,null,null,null,null,null,null,null,null,null,null,null,null,null,null,null,null,null,null,null,null,null,null,null,null,null,null,null,null,null,null,null,null,null,null,null,null,null,null,null,null,null,null,null,null,null,null,null,null,null,null,null,null,null,null,null,null,null,null,null,null,null,null,null,null,null,null,null,null,null,null,null,null,null,null,null,null,null,null,null,null,null,null,null,null,null,null,null,null,null,null,null,null,null,null,null,{"$f":"IF(SUM(G132,P132,W132,AD132,AH132,AO132,AV132,BB132)>0,(7-(SUM(G132,P132,W132,AD132,AH132,AO132,AV132,BB132)/8)),0)","v":0},null,null,{"$f":"SUM(F132,J132,M132,Y132,AE132,AN132,AS132,BC132,BE132)","v":0},{"$f":"DL132/9","v":0},{"$f":"SUM(I132,N132,X132,AB132,AC132,AM132,AP132,AU132,AW132,BA132)","v":0},{"$f":"DN132/10","v":0},{"$f":"SUM(H132,O132,Q132,T132,V132,AG132,AJ132,AQ132,AX132)","v":0},{"$f":"DP132/9","v":0},{"$f":"SUM(E132,K132,R132,U132,Z132,AF132,AI132,AL132,AT132,AZ132,BD132)","v":0},{"$f":"DR132/11","v":0},{"$f":"SUM(E132,I132,O132,U132,AF132,AN132,AQ132,AS132,AW132,BE132)","v":0},{"$f":"DT132/10","v":0},{"$f":"SUM(H132,M132,R132,V132,Z132,AE132,AI132,AM132,AU132,BA132)","v":0},{"$f":"DV132/10","v":0},{"$f":"SUM(F132,K132,Q132,X132,AC132,AJ132,AZ132,BC132)","v":0},{"$f":"DX132/8","v":0},{"$f":"SUM(J132,N132,T132,Y132,AB132,AG132,AL132,AP132,AT132,AX132,BD132)","v":0},{"$f":"DZ132/11","v":0},{"$f":"SUM(DU132,DW132)/2","v":0},{"$f":"SUM(DY132,EA132)/2","v":0},{"$f":"SUM(DM132,DO132,DQ132,DS132,DU132,DW132,DY132,EA132)/8","v":0},null,null,null,{"$f":"IF(SUM(BI132,BR132,BY132,CF132,CJ132,CQ132,CX132,DD132)>0,(7-(SUM(BI132,BR132,BY132,CF132,CJ132,CQ132,CX132,DD132)/8)),0)","v":0},null,null,{"$f":"SUM(BH132,BL132,BO132,CA132,CG132,CP132,CU132,DE132,DG132)","v":0},{"$f":"EK132/9","v":0},{"$f":"SUM(BK132,BP132,BZ132,CD132,CE132,CO132,CR132,CW132,CY132,DC132)","v":0},{"$f":"EM132/10","v":0},{"$f":"SUM(BJ132,BQ132,BS132,BV132,BX132,CI132,CL132,CS132,CZ132)","v":0},{"$f":"EO132/9","v":0},{"$f":"SUM(BG132,BM132,BT132,BW132,CB132,CH132,CK132,CN132,CV132,DB132,DF132)","v":0},{"$f":"EQ132/11","v":0},{"$f":"SUM(BG132,BK132,BQ132,BW132,CH132,CP132,CS132,CU132,CY132,DG132)","v":0},{"$f":"ES132/10","v":0},{"$f":"SUM(BJ132,BO132,BT132,BX132,CB132,CG132,CK132,CO132,CW132,DC132)","v":0},{"$f":"EU132/10","v":0},{"$f":"SUM(BH132,BM132,BS132,BZ132,CE132,CL132,DB132,DE132)","v":0},{"$f":"EW132/8","v":0},{"$f":"SUM(BL132,BP132,BV132,CA132,CD132,CI132,CN132,CR132,CV132,CZ132,DF132)","v":0},{"$f":"EY132/11","v":0},{"$f":"SUM(ET132,EV132)/2","v":0},{"$f":"SUM(EX132,EZ132)/2","v":0},{"$f":"SUM(EL132,EN132,EP132,ER132,ET132,EV132,EX132,EZ132)/8","v":0},null,{"$f":"IF($GC132<>\"\",EH132-DI132,\"\")","v":""},{"$f":"IF($GC132<>\"\",EI132-DJ132,\"\")","v":""},null,{"$f":"IF($GC132<>\"\",EK132-DL132,\"\")","v":""},{"$f":"IF($GC132<>\"\",EL132-DM132,\"\")","v":""},{"$f":"IF($GC132<>\"\",EM132-DN132,\"\")","v":""},{"$f":"IF($GC132<>\"\",EN132-DO132,\"\")","v":""},{"$f":"IF($GC132<>\"\",EO132-DP132,\"\")","v":""},{"$f":"IF($GC132<>\"\",EP132-DQ132,\"\")","v":""},{"$f":"IF($GC132<>\"\",EQ132-DR132,\"\")","v":""},{"$f":"IF($GC132<>\"\",ER132-DS132,\"\")","v":""},{"$f":"IF($GC132<>\"\",ES132-DT132,\"\")","v":""},{"$f":"IF($GC132<>\"\",ET132-DU132,\"\")","v":""},{"$f":"IF($GC132<>\"\",EU132-DV132,\"\")","v":""},{"$f":"IF($GC132<>\"\",EV132-DW132,\"\")","v":""},{"$f":"IF($GC132<>\"\",EW132-DX132,\"\")","v":""},{"$f":"IF($GC132<>\"\",EX132-DY132,\"\")","v":""},{"$f":"IF($GC132<>\"\",EY132-DZ132,\"\")","v":""},{"$f":"IF($GC132<>\"\",EZ132-EA132,\"\")","v":""},{"$f":"IF($GC132<>\"\",FA132-EB132,\"\")","v":""},{"$f":"IF($GC132<>\"\",FB132-EC132,\"\")","v":""},{"$f":"IF($GC132<>\"\",FC132-ED132,\"\")","v":""},null,{"$f":"IF(Programs!$D$196=\"\",\"\",Programs!$D$196)","v":""},{"$f":"IF(AND(COUNT(D132:BE132)>48,COUNT(BF132:DG132)>48),GB132,\"\")","v":""},{"$f":"IF($GC132=\"\",\"\",(IF(FE132<0,$GC132,\"\")))","v":""},{"$f":"IF($GC132=\"\",\"\",(IF(FF132<0,$GC132,\"\")))","v":""},{"$f":"IF($GC132=\"\",\"\",(IF(FG132<0,$GC132,\"\")))","v":""},"","","","","","","","","","","","","","","","","","","",null,"","","","","","","","","","","","","","","","","","",""]
[null,{"$f":"Programs!B208","v":0},{"$f":"IF(Programs!$C$196=\"\",\"\",Programs!$C$196)","v":""},null,null,null,null,null,null,null,null,null,null,null,null,null,null,null,null,null,null,null,null,null,null,null,null,null,null,null,null,null,null,null,null,null,null,null,null,null,null,null,null,null,null,null,null,null,null,null,null,null,null,null,null,null,null,null,null,null,null,null,null,null,null,null,null,null,null,null,null,null,null,null,null,null,null,null,null,null,null,null,null,null,null,null,null,null,null,null,null,null,null,null,null,null,null,null,null,null,null,null,null,null,null,null,null,null,null,null,null,null,0,null,null,0,0,0,0,0,0,0,0,0,0,0,0,0,0,0,0,0,0,0,null,null,null,0,null,null,0,0,0,0,0,0,0,0,0,0,0,0,0,0,0,0,0,0,0,null,"","",null,"","","","","","","","","","","","","","","","","","","",null,{"$f":"IF(Programs!$D$196=\"\",\"\",Programs!$D$196)","v":""},"","","","",{"$f":"IF($GC133=\"\",\"\",(IF(FH133<0,$GC133,\"\")))","v":""},{"$f":"IF($GC133=\"\",\"\",IF(FI133<0,$GC133,\"\"))","v":""},{"$f":"IF($GC133=\"\",\"\",(IF(FJ133<0,$GC133,\"\")))","v":""},{"$f":"IF($GC133=\"\",\"\",IF(FK133<0,$GC133,\"\"))","v":""},{"$f":"IF($GC133=\"\",\"\",(IF(FL133<0,$GC133,\"\")))","v":""},{"$f":"IF($GC133=\"\",\"\",IF(FM133<0,$GC133,\"\"))","v":""},{"$f":"IF($GC133=\"\",\"\",(IF(FN133<0,$GC133,\"\")))","v":""},{"$f":"IF($GC133=\"\",\"\",IF(FO133<0,$GC133,\"\"))","v":""},{"$f":"IF($GC133=\"\",\"\",(IF(FP133<0,$GC133,\"\")))","v":""},{"$f":"IF($GC133=\"\",\"\",IF(FQ133<0,$GC133,\"\"))","v":""},{"$f":"IF($GC133=\"\",\"\",(IF(FR133<0,$GC133,\"\")))","v":""},{"$f":"IF($GC133=\"\",\"\",IF(FS133<0,$GC133,\"\"))","v":""},{"$f":"IF($GC133=\"\",\"\",(IF(FT133<0,$GC133,\"\")))","v":""},{"$f":"IF($GC133=\"\",\"\",IF(FU133<0,$GC133,\"\"))","v":""},{"$f":"IF($GC133=\"\",\"\",(IF(FV133<0,$GC133,\"\")))","v":""},{"$f":"IF($GC133=\"\",\"\",IF(FW133<0,$GC133,\"\"))","v":""},{"$f":"IF($GC133=\"\",\"\",IF(FX133<0,$GC133,\"\"))","v":""},{"$f":"IF($GC133=\"\",\"\",IF(FY133<0,$GC133,\"\"))","v":""},{"$f":"IF($GC133=\"\",\"\",IF(FZ133<0,$GC133,\"\"))","v":""},null,{"$f":"IF($GC133=\"\",\"\",(IF(FH133>0,$GC133,\"\")))","v":""},{"$f":"IF($GC133=\"\",\"\",(IF(FI133>0,$GC133,\"\")))","v":""},{"$f":"IF($GC133=\"\",\"\",(IF(FJ133>0,$GC133,\"\")))","v":""},{"$f":"IF($GC133=\"\",\"\",(IF(FK133>0,$GC133,\"\")))","v":""},{"$f":"IF($GC133=\"\",\"\",(IF(FL133>0,$GC133,\"\")))","v":""},{"$f":"IF($GC133=\"\",\"\",(IF(FM133>0,$GC133,\"\")))","v":""},{"$f":"IF($GC133=\"\",\"\",(IF(FN133>0,$GC133,\"\")))","v":""},{"$f":"IF($GC133=\"\",\"\",(IF(FO133>0,$GC133,\"\")))","v":""},{"$f":"IF($GC133=\"\",\"\",(IF(FP133>0,$GC133,\"\")))","v":""},{"$f":"IF($GC133=\"\",\"\",(IF(FQ133>0,$GC133,\"\")))","v":""},{"$f":"IF($GC133=\"\",\"\",(IF(FR133>0,$GC133,\"\")))","v":""},{"$f":"IF($GC133=\"\",\"\",(IF(FS133>0,$GC133,\"\")))","v":""},{"$f":"IF($GC133=\"\",\"\",(IF(FT133>0,$GC133,\"\")))","v":""},{"$f":"IF($GC133=\"\",\"\",(IF(FU133>0,$GC133,\"\")))","v":""},{"$f":"IF($GC133=\"\",\"\",(IF(FV133>0,$GC133,\"\")))","v":""},{"$f":"IF($GC133=\"\",\"\",(IF(FW133>0,$GC133,\"\")))","v":""},{"$f":"IF($GC133=\"\",\"\",(IF(FX133>0,$GC133,\"\")))","v":""},{"$f":"IF($GC133=\"\",\"\",(IF(FY133>0,$GC133,\"\")))","v":""},{"$f":"IF($GC133=\"\",\"\",(IF(FZ133>0,$GC133,\"\")))","v":""}]
[null,{"$f":"Programs!B209","v":0},{"$f":"IF(Programs!$C$196=\"\",\"\",Programs!$C$196)","v":""},null,null,null,null,null,null,null,null,null,null,null,null,null,null,null,null,null,null,null,null,null,null,null,null,null,null,null,null,null,null,null,null,null,null,null,null,null,null,null,null,null,null,null,null,null,null,null,null,null,null,null,null,null,null,null,null,null,null,null,null,null,null,null,null,null,null,null,null,null,null,null,null,null,null,null,null,null,null,null,null,null,null,null,null,null,null,null,null,null,null,null,null,null,null,null,null,null,null,null,null,null,null,null,null,null,null,null,null,null,0,null,null,0,0,0,0,0,0,0,0,0,0,0,0,0,0,0,0,0,0,0,null,null,null,0,null,null,0,0,0,0,0,0,0,0,0,0,0,0,0,0,0,0,0,0,0,null,"","",null,"","","","","","","","","","","","","","","","","","","",null,{"$f":"IF(Programs!$D$196=\"\",\"\",Programs!$D$196)","v":""},"","","","","","","","","","","","","","","","","","","","","","","",null,"","","","","","","","","","","","","","","","","","",""]
[null,{"$f":"Programs!B210","v":0},{"$f":"IF(Programs!$C$196=\"\",\"\",Programs!$C$196)","v":""},null,null,null,null,null,null,null,null,null,null,null,null,null,null,null,null,null,null,null,null,null,null,null,null,null,null,null,null,null,null,null,null,null,null,null,null,null,null,null,null,null,null,null,null,null,null,null,null,null,null,null,null,null,null,null,null,null,null,null,null,null,null,null,null,null,null,null,null,null,null,null,null,null,null,null,null,null,null,null,null,null,null,null,null,null,null,null,null,null,null,null,null,null,null,null,null,null,null,null,null,null,null,null,null,null,null,null,null,null,0,null,null,0,0,0,0,0,0,0,0,0,0,0,0,0,0,0,0,0,0,0,null,null,null,0,null,null,0,0,0,0,0,0,0,0,0,0,0,0,0,0,0,0,0,0,0,null,"","",null,"","","","","","","","","","","","","","","","","","","",null,{"$f":"IF(Programs!$D$196=\"\",\"\",Programs!$D$196)","v":""},"","","","","","","","","","","","","","","","","","","","","","","",null,"","","","","","","","","","","","","","","","","","",""]
["Program 12",{"$f":"Programs!B218","v":0},{"$f":"IF(Programs!$C$215=\"\",\"\",Programs!$C$215)","v":""},null,null,null,null,null,null,null,null,null,null,null,null,null,null,null,null,null,null,null,null,null,null,null,null,null,null,null,null,null,null,null,null,null,null,null,null,null,null,null,null,null,null,null,null,null,null,null,null,null,null,null,null,null,null,null,null,null,null,null,null,null,null,null,null,null,null,null,null,null,null,null,null,null,null,null,null,null,null,null,null,null,null,null,null,null,null,null,null,null,null,null,null,null,null,null,null,null,null,null,null,null,null,null,null,null,null,null,null,null,0,null,null,0,0,0,0,0,0,0,0,0,0,0,0,0,0,0,0,0,0,0,null,null,null,0,null,null,0,0,0,0,0,0,0,0,0,0,0,0,0,0,0,0,0,0,0,null,"","",null,"","","","","","","","","","","","","","","","","","","",null,{"$f":"IF(Programs!$D$215=\"\",\"\",Programs!$D$215)","v":""},"","","","","","","","","","","","","","","","","","","","","","","",null,"","","","","","","","","","","","","","","","","","",""]
[null,{"$f":"Programs!B219","v":0},{"$f":"IF(Programs!$C$215=\"\",\"\",Programs!$C$215)","v":""},null,null,null,null,null,null,null,null,null,null,null,null,null,null,null,null,null,null,null,null,null,null,null,null,null,null,null,null,null,null,null,null,null,null,null,null,null,null,null,null,null,null,null,null,null,null,null,null,null,null,null,null,null,null,null,null,null,null,null,null,null,null,null,null,null,null,null,null,null,null,null,null,null,null,null,null,null,null,null,null,null,null,null,null,null,null,null,null,null,null,null,null,null,null,null,null,null,null,null,null,null,null,null,null,null,null,null,null,null,0,null,null,0,0,0,0,0,0,0,0,0,0,0,0,0,0,0,0,0,0,0,null,null,null,0,null,null,0,0,0,0,0,0,0,0,0,0,0,0,0,0,0,0,0,0,0,null,"","",null,"","","","","","","","","","","","","","","","","","","",null,{"$f":"IF(Programs!$D$215=\"\",\"\",Programs!$D$215)","v":""},"","","","","","","","","","","","","","","","","","","","","","","",null,"","","","","","","","","","","","","","","","","","",""]
[null,{"$f":"Programs!B220","v":0},{"$f":"IF(Programs!$C$215=\"\",\"\",Programs!$C$215)","v":""},null,null,null,null,null,null,null,null,null,null,null,null,null,null,null,null,null,null,null,null,null,null,null,null,null,null,null,null,null,null,null,null,null,null,null,null,null,null,null,null,null,null,null,null,null,null,null,null,null,null,null,null,null,null,null,null,null,null,null,null,null,null,null,null,null,null,null,null,null,null,null,null,null,null,null,null,null,null,null,null,null,null,null,null,null,null,null,null,null,null,null,null,null,null,null,null,null,null,null,null,null,null,null,null,null,null,null,null,null,0,null,null,0,0,0,0,0,0,0,0,0,0,0,0,0,0,0,0,0,0,0,null,null,null,0,null,null,0,0,0,0,0,0,0,0,0,0,0,0,0,0,0,0,0,0,0,null,"","",null,"","","","","","","","","","","","","","","","","","","",null,{"$f":"IF(Programs!$D$215=\"\",\"\",Programs!$D$215)","v":""},"","","","","","","","","","","","","","","","","","","","","","","",null,"","","","","","","","","","","","","","","","","","",""]
[null,{"$f":"Programs!B221","v":0},{"$f":"IF(Programs!$C$215=\"\",\"\",Programs!$C$215)","v":""},null,null,null,null,null,null,null,null,null,null,null,null,null,null,null,null,null,null,null,null,null,null,null,null,null,null,null,null,null,null,null,null,null,null,null,null,null,null,null,null,null,null,null,null,null,null,null,null,null,null,null,null,null,null,null,null,null,null,null,null,null,null,null,null,null,null,null,null,null,null,null,null,null,null,null,null,null,null,null,null,null,null,null,null,null,null,null,null,null,null,null,null,null,null,null,null,null,null,null,null,null,null,null,null,null,null,null,null,null,0,null,null,0,0,0,0,0,0,0,0,0,0,0,0,0,0,0,0,0,0,0,null,null,null,0,null,null,0,0,0,0,0,0,0,0,0,0,0,0,0,0,0,0,0,0,0,null,"","",null,"","","","","","","","","","","","","","","","","","","",null,{"$f":"IF(Programs!$D$215=\"\",\"\",Programs!$D$215)","v":""},"","","","","","","","","","","","","","","","","","","","","","","",null,"","","","","","","","","","","","","","","","","","",""]
[null,{"$f":"Programs!B222","v":0},{"$f":"IF(Programs!$C$215=\"\",\"\",Programs!$C$215)","v":""},null,null,null,null,null,null,null,null,null,null,null,null,null,null,null,null,null,null,null,null,null,null,null,null,null,null,null,null,null,null,null,null,null,null,null,null,null,null,null,null,null,null,null,null,null,null,null,null,null,null,null,null,null,null,null,null,null,null,null,null,null,null,null,null,null,null,null,null,null,null,null,null,null,null,null,null,null,null,null,null,null,null,null,null,null,null,null,null,null,null,null,null,null,null,null,null,null,null,null,null,null,null,null,null,null,null,null,null,null,0,null,null,0,0,0,0,0,0,0,0,0,0,0,0,0,0,0,0,0,0,0,null,null,null,0,null,null,0,0,0,0,0,0,0,0,0,0,0,0,0,0,0,0,0,0,0,null,"","",null,"","","","","","","","","","","","","","","","","","","",null,{"$f":"IF(Programs!$D$215=\"\",\"\",Programs!$D$215)","v":""},"","","","","","","","","","","","","","","","","","","","","","","",null,"","","","","","","","","","","","","","","","","","",""]
[null,{"$f":"Programs!B223","v":0},{"$f":"IF(Programs!$C$215=\"\",\"\",Programs!$C$215)","v":""},null,null,null,null,null,null,null,null,null,null,null,null,null,null,null,null,null,null,null,null,null,null,null,null,null,null,null,null,null,null,null,null,null,null,null,null,null,null,null,null,null,null,null,null,null,null,null,null,null,null,null,null,null,null,null,null,null,null,null,null,null,null,null,null,null,null,null,null,null,null,null,null,null,null,null,null,null,null,null,null,null,null,null,null,null,null,null,null,null,null,null,null,null,null,null,null,null,null,null,null,null,null,null,null,null,null,null,null,null,0,null,null,0,0,0,0,0,0,0,0,0,0,0,0,0,0,0,0,0,0,0,null,null,null,0,null,null,0,0,0,0,0,0,0,0,0,0,0,0,0,0,0,0,0,0,0,null,"","",null,"","","","","","","","","","","","","","","","","","","",null,{"$f":"IF(Programs!$D$215=\"\",\"\",Programs!$D$215)","v":""},"","","","","","","","","","","","","","","","","","","","","","","",null,"","","","","","","","","","","","","","","","","","",""]
[null,{"$f":"Programs!B224","v":0},{"$f":"IF(Programs!$C$215=\"\",\"\",Programs!$C$215)","v":""},null,null,null,null,null,null,null,null,null,null,null,null,null,null,null,null,null,null,null,null,null,null,null,null,null,null,null,null,null,null,null,null,null,null,null,null,null,null,null,null,null,null,null,null,null,null,null,null,null,null,null,null,null,null,null,null,null,null,null,null,null,null,null,null,null,null,null,null,null,null,null,null,null,null,null,null,null,null,null,null,null,null,null,null,null,null,null,null,null,null,null,null,null,null,null,null,null,null,null,null,null,null,null,null,null,null,null,null,null,0,null,null,0,0,0,0,0,0,0,0,0,0,0,0,0,0,0,0,0,0,0,null,null,null,0,null,null,0,0,0,0,0,0,0,0,0,0,0,0,0,0,0,0,0,0,0,null,"","",null,"","","","","","","","","","","","","","","","","","","",null,{"$f":"IF(Programs!$D$215=\"\",\"\",Programs!$D$215)","v":""},"","","","","","","","","","","","","","","","","","","","","","","",null,"","","","","","","","","","","","","","","","","","",""]
[null,{"$f":"Programs!B225","v":0},{"$f":"IF(Programs!$C$215=\"\",\"\",Programs!$C$215)","v":""},null,null,null,null,null,null,null,null,null,null,null,null,null,null,null,null,null,null,null,null,null,null,null,null,null,null,null,null,null,null,null,null,null,null,null,null,null,null,null,null,null,null,null,null,null,null,null,null,null,null,null,null,null,null,null,null,null,null,null,null,null,null,null,null,null,null,null,null,null,null,null,null,null,null,null,null,null,null,null,null,null,null,null,null,null,null,null,null,null,null,null,null,null,null,null,null,null,null,null,null,null,null,null,null,null,null,null,null,null,{"$f":"IF(SUM(G143,P143,W143,AD143,AH143,AO143,AV143,BB143)>0,(7-(SUM(G143,P143,W143,AD143,AH143,AO143,AV143,BB143)/8)),0)","v":0},null,null,{"$f":"SUM(F143,J143,M143,Y143,AE143,AN143,AS143,BC143,BE143)","v":0},{"$f":"DL143/9","v":0},{"$f":"SUM(I143,N143,X143,AB143,AC143,AM143,AP143,AU143,AW143,BA143)","v":0},{"$f":"DN143/10","v":0},{"$f":"SUM(H143,O143,Q143,T143,V143,AG143,AJ143,AQ143,AX143)","v":0},{"$f":"DP143/9","v":0},{"$f":"SUM(E143,K143,R143,U143,Z143,AF143,AI143,AL143,AT143,AZ143,BD143)","v":0},{"$f":"DR143/11","v":0},{"$f":"SUM(E143,I143,O143,U143,AF143,AN143,AQ143,AS143,AW143,BE143)","v":0},{"$f":"DT143/10","v":0},{"$f":"SUM(H143,M143,R143,V143,Z143,AE143,AI143,AM143,AU143,BA143)","v":0},{"$f":"DV143/10","v":0},{"$f":"SUM(F143,K143,Q143,X143,AC143,AJ143,AZ143,BC143)","v":0},{"$f":"DX143/8","v":0},{"$f":"SUM(J143,N143,T143,Y143,AB143,AG143,AL143,AP143,AT143,AX143,BD143)","v":0},{"$f":"DZ143/11","v":0},{"$f":"SUM(DU143,DW143)/2","v":0},{"$f":"SUM(DY143,EA143)/2","v":0},{"$f":"SUM(DM143,DO143,DQ143,DS143,DU143,DW143,DY143,EA143)/8","v":0},null,null,null,{"$f":"IF(SUM(BI143,BR143,BY143,CF143,CJ143,CQ143,CX143,DD143)>0,(7-(SUM(BI143,BR143,BY143,CF143,CJ143,CQ143,CX143,DD143)/8)),0)","v":0},null,null,{"$f":"SUM(BH143,BL143,BO143,CA143,CG143,CP143,CU143,DE143,DG143)","v":0},{"$f":"EK143/9","v":0},{"$f":"SUM(BK143,BP143,BZ143,CD143,CE143,CO143,CR143,CW143,CY143,DC143)","v":0},{"$f":"EM143/10","v":0},{"$f":"SUM(BJ143,BQ143,BS143,BV143,BX143,CI143,CL143,CS143,CZ143)","v":0},{"$f":"EO143/9","v":0},{"$f":"SUM(BG143,BM143,BT143,BW143,CB143,CH143,CK143,CN143,CV143,DB143,DF143)","v":0},{"$f":"EQ143/11","v":0},{"$f":"SUM(BG143,BK143,BQ143,BW143,CH143,CP143,CS143,CU143,CY143,DG143)","v":0},{"$f":"ES143/10","v":0},{"$f":"SUM(BJ143,BO143,BT143,BX143,CB143,CG143,CK143,CO143,CW143,DC143)","v":0},{"$f":"EU143/10","v":0},{"$f":"SUM(BH143,BM143,BS143,BZ143,CE143,CL143,DB143,DE143)","v":0},{"$f":"EW143/8","v":0},{"$f":"SUM(BL143,BP143,BV143,CA143,CD143,CI143,CN143,CR143,CV143,CZ143,DF143)","v":0},{"$f":"EY143/11","v":0},{"$f":"SUM(ET143,EV143)/2","v":0},{"$f":"SUM(EX143,EZ143)/2","v":0},{"$f":"SUM(EL143,EN143,EP143,ER143,ET143,EV143,EX143,EZ143)/8","v":0},null,{"$f":"IF($GC143<>\"\",EH143-DI143,\"\")","v":""},{"$f":"IF($GC143<>\"\",EI143-DJ143,\"\")","v":""},null,{"$f":"IF($GC143<>\"\",EK143-DL143,\"\")","v":""},{"$f":"IF($GC143<>\"\",EL143-DM143,\"\")","v":""},{"$f":"IF($GC143<>\"\",EM143-DN143,\"\")","v":""},{"$f":"IF($GC143<>\"\",EN143-DO143,\"\")","v":""},{"$f":"IF($GC143<>\"\",EO143-DP143,\"\")","v":""},{"$f":"IF($GC143<>\"\",EP143-DQ143,\"\")","v":""},{"$f":"IF($GC143<>\"\",EQ143-DR143,\"\")","v":""},{"$f":"IF($GC143<>\"\",ER143-DS143,\"\")","v":""},{"$f":"IF($GC143<>\"\",ES143-DT143,\"\")","v":""},{"$f":"IF($GC143<>\"\",ET143-DU143,\"\")","v":""},{"$f":"IF($GC143<>\"\",EU143-DV143,\"\")","v":""},{"$f":"IF($GC143<>\"\",EV143-DW143,\"\")","v":""},{"$f":"IF($GC143<>\"\",EW143-DX143,\"\")","v":""},{"$f":"IF($GC143<>\"\",EX143-DY143,\"\")","v":""},{"$f":"IF($GC143<>\"\",EY143-DZ143,\"\")","v":""},{"$f":"IF($GC143<>\"\",EZ143-EA143,\"\")","v":""},{"$f":"IF($GC143<>\"\",FA143-EB143,\"\")","v":""},{"$f":"IF($GC143<>\"\",FB143-EC143,\"\")","v":""},{"$f":"IF($GC143<>\"\",FC143-ED143,\"\")","v":""},null,{"$f":"IF(Programs!$D$215=\"\",\"\",Programs!$D$215)","v":""},{"$f":"IF(AND(COUNT(D143:BE143)>48,COUNT(BF143:DG143)>48),GB143,\"\")","v":""},{"$f":"IF($GC143=\"\",\"\",(IF(FE143<0,$GC143,\"\")))","v":""},{"$f":"IF($GC143=\"\",\"\",(IF(FF143<0,$GC143,\"\")))","v":""},{"$f":"IF($GC143=\"\",\"\",(IF(FG143<0,$GC143,\"\")))","v":""},"","","","","","","","","","","","","","","","","","","",null,"","","","","","","","","","","","","","","","","","",""]
[null,{"$f":"Programs!B226","v":0},{"$f":"IF(Programs!$C$215=\"\",\"\",Programs!$C$215)","v":""},null,null,null,null,null,null,null,null,null,null,null,null,null,null,null,null,null,null,null,null,null,null,null,null,null,null,null,null,null,null,null,null,null,null,null,null,null,null,null,null,null,null,null,null,null,null,null,null,null,null,null,null,null,null,null,null,null,null,null,null,null,null,null,null,null,null,null,null,null,null,null,null,null,null,null,null,null,null,null,null,null,null,null,null,null,null,null,null,null,null,null,null,null,null,null,null,null,null,null,null,null,null,null,null,null,null,null,null,null,0,null,null,0,0,0,0,0,0,0,0,0,0,0,0,0,0,0,0,0,0,0,null,null,null,0,null,null,0,0,0,0,0,0,0,0,0,0,0,0,0,0,0,0,0,0,0,null,"","",null,"","","","","","","","","","","","","","","","","","","",null,{"$f":"IF(Programs!$D$215=\"\",\"\",Programs!$D$215)","v":""},"","","","","","","","","","","","","","","","","","","","","","","",null,"","","","","","","","","","","","","","","","","","",""]
[null,{"$f":"Programs!B227","v":0},{"$f":"IF(Programs!$C$215=\"\",\"\",Programs!$C$215)","v":""},null,null,null,null,null,null,null,null,null,null,null,null,null,null,null,null,null,null,null,null,null,null,null,null,null,null,null,null,null,null,null,null,null,null,null,null,null,null,null,null,null,null,null,null,null,null,null,null,null,null,null,null,null,null,null,null,null,null,null,null,null,null,null,null,null,null,null,null,null,null,null,null,null,null,null,null,null,null,null,null,null,null,null,null,null,null,null,null,null,null,null,null,null,null,null,null,null,null,null,null,null,null,null,null,null,null,null,null,null,{"$f":"IF(SUM(G145,P145,W145,AD145,AH145,AO145,AV145,BB145)>0,(7-(SUM(G145,P145,W145,AD145,AH145,AO145,AV145,BB145)/8)),0)","v":0},null,null,{"$f":"SUM(F145,J145,M145,Y145,AE145,AN145,AS145,BC145,BE145)","v":0},{"$f":"DL145/9","v":0},{"$f":"SUM(I145,N145,X145,AB145,AC145,AM145,AP145,AU145,AW145,BA145)","v":0},{"$f":"DN145/10","v":0},{"$f":"SUM(H145,O145,Q145,T145,V145,AG145,AJ145,AQ145,AX145)","v":0},{"$f":"DP145/9","v":0},{"$f":"SUM(E145,K145,R145,U145,Z145,AF145,AI145,AL145,AT145,AZ145,BD145)","v":0},{"$f":"DR145/11","v":0},{"$f":"SUM(E145,I145,O145,U145,AF145,AN145,AQ145,AS145,AW145,BE145)","v":0},{"$f":"DT145/10","v":0},{"$f":"SUM(H145,M145,R145,V145,Z145,AE145,AI145,AM145,AU145,BA145)","v":0},{"$f":"DV145/10","v":0},{"$f":"SUM(F145,K145,Q145,X145,AC145,AJ145,AZ145,BC145)","v":0},{"$f":"DX145/8","v":0},{"$f":"SUM(J145,N145,T145,Y145,AB145,AG145,AL145,AP145,AT145,AX145,BD145)","v":0},{"$f":"DZ145/11","v":0},{"$f":"SUM(DU145,DW145)/2","v":0},{"$f":"SUM(DY145,EA145)/2","v":0},{"$f":"SUM(DM145,DO145,DQ145,DS145,DU145,DW145,DY145,EA145)/8","v":0},null,null,null,{"$f":"IF(SUM(BI145,BR145,BY145,CF145,CJ145,CQ145,CX145,DD145)>0,(7-(SUM(BI145,BR145,BY145,CF145,CJ145,CQ145,CX145,DD145)/8)),0)","v":0},null,null,{"$f":"SUM(BH145,BL145,BO145,CA145,CG145,CP145,CU145,DE145,DG145)","v":0},{"$f":"EK145/9","v":0},{"$f":"SUM(BK145,BP145,BZ145,CD145,CE145,CO145,CR145,CW145,CY145,DC145)","v":0},{"$f":"EM145/10","v":0},{"$f":"SUM(BJ145,BQ145,BS145,BV145,BX145,CI145,CL145,CS145,CZ145)","v":0},{"$f":"EO145/9","v":0},{"$f":"SUM(BG145,BM145,BT145,BW145,CB145,CH145,CK145,CN145,CV145,DB145,DF145)","v":0},{"$f":"EQ145/11","v":0},{"$f":"SUM(BG145,BK145,BQ145,BW145,CH145,CP145,CS145,CU145,CY145,DG145)","v":0},{"$f":"ES145/10","v":0},{"$f":"SUM(BJ145,BO145,BT145,BX145,CB145,CG145,CK145,CO145,CW145,DC145)","v":0},{"$f":"EU145/10","v":0},{"$f":"SUM(BH145,BM145,BS145,BZ145,CE145,CL145,DB145,DE145)","v":0},{"$f":"EW145/8","v":0},{"$f":"SUM(BL145,BP145,BV145,CA145,CD145,CI145,CN145,CR145,CV145,CZ145,DF145)","v":0},{"$f":"EY145/11","v":0},{"$f":"SUM(ET145,EV145)/2","v":0},{"$f":"SUM(EX145,EZ145)/2","v":0},{"$f":"SUM(EL145,EN145,EP145,ER145,ET145,EV145,EX145,EZ145)/8","v":0},null,{"$f":"IF($GC145<>\"\",EH145-DI145,\"\")","v":""},{"$f":"IF($GC145<>\"\",EI145-DJ145,\"\")","v":""},null,{"$f":"IF($GC145<>\"\",EK145-DL145,\"\")","v":""},{"$f":"IF($GC145<>\"\",EL145-DM145,\"\")","v":""},{"$f":"IF($GC145<>\"\",EM145-DN145,\"\")","v":""},{"$f":"IF($GC145<>\"\",EN145-DO145,\"\")","v":""},{"$f":"IF($GC145<>\"\",EO145-DP145,\"\")","v":""},{"$f":"IF($GC145<>\"\",EP145-DQ145,\"\")","v":""},{"$f":"IF($GC145<>\"\",EQ145-DR145,\"\")","v":""},{"$f":"IF($GC145<>\"\",ER145-DS145,\"\")","v":""},{"$f":"IF($GC145<>\"\",ES145-DT145,\"\")","v":""},{"$f":"IF($GC145<>\"\",ET145-DU145,\"\")","v":""},{"$f":"IF($GC145<>\"\",EU145-DV145,\"\")","v":""},{"$f":"IF($GC145<>\"\",EV145-DW145,\"\")","v":""},{"$f":"IF($GC145<>\"\",EW145-DX145,\"\")","v":""},{"$f":"IF($GC145<>\"\",EX145-DY145,\"\")","v":""},{"$f":"IF($GC145<>\"\",EY145-DZ145,\"\")","v":""},{"$f":"IF($GC145<>\"\",EZ145-EA145,\"\")","v":""},{"$f":"IF($GC145<>\"\",FA145-EB145,\"\")","v":""},{"$f":"IF($GC145<>\"\",FB145-EC145,\"\")","v":""},{"$f":"IF($GC145<>\"\",FC145-ED145,\"\")","v":""},null,{"$f":"IF(Programs!$D$215=\"\",\"\",Programs!$D$215)","v":""},{"$f":"IF(AND(COUNT(D145:BE145)>48,COUNT(BF145:DG145)>48),GB145,\"\")","v":""},{"$f":"IF($GC145=\"\",\"\",(IF(FE145<0,$GC145,\"\")))","v":""},{"$f":"IF($GC145=\"\",\"\",(IF(FF145<0,$GC145,\"\")))","v":""},{"$f":"IF($GC145=\"\",\"\",(IF(FG145<0,$GC145,\"\")))","v":""},"","","","","","","","","","","","","","","","","","","",null,"","","","","","","","","","","","","","","","","","",""]
[null,{"$f":"Programs!B228","v":0},{"$f":"IF(Programs!$C$215=\"\",\"\",Programs!$C$215)","v":""},null,null,null,null,null,null,null,null,null,null,null,null,null,null,null,null,null,null,null,null,null,null,null,null,null,null,null,null,null,null,null,null,null,null,null,null,null,null,null,null,null,null,null,null,null,null,null,null,null,null,null,null,null,null,null,null,null,null,null,null,null,null,null,null,null,null,null,null,null,null,null,null,null,null,null,null,null,null,null,null,null,null,null,null,null,null,null,null,null,null,null,null,null,null,null,null,null,null,null,null,null,null,null,null,null,null,null,null,null,0,null,null,0,0,0,0,0,0,0,0,0,0,0,0,0,0,0,0,0,0,0,null,null,null,0,null,null,0,0,0,0,0,0,0,0,0,0,0,0,0,0,0,0,0,0,0,null,"","",null,"","","","","","","","","","","","","","","","","","","",null,{"$f":"IF(Programs!$D$215=\"\",\"\",Programs!$D$215)","v":""},"","","","","","","","","","","","","","","","","","","","","","","",null,"","","","","","","","","","","","","","","","","","",""]
[null,{"$f":"Programs!B229","v":0},{"$f":"IF(Programs!$C$215=\"\",\"\",Programs!$C$215)","v":""},null,null,null,null,null,null,null,null,null,null,null,null,null,null,null,null,null,null,null,null,null,null,null,null,null,null,null,null,null,null,null,null,null,null,null,null,null,null,null,null,null,null,null,null,null,null,null,null,null,null,null,null,null,null,null,null,null,null,null,null,null,null,null,null,null,null,null,null,null,null,null,null,null,null,null,null,null,null,null,null,null,null,null,null,null,null,null,null,null,null,null,null,null,null,null,null,null,null,null,null,null,null,null,null,null,null,null,null,null,0,null,null,0,0,0,0,0,0,0,0,0,0,0,0,0,0,0,0,0,0,0,null,null,null,0,null,null,0,0,0,0,0,0,0,0,0,0,0,0,0,0,0,0,0,0,0,null,"","",null,"","","","","","","","","","","","","","","","","","","",null,{"$f":"IF(Programs!$D$215=\"\",\"\",Programs!$D$215)","v":""},"","","","","","","","","","","","","","","","","","","","","","","",null,"","","","","","","","","","","","","","","","","","",""]
["Program 13",{"$f":"Programs!B237","v":0},{"$f":"IF(Programs!$C$234=\"\",\"\",Programs!$C$234)","v":""},null,null,null,null,null,null,null,null,null,null,null,null,null,null,null,null,null,null,null,null,null,null,null,null,null,null,null,null,null,null,null,null,null,null,null,null,null,null,null,null,null,null,null,null,null,null,null,null,null,null,null,null,null,null,null,null,null,null,null,null,null,null,null,null,null,null,null,null,null,null,null,null,null,null,null,null,null,null,null,null,null,null,null,null,null,null,null,null,null,null,null,null,null,null,null,null,null,null,null,null,null,null,null,null,null,null,null,null,null,0,null,null,0,0,0,0,0,0,0,0,0,0,0,0,0,0,0,0,0,0,0,null,null,null,0,null,null,0,0,0,0,0,0,0,0,0,0,0,0,0,0,0,0,0,0,0,null,"","",null,"","","","","","","","","","","","","","","","","","","",null,{"$f":"IF(Programs!$D$234=\"\",\"\",Programs!$D$234)","v":""},"","","","","","","","","","","","","","","","","","","","","","","",null,"","","","","","","","","","","","","","","","","","",""]
[null,{"$f":"Programs!B238","v":0},{"$f":"IF(Programs!$C$234=\"\",\"\",Programs!$C$234)","v":""},null,null,null,null,null,null,null,null,null,null,null,null,null,null,null,null,null,null,null,null,null,null,null,null,null,null,null,null,null,null,null,null,null,null,null,null,null,null,null,null,null,null,null,null,null,null,null,null,null,null,null,null,null,null,null,null,null,null,null,null,null,null,null,null,null,null,null,null,null,null,null,null,null,null,null,null,null,null,null,null,null,null,null,null,null,null,null,null,null,null,null,null,null,null,null,null,null,null,null,null,null,null,null,null,null,null,null,null,null,0,null,null,0,0,0,0,0,0,0,0,0,0,0,0,0,0,0,0,0,0,0,null,null,null,0,null,null,0,0,0,0,0,0,0,0,0,0,0,0,0,0,0,0,0,0,0,null,"","",null,"","","","","","","","","","","","","","","","","","","",null,{"$f":"IF(Programs!$D$234=\"\",\"\",Programs!$D$234)","v":""},"","","","","","","","","","","","","","","","","","","","","","","",null,"","","","","","","","","","","","","","","","","","",""]
[null,{"$f":"Programs!B239","v":0},{"$f":"IF(Programs!$C$234=\"\",\"\",Programs!$C$234)","v":""},null,null,null,null,null,null,null,null,null,null,null,null,null,null,null,null,null,null,null,null,null,null,null,null,null,null,null,null,null,null,null,null,null,null,null,null,null,null,null,null,null,null,null,null,null,null,null,null,null,null,null,null,null,null,null,null,null,null,null,null,null,null,null,null,null,null,null,null,null,null,null,null,null,null,null,null,null,null,null,null,null,null,null,null,null,null,null,null,null,null,null,null,null,null,null,null,null,null,null,null,null,null,null,null,null,null,null,null,null,0,null,null,0,0,0,0,0,0,0,0,0,0,0,0,0,0,0,0,0,0,0,null,null,null,0,null,null,0,0,0,0,0,0,0,0,0,0,0,0,0,0,0,0,0,0,0,null,"","",null,"","","","","","","","","","","","","","","","","","","",null,{"$f":"IF(Programs!$D$234=\"\",\"\",Programs!$D$234)","v":""},"","","","","","","","","","","","","","","","","","","","","","","",null,"","","","","","","","","","","","","","","","","","",""]
[null,{"$f":"Programs!B240","v":0},{"$f":"IF(Programs!$C$234=\"\",\"\",Programs!$C$234)","v":""},null,null,null,null,null,null,null,null,null,null,null,null,null,null,null,null,null,null,null,null,null,null,null,null,null,null,null,null,null,null,null,null,null,null,null,null,null,null,null,null,null,null,null,null,null,null,null,null,null,null,null,null,null,null,null,null,null,null,null,null,null,null,null,null,null,null,null,null,null,null,null,null,null,null,null,null,null,null,null,null,null,null,null,null,null,null,null,null,null,null,null,null,null,null,null,null,null,null,null,null,null,null,null,null,null,null,null,null,null,0,null,null,0,0,0,0,0,0,0,0,0,0,0,0,0,0,0,0,0,0,0,null,null,null,0,null,null,0,0,0,0,0,0,0,0,0,0,0,0,0,0,0,0,0,0,0,null,"","",null,"","","","","","","","","","","","","","","","","","","",null,{"$f":"IF(Programs!$D$234=\"\",\"\",Programs!$D$234)","v":""},"","","","","","","","","","","","","","","","","","","","","","","",null,"","","","","","","","","","","","","","","","","","",""]
[null,{"$f":"Programs!B241","v":0},{"$f":"IF(Programs!$C$234=\"\",\"\",Programs!$C$234)","v":""},null,null,null,null,null,null,null,null,null,null,null,null,null,null,null,null,null,null,null,null,null,null,null,null,null,null,null,null,null,null,null,null,null,null,null,null,null,null,null,null,null,null,null,null,null,null,null,null,null,null,null,null,null,null,null,null,null,null,null,null,null,null,null,null,null,null,null,null,null,null,null,null,null,null,null,null,null,null,null,null,null,null,null,null,null,null,null,null,null,null,null,null,null,null,null,null,null,null,null,null,null,null,null,null,null,null,null,null,null,0,null,null,0,0,0,0,0,0,0,0,0,0,0,0,0,0,0,0,0,0,0,null,null,null,0,null,null,0,0,0,0,0,0,0,0,0,0,0,0,0,0,0,0,0,0,0,null,"","",null,"","","","","","","","","","","","","","","","","","","",null,{"$f":"IF(Programs!$D$234=\"\",\"\",Programs!$D$234)","v":""},"","","","","","","","","","","","","","","","","","","","","","","",null,"","","","","","","","","","","","","","","","","","",""]
[null,{"$f":"Programs!B242","v":0},{"$f":"IF(Programs!$C$234=\"\",\"\",Programs!$C$234)","v":""},null,null,null,null,null,null,null,null,null,null,null,null,null,null,null,null,null,null,null,null,null,null,null,null,null,null,null,null,null,null,null,null,null,null,null,null,null,null,null,null,null,null,null,null,null,null,null,null,null,null,null,null,null,null,null,null,null,null,null,null,null,null,null,null,null,null,null,null,null,null,null,null,null,null,null,null,null,null,null,null,null,null,null,null,null,null,null,null,null,null,null,null,null,null,null,null,null,null,null,null,null,null,null,null,null,null,null,null,null,0,null,null,0,0,0,0,0,0,0,0,0,0,0,0,0,0,0,0,0,0,0,null,null,null,0,null,null,0,0,0,0,0,0,0,0,0,0,0,0,0,0,0,0,0,0,0,null,"","",null,"","","","","","","","","","","","","","","","","","","",null,{"$f":"IF(Programs!$D$234=\"\",\"\",Programs!$D$234)","v":""},"","","","","","","","","","","","","","","","","","","","","","","",null,"","","","","","","","","","","","","","","","","","",""]
[null,{"$f":"Programs!B243","v":0},{"$f":"IF(Programs!$C$234=\"\",\"\",Programs!$C$234)","v":""},null,null,null,null,null,null,null,null,null,null,null,null,null,null,null,null,null,null,null,null,null,null,null,null,null,null,null,null,null,null,null,null,null,null,null,null,null,null,null,null,null,null,null,null,null,null,null,null,null,null,null,null,null,null,null,null,null,null,null,null,null,null,null,null,null,null,null,null,null,null,null,null,null,null,null,null,null,null,null,null,null,null,null,null,null,null,null,null,null,null,null,null,null,null,null,null,null,null,null,null,null,null,null,null,null,null,null,null,null,0,null,null,0,0,0,0,0,0,0,0,0,0,0,0,0,0,0,0,0,0,0,null,null,null,0,null,null,0,0,0,0,0,0,0,0,0,0,0,0,0,0,0,0,0,0,0,null,"","",null,"","","","","","","","","","","","","","","","","","","",null,{"$f":"IF(Programs!$D$234=\"\",\"\",Programs!$D$234)","v":""},"","","","","","","","","","","","","","","","","","","","","","","",null,"","","","","","","","","","","","","","","","","","",""]
[null,{"$f":"Programs!B244","v":0},{"$f":"IF(Programs!$C$234=\"\",\"\",Programs!$C$234)","v":""},null,null,null,null,null,null,null,null,null,null,null,null,null,null,null,null,null,null,null,null,null,null,null,null,null,null,null,null,null,null,null,null,null,null,null,null,null,null,null,null,null,null,null,null,null,null,null,null,null,null,null,null,null,null,null,null,null,null,null,null,null,null,null,null,null,null,null,null,null,null,null,null,null,null,null,null,null,null,null,null,null,null,null,null,null,null,null,null,null,null,null,null,null,null,null,null,null,null,null,null,null,null,null,null,null,null,null,null,null,0,null,null,0,0,0,0,0,0,0,0,0,0,0,0,0,0,0,0,0,0,0,null,null,null,0,null,null,0,0,0,0,0,0,0,0,0,0,0,0,0,0,0,0,0,0,0,null,"","",null,"","","","","","","","","","","","","","","","","","","",null,{"$f":"IF(Programs!$D$234=\"\",\"\",Programs!$D$234)","v":""},"","","","","","","","","","","","","","","","","","","","","","","",null,"","","","","","","","","","","","","","","","","","",""]
[null,{"$f":"Programs!B245","v":0},{"$f":"IF(Programs!$C$234=\"\",\"\",Programs!$C$234)","v":""},null,null,null,null,null,null,null,null,null,null,null,null,null,null,null,null,null,null,null,null,null,null,null,null,null,null,null,null,null,null,null,null,null,null,null,null,null,null,null,null,null,null,null,null,null,null,null,null,null,null,null,null,null,null,null,null,null,null,null,null,null,null,null,null,null,null,null,null,null,null,null,null,null,null,null,null,null,null,null,null,null,null,null,null,null,null,null,null,null,null,null,null,null,null,null,null,null,null,null,null,null,null,null,null,null,null,null,null,null,{"$f":"IF(SUM(G156,P156,W156,AD156,AH156,AO156,AV156,BB156)>0,(7-(SUM(G156,P156,W156,AD156,AH156,AO156,AV156,BB156)/8)),0)","v":0},null,null,{"$f":"SUM(F156,J156,M156,Y156,AE156,AN156,AS156,BC156,BE156)","v":0},{"$f":"DL156/9","v":0},{"$f":"SUM(I156,N156,X156,AB156,AC156,AM156,AP156,AU156,AW156,BA156)","v":0},{"$f":"DN156/10","v":0},{"$f":"SUM(H156,O156,Q156,T156,V156,AG156,AJ156,AQ156,AX156)","v":0},{"$f":"DP156/9","v":0},{"$f":"SUM(E156,K156,R156,U156,Z156,AF156,AI156,AL156,AT156,AZ156,BD156)","v":0},{"$f":"DR156/11","v":0},{"$f":"SUM(E156,I156,O156,U156,AF156,AN156,AQ156,AS156,AW156,BE156)","v":0},{"$f":"DT156/10","v":0},{"$f":"SUM(H156,M156,R156,V156,Z156,AE156,AI156,AM156,AU156,BA156)","v":0},{"$f":"DV156/10","v":0},{"$f":"SUM(F156,K156,Q156,X156,AC156,AJ156,AZ156,BC156)","v":0},{"$f":"DX156/8","v":0},{"$f":"SUM(J156,N156,T156,Y156,AB156,AG156,AL156,AP156,AT156,AX156,BD156)","v":0},{"$f":"DZ156/11","v":0},{"$f":"SUM(DU156,DW156)/2","v":0},{"$f":"SUM(DY156,EA156)/2","v":0},{"$f":"SUM(DM156,DO156,DQ156,DS156,DU156,DW156,DY156,EA156)/8","v":0},null,null,null,{"$f":"IF(SUM(BI156,BR156,BY156,CF156,CJ156,CQ156,CX156,DD156)>0,(7-(SUM(BI156,BR156,BY156,CF156,CJ156,CQ156,CX156,DD156)/8)),0)","v":0},null,null,{"$f":"SUM(BH156,BL156,BO156,CA156,CG156,CP156,CU156,DE156,DG156)","v":0},{"$f":"EK156/9","v":0},{"$f":"SUM(BK156,BP156,BZ156,CD156,CE156,CO156,CR156,CW156,CY156,DC156)","v":0},{"$f":"EM156/10","v":0},{"$f":"SUM(BJ156,BQ156,BS156,BV156,BX156,CI156,CL156,CS156,CZ156)","v":0},{"$f":"EO156/9","v":0},{"$f":"SUM(BG156,BM156,BT156,BW156,CB156,CH156,CK156,CN156,CV156,DB156,DF156)","v":0},{"$f":"EQ156/11","v":0},{"$f":"SUM(BG156,BK156,BQ156,BW156,CH156,CP156,CS156,CU156,CY156,DG156)","v":0},{"$f":"ES156/10","v":0},{"$f":"SUM(BJ156,BO156,BT156,BX156,CB156,CG156,CK156,CO156,CW156,DC156)","v":0},{"$f":"EU156/10","v":0},{"$f":"SUM(BH156,BM156,BS156,BZ156,CE156,CL156,DB156,DE156)","v":0},{"$f":"EW156/8","v":0},{"$f":"SUM(BL156,BP156,BV156,CA156,CD156,CI156,CN156,CR156,CV156,CZ156,DF156)","v":0},{"$f":"EY156/11","v":0},{"$f":"SUM(ET156,EV156)/2","v":0},{"$f":"SUM(EX156,EZ156)/2","v":0},{"$f":"SUM(EL156,EN156,EP156,ER156,ET156,EV156,EX156,EZ156)/8","v":0},null,{"$f":"IF($GC156<>\"\",EH156-DI156,\"\")","v":""},{"$f":"IF($GC156<>\"\",EI156-DJ156,\"\")","v":""},null,{"$f":"IF($GC156<>\"\",EK156-DL156,\"\")","v":""},{"$f":"IF($GC156<>\"\",EL156-DM156,\"\")","v":""},{"$f":"IF($GC156<>\"\",EM156-DN156,\"\")","v":""},{"$f":"IF($GC156<>\"\",EN156-DO156,\"\")","v":""},{"$f":"IF($GC156<>\"\",EO156-DP156,\"\")","v":""},{"$f":"IF($GC156<>\"\",EP156-DQ156,\"\")","v":""},{"$f":"IF($GC156<>\"\",EQ156-DR156,\"\")","v":""},{"$f":"IF($GC156<>\"\",ER156-DS156,\"\")","v":""},{"$f":"IF($GC156<>\"\",ES156-DT156,\"\")","v":""},{"$f":"IF($GC156<>\"\",ET156-DU156,\"\")","v":""},{"$f":"IF($GC156<>\"\",EU156-DV156,\"\")","v":""},{"$f":"IF($GC156<>\"\",EV156-DW156,\"\")","v":""},{"$f":"IF($GC156<>\"\",EW156-DX156,\"\")","v":""},{"$f":"IF($GC156<>\"\",EX156-DY156,\"\")","v":""},{"$f":"IF($GC156<>\"\",EY156-DZ156,\"\")","v":""},{"$f":"IF($GC156<>\"\",EZ156-EA156,\"\")","v":""},{"$f":"IF($GC156<>\"\",FA156-EB156,\"\")","v":""},{"$f":"IF($GC156<>\"\",FB156-EC156,\"\")","v":""},{"$f":"IF($GC156<>\"\",FC156-ED156,\"\")","v":""},null,{"$f":"IF(Programs!$D$234=\"\",\"\",Programs!$D$234)","v":""},{"$f":"IF(AND(COUNT(D156:BE156)>48,COUNT(BF156:DG156)>48),GB156,\"\")","v":""},{"$f":"IF($GC156=\"\",\"\",(IF(FE156<0,$GC156,\"\")))","v":""},{"$f":"IF($GC156=\"\",\"\",(IF(FF156<0,$GC156,\"\")))","v":""},{"$f":"IF($GC156=\"\",\"\",(IF(FG156<0,$GC156,\"\")))","v":""},"","","","","","","","","","","","","","","","","","","",null,"","","","","","","","","","","","","","","","","","",""]
[null,{"$f":"Programs!B246","v":0},{"$f":"IF(Programs!$C$234=\"\",\"\",Programs!$C$234)","v":""},null,null,null,null,null,null,null,null,null,null,null,null,null,null,null,null,null,null,null,null,null,null,null,null,null,null,null,null,null,null,null,null,null,null,null,null,null,null,null,null,null,null,null,null,null,null,null,null,null,null,null,null,null,null,null,null,null,null,null,null,null,null,null,null,null,null,null,null,null,null,null,null,null,null,null,null,null,null,null,null,null,null,null,null,null,null,null,null,null,null,null,null,null,null,null,null,null,null,null,null,null,null,null,null,null,null,null,null,null,0,null,null,0,0,0,0,0,0,0,0,0,0,0,0,0,0,0,0,0,0,0,null,null,null,0,null,null,0,0,0,0,0,0,0,0,0,0,0,0,0,0,0,0,0,0,0,null,"","",null,"","","","","","","","","","","","","","","","","","","",null,{"$f":"IF(Programs!$D$234=\"\",\"\",Programs!$D$234)","v":""},"","","","","","","","","","","","","","","","","","","","","","","",null,"","","","","","","","","","","","","","","","","","",""]
[null,{"$f":"Programs!B247","v":0},{"$f":"IF(Programs!$C$234=\"\",\"\",Programs!$C$234)","v":""},null,null,null,null,null,null,null,null,null,null,null,null,null,null,null,null,null,null,null,null,null,null,null,null,null,null,null,null,null,null,null,null,null,null,null,null,null,null,null,null,null,null,null,null,null,null,null,null,null,null,null,null,null,null,null,null,null,null,null,null,null,null,null,null,null,null,null,null,null,null,null,null,null,null,null,null,null,null,null,null,null,null,null,null,null,null,null,null,null,null,null,null,null,null,null,null,null,null,null,null,null,null,null,null,null,null,null,null,null,0,null,null,0,0,0,0,0,0,0,0,0,0,0,0,0,0,0,0,0,0,0,null,null,null,0,null,null,0,0,0,0,0,0,0,0,0,0,0,0,0,0,0,0,0,0,0,null,"","",null,"","","","","","","","","","","","","","","","","","","",null,{"$f":"IF(Programs!$D$234=\"\",\"\",Programs!$D$234)","v":""},"","","","","","","","","","","","","","","","","","","","","","","",null,"","","","","","","","","","","","","","","","","","",""]
[null,{"$f":"Programs!B248","v":0},{"$f":"IF(Programs!$C$234=\"\",\"\",Programs!$C$234)","v":""},null,null,null,null,null,null,null,null,null,null,null,null,null,null,null,null,null,null,null,null,null,null,null,null,null,null,null,null,null,null,null,null,null,null,null,null,null,null,null,null,null,null,null,null,null,null,null,null,null,null,null,null,null,null,null,null,null,null,null,null,null,null,null,null,null,null,null,null,null,null,null,null,null,null,null,null,null,null,null,null,null,null,null,null,null,null,null,null,null,null,null,null,null,null,null,null,null,null,null,null,null,null,null,null,null,null,null,null,null,0,null,null,0,0,0,0,0,0,0,0,0,0,0,0,0,0,0,0,0,0,0,null,null,null,0,null,null,0,0,0,0,0,0,0,0,0,0,0,0,0,0,0,0,0,0,0,null,"","",null,"","","","","","","","","","","","","","","","","","","",null,{"$f":"IF(Programs!$D$234=\"\",\"\",Programs!$D$234)","v":""},"","","","","","","","","","","","","","","","","","","","","","","",null,"","","","","","","","","","","","","","","","","","",""]
["Program 14",{"$f":"Programs!B256","v":0},{"$f":"IF(Programs!$C$253=\"\",\"\",Programs!$C$253)","v":""},null,null,null,null,null,null,null,null,null,null,null,null,null,null,null,null,null,null,null,null,null,null,null,null,null,null,null,null,null,null,null,null,null,null,null,null,null,null,null,null,null,null,null,null,null,null,null,null,null,null,null,null,null,null,null,null,null,null,null,null,null,null,null,null,null,null,null,null,null,null,null,null,null,null,null,null,null,null,null,null,null,null,null,null,null,null,null,null,null,null,null,null,null,null,null,null,null,null,null,null,null,null,null,null,null,null,null,null,null,0,null,null,0,0,0,0,0,0,0,0,0,0,0,0,0,0,0,0,0,0,0,null,null,null,{"$f":"IF(SUM(BI160,BR160,BY160,CF160,CJ160,CQ160,CX160,DD160)>0,(7-(SUM(BI160,BR160,BY160,CF160,CJ160,CQ160,CX160,DD160)/8)),0)","v":0},null,null,{"$f":"SUM(BH160,BL160,BO160,CA160,CG160,CP160,CU160,DE160,DG160)","v":0},0,{"$f":"SUM(BK160,BP160,BZ160,CD160,CE160,CO160,CR160,CW160,CY160,DC160)","v":0},0,{"$f":"SUM(BJ160,BQ160,BS160,BV160,BX160,CI160,CL160,CS160,CZ160)","v":0},0,{"$f":"SUM(BG160,BM160,BT160,BW160,CB160,CH160,CK160,CN160,CV160,DB160,DF160)","v":0},0,{"$f":"SUM(BG160,BK160,BQ160,BW160,CH160,CP160,CS160,CU160,CY160,DG160)","v":0},0,{"$f":"SUM(BJ160,BO160,BT160,BX160,CB160,CG160,CK160,CO160,CW160,DC160)","v":0},0,{"$f":"SUM(BH160,BM160,BS160,BZ160,CE160,CL160,DB160,DE160)","v":0},0,{"$f":"SUM(BL160,BP160,BV160,CA160,CD160,CI160,CN160,CR160,CV160,CZ160,DF160)","v":0},0,0,0,0,null,{"$f":"IF($GC160<>\"\",EH160-DI160,\"\")","v":""},{"$f":"IF($GC160<>\"\",EI160-DJ160,\"\")","v":""},null,{"$f":"IF($GC160<>\"\",EK160-DL160,\"\")","v":""},{"$f":"IF($GC160<>\"\",EL160-DM160,\"\")","v":""},{"$f":"IF($GC160<>\"\",EM160-DN160,\"\")","v":""},{"$f":"IF($GC160<>\"\",EN160-DO160,\"\")","v":""},{"$f":"IF($GC160<>\"\",EO160-DP160,\"\")","v":""},{"$f":"IF($GC160<>\"\",EP160-DQ160,\"\")","v":""},{"$f":"IF($GC160<>\"\",EQ160-DR160,\"\")","v":""},{"$f":"IF($GC160<>\"\",ER160-DS160,\"\")","v":""},{"$f":"IF($GC160<>\"\",ES160-DT160,\"\")","v":""},{"$f":"IF($GC160<>\"\",ET160-DU160,\"\")","v":""},{"$f":"IF($GC160<>\"\",EU160-DV160,\"\")","v":""},{"$f":"IF($GC160<>\"\",EV160-DW160,\"\")","v":""},{"$f":"IF($GC160<>\"\",EW160-DX160,\"\")","v":""},{"$f":"IF($GC160<>\"\",EX160-DY160,\"\")","v":""},{"$f":"IF($GC160<>\"\",EY160-DZ160,\"\")","v":""},{"$f":"IF($GC160<>\"\",EZ160-EA160,\"\")","v":""},{"$f":"IF($GC160<>\"\",FA160-EB160,\"\")","v":""},{"$f":"IF($GC160<>\"\",FB160-EC160,\"\")","v":""},{"$f":"IF($GC160<>\"\",FC160-ED160,\"\")","v":""},null,{"$f":"IF(Programs!$D$253=\"\",\"\",Programs!$D$253)","v":""},{"$f":"IF(AND(COUNT(D160:BE160)>48,COUNT(BF160:DG160)>48),GB160,\"\")","v":""},{"$f":"IF($GC160=\"\",\"\",(IF(FE160<0,$GC160,\"\")))","v":""},{"$f":"IF($GC160=\"\",\"\",(IF(FF160<0,$GC160,\"\")))","v":""},{"$f":"IF($GC160=\"\",\"\",(IF(FG160<0,$GC160,\"\")))","v":""},"","","","","","","","","","","","","","","","","","","",null,"","","","","","","","","","","","","","","","","","",""]
[null,{"$f":"Programs!B257","v":0},{"$f":"IF(Programs!$C$253=\"\",\"\",Programs!$C$253)","v":""},null,null,null,null,null,null,null,null,null,null,null,null,null,null,null,null,null,null,null,null,null,null,null,null,null,null,null,null,null,null,null,null,null,null,null,null,null,null,null,null,null,null,null,null,null,null,null,null,null,null,null,null,null,null,null,null,null,null,null,null,null,null,null,null,null,null,null,null,null,null,null,null,null,null,null,null,null,null,null,null,null,null,null,null,null,null,null,null,null,null,null,null,null,null,null,null,null,null,null,null,null,null,null,null,null,null,null,null,null,0,null,null,0,0,0,0,0,0,0,0,0,0,0,0,0,0,0,0,0,0,0,null,null,null,0,null,null,0,0,0,0,0,0,0,0,0,0,0,0,0,0,0,0,0,0,0,null,"","",null,"","","","","","","","","","","","","","","","","","","",null,{"$f":"IF(Programs!$D$253=\"\",\"\",Programs!$D$253)","v":""},"","","","","","","","","","","","","","","","","","","","","","","",null,"","","","","","","","","","","","","","","","","","",""]
[null,{"$f":"Programs!B258","v":0},{"$f":"IF(Programs!$C$253=\"\",\"\",Programs!$C$253)","v":""},null,null,null,null,null,null,null,null,null,null,null,null,null,null,null,null,null,null,null,null,null,null,null,null,null,null,null,null,null,null,null,null,null,null,null,null,null,null,null,null,null,null,null,null,null,null,null,null,null,null,null,null,null,null,null,null,null,null,null,null,null,null,null,null,null,null,null,null,null,null,null,null,null,null,null,null,null,null,null,null,null,null,null,null,null,null,null,null,null,null,null,null,null,null,null,null,null,null,null,null,null,null,null,null,null,null,null,null,null,0,null,null,0,0,0,0,0,0,0,0,0,0,0,0,0,0,0,0,0,0,0,null,null,null,0,null,null,0,0,0,0,0,0,0,0,0,0,0,0,0,0,0,0,0,0,0,null,"","",null,"","","","","","","","","","","","","","","","","","","",null,{"$f":"IF(Programs!$D$253=\"\",\"\",Programs!$D$253)","v":""},"","","","","","","","","","","","","","","","","","","","","","","",null,"","","","","","","","","","","","","","","","","","",""]
[null,{"$f":"Programs!B259","v":0},{"$f":"IF(Programs!$C$253=\"\",\"\",Programs!$C$253)","v":""},null,null,null,null,null,null,null,null,null,null,null,null,null,null,null,null,null,null,null,null,null,null,null,null,null,null,null,null,null,null,null,null,null,null,null,null,null,null,null,null,null,null,null,null,null,null,null,null,null,null,null,null,null,null,null,null,null,null,null,null,null,null,null,null,null,null,null,null,null,null,null,null,null,null,null,null,null,null,null,null,null,null,null,null,null,null,null,null,null,null,null,null,null,null,null,null,null,null,null,null,null,null,null,null,null,null,null,null,null,0,null,null,0,0,0,0,0,0,0,0,0,0,0,0,0,0,0,0,0,0,0,null,null,null,0,null,null,0,0,0,0,0,0,0,0,0,0,0,0,0,0,0,0,0,0,0,null,"","",null,"","","","","","","","","","","","","","","","","","","",null,{"$f":"IF(Programs!$D$253=\"\",\"\",Programs!$D$253)","v":""},"","","","","","","","","","","","","","","","","","","","","","","",null,"","","","","","","","","","","","","","","","","","",""]
[null,{"$f":"Programs!B260","v":0},{"$f":"IF(Programs!$C$253=\"\",\"\",Programs!$C$253)","v":""},null,null,null,null,null,null,null,null,null,null,null,null,null,null,null,null,null,null,null,null,null,null,null,null,null,null,null,null,null,null,null,null,null,null,null,null,null,null,null,null,null,null,null,null,null,null,null,null,null,null,null,null,null,null,null,null,null,null,null,null,null,null,null,null,null,null,null,null,null,null,null,null,null,null,null,null,null,null,null,null,null,null,null,null,null,null,null,null,null,null,null,null,null,null,null,null,null,null,null,null,null,null,null,null,null,null,null,null,null,0,null,null,0,0,0,0,0,0,0,0,0,0,0,0,0,0,0,0,0,0,0,null,null,null,0,null,null,0,0,0,0,0,0,0,0,0,0,0,0,0,0,0,0,0,0,0,null,"","",null,"","","","","","","","","","","","","","","","","","","",null,{"$f":"IF(Programs!$D$253=\"\",\"\",Programs!$D$253)","v":""},"","","","","","","","","","","","","","","","","","","","","","","",null,"","","","","","","","","","","","","","","","","","",""]
[null,{"$f":"Programs!B261","v":0},{"$f":"IF(Programs!$C$253=\"\",\"\",Programs!$C$253)","v":""},null,null,null,null,null,null,null,null,null,null,null,null,null,null,null,null,null,null,null,null,null,null,null,null,null,null,null,null,null,null,null,null,null,null,null,null,null,null,null,null,null,null,null,null,null,null,null,null,null,null,null,null,null,null,null,null,null,null,null,null,null,null,null,null,null,null,null,null,null,null,null,null,null,null,null,null,null,null,null,null,null,null,null,null,null,null,null,null,null,null,null,null,null,null,null,null,null,null,null,null,null,null,null,null,null,null,null,null,null,0,null,null,0,0,0,0,0,0,0,0,0,0,0,0,0,0,0,0,0,0,0,null,null,null,0,null,null,0,0,0,0,0,0,0,0,0,0,0,0,0,0,0,0,0,0,0,null,"","",null,"","","","","","","","","","","","","","","","","","","",null,{"$f":"IF(Programs!$D$253=\"\",\"\",Programs!$D$253)","v":""},"","","","","","","","","","","","","","","","","","","","","","","",null,"","","","","","","","","","","","","","","","","","",""]
[null,{"$f":"Programs!B262","v":0},{"$f":"IF(Programs!$C$253=\"\",\"\",Programs!$C$253)","v":""},null,null,null,null,null,null,null,null,null,null,null,null,null,null,null,null,null,null,null,null,null,null,null,null,null,null,null,null,null,null,null,null,null,null,null,null,null,null,null,null,null,null,null,null,null,null,null,null,null,null,null,null,null,null,null,null,null,null,null,null,null,null,null,null,null,null,null,null,null,null,null,null,null,null,null,null,null,null,null,null,null,null,null,null,null,null,null,null,null,null,null,null,null,null,null,null,null,null,null,null,null,null,null,null,null,null,null,null,null,0,null,null,0,0,0,0,0,0,0,0,0,0,0,0,0,0,0,0,0,0,0,null,null,null,0,null,null,0,0,0,0,0,0,0,0,0,0,0,0,0,0,0,0,0,0,0,null,"","",null,"","","","","","","","","","","","","","","","","","","",null,{"$f":"IF(Programs!$D$253=\"\",\"\",Programs!$D$253)","v":""},"","","","","","","","","","","","","","","","","","","","","","","",null,"","","","","","","","","","","","","","","","","","",""]
[null,{"$f":"Programs!B263","v":0},{"$f":"IF(Programs!$C$253=\"\",\"\",Programs!$C$253)","v":""},null,null,null,null,null,null,null,null,null,null,null,null,null,null,null,null,null,null,null,null,null,null,null,null,null,null,null,null,null,null,null,null,null,null,null,null,null,null,null,null,null,null,null,null,null,null,null,null,null,null,null,null,null,null,null,null,null,null,null,null,null,null,null,null,null,null,null,null,null,null,null,null,null,null,null,null,null,null,null,null,null,null,null,null,null,null,null,null,null,null,null,null,null,null,null,null,null,null,null,null,null,null,null,null,null,null,null,null,null,{"$f":"IF(SUM(G167,P167,W167,AD167,AH167,AO167,AV167,BB167)>0,(7-(SUM(G167,P167,W167,AD167,AH167,AO167,AV167,BB167)/8)),0)","v":0},null,null,{"$f":"SUM(F167,J167,M167,Y167,AE167,AN167,AS167,BC167,BE167)","v":0},{"$f":"DL167/9","v":0},{"$f":"SUM(I167,N167,X167,AB167,AC167,AM167,AP167,AU167,AW167,BA167)","v":0},{"$f":"DN167/10","v":0},{"$f":"SUM(H167,O167,Q167,T167,V167,AG167,AJ167,AQ167,AX167)","v":0},{"$f":"DP167/9","v":0},{"$f":"SUM(E167,K167,R167,U167,Z167,AF167,AI167,AL167,AT167,AZ167,BD167)","v":0},{"$f":"DR167/11","v":0},{"$f":"SUM(E167,I167,O167,U167,AF167,AN167,AQ167,AS167,AW167,BE167)","v":0},{"$f":"DT167/10","v":0},{"$f":"SUM(H167,M167,R167,V167,Z167,AE167,AI167,AM167,AU167,BA167)","v":0},{"$f":"DV167/10","v":0},{"$f":"SUM(F167,K167,Q167,X167,AC167,AJ167,AZ167,BC167)","v":0},{"$f":"DX167/8","v":0},{"$f":"SUM(J167,N167,T167,Y167,AB167,AG167,AL167,AP167,AT167,AX167,BD167)","v":0},{"$f":"DZ167/11","v":0},{"$f":"SUM(DU167,DW167)/2","v":0},{"$f":"SUM(DY167,EA167)/2","v":0},{"$f":"SUM(DM167,DO167,DQ167,DS167,DU167,DW167,DY167,EA167)/8","v":0},null,null,null,0,null,null,0,{"$f":"EK167/9","v":0},0,{"$f":"EM167/10","v":0},0,{"$f":"EO167/9","v":0},0,{"$f":"EQ167/11","v":0},0,{"$f":"ES167/10","v":0},0,{"$f":"EU167/10","v":0},0,{"$f":"EW167/8","v":0},0,{"$f":"EY167/11","v":0},{"$f":"SUM(ET167,EV167)/2","v":0},{"$f":"SUM(EX167,EZ167)/2","v":0},{"$f":"SUM(EL167,EN167,EP167,ER167,ET167,EV167,EX167,EZ167)/8","v":0},null,"","",null,"","","","","","","","","","","","","","","","","","","",null,{"$f":"IF(Programs!$D$253=\"\",\"\",Programs!$D$253)","v":""},"","","","","","","","","","","","","","","","","","","","","","","",null,"","","","","","","","","","","","","","","","","","",""]
[null,{"$f":"Programs!B264","v":0},{"$f":"IF(Programs!$C$253=\"\",\"\",Programs!$C$253)","v":""},null,null,null,null,null,null,null,null,null,null,null,null,null,null,null,null,null,null,null,null,null,null,null,null,null,null,null,null,null,null,null,null,null,null,null,null,null,null,null,null,null,null,null,null,null,null,null,null,null,null,null,null,null,null,null,null,null,null,null,null,null,null,null,null,null,null,null,null,null,null,null,null,null,null,null,null,null,null,null,null,null,null,null,null,null,null,null,null,null,null,null,null,null,null,null,null,null,null,null,null,null,null,null,null,null,null,null,null,null,{"$f":"IF(SUM(G168,P168,W168,AD168,AH168,AO168,AV168,BB168)>0,(7-(SUM(G168,P168,W168,AD168,AH168,AO168,AV168,BB168)/8)),0)","v":0},null,null,{"$f":"SUM(F168,J168,M168,Y168,AE168,AN168,AS168,BC168,BE168)","v":0},{"$f":"DL168/9","v":0},{"$f":"SUM(I168,N168,X168,AB168,AC168,AM168,AP168,AU168,AW168,BA168)","v":0},{"$f":"DN168/10","v":0},{"$f":"SUM(H168,O168,Q168,T168,V168,AG168,AJ168,AQ168,AX168)","v":0},{"$f":"DP168/9","v":0},{"$f":"SUM(E168,K168,R168,U168,Z168,AF168,AI168,AL168,AT168,AZ168,BD168)","v":0},{"$f":"DR168/11","v":0},{"$f":"SUM(E168,I168,O168,U168,AF168,AN168,AQ168,AS168,AW168,BE168)","v":0},{"$f":"DT168/10","v":0},{"$f":"SUM(H168,M168,R168,V168,Z168,AE168,AI168,AM168,AU168,BA168)","v":0},{"$f":"DV168/10","v":0},{"$f":"SUM(F168,K168,Q168,X168,AC168,AJ168,AZ168,BC168)","v":0},{"$f":"DX168/8","v":0},{"$f":"SUM(J168,N168,T168,Y168,AB168,AG168,AL168,AP168,AT168,AX168,BD168)","v":0},{"$f":"DZ168/11","v":0},{"$f":"SUM(DU168,DW168)/2","v":0},{"$f":"SUM(DY168,EA168)/2","v":0},{"$f":"SUM(DM168,DO168,DQ168,DS168,DU168,DW168,DY168,EA168)/8","v":0},null,null,null,{"$f":"IF(SUM(BI168,BR168,BY168,CF168,CJ168,CQ168,CX168,DD168)>0,(7-(SUM(BI168,BR168,BY168,CF168,CJ168,CQ168,CX168,DD168)/8)),0)","v":0},null,null,{"$f":"SUM(BH168,BL168,BO168,CA168,CG168,CP168,CU168,DE168,DG168)","v":0},{"$f":"EK168/9","v":0},{"$f":"SUM(BK168,BP168,BZ168,CD168,CE168,CO168,CR168,CW168,CY168,DC168)","v":0},{"$f":"EM168/10","v":0},{"$f":"SUM(BJ168,BQ168,BS168,BV168,BX168,CI168,CL168,CS168,CZ168)","v":0},{"$f":"EO168/9","v":0},{"$f":"SUM(BG168,BM168,BT168,BW168,CB168,CH168,CK168,CN168,CV168,DB168,DF168)","v":0},{"$f":"EQ168/11","v":0},{"$f":"SUM(BG168,BK168,BQ168,BW168,CH168,CP168,CS168,CU168,CY168,DG168)","v":0},{"$f":"ES168/10","v":0},{"$f":"SUM(BJ168,BO168,BT168,BX168,CB168,CG168,CK168,CO168,CW168,DC168)","v":0},{"$f":"EU168/10","v":0},{"$f":"SUM(BH168,BM168,BS168,BZ168,CE168,CL168,DB168,DE168)","v":0},{"$f":"EW168/8","v":0},{"$f":"SUM(BL168,BP168,BV168,CA168,CD168,CI168,CN168,CR168,CV168,CZ168,DF168)","v":0},{"$f":"EY168/11","v":0},{"$f":"SUM(ET168,EV168)/2","v":0},{"$f":"SUM(EX168,EZ168)/2","v":0},{"$f":"SUM(EL168,EN168,EP168,ER168,ET168,EV168,EX168,EZ168)/8","v":0},null,{"$f":"IF($GC168<>\"\",EH168-DI168,\"\")","v":""},{"$f":"IF($GC168<>\"\",EI168-DJ168,\"\")","v":""},null,{"$f":"IF($GC168<>\"\",EK168-DL168,\"\")","v":""},{"$f":"IF($GC168<>\"\",EL168-DM168,\"\")","v":""},{"$f":"IF($GC168<>\"\",EM168-DN168,\"\")","v":""},{"$f":"IF($GC168<>\"\",EN168-DO168,\"\")","v":""},{"$f":"IF($GC168<>\"\",EO168-DP168,\"\")","v":""},{"$f":"IF($GC168<>\"\",EP168-DQ168,\"\")","v":""},{"$f":"IF($GC168<>\"\",EQ168-DR168,\"\")","v":""},{"$f":"IF($GC168<>\"\",ER168-DS168,\"\")","v":""},{"$f":"IF($GC168<>\"\",ES168-DT168,\"\")","v":""},{"$f":"IF($GC168<>\"\",ET168-DU168,\"\")","v":""},{"$f":"IF($GC168<>\"\",EU168-DV168,\"\")","v":""},{"$f":"IF($GC168<>\"\",EV168-DW168,\"\")","v":""},{"$f":"IF($GC168<>\"\",EW168-DX168,\"\")","v":""},{"$f":"IF($GC168<>\"\",EX168-DY168,\"\")","v":""},{"$f":"IF($GC168<>\"\",EY168-DZ168,\"\")","v":""},{"$f":"IF($GC168<>\"\",EZ168-EA168,\"\")","v":""},{"$f":"IF($GC168<>\"\",FA168-EB168,\"\")","v":""},{"$f":"IF($GC168<>\"\",FB168-EC168,\"\")","v":""},{"$f":"IF($GC168<>\"\",FC168-ED168,\"\")","v":""},null,{"$f":"IF(Programs!$D$253=\"\",\"\",Programs!$D$253)","v":""},{"$f":"IF(AND(COUNT(D168:BE168)>48,COUNT(BF168:DG168)>48),GB168,\"\")","v":""},{"$f":"IF($GC168=\"\",\"\",(IF(FE168<0,$GC168,\"\")))","v":""},{"$f":"IF($GC168=\"\",\"\",(IF(FF168<0,$GC168,\"\")))","v":""},{"$f":"IF($GC168=\"\",\"\",(IF(FG168<0,$GC168,\"\")))","v":""},"","","","","","","","","","","","","","","","","","","",null,"","","","","","","","","","","","","","","","","","",""]
[null,{"$f":"Programs!B265","v":0},{"$f":"IF(Programs!$C$253=\"\",\"\",Programs!$C$253)","v":""},null,null,null,null,null,null,null,null,null,null,null,null,null,null,null,null,null,null,null,null,null,null,null,null,null,null,null,null,null,null,null,null,null,null,null,null,null,null,null,null,null,null,null,null,null,null,null,null,null,null,null,null,null,null,null,null,null,null,null,null,null,null,null,null,null,null,null,null,null,null,null,null,null,null,null,null,null,null,null,null,null,null,null,null,null,null,null,null,null,null,null,null,null,null,null,null,null,null,null,null,null,null,null,null,null,null,null,null,null,0,null,null,0,0,0,0,0,0,0,0,0,0,0,0,0,0,0,0,0,0,0,null,null,null,0,null,null,0,0,0,0,0,0,0,0,0,0,0,0,0,0,0,0,0,0,0,null,"","",null,"","","","","","","","","","","","","","","","","","","",null,{"$f":"IF(Programs!$D$253=\"\",\"\",Programs!$D$253)","v":""},"","","","","","","","","","","","","","","","","","","","","","","",null,"","","","","","","","","","","","","","","","","","",""]
[null,{"$f":"Programs!B266","v":0},{"$f":"IF(Programs!$C$253=\"\",\"\",Programs!$C$253)","v":""},null,null,null,null,null,null,null,null,null,null,null,null,null,null,null,null,null,null,null,null,null,null,null,null,null,null,null,null,null,null,null,null,null,null,null,null,null,null,null,null,null,null,null,null,null,null,null,null,null,null,null,null,null,null,null,null,null,null,null,null,null,null,null,null,null,null,null,null,null,null,null,null,null,null,null,null,null,null,null,null,null,null,null,null,null,null,null,null,null,null,null,null,null,null,null,null,null,null,null,null,null,null,null,null,null,null,null,null,null,0,null,null,0,0,0,0,0,0,0,0,0,0,0,0,0,0,0,0,0,0,0,null,null,null,0,null,null,0,0,0,0,0,0,0,0,0,0,0,0,0,0,0,0,0,0,0,null,"","",null,"","","","","","","","","","","","","","","","","","","",null,{"$f":"IF(Programs!$D$253=\"\",\"\",Programs!$D$253)","v":""},"","","","","","","","","","","","","","","","","","","","","","","",null,"","","","","","","","","","","","","","","","","","",""]
[null,{"$f":"Programs!B267","v":0},{"$f":"IF(Programs!$C$253=\"\",\"\",Programs!$C$253)","v":""},null,null,null,null,null,null,null,null,null,null,null,null,null,null,null,null,null,null,null,null,null,null,null,null,null,null,null,null,null,null,null,null,null,null,null,null,null,null,null,null,null,null,null,null,null,null,null,null,null,null,null,null,null,null,null,null,null,null,null,null,null,null,null,null,null,null,null,null,null,null,null,null,null,null,null,null,null,null,null,null,null,null,null,null,null,null,null,null,null,null,null,null,null,null,null,null,null,null,null,null,null,null,null,null,null,null,null,null,null,0,null,null,0,0,0,0,0,0,0,0,0,0,0,0,0,0,0,0,0,0,0,null,null,null,0,null,null,0,0,0,0,0,0,0,0,0,0,0,0,0,0,0,0,0,0,0,null,"","",null,"","","","","","","","","","","","","","","","","","","",null,{"$f":"IF(Programs!$D$253=\"\",\"\",Programs!$D$253)","v":""},"","","","","","","","","","","","","","","","","","","","","","","",null,"","","","","","","","","","","","","","","","","","",""]
["Program 15",{"$f":"Programs!B275","v":0},{"$f":"IF(Programs!$C$272=\"\",\"\",Programs!$C$272)","v":""},null,null,null,null,null,null,null,null,null,null,null,null,null,null,null,null,null,null,null,null,null,null,null,null,null,null,null,null,null,null,null,null,null,null,null,null,null,null,null,null,null,null,null,null,null,null,null,null,null,null,null,null,null,null,null,null,null,null,null,null,null,null,null,null,null,null,null,null,null,null,null,null,null,null,null,null,null,null,null,null,null,null,null,null,null,null,null,null,null,null,null,null,null,null,null,null,null,null,null,null,null,null,null,null,null,null,null,null,null,0,null,null,0,0,0,0,0,0,0,0,0,0,0,0,0,0,0,0,0,0,0,null,null,null,0,null,null,0,0,0,0,0,0,0,0,0,0,0,0,0,0,0,0,0,0,0,null,"","",null,"","","","","","","","","","","","","","","","","","","",null,{"$f":"IF(Programs!$D$272=\"\",\"\",Programs!$D$272)","v":""},"","","","","","","","","","","","","","","","","","","","","","","",null,"","","","","","","","","","","","","","","","","","",""]
[null,{"$f":"Programs!B276","v":0},{"$f":"IF(Programs!$C$272=\"\",\"\",Programs!$C$272)","v":""},null,null,null,null,null,null,null,null,null,null,null,null,null,null,null,null,null,null,null,null,null,null,null,null,null,null,null,null,null,null,null,null,null,null,null,null,null,null,null,null,null,null,null,null,null,null,null,null,null,null,null,null,null,null,null,null,null,null,null,null,null,null,null,null,null,null,null,null,null,null,null,null,null,null,null,null,null,null,null,null,null,null,null,null,null,null,null,null,null,null,null,null,null,null,null,null,null,null,null,null,null,null,null,null,null,null,null,null,null,0,null,null,0,0,0,0,0,0,0,0,0,0,0,0,0,0,0,0,0,0,0,null,null,null,0,null,null,0,0,0,0,0,0,0,0,0,0,0,0,0,0,0,0,0,0,0,null,"","",null,"","","","","","","","","","","","","","","","","","","",null,{"$f":"IF(Programs!$D$272=\"\",\"\",Programs!$D$272)","v":""},"","","","","","","","","","","","","","","","","","","","","","","",null,"","","","","","","","","","","","","","","","","","",""]
[null,{"$f":"Programs!B277","v":0},{"$f":"IF(Programs!$C$272=\"\",\"\",Programs!$C$272)","v":""},null,null,null,null,null,null,null,null,null,null,null,null,null,null,null,null,null,null,null,null,null,null,null,null,null,null,null,null,null,null,null,null,null,null,null,null,null,null,null,null,null,null,null,null,null,null,null,null,null,null,null,null,null,null,null,null,null,null,null,null,null,null,null,null,null,null,null,null,null,null,null,null,null,null,null,null,null,null,null,null,null,null,null,null,null,null,null,null,null,null,null,null,null,null,null,null,null,null,null,null,null,null,null,null,null,null,null,null,null,0,null,null,0,0,0,0,0,0,0,0,0,0,0,0,0,0,0,0,0,0,0,null,null,null,0,null,null,0,0,0,0,0,0,0,0,0,0,0,0,0,0,0,0,0,0,0,null,"","",null,"","","","","","","","","","","","","","","","","","","",null,{"$f":"IF(Programs!$D$272=\"\",\"\",Programs!$D$272)","v":""},"","","","","","","","","","","","","","","","","","","","","","","",null,"","","","","","","","","","","","","","","","","","",""]
[null,{"$f":"Programs!B278","v":0},{"$f":"IF(Programs!$C$272=\"\",\"\",Programs!$C$272)","v":""},null,null,null,null,null,null,null,null,null,null,null,null,null,null,null,null,null,null,null,null,null,null,null,null,null,null,null,null,null,null,null,null,null,null,null,null,null,null,null,null,null,null,null,null,null,null,null,null,null,null,null,null,null,null,null,null,null,null,null,null,null,null,null,null,null,null,null,null,null,null,null,null,null,null,null,null,null,null,null,null,null,null,null,null,null,null,null,null,null,null,null,null,null,null,null,null,null,null,null,null,null,null,null,null,null,null,null,null,null,0,null,null,0,0,0,0,0,0,0,0,0,0,0,0,0,0,0,0,0,0,0,null,null,null,0,null,null,0,0,0,0,0,0,0,0,0,0,0,0,0,0,0,0,0,0,0,null,"","",null,"","","","","","","","","","","","","","","","","","","",null,{"$f":"IF(Programs!$D$272=\"\",\"\",Programs!$D$272)","v":""},"","","","","","","","","","","","","","","","","","","","","","","",null,"","","","","","","","","","","","","","","","","","",""]
[null,{"$f":"Programs!B279","v":0},{"$f":"IF(Programs!$C$272=\"\",\"\",Programs!$C$272)","v":""},null,null,null,null,null,null,null,null,null,null,null,null,null,null,null,null,null,null,null,null,null,null,null,null,null,null,null,null,null,null,null,null,null,null,null,null,null,null,null,null,null,null,null,null,null,null,null,null,null,null,null,null,null,null,null,null,null,null,null,null,null,null,null,null,null,null,null,null,null,null,null,null,null,null,null,null,null,null,null,null,null,null,null,null,null,null,null,null,null,null,null,null,null,null,null,null,null,null,null,null,null,null,null,null,null,null,null,null,null,0,null,null,0,0,0,0,0,0,0,0,0,0,0,0,0,0,0,0,0,0,0,null,null,null,0,null,null,0,0,0,0,0,0,0,0,0,0,0,0,0,0,0,0,0,0,0,null,"","",null,"","","","","","","","","","","","","","","","","","","",null,{"$f":"IF(Programs!$D$272=\"\",\"\",Programs!$D$272)","v":""},"","","","","","","","","","","","","","","","","","","","","","","",null,"","","","","","","","","","","","","","","","","","",""]
[null,{"$f":"Programs!B280","v":0},{"$f":"IF(Programs!$C$272=\"\",\"\",Programs!$C$272)","v":""},null,null,null,null,null,null,null,null,null,null,null,null,null,null,null,null,null,null,null,null,null,null,null,null,null,null,null,null,null,null,null,null,null,null,null,null,null,null,null,null,null,null,null,null,null,null,null,null,null,null,null,null,null,null,null,null,null,null,null,null,null,null,null,null,null,null,null,null,null,null,null,null,null,null,null,null,null,null,null,null,null,null,null,null,null,null,null,null,null,null,null,null,null,null,null,null,null,null,null,null,null,null,null,null,null,null,null,null,null,0,null,null,0,0,0,0,0,0,0,0,0,0,0,0,0,0,0,0,0,0,0,null,null,null,0,null,null,0,0,0,0,0,0,0,0,0,0,0,0,0,0,0,0,0,0,0,null,"","",null,"","","","","","","","","","","","","","","","","","","",null,{"$f":"IF(Programs!$D$272=\"\",\"\",Programs!$D$272)","v":""},"","","","","","","","","","","","","","","","","","","","","","","",null,"","","","","","","","","","","","","","","","","","",""]
[null,{"$f":"Programs!B281","v":0},{"$f":"IF(Programs!$C$272=\"\",\"\",Programs!$C$272)","v":""},null,null,null,null,null,null,null,null,null,null,null,null,null,null,null,null,null,null,null,null,null,null,null,null,null,null,null,null,null,null,null,null,null,null,null,null,null,null,null,null,null,null,null,null,null,null,null,null,null,null,null,null,null,null,null,null,null,null,null,null,null,null,null,null,null,null,null,null,null,null,null,null,null,null,null,null,null,null,null,null,null,null,null,null,null,null,null,null,null,null,null,null,null,null,null,null,null,null,null,null,null,null,null,null,null,null,null,null,null,0,null,null,0,0,0,0,0,0,0,0,0,0,0,0,0,0,0,0,0,0,0,null,null,null,0,null,null,0,0,0,0,0,0,0,0,0,0,0,0,0,0,0,0,0,0,0,null,"","",null,"","","","","","","","","","","","","","","","","","","",null,{"$f":"IF(Programs!$D$272=\"\",\"\",Programs!$D$272)","v":""},"","","","","","","","","","","","","","","","","","","","","","","",null,"","","","","","","","","","","","","","","","","","",""]
[null,{"$f":"Programs!B282","v":0},{"$f":"IF(Programs!$C$272=\"\",\"\",Programs!$C$272)","v":""},null,null,null,null,null,null,null,null,null,null,null,null,null,null,null,null,null,null,null,null,null,null,null,null,null,null,null,null,null,null,null,null,null,null,null,null,null,null,null,null,null,null,null,null,null,null,null,null,null,null,null,null,null,null,null,null,null,null,null,null,null,null,null,null,null,null,null,null,null,null,null,null,null,null,null,null,null,null,null,null,null,null,null,null,null,null,null,null,null,null,null,null,null,null,null,null,null,null,null,null,null,null,null,null,null,null,null,null,null,0,null,null,0,0,0,0,0,0,0,0,0,0,0,0,0,0,0,0,0,0,0,null,null,null,0,null,null,0,0,0,0,0,0,0,0,0,0,0,0,0,0,0,0,0,0,0,null,"","",null,"","","","","","","","","","","","","","","","","","","",null,{"$f":"IF(Programs!$D$272=\"\",\"\",Programs!$D$272)","v":""},"","","","","","","","","","","","","","","","","","","","","","","",null,"","","","","","","","","","","","","","","","","","",""]
[null,{"$f":"Programs!B283","v":0},{"$f":"IF(Programs!$C$272=\"\",\"\",Programs!$C$272)","v":""},null,null,null,null,null,null,null,null,null,null,null,null,null,null,null,null,null,null,null,null,null,null,null,null,null,null,null,null,null,null,null,null,null,null,null,null,null,null,null,null,null,null,null,null,null,null,null,null,null,null,null,null,null,null,null,null,null,null,null,null,null,null,null,null,null,null,null,null,null,null,null,null,null,null,null,null,null,null,null,null,null,null,null,null,null,null,null,null,null,null,null,null,null,null,null,null,null,null,null,null,null,null,null,null,null,null,null,null,null,{"$f":"IF(SUM(G180,P180,W180,AD180,AH180,AO180,AV180,BB180)>0,(7-(SUM(G180,P180,W180,AD180,AH180,AO180,AV180,BB180)/8)),0)","v":0},null,null,{"$f":"SUM(F180,J180,M180,Y180,AE180,AN180,AS180,BC180,BE180)","v":0},{"$f":"DL180/9","v":0},{"$f":"SUM(I180,N180,X180,AB180,AC180,AM180,AP180,AU180,AW180,BA180)","v":0},{"$f":"DN180/10","v":0},{"$f":"SUM(H180,O180,Q180,T180,V180,AG180,AJ180,AQ180,AX180)","v":0},{"$f":"DP180/9","v":0},{"$f":"SUM(E180,K180,R180,U180,Z180,AF180,AI180,AL180,AT180,AZ180,BD180)","v":0},{"$f":"DR180/11","v":0},{"$f":"SUM(E180,I180,O180,U180,AF180,AN180,AQ180,AS180,AW180,BE180)","v":0},{"$f":"DT180/10","v":0},{"$f":"SUM(H180,M180,R180,V180,Z180,AE180,AI180,AM180,AU180,BA180)","v":0},{"$f":"DV180/10","v":0},{"$f":"SUM(F180,K180,Q180,X180,AC180,AJ180,AZ180,BC180)","v":0},{"$f":"DX180/8","v":0},{"$f":"SUM(J180,N180,T180,Y180,AB180,AG180,AL180,AP180,AT180,AX180,BD180)","v":0},{"$f":"DZ180/11","v":0},{"$f":"SUM(DU180,DW180)/2","v":0},{"$f":"SUM(DY180,EA180)/2","v":0},{"$f":"SUM(DM180,DO180,DQ180,DS180,DU180,DW180,DY180,EA180)/8","v":0},null,null,null,{"$f":"IF(SUM(BI180,BR180,BY180,CF180,CJ180,CQ180,CX180,DD180)>0,(7-(SUM(BI180,BR180,BY180,CF180,CJ180,CQ180,CX180,DD180)/8)),0)","v":0},null,null,{"$f":"SUM(BH180,BL180,BO180,CA180,CG180,CP180,CU180,DE180,DG180)","v":0},{"$f":"EK180/9","v":0},{"$f":"SUM(BK180,BP180,BZ180,CD180,CE180,CO180,CR180,CW180,CY180,DC180)","v":0},{"$f":"EM180/10","v":0},{"$f":"SUM(BJ180,BQ180,BS180,BV180,BX180,CI180,CL180,CS180,CZ180)","v":0},{"$f":"EO180/9","v":0},{"$f":"SUM(BG180,BM180,BT180,BW180,CB180,CH180,CK180,CN180,CV180,DB180,DF180)","v":0},{"$f":"EQ180/11","v":0},{"$f":"SUM(BG180,BK180,BQ180,BW180,CH180,CP180,CS180,CU180,CY180,DG180)","v":0},{"$f":"ES180/10","v":0},{"$f":"SUM(BJ180,BO180,BT180,BX180,CB180,CG180,CK180,CO180,CW180,DC180)","v":0},{"$f":"EU180/10","v":0},{"$f":"SUM(BH180,BM180,BS180,BZ180,CE180,CL180,DB180,DE180)","v":0},{"$f":"EW180/8","v":0},{"$f":"SUM(BL180,BP180,BV180,CA180,CD180,CI180,CN180,CR180,CV180,CZ180,DF180)","v":0},{"$f":"EY180/11","v":0},{"$f":"SUM(ET180,EV180)/2","v":0},{"$f":"SUM(EX180,EZ180)/2","v":0},{"$f":"SUM(EL180,EN180,EP180,ER180,ET180,EV180,EX180,EZ180)/8","v":0},null,{"$f":"IF($GC180<>\"\",EH180-DI180,\"\")","v":""},{"$f":"IF($GC180<>\"\",EI180-DJ180,\"\")","v":""},null,{"$f":"IF($GC180<>\"\",EK180-DL180,\"\")","v":""},{"$f":"IF($GC180<>\"\",EL180-DM180,\"\")","v":""},{"$f":"IF($GC180<>\"\",EM180-DN180,\"\")","v":""},{"$f":"IF($GC180<>\"\",EN180-DO180,\"\")","v":""},{"$f":"IF($GC180<>\"\",EO180-DP180,\"\")","v":""},{"$f":"IF($GC180<>\"\",EP180-DQ180,\"\")","v":""},{"$f":"IF($GC180<>\"\",EQ180-DR180,\"\")","v":""},{"$f":"IF($GC180<>\"\",ER180-DS180,\"\")","v":""},{"$f":"IF($GC180<>\"\",ES180-DT180,\"\")","v":""},{"$f":"IF($GC180<>\"\",ET180-DU180,\"\")","v":""},{"$f":"IF($GC180<>\"\",EU180-DV180,\"\")","v":""},{"$f":"IF($GC180<>\"\",EV180-DW180,\"\")","v":""},{"$f":"IF($GC180<>\"\",EW180-DX180,\"\")","v":""},{"$f":"IF($GC180<>\"\",EX180-DY180,\"\")","v":""},{"$f":"IF($GC180<>\"\",EY180-DZ180,\"\")","v":""},{"$f":"IF($GC180<>\"\",EZ180-EA180,\"\")","v":""},{"$f":"IF($GC180<>\"\",FA180-EB180,\"\")","v":""},{"$f":"IF($GC180<>\"\",FB180-EC180,\"\")","v":""},{"$f":"IF($GC180<>\"\",FC180-ED180,\"\")","v":""},null,{"$f":"IF(Programs!$D$272=\"\",\"\",Programs!$D$272)","v":""},{"$f":"IF(AND(COUNT(D180:BE180)>48,COUNT(BF180:DG180)>48),GB180,\"\")","v":""},{"$f":"IF($GC180=\"\",\"\",(IF(FE180<0,$GC180,\"\")))","v":""},{"$f":"IF($GC180=\"\",\"\",(IF(FF180<0,$GC180,\"\")))","v":""},{"$f":"IF($GC180=\"\",\"\",(IF(FG180<0,$GC180,\"\")))","v":""},"","","","","","","","","","","","","","","","","","","",null,"","","","","","","","","","","","","","","","","","",""]
[null,{"$f":"Programs!B284","v":0},{"$f":"IF(Programs!$C$272=\"\",\"\",Programs!$C$272)","v":""},null,null,null,null,null,null,null,null,null,null,null,null,null,null,null,null,null,null,null,null,null,null,null,null,null,null,null,null,null,null,null,null,null,null,null,null,null,null,null,null,null,null,null,null,null,null,null,null,null,null,null,null,null,null,null,null,null,null,null,null,null,null,null,null,null,null,null,null,null,null,null,null,null,null,null,null,null,null,null,null,null,null,null,null,null,null,null,null,null,null,null,null,null,null,null,null,null,null,null,null,null,null,null,null,null,null,null,null,null,0,null,null,0,0,0,0,0,0,0,0,0,0,0,0,0,0,0,0,0,0,0,null,null,null,0,null,null,0,0,0,0,0,0,0,0,0,0,0,0,0,0,0,0,0,0,0,null,"","",null,"","","","","","","","","","","","","","","","","","","",null,{"$f":"IF(Programs!$D$272=\"\",\"\",Programs!$D$272)","v":""},"","","","","","","","","","","","","","","","","","","","","","","",null,"","","","","","","","","","","","","","","","","","",""]
[null,{"$f":"Programs!B285","v":0},{"$f":"IF(Programs!$C$272=\"\",\"\",Programs!$C$272)","v":""},null,null,null,null,null,null,null,null,null,null,null,null,null,null,null,null,null,null,null,null,null,null,null,null,null,null,null,null,null,null,null,null,null,null,null,null,null,null,null,null,null,null,null,null,null,null,null,null,null,null,null,null,null,null,null,null,null,null,null,null,null,null,null,null,null,null,null,null,null,null,null,null,null,null,null,null,null,null,null,null,null,null,null,null,null,null,null,null,null,null,null,null,null,null,null,null,null,null,null,null,null,null,null,null,null,null,null,null,null,0,null,null,0,0,0,0,0,0,0,0,0,0,0,0,0,0,0,0,0,0,0,null,null,null,0,null,null,0,0,0,0,0,0,0,0,0,0,0,0,0,0,0,0,0,0,0,null,"","",null,"","","","","","","","","","","","","","","","","","","",null,{"$f":"IF(Programs!$D$272=\"\",\"\",Programs!$D$272)","v":""},"","","","","","","","","","","","","","","","","","","","","","","",null,"","","","","","","","","","","","","","","","","","",""]
[null,{"$f":"Programs!B286","v":0},{"$f":"IF(Programs!$C$272=\"\",\"\",Programs!$C$272)","v":""},null,null,null,null,null,null,null,null,null,null,null,null,null,null,null,null,null,null,null,null,null,null,null,null,null,null,null,null,null,null,null,null,null,null,null,null,null,null,null,null,null,null,null,null,null,null,null,null,null,null,null,null,null,null,null,null,null,null,null,null,null,null,null,null,null,null,null,null,null,null,null,null,null,null,null,null,null,null,null,null,null,null,null,null,null,null,null,null,null,null,null,null,null,null,null,null,null,null,null,null,null,null,null,null,null,null,null,null,null,0,null,null,0,0,0,0,0,0,0,0,0,0,0,0,0,0,0,0,0,0,0,null,null,null,0,null,null,0,0,0,0,0,0,0,0,0,0,0,0,0,0,0,0,0,0,0,null,"","",null,"","","","","","","","","","","","","","","","","","","",null,{"$f":"IF(Programs!$D$272=\"\",\"\",Programs!$D$272)","v":""},"","","","","","","","","","","","","","","","","","","","","","","",null,"","","","","","","","","","","","","","","","","","",""]
["Program 16",{"$f":"Programs!B294","v":0},{"$f":"IF(Programs!$C$291=\"\",\"\",Programs!$C$291)","v":""},null,null,null,null,null,null,null,null,null,null,null,null,null,null,null,null,null,null,null,null,null,null,null,null,null,null,null,null,null,null,null,null,null,null,null,null,null,null,null,null,null,null,null,null,null,null,null,null,null,null,null,null,null,null,null,null,null,null,null,null,null,null,null,null,null,null,null,null,null,null,null,null,null,null,null,null,null,null,null,null,null,null,null,null,null,null,null,null,null,null,null,null,null,null,null,null,null,null,null,null,null,null,null,null,null,null,null,null,null,0,null,null,0,0,0,0,0,0,0,0,0,0,0,0,0,0,0,0,0,0,0,null,null,null,0,null,null,0,0,0,0,0,0,0,0,0,0,0,0,0,0,0,0,0,0,0,null,"","",null,"","","","","","","","","","","","","","","","","","","",null,{"$f":"IF(Programs!$D$291=\"\",\"\",Programs!$D$291)","v":""},"","","","","","","","","","","","","","","","","","","","","","","",null,"","","","","","","","","","","","","","","","","","",""]
[null,{"$f":"Programs!B295","v":0},{"$f":"IF(Programs!$C$291=\"\",\"\",Programs!$C$291)","v":""},null,null,null,null,null,null,null,null,null,null,null,null,null,null,null,null,null,null,null,null,null,null,null,null,null,null,null,null,null,null,null,null,null,null,null,null,null,null,null,null,null,null,null,null,null,null,null,null,null,null,null,null,null,null,null,null,null,null,null,null,null,null,null,null,null,null,null,null,null,null,null,null,null,null,null,null,null,null,null,null,null,null,null,null,null,null,null,null,null,null,null,null,null,null,null,null,null,null,null,null,null,null,null,null,null,null,null,null,null,0,null,null,0,0,0,0,0,0,0,0,0,0,0,0,0,0,0,0,0,0,0,null,null,null,0,null,null,0,0,0,0,0,0,0,0,0,0,0,0,0,0,0,0,0,0,0,null,"","",null,"","","","","","","","","","","","","","","","","","","",null,{"$f":"IF(Programs!$D$291=\"\",\"\",Programs!$D$291)","v":""},"","","","","","","","","","","","","","","","","","","","","","","",null,"","","","","","","","","","","","","","","","","","",""]
[null,{"$f":"Programs!B296","v":0},{"$f":"IF(Programs!$C$291=\"\",\"\",Programs!$C$291)","v":""},null,null,null,null,null,null,null,null,null,null,null,null,null,null,null,null,null,null,null,null,null,null,null,null,null,null,null,null,null,null,null,null,null,null,null,null,null,null,null,null,null,null,null,null,null,null,null,null,null,null,null,null,null,null,null,null,null,null,null,null,null,null,null,null,null,null,null,null,null,null,null,null,null,null,null,null,null,null,null,null,null,null,null,null,null,null,null,null,null,null,null,null,null,null,null,null,null,null,null,null,null,null,null,null,null,null,null,null,null,0,null,null,0,0,0,0,0,0,0,0,0,0,0,0,0,0,0,0,0,0,0,null,null,null,0,null,null,0,0,0,0,0,0,0,0,0,0,0,0,0,0,0,0,0,0,0,null,"","",null,"","","","","","","","","","","","","","","","","","","",null,{"$f":"IF(Programs!$D$291=\"\",\"\",Programs!$D$291)","v":""},"","","","","","","","","","","","","","","","","","","","","","","",null,"","","","","","","","","","","","","","","","","","",""]
[null,{"$f":"Programs!B297","v":0},{"$f":"IF(Programs!$C$291=\"\",\"\",Programs!$C$291)","v":""},null,null,null,null,null,null,null,null,null,null,null,null,null,null,null,null,null,null,null,null,null,null,null,null,null,null,null,null,null,null,null,null,null,null,null,null,null,null,null,null,null,null,null,null,null,null,null,null,null,null,null,null,null,null,null,null,null,null,null,null,null,null,null,null,null,null,null,null,null,null,null,null,null,null,null,null,null,null,null,null,null,null,null,null,null,null,null,null,null,null,null,null,null,null,null,null,null,null,null,null,null,null,null,null,null,null,null,null,null,0,null,null,0,0,0,0,0,0,0,0,0,0,0,0,0,0,0,0,0,0,0,null,null,null,0,null,null,0,0,0,0,0,0,0,0,0,0,0,0,0,0,0,0,0,0,0,null,"","",null,"","","","","","","","","","","","","","","","","","","",null,{"$f":"IF(Programs!$D$291=\"\",\"\",Programs!$D$291)","v":""},"","","","","","","","","","","","","","","","","","","","","","","",null,"","","","","","","","","","","","","","","","","","",""]
[null,{"$f":"Programs!B298","v":0},{"$f":"IF(Programs!$C$291=\"\",\"\",Programs!$C$291)","v":""},null,null,null,null,null,null,null,null,null,null,null,null,null,null,null,null,null,null,null,null,null,null,null,null,null,null,null,null,null,null,null,null,null,null,null,null,null,null,null,null,null,null,null,null,null,null,null,null,null,null,null,null,null,null,null,null,null,null,null,null,null,null,null,null,null,null,null,null,null,null,null,null,null,null,null,null,null,null,null,null,null,null,null,null,null,null,null,null,null,null,null,null,null,null,null,null,null,null,null,null,null,null,null,null,null,null,null,null,null,0,null,null,0,0,0,0,0,0,0,0,0,0,0,0,0,0,0,0,0,0,0,null,null,null,0,null,null,0,0,0,0,0,0,0,0,0,0,0,0,0,0,0,0,0,0,0,null,"","",null,"","","","","","","","","","","","","","","","","","","",null,{"$f":"IF(Programs!$D$291=\"\",\"\",Programs!$D$291)","v":""},"","","","","","","","","","","","","","","","","","","","","","","",null,"","","","","","","","","","","","","","","","","","",""]
[null,{"$f":"Programs!B299","v":0},{"$f":"IF(Programs!$C$291=\"\",\"\",Programs!$C$291)","v":""},null,null,null,null,null,null,null,null,null,null,null,null,null,null,null,null,null,null,null,null,null,null,null,null,null,null,null,null,null,null,null,null,null,null,null,null,null,null,null,null,null,null,null,null,null,null,null,null,null,null,null,null,null,null,null,null,null,null,null,null,null,null,null,null,null,null,null,null,null,null,null,null,null,null,null,null,null,null,null,null,null,null,null,null,null,null,null,null,null,null,null,null,null,null,null,null,null,null,null,null,null,null,null,null,null,null,null,null,null,0,null,null,0,0,0,0,0,0,0,0,0,0,0,0,0,0,0,0,0,0,0,null,null,null,0,null,null,0,0,0,0,0,0,0,0,0,0,0,0,0,0,0,0,0,0,0,null,"","",null,"","","","","","","","","","","","","","","","","","","",null,{"$f":"IF(Programs!$D$291=\"\",\"\",Programs!$D$291)","v":""},"","","","","","","","","","","","","","","","","","","","","","","",null,"","","","","","","","","","","","","","","","","","",""]
[null,{"$f":"Programs!B300","v":0},{"$f":"IF(Programs!$C$291=\"\",\"\",Programs!$C$291)","v":""},null,null,null,null,null,null,null,null,null,null,null,null,null,null,null,null,null,null,null,null,null,null,null,null,null,null,null,null,null,null,null,null,null,null,null,null,null,null,null,null,null,null,null,null,null,null,null,null,null,null,null,null,null,null,null,null,null,null,null,null,null,null,null,null,null,null,null,null,null,null,null,null,null,null,null,null,null,null,null,null,null,null,null,null,null,null,null,null,null,null,null,null,null,null,null,null,null,null,null,null,null,null,null,null,null,null,null,null,null,0,null,null,0,0,0,0,0,0,0,0,0,0,0,0,0,0,0,0,0,0,0,null,null,null,0,null,null,0,0,0,0,0,0,0,0,0,0,0,0,0,0,0,0,0,0,0,null,"","",null,"","","","","","","","","","","","","","","","","","","",null,{"$f":"IF(Programs!$D$291=\"\",\"\",Programs!$D$291)","v":""},"","","","","","","","","","","","","","","","","","","","","","","",null,"","","","","","","","","","","","","","","","","","",""]
[null,{"$f":"Programs!B301","v":0},{"$f":"IF(Programs!$C$291=\"\",\"\",Programs!$C$291)","v":""},null,null,null,null,null,null,null,null,null,null,null,null,null,null,null,null,null,null,null,null,null,null,null,null,null,null,null,null,null,null,null,null,null,null,null,null,null,null,null,null,null,null,null,null,null,null,null,null,null,null,null,null,null,null,null,null,null,null,null,null,null,null,null,null,null,null,null,null,null,null,null,null,null,null,null,null,null,null,null,null,null,null,null,null,null,null,null,null,null,null,null,null,null,null,null,null,null,null,null,null,null,null,null,null,null,null,null,null,null,0,null,null,0,0,0,0,0,0,0,0,0,0,0,0,0,0,0,0,0,0,0,null,null,null,0,null,null,0,0,0,0,0,0,0,0,0,0,0,0,0,0,0,0,0,0,0,null,"","",null,"","","","","","","","","","","","","","","","","","","",null,{"$f":"IF(Programs!$D$291=\"\",\"\",Programs!$D$291)","v":""},"","","","","","","","","","","","","","","","","","","","","","","",null,"","","","","","","","","","","","","","","","","","",""]
[null,{"$f":"Programs!B302","v":0},{"$f":"IF(Programs!$C$291=\"\",\"\",Programs!$C$291)","v":""},null,null,null,null,null,null,null,null,null,null,null,null,null,null,null,null,null,null,null,null,null,null,null,null,null,null,null,null,null,null,null,null,null,null,null,null,null,null,null,null,null,null,null,null,null,null,null,null,null,null,null,null,null,null,null,null,null,null,null,null,null,null,null,null,null,null,null,null,null,null,null,null,null,null,null,null,null,null,null,null,null,null,null,null,null,null,null,null,null,null,null,null,null,null,null,null,null,null,null,null,null,null,null,null,null,null,null,null,null,{"$f":"IF(SUM(G192,P192,W192,AD192,AH192,AO192,AV192,BB192)>0,(7-(SUM(G192,P192,W192,AD192,AH192,AO192,AV192,BB192)/8)),0)","v":0},null,null,{"$f":"SUM(F192,J192,M192,Y192,AE192,AN192,AS192,BC192,BE192)","v":0},{"$f":"DL192/9","v":0},{"$f":"SUM(I192,N192,X192,AB192,AC192,AM192,AP192,AU192,AW192,BA192)","v":0},{"$f":"DN192/10","v":0},{"$f":"SUM(H192,O192,Q192,T192,V192,AG192,AJ192,AQ192,AX192)","v":0},{"$f":"DP192/9","v":0},{"$f":"SUM(E192,K192,R192,U192,Z192,AF192,AI192,AL192,AT192,AZ192,BD192)","v":0},{"$f":"DR192/11","v":0},{"$f":"SUM(E192,I192,O192,U192,AF192,AN192,AQ192,AS192,AW192,BE192)","v":0},{"$f":"DT192/10","v":0},{"$f":"SUM(H192,M192,R192,V192,Z192,AE192,AI192,AM192,AU192,BA192)","v":0},{"$f":"DV192/10","v":0},{"$f":"SUM(F192,K192,Q192,X192,AC192,AJ192,AZ192,BC192)","v":0},{"$f":"DX192/8","v":0},{"$f":"SUM(J192,N192,T192,Y192,AB192,AG192,AL192,AP192,AT192,AX192,BD192)","v":0},{"$f":"DZ192/11","v":0},{"$f":"SUM(DU192,DW192)/2","v":0},{"$f":"SUM(DY192,EA192)/2","v":0},{"$f":"SUM(DM192,DO192,DQ192,DS192,DU192,DW192,DY192,EA192)/8","v":0},null,null,null,{"$f":"IF(SUM(BI192,BR192,BY192,CF192,CJ192,CQ192,CX192,DD192)>0,(7-(SUM(BI192,BR192,BY192,CF192,CJ192,CQ192,CX192,DD192)/8)),0)","v":0},null,null,{"$f":"SUM(BH192,BL192,BO192,CA192,CG192,CP192,CU192,DE192,DG192)","v":0},{"$f":"EK192/9","v":0},{"$f":"SUM(BK192,BP192,BZ192,CD192,CE192,CO192,CR192,CW192,CY192,DC192)","v":0},{"$f":"EM192/10","v":0},{"$f":"SUM(BJ192,BQ192,BS192,BV192,BX192,CI192,CL192,CS192,CZ192)","v":0},{"$f":"EO192/9","v":0},{"$f":"SUM(BG192,BM192,BT192,BW192,CB192,CH192,CK192,CN192,CV192,DB192,DF192)","v":0},{"$f":"EQ192/11","v":0},{"$f":"SUM(BG192,BK192,BQ192,BW192,CH192,CP192,CS192,CU192,CY192,DG192)","v":0},{"$f":"ES192/10","v":0},{"$f":"SUM(BJ192,BO192,BT192,BX192,CB192,CG192,CK192,CO192,CW192,DC192)","v":0},{"$f":"EU192/10","v":0},{"$f":"SUM(BH192,BM192,BS192,BZ192,CE192,CL192,DB192,DE192)","v":0},{"$f":"EW192/8","v":0},{"$f":"SUM(BL192,BP192,BV192,CA192,CD192,CI192,CN192,CR192,CV192,CZ192,DF192)","v":0},{"$f":"EY192/11","v":0},{"$f":"SUM(ET192,EV192)/2","v":0},{"$f":"SUM(EX192,EZ192)/2","v":0},{"$f":"SUM(EL192,EN192,EP192,ER192,ET192,EV192,EX192,EZ192)/8","v":0},null,{"$f":"IF($GC192<>\"\",EH192-DI192,\"\")","v":""},{"$f":"IF($GC192<>\"\",EI192-DJ192,\"\")","v":""},null,{"$f":"IF($GC192<>\"\",EK192-DL192,\"\")","v":""},{"$f":"IF($GC192<>\"\",EL192-DM192,\"\")","v":""},{"$f":"IF($GC192<>\"\",EM192-DN192,\"\")","v":""},{"$f":"IF($GC192<>\"\",EN192-DO192,\"\")","v":""},{"$f":"IF($GC192<>\"\",EO192-DP192,\"\")","v":""},{"$f":"IF($GC192<>\"\",EP192-DQ192,\"\")","v":""},{"$f":"IF($GC192<>\"\",EQ192-DR192,\"\")","v":""},{"$f":"IF($GC192<>\"\",ER192-DS192,\"\")","v":""},{"$f":"IF($GC192<>\"\",ES192-DT192,\"\")","v":""},{"$f":"IF($GC192<>\"\",ET192-DU192,\"\")","v":""},{"$f":"IF($GC192<>\"\",EU192-DV192,\"\")","v":""},{"$f":"IF($GC192<>\"\",EV192-DW192,\"\")","v":""},{"$f":"IF($GC192<>\"\",EW192-DX192,\"\")","v":""},{"$f":"IF($GC192<>\"\",EX192-DY192,\"\")","v":""},{"$f":"IF($GC192<>\"\",EY192-DZ192,\"\")","v":""},{"$f":"IF($GC192<>\"\",EZ192-EA192,\"\")","v":""},{"$f":"IF($GC192<>\"\",FA192-EB192,\"\")","v":""},{"$f":"IF($GC192<>\"\",FB192-EC192,\"\")","v":""},{"$f":"IF($GC192<>\"\",FC192-ED192,\"\")","v":""},null,{"$f":"IF(Programs!$D$291=\"\",\"\",Programs!$D$291)","v":""},{"$f":"IF(AND(COUNT(D192:BE192)>48,COUNT(BF192:DG192)>48),GB192,\"\")","v":""},{"$f":"IF($GC192=\"\",\"\",(IF(FE192<0,$GC192,\"\")))","v":""},{"$f":"IF($GC192=\"\",\"\",(IF(FF192<0,$GC192,\"\")))","v":""},{"$f":"IF($GC192=\"\",\"\",(IF(FG192<0,$GC192,\"\")))","v":""},"","","","","","","","","","","","","","","","","","","",null,"","","","","","","","","","","","","","","","","","",""]
[null,{"$f":"Programs!B303","v":0},{"$f":"IF(Programs!$C$291=\"\",\"\",Programs!$C$291)","v":""},null,null,null,null,null,null,null,null,null,null,null,null,null,null,null,null,null,null,null,null,null,null,null,null,null,null,null,null,null,null,null,null,null,null,null,null,null,null,null,null,null,null,null,null,null,null,null,null,null,null,null,null,null,null,null,null,null,null,null,null,null,null,null,null,null,null,null,null,null,null,null,null,null,null,null,null,null,null,null,null,null,null,null,null,null,null,null,null,null,null,null,null,null,null,null,null,null,null,null,null,null,null,null,null,null,null,null,null,null,0,null,null,0,0,0,0,0,0,0,0,0,0,0,0,0,0,0,0,0,0,0,null,null,null,0,null,null,0,0,0,0,0,0,0,0,0,0,0,0,0,0,0,0,0,0,0,null,"","",null,"","","","","","","","","","","","","","","","","","","",null,{"$f":"IF(Programs!$D$291=\"\",\"\",Programs!$D$291)","v":""},"","","","","","","","","","","","","","","","","","","","","","","",null,"","","","","","","","","","","","","","","","","","",""]
[null,{"$f":"Programs!B304","v":0},{"$f":"IF(Programs!$C$291=\"\",\"\",Programs!$C$291)","v":""},null,null,null,null,null,null,null,null,null,null,null,null,null,null,null,null,null,null,null,null,null,null,null,null,null,null,null,null,null,null,null,null,null,null,null,null,null,null,null,null,null,null,null,null,null,null,null,null,null,null,null,null,null,null,null,null,null,null,null,null,null,null,null,null,null,null,null,null,null,null,null,null,null,null,null,null,null,null,null,null,null,null,null,null,null,null,null,null,null,null,null,null,null,null,null,null,null,null,null,null,null,null,null,null,null,null,null,null,null,0,null,null,0,0,0,0,0,0,0,0,0,0,0,0,0,0,0,0,0,0,0,null,null,null,0,null,null,0,0,0,0,0,0,0,0,0,0,0,0,0,0,0,0,0,0,0,null,"","",null,"","","","","","","","","","","","","","","","","","","",null,{"$f":"IF(Programs!$D$291=\"\",\"\",Programs!$D$291)","v":""},"","","","","","","","","","","","","","","","","","","","","","","",null,"","","","","","","","","","","","","","","","","","",""]
[null,{"$f":"Programs!B305","v":0},{"$f":"IF(Programs!$C$291=\"\",\"\",Programs!$C$291)","v":""},null,null,null,null,null,null,null,null,null,null,null,null,null,null,null,null,null,null,null,null,null,null,null,null,null,null,null,null,null,null,null,null,null,null,null,null,null,null,null,null,null,null,null,null,null,null,null,null,null,null,null,null,null,null,null,null,null,null,null,null,null,null,null,null,null,null,null,null,null,null,null,null,null,null,null,null,null,null,null,null,null,null,null,null,null,null,null,null,null,null,null,null,null,null,null,null,null,null,null,null,null,null,null,null,null,null,null,null,null,0,null,null,0,0,0,0,0,0,0,0,0,0,0,0,0,0,0,0,0,0,0,null,null,null,0,null,null,0,0,0,0,0,0,0,0,0,0,0,0,0,0,0,0,0,0,0,null,"","",null,"","","","","","","","","","","","","","","","","","","",null,{"$f":"IF(Programs!$D$291=\"\",\"\",Programs!$D$291)","v":""},"","","","","","","","","","","","","","","","","","","","","","","",null,"","","","","","","","","","","","","","","","","","",""]
["Program 17",{"$f":"Programs!B313","v":0},{"$f":"IF(Programs!$C$310=\"\",\"\",Programs!$C$310)","v":""},null,null,null,null,null,null,null,null,null,null,null,null,null,null,null,null,null,null,null,null,null,null,null,null,null,null,null,null,null,null,null,null,null,null,null,null,null,null,null,null,null,null,null,null,null,null,null,null,null,null,null,null,null,null,null,null,null,null,null,null,null,null,null,null,null,null,null,null,null,null,null,null,null,null,null,null,null,null,null,null,null,null,null,null,null,null,null,null,null,null,null,null,null,null,null,null,null,null,null,null,null,null,null,null,null,null,null,null,null,0,null,null,0,0,0,0,0,0,0,0,0,0,0,0,0,0,0,0,0,0,0,null,null,null,{"$f":"IF(SUM(BI196,BR196,BY196,CF196,CJ196,CQ196,CX196,DD196)>0,(7-(SUM(BI196,BR196,BY196,CF196,CJ196,CQ196,CX196,DD196)/8)),0)","v":0},null,null,{"$f":"SUM(BH196,BL196,BO196,CA196,CG196,CP196,CU196,DE196,DG196)","v":0},0,{"$f":"SUM(BK196,BP196,BZ196,CD196,CE196,CO196,CR196,CW196,CY196,DC196)","v":0},0,{"$f":"SUM(BJ196,BQ196,BS196,BV196,BX196,CI196,CL196,CS196,CZ196)","v":0},0,{"$f":"SUM(BG196,BM196,BT196,BW196,CB196,CH196,CK196,CN196,CV196,DB196,DF196)","v":0},0,{"$f":"SUM(BG196,BK196,BQ196,BW196,CH196,CP196,CS196,CU196,CY196,DG196)","v":0},0,{"$f":"SUM(BJ196,BO196,BT196,BX196,CB196,CG196,CK196,CO196,CW196,DC196)","v":0},0,{"$f":"SUM(BH196,BM196,BS196,BZ196,CE196,CL196,DB196,DE196)","v":0},0,{"$f":"SUM(BL196,BP196,BV196,CA196,CD196,CI196,CN196,CR196,CV196,CZ196,DF196)","v":0},0,0,0,0,null,{"$f":"IF($GC196<>\"\",EH196-DI196,\"\")","v":""},{"$f":"IF($GC196<>\"\",EI196-DJ196,\"\")","v":""},null,{"$f":"IF($GC196<>\"\",EK196-DL196,\"\")","v":""},{"$f":"IF($GC196<>\"\",EL196-DM196,\"\")","v":""},{"$f":"IF($GC196<>\"\",EM196-DN196,\"\")","v":""},{"$f":"IF($GC196<>\"\",EN196-DO196,\"\")","v":""},{"$f":"IF($GC196<>\"\",EO196-DP196,\"\")","v":""},{"$f":"IF($GC196<>\"\",EP196-DQ196,\"\")","v":""},{"$f":"IF($GC196<>\"\",EQ196-DR196,\"\")","v":""},{"$f":"IF($GC196<>\"\",ER196-DS196,\"\")","v":""},{"$f":"IF($GC196<>\"\",ES196-DT196,\"\")","v":""},{"$f":"IF($GC196<>\"\",ET196-DU196,\"\")","v":""},{"$f":"IF($GC196<>\"\",EU196-DV196,\"\")","v":""},{"$f":"IF($GC196<>\"\",EV196-DW196,\"\")","v":""},{"$f":"IF($GC196<>\"\",EW196-DX196,\"\")","v":""},{"$f":"IF($GC196<>\"\",EX196-DY196,\"\")","v":""},{"$f":"IF($GC196<>\"\",EY196-DZ196,\"\")","v":""},{"$f":"IF($GC196<>\"\",EZ196-EA196,\"\")","v":""},{"$f":"IF($GC196<>\"\",FA196-EB196,\"\")","v":""},{"$f":"IF($GC196<>\"\",FB196-EC196,\"\")","v":""},{"$f":"IF($GC196<>\"\",FC196-ED196,\"\")","v":""},null,{"$f":"IF(Programs!$D$310=\"\",\"\",Programs!$D$310)","v":""},"",{"$f":"IF($GC196=\"\",\"\",(IF(FE196<0,$GC196,\"\")))","v":""},{"$f":"IF($GC196=\"\",\"\",(IF(FF196<0,$GC196,\"\")))","v":""},{"$f":"IF($GC196=\"\",\"\",(IF(FG196<0,$GC196,\"\")))","v":""},"","","","","","","","","","","","","","","","","","","",null,"","","","","","","","","","","","","","","","","","",""]
[null,{"$f":"Programs!B314","v":0},{"$f":"IF(Programs!$C$310=\"\",\"\",Programs!$C$310)","v":""},null,null,null,null,null,null,null,null,null,null,null,null,null,null,null,null,null,null,null,null,null,null,null,null,null,null,null,null,null,null,null,null,null,null,null,null,null,null,null,null,null,null,null,null,null,null,null,null,null,null,null,null,null,null,null,null,null,null,null,null,null,null,null,null,null,null,null,null,null,null,null,null,null,null,null,null,null,null,null,null,null,null,null,null,null,null,null,null,null,null,null,null,null,null,null,null,null,null,null,null,null,null,null,null,null,null,null,null,null,0,null,null,0,0,0,0,0,0,0,0,0,0,0,0,0,0,0,0,0,0,0,null,null,null,0,null,null,0,0,0,0,0,0,0,0,0,0,0,0,0,0,0,0,0,0,0,null,"","",null,"","","","","","","","","","","","","","","","","","","",null,{"$f":"IF(Programs!$D$310=\"\",\"\",Programs!$D$310)","v":""},"","","","",{"$f":"IF($GC197=\"\",\"\",(IF(FH197<0,$GC197,\"\")))","v":""},{"$f":"IF($GC197=\"\",\"\",IF(FI197<0,$GC197,\"\"))","v":""},{"$f":"IF($GC197=\"\",\"\",(IF(FJ197<0,$GC197,\"\")))","v":""},{"$f":"IF($GC197=\"\",\"\",IF(FK197<0,$GC197,\"\"))","v":""},{"$f":"IF($GC197=\"\",\"\",(IF(FL197<0,$GC197,\"\")))","v":""},{"$f":"IF($GC197=\"\",\"\",IF(FM197<0,$GC197,\"\"))","v":""},{"$f":"IF($GC197=\"\",\"\",(IF(FN197<0,$GC197,\"\")))","v":""},{"$f":"IF($GC197=\"\",\"\",IF(FO197<0,$GC197,\"\"))","v":""},{"$f":"IF($GC197=\"\",\"\",(IF(FP197<0,$GC197,\"\")))","v":""},{"$f":"IF($GC197=\"\",\"\",IF(FQ197<0,$GC197,\"\"))","v":""},{"$f":"IF($GC197=\"\",\"\",(IF(FR197<0,$GC197,\"\")))","v":""},{"$f":"IF($GC197=\"\",\"\",IF(FS197<0,$GC197,\"\"))","v":""},{"$f":"IF($GC197=\"\",\"\",(IF(FT197<0,$GC197,\"\")))","v":""},{"$f":"IF($GC197=\"\",\"\",IF(FU197<0,$GC197,\"\"))","v":""},{"$f":"IF($GC197=\"\",\"\",(IF(FV197<0,$GC197,\"\")))","v":""},{"$f":"IF($GC197=\"\",\"\",IF(FW197<0,$GC197,\"\"))","v":""},{"$f":"IF($GC197=\"\",\"\",IF(FX197<0,$GC197,\"\"))","v":""},{"$f":"IF($GC197=\"\",\"\",IF(FY197<0,$GC197,\"\"))","v":""},{"$f":"IF($GC197=\"\",\"\",IF(FZ197<0,$GC197,\"\"))","v":""},null,{"$f":"IF($GC197=\"\",\"\",(IF(FH197>0,$GC197,\"\")))","v":""},{"$f":"IF($GC197=\"\",\"\",(IF(FI197>0,$GC197,\"\")))","v":""},{"$f":"IF($GC197=\"\",\"\",(IF(FJ197>0,$GC197,\"\")))","v":""},{"$f":"IF($GC197=\"\",\"\",(IF(FK197>0,$GC197,\"\")))","v":""},{"$f":"IF($GC197=\"\",\"\",(IF(FL197>0,$GC197,\"\")))","v":""},{"$f":"IF($GC197=\"\",\"\",(IF(FM197>0,$GC197,\"\")))","v":""},{"$f":"IF($GC197=\"\",\"\",(IF(FN197>0,$GC197,\"\")))","v":""},{"$f":"IF($GC197=\"\",\"\",(IF(FO197>0,$GC197,\"\")))","v":""},{"$f":"IF($GC197=\"\",\"\",(IF(FP197>0,$GC197,\"\")))","v":""},{"$f":"IF($GC197=\"\",\"\",(IF(FQ197>0,$GC197,\"\")))","v":""},{"$f":"IF($GC197=\"\",\"\",(IF(FR197>0,$GC197,\"\")))","v":""},{"$f":"IF($GC197=\"\",\"\",(IF(FS197>0,$GC197,\"\")))","v":""},{"$f":"IF($GC197=\"\",\"\",(IF(FT197>0,$GC197,\"\")))","v":""},{"$f":"IF($GC197=\"\",\"\",(IF(FU197>0,$GC197,\"\")))","v":""},{"$f":"IF($GC197=\"\",\"\",(IF(FV197>0,$GC197,\"\")))","v":""},{"$f":"IF($GC197=\"\",\"\",(IF(FW197>0,$GC197,\"\")))","v":""},{"$f":"IF($GC197=\"\",\"\",(IF(FX197>0,$GC197,\"\")))","v":""},{"$f":"IF($GC197=\"\",\"\",(IF(FY197>0,$GC197,\"\")))","v":""},{"$f":"IF($GC197=\"\",\"\",(IF(FZ197>0,$GC197,\"\")))","v":""}]
[null,{"$f":"Programs!B315","v":0},{"$f":"IF(Programs!$C$310=\"\",\"\",Programs!$C$310)","v":""},null,null,null,null,null,null,null,null,null,null,null,null,null,null,null,null,null,null,null,null,null,null,null,null,null,null,null,null,null,null,null,null,null,null,null,null,null,null,null,null,null,null,null,null,null,null,null,null,null,null,null,null,null,null,null,null,null,null,null,null,null,null,null,null,null,null,null,null,null,null,null,null,null,null,null,null,null,null,null,null,null,null,null,null,null,null,null,null,null,null,null,null,null,null,null,null,null,null,null,null,null,null,null,null,null,null,null,null,null,0,null,null,0,0,0,0,0,0,0,0,0,0,0,0,0,0,0,0,0,0,0,null,null,null,0,null,null,0,0,0,0,0,0,0,0,0,0,0,0,0,0,0,0,0,0,0,null,"","",null,"","","","","","","","","","","","","","","","","","","",null,{"$f":"IF(Programs!$D$310=\"\",\"\",Programs!$D$310)","v":""},"","","","","","","","","","","","","","","","","","","","","","","",null,"","","","","","","","","","","","","","","","","","",""]
[null,{"$f":"Programs!B316","v":0},{"$f":"IF(Programs!$C$310=\"\",\"\",Programs!$C$310)","v":""},null,null,null,null,null,null,null,null,null,null,null,null,null,null,null,null,null,null,null,null,null,null,null,null,null,null,null,null,null,null,null,null,null,null,null,null,null,null,null,null,null,null,null,null,null,null,null,null,null,null,null,null,null,null,null,null,null,null,null,null,null,null,null,null,null,null,null,null,null,null,null,null,null,null,null,null,null,null,null,null,null,null,null,null,null,null,null,null,null,null,null,null,null,null,null,null,null,null,null,null,null,null,null,null,null,null,null,null,null,0,null,null,0,0,0,0,0,0,0,0,0,0,0,0,0,0,0,0,0,0,0,null,null,null,0,null,null,0,0,0,0,0,0,0,0,0,0,0,0,0,0,0,0,0,0,0,null,"","",null,"","","","","","","","","","","","","","","","","","","",null,{"$f":"IF(Programs!$D$310=\"\",\"\",Programs!$D$310)","v":""},"","","","","","","","","","","","","","","","","","","","","","","",null,"","","","","","","","","","","","","","","","","","",""]
[null,{"$f":"Programs!B317","v":0},{"$f":"IF(Programs!$C$310=\"\",\"\",Programs!$C$310)","v":""},null,null,null,null,null,null,null,null,null,null,null,null,null,null,null,null,null,null,null,null,null,null,null,null,null,null,null,null,null,null,null,null,null,null,null,null,null,null,null,null,null,null,null,null,null,null,null,null,null,null,null,null,null,null,null,null,null,null,null,null,null,null,null,null,null,null,null,null,null,null,null,null,null,null,null,null,null,null,null,null,null,null,null,null,null,null,null,null,null,null,null,null,null,null,null,null,null,null,null,null,null,null,null,null,null,null,null,null,null,0,null,null,0,0,0,0,0,0,0,0,0,0,0,0,0,0,0,0,0,0,0,null,null,null,0,null,null,0,0,0,0,0,0,0,0,0,0,0,0,0,0,0,0,0,0,0,null,"","",null,"","","","","","","","","","","","","","","","","","","",null,{"$f":"IF(Programs!$D$310=\"\",\"\",Programs!$D$310)","v":""},"","","","","","","","","","","","","","","","","","","","","","","",null,"","","","","","","","","","","","","","","","","","",""]
[null,{"$f":"Programs!B318","v":0},{"$f":"IF(Programs!$C$310=\"\",\"\",Programs!$C$310)","v":""},null,null,null,null,null,null,null,null,null,null,null,null,null,null,null,null,null,null,null,null,null,null,null,null,null,null,null,null,null,null,null,null,null,null,null,null,null,null,null,null,null,null,null,null,null,null,null,null,null,null,null,null,null,null,null,null,null,null,null,null,null,null,null,null,null,null,null,null,null,null,null,null,null,null,null,null,null,null,null,null,null,null,null,null,null,null,null,null,null,null,null,null,null,null,null,null,null,null,null,null,null,null,null,null,null,null,null,null,null,0,null,null,0,0,0,0,0,0,0,0,0,0,0,0,0,0,0,0,0,0,0,null,null,null,0,null,null,0,0,0,0,0,0,0,0,0,0,0,0,0,0,0,0,0,0,0,null,"","",null,"","","","","","","","","","","","","","","","","","","",null,{"$f":"IF(Programs!$D$310=\"\",\"\",Programs!$D$310)","v":""},"","","","","","","","","","","","","","","","","","","","","","","",null,"","","","","","","","","","","","","","","","","","",""]
[null,{"$f":"Programs!B319","v":0},{"$f":"IF(Programs!$C$310=\"\",\"\",Programs!$C$310)","v":""},null,null,null,null,null,null,null,null,null,null,null,null,null,null,null,null,null,null,null,null,null,null,null,null,null,null,null,null,null,null,null,null,null,null,null,null,null,null,null,null,null,null,null,null,null,null,null,null,null,null,null,null,null,null,null,null,null,null,null,null,null,null,null,null,null,null,null,null,null,null,null,null,null,null,null,null,null,null,null,null,null,null,null,null,null,null,null,null,null,null,null,null,null,null,null,null,null,null,null,null,null,null,null,null,null,null,null,null,null,0,null,null,0,0,0,0,0,0,0,0,0,0,0,0,0,0,0,0,0,0,0,null,null,null,0,null,null,0,0,0,0,0,0,0,0,0,0,0,0,0,0,0,0,0,0,0,null,"","",null,"","","","","","","","","","","","","","","","","","","",null,{"$f":"IF(Programs!$D$310=\"\",\"\",Programs!$D$310)","v":""},"","","","","","","","","","","","","","","","","","","","","","","",null,"","","","","","","","","","","","","","","","","","",""]
[null,{"$f":"Programs!B320","v":0},{"$f":"IF(Programs!$C$310=\"\",\"\",Programs!$C$310)","v":""},null,null,null,null,null,null,null,null,null,null,null,null,null,null,null,null,null,null,null,null,null,null,null,null,null,null,null,null,null,null,null,null,null,null,null,null,null,null,null,null,null,null,null,null,null,null,null,null,null,null,null,null,null,null,null,null,null,null,null,null,null,null,null,null,null,null,null,null,null,null,null,null,null,null,null,null,null,null,null,null,null,null,null,null,null,null,null,null,null,null,null,null,null,null,null,null,null,null,null,null,null,null,null,null,null,null,null,null,null,0,null,null,0,0,0,0,0,0,0,0,0,0,0,0,0,0,0,0,0,0,0,null,null,null,0,null,null,0,0,0,0,0,0,0,0,0,0,0,0,0,0,0,0,0,0,0,null,"","",null,"","","","","","","","","","","","","","","","","","","",null,{"$f":"IF(Programs!$D$310=\"\",\"\",Programs!$D$310)","v":""},"","","","","","","","","","","","","","","","","","","","","","","",null,"","","","","","","","","","","","","","","","","","",""]
[null,{"$f":"Programs!B321","v":0},{"$f":"IF(Programs!$C$310=\"\",\"\",Programs!$C$310)","v":""},null,null,null,null,null,null,null,null,null,null,null,null,null,null,null,null,null,null,null,null,null,null,null,null,null,null,null,null,null,null,null,null,null,null,null,null,null,null,null,null,null,null,null,null,null,null,null,null,null,null,null,null,null,null,null,null,null,null,null,null,null,null,null,null,null,null,null,null,null,null,null,null,null,null,null,null,null,null,null,null,null,null,null,null,null,null,null,null,null,null,null,null,null,null,null,null,null,null,null,null,null,null,null,null,null,null,null,null,null,{"$f":"IF(SUM(G204,P204,W204,AD204,AH204,AO204,AV204,BB204)>0,(7-(SUM(G204,P204,W204,AD204,AH204,AO204,AV204,BB204)/8)),0)","v":0},null,null,{"$f":"SUM(F204,J204,M204,Y204,AE204,AN204,AS204,BC204,BE204)","v":0},{"$f":"DL204/9","v":0},{"$f":"SUM(I204,N204,X204,AB204,AC204,AM204,AP204,AU204,AW204,BA204)","v":0},{"$f":"DN204/10","v":0},{"$f":"SUM(H204,O204,Q204,T204,V204,AG204,AJ204,AQ204,AX204)","v":0},{"$f":"DP204/9","v":0},{"$f":"SUM(E204,K204,R204,U204,Z204,AF204,AI204,AL204,AT204,AZ204,BD204)","v":0},{"$f":"DR204/11","v":0},{"$f":"SUM(E204,I204,O204,U204,AF204,AN204,AQ204,AS204,AW204,BE204)","v":0},{"$f":"DT204/10","v":0},{"$f":"SUM(H204,M204,R204,V204,Z204,AE204,AI204,AM204,AU204,BA204)","v":0},{"$f":"DV204/10","v":0},{"$f":"SUM(F204,K204,Q204,X204,AC204,AJ204,AZ204,BC204)","v":0},{"$f":"DX204/8","v":0},{"$f":"SUM(J204,N204,T204,Y204,AB204,AG204,AL204,AP204,AT204,AX204,BD204)","v":0},{"$f":"DZ204/11","v":0},{"$f":"SUM(DU204,DW204)/2","v":0},{"$f":"SUM(DY204,EA204)/2","v":0},{"$f":"SUM(DM204,DO204,DQ204,DS204,DU204,DW204,DY204,EA204)/8","v":0},null,null,null,{"$f":"IF(SUM(BI204,BR204,BY204,CF204,CJ204,CQ204,CX204,DD204)>0,(7-(SUM(BI204,BR204,BY204,CF204,CJ204,CQ204,CX204,DD204)/8)),0)","v":0},null,null,{"$f":"SUM(BH204,BL204,BO204,CA204,CG204,CP204,CU204,DE204,DG204)","v":0},{"$f":"EK204/9","v":0},{"$f":"SUM(BK204,BP204,BZ204,CD204,CE204,CO204,CR204,CW204,CY204,DC204)","v":0},{"$f":"EM204/10","v":0},{"$f":"SUM(BJ204,BQ204,BS204,BV204,BX204,CI204,CL204,CS204,CZ204)","v":0},{"$f":"EO204/9","v":0},{"$f":"SUM(BG204,BM204,BT204,BW204,CB204,CH204,CK204,CN204,CV204,DB204,DF204)","v":0},{"$f":"EQ204/11","v":0},{"$f":"SUM(BG204,BK204,BQ204,BW204,CH204,CP204,CS204,CU204,CY204,DG204)","v":0},{"$f":"ES204/10","v":0},{"$f":"SUM(BJ204,BO204,BT204,BX204,CB204,CG204,CK204,CO204,CW204,DC204)","v":0},{"$f":"EU204/10","v":0},{"$f":"SUM(BH204,BM204,BS204,BZ204,CE204,CL204,DB204,DE204)","v":0},{"$f":"EW204/8","v":0},{"$f":"SUM(BL204,BP204,BV204,CA204,CD204,CI204,CN204,CR204,CV204,CZ204,DF204)","v":0},{"$f":"EY204/11","v":0},{"$f":"SUM(ET204,EV204)/2","v":0},{"$f":"SUM(EX204,EZ204)/2","v":0},{"$f":"SUM(EL204,EN204,EP204,ER204,ET204,EV204,EX204,EZ204)/8","v":0},null,{"$f":"IF($GC204<>\"\",EH204-DI204,\"\")","v":""},{"$f":"IF($GC204<>\"\",EI204-DJ204,\"\")","v":""},null,{"$f":"IF($GC204<>\"\",EK204-DL204,\"\")","v":""},{"$f":"IF($GC204<>\"\",EL204-DM204,\"\")","v":""},{"$f":"IF($GC204<>\"\",EM204-DN204,\"\")","v":""},{"$f":"IF($GC204<>\"\",EN204-DO204,\"\")","v":""},{"$f":"IF($GC204<>\"\",EO204-DP204,\"\")","v":""},{"$f":"IF($GC204<>\"\",EP204-DQ204,\"\")","v":""},{"$f":"IF($GC204<>\"\",EQ204-DR204,\"\")","v":""},{"$f":"IF($GC204<>\"\",ER204-DS204,\"\")","v":""},{"$f":"IF($GC204<>\"\",ES204-DT204,\"\")","v":""},{"$f":"IF($GC204<>\"\",ET204-DU204,\"\")","v":""},{"$f":"IF($GC204<>\"\",EU204-DV204,\"\")","v":""},{"$f":"IF($GC204<>\"\",EV204-DW204,\"\")","v":""},{"$f":"IF($GC204<>\"\",EW204-DX204,\"\")","v":""},{"$f":"IF($GC204<>\"\",EX204-DY204,\"\")","v":""},{"$f":"IF($GC204<>\"\",EY204-DZ204,\"\")","v":""},{"$f":"IF($GC204<>\"\",EZ204-EA204,\"\")","v":""},{"$f":"IF($GC204<>\"\",FA204-EB204,\"\")","v":""},{"$f":"IF($GC204<>\"\",FB204-EC204,\"\")","v":""},{"$f":"IF($GC204<>\"\",FC204-ED204,\"\")","v":""},null,{"$f":"IF(Programs!$D$310=\"\",\"\",Programs!$D$310)","v":""},{"$f":"IF(AND(COUNT(D204:BE204)>48,COUNT(BF204:DG204)>48),GB204,\"\")","v":""},{"$f":"IF($GC204=\"\",\"\",(IF(FE204<0,$GC204,\"\")))","v":""},{"$f":"IF($GC204=\"\",\"\",(IF(FF204<0,$GC204,\"\")))","v":""},{"$f":"IF($GC204=\"\",\"\",(IF(FG204<0,$GC204,\"\")))","v":""},"","","","","","","","","","","","","","","","","","","",null,"","","","","","","","","","","","","","","","","","",""]
[null,{"$f":"Programs!B322","v":0},{"$f":"IF(Programs!$C$310=\"\",\"\",Programs!$C$310)","v":""},null,null,null,null,null,null,null,null,null,null,null,null,null,null,null,null,null,null,null,null,null,null,null,null,null,null,null,null,null,null,null,null,null,null,null,null,null,null,null,null,null,null,null,null,null,null,null,null,null,null,null,null,null,null,null,null,null,null,null,null,null,null,null,null,null,null,null,null,null,null,null,null,null,null,null,null,null,null,null,null,null,null,null,null,null,null,null,null,null,null,null,null,null,null,null,null,null,null,null,null,null,null,null,null,null,null,null,null,null,0,null,null,0,0,0,0,0,0,0,0,0,0,0,0,0,0,0,0,0,0,0,null,null,null,0,null,null,0,0,0,0,0,0,0,0,0,0,0,0,0,0,0,0,0,0,0,null,"","",null,"","","","","","","","","","","","","","","","","","","",null,{"$f":"IF(Programs!$D$310=\"\",\"\",Programs!$D$310)","v":""},"","","","","","","","","","","","","","","","","","","","","","","",null,"","","","","","","","","","","","","","","","","","",""]
[null,{"$f":"Programs!B323","v":0},{"$f":"IF(Programs!$C$310=\"\",\"\",Programs!$C$310)","v":""},null,null,null,null,null,null,null,null,null,null,null,null,null,null,null,null,null,null,null,null,null,null,null,null,null,null,null,null,null,null,null,null,null,null,null,null,null,null,null,null,null,null,null,null,null,null,null,null,null,null,null,null,null,null,null,null,null,null,null,null,null,null,null,null,null,null,null,null,null,null,null,null,null,null,null,null,null,null,null,null,null,null,null,null,null,null,null,null,null,null,null,null,null,null,null,null,null,null,null,null,null,null,null,null,null,null,null,null,null,0,null,null,0,0,0,0,0,0,0,0,0,0,0,0,0,0,0,0,0,0,0,null,null,null,0,null,null,0,0,0,0,0,0,0,0,0,0,0,0,0,0,0,0,0,0,0,null,"","",null,"","","","","","","","","","","","","","","","","","","",null,{"$f":"IF(Programs!$D$310=\"\",\"\",Programs!$D$310)","v":""},"","","","","","","","","","","","","","","","","","","","","","","",null,"","","","","","","","","","","","","","","","","","",""]
[null,{"$f":"Programs!B324","v":0},{"$f":"IF(Programs!$C$310=\"\",\"\",Programs!$C$310)","v":""},null,null,null,null,null,null,null,null,null,null,null,null,null,null,null,null,null,null,null,null,null,null,null,null,null,null,null,null,null,null,null,null,null,null,null,null,null,null,null,null,null,null,null,null,null,null,null,null,null,null,null,null,null,null,null,null,null,null,null,null,null,null,null,null,null,null,null,null,null,null,null,null,null,null,null,null,null,null,null,null,null,null,null,null,null,null,null,null,null,null,null,null,null,null,null,null,null,null,null,null,null,null,null,null,null,null,null,null,null,0,null,null,0,0,0,0,0,0,0,0,0,0,0,0,0,0,0,0,0,0,0,null,null,null,0,null,null,0,0,0,0,0,0,0,0,0,0,0,0,0,0,0,0,0,0,0,null,"","",null,"","","","","","","","","","","","","","","","","","","",null,{"$f":"IF(Programs!$D$310=\"\",\"\",Programs!$D$310)","v":""},"","","","","","","","","","","","","","","","","","","","","","","",null,"","","","","","","","","","","","","","","","","","",""]
["Program 18",{"$f":"Programs!B332","v":0},{"$f":"IF(Programs!$C$329=\"\",\"\",Programs!$C$329)","v":""},null,null,null,null,null,null,null,null,null,null,null,null,null,null,null,null,null,null,null,null,null,null,null,null,null,null,null,null,null,null,null,null,null,null,null,null,null,null,null,null,null,null,null,null,null,null,null,null,null,null,null,null,null,null,null,null,null,null,null,null,null,null,null,null,null,null,null,null,null,null,null,null,null,null,null,null,null,null,null,null,null,null,null,null,null,null,null,null,null,null,null,null,null,null,null,null,null,null,null,null,null,null,null,null,null,null,null,null,null,0,null,null,0,0,0,0,0,0,0,0,0,0,0,0,0,0,0,0,0,0,0,null,null,null,0,null,null,0,0,0,0,0,0,0,0,0,0,0,0,0,0,0,0,0,0,0,null,"","",null,"","","","","","","","","","","","","","","","","","","",null,{"$f":"IF(Programs!$D$329=\"\",\"\",Programs!$D$329)","v":""},"","","","","","","","","","","","","","","","","","","","","","","",null,"","","","","","","","","","","","","","","","","","",""]
[null,{"$f":"Programs!B333","v":0},{"$f":"IF(Programs!$C$329=\"\",\"\",Programs!$C$329)","v":""},null,null,null,null,null,null,null,null,null,null,null,null,null,null,null,null,null,null,null,null,null,null,null,null,null,null,null,null,null,null,null,null,null,null,null,null,null,null,null,null,null,null,null,null,null,null,null,null,null,null,null,null,null,null,null,null,null,null,null,null,null,null,null,null,null,null,null,null,null,null,null,null,null,null,null,null,null,null,null,null,null,null,null,null,null,null,null,null,null,null,null,null,null,null,null,null,null,null,null,null,null,null,null,null,null,null,null,null,null,0,null,null,0,0,0,0,0,0,0,0,0,0,0,0,0,0,0,0,0,0,0,null,null,null,0,null,null,0,0,0,0,0,0,0,0,0,0,0,0,0,0,0,0,0,0,0,null,"","",null,"","","","","","","","","","","","","","","","","","","",null,{"$f":"IF(Programs!$D$329=\"\",\"\",Programs!$D$329)","v":""},"","","","","","","","","","","","","","","","","","","","","","","",null,"","","","","","","","","","","","","","","","","","",""]
[null,{"$f":"Programs!B334","v":0},{"$f":"IF(Programs!$C$329=\"\",\"\",Programs!$C$329)","v":""},null,null,null,null,null,null,null,null,null,null,null,null,null,null,null,null,null,null,null,null,null,null,null,null,null,null,null,null,null,null,null,null,null,null,null,null,null,null,null,null,null,null,null,null,null,null,null,null,null,null,null,null,null,null,null,null,null,null,null,null,null,null,null,null,null,null,null,null,null,null,null,null,null,null,null,null,null,null,null,null,null,null,null,null,null,null,null,null,null,null,null,null,null,null,null,null,null,null,null,null,null,null,null,null,null,null,null,null,null,0,null,null,0,0,0,0,0,0,0,0,0,0,0,0,0,0,0,0,0,0,0,null,null,null,0,null,null,0,0,0,0,0,0,0,0,0,0,0,0,0,0,0,0,0,0,0,null,"","",null,"","","","","","","","","","","","","","","","","","","",null,{"$f":"IF(Programs!$D$329=\"\",\"\",Programs!$D$329)","v":""},"","","","","","","","","","","","","","","","","","","","","","","",null,"","","","","","","","","","","","","","","","","","",""]
[null,{"$f":"Programs!B335","v":0},{"$f":"IF(Programs!$C$329=\"\",\"\",Programs!$C$329)","v":""},null,null,null,null,null,null,null,null,null,null,null,null,null,null,null,null,null,null,null,null,null,null,null,null,null,null,null,null,null,null,null,null,null,null,null,null,null,null,null,null,null,null,null,null,null,null,null,null,null,null,null,null,null,null,null,null,null,null,null,null,null,null,null,null,null,null,null,null,null,null,null,null,null,null,null,null,null,null,null,null,null,null,null,null,null,null,null,null,null,null,null,null,null,null,null,null,null,null,null,null,null,null,null,null,null,null,null,null,null,0,null,null,0,0,0,0,0,0,0,0,0,0,0,0,0,0,0,0,0,0,0,null,null,null,0,null,null,0,0,0,0,0,0,0,0,0,0,0,0,0,0,0,0,0,0,0,null,"","",null,"","","","","","","","","","","","","","","","","","","",null,{"$f":"IF(Programs!$D$329=\"\",\"\",Programs!$D$329)","v":""},"","","","","","","","","","","","","","","","","","","","","","","",null,"","","","","","","","","","","","","","","","","","",""]
[null,{"$f":"Programs!B336","v":0},{"$f":"IF(Programs!$C$329=\"\",\"\",Programs!$C$329)","v":""},null,null,null,null,null,null,null,null,null,null,null,null,null,null,null,null,null,null,null,null,null,null,null,null,null,null,null,null,null,null,null,null,null,null,null,null,null,null,null,null,null,null,null,null,null,null,null,null,null,null,null,null,null,null,null,null,null,null,null,null,null,null,null,null,null,null,null,null,null,null,null,null,null,null,null,null,null,null,null,null,null,null,null,null,null,null,null,null,null,null,null,null,null,null,null,null,null,null,null,null,null,null,null,null,null,null,null,null,null,0,null,null,0,0,0,0,0,0,0,0,0,0,0,0,0,0,0,0,0,0,0,null,null,null,0,null,null,0,0,0,0,0,0,0,0,0,0,0,0,0,0,0,0,0,0,0,null,"","",null,"","","","","","","","","","","","","","","","","","","",null,{"$f":"IF(Programs!$D$329=\"\",\"\",Programs!$D$329)","v":""},"","","","","","","","","","","","","","","","","","","","","","","",null,"","","","","","","","","","","","","","","","","","",""]
[null,{"$f":"Programs!B337","v":0},{"$f":"IF(Programs!$C$329=\"\",\"\",Programs!$C$329)","v":""},null,null,null,null,null,null,null,null,null,null,null,null,null,null,null,null,null,null,null,null,null,null,null,null,null,null,null,null,null,null,null,null,null,null,null,null,null,null,null,null,null,null,null,null,null,null,null,null,null,null,null,null,null,null,null,null,null,null,null,null,null,null,null,null,null,null,null,null,null,null,null,null,null,null,null,null,null,null,null,null,null,null,null,null,null,null,null,null,null,null,null,null,null,null,null,null,null,null,null,null,null,null,null,null,null,null,null,null,null,0,null,null,0,0,0,0,0,0,0,0,0,0,0,0,0,0,0,0,0,0,0,null,null,null,0,null,null,0,0,0,0,0,0,0,0,0,0,0,0,0,0,0,0,0,0,0,null,"","",null,"","","","","","","","","","","","","","","","","","","",null,{"$f":"IF(Programs!$D$329=\"\",\"\",Programs!$D$329)","v":""},"","","","","","","","","","","","","","","","","","","","","","","",null,"","","","","","","","","","","","","","","","","","",""]
[null,{"$f":"Programs!B338","v":0},{"$f":"IF(Programs!$C$329=\"\",\"\",Programs!$C$329)","v":""},null,null,null,null,null,null,null,null,null,null,null,null,null,null,null,null,null,null,null,null,null,null,null,null,null,null,null,null,null,null,null,null,null,null,null,null,null,null,null,null,null,null,null,null,null,null,null,null,null,null,null,null,null,null,null,null,null,null,null,null,null,null,null,null,null,null,null,null,null,null,null,null,null,null,null,null,null,null,null,null,null,null,null,null,null,null,null,null,null,null,null,null,null,null,null,null,null,null,null,null,null,null,null,null,null,null,null,null,null,0,null,null,0,0,0,0,0,0,0,0,0,0,0,0,0,0,0,0,0,0,0,null,null,null,0,null,null,0,0,0,0,0,0,0,0,0,0,0,0,0,0,0,0,0,0,0,null,"","",null,"","","","","","","","","","","","","","","","","","","",null,{"$f":"IF(Programs!$D$329=\"\",\"\",Programs!$D$329)","v":""},"","","","","","","","","","","","","","","","","","","","","","","",null,"","","","","","","","","","","","","","","","","","",""]
[null,{"$f":"Programs!B339","v":0},{"$f":"IF(Programs!$C$329=\"\",\"\",Programs!$C$329)","v":""},null,null,null,null,null,null,null,null,null,null,null,null,null,null,null,null,null,null,null,null,null,null,null,null,null,null,null,null,null,null,null,null,null,null,null,null,null,null,null,null,null,null,null,null,null,null,null,null,null,null,null,null,null,null,null,null,null,null,null,null,null,null,null,null,null,null,null,null,null,null,null,null,null,null,null,null,null,null,null,null,null,null,null,null,null,null,null,null,null,null,null,null,null,null,null,null,null,null,null,null,null,null,null,null,null,null,null,null,null,0,null,null,0,0,0,0,0,0,0,0,0,0,0,0,0,0,0,0,0,0,0,null,null,null,0,null,null,0,0,0,0,0,0,0,0,0,0,0,0,0,0,0,0,0,0,0,null,"","",null,"","","","","","","","","","","","","","","","","","","",null,{"$f":"IF(Programs!$D$329=\"\",\"\",Programs!$D$329)","v":""},"","","","","","","","","","","","","","","","","","","","","","","",null,"","","","","","","","","","","","","","","","","","",""]
[null,{"$f":"Programs!B340","v":0},{"$f":"IF(Programs!$C$329=\"\",\"\",Programs!$C$329)","v":""},null,null,null,null,null,null,null,null,null,null,null,null,null,null,null,null,null,null,null,null,null,null,null,null,null,null,null,null,null,null,null,null,null,null,null,null,null,null,null,null,null,null,null,null,null,null,null,null,null,null,null,null,null,null,null,null,null,null,null,null,null,null,null,null,null,null,null,null,null,null,null,null,null,null,null,null,null,null,null,null,null,null,null,null,null,null,null,null,null,null,null,null,null,null,null,null,null,null,null,null,null,null,null,null,null,null,null,null,null,{"$f":"IF(SUM(G216,P216,W216,AD216,AH216,AO216,AV216,BB216)>0,(7-(SUM(G216,P216,W216,AD216,AH216,AO216,AV216,BB216)/8)),0)","v":0},null,null,{"$f":"SUM(F216,J216,M216,Y216,AE216,AN216,AS216,BC216,BE216)","v":0},{"$f":"DL216/9","v":0},{"$f":"SUM(I216,N216,X216,AB216,AC216,AM216,AP216,AU216,AW216,BA216)","v":0},{"$f":"DN216/10","v":0},{"$f":"SUM(H216,O216,Q216,T216,V216,AG216,AJ216,AQ216,AX216)","v":0},{"$f":"DP216/9","v":0},{"$f":"SUM(E216,K216,R216,U216,Z216,AF216,AI216,AL216,AT216,AZ216,BD216)","v":0},{"$f":"DR216/11","v":0},{"$f":"SUM(E216,I216,O216,U216,AF216,AN216,AQ216,AS216,AW216,BE216)","v":0},{"$f":"DT216/10","v":0},{"$f":"SUM(H216,M216,R216,V216,Z216,AE216,AI216,AM216,AU216,BA216)","v":0},{"$f":"DV216/10","v":0},{"$f":"SUM(F216,K216,Q216,X216,AC216,AJ216,AZ216,BC216)","v":0},{"$f":"DX216/8","v":0},{"$f":"SUM(J216,N216,T216,Y216,AB216,AG216,AL216,AP216,AT216,AX216,BD216)","v":0},{"$f":"DZ216/11","v":0},{"$f":"SUM(DU216,DW216)/2","v":0},{"$f":"SUM(DY216,EA216)/2","v":0},{"$f":"SUM(DM216,DO216,DQ216,DS216,DU216,DW216,DY216,EA216)/8","v":0},null,null,null,{"$f":"IF(SUM(BI216,BR216,BY216,CF216,CJ216,CQ216,CX216,DD216)>0,(7-(SUM(BI216,BR216,BY216,CF216,CJ216,CQ216,CX216,DD216)/8)),0)","v":0},null,null,{"$f":"SUM(BH216,BL216,BO216,CA216,CG216,CP216,CU216,DE216,DG216)","v":0},{"$f":"EK216/9","v":0},{"$f":"SUM(BK216,BP216,BZ216,CD216,CE216,CO216,CR216,CW216,CY216,DC216)","v":0},{"$f":"EM216/10","v":0},{"$f":"SUM(BJ216,BQ216,BS216,BV216,BX216,CI216,CL216,CS216,CZ216)","v":0},{"$f":"EO216/9","v":0},{"$f":"SUM(BG216,BM216,BT216,BW216,CB216,CH216,CK216,CN216,CV216,DB216,DF216)","v":0},{"$f":"EQ216/11","v":0},{"$f":"SUM(BG216,BK216,BQ216,BW216,CH216,CP216,CS216,CU216,CY216,DG216)","v":0},{"$f":"ES216/10","v":0},{"$f":"SUM(BJ216,BO216,BT216,BX216,CB216,CG216,CK216,CO216,CW216,DC216)","v":0},{"$f":"EU216/10","v":0},{"$f":"SUM(BH216,BM216,BS216,BZ216,CE216,CL216,DB216,DE216)","v":0},{"$f":"EW216/8","v":0},{"$f":"SUM(BL216,BP216,BV216,CA216,CD216,CI216,CN216,CR216,CV216,CZ216,DF216)","v":0},{"$f":"EY216/11","v":0},{"$f":"SUM(ET216,EV216)/2","v":0},{"$f":"SUM(EX216,EZ216)/2","v":0},{"$f":"SUM(EL216,EN216,EP216,ER216,ET216,EV216,EX216,EZ216)/8","v":0},null,{"$f":"IF($GC216<>\"\",EH216-DI216,\"\")","v":""},{"$f":"IF($GC216<>\"\",EI216-DJ216,\"\")","v":""},null,{"$f":"IF($GC216<>\"\",EK216-DL216,\"\")","v":""},{"$f":"IF($GC216<>\"\",EL216-DM216,\"\")","v":""},{"$f":"IF($GC216<>\"\",EM216-DN216,\"\")","v":""},{"$f":"IF($GC216<>\"\",EN216-DO216,\"\")","v":""},{"$f":"IF($GC216<>\"\",EO216-DP216,\"\")","v":""},{"$f":"IF($GC216<>\"\",EP216-DQ216,\"\")","v":""},{"$f":"IF($GC216<>\"\",EQ216-DR216,\"\")","v":""},{"$f":"IF($GC216<>\"\",ER216-DS216,\"\")","v":""},{"$f":"IF($GC216<>\"\",ES216-DT216,\"\")","v":""},{"$f":"IF($GC216<>\"\",ET216-DU216,\"\")","v":""},{"$f":"IF($GC216<>\"\",EU216-DV216,\"\")","v":""},{"$f":"IF($GC216<>\"\",EV216-DW216,\"\")","v":""},{"$f":"IF($GC216<>\"\",EW216-DX216,\"\")","v":""},{"$f":"IF($GC216<>\"\",EX216-DY216,\"\")","v":""},{"$f":"IF($GC216<>\"\",EY216-DZ216,\"\")","v":""},{"$f":"IF($GC216<>\"\",EZ216-EA216,\"\")","v":""},{"$f":"IF($GC216<>\"\",FA216-EB216,\"\")","v":""},{"$f":"IF($GC216<>\"\",FB216-EC216,\"\")","v":""},{"$f":"IF($GC216<>\"\",FC216-ED216,\"\")","v":""},null,{"$f":"IF(Programs!$D$329=\"\",\"\",Programs!$D$329)","v":""},{"$f":"IF(AND(COUNT(D216:BE216)>48,COUNT(BF216:DG216)>48),GB216,\"\")","v":""},{"$f":"IF($GC216=\"\",\"\",(IF(FE216<0,$GC216,\"\")))","v":""},{"$f":"IF($GC216=\"\",\"\",(IF(FF216<0,$GC216,\"\")))","v":""},{"$f":"IF($GC216=\"\",\"\",(IF(FG216<0,$GC216,\"\")))","v":""},"","","","","","","","","","","","","","","","","","","",null,"","","","","","","","","","","","","","","","","","",""]
[null,{"$f":"Programs!B341","v":0},{"$f":"IF(Programs!$C$329=\"\",\"\",Programs!$C$329)","v":""},null,null,null,null,null,null,null,null,null,null,null,null,null,null,null,null,null,null,null,null,null,null,null,null,null,null,null,null,null,null,null,null,null,null,null,null,null,null,null,null,null,null,null,null,null,null,null,null,null,null,null,null,null,null,null,null,null,null,null,null,null,null,null,null,null,null,null,null,null,null,null,null,null,null,null,null,null,null,null,null,null,null,null,null,null,null,null,null,null,null,null,null,null,null,null,null,null,null,null,null,null,null,null,null,null,null,null,null,null,0,null,null,0,0,0,0,0,0,0,0,0,0,0,0,0,0,0,0,0,0,0,null,null,null,0,null,null,0,0,0,0,0,0,0,0,0,0,0,0,0,0,0,0,0,0,0,null,"","",null,"","","","","","","","","","","","","","","","","","","",null,{"$f":"IF(Programs!$D$329=\"\",\"\",Programs!$D$329)","v":""},"","","","","","","","","","","","","","","","","","","","","","","",null,"","","","","","","","","","","","","","","","","","",""]
[null,{"$f":"Programs!B342","v":0},{"$f":"IF(Programs!$C$329=\"\",\"\",Programs!$C$329)","v":""},null,null,null,null,null,null,null,null,null,null,null,null,null,null,null,null,null,null,null,null,null,null,null,null,null,null,null,null,null,null,null,null,null,null,null,null,null,null,null,null,null,null,null,null,null,null,null,null,null,null,null,null,null,null,null,null,null,null,null,null,null,null,null,null,null,null,null,null,null,null,null,null,null,null,null,null,null,null,null,null,null,null,null,null,null,null,null,null,null,null,null,null,null,null,null,null,null,null,null,null,null,null,null,null,null,null,null,null,null,0,null,null,0,0,0,0,0,0,0,0,0,0,0,0,0,0,0,0,0,0,0,null,null,null,0,null,null,0,0,0,0,0,0,0,0,0,0,0,0,0,0,0,0,0,0,0,null,"","",null,"","","","","","","","","","","","","","","","","","","",null,{"$f":"IF(Programs!$D$329=\"\",\"\",Programs!$D$329)","v":""},"","","","","","","","","","","","","","","","","","","","","","","",null,"","","","","","","","","","","","","","","","","","",""]
[null,{"$f":"Programs!B343","v":0},{"$f":"IF(Programs!$C$329=\"\",\"\",Programs!$C$329)","v":""},null,null,null,null,null,null,null,null,null,null,null,null,null,null,null,null,null,null,null,null,null,null,null,null,null,null,null,null,null,null,null,null,null,null,null,null,null,null,null,null,null,null,null,null,null,null,null,null,null,null,null,null,null,null,null,null,null,null,null,null,null,null,null,null,null,null,null,null,null,null,null,null,null,null,null,null,null,null,null,null,null,null,null,null,null,null,null,null,null,null,null,null,null,null,null,null,null,null,null,null,null,null,null,null,null,null,null,null,null,0,null,null,0,0,0,0,0,0,0,0,0,0,0,0,0,0,0,0,0,0,0,null,null,null,0,null,null,0,0,0,0,0,0,0,0,0,0,0,0,0,0,0,0,0,0,0,null,"","",null,"","","","","","","","","","","","","","","","","","","",null,{"$f":"IF(Programs!$D$329=\"\",\"\",Programs!$D$329)","v":""},"","","","","","","","","","","","","","","","","","","","","","","",null,"","","","","","","","","","","","","","","","","","",""]
["Program 19",{"$f":"Programs!B351","v":0},{"$f":"IF(Programs!$C$348=\"\",\"\",Programs!$C$348)","v":""},null,null,null,null,null,null,null,null,null,null,null,null,null,null,null,null,null,null,null,null,null,null,null,null,null,null,null,null,null,null,null,null,null,null,null,null,null,null,null,null,null,null,null,null,null,null,null,null,null,null,null,null,null,null,null,null,null,null,null,null,null,null,null,null,null,null,null,null,null,null,null,null,null,null,null,null,null,null,null,null,null,null,null,null,null,null,null,null,null,null,null,null,null,null,null,null,null,null,null,null,null,null,null,null,null,null,null,null,null,0,null,null,0,0,0,0,0,0,0,0,0,0,0,0,0,0,0,0,0,0,0,null,null,null,0,null,null,0,0,0,0,0,0,0,0,0,0,0,0,0,0,0,0,0,0,0,null,"","",null,"","","","","","","","","","","","","","","","","","","",null,{"$f":"IF(Programs!$D$348=\"\",\"\",Programs!$D$348)","v":""},"","","","","","","","","","","","","","","","","","","","","","","",null,"","","","","","","","","","","","","","","","","","",""]
[null,{"$f":"Programs!B352","v":0},{"$f":"IF(Programs!$C$348=\"\",\"\",Programs!$C$348)","v":""},null,null,null,null,null,null,null,null,null,null,null,null,null,null,null,null,null,null,null,null,null,null,null,null,null,null,null,null,null,null,null,null,null,null,null,null,null,null,null,null,null,null,null,null,null,null,null,null,null,null,null,null,null,null,null,null,null,null,null,null,null,null,null,null,null,null,null,null,null,null,null,null,null,null,null,null,null,null,null,null,null,null,null,null,null,null,null,null,null,null,null,null,null,null,null,null,null,null,null,null,null,null,null,null,null,null,null,null,null,0,null,null,0,0,0,0,0,0,0,0,0,0,0,0,0,0,0,0,0,0,0,null,null,null,0,null,null,0,0,0,0,0,0,0,0,0,0,0,0,0,0,0,0,0,0,0,null,"","",null,"","","","","","","","","","","","","","","","","","","",null,{"$f":"IF(Programs!$D$348=\"\",\"\",Programs!$D$348)","v":""},"","","","","","","","","","","","","","","","","","","","","","","",null,"","","","","","","","","","","","","","","","","","",""]
[null,{"$f":"Programs!B353","v":0},{"$f":"IF(Programs!$C$348=\"\",\"\",Programs!$C$348)","v":""},null,null,null,null,null,null,null,null,null,null,null,null,null,null,null,null,null,null,null,null,null,null,null,null,null,null,null,null,null,null,null,null,null,null,null,null,null,null,null,null,null,null,null,null,null,null,null,null,null,null,null,null,null,null,null,null,null,null,null,null,null,null,null,null,null,null,null,null,null,null,null,null,null,null,null,null,null,null,null,null,null,null,null,null,null,null,null,null,null,null,null,null,null,null,null,null,null,null,null,null,null,null,null,null,null,null,null,null,null,0,null,null,0,0,0,0,0,0,0,0,0,0,0,0,0,0,0,0,0,0,0,null,null,null,0,null,null,0,0,0,0,0,0,0,0,0,0,0,0,0,0,0,0,0,0,0,null,"","",null,"","","","","","","","","","","","","","","","","","","",null,{"$f":"IF(Programs!$D$348=\"\",\"\",Programs!$D$348)","v":""},"","","","","","","","","","","","","","","","","","","","","","","",null,"","","","","","","","","","","","","","","","","","",""]
[null,{"$f":"Programs!B354","v":0},{"$f":"IF(Programs!$C$348=\"\",\"\",Programs!$C$348)","v":""},null,null,null,null,null,null,null,null,null,null,null,null,null,null,null,null,null,null,null,null,null,null,null,null,null,null,null,null,null,null,null,null,null,null,null,null,null,null,null,null,null,null,null,null,null,null,null,null,null,null,null,null,null,null,null,null,null,null,null,null,null,null,null,null,null,null,null,null,null,null,null,null,null,null,null,null,null,null,null,null,null,null,null,null,null,null,null,null,null,null,null,null,null,null,null,null,null,null,null,null,null,null,null,null,null,null,null,null,null,0,null,null,0,0,0,0,0,0,0,0,0,0,0,0,0,0,0,0,0,0,0,null,null,null,0,null,null,0,0,0,0,0,0,0,0,0,0,0,0,0,0,0,0,0,0,0,null,"","",null,"","","","","","","","","","","","","","","","","","","",null,{"$f":"IF(Programs!$D$348=\"\",\"\",Programs!$D$348)","v":""},"","","","","","","","","","","","","","","","","","","","","","","",null,"","","","","","","","","","","","","","","","","","",""]
[null,{"$f":"Programs!B355","v":0},{"$f":"IF(Programs!$C$348=\"\",\"\",Programs!$C$348)","v":""},null,null,null,null,null,null,null,null,null,null,null,null,null,null,null,null,null,null,null,null,null,null,null,null,null,null,null,null,null,null,null,null,null,null,null,null,null,null,null,null,null,null,null,null,null,null,null,null,null,null,null,null,null,null,null,null,null,null,null,null,null,null,null,null,null,null,null,null,null,null,null,null,null,null,null,null,null,null,null,null,null,null,null,null,null,null,null,null,null,null,null,null,null,null,null,null,null,null,null,null,null,null,null,null,null,null,null,null,null,0,null,null,0,0,0,0,0,0,0,0,0,0,0,0,0,0,0,0,0,0,0,null,null,null,0,null,null,0,0,0,0,0,0,0,0,0,0,0,0,0,0,0,0,0,0,0,null,"","",null,"","","","","","","","","","","","","","","","","","","",null,{"$f":"IF(Programs!$D$348=\"\",\"\",Programs!$D$348)","v":""},"","","","","","","","","","","","","","","","","","","","","","","",null,"","","","","","","","","","","","","","","","","","",""]
[null,{"$f":"Programs!B356","v":0},{"$f":"IF(Programs!$C$348=\"\",\"\",Programs!$C$348)","v":""},null,null,null,null,null,null,null,null,null,null,null,null,null,null,null,null,null,null,null,null,null,null,null,null,null,null,null,null,null,null,null,null,null,null,null,null,null,null,null,null,null,null,null,null,null,null,null,null,null,null,null,null,null,null,null,null,null,null,null,null,null,null,null,null,null,null,null,null,null,null,null,null,null,null,null,null,null,null,null,null,null,null,null,null,null,null,null,null,null,null,null,null,null,null,null,null,null,null,null,null,null,null,null,null,null,null,null,null,null,0,null,null,0,0,0,0,0,0,0,0,0,0,0,0,0,0,0,0,0,0,0,null,null,null,0,null,null,0,0,0,0,0,0,0,0,0,0,0,0,0,0,0,0,0,0,0,null,"","",null,"","","","","","","","","","","","","","","","","","","",null,{"$f":"IF(Programs!$D$348=\"\",\"\",Programs!$D$348)","v":""},"","","","","","","","","","","","","","","","","","","","","","","",null,"","","","","","","","","","","","","","","","","","",""]
[null,{"$f":"Programs!B357","v":0},{"$f":"IF(Programs!$C$348=\"\",\"\",Programs!$C$348)","v":""},null,null,null,null,null,null,null,null,null,null,null,null,null,null,null,null,null,null,null,null,null,null,null,null,null,null,null,null,null,null,null,null,null,null,null,null,null,null,null,null,null,null,null,null,null,null,null,null,null,null,null,null,null,null,null,null,null,null,null,null,null,null,null,null,null,null,null,null,null,null,null,null,null,null,null,null,null,null,null,null,null,null,null,null,null,null,null,null,null,null,null,null,null,null,null,null,null,null,null,null,null,null,null,null,null,null,null,null,null,0,null,null,0,0,0,0,0,0,0,0,0,0,0,0,0,0,0,0,0,0,0,null,null,null,0,null,null,0,0,0,0,0,0,0,0,0,0,0,0,0,0,0,0,0,0,0,null,"","",null,"","","","","","","","","","","","","","","","","","","",null,{"$f":"IF(Programs!$D$348=\"\",\"\",Programs!$D$348)","v":""},"","","","","","","","","","","","","","","","","","","","","","","",null,"","","","","","","","","","","","","","","","","","",""]
[null,{"$f":"Programs!B358","v":0},{"$f":"IF(Programs!$C$348=\"\",\"\",Programs!$C$348)","v":""},null,null,null,null,null,null,null,null,null,null,null,null,null,null,null,null,null,null,null,null,null,null,null,null,null,null,null,null,null,null,null,null,null,null,null,null,null,null,null,null,null,null,null,null,null,null,null,null,null,null,null,null,null,null,null,null,null,null,null,null,null,null,null,null,null,null,null,null,null,null,null,null,null,null,null,null,null,null,null,null,null,null,null,null,null,null,null,null,null,null,null,null,null,null,null,null,null,null,null,null,null,null,null,null,null,null,null,null,null,0,null,null,0,0,0,0,0,0,0,0,0,0,0,0,0,0,0,0,0,0,0,null,null,null,0,null,null,0,0,0,0,0,0,0,0,0,0,0,0,0,0,0,0,0,0,0,null,"","",null,"","","","","","","","","","","","","","","","","","","",null,{"$f":"IF(Programs!$D$348=\"\",\"\",Programs!$D$348)","v":""},"","","","","","","","","","","","","","","","","","","","","","","",null,"","","","","","","","","","","","","","","","","","",""]
[null,{"$f":"Programs!B359","v":0},{"$f":"IF(Programs!$C$348=\"\",\"\",Programs!$C$348)","v":""},null,null,null,null,null,null,null,null,null,null,null,null,null,null,null,null,null,null,null,null,null,null,null,null,null,null,null,null,null,null,null,null,null,null,null,null,null,null,null,null,null,null,null,null,null,null,null,null,null,null,null,null,null,null,null,null,null,null,null,null,null,null,null,null,null,null,null,null,null,null,null,null,null,null,null,null,null,null,null,null,null,null,null,null,null,null,null,null,null,null,null,null,null,null,null,null,null,null,null,null,null,null,null,null,null,null,null,null,null,{"$f":"IF(SUM(G228,P228,W228,AD228,AH228,AO228,AV228,BB228)>0,(7-(SUM(G228,P228,W228,AD228,AH228,AO228,AV228,BB228)/8)),0)","v":0},null,null,{"$f":"SUM(F228,J228,M228,Y228,AE228,AN228,AS228,BC228,BE228)","v":0},{"$f":"DL228/9","v":0},{"$f":"SUM(I228,N228,X228,AB228,AC228,AM228,AP228,AU228,AW228,BA228)","v":0},{"$f":"DN228/10","v":0},{"$f":"SUM(H228,O228,Q228,T228,V228,AG228,AJ228,AQ228,AX228)","v":0},{"$f":"DP228/9","v":0},{"$f":"SUM(E228,K228,R228,U228,Z228,AF228,AI228,AL228,AT228,AZ228,BD228)","v":0},{"$f":"DR228/11","v":0},{"$f":"SUM(E228,I228,O228,U228,AF228,AN228,AQ228,AS228,AW228,BE228)","v":0},{"$f":"DT228/10","v":0},{"$f":"SUM(H228,M228,R228,V228,Z228,AE228,AI228,AM228,AU228,BA228)","v":0},{"$f":"DV228/10","v":0},{"$f":"SUM(F228,K228,Q228,X228,AC228,AJ228,AZ228,BC228)","v":0},{"$f":"DX228/8","v":0},{"$f":"SUM(J228,N228,T228,Y228,AB228,AG228,AL228,AP228,AT228,AX228,BD228)","v":0},{"$f":"DZ228/11","v":0},{"$f":"SUM(DU228,DW228)/2","v":0},{"$f":"SUM(DY228,EA228)/2","v":0},{"$f":"SUM(DM228,DO228,DQ228,DS228,DU228,DW228,DY228,EA228)/8","v":0},null,null,null,{"$f":"IF(SUM(BI228,BR228,BY228,CF228,CJ228,CQ228,CX228,DD228)>0,(7-(SUM(BI228,BR228,BY228,CF228,CJ228,CQ228,CX228,DD228)/8)),0)","v":0},null,null,{"$f":"SUM(BH228,BL228,BO228,CA228,CG228,CP228,CU228,DE228,DG228)","v":0},{"$f":"EK228/9","v":0},{"$f":"SUM(BK228,BP228,BZ228,CD228,CE228,CO228,CR228,CW228,CY228,DC228)","v":0},{"$f":"EM228/10","v":0},{"$f":"SUM(BJ228,BQ228,BS228,BV228,BX228,CI228,CL228,CS228,CZ228)","v":0},{"$f":"EO228/9","v":0},{"$f":"SUM(BG228,BM228,BT228,BW228,CB228,CH228,CK228,CN228,CV228,DB228,DF228)","v":0},{"$f":"EQ228/11","v":0},{"$f":"SUM(BG228,BK228,BQ228,BW228,CH228,CP228,CS228,CU228,CY228,DG228)","v":0},{"$f":"ES228/10","v":0},{"$f":"SUM(BJ228,BO228,BT228,BX228,CB228,CG228,CK228,CO228,CW228,DC228)","v":0},{"$f":"EU228/10","v":0},{"$f":"SUM(BH228,BM228,BS228,BZ228,CE228,CL228,DB228,DE228)","v":0},{"$f":"EW228/8","v":0},{"$f":"SUM(BL228,BP228,BV228,CA228,CD228,CI228,CN228,CR228,CV228,CZ228,DF228)","v":0},{"$f":"EY228/11","v":0},{"$f":"SUM(ET228,EV228)/2","v":0},{"$f":"SUM(EX228,EZ228)/2","v":0},{"$f":"SUM(EL228,EN228,EP228,ER228,ET228,EV228,EX228,EZ228)/8","v":0},null,{"$f":"IF($GC228<>\"\",EH228-DI228,\"\")","v":""},{"$f":"IF($GC228<>\"\",EI228-DJ228,\"\")","v":""},null,{"$f":"IF($GC228<>\"\",EK228-DL228,\"\")","v":""},{"$f":"IF($GC228<>\"\",EL228-DM228,\"\")","v":""},{"$f":"IF($GC228<>\"\",EM228-DN228,\"\")","v":""},{"$f":"IF($GC228<>\"\",EN228-DO228,\"\")","v":""},{"$f":"IF($GC228<>\"\",EO228-DP228,\"\")","v":""},{"$f":"IF($GC228<>\"\",EP228-DQ228,\"\")","v":""},{"$f":"IF($GC228<>\"\",EQ228-DR228,\"\")","v":""},{"$f":"IF($GC228<>\"\",ER228-DS228,\"\")","v":""},{"$f":"IF($GC228<>\"\",ES228-DT228,\"\")","v":""},{"$f":"IF($GC228<>\"\",ET228-DU228,\"\")","v":""},{"$f":"IF($GC228<>\"\",EU228-DV228,\"\")","v":""},{"$f":"IF($GC228<>\"\",EV228-DW228,\"\")","v":""},{"$f":"IF($GC228<>\"\",EW228-DX228,\"\")","v":""},{"$f":"IF($GC228<>\"\",EX228-DY228,\"\")","v":""},{"$f":"IF($GC228<>\"\",EY228-DZ228,\"\")","v":""},{"$f":"IF($GC228<>\"\",EZ228-EA228,\"\")","v":""},{"$f":"IF($GC228<>\"\",FA228-EB228,\"\")","v":""},{"$f":"IF($GC228<>\"\",FB228-EC228,\"\")","v":""},{"$f":"IF($GC228<>\"\",FC228-ED228,\"\")","v":""},null,{"$f":"IF(Programs!$D$348=\"\",\"\",Programs!$D$348)","v":""},{"$f":"IF(AND(COUNT(D228:BE228)>48,COUNT(BF228:DG228)>48),GB228,\"\")","v":""},{"$f":"IF($GC228=\"\",\"\",(IF(FE228<0,$GC228,\"\")))","v":""},{"$f":"IF($GC228=\"\",\"\",(IF(FF228<0,$GC228,\"\")))","v":""},{"$f":"IF($GC228=\"\",\"\",(IF(FG228<0,$GC228,\"\")))","v":""},"","","","","","","","","","","","","","","","","","","",null,"","","","","","","","","","","","","","","","","","",""]
[null,{"$f":"Programs!B360","v":0},{"$f":"IF(Programs!$C$348=\"\",\"\",Programs!$C$348)","v":""},null,null,null,null,null,null,null,null,null,null,null,null,null,null,null,null,null,null,null,null,null,null,null,null,null,null,null,null,null,null,null,null,null,null,null,null,null,null,null,null,null,null,null,null,null,null,null,null,null,null,null,null,null,null,null,null,null,null,null,null,null,null,null,null,null,null,null,null,null,null,null,null,null,null,null,null,null,null,null,null,null,null,null,null,null,null,null,null,null,null,null,null,null,null,null,null,null,null,null,null,null,null,null,null,null,null,null,null,null,0,null,null,0,0,0,0,0,0,0,0,0,0,0,0,0,0,0,0,0,0,0,null,null,null,0,null,null,0,0,0,0,0,0,0,0,0,0,0,0,0,0,0,0,0,0,0,null,"","",null,"","","","","","","","","","","","","","","","","","","",null,{"$f":"IF(Programs!$D$348=\"\",\"\",Programs!$D$348)","v":""},"","","","","","","","","","","","","","","","","","","","","","","",null,"","","","","","","","","","","","","","","","","","",""]
[null,{"$f":"Programs!B361","v":0},{"$f":"IF(Programs!$C$348=\"\",\"\",Programs!$C$348)","v":""},null,null,null,null,null,null,null,null,null,null,null,null,null,null,null,null,null,null,null,null,null,null,null,null,null,null,null,null,null,null,null,null,null,null,null,null,null,null,null,null,null,null,null,null,null,null,null,null,null,null,null,null,null,null,null,null,null,null,null,null,null,null,null,null,null,null,null,null,null,null,null,null,null,null,null,null,null,null,null,null,null,null,null,null,null,null,null,null,null,null,null,null,null,null,null,null,null,null,null,null,null,null,null,null,null,null,null,null,null,0,null,null,0,0,0,0,0,0,0,0,0,0,0,0,0,0,0,0,0,0,0,null,null,null,0,null,null,0,0,0,0,0,0,0,0,0,0,0,0,0,0,0,0,0,0,0,null,"","",null,"","","","","","","","","","","","","","","","","","","",null,{"$f":"IF(Programs!$D$348=\"\",\"\",Programs!$D$348)","v":""},"","","","","","","","","","","","","","","","","","","","","","","",null,"","","","","","","","","","","","","","","","","","",""]
[null,{"$f":"Programs!B362","v":0},{"$f":"IF(Programs!$C$348=\"\",\"\",Programs!$C$348)","v":""},null,null,null,null,null,null,null,null,null,null,null,null,null,null,null,null,null,null,null,null,null,null,null,null,null,null,null,null,null,null,null,null,null,null,null,null,null,null,null,null,null,null,null,null,null,null,null,null,null,null,null,null,null,null,null,null,null,null,null,null,null,null,null,null,null,null,null,null,null,null,null,null,null,null,null,null,null,null,null,null,null,null,null,null,null,null,null,null,null,null,null,null,null,null,null,null,null,null,null,null,null,null,null,null,null,null,null,null,null,0,null,null,0,0,0,0,0,0,0,0,0,0,0,0,0,0,0,0,0,0,0,null,null,null,0,null,null,0,0,0,0,0,0,0,0,0,0,0,0,0,0,0,0,0,0,0,null,"","",null,"","","","","","","","","","","","","","","","","","","",null,{"$f":"IF(Programs!$D$348=\"\",\"\",Programs!$D$348)","v":""},"","","","","","","","","","","","","","","","","","","","","","","",null,"","","","","","","","","","","","","","","","","","",""]
["Program 20",{"$f":"Programs!B370","v":0},{"$f":"IF(Programs!$C$367=\"\",\"\",Programs!$C$367)","v":""},null,null,null,null,null,null,null,null,null,null,null,null,null,null,null,null,null,null,null,null,null,null,null,null,null,null,null,null,null,null,null,null,null,null,null,null,null,null,null,null,null,null,null,null,null,null,null,null,null,null,null,null,null,null,null,null,null,null,null,null,null,null,null,null,null,null,null,null,null,null,null,null,null,null,null,null,null,null,null,null,null,null,null,null,null,null,null,null,null,null,null,null,null,null,null,null,null,null,null,null,null,null,null,null,null,null,null,null,null,0,null,null,0,0,0,0,0,0,0,0,0,0,0,0,0,0,0,0,0,0,0,null,null,null,0,null,null,0,0,0,0,0,0,0,0,0,0,0,0,0,0,0,0,0,0,0,null,"","",null,"","","","","","","","","","","","","","","","","","","",null,{"$f":"IF(Programs!$D$367=\"\",\"\",Programs!$D$367)","v":""},"","","","","","","","","","","","","","","","","","","","","","","",null,"","","","","","","","","","","","","","","","","","",""]
[null,{"$f":"Programs!B371","v":0},{"$f":"IF(Programs!$C$367=\"\",\"\",Programs!$C$367)","v":""},null,null,null,null,null,null,null,null,null,null,null,null,null,null,null,null,null,null,null,null,null,null,null,null,null,null,null,null,null,null,null,null,null,null,null,null,null,null,null,null,null,null,null,null,null,null,null,null,null,null,null,null,null,null,null,null,null,null,null,null,null,null,null,null,null,null,null,null,null,null,null,null,null,null,null,null,null,null,null,null,null,null,null,null,null,null,null,null,null,null,null,null,null,null,null,null,null,null,null,null,null,null,null,null,null,null,null,null,null,0,null,null,0,0,0,0,0,0,0,0,0,0,0,0,0,0,0,0,0,0,0,null,null,null,0,null,null,0,0,0,0,0,0,0,0,0,0,0,0,0,0,0,0,0,0,0,null,"","",null,"","","","","","","","","","","","","","","","","","","",null,{"$f":"IF(Programs!$D$367=\"\",\"\",Programs!$D$367)","v":""},"","","","","","","","","","","","","","","","","","","","","","","",null,"","","","","","","","","","","","","","","","","","",""]
[null,{"$f":"Programs!B372","v":0},{"$f":"IF(Programs!$C$367=\"\",\"\",Programs!$C$367)","v":""},null,null,null,null,null,null,null,null,null,null,null,null,null,null,null,null,null,null,null,null,null,null,null,null,null,null,null,null,null,null,null,null,null,null,null,null,null,null,null,null,null,null,null,null,null,null,null,null,null,null,null,null,null,null,null,null,null,null,null,null,null,null,null,null,null,null,null,null,null,null,null,null,null,null,null,null,null,null,null,null,null,null,null,null,null,null,null,null,null,null,null,null,null,null,null,null,null,null,null,null,null,null,null,null,null,null,null,null,null,0,null,null,0,0,0,0,0,0,0,0,0,0,0,0,0,0,0,0,0,0,0,null,null,null,{"$f":"IF(SUM(BI234,BR234,BY234,CF234,CJ234,CQ234,CX234,DD234)>0,(7-(SUM(BI234,BR234,BY234,CF234,CJ234,CQ234,CX234,DD234)/8)),0)","v":0},null,null,{"$f":"SUM(BH234,BL234,BO234,CA234,CG234,CP234,CU234,DE234,DG234)","v":0},0,{"$f":"SUM(BK234,BP234,BZ234,CD234,CE234,CO234,CR234,CW234,CY234,DC234)","v":0},0,{"$f":"SUM(BJ234,BQ234,BS234,BV234,BX234,CI234,CL234,CS234,CZ234)","v":0},0,{"$f":"SUM(BG234,BM234,BT234,BW234,CB234,CH234,CK234,CN234,CV234,DB234,DF234)","v":0},0,{"$f":"SUM(BG234,BK234,BQ234,BW234,CH234,CP234,CS234,CU234,CY234,DG234)","v":0},0,{"$f":"SUM(BJ234,BO234,BT234,BX234,CB234,CG234,CK234,CO234,CW234,DC234)","v":0},0,{"$f":"SUM(BH234,BM234,BS234,BZ234,CE234,CL234,DB234,DE234)","v":0},0,{"$f":"SUM(BL234,BP234,BV234,CA234,CD234,CI234,CN234,CR234,CV234,CZ234,DF234)","v":0},0,0,0,0,null,{"$f":"IF($GC234<>\"\",EH234-DI234,\"\")","v":""},{"$f":"IF($GC234<>\"\",EI234-DJ234,\"\")","v":""},null,{"$f":"IF($GC234<>\"\",EK234-DL234,\"\")","v":""},{"$f":"IF($GC234<>\"\",EL234-DM234,\"\")","v":""},{"$f":"IF($GC234<>\"\",EM234-DN234,\"\")","v":""},{"$f":"IF($GC234<>\"\",EN234-DO234,\"\")","v":""},{"$f":"IF($GC234<>\"\",EO234-DP234,\"\")","v":""},{"$f":"IF($GC234<>\"\",EP234-DQ234,\"\")","v":""},{"$f":"IF($GC234<>\"\",EQ234-DR234,\"\")","v":""},{"$f":"IF($GC234<>\"\",ER234-DS234,\"\")","v":""},{"$f":"IF($GC234<>\"\",ES234-DT234,\"\")","v":""},{"$f":"IF($GC234<>\"\",ET234-DU234,\"\")","v":""},{"$f":"IF($GC234<>\"\",EU234-DV234,\"\")","v":""},{"$f":"IF($GC234<>\"\",EV234-DW234,\"\")","v":""},{"$f":"IF($GC234<>\"\",EW234-DX234,\"\")","v":""},{"$f":"IF($GC234<>\"\",EX234-DY234,\"\")","v":""},{"$f":"IF($GC234<>\"\",EY234-DZ234,\"\")","v":""},{"$f":"IF($GC234<>\"\",EZ234-EA234,\"\")","v":""},{"$f":"IF($GC234<>\"\",FA234-EB234,\"\")","v":""},{"$f":"IF($GC234<>\"\",FB234-EC234,\"\")","v":""},{"$f":"IF($GC234<>\"\",FC234-ED234,\"\")","v":""},null,{"$f":"IF(Programs!$D$367=\"\",\"\",Programs!$D$367)","v":""},"",{"$f":"IF($GC234=\"\",\"\",(IF(FE234<0,$GC234,\"\")))","v":""},{"$f":"IF($GC234=\"\",\"\",(IF(FF234<0,$GC234,\"\")))","v":""},{"$f":"IF($GC234=\"\",\"\",(IF(FG234<0,$GC234,\"\")))","v":""},"","","","","","","","","","","","","","","","","","","",null,"","","","","","","","","","","","","","","","","","",""]
[null,{"$f":"Programs!B373","v":0},{"$f":"IF(Programs!$C$367=\"\",\"\",Programs!$C$367)","v":""},null,null,null,null,null,null,null,null,null,null,null,null,null,null,null,null,null,null,null,null,null,null,null,null,null,null,null,null,null,null,null,null,null,null,null,null,null,null,null,null,null,null,null,null,null,null,null,null,null,null,null,null,null,null,null,null,null,null,null,null,null,null,null,null,null,null,null,null,null,null,null,null,null,null,null,null,null,null,null,null,null,null,null,null,null,null,null,null,null,null,null,null,null,null,null,null,null,null,null,null,null,null,null,null,null,null,null,null,null,0,null,null,0,0,0,0,0,0,0,0,0,0,0,0,0,0,0,0,0,0,0,null,null,null,0,null,null,0,0,0,0,0,0,0,0,0,0,0,0,0,0,0,0,0,0,0,null,"","",null,"","","","","","","","","","","","","","","","","","","",null,{"$f":"IF(Programs!$D$367=\"\",\"\",Programs!$D$367)","v":""},{"$f":"IF(AND(COUNT(D235:BE235)>48,COUNT(BF235:DG235)>48),GB235,\"\")","v":""},"","","","","","","","","","","","","","","","","","","","","","",null,"","","","","","","","","","","","","","","","","","",""]
[null,{"$f":"Programs!B374","v":0},{"$f":"IF(Programs!$C$367=\"\",\"\",Programs!$C$367)","v":""},null,null,null,null,null,null,null,null,null,null,null,null,null,null,null,null,null,null,null,null,null,null,null,null,null,null,null,null,null,null,null,null,null,null,null,null,null,null,null,null,null,null,null,null,null,null,null,null,null,null,null,null,null,null,null,null,null,null,null,null,null,null,null,null,null,null,null,null,null,null,null,null,null,null,null,null,null,null,null,null,null,null,null,null,null,null,null,null,null,null,null,null,null,null,null,null,null,null,null,null,null,null,null,null,null,null,null,null,null,0,null,null,0,0,0,0,0,0,0,0,0,0,0,0,0,0,0,0,0,0,0,null,null,null,0,null,null,0,0,0,0,0,0,0,0,0,0,0,0,0,0,0,0,0,0,0,null,"","",null,"","","","","","","","","","","","","","","","","","","",null,{"$f":"IF(Programs!$D$367=\"\",\"\",Programs!$D$367)","v":""},"","","","","","","","","","","","","","","","","","","","","","","",null,"","","","","","","","","","","","","","","","","","",""]
[null,{"$f":"Programs!B375","v":0},{"$f":"IF(Programs!$C$367=\"\",\"\",Programs!$C$367)","v":""},null,null,null,null,null,null,null,null,null,null,null,null,null,null,null,null,null,null,null,null,null,null,null,null,null,null,null,null,null,null,null,null,null,null,null,null,null,null,null,null,null,null,null,null,null,null,null,null,null,null,null,null,null,null,null,null,null,null,null,null,null,null,null,null,null,null,null,null,null,null,null,null,null,null,null,null,null,null,null,null,null,null,null,null,null,null,null,null,null,null,null,null,null,null,null,null,null,null,null,null,null,null,null,null,null,null,null,null,null,0,null,null,0,0,0,0,0,0,0,0,0,0,0,0,0,0,0,0,0,0,0,null,null,null,0,null,null,0,0,0,0,0,0,0,0,0,0,0,0,0,0,0,0,0,0,0,null,"","",null,"","","","","","","","","","","","","","","","","","","",null,{"$f":"IF(Programs!$D$367=\"\",\"\",Programs!$D$367)","v":""},"","","","","","","","","","","","","","","","","","","","","","","",null,"","","","","","","","","","","","","","","","","","",""]
[null,{"$f":"Programs!B376","v":0},{"$f":"IF(Programs!$C$367=\"\",\"\",Programs!$C$367)","v":""},null,null,null,null,null,null,null,null,null,null,null,null,null,null,null,null,null,null,null,null,null,null,null,null,null,null,null,null,null,null,null,null,null,null,null,null,null,null,null,null,null,null,null,null,null,null,null,null,null,null,null,null,null,null,null,null,null,null,null,null,null,null,null,null,null,null,null,null,null,null,null,null,null,null,null,null,null,null,null,null,null,null,null,null,null,null,null,null,null,null,null,null,null,null,null,null,null,null,null,null,null,null,null,null,null,null,null,null,null,0,null,null,0,0,0,0,0,0,0,0,0,0,0,0,0,0,0,0,0,0,0,null,null,null,0,null,null,0,0,0,0,0,0,0,0,0,0,0,0,0,0,0,0,0,0,0,null,"","",null,"","","","","","","","","","","","","","","","","","","",null,{"$f":"IF(Programs!$D$367=\"\",\"\",Programs!$D$367)","v":""},"","","","","","","","","","","","","","","","","","","","","","","",null,"","","","","","","","","","","","","","","","","","",""]
[null,{"$f":"Programs!B377","v":0},{"$f":"IF(Programs!$C$367=\"\",\"\",Programs!$C$367)","v":""},null,null,null,null,null,null,null,null,null,null,null,null,null,null,null,null,null,null,null,null,null,null,null,null,null,null,null,null,null,null,null,null,null,null,null,null,null,null,null,null,null,null,null,null,null,null,null,null,null,null,null,null,null,null,null,null,null,null,null,null,null,null,null,null,null,null,null,null,null,null,null,null,null,null,null,null,null,null,null,null,null,null,null,null,null,null,null,null,null,null,null,null,null,null,null,null,null,null,null,null,null,null,null,null,null,null,null,null,null,0,null,null,0,0,0,0,0,0,0,0,0,0,0,0,0,0,0,0,0,0,0,null,null,null,0,null,null,0,0,0,0,0,0,0,0,0,0,0,0,0,0,0,0,0,0,0,null,"","",null,"","","","","","","","","","","","","","","","","","","",null,{"$f":"IF(Programs!$D$367=\"\",\"\",Programs!$D$367)","v":""},"","","","","","","","","","","","","","","","","","","","","","","",null,"","","","","","","","","","","","","","","","","","",""]
[null,{"$f":"Programs!B378","v":0},{"$f":"IF(Programs!$C$367=\"\",\"\",Programs!$C$367)","v":""},null,null,null,null,null,null,null,null,null,null,null,null,null,null,null,null,null,null,null,null,null,null,null,null,null,null,null,null,null,null,null,null,null,null,null,null,null,null,null,null,null,null,null,null,null,null,null,null,null,null,null,null,null,null,null,null,null,null,null,null,null,null,null,null,null,null,null,null,null,null,null,null,null,null,null,null,null,null,null,null,null,null,null,null,null,null,null,null,null,null,null,null,null,null,null,null,null,null,null,null,null,null,null,null,null,null,null,null,null,{"$f":"IF(SUM(G240,P240,W240,AD240,AH240,AO240,AV240,BB240)>0,(7-(SUM(G240,P240,W240,AD240,AH240,AO240,AV240,BB240)/8)),0)","v":0},null,null,{"$f":"SUM(F240,J240,M240,Y240,AE240,AN240,AS240,BC240,BE240)","v":0},{"$f":"DL240/9","v":0},{"$f":"SUM(I240,N240,X240,AB240,AC240,AM240,AP240,AU240,AW240,BA240)","v":0},{"$f":"DN240/10","v":0},{"$f":"SUM(H240,O240,Q240,T240,V240,AG240,AJ240,AQ240,AX240)","v":0},{"$f":"DP240/9","v":0},{"$f":"SUM(E240,K240,R240,U240,Z240,AF240,AI240,AL240,AT240,AZ240,BD240)","v":0},{"$f":"DR240/11","v":0},{"$f":"SUM(E240,I240,O240,U240,AF240,AN240,AQ240,AS240,AW240,BE240)","v":0},{"$f":"DT240/10","v":0},{"$f":"SUM(H240,M240,R240,V240,Z240,AE240,AI240,AM240,AU240,BA240)","v":0},{"$f":"DV240/10","v":0},{"$f":"SUM(F240,K240,Q240,X240,AC240,AJ240,AZ240,BC240)","v":0},{"$f":"DX240/8","v":0},{"$f":"SUM(J240,N240,T240,Y240,AB240,AG240,AL240,AP240,AT240,AX240,BD240)","v":0},{"$f":"DZ240/11","v":0},{"$f":"SUM(DU240,DW240)/2","v":0},{"$f":"SUM(DY240,EA240)/2","v":0},{"$f":"SUM(DM240,DO240,DQ240,DS240,DU240,DW240,DY240,EA240)/8","v":0},null,null,null,{"$f":"IF(SUM(BI240,BR240,BY240,CF240,CJ240,CQ240,CX240,DD240)>0,(7-(SUM(BI240,BR240,BY240,CF240,CJ240,CQ240,CX240,DD240)/8)),0)","v":0},null,null,{"$f":"SUM(BH240,BL240,BO240,CA240,CG240,CP240,CU240,DE240,DG240)","v":0},{"$f":"EK240/9","v":0},{"$f":"SUM(BK240,BP240,BZ240,CD240,CE240,CO240,CR240,CW240,CY240,DC240)","v":0},{"$f":"EM240/10","v":0},{"$f":"SUM(BJ240,BQ240,BS240,BV240,BX240,CI240,CL240,CS240,CZ240)","v":0},{"$f":"EO240/9","v":0},{"$f":"SUM(BG240,BM240,BT240,BW240,CB240,CH240,CK240,CN240,CV240,DB240,DF240)","v":0},{"$f":"EQ240/11","v":0},{"$f":"SUM(BG240,BK240,BQ240,BW240,CH240,CP240,CS240,CU240,CY240,DG240)","v":0},{"$f":"ES240/10","v":0},{"$f":"SUM(BJ240,BO240,BT240,BX240,CB240,CG240,CK240,CO240,CW240,DC240)","v":0},{"$f":"EU240/10","v":0},{"$f":"SUM(BH240,BM240,BS240,BZ240,CE240,CL240,DB240,DE240)","v":0},{"$f":"EW240/8","v":0},{"$f":"SUM(BL240,BP240,BV240,CA240,CD240,CI240,CN240,CR240,CV240,CZ240,DF240)","v":0},{"$f":"EY240/11","v":0},{"$f":"SUM(ET240,EV240)/2","v":0},{"$f":"SUM(EX240,EZ240)/2","v":0},{"$f":"SUM(EL240,EN240,EP240,ER240,ET240,EV240,EX240,EZ240)/8","v":0},null,{"$f":"IF($GC240<>\"\",EH240-DI240,\"\")","v":""},{"$f":"IF($GC240<>\"\",EI240-DJ240,\"\")","v":""},null,{"$f":"IF($GC240<>\"\",EK240-DL240,\"\")","v":""},{"$f":"IF($GC240<>\"\",EL240-DM240,\"\")","v":""},{"$f":"IF($GC240<>\"\",EM240-DN240,\"\")","v":""},{"$f":"IF($GC240<>\"\",EN240-DO240,\"\")","v":""},{"$f":"IF($GC240<>\"\",EO240-DP240,\"\")","v":""},{"$f":"IF($GC240<>\"\",EP240-DQ240,\"\")","v":""},{"$f":"IF($GC240<>\"\",EQ240-DR240,\"\")","v":""},{"$f":"IF($GC240<>\"\",ER240-DS240,\"\")","v":""},{"$f":"IF($GC240<>\"\",ES240-DT240,\"\")","v":""},{"$f":"IF($GC240<>\"\",ET240-DU240,\"\")","v":""},{"$f":"IF($GC240<>\"\",EU240-DV240,\"\")","v":""},{"$f":"IF($GC240<>\"\",EV240-DW240,\"\")","v":""},{"$f":"IF($GC240<>\"\",EW240-DX240,\"\")","v":""},{"$f":"IF($GC240<>\"\",EX240-DY240,\"\")","v":""},{"$f":"IF($GC240<>\"\",EY240-DZ240,\"\")","v":""},{"$f":"IF($GC240<>\"\",EZ240-EA240,\"\")","v":""},{"$f":"IF($GC240<>\"\",FA240-EB240,\"\")","v":""},{"$f":"IF($GC240<>\"\",FB240-EC240,\"\")","v":""},{"$f":"IF($GC240<>\"\",FC240-ED240,\"\")","v":""},null,{"$f":"IF(Programs!$D$367=\"\",\"\",Programs!$D$367)","v":""},{"$f":"IF(AND(COUNT(D240:BE240)>48,COUNT(BF240:DG240)>48),GB240,\"\")","v":""},{"$f":"IF($GC240=\"\",\"\",(IF(FE240<0,$GC240,\"\")))","v":""},{"$f":"IF($GC240=\"\",\"\",(IF(FF240<0,$GC240,\"\")))","v":""},{"$f":"IF($GC240=\"\",\"\",(IF(FG240<0,$GC240,\"\")))","v":""},"","","","","","","","","","","","","","","","","","","",null,"","","","","","","","","","","","","","","","","","",""]
[null,{"$f":"Programs!B379","v":0},{"$f":"IF(Programs!$C$367=\"\",\"\",Programs!$C$367)","v":""},null,null,null,null,null,null,null,null,null,null,null,null,null,null,null,null,null,null,null,null,null,null,null,null,null,null,null,null,null,null,null,null,null,null,null,null,null,null,null,null,null,null,null,null,null,null,null,null,null,null,null,null,null,null,null,null,null,null,null,null,null,null,null,null,null,null,null,null,null,null,null,null,null,null,null,null,null,null,null,null,null,null,null,null,null,null,null,null,null,null,null,null,null,null,null,null,null,null,null,null,null,null,null,null,null,null,null,null,null,0,null,null,0,0,0,0,0,0,0,0,0,0,0,0,0,0,0,0,0,0,0,null,null,null,0,null,null,0,0,0,0,0,0,0,0,0,0,0,0,0,0,0,0,0,0,0,null,"","",null,"","","","","","","","","","","","","","","","","","","",null,{"$f":"IF(Programs!$D$367=\"\",\"\",Programs!$D$367)","v":""},"","","","","","","","","","","","","","","","","","","","","","","",null,"","","","","","","","","","","","","","","","","","",""]
[null,{"$f":"Programs!B380","v":0},{"$f":"IF(Programs!$C$367=\"\",\"\",Programs!$C$367)","v":""},null,null,null,null,null,null,null,null,null,null,null,null,null,null,null,null,null,null,null,null,null,null,null,null,null,null,null,null,null,null,null,null,null,null,null,null,null,null,null,null,null,null,null,null,null,null,null,null,null,null,null,null,null,null,null,null,null,null,null,null,null,null,null,null,null,null,null,null,null,null,null,null,null,null,null,null,null,null,null,null,null,null,null,null,null,null,null,null,null,null,null,null,null,null,null,null,null,null,null,null,null,null,null,null,null,null,null,null,null,0,null,null,0,0,0,0,0,0,0,0,0,0,0,0,0,0,0,0,0,0,0,null,null,null,0,null,null,0,0,0,0,0,0,0,0,0,0,0,0,0,0,0,0,0,0,0,null,"","",null,"","","","","","","","","","","","","","","","","","","",null,{"$f":"IF(Programs!$D$367=\"\",\"\",Programs!$D$367)","v":""},"","","","","","","","","","","","","","","","","","","","","","","",null,"","","","","","","","","","","","","","","","","","",""]
[null,{"$f":"Programs!B381","v":0},{"$f":"IF(Programs!$C$367=\"\",\"\",Programs!$C$367)","v":""},null,null,null,null,null,null,null,null,null,null,null,null,null,null,null,null,null,null,null,null,null,null,null,null,null,null,null,null,null,null,null,null,null,null,null,null,null,null,null,null,null,null,null,null,null,null,null,null,null,null,null,null,null,null,null,null,null,null,null,null,null,null,null,null,null,null,null,null,null,null,null,null,null,null,null,null,null,null,null,null,null,null,null,null,null,null,null,null,null,null,null,null,null,null,null,null,null,null,null,null,null,null,null,null,null,null,null,null,null,0,null,null,0,0,0,0,0,0,0,0,0,0,0,0,0,0,0,0,0,0,0,null,null,null,0,null,null,0,0,0,0,0,0,0,0,0,0,0,0,0,0,0,0,0,0,0,null,"","",null,"","","","","","","","","","","","","","","","","","","",null,{"$f":"IF(Programs!$D$367=\"\",\"\",Programs!$D$367)","v":""},"","","","","","","","","","","","","","","","","","","","","","","",null,"","","","","","","","","","","","","","","","","","",""]

{"sheet":"SS PrePost","index":8,"n_rows":243,"n_cols":200,"rows_kept":243,"cut":false,"hidden":false,"merged":[[195,0,205,0],[207,0,217,0],[219,0,229,0],[231,0,241,0],[147,0,157,0],[159,0,169,0],[171,0,181,0],[183,0,193,0],[123,0,133,0],[135,0,145,0],[51,0,61,0],[63,0,73,0],[75,0,85,0],[87,0,97,0],[111,0,121,0],[3,0,13,0],[15,0,25,0],[27,0,37,0],[39,0,49,0],[99,0,109,0]]}
[{"$f":"Instructions!$A$1","v":"3 Version  - 11/15/2019"},"SKillstreaming Pre-Post ",null,"BS","BS","BS","BS","BS","BS","BS","BS","AS","AS","AS","AS","AS","AS","DF","DF","DF","DF","DF","DF","DF","AA","AA","AA","AA","AA","AA","AA","AA","AA","DS","DS","DS","DS","DS","DS","DS","DS","DS","DS","DS","DS","PS","PS","PS","PS","PS","PS","PS","PS","BS","BS","BS","BS","BS","BS","BS","BS","AS","AS","AS","AS","AS","AS","DF","DF","DF","DF","DF","DF","DF","AA","AA","AA","AA","AA","AA","AA","AA","AA","DS","DS","DS","DS","DS","DS","DS","DS","DS","DS","DS","DS","PS","PS","PS","PS","PS","PS","PS","PS",null,"Skillstreaming Computations Pre-Test",null,null,null,null,null,null,null,null,null,null,null,null,null,null,null,null,null,null,null,null,null,null,null,null,null,null,null,null,null,null,null,null,null,null,null,null,null,null,null,null,null,null,null,null,null,null,null,null,null,"Skillstreaming Computations Post-Test",null,null,null,null,null,null,null,null,null,null,null,null,null,null,"Change Pre-Post",null,"GREEN","= Desired change",null,"RED","= Un-desired change",null,"BLACK","= No change",null,null,null,null,null,null,null,"Pos Change Count by quarter"]
[null,null,null,"Pre","Pre","Pre","Pre","Pre","Pre","Pre","Pre","Pre","Pre","Pre","Pre","Pre","Pre","Pre","Pre","Pre","Pre","Pre","Pre","Pre","Pre","Pre","Pre","Pre","Pre","Pre","Pre","Pre","Pre","Pre","Pre","Pre","Pre","Pre","Pre","Pre","Pre","Pre","Pre","Pre","Pre","Pre","Pre","Pre","Pre","Pre","Pre","Pre","Pre","Post","Post","Post","Post","Post","Post","Post","Post","Post","Post","Post","Post","Post","Post","Post","Post","Post","Post","Post","Post","Post","Post","Post","Post","Post","Post","Post","Post","Post","Post","Post","Post","Post","Post","Post","Post","Post","Post","Post","Post","Post","Post","Post","Post","Post","Post","Post","Post","Post","Post",null,"Begin Social Skills",null,"Adv. Social Skills",null,"Dealing w/ Feelings",null,"Alt to Aggression",null,"Dealing w/ stress",null,"Planning Skills",null,"Skillstreaming",null,null,null,null,null,null,null,null,null,null,null,null,null,null,null,null,null,null,null,null,null,null,null,null,null,null,null,null,null,null,null,null,null,null,null,null,null,"Begin Social Skills",null,"Adv. Social Skills",null,"Dealing w/ Feelings",null,"Alt to Aggression",null,"Dealing w/ stress",null,"Planning Skills",null,"Skillstreaming",null,null,"Begin Social Skills",null,"Adv. Social Skills",null,"Dealing w/ Feelings",null,"Alt to Aggression",null,"Dealing w/ stress",null,"Planning Skills",null,"Skillstreaming",null,null,null,null,"Begin Social Skills",null,"Adv. Social Skills",null,"Dealing w/ Feelings",null,"Alt to Aggression",null,"Dealing w/ stress",null,"Planning Skills",null,"Skillstreaming"]
[null,"Participant Code","Completion Date","Q 1","Q 2","Q 3","Q 4","Q 5","Q 6","Q 7","Q 8","Q 9","Q 10","Q 11","Q 12","Q 13","Q 14","Q 15","Q 16","Q 17","Q 18","Q 19","Q 20","Q 21","Q 22","Q 23","Q 24","Q 25","Q 26","Q 27","Q 28","Q 29","Q 30","Q 31","Q 32","Q 33","Q 34","Q 35","Q 36","Q 37","Q 38","Q 39","Q 40","Q 41","Q 42","Q 43","Q 44","Q 45","Q 46","Q 47","Q 48","Q 49","Q 50","Q 1","Q 2","Q 3","Q 4","Q 5","Q 6","Q 7","Q 8","Q 9","Q 10","Q 11","Q 12","Q 13","Q 14","Q 15","Q 16","Q 17","Q 18","Q 19","Q 20","Q 21","Q 22","Q 23","Q 24","Q 25","Q 26","Q 27","Q 28","Q 29","Q 30","Q 31","Q 32","Q 33","Q 34","Q 35","Q 36","Q 37","Q 38","Q 39","Q 40","Q 41","Q 42","Q 43","Q 44","Q 45","Q 46","Q 47","Q 48","Q 49","Q 50",null,"Total-Pre","Mean","Total-Pre","Mean","Total-Pre","Mean","Total-Pre","Mean","Total-Pre","Mean","Total-Pre","Mean","Tot-Score","Mean",null,null,null,null,null,null,null,null,null,null,null,null,null,null,null,null,null,null,null,null,null,null,null,null,null,null,null,null,null,null,null,null,null,null,null,null,"Total-Post","Mean","Total-Post","Mean","Total-Post","Mean","Total-Post","Mean","Total-Post","Mean","Total-Post","Mean","Tot-Score","Mean",null,"Total-Chg","Mean","Total-Chg","Mean","Total-Chg","Mean","Total-Chg","Mean","Total-Chg","Mean","Total-Chg","Mean","Tot-Score","Mean",null,"Qtr","Completed","Total-Chg","Mean","Total-Chg","Mean","Total-Chg","Mean","Total-Chg","Mean","Total-Chg","Mean","Total-Chg","Mean","Tot-Score","Mean"]
["Program 1",{"$f":"Programs!B9","v":0},{"$f":"IF(Programs!$C$6=\"\",\"\",Programs!$C$6)","v":""},null,null,null,null,null,null,null,null,null,null,null,null,null,null,null,null,null,null,null,null,null,null,null,null,null,null,null,null,null,null,null,null,null,null,null,null,null,null,null,null,null,null,null,null,null,null,null,null,null,null,null,null,null,null,null,null,null,null,null,null,null,null,null,null,null,null,null,null,null,null,null,null,null,null,null,null,null,null,null,null,null,null,null,null,null,null,null,null,null,null,null,null,null,null,null,null,null,null,null,null,null,{"$f":"SUM(D4:K4)","v":0},{"$f":"DA4/8","v":0},{"$f":"SUM(L4:Q4)","v":0},{"$f":"DC4/6","v":0},{"$f":"SUM(R4:X4)","v":0},{"$f":"DE4/7","v":0},{"$f":"SUM(Y4:AG4)","v":0},{"$f":"DG4/9","v":0},{"$f":"SUM(AH4:AS4)","v":0},{"$f":"DI4/12","v":0},{"$f":"SUM(AT4:BA4)","v":0},{"$f":"DK4/8","v":0},{"$f":"SUM(DA4,DC4,DE4,DG4,DI4,DK4)","v":0},{"$f":"DM4/50","v":0},null,null,null,null,null,null,null,null,null,null,null,null,null,null,null,null,null,null,null,null,null,null,null,null,null,null,null,null,null,null,null,null,null,null,null,null,{"$f":"SUM(BB4:BI4)","v":0},{"$f":"EY4/8","v":0},{"$f":"SUM(BJ4:BO4)","v":0},{"$f":"FA4/6","v":0},{"$f":"SUM(BP4:BV4)","v":0},{"$f":"FC4/7","v":0},{"$f":"SUM(BW4:CE4)","v":0},{"$f":"FE4/9","v":0},{"$f":"SUM(CF4:CQ4)","v":0},{"$f":"FG4/12","v":0},{"$f":"SUM(CR4:CY4)","v":0},{"$f":"FI4/8","v":0},{"$f":"SUM(EY4,FA4,FC4,FE4,FG4,FI4)","v":0},{"$f":"FK4/50","v":0},null,{"$f":"IF($GD4<>\"\",EY4-DA4,\"\")","v":""},{"$f":"IF($GD4<>\"\",EZ4-DB4,\"\")","v":""},"","","","","","","","","","","","",null,{"$f":"IF(Programs!$D$6=\"\",\"\",Programs!$D$6)","v":""},{"$f":"IF(AND(COUNT(D4:BA4)>45,COUNT(BB4:CY4)>45),GC4,\"\")","v":""},{"$f":"IF(FN4>0,$GD4,\"\")","v":""},{"$f":"IF($GD4=\"\",\"\",IF(FO4>0,$GD4,\"\"))","v":""},{"$f":"IF(FP4>0,$GD4,\"\")","v":""},{"$f":"IF($GD4=\"\",\"\",IF(FQ4>0,$GD4,\"\"))","v":""},{"$f":"IF(FR4>0,$GD4,\"\")","v":""},{"$f":"IF($GD4=\"\",\"\",IF(FS4>0,$GD4,\"\"))","v":""},{"$f":"IF(FT4>0,$GD4,\"\")","v":""},{"$f":"IF($GD4=\"\",\"\",IF(FU4>0,$GD4,\"\"))","v":""},{"$f":"IF(FV4>0,$GD4,\"\")","v":""},{"$f":"IF($GD4=\"\",\"\",IF(FW4>0,$GD4,\"\"))","v":""},{"$f":"IF(FX4>0,$GD4,\"\")","v":""},{"$f":"IF($GD4=\"\",\"\",IF(FY4>0,$GD4,\"\"))","v":""},{"$f":"IF(FZ4>0,$GD4,\"\")","v":""},{"$f":"IF($GD4=\"\",\"\",IF(GA4>0,$GD4,\"\"))","v":""}]
[null,{"$f":"Programs!B10","v":0},{"$f":"IF(Programs!$C$6=\"\",\"\",Programs!$C$6)","v":""},null,null,null,null,null,null,null,null,null,null,null,null,null,null,null,null,null,null,null,null,null,null,null,null,null,null,null,null,null,null,null,null,null,null,null,null,null,null,null,null,null,null,null,null,null,null,null,null,null,null,null,null,null,null,null,null,null,null,null,null,null,null,null,null,null,null,null,null,null,null,null,null,null,null,null,null,null,null,null,null,null,null,null,null,null,null,null,null,null,null,null,null,null,null,null,null,null,null,null,null,null,{"$f":"SUM(D5:K5)","v":0},{"$f":"DA5/8","v":0},{"$f":"SUM(L5:Q5)","v":0},{"$f":"DC5/6","v":0},{"$f":"SUM(R5:X5)","v":0},{"$f":"DE5/7","v":0},{"$f":"SUM(Y5:AG5)","v":0},{"$f":"DG5/9","v":0},{"$f":"SUM(AH5:AS5)","v":0},{"$f":"DI5/12","v":0},{"$f":"SUM(AT5:BA5)","v":0},{"$f":"DK5/8","v":0},{"$f":"SUM(DA5,DC5,DE5,DG5,DI5,DK5)","v":0},{"$f":"DM5/50","v":0},null,null,null,null,null,null,null,null,null,null,null,null,null,null,null,null,null,null,null,null,null,null,null,null,null,null,null,null,null,null,null,null,null,null,null,null,{"$f":"SUM(BB5:BI5)","v":0},{"$f":"EY5/8","v":0},{"$f":"SUM(BJ5:BO5)","v":0},{"$f":"FA5/6","v":0},{"$f":"SUM(BP5:BV5)","v":0},{"$f":"FC5/7","v":0},{"$f":"SUM(BW5:CE5)","v":0},{"$f":"FE5/9","v":0},{"$f":"SUM(CF5:CQ5)","v":0},{"$f":"FG5/12","v":0},{"$f":"SUM(CR5:CY5)","v":0},{"$f":"FI5/8","v":0},{"$f":"SUM(EY5,FA5,FC5,FE5,FG5,FI5)","v":0},{"$f":"FK5/50","v":0},null,{"$f":"IF($GD5<>\"\",EY5-DA5,\"\")","v":""},{"$f":"IF($GD5<>\"\",EZ5-DB5,\"\")","v":""},{"$f":"IF($GD5<>\"\",FA5-DC5,\"\")","v":""},{"$f":"IF($GD5<>\"\",FB5-DD5,\"\")","v":""},{"$f":"IF($GD5<>\"\",FC5-DE5,\"\")","v":""},{"$f":"IF($GD5<>\"\",FD5-DF5,\"\")","v":""},{"$f":"IF($GD5<>\"\",FE5-DG5,\"\")","v":""},{"$f":"IF($GD5<>\"\",FF5-DH5,\"\")","v":""},{"$f":"IF($GD5<>\"\",FG5-DI5,\"\")","v":""},{"$f":"IF($GD5<>\"\",FH5-DJ5,\"\")","v":""},{"$f":"IF($GD5<>\"\",FI5-DK5,\"\")","v":""},{"$f":"IF($GD5<>\"\",FJ5-DL5,\"\")","v":""},{"$f":"IF($GD5<>\"\",FK5-DM5,\"\")","v":""},{"$f":"IF($GD5<>\"\",FL5-DN5,\"\")","v":""},null,{"$f":"IF(Programs!$D$6=\"\",\"\",Programs!$D$6)","v":""},{"$f":"IF(AND(COUNT(D5:BA5)>45,COUNT(BB5:CY5)>45),GC5,\"\")","v":""},{"$f":"IF(FN5>0,$GD5,\"\")","v":""},{"$f":"IF($GD5=\"\",\"\",IF(FO5>0,$GD5,\"\"))","v":""},{"$f":"IF(FP5>0,$GD5,\"\")","v":""},{"$f":"IF($GD5=\"\",\"\",IF(FQ5>0,$GD5,\"\"))","v":""},{"$f":"IF(FR5>0,$GD5,\"\")","v":""},{"$f":"IF($GD5=\"\",\"\",IF(FS5>0,$GD5,\"\"))","v":""},{"$f":"IF(FT5>0,$GD5,\"\")","v":""},{"$f":"IF($GD5=\"\",\"\",IF(FU5>0,$GD5,\"\"))","v":""},{"$f":"IF(FV5>0,$GD5,\"\")","v":""},{"$f":"IF($GD5=\"\",\"\",IF(FW5>0,$GD5,\"\"))","v":""},{"$f":"IF(FX5>0,$GD5,\"\")","v":""},{"$f":"IF($GD5=\"\",\"\",IF(FY5>0,$GD5,\"\"))","v":""},{"$f":"IF(FZ5>0,$GD5,\"\")","v":""},{"$f":"IF($GD5=\"\",\"\",IF(GA5>0,$GD5,\"\"))","v":""}]
[null,{"$f":"Programs!B11","v":0},{"$f":"IF(Programs!$C$6=\"\",\"\",Programs!$C$6)","v":""},null,null,null,null,null,null,null,null,null,null,null,null,null,null,null,null,null,null,null,null,null,null,null,null,null,null,null,null,null,null,null,null,null,null,null,null,null,null,null,null,null,null,null,null,null,null,null,null,null,null,null,null,null,null,null,null,null,null,null,null,null,null,null,null,null,null,null,null,null,null,null,null,null,null,null,null,null,null,null,null,null,null,null,null,null,null,null,null,null,null,null,null,null,null,null,null,null,null,null,null,null,0,0,0,0,0,0,0,0,0,0,0,0,0,0,null,null,null,null,null,null,null,null,null,null,null,null,null,null,null,null,null,null,null,null,null,null,null,null,null,null,null,null,null,null,null,null,null,null,null,null,0,0,0,0,0,0,0,0,0,0,0,0,0,0,null,"","","","","","","","","","","","","","",null,{"$f":"IF(Programs!$D$6=\"\",\"\",Programs!$D$6)","v":""},"","","","","","","","","","","","","","",""]
[null,{"$f":"Programs!B12","v":0},{"$f":"IF(Programs!$C$6=\"\",\"\",Programs!$C$6)","v":""},null,null,null,null,null,null,null,null,null,null,null,null,null,null,null,null,null,null,null,null,null,null,null,null,null,null,null,null,null,null,null,null,null,null,null,null,null,null,null,null,null,null,null,null,null,null,null,null,null,null,null,null,null,null,null,null,null,null,null,null,null,null,null,null,null,null,null,null,null,null,null,null,null,null,null,null,null,null,null,null,null,null,null,null,null,null,null,null,null,null,null,null,null,null,null,null,null,null,null,null,null,0,0,0,0,0,0,0,0,0,0,0,0,0,0,null,null,null,null,null,null,null,null,null,null,null,null,null,null,null,null,null,null,null,null,null,null,null,null,null,null,null,null,null,null,null,null,null,null,null,null,0,0,0,0,0,0,0,0,0,0,0,0,0,0,null,"","","","","","","","","","","","","","",null,{"$f":"IF(Programs!$D$6=\"\",\"\",Programs!$D$6)","v":""},"","","","","","","","","","","","","","",""]
[null,{"$f":"Programs!B13","v":0},{"$f":"IF(Programs!$C$6=\"\",\"\",Programs!$C$6)","v":""},null,null,null,null,null,null,null,null,null,null,null,null,null,null,null,null,null,null,null,null,null,null,null,null,null,null,null,null,null,null,null,null,null,null,null,null,null,null,null,null,null,null,null,null,null,null,null,null,null,null,null,null,null,null,null,null,null,null,null,null,null,null,null,null,null,null,null,null,null,null,null,null,null,null,null,null,null,null,null,null,null,null,null,null,null,null,null,null,null,null,null,null,null,null,null,null,null,null,null,null,null,0,0,0,0,0,0,0,0,0,0,0,0,0,0,null,null,null,null,null,null,null,null,null,null,null,null,null,null,null,null,null,null,null,null,null,null,null,null,null,null,null,null,null,null,null,null,null,null,null,null,0,0,0,0,0,0,0,0,0,0,0,0,0,0,null,"","","","","","","","","","","","","","",null,{"$f":"IF(Programs!$D$6=\"\",\"\",Programs!$D$6)","v":""},"","","","","","","","","","","","","","",""]
[null,{"$f":"Programs!B14","v":0},{"$f":"IF(Programs!$C$6=\"\",\"\",Programs!$C$6)","v":""},null,null,null,null,null,null,null,null,null,null,null,null,null,null,null,null,null,null,null,null,null,null,null,null,null,null,null,null,null,null,null,null,null,null,null,null,null,null,null,null,null,null,null,null,null,null,null,null,null,null,null,null,null,null,null,null,null,null,null,null,null,null,null,null,null,null,null,null,null,null,null,null,null,null,null,null,null,null,null,null,null,null,null,null,null,null,null,null,null,null,null,null,null,null,null,null,null,null,null,null,null,0,0,0,0,0,0,0,0,0,0,0,0,0,0,null,null,null,null,null,null,null,null,null,null,null,null,null,null,null,null,null,null,null,null,null,null,null,null,null,null,null,null,null,null,null,null,null,null,null,null,0,0,0,0,0,0,0,0,0,0,0,0,0,0,null,"","","","","","","","","","","","","","",null,{"$f":"IF(Programs!$D$6=\"\",\"\",Programs!$D$6)","v":""},"","","","","","","","","","","","","","",""]
[null,{"$f":"Programs!B15","v":0},{"$f":"IF(Programs!$C$6=\"\",\"\",Programs!$C$6)","v":""},null,null,null,null,null,null,null,null,null,null,null,null,null,null,null,null,null,null,null,null,null,null,null,null,null,null,null,null,null,null,null,null,null,null,null,null,null,null,null,null,null,null,null,null,null,null,null,null,null,null,null,null,null,null,null,null,null,null,null,null,null,null,null,null,null,null,null,null,null,null,null,null,null,null,null,null,null,null,null,null,null,null,null,null,null,null,null,null,null,null,null,null,null,null,null,null,null,null,null,null,null,0,0,0,0,0,0,0,0,0,0,0,0,0,0,null,null,null,null,null,null,null,null,null,null,null,null,null,null,null,null,null,null,null,null,null,null,null,null,null,null,null,null,null,null,null,null,null,null,null,null,0,0,0,0,0,0,0,0,0,0,0,0,0,0,null,"","","","","","","","","","","","","","",null,{"$f":"IF(Programs!$D$6=\"\",\"\",Programs!$D$6)","v":""},"","","","","","","","","","","","","","",""]
[null,{"$f":"Programs!B16","v":0},{"$f":"IF(Programs!$C$6=\"\",\"\",Programs!$C$6)","v":""},null,null,null,null,null,null,null,null,null,null,null,null,null,null,null,null,null,null,null,null,null,null,null,null,null,null,null,null,null,null,null,null,null,null,null,null,null,null,null,null,null,null,null,null,null,null,null,null,null,null,null,null,null,null,null,null,null,null,null,null,null,null,null,null,null,null,null,null,null,null,null,null,null,null,null,null,null,null,null,null,null,null,null,null,null,null,null,null,null,null,null,null,null,null,null,null,null,null,null,null,null,0,0,0,0,0,0,0,0,0,0,0,0,0,0,null,null,null,null,null,null,null,null,null,null,null,null,null,null,null,null,null,null,null,null,null,null,null,null,null,null,null,null,null,null,null,null,null,null,null,null,0,0,0,0,0,0,0,0,0,0,0,0,0,0,null,"","","","","","","","","","","","","","",null,{"$f":"IF(Programs!$D$6=\"\",\"\",Programs!$D$6)","v":""},"","","","","","","","","","","","","","",""]
[null,{"$f":"Programs!B17","v":0},{"$f":"IF(Programs!$C$6=\"\",\"\",Programs!$C$6)","v":""},null,null,null,null,null,null,null,null,null,null,null,null,null,null,null,null,null,null,null,null,null,null,null,null,null,null,null,null,null,null,null,null,null,null,null,null,null,null,null,null,null,null,null,null,null,null,null,null,null,null,null,null,null,null,null,null,null,null,null,null,null,null,null,null,null,null,null,null,null,null,null,null,null,null,null,null,null,null,null,null,null,null,null,null,null,null,null,null,null,null,null,null,null,null,null,null,null,null,null,null,null,{"$f":"SUM(D12:K12)","v":0},{"$f":"DA12/8","v":0},{"$f":"SUM(L12:Q12)","v":0},{"$f":"DC12/6","v":0},{"$f":"SUM(R12:X12)","v":0},{"$f":"DE12/7","v":0},{"$f":"SUM(Y12:AG12)","v":0},{"$f":"DG12/9","v":0},{"$f":"SUM(AH12:AS12)","v":0},{"$f":"DI12/12","v":0},{"$f":"SUM(AT12:BA12)","v":0},{"$f":"DK12/8","v":0},{"$f":"SUM(DA12,DC12,DE12,DG12,DI12,DK12)","v":0},{"$f":"DM12/50","v":0},null,null,null,null,null,null,null,null,null,null,null,null,null,null,null,null,null,null,null,null,null,null,null,null,null,null,null,null,null,null,null,null,null,null,null,null,{"$f":"SUM(BB12:BI12)","v":0},{"$f":"EY12/8","v":0},{"$f":"SUM(BJ12:BO12)","v":0},{"$f":"FA12/6","v":0},{"$f":"SUM(BP12:BV12)","v":0},{"$f":"FC12/7","v":0},{"$f":"SUM(BW12:CE12)","v":0},{"$f":"FE12/9","v":0},{"$f":"SUM(CF12:CQ12)","v":0},{"$f":"FG12/12","v":0},{"$f":"SUM(CR12:CY12)","v":0},{"$f":"FI12/8","v":0},{"$f":"SUM(EY12,FA12,FC12,FE12,FG12,FI12)","v":0},{"$f":"FK12/50","v":0},null,{"$f":"IF($GD12<>\"\",EY12-DA12,\"\")","v":""},{"$f":"IF($GD12<>\"\",EZ12-DB12,\"\")","v":""},{"$f":"IF($GD12<>\"\",FA12-DC12,\"\")","v":""},{"$f":"IF($GD12<>\"\",FB12-DD12,\"\")","v":""},{"$f":"IF($GD12<>\"\",FC12-DE12,\"\")","v":""},{"$f":"IF($GD12<>\"\",FD12-DF12,\"\")","v":""},{"$f":"IF($GD12<>\"\",FE12-DG12,\"\")","v":""},{"$f":"IF($GD12<>\"\",FF12-DH12,\"\")","v":""},{"$f":"IF($GD12<>\"\",FG12-DI12,\"\")","v":""},{"$f":"IF($GD12<>\"\",FH12-DJ12,\"\")","v":""},{"$f":"IF($GD12<>\"\",FI12-DK12,\"\")","v":""},{"$f":"IF($GD12<>\"\",FJ12-DL12,\"\")","v":""},{"$f":"IF($GD12<>\"\",FK12-DM12,\"\")","v":""},{"$f":"IF($GD12<>\"\",FL12-DN12,\"\")","v":""},null,{"$f":"IF(Programs!$D$6=\"\",\"\",Programs!$D$6)","v":""},{"$f":"IF(AND(COUNT(D12:BA12)>45,COUNT(BB12:CY12)>45),GC12,\"\")","v":""},"","","","","","","","","","","","","",""]
[null,{"$f":"Programs!B18","v":0},{"$f":"IF(Programs!$C$6=\"\",\"\",Programs!$C$6)","v":""},null,null,null,null,null,null,null,null,null,null,null,null,null,null,null,null,null,null,null,null,null,null,null,null,null,null,null,null,null,null,null,null,null,null,null,null,null,null,null,null,null,null,null,null,null,null,null,null,null,null,null,null,null,null,null,null,null,null,null,null,null,null,null,null,null,null,null,null,null,null,null,null,null,null,null,null,null,null,null,null,null,null,null,null,null,null,null,null,null,null,null,null,null,null,null,null,null,null,null,null,null,0,0,0,0,0,0,0,0,0,0,0,0,0,0,null,null,null,null,null,null,null,null,null,null,null,null,null,null,null,null,null,null,null,null,null,null,null,null,null,null,null,null,null,null,null,null,null,null,null,null,0,0,0,0,0,0,0,0,0,0,0,0,0,0,null,"","","","","","","","","","","","","","",null,{"$f":"IF(Programs!$D$6=\"\",\"\",Programs!$D$6)","v":""},"","","","","","","","","","","","","","",""]
[null,{"$f":"Programs!B19","v":0},{"$f":"IF(Programs!$C$6=\"\",\"\",Programs!$C$6)","v":""},null,null,null,null,null,null,null,null,null,null,null,null,null,null,null,null,null,null,null,null,null,null,null,null,null,null,null,null,null,null,null,null,null,null,null,null,null,null,null,null,null,null,null,null,null,null,null,null,null,null,null,null,null,null,null,null,null,null,null,null,null,null,null,null,null,null,null,null,null,null,null,null,null,null,null,null,null,null,null,null,null,null,null,null,null,null,null,null,null,null,null,null,null,null,null,null,null,null,null,null,null,0,0,0,0,0,0,0,0,0,0,0,0,0,0,null,null,null,null,null,null,null,null,null,null,null,null,null,null,null,null,null,null,null,null,null,null,null,null,null,null,null,null,null,null,null,null,null,null,null,null,0,0,0,0,0,0,0,0,0,0,0,0,0,0,null,"","","","","","","","","","","","","","",null,{"$f":"IF(Programs!$D$6=\"\",\"\",Programs!$D$6)","v":""},"","","","","","","","","","","","","","",""]
[null,{"$f":"Programs!B20","v":0},{"$f":"IF(Programs!$C$6=\"\",\"\",Programs!$C$6)","v":""},null,null,null,null,null,null,null,null,null,null,null,null,null,null,null,null,null,null,null,null,null,null,null,null,null,null,null,null,null,null,null,null,null,null,null,null,null,null,null,null,null,null,null,null,null,null,null,null,null,null,null,null,null,null,null,null,null,null,null,null,null,null,null,null,null,null,null,null,null,null,null,null,null,null,null,null,null,null,null,null,null,null,null,null,null,null,null,null,null,null,null,null,null,null,null,null,null,null,null,null,null,0,0,0,0,0,0,0,0,0,0,0,0,0,0,null,null,null,null,null,null,null,null,null,null,null,null,null,null,null,null,null,null,null,null,null,null,null,null,null,null,null,null,null,null,null,null,null,null,null,null,0,0,0,0,0,0,0,0,0,0,0,0,0,0,null,"","","","","","","","","","","","","","",null,{"$f":"IF(Programs!$D$6=\"\",\"\",Programs!$D$6)","v":""},"","","","","","","","","","","","","","",""]
["Program 2",{"$f":"Programs!B28","v":0},{"$f":"IF(Programs!$C$25=\"\",\"\",Programs!$C$25)","v":""},null,null,null,null,null,null,null,null,null,null,null,null,null,null,null,null,null,null,null,null,null,null,null,null,null,null,null,null,null,null,null,null,null,null,null,null,null,null,null,null,null,null,null,null,null,null,null,null,null,null,null,null,null,null,null,null,null,null,null,null,null,null,null,null,null,null,null,null,null,null,null,null,null,null,null,null,null,null,null,null,null,null,null,null,null,null,null,null,null,null,null,null,null,null,null,null,null,null,null,null,null,{"$f":"SUM(D16:K16)","v":0},{"$f":"DA16/8","v":0},{"$f":"SUM(L16:Q16)","v":0},{"$f":"DC16/6","v":0},{"$f":"SUM(R16:X16)","v":0},{"$f":"DE16/7","v":0},{"$f":"SUM(Y16:AG16)","v":0},{"$f":"DG16/9","v":0},{"$f":"SUM(AH16:AS16)","v":0},{"$f":"DI16/12","v":0},{"$f":"SUM(AT16:BA16)","v":0},{"$f":"DK16/8","v":0},{"$f":"SUM(DA16,DC16,DE16,DG16,DI16,DK16)","v":0},{"$f":"DM16/50","v":0},null,null,null,null,null,null,null,null,null,null,null,null,null,null,null,null,null,null,null,null,null,null,null,null,null,null,null,null,null,null,null,null,null,null,null,null,{"$f":"SUM(BB16:BI16)","v":0},{"$f":"EY16/8","v":0},{"$f":"SUM(BJ16:BO16)","v":0},{"$f":"FA16/6","v":0},{"$f":"SUM(BP16:BV16)","v":0},{"$f":"FC16/7","v":0},{"$f":"SUM(BW16:CE16)","v":0},{"$f":"FE16/9","v":0},{"$f":"SUM(CF16:CQ16)","v":0},{"$f":"FG16/12","v":0},{"$f":"SUM(CR16:CY16)","v":0},{"$f":"FI16/8","v":0},{"$f":"SUM(EY16,FA16,FC16,FE16,FG16,FI16)","v":0},{"$f":"FK16/50","v":0},null,"","","","","","","","","","","","","","",null,{"$f":"IF(Programs!$D$25=\"\",\"\",Programs!$D$25)","v":""},"","","","","","","","","","","","","","",""]
[null,{"$f":"Programs!B29","v":0},{"$f":"IF(Programs!$C$25=\"\",\"\",Programs!$C$25)","v":""},null,null,null,null,null,null,null,null,null,null,null,null,null,null,null,null,null,null,null,null,null,null,null,null,null,null,null,null,null,null,null,null,null,null,null,null,null,null,null,null,null,null,null,null,null,null,null,null,null,null,null,null,null,null,null,null,null,null,null,null,null,null,null,null,null,null,null,null,null,null,null,null,null,null,null,null,null,null,null,null,null,null,null,null,null,null,null,null,null,null,null,null,null,null,null,null,null,null,null,null,null,0,0,0,0,0,0,0,0,0,0,0,0,0,0,null,null,null,null,null,null,null,null,null,null,null,null,null,null,null,null,null,null,null,null,null,null,null,null,null,null,null,null,null,null,null,null,null,null,null,null,0,0,0,0,0,0,0,0,0,0,0,0,0,0,null,"","","","","","","","","","","","","","",null,{"$f":"IF(Programs!$D$25=\"\",\"\",Programs!$D$25)","v":""},{"$f":"IF(AND(COUNT(D17:BA17)>45,COUNT(BB17:CY17)>45),GC17,\"\")","v":""},"","","","","","","","","","","","","",""]
[null,{"$f":"Programs!B30","v":0},{"$f":"IF(Programs!$C$25=\"\",\"\",Programs!$C$25)","v":""},null,null,null,null,null,null,null,null,null,null,null,null,null,null,null,null,null,null,null,null,null,null,null,null,null,null,null,null,null,null,null,null,null,null,null,null,null,null,null,null,null,null,null,null,null,null,null,null,null,null,null,null,null,null,null,null,null,null,null,null,null,null,null,null,null,null,null,null,null,null,null,null,null,null,null,null,null,null,null,null,null,null,null,null,null,null,null,null,null,null,null,null,null,null,null,null,null,null,null,null,null,0,0,0,0,0,0,0,0,0,0,0,0,0,0,null,null,null,null,null,null,null,null,null,null,null,null,null,null,null,null,null,null,null,null,null,null,null,null,null,null,null,null,null,null,null,null,null,null,null,null,0,0,0,0,0,0,0,0,0,0,0,0,0,0,null,"","","","","","","","","","","","","","",null,{"$f":"IF(Programs!$D$25=\"\",\"\",Programs!$D$25)","v":""},"","","","","","","","","","","","","","",""]
[null,{"$f":"Programs!B31","v":0},{"$f":"IF(Programs!$C$25=\"\",\"\",Programs!$C$25)","v":""},null,null,null,null,null,null,null,null,null,null,null,null,null,null,null,null,null,null,null,null,null,null,null,null,null,null,null,null,null,null,null,null,null,null,null,null,null,null,null,null,null,null,null,null,null,null,null,null,null,null,null,null,null,null,null,null,null,null,null,null,null,null,null,null,null,null,null,null,null,null,null,null,null,null,null,null,null,null,null,null,null,null,null,null,null,null,null,null,null,null,null,null,null,null,null,null,null,null,null,null,null,0,0,0,0,0,0,0,0,0,0,0,0,0,0,null,null,null,null,null,null,null,null,null,null,null,null,null,null,null,null,null,null,null,null,null,null,null,null,null,null,null,null,null,null,null,null,null,null,null,null,0,0,0,0,0,0,0,0,0,0,0,0,0,0,null,"","","","","","","","","","","","","","",null,{"$f":"IF(Programs!$D$25=\"\",\"\",Programs!$D$25)","v":""},"","","","","","","","","","","","","","",""]
[null,{"$f":"Programs!B32","v":0},{"$f":"IF(Programs!$C$25=\"\",\"\",Programs!$C$25)","v":""},null,null,null,null,null,null,null,null,null,null,null,null,null,null,null,null,null,null,null,null,null,null,null,null,null,null,null,null,null,null,null,null,null,null,null,null,null,null,null,null,null,null,null,null,null,null,null,null,null,null,null,null,null,null,null,null,null,null,null,null,null,null,null,null,null,null,null,null,null,null,null,null,null,null,null,null,null,null,null,null,null,null,null,null,null,null,null,null,null,null,null,null,null,null,null,null,null,null,null,null,null,0,0,0,0,0,0,0,0,0,0,0,0,0,0,null,null,null,null,null,null,null,null,null,null,null,null,null,null,null,null,null,null,null,null,null,null,null,null,null,null,null,null,null,null,null,null,null,null,null,null,0,0,0,0,0,0,0,0,0,0,0,0,0,0,null,"","","","","","","","","","","","","","",null,{"$f":"IF(Programs!$D$25=\"\",\"\",Programs!$D$25)","v":""},"","","","","","","","","","","","","","",""]
[null,{"$f":"Programs!B33","v":0},{"$f":"IF(Programs!$C$25=\"\",\"\",Programs!$C$25)","v":""},null,null,null,null,null,null,null,null,null,null,null,null,null,null,null,null,null,null,null,null,null,null,null,null,null,null,null,null,null,null,null,null,null,null,null,null,null,null,null,null,null,null,null,null,null,null,null,null,null,null,null,null,null,null,null,null,null,null,null,null,null,null,null,null,null,null,null,null,null,null,null,null,null,null,null,null,null,null,null,null,null,null,null,null,null,null,null,null,null,null,null,null,null,null,null,null,null,null,null,null,null,0,0,0,0,0,0,0,0,0,0,0,0,0,0,null,null,null,null,null,null,null,null,null,null,null,null,null,null,null,null,null,null,null,null,null,null,null,null,null,null,null,null,null,null,null,null,null,null,null,null,0,0,0,0,0,0,0,0,0,0,0,0,0,0,null,"","","","","","","","","","","","","","",null,{"$f":"IF(Programs!$D$25=\"\",\"\",Programs!$D$25)","v":""},"","","","","","","","","","","","","","",""]
[null,{"$f":"Programs!B34","v":0},{"$f":"IF(Programs!$C$25=\"\",\"\",Programs!$C$25)","v":""},null,null,null,null,null,null,null,null,null,null,null,null,null,null,null,null,null,null,null,null,null,null,null,null,null,null,null,null,null,null,null,null,null,null,null,null,null,null,null,null,null,null,null,null,null,null,null,null,null,null,null,null,null,null,null,null,null,null,null,null,null,null,null,null,null,null,null,null,null,null,null,null,null,null,null,null,null,null,null,null,null,null,null,null,null,null,null,null,null,null,null,null,null,null,null,null,null,null,null,null,null,0,0,0,0,0,0,0,0,0,0,0,0,0,0,null,null,null,null,null,null,null,null,null,null,null,null,null,null,null,null,null,null,null,null,null,null,null,null,null,null,null,null,null,null,null,null,null,null,null,null,0,0,0,0,0,0,0,0,0,0,0,0,0,0,null,"","","","","","","","","","","","","","",null,{"$f":"IF(Programs!$D$25=\"\",\"\",Programs!$D$25)","v":""},"","","","","","","","","","","","","","",""]
[null,{"$f":"Programs!B35","v":0},{"$f":"IF(Programs!$C$25=\"\",\"\",Programs!$C$25)","v":""},null,null,null,null,null,null,null,null,null,null,null,null,null,null,null,null,null,null,null,null,null,null,null,null,null,null,null,null,null,null,null,null,null,null,null,null,null,null,null,null,null,null,null,null,null,null,null,null,null,null,null,null,null,null,null,null,null,null,null,null,null,null,null,null,null,null,null,null,null,null,null,null,null,null,null,null,null,null,null,null,null,null,null,null,null,null,null,null,null,null,null,null,null,null,null,null,null,null,null,null,null,0,0,0,0,0,0,0,0,0,0,0,0,0,0,null,null,null,null,null,null,null,null,null,null,null,null,null,null,null,null,null,null,null,null,null,null,null,null,null,null,null,null,null,null,null,null,null,null,null,null,0,0,0,0,0,0,0,0,0,0,0,0,0,0,null,"","","","","","","","","","","","","","",null,{"$f":"IF(Programs!$D$25=\"\",\"\",Programs!$D$25)","v":""},"","","","","","","","","","","","","","",""]
[null,{"$f":"Programs!B36","v":0},{"$f":"IF(Programs!$C$25=\"\",\"\",Programs!$C$25)","v":""},null,null,null,null,null,null,null,null,null,null,null,null,null,null,null,null,null,null,null,null,null,null,null,null,null,null,null,null,null,null,null,null,null,null,null,null,null,null,null,null,null,null,null,null,null,null,null,null,null,null,null,null,null,null,null,null,null,null,null,null,null,null,null,null,null,null,null,null,null,null,null,null,null,null,null,null,null,null,null,null,null,null,null,null,null,null,null,null,null,null,null,null,null,null,null,null,null,null,null,null,null,{"$f":"SUM(D24:K24)","v":0},{"$f":"DA24/8","v":0},{"$f":"SUM(L24:Q24)","v":0},{"$f":"DC24/6","v":0},{"$f":"SUM(R24:X24)","v":0},{"$f":"DE24/7","v":0},{"$f":"SUM(Y24:AG24)","v":0},{"$f":"DG24/9","v":0},{"$f":"SUM(AH24:AS24)","v":0},{"$f":"DI24/12","v":0},{"$f":"SUM(AT24:BA24)","v":0},{"$f":"DK24/8","v":0},{"$f":"SUM(DA24,DC24,DE24,DG24,DI24,DK24)","v":0},{"$f":"DM24/50","v":0},null,null,null,null,null,null,null,null,null,null,null,null,null,null,null,null,null,null,null,null,null,null,null,null,null,null,null,null,null,null,null,null,null,null,null,null,{"$f":"SUM(BB24:BI24)","v":0},{"$f":"EY24/8","v":0},{"$f":"SUM(BJ24:BO24)","v":0},{"$f":"FA24/6","v":0},{"$f":"SUM(BP24:BV24)","v":0},{"$f":"FC24/7","v":0},{"$f":"SUM(BW24:CE24)","v":0},{"$f":"FE24/9","v":0},{"$f":"SUM(CF24:CQ24)","v":0},{"$f":"FG24/12","v":0},{"$f":"SUM(CR24:CY24)","v":0},{"$f":"FI24/8","v":0},{"$f":"SUM(EY24,FA24,FC24,FE24,FG24,FI24)","v":0},{"$f":"FK24/50","v":0},null,{"$f":"IF($GD24<>\"\",EY24-DA24,\"\")","v":""},{"$f":"IF($GD24<>\"\",EZ24-DB24,\"\")","v":""},{"$f":"IF($GD24<>\"\",FA24-DC24,\"\")","v":""},{"$f":"IF($GD24<>\"\",FB24-DD24,\"\")","v":""},{"$f":"IF($GD24<>\"\",FC24-DE24,\"\")","v":""},{"$f":"IF($GD24<>\"\",FD24-DF24,\"\")","v":""},{"$f":"IF($GD24<>\"\",FE24-DG24,\"\")","v":""},{"$f":"IF($GD24<>\"\",FF24-DH24,\"\")","v":""},{"$f":"IF($GD24<>\"\",FG24-DI24,\"\")","v":""},{"$f":"IF($GD24<>\"\",FH24-DJ24,\"\")","v":""},{"$f":"IF($GD24<>\"\",FI24-DK24,\"\")","v":""},{"$f":"IF($GD24<>\"\",FJ24-DL24,\"\")","v":""},{"$f":"IF($GD24<>\"\",FK24-DM24,\"\")","v":""},{"$f":"IF($GD24<>\"\",FL24-DN24,\"\")","v":""},null,{"$f":"IF(Programs!$D$25=\"\",\"\",Programs!$D$25)","v":""},{"$f":"IF(AND(COUNT(D24:BA24)>45,COUNT(BB24:CY24)>45),GC24,\"\")","v":""},"","","","","","","","","","","","","",""]
[null,{"$f":"Programs!B37","v":0},{"$f":"IF(Programs!$C$25=\"\",\"\",Programs!$C$25)","v":""},null,null,null,null,null,null,null,null,null,null,null,null,null,null,null,null,null,null,null,null,null,null,null,null,null,null,null,null,null,null,null,null,null,null,null,null,null,null,null,null,null,null,null,null,null,null,null,null,null,null,null,null,null,null,null,null,null,null,null,null,null,null,null,null,null,null,null,null,null,null,null,null,null,null,null,null,null,null,null,null,null,null,null,null,null,null,null,null,null,null,null,null,null,null,null,null,null,null,null,null,null,0,0,0,0,0,0,0,0,0,0,0,0,0,0,null,null,null,null,null,null,null,null,null,null,null,null,null,null,null,null,null,null,null,null,null,null,null,null,null,null,null,null,null,null,null,null,null,null,null,null,0,0,0,0,0,0,0,0,0,0,0,0,0,0,null,"","","","","","","","","","","","","","",null,{"$f":"IF(Programs!$D$25=\"\",\"\",Programs!$D$25)","v":""},"","","","","","","","","","","","","","",""]
[null,{"$f":"Programs!B38","v":0},{"$f":"IF(Programs!$C$25=\"\",\"\",Programs!$C$25)","v":""},null,null,null,null,null,null,null,null,null,null,null,null,null,null,null,null,null,null,null,null,null,null,null,null,null,null,null,null,null,null,null,null,null,null,null,null,null,null,null,null,null,null,null,null,null,null,null,null,null,null,null,null,null,null,null,null,null,null,null,null,null,null,null,null,null,null,null,null,null,null,null,null,null,null,null,null,null,null,null,null,null,null,null,null,null,null,null,null,null,null,null,null,null,null,null,null,null,null,null,null,null,0,0,0,0,0,0,0,0,0,0,0,0,0,0,null,null,null,null,null,null,null,null,null,null,null,null,null,null,null,null,null,null,null,null,null,null,null,null,null,null,null,null,null,null,null,null,null,null,null,null,0,0,0,0,0,0,0,0,0,0,0,0,0,0,null,"","","","","","","","","","","","","","",null,{"$f":"IF(Programs!$D$25=\"\",\"\",Programs!$D$25)","v":""},"","","","","","","","","","","","","","",""]
[null,{"$f":"Programs!B39","v":0},{"$f":"IF(Programs!$C$25=\"\",\"\",Programs!$C$25)","v":""},null,null,null,null,null,null,null,null,null,null,null,null,null,null,null,null,null,null,null,null,null,null,null,null,null,null,null,null,null,null,null,null,null,null,null,null,null,null,null,null,null,null,null,null,null,null,null,null,null,null,null,null,null,null,null,null,null,null,null,null,null,null,null,null,null,null,null,null,null,null,null,null,null,null,null,null,null,null,null,null,null,null,null,null,null,null,null,null,null,null,null,null,null,null,null,null,null,null,null,null,null,0,0,0,0,0,0,0,0,0,0,0,0,0,0,null,null,null,null,null,null,null,null,null,null,null,null,null,null,null,null,null,null,null,null,null,null,null,null,null,null,null,null,null,null,null,null,null,null,null,null,0,0,0,0,0,0,0,0,0,0,0,0,0,0,null,"","","","","","","","","","","","","","",null,{"$f":"IF(Programs!$D$25=\"\",\"\",Programs!$D$25)","v":""},"","","","","","","","","","","","","","",""]
["Program 3",{"$f":"Programs!B47","v":0},{"$f":"IF(Programs!$C$44=\"\",\"\",Programs!$C$44)","v":""},null,null,null,null,null,null,null,null,null,null,null,null,null,null,null,null,null,null,null,null,null,null,null,null,null,null,null,null,null,null,null,null,null,null,null,null,null,null,null,null,null,null,null,null,null,null,null,null,null,null,null,null,null,null,null,null,null,null,null,null,null,null,null,null,null,null,null,null,null,null,null,null,null,null,null,null,null,null,null,null,null,null,null,null,null,null,null,null,null,null,null,null,null,null,null,null,null,null,null,null,null,0,0,0,0,0,0,0,0,0,0,0,0,0,0,null,null,null,null,null,null,null,null,null,null,null,null,null,null,null,null,null,null,null,null,null,null,null,null,null,null,null,null,null,null,null,null,null,null,null,null,0,0,0,0,0,0,0,0,0,0,0,0,0,0,null,"","","","","","","","","","","","","","",null,{"$f":"IF(Programs!$D$44=\"\",\"\",Programs!$D$44)","v":""},"","","","","","","","","","","","","","",""]
[null,{"$f":"Programs!B48","v":0},{"$f":"IF(Programs!$C$44=\"\",\"\",Programs!$C$44)","v":""},null,null,null,null,null,null,null,null,null,null,null,null,null,null,null,null,null,null,null,null,null,null,null,null,null,null,null,null,null,null,null,null,null,null,null,null,null,null,null,null,null,null,null,null,null,null,null,null,null,null,null,null,null,null,null,null,null,null,null,null,null,null,null,null,null,null,null,null,null,null,null,null,null,null,null,null,null,null,null,null,null,null,null,null,null,null,null,null,null,null,null,null,null,null,null,null,null,null,null,null,null,0,0,0,0,0,0,0,0,0,0,0,0,0,0,null,null,null,null,null,null,null,null,null,null,null,null,null,null,null,null,null,null,null,null,null,null,null,null,null,null,null,null,null,null,null,null,null,null,null,null,0,0,0,0,0,0,0,0,0,0,0,0,0,0,null,"","","","","","","","","","","","","","",null,{"$f":"IF(Programs!$D$44=\"\",\"\",Programs!$D$44)","v":""},"","","","","","","","","","","","","","",""]
[null,{"$f":"Programs!B49","v":0},{"$f":"IF(Programs!$C$44=\"\",\"\",Programs!$C$44)","v":""},null,null,null,null,null,null,null,null,null,null,null,null,null,null,null,null,null,null,null,null,null,null,null,null,null,null,null,null,null,null,null,null,null,null,null,null,null,null,null,null,null,null,null,null,null,null,null,null,null,null,null,null,null,null,null,null,null,null,null,null,null,null,null,null,null,null,null,null,null,null,null,null,null,null,null,null,null,null,null,null,null,null,null,null,null,null,null,null,null,null,null,null,null,null,null,null,null,null,null,null,null,0,0,0,0,0,0,0,0,0,0,0,0,0,0,null,null,null,null,null,null,null,null,null,null,null,null,null,null,null,null,null,null,null,null,null,null,null,null,null,null,null,null,null,null,null,null,null,null,null,null,0,0,0,0,0,0,0,0,0,0,0,0,0,0,null,"","","","","","","","","","","","","","",null,{"$f":"IF(Programs!$D$44=\"\",\"\",Programs!$D$44)","v":""},"","","","","","","","","","","","","","",""]
[null,{"$f":"Programs!B50","v":0},{"$f":"IF(Programs!$C$44=\"\",\"\",Programs!$C$44)","v":""},null,null,null,null,null,null,null,null,null,null,null,null,null,null,null,null,null,null,null,null,null,null,null,null,null,null,null,null,null,null,null,null,null,null,null,null,null,null,null,null,null,null,null,null,null,null,null,null,null,null,null,null,null,null,null,null,null,null,null,null,null,null,null,null,null,null,null,null,null,null,null,null,null,null,null,null,null,null,null,null,null,null,null,null,null,null,null,null,null,null,null,null,null,null,null,null,null,null,null,null,null,0,0,0,0,0,0,0,0,0,0,0,0,0,0,null,null,null,null,null,null,null,null,null,null,null,null,null,null,null,null,null,null,null,null,null,null,null,null,null,null,null,null,null,null,null,null,null,null,null,null,0,0,0,0,0,0,0,0,0,0,0,0,0,0,null,"","","","","","","","","","","","","","",null,{"$f":"IF(Programs!$D$44=\"\",\"\",Programs!$D$44)","v":""},"","","","","","","","","","","","","","",""]
[null,{"$f":"Programs!B51","v":0},{"$f":"IF(Programs!$C$44=\"\",\"\",Programs!$C$44)","v":""},null,null,null,null,null,null,null,null,null,null,null,null,null,null,null,null,null,null,null,null,null,null,null,null,null,null,null,null,null,null,null,null,null,null,null,null,null,null,null,null,null,null,null,null,null,null,null,null,null,null,null,null,null,null,null,null,null,null,null,null,null,null,null,null,null,null,null,null,null,null,null,null,null,null,null,null,null,null,null,null,null,null,null,null,null,null,null,null,null,null,null,null,null,null,null,null,null,null,null,null,null,0,0,0,0,0,0,0,0,0,0,0,0,0,0,null,null,null,null,null,null,null,null,null,null,null,null,null,null,null,null,null,null,null,null,null,null,null,null,null,null,null,null,null,null,null,null,null,null,null,null,0,0,0,0,0,0,0,0,0,0,0,0,0,0,null,"","","","","","","","","","","","","","",null,{"$f":"IF(Programs!$D$44=\"\",\"\",Programs!$D$44)","v":""},"","","","","","","","","","","","","","",""]
[null,{"$f":"Programs!B52","v":0},{"$f":"IF(Programs!$C$44=\"\",\"\",Programs!$C$44)","v":""},null,null,null,null,null,null,null,null,null,null,null,null,null,null,null,null,null,null,null,null,null,null,null,null,null,null,null,null,null,null,null,null,null,null,null,null,null,null,null,null,null,null,null,null,null,null,null,null,null,null,null,null,null,null,null,null,null,null,null,null,null,null,null,null,null,null,null,null,null,null,null,null,null,null,null,null,null,null,null,null,null,null,null,null,null,null,null,null,null,null,null,null,null,null,null,null,null,null,null,null,null,0,0,0,0,0,0,0,0,0,0,0,0,0,0,null,null,null,null,null,null,null,null,null,null,null,null,null,null,null,null,null,null,null,null,null,null,null,null,null,null,null,null,null,null,null,null,null,null,null,null,0,0,0,0,0,0,0,0,0,0,0,0,0,0,null,"","","","","","","","","","","","","","",null,{"$f":"IF(Programs!$D$44=\"\",\"\",Programs!$D$44)","v":""},"","","","","","","","","","","","","","",""]
[null,{"$f":"Programs!B53","v":0},{"$f":"IF(Programs!$C$44=\"\",\"\",Programs!$C$44)","v":""},null,null,null,null,null,null,null,null,null,null,null,null,null,null,null,null,null,null,null,null,null,null,null,null,null,null,null,null,null,null,null,null,null,null,null,null,null,null,null,null,null,null,null,null,null,null,null,null,null,null,null,null,null,null,null,null,null,null,null,null,null,null,null,null,null,null,null,null,null,null,null,null,null,null,null,null,null,null,null,null,null,null,null,null,null,null,null,null,null,null,null,null,null,null,null,null,null,null,null,null,null,0,0,0,0,0,0,0,0,0,0,0,0,0,0,null,null,null,null,null,null,null,null,null,null,null,null,null,null,null,null,null,null,null,null,null,null,null,null,null,null,null,null,null,null,null,null,null,null,null,null,0,0,0,0,0,0,0,0,0,0,0,0,0,0,null,"","","","","","","","","","","","","","",null,{"$f":"IF(Programs!$D$44=\"\",\"\",Programs!$D$44)","v":""},"","","","","","","","","","","","","","",""]
[null,{"$f":"Programs!B54","v":0},{"$f":"IF(Programs!$C$44=\"\",\"\",Programs!$C$44)","v":""},null,null,null,null,null,null,null,null,null,null,null,null,null,null,null,null,null,null,null,null,null,null,null,null,null,null,null,null,null,null,null,null,null,null,null,null,null,null,null,null,null,null,null,null,null,null,null,null,null,null,null,null,null,null,null,null,null,null,null,null,null,null,null,null,null,null,null,null,null,null,null,null,null,null,null,null,null,null,null,null,null,null,null,null,null,null,null,null,null,null,null,null,null,null,null,null,null,null,null,null,null,0,0,0,0,0,0,0,0,0,0,0,0,0,0,null,null,null,null,null,null,null,null,null,null,null,null,null,null,null,null,null,null,null,null,null,null,null,null,null,null,null,null,null,null,null,null,null,null,null,null,0,0,0,0,0,0,0,0,0,0,0,0,0,0,null,"","","","","","","","","","","","","","",null,{"$f":"IF(Programs!$D$44=\"\",\"\",Programs!$D$44)","v":""},"","","","","","","","","","","","","","",""]
[null,{"$f":"Programs!B55","v":0},{"$f":"IF(Programs!$C$44=\"\",\"\",Programs!$C$44)","v":""},null,null,null,null,null,null,null,null,null,null,null,null,null,null,null,null,null,null,null,null,null,null,null,null,null,null,null,null,null,null,null,null,null,null,null,null,null,null,null,null,null,null,null,null,null,null,null,null,null,null,null,null,null,null,null,null,null,null,null,null,null,null,null,null,null,null,null,null,null,null,null,null,null,null,null,null,null,null,null,null,null,null,null,null,null,null,null,null,null,null,null,null,null,null,null,null,null,null,null,null,null,{"$f":"SUM(D36:K36)","v":0},{"$f":"DA36/8","v":0},{"$f":"SUM(L36:Q36)","v":0},{"$f":"DC36/6","v":0},{"$f":"SUM(R36:X36)","v":0},{"$f":"DE36/7","v":0},{"$f":"SUM(Y36:AG36)","v":0},{"$f":"DG36/9","v":0},{"$f":"SUM(AH36:AS36)","v":0},{"$f":"DI36/12","v":0},{"$f":"SUM(AT36:BA36)","v":0},{"$f":"DK36/8","v":0},{"$f":"SUM(DA36,DC36,DE36,DG36,DI36,DK36)","v":0},{"$f":"DM36/50","v":0},null,null,null,null,null,null,null,null,null,null,null,null,null,null,null,null,null,null,null,null,null,null,null,null,null,null,null,null,null,null,null,null,null,null,null,null,{"$f":"SUM(BB36:BI36)","v":0},{"$f":"EY36/8","v":0},{"$f":"SUM(BJ36:BO36)","v":0},{"$f":"FA36/6","v":0},{"$f":"SUM(BP36:BV36)","v":0},{"$f":"FC36/7","v":0},{"$f":"SUM(BW36:CE36)","v":0},{"$f":"FE36/9","v":0},{"$f":"SUM(CF36:CQ36)","v":0},{"$f":"FG36/12","v":0},{"$f":"SUM(CR36:CY36)","v":0},{"$f":"FI36/8","v":0},{"$f":"SUM(EY36,FA36,FC36,FE36,FG36,FI36)","v":0},{"$f":"FK36/50","v":0},null,{"$f":"IF($GD36<>\"\",EY36-DA36,\"\")","v":""},{"$f":"IF($GD36<>\"\",EZ36-DB36,\"\")","v":""},{"$f":"IF($GD36<>\"\",FA36-DC36,\"\")","v":""},{"$f":"IF($GD36<>\"\",FB36-DD36,\"\")","v":""},{"$f":"IF($GD36<>\"\",FC36-DE36,\"\")","v":""},{"$f":"IF($GD36<>\"\",FD36-DF36,\"\")","v":""},{"$f":"IF($GD36<>\"\",FE36-DG36,\"\")","v":""},{"$f":"IF($GD36<>\"\",FF36-DH36,\"\")","v":""},{"$f":"IF($GD36<>\"\",FG36-DI36,\"\")","v":""},{"$f":"IF($GD36<>\"\",FH36-DJ36,\"\")","v":""},{"$f":"IF($GD36<>\"\",FI36-DK36,\"\")","v":""},{"$f":"IF($GD36<>\"\",FJ36-DL36,\"\")","v":""},{"$f":"IF($GD36<>\"\",FK36-DM36,\"\")","v":""},{"$f":"IF($GD36<>\"\",FL36-DN36,\"\")","v":""},null,{"$f":"IF(Programs!$D$44=\"\",\"\",Programs!$D$44)","v":""},{"$f":"IF(AND(COUNT(D36:BA36)>45,COUNT(BB36:CY36)>45),GC36,\"\")","v":""},"","","","","","","","","","","","","",""]
[null,{"$f":"Programs!B56","v":0},{"$f":"IF(Programs!$C$44=\"\",\"\",Programs!$C$44)","v":""},null,null,null,null,null,null,null,null,null,null,null,null,null,null,null,null,null,null,null,null,null,null,null,null,null,null,null,null,null,null,null,null,null,null,null,null,null,null,null,null,null,null,null,null,null,null,null,null,null,null,null,null,null,null,null,null,null,null,null,null,null,null,null,null,null,null,null,null,null,null,null,null,null,null,null,null,null,null,null,null,null,null,null,null,null,null,null,null,null,null,null,null,null,null,null,null,null,null,null,null,null,0,0,0,0,0,0,0,0,0,0,0,0,0,0,null,null,null,null,null,null,null,null,null,null,null,null,null,null,null,null,null,null,null,null,null,null,null,null,null,null,null,null,null,null,null,null,null,null,null,null,0,0,0,0,0,0,0,0,0,0,0,0,0,0,null,"","","","","","","","","","","","","","",null,{"$f":"IF(Programs!$D$44=\"\",\"\",Programs!$D$44)","v":""},"","","","","","","","","","","","","","",""]
[null,{"$f":"Programs!B57","v":0},{"$f":"IF(Programs!$C$44=\"\",\"\",Programs!$C$44)","v":""},null,null,null,null,null,null,null,null,null,null,null,null,null,null,null,null,null,null,null,null,null,null,null,null,null,null,null,null,null,null,null,null,null,null,null,null,null,null,null,null,null,null,null,null,null,null,null,null,null,null,null,null,null,null,null,null,null,null,null,null,null,null,null,null,null,null,null,null,null,null,null,null,null,null,null,null,null,null,null,null,null,null,null,null,null,null,null,null,null,null,null,null,null,null,null,null,null,null,null,null,null,0,0,0,0,0,0,0,0,0,0,0,0,0,0,null,null,null,null,null,null,null,null,null,null,null,null,null,null,null,null,null,null,null,null,null,null,null,null,null,null,null,null,null,null,null,null,null,null,null,null,0,0,0,0,0,0,0,0,0,0,0,0,0,0,null,"","","","","","","","","","","","","","",null,{"$f":"IF(Programs!$D$44=\"\",\"\",Programs!$D$44)","v":""},"","","","","","","","","","","","","","",""]
[null,{"$f":"Programs!B58","v":0},{"$f":"IF(Programs!$C$44=\"\",\"\",Programs!$C$44)","v":""},null,null,null,null,null,null,null,null,null,null,null,null,null,null,null,null,null,null,null,null,null,null,null,null,null,null,null,null,null,null,null,null,null,null,null,null,null,null,null,null,null,null,null,null,null,null,null,null,null,null,null,null,null,null,null,null,null,null,null,null,null,null,null,null,null,null,null,null,null,null,null,null,null,null,null,null,null,null,null,null,null,null,null,null,null,null,null,null,null,null,null,null,null,null,null,null,null,null,null,null,null,0,0,0,0,0,0,0,0,0,0,0,0,0,0,null,null,null,null,null,null,null,null,null,null,null,null,null,null,null,null,null,null,null,null,null,null,null,null,null,null,null,null,null,null,null,null,null,null,null,null,0,0,0,0,0,0,0,0,0,0,0,0,0,0,null,"","","","","","","","","","","","","","",null,{"$f":"IF(Programs!$D$44=\"\",\"\",Programs!$D$44)","v":""},"","","","","","","","","","","","","","",""]
["Program 4",{"$f":"Programs!B66","v":0},{"$f":"IF(Programs!$C$63=\"\",\"\",Programs!$C$63)","v":""},null,null,null,null,null,null,null,null,null,null,null,null,null,null,null,null,null,null,null,null,null,null,null,null,null,null,null,null,null,null,null,null,null,null,null,null,null,null,null,null,null,null,null,null,null,null,null,null,null,null,null,null,null,null,null,null,null,null,null,null,null,null,null,null,null,null,null,null,null,null,null,null,null,null,null,null,null,null,null,null,null,null,null,null,null,null,null,null,null,null,null,null,null,null,null,null,null,null,null,null,null,0,0,0,0,0,0,0,0,0,0,0,0,0,0,null,null,null,null,null,null,null,null,null,null,null,null,null,null,null,null,null,null,null,null,null,null,null,null,null,null,null,null,null,null,null,null,null,null,null,null,0,0,0,0,0,0,0,0,0,0,0,0,0,0,null,"","","","","","","","","","","","","","",null,{"$f":"IF(Programs!$D$63=\"\",\"\",Programs!$D$63)","v":""},"","","","","","","","","","","","","","",""]
[null,{"$f":"Programs!B67","v":0},{"$f":"IF(Programs!$C$63=\"\",\"\",Programs!$C$63)","v":""},null,null,null,null,null,null,null,null,null,null,null,null,null,null,null,null,null,null,null,null,null,null,null,null,null,null,null,null,null,null,null,null,null,null,null,null,null,null,null,null,null,null,null,null,null,null,null,null,null,null,null,null,null,null,null,null,null,null,null,null,null,null,null,null,null,null,null,null,null,null,null,null,null,null,null,null,null,null,null,null,null,null,null,null,null,null,null,null,null,null,null,null,null,null,null,null,null,null,null,null,null,0,0,0,0,0,0,0,0,0,0,0,0,0,0,null,null,null,null,null,null,null,null,null,null,null,null,null,null,null,null,null,null,null,null,null,null,null,null,null,null,null,null,null,null,null,null,null,null,null,null,0,0,0,0,0,0,0,0,0,0,0,0,0,0,null,"","","","","","","","","","","","","","",null,{"$f":"IF(Programs!$D$63=\"\",\"\",Programs!$D$63)","v":""},"","","","","","","","","","","","","","",""]
[null,{"$f":"Programs!B68","v":0},{"$f":"IF(Programs!$C$63=\"\",\"\",Programs!$C$63)","v":""},null,null,null,null,null,null,null,null,null,null,null,null,null,null,null,null,null,null,null,null,null,null,null,null,null,null,null,null,null,null,null,null,null,null,null,null,null,null,null,null,null,null,null,null,null,null,null,null,null,null,null,null,null,null,null,null,null,null,null,null,null,null,null,null,null,null,null,null,null,null,null,null,null,null,null,null,null,null,null,null,null,null,null,null,null,null,null,null,null,null,null,null,null,null,null,null,null,null,null,null,null,0,0,0,0,0,0,0,0,0,0,0,0,0,0,null,null,null,null,null,null,null,null,null,null,null,null,null,null,null,null,null,null,null,null,null,null,null,null,null,null,null,null,null,null,null,null,null,null,null,null,0,0,0,0,0,0,0,0,0,0,0,0,0,0,null,"","","","","","","","","","","","","","",null,{"$f":"IF(Programs!$D$63=\"\",\"\",Programs!$D$63)","v":""},"","","","","","","","","","","","","","",""]
[null,{"$f":"Programs!B69","v":0},{"$f":"IF(Programs!$C$63=\"\",\"\",Programs!$C$63)","v":""},null,null,null,null,null,null,null,null,null,null,null,null,null,null,null,null,null,null,null,null,null,null,null,null,null,null,null,null,null,null,null,null,null,null,null,null,null,null,null,null,null,null,null,null,null,null,null,null,null,null,null,null,null,null,null,null,null,null,null,null,null,null,null,null,null,null,null,null,null,null,null,null,null,null,null,null,null,null,null,null,null,null,null,null,null,null,null,null,null,null,null,null,null,null,null,null,null,null,null,null,null,0,0,0,0,0,0,0,0,0,0,0,0,0,0,null,null,null,null,null,null,null,null,null,null,null,null,null,null,null,null,null,null,null,null,null,null,null,null,null,null,null,null,null,null,null,null,null,null,null,null,0,0,0,0,0,0,0,0,0,0,0,0,0,0,null,"","","","","","","","","","","","","","",null,{"$f":"IF(Programs!$D$63=\"\",\"\",Programs!$D$63)","v":""},"","","","","","","","","","","","","","",""]
[null,{"$f":"Programs!B70","v":0},{"$f":"IF(Programs!$C$63=\"\",\"\",Programs!$C$63)","v":""},null,null,null,null,null,null,null,null,null,null,null,null,null,null,null,null,null,null,null,null,null,null,null,null,null,null,null,null,null,null,null,null,null,null,null,null,null,null,null,null,null,null,null,null,null,null,null,null,null,null,null,null,null,null,null,null,null,null,null,null,null,null,null,null,null,null,null,null,null,null,null,null,null,null,null,null,null,null,null,null,null,null,null,null,null,null,null,null,null,null,null,null,null,null,null,null,null,null,null,null,null,0,0,0,0,0,0,0,0,0,0,0,0,0,0,null,null,null,null,null,null,null,null,null,null,null,null,null,null,null,null,null,null,null,null,null,null,null,null,null,null,null,null,null,null,null,null,null,null,null,null,0,0,0,0,0,0,0,0,0,0,0,0,0,0,null,{"$f":"IF($GD44<>\"\",EY44-DA44,\"\")","v":""},{"$f":"IF($GD44<>\"\",EZ44-DB44,\"\")","v":""},{"$f":"IF($GD44<>\"\",FA44-DC44,\"\")","v":""},{"$f":"IF($GD44<>\"\",FB44-DD44,\"\")","v":""},{"$f":"IF($GD44<>\"\",FC44-DE44,\"\")","v":""},{"$f":"IF($GD44<>\"\",FD44-DF44,\"\")","v":""},{"$f":"IF($GD44<>\"\",FE44-DG44,\"\")","v":""},{"$f":"IF($GD44<>\"\",FF44-DH44,\"\")","v":""},{"$f":"IF($GD44<>\"\",FG44-DI44,\"\")","v":""},{"$f":"IF($GD44<>\"\",FH44-DJ44,\"\")","v":""},{"$f":"IF($GD44<>\"\",FI44-DK44,\"\")","v":""},{"$f":"IF($GD44<>\"\",FJ44-DL44,\"\")","v":""},{"$f":"IF($GD44<>\"\",FK44-DM44,\"\")","v":""},{"$f":"IF($GD44<>\"\",FL44-DN44,\"\")","v":""},null,{"$f":"IF(Programs!$D$63=\"\",\"\",Programs!$D$63)","v":""},"","","","","","","","","","","","","","",""]
[null,{"$f":"Programs!B71","v":0},{"$f":"IF(Programs!$C$63=\"\",\"\",Programs!$C$63)","v":""},null,null,null,null,null,null,null,null,null,null,null,null,null,null,null,null,null,null,null,null,null,null,null,null,null,null,null,null,null,null,null,null,null,null,null,null,null,null,null,null,null,null,null,null,null,null,null,null,null,null,null,null,null,null,null,null,null,null,null,null,null,null,null,null,null,null,null,null,null,null,null,null,null,null,null,null,null,null,null,null,null,null,null,null,null,null,null,null,null,null,null,null,null,null,null,null,null,null,null,null,null,0,0,0,0,0,0,0,0,0,0,0,0,0,0,null,null,null,null,null,null,null,null,null,null,null,null,null,null,null,null,null,null,null,null,null,null,null,null,null,null,null,null,null,null,null,null,null,null,null,null,0,0,0,0,0,0,0,0,0,0,0,0,0,0,null,"","","","","","","","","","","","","","",null,{"$f":"IF(Programs!$D$63=\"\",\"\",Programs!$D$63)","v":""},"","","","","","","","","","","","","","",""]
[null,{"$f":"Programs!B72","v":0},{"$f":"IF(Programs!$C$63=\"\",\"\",Programs!$C$63)","v":""},null,null,null,null,null,null,null,null,null,null,null,null,null,null,null,null,null,null,null,null,null,null,null,null,null,null,null,null,null,null,null,null,null,null,null,null,null,null,null,null,null,null,null,null,null,null,null,null,null,null,null,null,null,null,null,null,null,null,null,null,null,null,null,null,null,null,null,null,null,null,null,null,null,null,null,null,null,null,null,null,null,null,null,null,null,null,null,null,null,null,null,null,null,null,null,null,null,null,null,null,null,0,0,0,0,0,0,0,0,0,0,0,0,0,0,null,null,null,null,null,null,null,null,null,null,null,null,null,null,null,null,null,null,null,null,null,null,null,null,null,null,null,null,null,null,null,null,null,null,null,null,0,0,0,0,0,0,0,0,0,0,0,0,0,0,null,"","","","","","","","","","","","","","",null,{"$f":"IF(Programs!$D$63=\"\",\"\",Programs!$D$63)","v":""},"","","","","","","","","","","","","","",""]
[null,{"$f":"Programs!B73","v":0},{"$f":"IF(Programs!$C$63=\"\",\"\",Programs!$C$63)","v":""},null,null,null,null,null,null,null,null,null,null,null,null,null,null,null,null,null,null,null,null,null,null,null,null,null,null,null,null,null,null,null,null,null,null,null,null,null,null,null,null,null,null,null,null,null,null,null,null,null,null,null,null,null,null,null,null,null,null,null,null,null,null,null,null,null,null,null,null,null,null,null,null,null,null,null,null,null,null,null,null,null,null,null,null,null,null,null,null,null,null,null,null,null,null,null,null,null,null,null,null,null,0,0,0,0,0,0,0,0,0,0,0,0,0,0,null,null,null,null,null,null,null,null,null,null,null,null,null,null,null,null,null,null,null,null,null,null,null,null,null,null,null,null,null,null,null,null,null,null,null,null,0,0,0,0,0,0,0,0,0,0,0,0,0,0,null,"","","","","","","","","","","","","","",null,{"$f":"IF(Programs!$D$63=\"\",\"\",Programs!$D$63)","v":""},"","","","","","","","","","","","","","",""]
[null,{"$f":"Programs!B74","v":0},{"$f":"IF(Programs!$C$63=\"\",\"\",Programs!$C$63)","v":""},null,null,null,null,null,null,null,null,null,null,null,null,null,null,null,null,null,null,null,null,null,null,null,null,null,null,null,null,null,null,null,null,null,null,null,null,null,null,null,null,null,null,null,null,null,null,null,null,null,null,null,null,null,null,null,null,null,null,null,null,null,null,null,null,null,null,null,null,null,null,null,null,null,null,null,null,null,null,null,null,null,null,null,null,null,null,null,null,null,null,null,null,null,null,null,null,null,null,null,null,null,{"$f":"SUM(D48:K48)","v":0},{"$f":"DA48/8","v":0},{"$f":"SUM(L48:Q48)","v":0},{"$f":"DC48/6","v":0},{"$f":"SUM(R48:X48)","v":0},{"$f":"DE48/7","v":0},{"$f":"SUM(Y48:AG48)","v":0},{"$f":"DG48/9","v":0},{"$f":"SUM(AH48:AS48)","v":0},{"$f":"DI48/12","v":0},{"$f":"SUM(AT48:BA48)","v":0},{"$f":"DK48/8","v":0},{"$f":"SUM(DA48,DC48,DE48,DG48,DI48,DK48)","v":0},{"$f":"DM48/50","v":0},null,null,null,null,null,null,null,null,null,null,null,null,null,null,null,null,null,null,null,null,null,null,null,null,null,null,null,null,null,null,null,null,null,null,null,null,{"$f":"SUM(BB48:BI48)","v":0},{"$f":"EY48/8","v":0},{"$f":"SUM(BJ48:BO48)","v":0},{"$f":"FA48/6","v":0},{"$f":"SUM(BP48:BV48)","v":0},{"$f":"FC48/7","v":0},{"$f":"SUM(BW48:CE48)","v":0},{"$f":"FE48/9","v":0},{"$f":"SUM(CF48:CQ48)","v":0},{"$f":"FG48/12","v":0},{"$f":"SUM(CR48:CY48)","v":0},{"$f":"FI48/8","v":0},{"$f":"SUM(EY48,FA48,FC48,FE48,FG48,FI48)","v":0},{"$f":"FK48/50","v":0},null,{"$f":"IF($GD48<>\"\",EY48-DA48,\"\")","v":""},{"$f":"IF($GD48<>\"\",EZ48-DB48,\"\")","v":""},{"$f":"IF($GD48<>\"\",FA48-DC48,\"\")","v":""},{"$f":"IF($GD48<>\"\",FB48-DD48,\"\")","v":""},{"$f":"IF($GD48<>\"\",FC48-DE48,\"\")","v":""},{"$f":"IF($GD48<>\"\",FD48-DF48,\"\")","v":""},{"$f":"IF($GD48<>\"\",FE48-DG48,\"\")","v":""},{"$f":"IF($GD48<>\"\",FF48-DH48,\"\")","v":""},{"$f":"IF($GD48<>\"\",FG48-DI48,\"\")","v":""},{"$f":"IF($GD48<>\"\",FH48-DJ48,\"\")","v":""},{"$f":"IF($GD48<>\"\",FI48-DK48,\"\")","v":""},{"$f":"IF($GD48<>\"\",FJ48-DL48,\"\")","v":""},{"$f":"IF($GD48<>\"\",FK48-DM48,\"\")","v":""},{"$f":"IF($GD48<>\"\",FL48-DN48,\"\")","v":""},null,{"$f":"IF(Programs!$D$63=\"\",\"\",Programs!$D$63)","v":""},{"$f":"IF(AND(COUNT(D48:BA48)>45,COUNT(BB48:CY48)>45),GC48,\"\")","v":""},"","","","","","","","","","","","","",""]
[null,{"$f":"Programs!B75","v":0},{"$f":"IF(Programs!$C$63=\"\",\"\",Programs!$C$63)","v":""},null,null,null,null,null,null,null,null,null,null,null,null,null,null,null,null,null,null,null,null,null,null,null,null,null,null,null,null,null,null,null,null,null,null,null,null,null,null,null,null,null,null,null,null,null,null,null,null,null,null,null,null,null,null,null,null,null,null,null,null,null,null,null,null,null,null,null,null,null,null,null,null,null,null,null,null,null,null,null,null,null,null,null,null,null,null,null,null,null,null,null,null,null,null,null,null,null,null,null,null,null,0,0,0,0,0,0,0,0,0,0,0,0,0,0,null,null,null,null,null,null,null,null,null,null,null,null,null,null,null,null,null,null,null,null,null,null,null,null,null,null,null,null,null,null,null,null,null,null,null,null,0,0,0,0,0,0,0,0,0,0,0,0,0,0,null,"","","","","","","","","","","","","","",null,{"$f":"IF(Programs!$D$63=\"\",\"\",Programs!$D$63)","v":""},"","","","","","","","","","","","","","",""]
[null,{"$f":"Programs!B76","v":0},{"$f":"IF(Programs!$C$63=\"\",\"\",Programs!$C$63)","v":""},null,null,null,null,null,null,null,null,null,null,null,null,null,null,null,null,null,null,null,null,null,null,null,null,null,null,null,null,null,null,null,null,null,null,null,null,null,null,null,null,null,null,null,null,null,null,null,null,null,null,null,null,null,null,null,null,null,null,null,null,null,null,null,null,null,null,null,null,null,null,null,null,null,null,null,null,null,null,null,null,null,null,null,null,null,null,null,null,null,null,null,null,null,null,null,null,null,null,null,null,null,0,0,0,0,0,0,0,0,0,0,0,0,0,0,null,null,null,null,null,null,null,null,null,null,null,null,null,null,null,null,null,null,null,null,null,null,null,null,null,null,null,null,null,null,null,null,null,null,null,null,0,0,0,0,0,0,0,0,0,0,0,0,0,0,null,"","","","","","","","","","","","","","",null,{"$f":"IF(Programs!$D$63=\"\",\"\",Programs!$D$63)","v":""},"","","","","","","","","","","","","","",""]
[null,{"$f":"Programs!B77","v":0},{"$f":"IF(Programs!$C$63=\"\",\"\",Programs!$C$63)","v":""},null,null,null,null,null,null,null,null,null,null,null,null,null,null,null,null,null,null,null,null,null,null,null,null,null,null,null,null,null,null,null,null,null,null,null,null,null,null,null,null,null,null,null,null,null,null,null,null,null,null,null,null,null,null,null,null,null,null,null,null,null,null,null,null,null,null,null,null,null,null,null,null,null,null,null,null,null,null,null,null,null,null,null,null,null,null,null,null,null,null,null,null,null,null,null,null,null,null,null,null,null,0,0,0,0,0,0,0,0,0,0,0,0,0,0,null,null,null,null,null,null,null,null,null,null,null,null,null,null,null,null,null,null,null,null,null,null,null,null,null,null,null,null,null,null,null,null,null,null,null,null,0,0,0,0,0,0,0,0,0,0,0,0,0,0,null,"","","","","","","","","","","","","","",null,{"$f":"IF(Programs!$D$63=\"\",\"\",Programs!$D$63)","v":""},"","","","","","","","","","","","","","",""]
["Program 5",{"$f":"Programs!B85","v":0},{"$f":"IF(Programs!$C$82=\"\",\"\",Programs!$C$82)","v":""},null,null,null,null,null,null,null,null,null,null,null,null,null,null,null,null,null,null,null,null,null,null,null,null,null,null,null,null,null,null,null,null,null,null,null,null,null,null,null,null,null,null,null,null,null,null,null,null,null,null,null,null,null,null,null,null,null,null,null,null,null,null,null,null,null,null,null,null,null,null,null,null,null,null,null,null,null,null,null,null,null,null,null,null,null,null,null,null,null,null,null,null,null,null,null,null,null,null,null,null,null,0,0,0,0,0,0,0,0,0,0,0,0,0,0,null,null,null,null,null,null,null,null,null,null,null,null,null,null,null,null,null,null,null,null,null,null,null,null,null,null,null,null,null,null,null,null,null,null,null,null,0,0,0,0,0,0,0,0,0,0,0,0,0,0,null,"","","","","","","","","","","","","","",null,{"$f":"IF(Programs!$D$85=\"\",\"\",Programs!$D$85)","v":""},"","","","","","","","","","","","","","",""]
[null,{"$f":"Programs!B86","v":0},{"$f":"IF(Programs!$C$82=\"\",\"\",Programs!$C$82)","v":""},null,null,null,null,null,null,null,null,null,null,null,null,null,null,null,null,null,null,null,null,null,null,null,null,null,null,null,null,null,null,null,null,null,null,null,null,null,null,null,null,null,null,null,null,null,null,null,null,null,null,null,null,null,null,null,null,null,null,null,null,null,null,null,null,null,null,null,null,null,null,null,null,null,null,null,null,null,null,null,null,null,null,null,null,null,null,null,null,null,null,null,null,null,null,null,null,null,null,null,null,null,0,0,0,0,0,0,0,0,0,0,0,0,0,0,null,null,null,null,null,null,null,null,null,null,null,null,null,null,null,null,null,null,null,null,null,null,null,null,null,null,null,null,null,null,null,null,null,null,null,null,0,0,0,0,0,0,0,0,0,0,0,0,0,0,null,"","","","","","","","","","","","","","",null,{"$f":"IF(Programs!$D$85=\"\",\"\",Programs!$D$85)","v":""},"","","","","","","","","","","","","","",""]
[null,{"$f":"Programs!B87","v":0},{"$f":"IF(Programs!$C$82=\"\",\"\",Programs!$C$82)","v":""},null,null,null,null,null,null,null,null,null,null,null,null,null,null,null,null,null,null,null,null,null,null,null,null,null,null,null,null,null,null,null,null,null,null,null,null,null,null,null,null,null,null,null,null,null,null,null,null,null,null,null,null,null,null,null,null,null,null,null,null,null,null,null,null,null,null,null,null,null,null,null,null,null,null,null,null,null,null,null,null,null,null,null,null,null,null,null,null,null,null,null,null,null,null,null,null,null,null,null,null,null,0,0,0,0,0,0,0,0,0,0,0,0,0,0,null,null,null,null,null,null,null,null,null,null,null,null,null,null,null,null,null,null,null,null,null,null,null,null,null,null,null,null,null,null,null,null,null,null,null,null,0,0,0,0,0,0,0,0,0,0,0,0,0,0,null,"","","","","","","","","","","","","","",null,{"$f":"IF(Programs!$D$85=\"\",\"\",Programs!$D$85)","v":""},"","","","","","","","","","","","","","",""]
[null,{"$f":"Programs!B88","v":0},{"$f":"IF(Programs!$C$82=\"\",\"\",Programs!$C$82)","v":""},null,null,null,null,null,null,null,null,null,null,null,null,null,null,null,null,null,null,null,null,null,null,null,null,null,null,null,null,null,null,null,null,null,null,null,null,null,null,null,null,null,null,null,null,null,null,null,null,null,null,null,null,null,null,null,null,null,null,null,null,null,null,null,null,null,null,null,null,null,null,null,null,null,null,null,null,null,null,null,null,null,null,null,null,null,null,null,null,null,null,null,null,null,null,null,null,null,null,null,null,null,0,0,0,0,0,0,0,0,0,0,0,0,0,0,null,null,null,null,null,null,null,null,null,null,null,null,null,null,null,null,null,null,null,null,null,null,null,null,null,null,null,null,null,null,null,null,null,null,null,null,0,0,0,0,0,0,0,0,0,0,0,0,0,0,null,"","","","","","","","","","","","","","",null,{"$f":"IF(Programs!$D$85=\"\",\"\",Programs!$D$85)","v":""},"","","","","","","","","","","","","","",""]
[null,{"$f":"Programs!B89","v":0},{"$f":"IF(Programs!$C$82=\"\",\"\",Programs!$C$82)","v":""},null,null,null,null,null,null,null,null,null,null,null,null,null,null,null,null,null,null,null,null,null,null,null,null,null,null,null,null,null,null,null,null,null,null,null,null,null,null,null,null,null,null,null,null,null,null,null,null,null,null,null,null,null,null,null,null,null,null,null,null,null,null,null,null,null,null,null,null,null,null,null,null,null,null,null,null,null,null,null,null,null,null,null,null,null,null,null,null,null,null,null,null,null,null,null,null,null,null,null,null,null,0,0,0,0,0,0,0,0,0,0,0,0,0,0,null,null,null,null,null,null,null,null,null,null,null,null,null,null,null,null,null,null,null,null,null,null,null,null,null,null,null,null,null,null,null,null,null,null,null,null,0,0,0,0,0,0,0,0,0,0,0,0,0,0,null,"","","","","","","","","","","","","","",null,{"$f":"IF(Programs!$D$85=\"\",\"\",Programs!$D$85)","v":""},"","","","","","","","","","","","","","",""]
[null,{"$f":"Programs!B90","v":0},{"$f":"IF(Programs!$C$82=\"\",\"\",Programs!$C$82)","v":""},null,null,null,null,null,null,null,null,null,null,null,null,null,null,null,null,null,null,null,null,null,null,null,null,null,null,null,null,null,null,null,null,null,null,null,null,null,null,null,null,null,null,null,null,null,null,null,null,null,null,null,null,null,null,null,null,null,null,null,null,null,null,null,null,null,null,null,null,null,null,null,null,null,null,null,null,null,null,null,null,null,null,null,null,null,null,null,null,null,null,null,null,null,null,null,null,null,null,null,null,null,0,0,0,0,0,0,0,0,0,0,0,0,0,0,null,null,null,null,null,null,null,null,null,null,null,null,null,null,null,null,null,null,null,null,null,null,null,null,null,null,null,null,null,null,null,null,null,null,null,null,0,0,0,0,0,0,0,0,0,0,0,0,0,0,null,"","","","","","","","","","","","","","",null,{"$f":"IF(Programs!$D$85=\"\",\"\",Programs!$D$85)","v":""},"","","","","","","","","","","","","","",""]
[null,{"$f":"Programs!B91","v":0},{"$f":"IF(Programs!$C$82=\"\",\"\",Programs!$C$82)","v":""},null,null,null,null,null,null,null,null,null,null,null,null,null,null,null,null,null,null,null,null,null,null,null,null,null,null,null,null,null,null,null,null,null,null,null,null,null,null,null,null,null,null,null,null,null,null,null,null,null,null,null,null,null,null,null,null,null,null,null,null,null,null,null,null,null,null,null,null,null,null,null,null,null,null,null,null,null,null,null,null,null,null,null,null,null,null,null,null,null,null,null,null,null,null,null,null,null,null,null,null,null,0,0,0,0,0,0,0,0,0,0,0,0,0,0,null,null,null,null,null,null,null,null,null,null,null,null,null,null,null,null,null,null,null,null,null,null,null,null,null,null,null,null,null,null,null,null,null,null,null,null,0,0,0,0,0,0,0,0,0,0,0,0,0,0,null,"","","","","","","","","","","","","","",null,{"$f":"IF(Programs!$D$85=\"\",\"\",Programs!$D$85)","v":""},"","","","","","","","","","","","","","",""]
[null,{"$f":"Programs!B92","v":0},{"$f":"IF(Programs!$C$82=\"\",\"\",Programs!$C$82)","v":""},null,null,null,null,null,null,null,null,null,null,null,null,null,null,null,null,null,null,null,null,null,null,null,null,null,null,null,null,null,null,null,null,null,null,null,null,null,null,null,null,null,null,null,null,null,null,null,null,null,null,null,null,null,null,null,null,null,null,null,null,null,null,null,null,null,null,null,null,null,null,null,null,null,null,null,null,null,null,null,null,null,null,null,null,null,null,null,null,null,null,null,null,null,null,null,null,null,null,null,null,null,0,0,0,0,0,0,0,0,0,0,0,0,0,0,null,null,null,null,null,null,null,null,null,null,null,null,null,null,null,null,null,null,null,null,null,null,null,null,null,null,null,null,null,null,null,null,null,null,null,null,0,0,0,0,0,0,0,0,0,0,0,0,0,0,null,"","","","","","","","","","","","","","",null,{"$f":"IF(Programs!$D$85=\"\",\"\",Programs!$D$85)","v":""},"","","","","","","","","","","","","","",""]
[null,{"$f":"Programs!B93","v":0},{"$f":"IF(Programs!$C$82=\"\",\"\",Programs!$C$82)","v":""},null,null,null,null,null,null,null,null,null,null,null,null,null,null,null,null,null,null,null,null,null,null,null,null,null,null,null,null,null,null,null,null,null,null,null,null,null,null,null,null,null,null,null,null,null,null,null,null,null,null,null,null,null,null,null,null,null,null,null,null,null,null,null,null,null,null,null,null,null,null,null,null,null,null,null,null,null,null,null,null,null,null,null,null,null,null,null,null,null,null,null,null,null,null,null,null,null,null,null,null,null,{"$f":"SUM(D60:K60)","v":0},{"$f":"DA60/8","v":0},{"$f":"SUM(L60:Q60)","v":0},{"$f":"DC60/6","v":0},{"$f":"SUM(R60:X60)","v":0},{"$f":"DE60/7","v":0},{"$f":"SUM(Y60:AG60)","v":0},{"$f":"DG60/9","v":0},{"$f":"SUM(AH60:AS60)","v":0},{"$f":"DI60/12","v":0},{"$f":"SUM(AT60:BA60)","v":0},{"$f":"DK60/8","v":0},{"$f":"SUM(DA60,DC60,DE60,DG60,DI60,DK60)","v":0},{"$f":"DM60/50","v":0},null,null,null,null,null,null,null,null,null,null,null,null,null,null,null,null,null,null,null,null,null,null,null,null,null,null,null,null,null,null,null,null,null,null,null,null,{"$f":"SUM(BB60:BI60)","v":0},{"$f":"EY60/8","v":0},{"$f":"SUM(BJ60:BO60)","v":0},{"$f":"FA60/6","v":0},{"$f":"SUM(BP60:BV60)","v":0},{"$f":"FC60/7","v":0},{"$f":"SUM(BW60:CE60)","v":0},{"$f":"FE60/9","v":0},{"$f":"SUM(CF60:CQ60)","v":0},{"$f":"FG60/12","v":0},{"$f":"SUM(CR60:CY60)","v":0},{"$f":"FI60/8","v":0},{"$f":"SUM(EY60,FA60,FC60,FE60,FG60,FI60)","v":0},{"$f":"FK60/50","v":0},null,{"$f":"IF($GD60<>\"\",EY60-DA60,\"\")","v":""},{"$f":"IF($GD60<>\"\",EZ60-DB60,\"\")","v":""},{"$f":"IF($GD60<>\"\",FA60-DC60,\"\")","v":""},{"$f":"IF($GD60<>\"\",FB60-DD60,\"\")","v":""},{"$f":"IF($GD60<>\"\",FC60-DE60,\"\")","v":""},{"$f":"IF($GD60<>\"\",FD60-DF60,\"\")","v":""},{"$f":"IF($GD60<>\"\",FE60-DG60,\"\")","v":""},{"$f":"IF($GD60<>\"\",FF60-DH60,\"\")","v":""},{"$f":"IF($GD60<>\"\",FG60-DI60,\"\")","v":""},{"$f":"IF($GD60<>\"\",FH60-DJ60,\"\")","v":""},{"$f":"IF($GD60<>\"\",FI60-DK60,\"\")","v":""},{"$f":"IF($GD60<>\"\",FJ60-DL60,\"\")","v":""},{"$f":"IF($GD60<>\"\",FK60-DM60,\"\")","v":""},{"$f":"IF($GD60<>\"\",FL60-DN60,\"\")","v":""},null,{"$f":"IF(Programs!$D$85=\"\",\"\",Programs!$D$85)","v":""},{"$f":"IF(AND(COUNT(D60:BA60)>45,COUNT(BB60:CY60)>45),GC60,\"\")","v":""},"","","","","","","","","","","","","",""]
[null,{"$f":"Programs!B94","v":0},{"$f":"IF(Programs!$C$82=\"\",\"\",Programs!$C$82)","v":""},null,null,null,null,null,null,null,null,null,null,null,null,null,null,null,null,null,null,null,null,null,null,null,null,null,null,null,null,null,null,null,null,null,null,null,null,null,null,null,null,null,null,null,null,null,null,null,null,null,null,null,null,null,null,null,null,null,null,null,null,null,null,null,null,null,null,null,null,null,null,null,null,null,null,null,null,null,null,null,null,null,null,null,null,null,null,null,null,null,null,null,null,null,null,null,null,null,null,null,null,null,0,0,0,0,0,0,0,0,0,0,0,0,0,0,null,null,null,null,null,null,null,null,null,null,null,null,null,null,null,null,null,null,null,null,null,null,null,null,null,null,null,null,null,null,null,null,null,null,null,null,0,0,0,0,0,0,0,0,0,0,0,0,0,0,null,"","","","","","","","","","","","","","",null,{"$f":"IF(Programs!$D$85=\"\",\"\",Programs!$D$85)","v":""},"","","","","","","","","","","","","","",""]
[null,{"$f":"Programs!B95","v":0},{"$f":"IF(Programs!$C$82=\"\",\"\",Programs!$C$82)","v":""},null,null,null,null,null,null,null,null,null,null,null,null,null,null,null,null,null,null,null,null,null,null,null,null,null,null,null,null,null,null,null,null,null,null,null,null,null,null,null,null,null,null,null,null,null,null,null,null,null,null,null,null,null,null,null,null,null,null,null,null,null,null,null,null,null,null,null,null,null,null,null,null,null,null,null,null,null,null,null,null,null,null,null,null,null,null,null,null,null,null,null,null,null,null,null,null,null,null,null,null,null,0,0,0,0,0,0,0,0,0,0,0,0,0,0,null,null,null,null,null,null,null,null,null,null,null,null,null,null,null,null,null,null,null,null,null,null,null,null,null,null,null,null,null,null,null,null,null,null,null,null,0,0,0,0,0,0,0,0,0,0,0,0,0,0,null,"","","","","","","","","","","","","","",null,{"$f":"IF(Programs!$D$85=\"\",\"\",Programs!$D$85)","v":""},"","","","","","","","","","","","","","",""]
[null,{"$f":"Programs!B96","v":0},{"$f":"IF(Programs!$C$82=\"\",\"\",Programs!$C$82)","v":""},null,null,null,null,null,null,null,null,null,null,null,null,null,null,null,null,null,null,null,null,null,null,null,null,null,null,null,null,null,null,null,null,null,null,null,null,null,null,null,null,null,null,null,null,null,null,null,null,null,null,null,null,null,null,null,null,null,null,null,null,null,null,null,null,null,null,null,null,null,null,null,null,null,null,null,null,null,null,null,null,null,null,null,null,null,null,null,null,null,null,null,null,null,null,null,null,null,null,null,null,null,0,0,0,0,0,0,0,0,0,0,0,0,0,0,null,null,null,null,null,null,null,null,null,null,null,null,null,null,null,null,null,null,null,null,null,null,null,null,null,null,null,null,null,null,null,null,null,null,null,null,0,0,0,0,0,0,0,0,0,0,0,0,0,0,null,"","","","","","","","","","","","","","",null,{"$f":"IF(Programs!$D$85=\"\",\"\",Programs!$D$85)","v":""},"","","","","","","","","","","","","","",""]
["Program 6",{"$f":"Programs!B104","v":0},{"$f":"IF(Programs!$C$101=\"\",\"\",Programs!$C$101)","v":""},null,null,null,null,null,null,null,null,null,null,null,null,null,null,null,null,null,null,null,null,null,null,null,null,null,null,null,null,null,null,null,null,null,null,null,null,null,null,null,null,null,null,null,null,null,null,null,null,null,null,null,null,null,null,null,null,null,null,null,null,null,null,null,null,null,null,null,null,null,null,null,null,null,null,null,null,null,null,null,null,null,null,null,null,null,null,null,null,null,null,null,null,null,null,null,null,null,null,null,null,null,0,0,0,0,0,0,0,0,0,0,0,0,0,0,null,null,null,null,null,null,null,null,null,null,null,null,null,null,null,null,null,null,null,null,null,null,null,null,null,null,null,null,null,null,null,null,null,null,null,null,0,0,0,0,0,0,0,0,0,0,0,0,0,0,null,"","","","","","","","","","","","","","",null,{"$f":"IF(Programs!$D$104=\"\",\"\",Programs!$D$104)","v":""},"","","","","","","","","","","","","","",""]
[null,{"$f":"Programs!B105","v":0},{"$f":"IF(Programs!$C$101=\"\",\"\",Programs!$C$101)","v":""},null,null,null,null,null,null,null,null,null,null,null,null,null,null,null,null,null,null,null,null,null,null,null,null,null,null,null,null,null,null,null,null,null,null,null,null,null,null,null,null,null,null,null,null,null,null,null,null,null,null,null,null,null,null,null,null,null,null,null,null,null,null,null,null,null,null,null,null,null,null,null,null,null,null,null,null,null,null,null,null,null,null,null,null,null,null,null,null,null,null,null,null,null,null,null,null,null,null,null,null,null,0,0,0,0,0,0,0,0,0,0,0,0,0,0,null,null,null,null,null,null,null,null,null,null,null,null,null,null,null,null,null,null,null,null,null,null,null,null,null,null,null,null,null,null,null,null,null,null,null,null,0,0,0,0,0,0,0,0,0,0,0,0,0,0,null,"","","","","","","","","","","","","","",null,{"$f":"IF(Programs!$D$104=\"\",\"\",Programs!$D$104)","v":""},"","","","","","","","","","","","","","",""]
[null,{"$f":"Programs!B106","v":0},{"$f":"IF(Programs!$C$101=\"\",\"\",Programs!$C$101)","v":""},null,null,null,null,null,null,null,null,null,null,null,null,null,null,null,null,null,null,null,null,null,null,null,null,null,null,null,null,null,null,null,null,null,null,null,null,null,null,null,null,null,null,null,null,null,null,null,null,null,null,null,null,null,null,null,null,null,null,null,null,null,null,null,null,null,null,null,null,null,null,null,null,null,null,null,null,null,null,null,null,null,null,null,null,null,null,null,null,null,null,null,null,null,null,null,null,null,null,null,null,null,0,0,0,0,0,0,0,0,0,0,0,0,0,0,null,null,null,null,null,null,null,null,null,null,null,null,null,null,null,null,null,null,null,null,null,null,null,null,null,null,null,null,null,null,null,null,null,null,null,null,0,0,0,0,0,0,0,0,0,0,0,0,0,0,null,"","","","","","","","","","","","","","",null,{"$f":"IF(Programs!$D$104=\"\",\"\",Programs!$D$104)","v":""},"","","","","","","","","","","","","","",""]
[null,{"$f":"Programs!B107","v":0},{"$f":"IF(Programs!$C$101=\"\",\"\",Programs!$C$101)","v":""},null,null,null,null,null,null,null,null,null,null,null,null,null,null,null,null,null,null,null,null,null,null,null,null,null,null,null,null,null,null,null,null,null,null,null,null,null,null,null,null,null,null,null,null,null,null,null,null,null,null,null,null,null,null,null,null,null,null,null,null,null,null,null,null,null,null,null,null,null,null,null,null,null,null,null,null,null,null,null,null,null,null,null,null,null,null,null,null,null,null,null,null,null,null,null,null,null,null,null,null,null,0,0,0,0,0,0,0,0,0,0,0,0,0,0,null,null,null,null,null,null,null,null,null,null,null,null,null,null,null,null,null,null,null,null,null,null,null,null,null,null,null,null,null,null,null,null,null,null,null,null,0,0,0,0,0,0,0,0,0,0,0,0,0,0,null,"","","","","","","","","","","","","","",null,{"$f":"IF(Programs!$D$104=\"\",\"\",Programs!$D$104)","v":""},"","","","","","","","","","","","","","",""]
[null,{"$f":"Programs!B108","v":0},{"$f":"IF(Programs!$C$101=\"\",\"\",Programs!$C$101)","v":""},null,null,null,null,null,null,null,null,null,null,null,null,null,null,null,null,null,null,null,null,null,null,null,null,null,null,null,null,null,null,null,null,null,null,null,null,null,null,null,null,null,null,null,null,null,null,null,null,null,null,null,null,null,null,null,null,null,null,null,null,null,null,null,null,null,null,null,null,null,null,null,null,null,null,null,null,null,null,null,null,null,null,null,null,null,null,null,null,null,null,null,null,null,null,null,null,null,null,null,null,null,0,0,0,0,0,0,0,0,0,0,0,0,0,0,null,null,null,null,null,null,null,null,null,null,null,null,null,null,null,null,null,null,null,null,null,null,null,null,null,null,null,null,null,null,null,null,null,null,null,null,0,0,0,0,0,0,0,0,0,0,0,0,0,0,null,"","","","","","","","","","","","","","",null,{"$f":"IF(Programs!$D$104=\"\",\"\",Programs!$D$104)","v":""},{"$f":"IF(AND(COUNT(D68:BA68)>45,COUNT(BB68:CY68)>45),GC68,\"\")","v":""},"","","","","","","","","","","","","",""]
[null,{"$f":"Programs!B109","v":0},{"$f":"IF(Programs!$C$101=\"\",\"\",Programs!$C$101)","v":""},null,null,null,null,null,null,null,null,null,null,null,null,null,null,null,null,null,null,null,null,null,null,null,null,null,null,null,null,null,null,null,null,null,null,null,null,null,null,null,null,null,null,null,null,null,null,null,null,null,null,null,null,null,null,null,null,null,null,null,null,null,null,null,null,null,null,null,null,null,null,null,null,null,null,null,null,null,null,null,null,null,null,null,null,null,null,null,null,null,null,null,null,null,null,null,null,null,null,null,null,null,0,0,0,0,0,0,0,0,0,0,0,0,0,0,null,null,null,null,null,null,null,null,null,null,null,null,null,null,null,null,null,null,null,null,null,null,null,null,null,null,null,null,null,null,null,null,null,null,null,null,0,0,0,0,0,0,0,0,0,0,0,0,0,0,null,"","","","","","","","","","","","","","",null,{"$f":"IF(Programs!$D$104=\"\",\"\",Programs!$D$104)","v":""},"",{"$f":"IF(FN69>0,$GD69,\"\")","v":""},{"$f":"IF($GD69=\"\",\"\",IF(FO69>0,$GD69,\"\"))","v":""},{"$f":"IF(FP69>0,$GD69,\"\")","v":""},{"$f":"IF($GD69=\"\",\"\",IF(FQ69>0,$GD69,\"\"))","v":""},{"$f":"IF(FR69>0,$GD69,\"\")","v":""},{"$f":"IF($GD69=\"\",\"\",IF(FS69>0,$GD69,\"\"))","v":""},{"$f":"IF(FT69>0,$GD69,\"\")","v":""},{"$f":"IF($GD69=\"\",\"\",IF(FU69>0,$GD69,\"\"))","v":""},{"$f":"IF(FV69>0,$GD69,\"\")","v":""},{"$f":"IF($GD69=\"\",\"\",IF(FW69>0,$GD69,\"\"))","v":""},{"$f":"IF(FX69>0,$GD69,\"\")","v":""},{"$f":"IF($GD69=\"\",\"\",IF(FY69>0,$GD69,\"\"))","v":""},{"$f":"IF(FZ69>0,$GD69,\"\")","v":""},{"$f":"IF($GD69=\"\",\"\",IF(GA69>0,$GD69,\"\"))","v":""}]
[null,{"$f":"Programs!B110","v":0},{"$f":"IF(Programs!$C$101=\"\",\"\",Programs!$C$101)","v":""},null,null,null,null,null,null,null,null,null,null,null,null,null,null,null,null,null,null,null,null,null,null,null,null,null,null,null,null,null,null,null,null,null,null,null,null,null,null,null,null,null,null,null,null,null,null,null,null,null,null,null,null,null,null,null,null,null,null,null,null,null,null,null,null,null,null,null,null,null,null,null,null,null,null,null,null,null,null,null,null,null,null,null,null,null,null,null,null,null,null,null,null,null,null,null,null,null,null,null,null,null,0,0,0,0,0,0,0,0,0,0,0,0,0,0,null,null,null,null,null,null,null,null,null,null,null,null,null,null,null,null,null,null,null,null,null,null,null,null,null,null,null,null,null,null,null,null,null,null,null,null,0,0,0,0,0,0,0,0,0,0,0,0,0,0,null,"","","","","","","","","","","","","","",null,{"$f":"IF(Programs!$D$104=\"\",\"\",Programs!$D$104)","v":""},"","","","","","","","","","","","","","",""]
[null,{"$f":"Programs!B111","v":0},{"$f":"IF(Programs!$C$101=\"\",\"\",Programs!$C$101)","v":""},null,null,null,null,null,null,null,null,null,null,null,null,null,null,null,null,null,null,null,null,null,null,null,null,null,null,null,null,null,null,null,null,null,null,null,null,null,null,null,null,null,null,null,null,null,null,null,null,null,null,null,null,null,null,null,null,null,null,null,null,null,null,null,null,null,null,null,null,null,null,null,null,null,null,null,null,null,null,null,null,null,null,null,null,null,null,null,null,null,null,null,null,null,null,null,null,null,null,null,null,null,0,0,0,0,0,0,0,0,0,0,0,0,0,0,null,null,null,null,null,null,null,null,null,null,null,null,null,null,null,null,null,null,null,null,null,null,null,null,null,null,null,null,null,null,null,null,null,null,null,null,0,0,0,0,0,0,0,0,0,0,0,0,0,0,null,"","","","","","","","","","","","","","",null,{"$f":"IF(Programs!$D$104=\"\",\"\",Programs!$D$104)","v":""},"","","","","","","","","","","","","","",""]
[null,{"$f":"Programs!B112","v":0},{"$f":"IF(Programs!$C$101=\"\",\"\",Programs!$C$101)","v":""},null,null,null,null,null,null,null,null,null,null,null,null,null,null,null,null,null,null,null,null,null,null,null,null,null,null,null,null,null,null,null,null,null,null,null,null,null,null,null,null,null,null,null,null,null,null,null,null,null,null,null,null,null,null,null,null,null,null,null,null,null,null,null,null,null,null,null,null,null,null,null,null,null,null,null,null,null,null,null,null,null,null,null,null,null,null,null,null,null,null,null,null,null,null,null,null,null,null,null,null,null,{"$f":"SUM(D72:K72)","v":0},{"$f":"DA72/8","v":0},{"$f":"SUM(L72:Q72)","v":0},{"$f":"DC72/6","v":0},{"$f":"SUM(R72:X72)","v":0},{"$f":"DE72/7","v":0},{"$f":"SUM(Y72:AG72)","v":0},{"$f":"DG72/9","v":0},{"$f":"SUM(AH72:AS72)","v":0},{"$f":"DI72/12","v":0},{"$f":"SUM(AT72:BA72)","v":0},{"$f":"DK72/8","v":0},{"$f":"SUM(DA72,DC72,DE72,DG72,DI72,DK72)","v":0},{"$f":"DM72/50","v":0},null,null,null,null,null,null,null,null,null,null,null,null,null,null,null,null,null,null,null,null,null,null,null,null,null,null,null,null,null,null,null,null,null,null,null,null,{"$f":"SUM(BB72:BI72)","v":0},{"$f":"EY72/8","v":0},{"$f":"SUM(BJ72:BO72)","v":0},{"$f":"FA72/6","v":0},{"$f":"SUM(BP72:BV72)","v":0},{"$f":"FC72/7","v":0},{"$f":"SUM(BW72:CE72)","v":0},{"$f":"FE72/9","v":0},{"$f":"SUM(CF72:CQ72)","v":0},{"$f":"FG72/12","v":0},{"$f":"SUM(CR72:CY72)","v":0},{"$f":"FI72/8","v":0},{"$f":"SUM(EY72,FA72,FC72,FE72,FG72,FI72)","v":0},{"$f":"FK72/50","v":0},null,{"$f":"IF($GD72<>\"\",EY72-DA72,\"\")","v":""},{"$f":"IF($GD72<>\"\",EZ72-DB72,\"\")","v":""},{"$f":"IF($GD72<>\"\",FA72-DC72,\"\")","v":""},{"$f":"IF($GD72<>\"\",FB72-DD72,\"\")","v":""},{"$f":"IF($GD72<>\"\",FC72-DE72,\"\")","v":""},{"$f":"IF($GD72<>\"\",FD72-DF72,\"\")","v":""},{"$f":"IF($GD72<>\"\",FE72-DG72,\"\")","v":""},{"$f":"IF($GD72<>\"\",FF72-DH72,\"\")","v":""},{"$f":"IF($GD72<>\"\",FG72-DI72,\"\")","v":""},{"$f":"IF($GD72<>\"\",FH72-DJ72,\"\")","v":""},{"$f":"IF($GD72<>\"\",FI72-DK72,\"\")","v":""},{"$f":"IF($GD72<>\"\",FJ72-DL72,\"\")","v":""},{"$f":"IF($GD72<>\"\",FK72-DM72,\"\")","v":""},{"$f":"IF($GD72<>\"\",FL72-DN72,\"\")","v":""},null,{"$f":"IF(Programs!$D$104=\"\",\"\",Programs!$D$104)","v":""},{"$f":"IF(AND(COUNT(D72:BA72)>45,COUNT(BB72:CY72)>45),GC72,\"\")","v":""},"","","","","","","","","","","","","",""]
[null,{"$f":"Programs!B113","v":0},{"$f":"IF(Programs!$C$101=\"\",\"\",Programs!$C$101)","v":""},null,null,null,null,null,null,null,null,null,null,null,null,null,null,null,null,null,null,null,null,null,null,null,null,null,null,null,null,null,null,null,null,null,null,null,null,null,null,null,null,null,null,null,null,null,null,null,null,null,null,null,null,null,null,null,null,null,null,null,null,null,null,null,null,null,null,null,null,null,null,null,null,null,null,null,null,null,null,null,null,null,null,null,null,null,null,null,null,null,null,null,null,null,null,null,null,null,null,null,null,null,0,0,0,0,0,0,0,0,0,0,0,0,0,0,null,null,null,null,null,null,null,null,null,null,null,null,null,null,null,null,null,null,null,null,null,null,null,null,null,null,null,null,null,null,null,null,null,null,null,null,0,0,0,0,0,0,0,0,0,0,0,0,0,0,null,"","","","","","","","","","","","","","",null,{"$f":"IF(Programs!$D$104=\"\",\"\",Programs!$D$104)","v":""},"","","","","","","","","","","","","","",""]
[null,{"$f":"Programs!B114","v":0},{"$f":"IF(Programs!$C$101=\"\",\"\",Programs!$C$101)","v":""},null,null,null,null,null,null,null,null,null,null,null,null,null,null,null,null,null,null,null,null,null,null,null,null,null,null,null,null,null,null,null,null,null,null,null,null,null,null,null,null,null,null,null,null,null,null,null,null,null,null,null,null,null,null,null,null,null,null,null,null,null,null,null,null,null,null,null,null,null,null,null,null,null,null,null,null,null,null,null,null,null,null,null,null,null,null,null,null,null,null,null,null,null,null,null,null,null,null,null,null,null,0,0,0,0,0,0,0,0,0,0,0,0,0,0,null,null,null,null,null,null,null,null,null,null,null,null,null,null,null,null,null,null,null,null,null,null,null,null,null,null,null,null,null,null,null,null,null,null,null,null,0,0,0,0,0,0,0,0,0,0,0,0,0,0,null,"","","","","","","","","","","","","","",null,{"$f":"IF(Programs!$D$104=\"\",\"\",Programs!$D$104)","v":""},"","","","","","","","","","","","","","",""]
[null,{"$f":"Programs!B115","v":0},{"$f":"IF(Programs!$C$101=\"\",\"\",Programs!$C$101)","v":""},null,null,null,null,null,null,null,null,null,null,null,null,null,null,null,null,null,null,null,null,null,null,null,null,null,null,null,null,null,null,null,null,null,null,null,null,null,null,null,null,null,null,null,null,null,null,null,null,null,null,null,null,null,null,null,null,null,null,null,null,null,null,null,null,null,null,null,null,null,null,null,null,null,null,null,null,null,null,null,null,null,null,null,null,null,null,null,null,null,null,null,null,null,null,null,null,null,null,null,null,null,0,0,0,0,0,0,0,0,0,0,0,0,0,0,null,null,null,null,null,null,null,null,null,null,null,null,null,null,null,null,null,null,null,null,null,null,null,null,null,null,null,null,null,null,null,null,null,null,null,null,0,0,0,0,0,0,0,0,0,0,0,0,0,0,null,"","","","","","","","","","","","","","",null,{"$f":"IF(Programs!$D$104=\"\",\"\",Programs!$D$104)","v":""},"","","","","","","","","","","","","","",""]
["Program 7",{"$f":"Programs!B123","v":0},{"$f":"IF(Programs!$C$120=\"\",\"\",Programs!$C$120)","v":""},null,null,null,null,null,null,null,null,null,null,null,null,null,null,null,null,null,null,null,null,null,null,null,null,null,null,null,null,null,null,null,null,null,null,null,null,null,null,null,null,null,null,null,null,null,null,null,null,null,null,null,null,null,null,null,null,null,null,null,null,null,null,null,null,null,null,null,null,null,null,null,null,null,null,null,null,null,null,null,null,null,null,null,null,null,null,null,null,null,null,null,null,null,null,null,null,null,null,null,null,null,0,0,0,0,0,0,0,0,0,0,0,0,0,0,null,null,null,null,null,null,null,null,null,null,null,null,null,null,null,null,null,null,null,null,null,null,null,null,null,null,null,null,null,null,null,null,null,null,null,null,0,0,0,0,0,0,0,0,0,0,0,0,0,0,null,"","","","","","","","","","","","","","",null,{"$f":"IF(Programs!$D$120=\"\",\"\",Programs!$D$120)","v":""},"","","","","","","","","","","","","","",""]
[null,{"$f":"Programs!B124","v":0},{"$f":"IF(Programs!$C$120=\"\",\"\",Programs!$C$120)","v":""},null,null,null,null,null,null,null,null,null,null,null,null,null,null,null,null,null,null,null,null,null,null,null,null,null,null,null,null,null,null,null,null,null,null,null,null,null,null,null,null,null,null,null,null,null,null,null,null,null,null,null,null,null,null,null,null,null,null,null,null,null,null,null,null,null,null,null,null,null,null,null,null,null,null,null,null,null,null,null,null,null,null,null,null,null,null,null,null,null,null,null,null,null,null,null,null,null,null,null,null,null,0,0,0,0,0,0,0,0,0,0,0,0,0,0,null,null,null,null,null,null,null,null,null,null,null,null,null,null,null,null,null,null,null,null,null,null,null,null,null,null,null,null,null,null,null,null,null,null,null,null,0,0,0,0,0,0,0,0,0,0,0,0,0,0,null,"","","","","","","","","","","","","","",null,{"$f":"IF(Programs!$D$120=\"\",\"\",Programs!$D$120)","v":""},"","","","","","","","","","","","","","",""]
[null,{"$f":"Programs!B125","v":0},{"$f":"IF(Programs!$C$120=\"\",\"\",Programs!$C$120)","v":""},null,null,null,null,null,null,null,null,null,null,null,null,null,null,null,null,null,null,null,null,null,null,null,null,null,null,null,null,null,null,null,null,null,null,null,null,null,null,null,null,null,null,null,null,null,null,null,null,null,null,null,null,null,null,null,null,null,null,null,null,null,null,null,null,null,null,null,null,null,null,null,null,null,null,null,null,null,null,null,null,null,null,null,null,null,null,null,null,null,null,null,null,null,null,null,null,null,null,null,null,null,0,0,0,0,0,0,0,0,0,0,0,0,0,0,null,null,null,null,null,null,null,null,null,null,null,null,null,null,null,null,null,null,null,null,null,null,null,null,null,null,null,null,null,null,null,null,null,null,null,null,0,0,0,0,0,0,0,0,0,0,0,0,0,0,null,"","","","","","","","","","","","","","",null,{"$f":"IF(Programs!$D$120=\"\",\"\",Programs!$D$120)","v":""},"","","","","","","","","","","","","","",""]
[null,{"$f":"Programs!B126","v":0},{"$f":"IF(Programs!$C$120=\"\",\"\",Programs!$C$120)","v":""},null,null,null,null,null,null,null,null,null,null,null,null,null,null,null,null,null,null,null,null,null,null,null,null,null,null,null,null,null,null,null,null,null,null,null,null,null,null,null,null,null,null,null,null,null,null,null,null,null,null,null,null,null,null,null,null,null,null,null,null,null,null,null,null,null,null,null,null,null,null,null,null,null,null,null,null,null,null,null,null,null,null,null,null,null,null,null,null,null,null,null,null,null,null,null,null,null,null,null,null,null,0,0,0,0,0,0,0,0,0,0,0,0,0,0,null,null,null,null,null,null,null,null,null,null,null,null,null,null,null,null,null,null,null,null,null,null,null,null,null,null,null,null,null,null,null,null,null,null,null,null,0,0,0,0,0,0,0,0,0,0,0,0,0,0,null,"","","","","","","","","","","","","","",null,{"$f":"IF(Programs!$D$120=\"\",\"\",Programs!$D$120)","v":""},"","","","","","","","","","","","","","",""]
[null,{"$f":"Programs!B127","v":0},{"$f":"IF(Programs!$C$120=\"\",\"\",Programs!$C$120)","v":""},null,null,null,null,null,null,null,null,null,null,null,null,null,null,null,null,null,null,null,null,null,null,null,null,null,null,null,null,null,null,null,null,null,null,null,null,null,null,null,null,null,null,null,null,null,null,null,null,null,null,null,null,null,null,null,null,null,null,null,null,null,null,null,null,null,null,null,null,null,null,null,null,null,null,null,null,null,null,null,null,null,null,null,null,null,null,null,null,null,null,null,null,null,null,null,null,null,null,null,null,null,0,0,0,0,0,0,0,0,0,0,0,0,0,0,null,null,null,null,null,null,null,null,null,null,null,null,null,null,null,null,null,null,null,null,null,null,null,null,null,null,null,null,null,null,null,null,null,null,null,null,0,0,0,0,0,0,0,0,0,0,0,0,0,0,null,"","","","","","","","","","","","","","",null,{"$f":"IF(Programs!$D$120=\"\",\"\",Programs!$D$120)","v":""},"","","","","","","","","","","","","","",""]
[null,{"$f":"Programs!B128","v":0},{"$f":"IF(Programs!$C$120=\"\",\"\",Programs!$C$120)","v":""},null,null,null,null,null,null,null,null,null,null,null,null,null,null,null,null,null,null,null,null,null,null,null,null,null,null,null,null,null,null,null,null,null,null,null,null,null,null,null,null,null,null,null,null,null,null,null,null,null,null,null,null,null,null,null,null,null,null,null,null,null,null,null,null,null,null,null,null,null,null,null,null,null,null,null,null,null,null,null,null,null,null,null,null,null,null,null,null,null,null,null,null,null,null,null,null,null,null,null,null,null,0,0,0,0,0,0,0,0,0,0,0,0,0,0,null,null,null,null,null,null,null,null,null,null,null,null,null,null,null,null,null,null,null,null,null,null,null,null,null,null,null,null,null,null,null,null,null,null,null,null,0,0,0,0,0,0,0,0,0,0,0,0,0,0,null,"","","","","","","","","","","","","","",null,{"$f":"IF(Programs!$D$120=\"\",\"\",Programs!$D$120)","v":""},{"$f":"IF(AND(COUNT(D81:BA81)>45,COUNT(BB81:CY81)>45),GC81,\"\")","v":""},"","","","","","","","","","","","","",""]
[null,{"$f":"Programs!B129","v":0},{"$f":"IF(Programs!$C$120=\"\",\"\",Programs!$C$120)","v":""},null,null,null,null,null,null,null,null,null,null,null,null,null,null,null,null,null,null,null,null,null,null,null,null,null,null,null,null,null,null,null,null,null,null,null,null,null,null,null,null,null,null,null,null,null,null,null,null,null,null,null,null,null,null,null,null,null,null,null,null,null,null,null,null,null,null,null,null,null,null,null,null,null,null,null,null,null,null,null,null,null,null,null,null,null,null,null,null,null,null,null,null,null,null,null,null,null,null,null,null,null,0,0,0,0,0,0,0,0,0,0,0,0,0,0,null,null,null,null,null,null,null,null,null,null,null,null,null,null,null,null,null,null,null,null,null,null,null,null,null,null,null,null,null,null,null,null,null,null,null,null,0,0,0,0,0,0,0,0,0,0,0,0,0,0,null,"","","","","","","","","","","","","","",null,{"$f":"IF(Programs!$D$120=\"\",\"\",Programs!$D$120)","v":""},"","","","","","","","","","","","","","",""]
[null,{"$f":"Programs!B130","v":0},{"$f":"IF(Programs!$C$120=\"\",\"\",Programs!$C$120)","v":""},null,null,null,null,null,null,null,null,null,null,null,null,null,null,null,null,null,null,null,null,null,null,null,null,null,null,null,null,null,null,null,null,null,null,null,null,null,null,null,null,null,null,null,null,null,null,null,null,null,null,null,null,null,null,null,null,null,null,null,null,null,null,null,null,null,null,null,null,null,null,null,null,null,null,null,null,null,null,null,null,null,null,null,null,null,null,null,null,null,null,null,null,null,null,null,null,null,null,null,null,null,0,0,0,0,0,0,0,0,0,0,0,0,0,0,null,null,null,null,null,null,null,null,null,null,null,null,null,null,null,null,null,null,null,null,null,null,null,null,null,null,null,null,null,null,null,null,null,null,null,null,0,0,0,0,0,0,0,0,0,0,0,0,0,0,null,"","","","","","","","","","","","","","",null,{"$f":"IF(Programs!$D$120=\"\",\"\",Programs!$D$120)","v":""},"","","","","","","","","","","","","","",""]
[null,{"$f":"Programs!B131","v":0},{"$f":"IF(Programs!$C$120=\"\",\"\",Programs!$C$120)","v":""},null,null,null,null,null,null,null,null,null,null,null,null,null,null,null,null,null,null,null,null,null,null,null,null,null,null,null,null,null,null,null,null,null,null,null,null,null,null,null,null,null,null,null,null,null,null,null,null,null,null,null,null,null,null,null,null,null,null,null,null,null,null,null,null,null,null,null,null,null,null,null,null,null,null,null,null,null,null,null,null,null,null,null,null,null,null,null,null,null,null,null,null,null,null,null,null,null,null,null,null,null,{"$f":"SUM(D84:K84)","v":0},{"$f":"DA84/8","v":0},{"$f":"SUM(L84:Q84)","v":0},{"$f":"DC84/6","v":0},{"$f":"SUM(R84:X84)","v":0},{"$f":"DE84/7","v":0},{"$f":"SUM(Y84:AG84)","v":0},{"$f":"DG84/9","v":0},{"$f":"SUM(AH84:AS84)","v":0},{"$f":"DI84/12","v":0},{"$f":"SUM(AT84:BA84)","v":0},{"$f":"DK84/8","v":0},{"$f":"SUM(DA84,DC84,DE84,DG84,DI84,DK84)","v":0},{"$f":"DM84/50","v":0},null,null,null,null,null,null,null,null,null,null,null,null,null,null,null,null,null,null,null,null,null,null,null,null,null,null,null,null,null,null,null,null,null,null,null,null,{"$f":"SUM(BB84:BI84)","v":0},{"$f":"EY84/8","v":0},{"$f":"SUM(BJ84:BO84)","v":0},{"$f":"FA84/6","v":0},{"$f":"SUM(BP84:BV84)","v":0},{"$f":"FC84/7","v":0},{"$f":"SUM(BW84:CE84)","v":0},{"$f":"FE84/9","v":0},{"$f":"SUM(CF84:CQ84)","v":0},{"$f":"FG84/12","v":0},{"$f":"SUM(CR84:CY84)","v":0},{"$f":"FI84/8","v":0},{"$f":"SUM(EY84,FA84,FC84,FE84,FG84,FI84)","v":0},{"$f":"FK84/50","v":0},null,{"$f":"IF($GD84<>\"\",EY84-DA84,\"\")","v":""},{"$f":"IF($GD84<>\"\",EZ84-DB84,\"\")","v":""},{"$f":"IF($GD84<>\"\",FA84-DC84,\"\")","v":""},{"$f":"IF($GD84<>\"\",FB84-DD84,\"\")","v":""},{"$f":"IF($GD84<>\"\",FC84-DE84,\"\")","v":""},{"$f":"IF($GD84<>\"\",FD84-DF84,\"\")","v":""},{"$f":"IF($GD84<>\"\",FE84-DG84,\"\")","v":""},{"$f":"IF($GD84<>\"\",FF84-DH84,\"\")","v":""},{"$f":"IF($GD84<>\"\",FG84-DI84,\"\")","v":""},{"$f":"IF($GD84<>\"\",FH84-DJ84,\"\")","v":""},{"$f":"IF($GD84<>\"\",FI84-DK84,\"\")","v":""},{"$f":"IF($GD84<>\"\",FJ84-DL84,\"\")","v":""},{"$f":"IF($GD84<>\"\",FK84-DM84,\"\")","v":""},{"$f":"IF($GD84<>\"\",FL84-DN84,\"\")","v":""},null,{"$f":"IF(Programs!$D$120=\"\",\"\",Programs!$D$120)","v":""},{"$f":"IF(AND(COUNT(D84:BA84)>45,COUNT(BB84:CY84)>45),GC84,\"\")","v":""},"","","","","","","","","","","","","",""]
[null,{"$f":"Programs!B132","v":0},{"$f":"IF(Programs!$C$120=\"\",\"\",Programs!$C$120)","v":""},null,null,null,null,null,null,null,null,null,null,null,null,null,null,null,null,null,null,null,null,null,null,null,null,null,null,null,null,null,null,null,null,null,null,null,null,null,null,null,null,null,null,null,null,null,null,null,null,null,null,null,null,null,null,null,null,null,null,null,null,null,null,null,null,null,null,null,null,null,null,null,null,null,null,null,null,null,null,null,null,null,null,null,null,null,null,null,null,null,null,null,null,null,null,null,null,null,null,null,null,null,0,0,0,0,0,0,0,0,0,0,0,0,0,0,null,null,null,null,null,null,null,null,null,null,null,null,null,null,null,null,null,null,null,null,null,null,null,null,null,null,null,null,null,null,null,null,null,null,null,null,0,0,0,0,0,0,0,0,0,0,0,0,0,0,null,"","","","","","","","","","","","","","",null,{"$f":"IF(Programs!$D$120=\"\",\"\",Programs!$D$120)","v":""},"","","","","","","","","","","","","","",""]
[null,{"$f":"Programs!B133","v":0},{"$f":"IF(Programs!$C$120=\"\",\"\",Programs!$C$120)","v":""},null,null,null,null,null,null,null,null,null,null,null,null,null,null,null,null,null,null,null,null,null,null,null,null,null,null,null,null,null,null,null,null,null,null,null,null,null,null,null,null,null,null,null,null,null,null,null,null,null,null,null,null,null,null,null,null,null,null,null,null,null,null,null,null,null,null,null,null,null,null,null,null,null,null,null,null,null,null,null,null,null,null,null,null,null,null,null,null,null,null,null,null,null,null,null,null,null,null,null,null,null,0,0,0,0,0,0,0,0,0,0,0,0,0,0,null,null,null,null,null,null,null,null,null,null,null,null,null,null,null,null,null,null,null,null,null,null,null,null,null,null,null,null,null,null,null,null,null,null,null,null,0,0,0,0,0,0,0,0,0,0,0,0,0,0,null,"","","","","","","","","","","","","","",null,{"$f":"IF(Programs!$D$120=\"\",\"\",Programs!$D$120)","v":""},"","","","","","","","","","","","","","",""]
[null,{"$f":"Programs!B134","v":0},{"$f":"IF(Programs!$C$120=\"\",\"\",Programs!$C$120)","v":""},null,null,null,null,null,null,null,null,null,null,null,null,null,null,null,null,null,null,null,null,null,null,null,null,null,null,null,null,null,null,null,null,null,null,null,null,null,null,null,null,null,null,null,null,null,null,null,null,null,null,null,null,null,null,null,null,null,null,null,null,null,null,null,null,null,null,null,null,null,null,null,null,null,null,null,null,null,null,null,null,null,null,null,null,null,null,null,null,null,null,null,null,null,null,null,null,null,null,null,null,null,0,0,0,0,0,0,0,0,0,0,0,0,0,0,null,null,null,null,null,null,null,null,null,null,null,null,null,null,null,null,null,null,null,null,null,null,null,null,null,null,null,null,null,null,null,null,null,null,null,null,0,0,0,0,0,0,0,0,0,0,0,0,0,0,null,"","","","","","","","","","","","","","",null,{"$f":"IF(Programs!$D$120=\"\",\"\",Programs!$D$120)","v":""},"","","","","","","","","","","","","","",""]
["Program 8",{"$f":"Programs!B142","v":0},{"$f":"IF(Programs!$C$139=\"\",\"\",Programs!$C$139)","v":""},null,null,null,null,null,null,null,null,null,null,null,null,null,null,null,null,null,null,null,null,null,null,null,null,null,null,null,null,null,null,null,null,null,null,null,null,null,null,null,null,null,null,null,null,null,null,null,null,null,null,null,null,null,null,null,null,null,null,null,null,null,null,null,null,null,null,null,null,null,null,null,null,null,null,null,null,null,null,null,null,null,null,null,null,null,null,null,null,null,null,null,null,null,null,null,null,null,null,null,null,null,0,0,0,0,0,0,0,0,0,0,0,0,0,0,null,null,null,null,null,null,null,null,null,null,null,null,null,null,null,null,null,null,null,null,null,null,null,null,null,null,null,null,null,null,null,null,null,null,null,null,0,0,0,0,0,0,0,0,0,0,0,0,0,0,null,"","","","","","","","","","","","","","",null,{"$f":"IF(Programs!$D$139=\"\",\"\",Programs!$D$139)","v":""},"","","","","","","","","","","","","","",""]
[null,{"$f":"Programs!B143","v":0},{"$f":"IF(Programs!$C$139=\"\",\"\",Programs!$C$139)","v":""},null,null,null,null,null,null,null,null,null,null,null,null,null,null,null,null,null,null,null,null,null,null,null,null,null,null,null,null,null,null,null,null,null,null,null,null,null,null,null,null,null,null,null,null,null,null,null,null,null,null,null,null,null,null,null,null,null,null,null,null,null,null,null,null,null,null,null,null,null,null,null,null,null,null,null,null,null,null,null,null,null,null,null,null,null,null,null,null,null,null,null,null,null,null,null,null,null,null,null,null,null,0,0,0,0,0,0,0,0,0,0,0,0,0,0,null,null,null,null,null,null,null,null,null,null,null,null,null,null,null,null,null,null,null,null,null,null,null,null,null,null,null,null,null,null,null,null,null,null,null,null,0,0,0,0,0,0,0,0,0,0,0,0,0,0,null,"","","","","","","","","","","","","","",null,{"$f":"IF(Programs!$D$139=\"\",\"\",Programs!$D$139)","v":""},"","","","","","","","","","","","","","",""]
[null,{"$f":"Programs!B144","v":0},{"$f":"IF(Programs!$C$139=\"\",\"\",Programs!$C$139)","v":""},null,null,null,null,null,null,null,null,null,null,null,null,null,null,null,null,null,null,null,null,null,null,null,null,null,null,null,null,null,null,null,null,null,null,null,null,null,null,null,null,null,null,null,null,null,null,null,null,null,null,null,null,null,null,null,null,null,null,null,null,null,null,null,null,null,null,null,null,null,null,null,null,null,null,null,null,null,null,null,null,null,null,null,null,null,null,null,null,null,null,null,null,null,null,null,null,null,null,null,null,null,0,0,0,0,0,0,0,0,0,0,0,0,0,0,null,null,null,null,null,null,null,null,null,null,null,null,null,null,null,null,null,null,null,null,null,null,null,null,null,null,null,null,null,null,null,null,null,null,null,null,0,0,0,0,0,0,0,0,0,0,0,0,0,0,null,"","","","","","","","","","","","","","",null,{"$f":"IF(Programs!$D$139=\"\",\"\",Programs!$D$139)","v":""},"","","","","","","","","","","","","","",""]
[null,{"$f":"Programs!B145","v":0},{"$f":"IF(Programs!$C$139=\"\",\"\",Programs!$C$139)","v":""},null,null,null,null,null,null,null,null,null,null,null,null,null,null,null,null,null,null,null,null,null,null,null,null,null,null,null,null,null,null,null,null,null,null,null,null,null,null,null,null,null,null,null,null,null,null,null,null,null,null,null,null,null,null,null,null,null,null,null,null,null,null,null,null,null,null,null,null,null,null,null,null,null,null,null,null,null,null,null,null,null,null,null,null,null,null,null,null,null,null,null,null,null,null,null,null,null,null,null,null,null,0,0,0,0,0,0,0,0,0,0,0,0,0,0,null,null,null,null,null,null,null,null,null,null,null,null,null,null,null,null,null,null,null,null,null,null,null,null,null,null,null,null,null,null,null,null,null,null,null,null,0,0,0,0,0,0,0,0,0,0,0,0,0,0,null,"","","","","","","","","","","","","","",null,{"$f":"IF(Programs!$D$139=\"\",\"\",Programs!$D$139)","v":""},"","","","","","","","","","","","","","",""]
[null,{"$f":"Programs!B146","v":0},{"$f":"IF(Programs!$C$139=\"\",\"\",Programs!$C$139)","v":""},null,null,null,null,null,null,null,null,null,null,null,null,null,null,null,null,null,null,null,null,null,null,null,null,null,null,null,null,null,null,null,null,null,null,null,null,null,null,null,null,null,null,null,null,null,null,null,null,null,null,null,null,null,null,null,null,null,null,null,null,null,null,null,null,null,null,null,null,null,null,null,null,null,null,null,null,null,null,null,null,null,null,null,null,null,null,null,null,null,null,null,null,null,null,null,null,null,null,null,null,null,{"$f":"SUM(D92:K92)","v":0},{"$f":"DA92/8","v":0},{"$f":"SUM(L92:Q92)","v":0},{"$f":"DC92/6","v":0},{"$f":"SUM(R92:X92)","v":0},{"$f":"DE92/7","v":0},{"$f":"SUM(Y92:AG92)","v":0},{"$f":"DG92/9","v":0},{"$f":"SUM(AH92:AS92)","v":0},{"$f":"DI92/12","v":0},{"$f":"SUM(AT92:BA92)","v":0},{"$f":"DK92/8","v":0},{"$f":"SUM(DA92,DC92,DE92,DG92,DI92,DK92)","v":0},{"$f":"DM92/50","v":0},null,null,null,null,null,null,null,null,null,null,null,null,null,null,null,null,null,null,null,null,null,null,null,null,null,null,null,null,null,null,null,null,null,null,null,null,{"$f":"SUM(BB92:BI92)","v":0},{"$f":"EY92/8","v":0},{"$f":"SUM(BJ92:BO92)","v":0},{"$f":"FA92/6","v":0},{"$f":"SUM(BP92:BV92)","v":0},{"$f":"FC92/7","v":0},{"$f":"SUM(BW92:CE92)","v":0},{"$f":"FE92/9","v":0},{"$f":"SUM(CF92:CQ92)","v":0},{"$f":"FG92/12","v":0},{"$f":"SUM(CR92:CY92)","v":0},{"$f":"FI92/8","v":0},{"$f":"SUM(EY92,FA92,FC92,FE92,FG92,FI92)","v":0},{"$f":"FK92/50","v":0},null,"","","","","","","","","","","","","","",null,{"$f":"IF(Programs!$D$139=\"\",\"\",Programs!$D$139)","v":""},"","","","","","","","","","","","","","",""]
[null,{"$f":"Programs!B147","v":0},{"$f":"IF(Programs!$C$139=\"\",\"\",Programs!$C$139)","v":""},null,null,null,null,null,null,null,null,null,null,null,null,null,null,null,null,null,null,null,null,null,null,null,null,null,null,null,null,null,null,null,null,null,null,null,null,null,null,null,null,null,null,null,null,null,null,null,null,null,null,null,null,null,null,null,null,null,null,null,null,null,null,null,null,null,null,null,null,null,null,null,null,null,null,null,null,null,null,null,null,null,null,null,null,null,null,null,null,null,null,null,null,null,null,null,null,null,null,null,null,null,0,0,0,0,0,0,0,0,0,0,0,0,0,0,null,null,null,null,null,null,null,null,null,null,null,null,null,null,null,null,null,null,null,null,null,null,null,null,null,null,null,null,null,null,null,null,null,null,null,null,0,0,0,0,0,0,0,0,0,0,0,0,0,0,null,"","","","","","","","","","","","","","",null,{"$f":"IF(Programs!$D$139=\"\",\"\",Programs!$D$139)","v":""},"","","","","","","","","","","","","","",""]
[null,{"$f":"Programs!B148","v":0},{"$f":"IF(Programs!$C$139=\"\",\"\",Programs!$C$139)","v":""},null,null,null,null,null,null,null,null,null,null,null,null,null,null,null,null,null,null,null,null,null,null,null,null,null,null,null,null,null,null,null,null,null,null,null,null,null,null,null,null,null,null,null,null,null,null,null,null,null,null,null,null,null,null,null,null,null,null,null,null,null,null,null,null,null,null,null,null,null,null,null,null,null,null,null,null,null,null,null,null,null,null,null,null,null,null,null,null,null,null,null,null,null,null,null,null,null,null,null,null,null,0,0,0,0,0,0,0,0,0,0,0,0,0,0,null,null,null,null,null,null,null,null,null,null,null,null,null,null,null,null,null,null,null,null,null,null,null,null,null,null,null,null,null,null,null,null,null,null,null,null,0,0,0,0,0,0,0,0,0,0,0,0,0,0,null,"","","","","","","","","","","","","","",null,{"$f":"IF(Programs!$D$139=\"\",\"\",Programs!$D$139)","v":""},"","","","","","","","","","","","","","",""]
[null,{"$f":"Programs!B149","v":0},{"$f":"IF(Programs!$C$139=\"\",\"\",Programs!$C$139)","v":""},null,null,null,null,null,null,null,null,null,null,null,null,null,null,null,null,null,null,null,null,null,null,null,null,null,null,null,null,null,null,null,null,null,null,null,null,null,null,null,null,null,null,null,null,null,null,null,null,null,null,null,null,null,null,null,null,null,null,null,null,null,null,null,null,null,null,null,null,null,null,null,null,null,null,null,null,null,null,null,null,null,null,null,null,null,null,null,null,null,null,null,null,null,null,null,null,null,null,null,null,null,0,0,0,0,0,0,0,0,0,0,0,0,0,0,null,null,null,null,null,null,null,null,null,null,null,null,null,null,null,null,null,null,null,null,null,null,null,null,null,null,null,null,null,null,null,null,null,null,null,null,0,0,0,0,0,0,0,0,0,0,0,0,0,0,null,"","","","","","","","","","","","","","",null,{"$f":"IF(Programs!$D$139=\"\",\"\",Programs!$D$139)","v":""},"","","","","","","","","","","","","","",""]
[null,{"$f":"Programs!B150","v":0},{"$f":"IF(Programs!$C$139=\"\",\"\",Programs!$C$139)","v":""},null,null,null,null,null,null,null,null,null,null,null,null,null,null,null,null,null,null,null,null,null,null,null,null,null,null,null,null,null,null,null,null,null,null,null,null,null,null,null,null,null,null,null,null,null,null,null,null,null,null,null,null,null,null,null,null,null,null,null,null,null,null,null,null,null,null,null,null,null,null,null,null,null,null,null,null,null,null,null,null,null,null,null,null,null,null,null,null,null,null,null,null,null,null,null,null,null,null,null,null,null,{"$f":"SUM(D96:K96)","v":0},{"$f":"DA96/8","v":0},{"$f":"SUM(L96:Q96)","v":0},{"$f":"DC96/6","v":0},{"$f":"SUM(R96:X96)","v":0},{"$f":"DE96/7","v":0},{"$f":"SUM(Y96:AG96)","v":0},{"$f":"DG96/9","v":0},{"$f":"SUM(AH96:AS96)","v":0},{"$f":"DI96/12","v":0},{"$f":"SUM(AT96:BA96)","v":0},{"$f":"DK96/8","v":0},{"$f":"SUM(DA96,DC96,DE96,DG96,DI96,DK96)","v":0},{"$f":"DM96/50","v":0},null,null,null,null,null,null,null,null,null,null,null,null,null,null,null,null,null,null,null,null,null,null,null,null,null,null,null,null,null,null,null,null,null,null,null,null,{"$f":"SUM(BB96:BI96)","v":0},{"$f":"EY96/8","v":0},{"$f":"SUM(BJ96:BO96)","v":0},{"$f":"FA96/6","v":0},{"$f":"SUM(BP96:BV96)","v":0},{"$f":"FC96/7","v":0},{"$f":"SUM(BW96:CE96)","v":0},{"$f":"FE96/9","v":0},{"$f":"SUM(CF96:CQ96)","v":0},{"$f":"FG96/12","v":0},{"$f":"SUM(CR96:CY96)","v":0},{"$f":"FI96/8","v":0},{"$f":"SUM(EY96,FA96,FC96,FE96,FG96,FI96)","v":0},{"$f":"FK96/50","v":0},null,{"$f":"IF($GD96<>\"\",EY96-DA96,\"\")","v":""},{"$f":"IF($GD96<>\"\",EZ96-DB96,\"\")","v":""},{"$f":"IF($GD96<>\"\",FA96-DC96,\"\")","v":""},{"$f":"IF($GD96<>\"\",FB96-DD96,\"\")","v":""},{"$f":"IF($GD96<>\"\",FC96-DE96,\"\")","v":""},{"$f":"IF($GD96<>\"\",FD96-DF96,\"\")","v":""},{"$f":"IF($GD96<>\"\",FE96-DG96,\"\")","v":""},{"$f":"IF($GD96<>\"\",FF96-DH96,\"\")","v":""},{"$f":"IF($GD96<>\"\",FG96-DI96,\"\")","v":""},{"$f":"IF($GD96<>\"\",FH96-DJ96,\"\")","v":""},{"$f":"IF($GD96<>\"\",FI96-DK96,\"\")","v":""},{"$f":"IF($GD96<>\"\",FJ96-DL96,\"\")","v":""},{"$f":"IF($GD96<>\"\",FK96-DM96,\"\")","v":""},{"$f":"IF($GD96<>\"\",FL96-DN96,\"\")","v":""},null,{"$f":"IF(Programs!$D$139=\"\",\"\",Programs!$D$139)","v":""},{"$f":"IF(AND(COUNT(D96:BA96)>45,COUNT(BB96:CY96)>45),GC96,\"\")","v":""},"","","","","","","","","","","","","",""]
[null,{"$f":"Programs!B151","v":0},{"$f":"IF(Programs!$C$139=\"\",\"\",Programs!$C$139)","v":""},null,null,null,null,null,null,null,null,null,null,null,null,null,null,null,null,null,null,null,null,null,null,null,null,null,null,null,null,null,null,null,null,null,null,null,null,null,null,null,null,null,null,null,null,null,null,null,null,null,null,null,null,null,null,null,null,null,null,null,null,null,null,null,null,null,null,null,null,null,null,null,null,null,null,null,null,null,null,null,null,null,null,null,null,null,null,null,null,null,null,null,null,null,null,null,null,null,null,null,null,null,0,0,0,0,0,0,0,0,0,0,0,0,0,0,null,null,null,null,null,null,null,null,null,null,null,null,null,null,null,null,null,null,null,null,null,null,null,null,null,null,null,null,null,null,null,null,null,null,null,null,0,0,0,0,0,0,0,0,0,0,0,0,0,0,null,"","","","","","","","","","","","","","",null,{"$f":"IF(Programs!$D$139=\"\",\"\",Programs!$D$139)","v":""},"","","","","","","","","","","","","","",""]
[null,{"$f":"Programs!B152","v":0},{"$f":"IF(Programs!$C$139=\"\",\"\",Programs!$C$139)","v":""},null,null,null,null,null,null,null,null,null,null,null,null,null,null,null,null,null,null,null,null,null,null,null,null,null,null,null,null,null,null,null,null,null,null,null,null,null,null,null,null,null,null,null,null,null,null,null,null,null,null,null,null,null,null,null,null,null,null,null,null,null,null,null,null,null,null,null,null,null,null,null,null,null,null,null,null,null,null,null,null,null,null,null,null,null,null,null,null,null,null,null,null,null,null,null,null,null,null,null,null,null,0,0,0,0,0,0,0,0,0,0,0,0,0,0,null,null,null,null,null,null,null,null,null,null,null,null,null,null,null,null,null,null,null,null,null,null,null,null,null,null,null,null,null,null,null,null,null,null,null,null,0,0,0,0,0,0,0,0,0,0,0,0,0,0,null,"","","","","","","","","","","","","","",null,{"$f":"IF(Programs!$D$139=\"\",\"\",Programs!$D$139)","v":""},"","","","","","","","","","","","","","",""]
[null,{"$f":"Programs!B153","v":0},{"$f":"IF(Programs!$C$139=\"\",\"\",Programs!$C$139)","v":""},null,null,null,null,null,null,null,null,null,null,null,null,null,null,null,null,null,null,null,null,null,null,null,null,null,null,null,null,null,null,null,null,null,null,null,null,null,null,null,null,null,null,null,null,null,null,null,null,null,null,null,null,null,null,null,null,null,null,null,null,null,null,null,null,null,null,null,null,null,null,null,null,null,null,null,null,null,null,null,null,null,null,null,null,null,null,null,null,null,null,null,null,null,null,null,null,null,null,null,null,null,0,0,0,0,0,0,0,0,0,0,0,0,0,0,null,null,null,null,null,null,null,null,null,null,null,null,null,null,null,null,null,null,null,null,null,null,null,null,null,null,null,null,null,null,null,null,null,null,null,null,0,0,0,0,0,0,0,0,0,0,0,0,0,0,null,"","","","","","","","","","","","","","",null,{"$f":"IF(Programs!$D$139=\"\",\"\",Programs!$D$139)","v":""},"","","","","","","","","","","","","","",""]
["Program 9",{"$f":"Programs!B161","v":0},{"$f":"IF(Programs!$C$158=\"\",\"\",Programs!$C$158)","v":""},null,null,null,null,null,null,null,null,null,null,null,null,null,null,null,null,null,null,null,null,null,null,null,null,null,null,null,null,null,null,null,null,null,null,null,null,null,null,null,null,null,null,null,null,null,null,null,null,null,null,null,null,null,null,null,null,null,null,null,null,null,null,null,null,null,null,null,null,null,null,null,null,null,null,null,null,null,null,null,null,null,null,null,null,null,null,null,null,null,null,null,null,null,null,null,null,null,null,null,null,null,0,0,0,0,0,0,0,0,0,0,0,0,0,0,null,null,null,null,null,null,null,null,null,null,null,null,null,null,null,null,null,null,null,null,null,null,null,null,null,null,null,null,null,null,null,null,null,null,null,null,0,0,0,0,0,0,0,0,0,0,0,0,0,0,null,"","","","","","","","","","","","","","",null,{"$f":"IF(Programs!$D$158=\"\",\"\",Programs!$D$158)","v":""},"","","","","","","","","","","","","","",""]
[null,{"$f":"Programs!B162","v":0},{"$f":"IF(Programs!$C$158=\"\",\"\",Programs!$C$158)","v":""},null,null,null,null,null,null,null,null,null,null,null,null,null,null,null,null,null,null,null,null,null,null,null,null,null,null,null,null,null,null,null,null,null,null,null,null,null,null,null,null,null,null,null,null,null,null,null,null,null,null,null,null,null,null,null,null,null,null,null,null,null,null,null,null,null,null,null,null,null,null,null,null,null,null,null,null,null,null,null,null,null,null,null,null,null,null,null,null,null,null,null,null,null,null,null,null,null,null,null,null,null,0,0,0,0,0,0,0,0,0,0,0,0,0,0,null,null,null,null,null,null,null,null,null,null,null,null,null,null,null,null,null,null,null,null,null,null,null,null,null,null,null,null,null,null,null,null,null,null,null,null,0,0,0,0,0,0,0,0,0,0,0,0,0,0,null,"","","","","","","","","","","","","","",null,{"$f":"IF(Programs!$D$158=\"\",\"\",Programs!$D$158)","v":""},"","","","","","","","","","","","","","",""]
[null,{"$f":"Programs!B163","v":0},{"$f":"IF(Programs!$C$158=\"\",\"\",Programs!$C$158)","v":""},null,null,null,null,null,null,null,null,null,null,null,null,null,null,null,null,null,null,null,null,null,null,null,null,null,null,null,null,null,null,null,null,null,null,null,null,null,null,null,null,null,null,null,null,null,null,null,null,null,null,null,null,null,null,null,null,null,null,null,null,null,null,null,null,null,null,null,null,null,null,null,null,null,null,null,null,null,null,null,null,null,null,null,null,null,null,null,null,null,null,null,null,null,null,null,null,null,null,null,null,null,0,0,0,0,0,0,0,0,0,0,0,0,0,0,null,null,null,null,null,null,null,null,null,null,null,null,null,null,null,null,null,null,null,null,null,null,null,null,null,null,null,null,null,null,null,null,null,null,null,null,0,0,0,0,0,0,0,0,0,0,0,0,0,0,null,"","","","","","","","","","","","","","",null,{"$f":"IF(Programs!$D$158=\"\",\"\",Programs!$D$158)","v":""},"","","","","","","","","","","","","","",""]
[null,{"$f":"Programs!B164","v":0},{"$f":"IF(Programs!$C$158=\"\",\"\",Programs!$C$158)","v":""},null,null,null,null,null,null,null,null,null,null,null,null,null,null,null,null,null,null,null,null,null,null,null,null,null,null,null,null,null,null,null,null,null,null,null,null,null,null,null,null,null,null,null,null,null,null,null,null,null,null,null,null,null,null,null,null,null,null,null,null,null,null,null,null,null,null,null,null,null,null,null,null,null,null,null,null,null,null,null,null,null,null,null,null,null,null,null,null,null,null,null,null,null,null,null,null,null,null,null,null,null,0,0,0,0,0,0,0,0,0,0,0,0,0,0,null,null,null,null,null,null,null,null,null,null,null,null,null,null,null,null,null,null,null,null,null,null,null,null,null,null,null,null,null,null,null,null,null,null,null,null,0,0,0,0,0,0,0,0,0,0,0,0,0,0,null,"","","","","","","","","","","","","","",null,{"$f":"IF(Programs!$D$158=\"\",\"\",Programs!$D$158)","v":""},"","","","","","","","","","","","","","",""]
[null,{"$f":"Programs!B165","v":0},{"$f":"IF(Programs!$C$158=\"\",\"\",Programs!$C$158)","v":""},null,null,null,null,null,null,null,null,null,null,null,null,null,null,null,null,null,null,null,null,null,null,null,null,null,null,null,null,null,null,null,null,null,null,null,null,null,null,null,null,null,null,null,null,null,null,null,null,null,null,null,null,null,null,null,null,null,null,null,null,null,null,null,null,null,null,null,null,null,null,null,null,null,null,null,null,null,null,null,null,null,null,null,null,null,null,null,null,null,null,null,null,null,null,null,null,null,null,null,null,null,0,0,0,0,0,0,0,0,0,0,0,0,0,0,null,null,null,null,null,null,null,null,null,null,null,null,null,null,null,null,null,null,null,null,null,null,null,null,null,null,null,null,null,null,null,null,null,null,null,null,0,0,0,0,0,0,0,0,0,0,0,0,0,0,null,"","","","","","","","","","","","","","",null,{"$f":"IF(Programs!$D$158=\"\",\"\",Programs!$D$158)","v":""},"","","","","","","","","","","","","","",""]
[null,{"$f":"Programs!B166","v":0},{"$f":"IF(Programs!$C$158=\"\",\"\",Programs!$C$158)","v":""},null,null,null,null,null,null,null,null,null,null,null,null,null,null,null,null,null,null,null,null,null,null,null,null,null,null,null,null,null,null,null,null,null,null,null,null,null,null,null,null,null,null,null,null,null,null,null,null,null,null,null,null,null,null,null,null,null,null,null,null,null,null,null,null,null,null,null,null,null,null,null,null,null,null,null,null,null,null,null,null,null,null,null,null,null,null,null,null,null,null,null,null,null,null,null,null,null,null,null,null,null,0,0,0,0,0,0,0,0,0,0,0,0,0,0,null,null,null,null,null,null,null,null,null,null,null,null,null,null,null,null,null,null,null,null,null,null,null,null,null,null,null,null,null,null,null,null,null,null,null,null,0,0,0,0,0,0,0,0,0,0,0,0,0,0,null,"","","","","","","","","","","","","","",null,{"$f":"IF(Programs!$D$158=\"\",\"\",Programs!$D$158)","v":""},"","","","","","","","","","","","","","",""]
[null,{"$f":"Programs!B167","v":0},{"$f":"IF(Programs!$C$158=\"\",\"\",Programs!$C$158)","v":""},null,null,null,null,null,null,null,null,null,null,null,null,null,null,null,null,null,null,null,null,null,null,null,null,null,null,null,null,null,null,null,null,null,null,null,null,null,null,null,null,null,null,null,null,null,null,null,null,null,null,null,null,null,null,null,null,null,null,null,null,null,null,null,null,null,null,null,null,null,null,null,null,null,null,null,null,null,null,null,null,null,null,null,null,null,null,null,null,null,null,null,null,null,null,null,null,null,null,null,null,null,0,0,0,0,0,0,0,0,0,0,0,0,0,0,null,null,null,null,null,null,null,null,null,null,null,null,null,null,null,null,null,null,null,null,null,null,null,null,null,null,null,null,null,null,null,null,null,null,null,null,0,0,0,0,0,0,0,0,0,0,0,0,0,0,null,"","","","","","","","","","","","","","",null,{"$f":"IF(Programs!$D$158=\"\",\"\",Programs!$D$158)","v":""},"","","","","","","","","","","","","","",""]
[null,{"$f":"Programs!B168","v":0},{"$f":"IF(Programs!$C$158=\"\",\"\",Programs!$C$158)","v":""},null,null,null,null,null,null,null,null,null,null,null,null,null,null,null,null,null,null,null,null,null,null,null,null,null,null,null,null,null,null,null,null,null,null,null,null,null,null,null,null,null,null,null,null,null,null,null,null,null,null,null,null,null,null,null,null,null,null,null,null,null,null,null,null,null,null,null,null,null,null,null,null,null,null,null,null,null,null,null,null,null,null,null,null,null,null,null,null,null,null,null,null,null,null,null,null,null,null,null,null,null,0,0,0,0,0,0,0,0,0,0,0,0,0,0,null,null,null,null,null,null,null,null,null,null,null,null,null,null,null,null,null,null,null,null,null,null,null,null,null,null,null,null,null,null,null,null,null,null,null,null,0,0,0,0,0,0,0,0,0,0,0,0,0,0,null,"","","","","","","","","","","","","","",null,{"$f":"IF(Programs!$D$158=\"\",\"\",Programs!$D$158)","v":""},"","","","","","","","","","","","","","",""]
[null,{"$f":"Programs!B169","v":0},{"$f":"IF(Programs!$C$158=\"\",\"\",Programs!$C$158)","v":""},null,null,null,null,null,null,null,null,null,null,null,null,null,null,null,null,null,null,null,null,null,null,null,null,null,null,null,null,null,null,null,null,null,null,null,null,null,null,null,null,null,null,null,null,null,null,null,null,null,null,null,null,null,null,null,null,null,null,null,null,null,null,null,null,null,null,null,null,null,null,null,null,null,null,null,null,null,null,null,null,null,null,null,null,null,null,null,null,null,null,null,null,null,null,null,null,null,null,null,null,null,{"$f":"SUM(D108:K108)","v":0},{"$f":"DA108/8","v":0},{"$f":"SUM(L108:Q108)","v":0},{"$f":"DC108/6","v":0},{"$f":"SUM(R108:X108)","v":0},{"$f":"DE108/7","v":0},{"$f":"SUM(Y108:AG108)","v":0},{"$f":"DG108/9","v":0},{"$f":"SUM(AH108:AS108)","v":0},{"$f":"DI108/12","v":0},{"$f":"SUM(AT108:BA108)","v":0},{"$f":"DK108/8","v":0},{"$f":"SUM(DA108,DC108,DE108,DG108,DI108,DK108)","v":0},{"$f":"DM108/50","v":0},null,null,null,null,null,null,null,null,null,null,null,null,null,null,null,null,null,null,null,null,null,null,null,null,null,null,null,null,null,null,null,null,null,null,null,null,{"$f":"SUM(BB108:BI108)","v":0},{"$f":"EY108/8","v":0},{"$f":"SUM(BJ108:BO108)","v":0},{"$f":"FA108/6","v":0},{"$f":"SUM(BP108:BV108)","v":0},{"$f":"FC108/7","v":0},{"$f":"SUM(BW108:CE108)","v":0},{"$f":"FE108/9","v":0},{"$f":"SUM(CF108:CQ108)","v":0},{"$f":"FG108/12","v":0},{"$f":"SUM(CR108:CY108)","v":0},{"$f":"FI108/8","v":0},{"$f":"SUM(EY108,FA108,FC108,FE108,FG108,FI108)","v":0},{"$f":"FK108/50","v":0},null,{"$f":"IF($GD108<>\"\",EY108-DA108,\"\")","v":""},{"$f":"IF($GD108<>\"\",EZ108-DB108,\"\")","v":""},{"$f":"IF($GD108<>\"\",FA108-DC108,\"\")","v":""},{"$f":"IF($GD108<>\"\",FB108-DD108,\"\")","v":""},{"$f":"IF($GD108<>\"\",FC108-DE108,\"\")","v":""},{"$f":"IF($GD108<>\"\",FD108-DF108,\"\")","v":""},{"$f":"IF($GD108<>\"\",FE108-DG108,\"\")","v":""},{"$f":"IF($GD108<>\"\",FF108-DH108,\"\")","v":""},{"$f":"IF($GD108<>\"\",FG108-DI108,\"\")","v":""},{"$f":"IF($GD108<>\"\",FH108-DJ108,\"\")","v":""},{"$f":"IF($GD108<>\"\",FI108-DK108,\"\")","v":""},{"$f":"IF($GD108<>\"\",FJ108-DL108,\"\")","v":""},{"$f":"IF($GD108<>\"\",FK108-DM108,\"\")","v":""},{"$f":"IF($GD108<>\"\",FL108-DN108,\"\")","v":""},null,{"$f":"IF(Programs!$D$158=\"\",\"\",Programs!$D$158)","v":""},{"$f":"IF(AND(COUNT(D108:BA108)>45,COUNT(BB108:CY108)>45),GC108,\"\")","v":""},"","","","","","","","","","","","","",""]
[null,{"$f":"Programs!B170","v":0},{"$f":"IF(Programs!$C$158=\"\",\"\",Programs!$C$158)","v":""},null,null,null,null,null,null,null,null,null,null,null,null,null,null,null,null,null,null,null,null,null,null,null,null,null,null,null,null,null,null,null,null,null,null,null,null,null,null,null,null,null,null,null,null,null,null,null,null,null,null,null,null,null,null,null,null,null,null,null,null,null,null,null,null,null,null,null,null,null,null,null,null,null,null,null,null,null,null,null,null,null,null,null,null,null,null,null,null,null,null,null,null,null,null,null,null,null,null,null,null,null,0,0,0,0,0,0,0,0,0,0,0,0,0,0,null,null,null,null,null,null,null,null,null,null,null,null,null,null,null,null,null,null,null,null,null,null,null,null,null,null,null,null,null,null,null,null,null,null,null,null,0,0,0,0,0,0,0,0,0,0,0,0,0,0,null,"","","","","","","","","","","","","","",null,{"$f":"IF(Programs!$D$158=\"\",\"\",Programs!$D$158)","v":""},"","","","","","","","","","","","","","",""]
[null,{"$f":"Programs!B171","v":0},{"$f":"IF(Programs!$C$158=\"\",\"\",Programs!$C$158)","v":""},null,null,null,null,null,null,null,null,null,null,null,null,null,null,null,null,null,null,null,null,null,null,null,null,null,null,null,null,null,null,null,null,null,null,null,null,null,null,null,null,null,null,null,null,null,null,null,null,null,null,null,null,null,null,null,null,null,null,null,null,null,null,null,null,null,null,null,null,null,null,null,null,null,null,null,null,null,null,null,null,null,null,null,null,null,null,null,null,null,null,null,null,null,null,null,null,null,null,null,null,null,0,0,0,0,0,0,0,0,0,0,0,0,0,0,null,null,null,null,null,null,null,null,null,null,null,null,null,null,null,null,null,null,null,null,null,null,null,null,null,null,null,null,null,null,null,null,null,null,null,null,0,0,0,0,0,0,0,0,0,0,0,0,0,0,null,"","","","","","","","","","","","","","",null,{"$f":"IF(Programs!$D$158=\"\",\"\",Programs!$D$158)","v":""},"","","","","","","","","","","","","","",""]
[null,{"$f":"Programs!B172","v":0},{"$f":"IF(Programs!$C$158=\"\",\"\",Programs!$C$158)","v":""},null,null,null,null,null,null,null,null,null,null,null,null,null,null,null,null,null,null,null,null,null,null,null,null,null,null,null,null,null,null,null,null,null,null,null,null,null,null,null,null,null,null,null,null,null,null,null,null,null,null,null,null,null,null,null,null,null,null,null,null,null,null,null,null,null,null,null,null,null,null,null,null,null,null,null,null,null,null,null,null,null,null,null,null,null,null,null,null,null,null,null,null,null,null,null,null,null,null,null,null,null,0,0,0,0,0,0,0,0,0,0,0,0,0,0,null,null,null,null,null,null,null,null,null,null,null,null,null,null,null,null,null,null,null,null,null,null,null,null,null,null,null,null,null,null,null,null,null,null,null,null,0,0,0,0,0,0,0,0,0,0,0,0,0,0,null,"","","","","","","","","","","","","","",null,{"$f":"IF(Programs!$D$158=\"\",\"\",Programs!$D$158)","v":""},"","","","","","","","","","","","","","",""]
["Program 10",{"$f":"Programs!B180","v":0},{"$f":"IF(Programs!$C$177=\"\",\"\",Programs!$C$177)","v":""},null,null,null,null,null,null,null,null,null,null,null,null,null,null,null,null,null,null,null,null,null,null,null,null,null,null,null,null,null,null,null,null,null,null,null,null,null,null,null,null,null,null,null,null,null,null,null,null,null,null,null,null,null,null,null,null,null,null,null,null,null,null,null,null,null,null,null,null,null,null,null,null,null,null,null,null,null,null,null,null,null,null,null,null,null,null,null,null,null,null,null,null,null,null,null,null,null,null,null,null,null,0,0,0,0,0,0,0,0,0,0,0,0,0,0,null,null,null,null,null,null,null,null,null,null,null,null,null,null,null,null,null,null,null,null,null,null,null,null,null,null,null,null,null,null,null,null,null,null,null,null,0,0,0,0,0,0,0,0,0,0,0,0,0,0,null,"","","","","","","","","","","","","","",null,{"$f":"IF(Programs!$D$177=\"\",\"\",Programs!$D$177)","v":""},"","","","","","","","","","","","","","",""]
[null,{"$f":"Programs!B181","v":0},{"$f":"IF(Programs!$C$177=\"\",\"\",Programs!$C$177)","v":""},null,null,null,null,null,null,null,null,null,null,null,null,null,null,null,null,null,null,null,null,null,null,null,null,null,null,null,null,null,null,null,null,null,null,null,null,null,null,null,null,null,null,null,null,null,null,null,null,null,null,null,null,null,null,null,null,null,null,null,null,null,null,null,null,null,null,null,null,null,null,null,null,null,null,null,null,null,null,null,null,null,null,null,null,null,null,null,null,null,null,null,null,null,null,null,null,null,null,null,null,null,0,0,0,0,0,0,0,0,0,0,0,0,0,0,null,null,null,null,null,null,null,null,null,null,null,null,null,null,null,null,null,null,null,null,null,null,null,null,null,null,null,null,null,null,null,null,null,null,null,null,0,0,0,0,0,0,0,0,0,0,0,0,0,0,null,"","","","","","","","","","","","","","",null,{"$f":"IF(Programs!$D$177=\"\",\"\",Programs!$D$177)","v":""},"","","","","","","","","","","","","","",""]
[null,{"$f":"Programs!B182","v":0},{"$f":"IF(Programs!$C$177=\"\",\"\",Programs!$C$177)","v":""},null,null,null,null,null,null,null,null,null,null,null,null,null,null,null,null,null,null,null,null,null,null,null,null,null,null,null,null,null,null,null,null,null,null,null,null,null,null,null,null,null,null,null,null,null,null,null,null,null,null,null,null,null,null,null,null,null,null,null,null,null,null,null,null,null,null,null,null,null,null,null,null,null,null,null,null,null,null,null,null,null,null,null,null,null,null,null,null,null,null,null,null,null,null,null,null,null,null,null,null,null,0,0,0,0,0,0,0,0,0,0,0,0,0,0,null,null,null,null,null,null,null,null,null,null,null,null,null,null,null,null,null,null,null,null,null,null,null,null,null,null,null,null,null,null,null,null,null,null,null,null,0,0,0,0,0,0,0,0,0,0,0,0,0,0,null,"","","","","","","","","","","","","","",null,{"$f":"IF(Programs!$D$177=\"\",\"\",Programs!$D$177)","v":""},"","","","","","","","","","","","","","",""]
[null,{"$f":"Programs!B183","v":0},{"$f":"IF(Programs!$C$177=\"\",\"\",Programs!$C$177)","v":""},null,null,null,null,null,null,null,null,null,null,null,null,null,null,null,null,null,null,null,null,null,null,null,null,null,null,null,null,null,null,null,null,null,null,null,null,null,null,null,null,null,null,null,null,null,null,null,null,null,null,null,null,null,null,null,null,null,null,null,null,null,null,null,null,null,null,null,null,null,null,null,null,null,null,null,null,null,null,null,null,null,null,null,null,null,null,null,null,null,null,null,null,null,null,null,null,null,null,null,null,null,0,0,0,0,0,0,0,0,0,0,0,0,0,0,null,null,null,null,null,null,null,null,null,null,null,null,null,null,null,null,null,null,null,null,null,null,null,null,null,null,null,null,null,null,null,null,null,null,null,null,0,0,0,0,0,0,0,0,0,0,0,0,0,0,null,"","","","","","","","","","","","","","",null,{"$f":"IF(Programs!$D$177=\"\",\"\",Programs!$D$177)","v":""},"","","","","","","","","","","","","","",""]
[null,{"$f":"Programs!B184","v":0},{"$f":"IF(Programs!$C$177=\"\",\"\",Programs!$C$177)","v":""},null,null,null,null,null,null,null,null,null,null,null,null,null,null,null,null,null,null,null,null,null,null,null,null,null,null,null,null,null,null,null,null,null,null,null,null,null,null,null,null,null,null,null,null,null,null,null,null,null,null,null,null,null,null,null,null,null,null,null,null,null,null,null,null,null,null,null,null,null,null,null,null,null,null,null,null,null,null,null,null,null,null,null,null,null,null,null,null,null,null,null,null,null,null,null,null,null,null,null,null,null,0,0,0,0,0,0,0,0,0,0,0,0,0,0,null,null,null,null,null,null,null,null,null,null,null,null,null,null,null,null,null,null,null,null,null,null,null,null,null,null,null,null,null,null,null,null,null,null,null,null,0,0,0,0,0,0,0,0,0,0,0,0,0,0,null,"","","","","","","","","","","","","","",null,{"$f":"IF(Programs!$D$177=\"\",\"\",Programs!$D$177)","v":""},"","","","","","","","","","","","","","",""]
[null,{"$f":"Programs!B185","v":0},{"$f":"IF(Programs!$C$177=\"\",\"\",Programs!$C$177)","v":""},null,null,null,null,null,null,null,null,null,null,null,null,null,null,null,null,null,null,null,null,null,null,null,null,null,null,null,null,null,null,null,null,null,null,null,null,null,null,null,null,null,null,null,null,null,null,null,null,null,null,null,null,null,null,null,null,null,null,null,null,null,null,null,null,null,null,null,null,null,null,null,null,null,null,null,null,null,null,null,null,null,null,null,null,null,null,null,null,null,null,null,null,null,null,null,null,null,null,null,null,null,0,0,0,0,0,0,0,0,0,0,0,0,0,0,null,null,null,null,null,null,null,null,null,null,null,null,null,null,null,null,null,null,null,null,null,null,null,null,null,null,null,null,null,null,null,null,null,null,null,null,0,0,0,0,0,0,0,0,0,0,0,0,0,0,null,"","","","","","","","","","","","","","",null,{"$f":"IF(Programs!$D$177=\"\",\"\",Programs!$D$177)","v":""},"","","","","","","","","","","","","","",""]
[null,{"$f":"Programs!B186","v":0},{"$f":"IF(Programs!$C$177=\"\",\"\",Programs!$C$177)","v":""},null,null,null,null,null,null,null,null,null,null,null,null,null,null,null,null,null,null,null,null,null,null,null,null,null,null,null,null,null,null,null,null,null,null,null,null,null,null,null,null,null,null,null,null,null,null,null,null,null,null,null,null,null,null,null,null,null,null,null,null,null,null,null,null,null,null,null,null,null,null,null,null,null,null,null,null,null,null,null,null,null,null,null,null,null,null,null,null,null,null,null,null,null,null,null,null,null,null,null,null,null,0,0,0,0,0,0,0,0,0,0,0,0,0,0,null,null,null,null,null,null,null,null,null,null,null,null,null,null,null,null,null,null,null,null,null,null,null,null,null,null,null,null,null,null,null,null,null,null,null,null,0,0,0,0,0,0,0,0,0,0,0,0,0,0,null,"","","","","","","","","","","","","","",null,{"$f":"IF(Programs!$D$177=\"\",\"\",Programs!$D$177)","v":""},"","","","","","","","","","","","","","",""]
[null,{"$f":"Programs!B187","v":0},{"$f":"IF(Programs!$C$177=\"\",\"\",Programs!$C$177)","v":""},null,null,null,null,null,null,null,null,null,null,null,null,null,null,null,null,null,null,null,null,null,null,null,null,null,null,null,null,null,null,null,null,null,null,null,null,null,null,null,null,null,null,null,null,null,null,null,null,null,null,null,null,null,null,null,null,null,null,null,null,null,null,null,null,null,null,null,null,null,null,null,null,null,null,null,null,null,null,null,null,null,null,null,null,null,null,null,null,null,null,null,null,null,null,null,null,null,null,null,null,null,0,0,0,0,0,0,0,0,0,0,0,0,0,0,null,null,null,null,null,null,null,null,null,null,null,null,null,null,null,null,null,null,null,null,null,null,null,null,null,null,null,null,null,null,null,null,null,null,null,null,0,0,0,0,0,0,0,0,0,0,0,0,0,0,null,"","","","","","","","","","","","","","",null,{"$f":"IF(Programs!$D$177=\"\",\"\",Programs!$D$177)","v":""},"","","","","","","","","","","","","","",""]
[null,{"$f":"Programs!B188","v":0},{"$f":"IF(Programs!$C$177=\"\",\"\",Programs!$C$177)","v":""},null,null,null,null,null,null,null,null,null,null,null,null,null,null,null,null,null,null,null,null,null,null,null,null,null,null,null,null,null,null,null,null,null,null,null,null,null,null,null,null,null,null,null,null,null,null,null,null,null,null,null,null,null,null,null,null,null,null,null,null,null,null,null,null,null,null,null,null,null,null,null,null,null,null,null,null,null,null,null,null,null,null,null,null,null,null,null,null,null,null,null,null,null,null,null,null,null,null,null,null,null,{"$f":"SUM(D120:K120)","v":0},{"$f":"DA120/8","v":0},{"$f":"SUM(L120:Q120)","v":0},{"$f":"DC120/6","v":0},{"$f":"SUM(R120:X120)","v":0},{"$f":"DE120/7","v":0},{"$f":"SUM(Y120:AG120)","v":0},{"$f":"DG120/9","v":0},{"$f":"SUM(AH120:AS120)","v":0},{"$f":"DI120/12","v":0},{"$f":"SUM(AT120:BA120)","v":0},{"$f":"DK120/8","v":0},{"$f":"SUM(DA120,DC120,DE120,DG120,DI120,DK120)","v":0},{"$f":"DM120/50","v":0},null,null,null,null,null,null,null,null,null,null,null,null,null,null,null,null,null,null,null,null,null,null,null,null,null,null,null,null,null,null,null,null,null,null,null,null,{"$f":"SUM(BB120:BI120)","v":0},{"$f":"EY120/8","v":0},{"$f":"SUM(BJ120:BO120)","v":0},{"$f":"FA120/6","v":0},{"$f":"SUM(BP120:BV120)","v":0},{"$f":"FC120/7","v":0},{"$f":"SUM(BW120:CE120)","v":0},{"$f":"FE120/9","v":0},{"$f":"SUM(CF120:CQ120)","v":0},{"$f":"FG120/12","v":0},{"$f":"SUM(CR120:CY120)","v":0},{"$f":"FI120/8","v":0},{"$f":"SUM(EY120,FA120,FC120,FE120,FG120,FI120)","v":0},{"$f":"FK120/50","v":0},null,{"$f":"IF($GD120<>\"\",EY120-DA120,\"\")","v":""},{"$f":"IF($GD120<>\"\",EZ120-DB120,\"\")","v":""},{"$f":"IF($GD120<>\"\",FA120-DC120,\"\")","v":""},{"$f":"IF($GD120<>\"\",FB120-DD120,\"\")","v":""},{"$f":"IF($GD120<>\"\",FC120-DE120,\"\")","v":""},{"$f":"IF($GD120<>\"\",FD120-DF120,\"\")","v":""},{"$f":"IF($GD120<>\"\",FE120-DG120,\"\")","v":""},{"$f":"IF($GD120<>\"\",FF120-DH120,\"\")","v":""},{"$f":"IF($GD120<>\"\",FG120-DI120,\"\")","v":""},{"$f":"IF($GD120<>\"\",FH120-DJ120,\"\")","v":""},{"$f":"IF($GD120<>\"\",FI120-DK120,\"\")","v":""},{"$f":"IF($GD120<>\"\",FJ120-DL120,\"\")","v":""},{"$f":"IF($GD120<>\"\",FK120-DM120,\"\")","v":""},{"$f":"IF($GD120<>\"\",FL120-DN120,\"\")","v":""},null,{"$f":"IF(Programs!$D$177=\"\",\"\",Programs!$D$177)","v":""},{"$f":"IF(AND(COUNT(D120:BA120)>45,COUNT(BB120:CY120)>45),GC120,\"\")","v":""},"","","","","","","","","","","","","",""]
[null,{"$f":"Programs!B189","v":0},{"$f":"IF(Programs!$C$177=\"\",\"\",Programs!$C$177)","v":""},null,null,null,null,null,null,null,null,null,null,null,null,null,null,null,null,null,null,null,null,null,null,null,null,null,null,null,null,null,null,null,null,null,null,null,null,null,null,null,null,null,null,null,null,null,null,null,null,null,null,null,null,null,null,null,null,null,null,null,null,null,null,null,null,null,null,null,null,null,null,null,null,null,null,null,null,null,null,null,null,null,null,null,null,null,null,null,null,null,null,null,null,null,null,null,null,null,null,null,null,null,0,0,0,0,0,0,0,0,0,0,0,0,0,0,null,null,null,null,null,null,null,null,null,null,null,null,null,null,null,null,null,null,null,null,null,null,null,null,null,null,null,null,null,null,null,null,null,null,null,null,0,0,0,0,0,0,0,0,0,0,0,0,0,0,null,"","","","","","","","","","","","","","",null,{"$f":"IF(Programs!$D$177=\"\",\"\",Programs!$D$177)","v":""},"","","","","","","","","","","","","","",""]
[null,{"$f":"Programs!B190","v":0},{"$f":"IF(Programs!$C$177=\"\",\"\",Programs!$C$177)","v":""},null,null,null,null,null,null,null,null,null,null,null,null,null,null,null,null,null,null,null,null,null,null,null,null,null,null,null,null,null,null,null,null,null,null,null,null,null,null,null,null,null,null,null,null,null,null,null,null,null,null,null,null,null,null,null,null,null,null,null,null,null,null,null,null,null,null,null,null,null,null,null,null,null,null,null,null,null,null,null,null,null,null,null,null,null,null,null,null,null,null,null,null,null,null,null,null,null,null,null,null,null,0,0,0,0,0,0,0,0,0,0,0,0,0,0,null,null,null,null,null,null,null,null,null,null,null,null,null,null,null,null,null,null,null,null,null,null,null,null,null,null,null,null,null,null,null,null,null,null,null,null,0,0,0,0,0,0,0,0,0,0,0,0,0,0,null,"","","","","","","","","","","","","","",null,{"$f":"IF(Programs!$D$177=\"\",\"\",Programs!$D$177)","v":""},"","","","","","","","","","","","","","",""]
[null,{"$f":"Programs!B191","v":0},{"$f":"IF(Programs!$C$177=\"\",\"\",Programs!$C$177)","v":""},null,null,null,null,null,null,null,null,null,null,null,null,null,null,null,null,null,null,null,null,null,null,null,null,null,null,null,null,null,null,null,null,null,null,null,null,null,null,null,null,null,null,null,null,null,null,null,null,null,null,null,null,null,null,null,null,null,null,null,null,null,null,null,null,null,null,null,null,null,null,null,null,null,null,null,null,null,null,null,null,null,null,null,null,null,null,null,null,null,null,null,null,null,null,null,null,null,null,null,null,null,0,0,0,0,0,0,0,0,0,0,0,0,0,0,null,null,null,null,null,null,null,null,null,null,null,null,null,null,null,null,null,null,null,null,null,null,null,null,null,null,null,null,null,null,null,null,null,null,null,null,0,0,0,0,0,0,0,0,0,0,0,0,0,0,null,"","","","","","","","","","","","","","",null,{"$f":"IF(Programs!$D$177=\"\",\"\",Programs!$D$177)","v":""},"","","","","","","","","","","","","","",""]
["Program 11",{"$f":"Programs!B199","v":0},{"$f":"IF(Programs!$C$196=\"\",\"\",Programs!$C$196)","v":""},null,null,null,null,null,null,null,null,null,null,null,null,null,null,null,null,null,null,null,null,null,null,null,null,null,null,null,null,null,null,null,null,null,null,null,null,null,null,null,null,null,null,null,null,null,null,null,null,null,null,null,null,null,null,null,null,null,null,null,null,null,null,null,null,null,null,null,null,null,null,null,null,null,null,null,null,null,null,null,null,null,null,null,null,null,null,null,null,null,null,null,null,null,null,null,null,null,null,null,null,null,0,0,0,0,0,0,0,0,0,0,0,0,0,0,null,null,null,null,null,null,null,null,null,null,null,null,null,null,null,null,null,null,null,null,null,null,null,null,null,null,null,null,null,null,null,null,null,null,null,null,0,0,0,0,0,0,0,0,0,0,0,0,0,0,null,{"$f":"IF($GD124<>\"\",EY124-DA124,\"\")","v":""},{"$f":"IF($GD124<>\"\",EZ124-DB124,\"\")","v":""},{"$f":"IF($GD124<>\"\",FA124-DC124,\"\")","v":""},{"$f":"IF($GD124<>\"\",FB124-DD124,\"\")","v":""},{"$f":"IF($GD124<>\"\",FC124-DE124,\"\")","v":""},{"$f":"IF($GD124<>\"\",FD124-DF124,\"\")","v":""},{"$f":"IF($GD124<>\"\",FE124-DG124,\"\")","v":""},{"$f":"IF($GD124<>\"\",FF124-DH124,\"\")","v":""},{"$f":"IF($GD124<>\"\",FG124-DI124,\"\")","v":""},{"$f":"IF($GD124<>\"\",FH124-DJ124,\"\")","v":""},{"$f":"IF($GD124<>\"\",FI124-DK124,\"\")","v":""},{"$f":"IF($GD124<>\"\",FJ124-DL124,\"\")","v":""},{"$f":"IF($GD124<>\"\",FK124-DM124,\"\")","v":""},{"$f":"IF($GD124<>\"\",FL124-DN124,\"\")","v":""},null,{"$f":"IF(Programs!$D$196=\"\",\"\",Programs!$D$196)","v":""},"","","","","","","","","","","","","","",""]
[null,{"$f":"Programs!B200","v":0},{"$f":"IF(Programs!$C$196=\"\",\"\",Programs!$C$196)","v":""},null,null,null,null,null,null,null,null,null,null,null,null,null,null,null,null,null,null,null,null,null,null,null,null,null,null,null,null,null,null,null,null,null,null,null,null,null,null,null,null,null,null,null,null,null,null,null,null,null,null,null,null,null,null,null,null,null,null,null,null,null,null,null,null,null,null,null,null,null,null,null,null,null,null,null,null,null,null,null,null,null,null,null,null,null,null,null,null,null,null,null,null,null,null,null,null,null,null,null,null,null,0,0,0,0,0,0,0,0,0,0,0,0,0,0,null,null,null,null,null,null,null,null,null,null,null,null,null,null,null,null,null,null,null,null,null,null,null,null,null,null,null,null,null,null,null,null,null,null,null,null,0,0,0,0,0,0,0,0,0,0,0,0,0,0,null,"","","","","","","","","","","","","","",null,{"$f":"IF(Programs!$D$196=\"\",\"\",Programs!$D$196)","v":""},"","","","","","","","","","","","","","",""]
[null,{"$f":"Programs!B201","v":0},{"$f":"IF(Programs!$C$196=\"\",\"\",Programs!$C$196)","v":""},null,null,null,null,null,null,null,null,null,null,null,null,null,null,null,null,null,null,null,null,null,null,null,null,null,null,null,null,null,null,null,null,null,null,null,null,null,null,null,null,null,null,null,null,null,null,null,null,null,null,null,null,null,null,null,null,null,null,null,null,null,null,null,null,null,null,null,null,null,null,null,null,null,null,null,null,null,null,null,null,null,null,null,null,null,null,null,null,null,null,null,null,null,null,null,null,null,null,null,null,null,0,0,0,0,0,0,0,0,0,0,0,0,0,0,null,null,null,null,null,null,null,null,null,null,null,null,null,null,null,null,null,null,null,null,null,null,null,null,null,null,null,null,null,null,null,null,null,null,null,null,0,0,0,0,0,0,0,0,0,0,0,0,0,0,null,"","","","","","","","","","","","","","",null,{"$f":"IF(Programs!$D$196=\"\",\"\",Programs!$D$196)","v":""},"","","","","","","","","","","","","","",""]
[null,{"$f":"Programs!B202","v":0},{"$f":"IF(Programs!$C$196=\"\",\"\",Programs!$C$196)","v":""},null,null,null,null,null,null,null,null,null,null,null,null,null,null,null,null,null,null,null,null,null,null,null,null,null,null,null,null,null,null,null,null,null,null,null,null,null,null,null,null,null,null,null,null,null,null,null,null,null,null,null,null,null,null,null,null,null,null,null,null,null,null,null,null,null,null,null,null,null,null,null,null,null,null,null,null,null,null,null,null,null,null,null,null,null,null,null,null,null,null,null,null,null,null,null,null,null,null,null,null,null,0,0,0,0,0,0,0,0,0,0,0,0,0,0,null,null,null,null,null,null,null,null,null,null,null,null,null,null,null,null,null,null,null,null,null,null,null,null,null,null,null,null,null,null,null,null,null,null,null,null,0,0,0,0,0,0,0,0,0,0,0,0,0,0,null,"","","","","","","","","","","","","","",null,{"$f":"IF(Programs!$D$196=\"\",\"\",Programs!$D$196)","v":""},"","","","","","","","","","","","","","",""]
[null,{"$f":"Programs!B203","v":0},{"$f":"IF(Programs!$C$196=\"\",\"\",Programs!$C$196)","v":""},null,null,null,null,null,null,null,null,null,null,null,null,null,null,null,null,null,null,null,null,null,null,null,null,null,null,null,null,null,null,null,null,null,null,null,null,null,null,null,null,null,null,null,null,null,null,null,null,null,null,null,null,null,null,null,null,null,null,null,null,null,null,null,null,null,null,null,null,null,null,null,null,null,null,null,null,null,null,null,null,null,null,null,null,null,null,null,null,null,null,null,null,null,null,null,null,null,null,null,null,null,0,0,0,0,0,0,0,0,0,0,0,0,0,0,null,null,null,null,null,null,null,null,null,null,null,null,null,null,null,null,null,null,null,null,null,null,null,null,null,null,null,null,null,null,null,null,null,null,null,null,0,0,0,0,0,0,0,0,0,0,0,0,0,0,null,"","","","","","","","","","","","","","",null,{"$f":"IF(Programs!$D$196=\"\",\"\",Programs!$D$196)","v":""},"","","","","","","","","","","","","","",""]
[null,{"$f":"Programs!B204","v":0},{"$f":"IF(Programs!$C$196=\"\",\"\",Programs!$C$196)","v":""},null,null,null,null,null,null,null,null,null,null,null,null,null,null,null,null,null,null,null,null,null,null,null,null,null,null,null,null,null,null,null,null,null,null,null,null,null,null,null,null,null,null,null,null,null,null,null,null,null,null,null,null,null,null,null,null,null,null,null,null,null,null,null,null,null,null,null,null,null,null,null,null,null,null,null,null,null,null,null,null,null,null,null,null,null,null,null,null,null,null,null,null,null,null,null,null,null,null,null,null,null,0,0,0,0,0,0,0,0,0,0,0,0,0,0,null,null,null,null,null,null,null,null,null,null,null,null,null,null,null,null,null,null,null,null,null,null,null,null,null,null,null,null,null,null,null,null,null,null,null,null,0,0,0,0,0,0,0,0,0,0,0,0,0,0,null,"","","","","","","","","","","","","","",null,{"$f":"IF(Programs!$D$196=\"\",\"\",Programs!$D$196)","v":""},"","","","","","","","","","","","","","",""]
[null,{"$f":"Programs!B205","v":0},{"$f":"IF(Programs!$C$196=\"\",\"\",Programs!$C$196)","v":""},null,null,null,null,null,null,null,null,null,null,null,null,null,null,null,null,null,null,null,null,null,null,null,null,null,null,null,null,null,null,null,null,null,null,null,null,null,null,null,null,null,null,null,null,null,null,null,null,null,null,null,null,null,null,null,null,null,null,null,null,null,null,null,null,null,null,null,null,null,null,null,null,null,null,null,null,null,null,null,null,null,null,null,null,null,null,null,null,null,null,null,null,null,null,null,null,null,null,null,null,null,0,0,0,0,0,0,0,0,0,0,0,0,0,0,null,null,null,null,null,null,null,null,null,null,null,null,null,null,null,null,null,null,null,null,null,null,null,null,null,null,null,null,null,null,null,null,null,null,null,null,0,0,0,0,0,0,0,0,0,0,0,0,0,0,null,"","","","","","","","","","","","","","",null,{"$f":"IF(Programs!$D$196=\"\",\"\",Programs!$D$196)","v":""},"","","","","","","","","","","","","","",""]
[null,{"$f":"Programs!B206","v":0},{"$f":"IF(Programs!$C$196=\"\",\"\",Programs!$C$196)","v":""},null,null,null,null,null,null,null,null,null,null,null,null,null,null,null,null,null,null,null,null,null,null,null,null,null,null,null,null,null,null,null,null,null,null,null,null,null,null,null,null,null,null,null,null,null,null,null,null,null,null,null,null,null,null,null,null,null,null,null,null,null,null,null,null,null,null,null,null,null,null,null,null,null,null,null,null,null,null,null,null,null,null,null,null,null,null,null,null,null,null,null,null,null,null,null,null,null,null,null,null,null,0,0,0,0,0,0,0,0,0,0,0,0,0,0,null,null,null,null,null,null,null,null,null,null,null,null,null,null,null,null,null,null,null,null,null,null,null,null,null,null,null,null,null,null,null,null,null,null,null,null,0,0,0,0,0,0,0,0,0,0,0,0,0,0,null,"","","","","","","","","","","","","","",null,{"$f":"IF(Programs!$D$196=\"\",\"\",Programs!$D$196)","v":""},"","","","","","","","","","","","","","",""]
[null,{"$f":"Programs!B207","v":0},{"$f":"IF(Programs!$C$196=\"\",\"\",Programs!$C$196)","v":""},null,null,null,null,null,null,null,null,null,null,null,null,null,null,null,null,null,null,null,null,null,null,null,null,null,null,null,null,null,null,null,null,null,null,null,null,null,null,null,null,null,null,null,null,null,null,null,null,null,null,null,null,null,null,null,null,null,null,null,null,null,null,null,null,null,null,null,null,null,null,null,null,null,null,null,null,null,null,null,null,null,null,null,null,null,null,null,null,null,null,null,null,null,null,null,null,null,null,null,null,null,{"$f":"SUM(D132:K132)","v":0},{"$f":"DA132/8","v":0},{"$f":"SUM(L132:Q132)","v":0},{"$f":"DC132/6","v":0},{"$f":"SUM(R132:X132)","v":0},{"$f":"DE132/7","v":0},{"$f":"SUM(Y132:AG132)","v":0},{"$f":"DG132/9","v":0},{"$f":"SUM(AH132:AS132)","v":0},{"$f":"DI132/12","v":0},{"$f":"SUM(AT132:BA132)","v":0},{"$f":"DK132/8","v":0},{"$f":"SUM(DA132,DC132,DE132,DG132,DI132,DK132)","v":0},{"$f":"DM132/50","v":0},null,null,null,null,null,null,null,null,null,null,null,null,null,null,null,null,null,null,null,null,null,null,null,null,null,null,null,null,null,null,null,null,null,null,null,null,{"$f":"SUM(BB132:BI132)","v":0},{"$f":"EY132/8","v":0},{"$f":"SUM(BJ132:BO132)","v":0},{"$f":"FA132/6","v":0},{"$f":"SUM(BP132:BV132)","v":0},{"$f":"FC132/7","v":0},{"$f":"SUM(BW132:CE132)","v":0},{"$f":"FE132/9","v":0},{"$f":"SUM(CF132:CQ132)","v":0},{"$f":"FG132/12","v":0},{"$f":"SUM(CR132:CY132)","v":0},{"$f":"FI132/8","v":0},{"$f":"SUM(EY132,FA132,FC132,FE132,FG132,FI132)","v":0},{"$f":"FK132/50","v":0},null,{"$f":"IF($GD132<>\"\",EY132-DA132,\"\")","v":""},{"$f":"IF($GD132<>\"\",EZ132-DB132,\"\")","v":""},{"$f":"IF($GD132<>\"\",FA132-DC132,\"\")","v":""},{"$f":"IF($GD132<>\"\",FB132-DD132,\"\")","v":""},{"$f":"IF($GD132<>\"\",FC132-DE132,\"\")","v":""},{"$f":"IF($GD132<>\"\",FD132-DF132,\"\")","v":""},{"$f":"IF($GD132<>\"\",FE132-DG132,\"\")","v":""},{"$f":"IF($GD132<>\"\",FF132-DH132,\"\")","v":""},{"$f":"IF($GD132<>\"\",FG132-DI132,\"\")","v":""},{"$f":"IF($GD132<>\"\",FH132-DJ132,\"\")","v":""},{"$f":"IF($GD132<>\"\",FI132-DK132,\"\")","v":""},{"$f":"IF($GD132<>\"\",FJ132-DL132,\"\")","v":""},{"$f":"IF($GD132<>\"\",FK132-DM132,\"\")","v":""},{"$f":"IF($GD132<>\"\",FL132-DN132,\"\")","v":""},null,{"$f":"IF(Programs!$D$196=\"\",\"\",Programs!$D$196)","v":""},{"$f":"IF(AND(COUNT(D132:BA132)>45,COUNT(BB132:CY132)>45),GC132,\"\")","v":""},"","","","","","","","","","","","","",""]
[null,{"$f":"Programs!B208","v":0},{"$f":"IF(Programs!$C$196=\"\",\"\",Programs!$C$196)","v":""},null,null,null,null,null,null,null,null,null,null,null,null,null,null,null,null,null,null,null,null,null,null,null,null,null,null,null,null,null,null,null,null,null,null,null,null,null,null,null,null,null,null,null,null,null,null,null,null,null,null,null,null,null,null,null,null,null,null,null,null,null,null,null,null,null,null,null,null,null,null,null,null,null,null,null,null,null,null,null,null,null,null,null,null,null,null,null,null,null,null,null,null,null,null,null,null,null,null,null,null,null,0,0,0,0,0,0,0,0,0,0,0,0,0,0,null,null,null,null,null,null,null,null,null,null,null,null,null,null,null,null,null,null,null,null,null,null,null,null,null,null,null,null,null,null,null,null,null,null,null,null,0,0,0,0,0,0,0,0,0,0,0,0,0,0,null,"","","","","","","","","","","","","","",null,{"$f":"IF(Programs!$D$196=\"\",\"\",Programs!$D$196)","v":""},"",{"$f":"IF(FN133>0,$GD133,\"\")","v":""},{"$f":"IF($GD133=\"\",\"\",IF(FO133>0,$GD133,\"\"))","v":""},{"$f":"IF(FP133>0,$GD133,\"\")","v":""},{"$f":"IF($GD133=\"\",\"\",IF(FQ133>0,$GD133,\"\"))","v":""},{"$f":"IF(FR133>0,$GD133,\"\")","v":""},{"$f":"IF($GD133=\"\",\"\",IF(FS133>0,$GD133,\"\"))","v":""},{"$f":"IF(FT133>0,$GD133,\"\")","v":""},{"$f":"IF($GD133=\"\",\"\",IF(FU133>0,$GD133,\"\"))","v":""},{"$f":"IF(FV133>0,$GD133,\"\")","v":""},{"$f":"IF($GD133=\"\",\"\",IF(FW133>0,$GD133,\"\"))","v":""},{"$f":"IF(FX133>0,$GD133,\"\")","v":""},{"$f":"IF($GD133=\"\",\"\",IF(FY133>0,$GD133,\"\"))","v":""},{"$f":"IF(FZ133>0,$GD133,\"\")","v":""},{"$f":"IF($GD133=\"\",\"\",IF(GA133>0,$GD133,\"\"))","v":""}]
[null,{"$f":"Programs!B209","v":0},{"$f":"IF(Programs!$C$196=\"\",\"\",Programs!$C$196)","v":""},null,null,null,null,null,null,null,null,null,null,null,null,null,null,null,null,null,null,null,null,null,null,null,null,null,null,null,null,null,null,null,null,null,null,null,null,null,null,null,null,null,null,null,null,null,null,null,null,null,null,null,null,null,null,null,null,null,null,null,null,null,null,null,null,null,null,null,null,null,null,null,null,null,null,null,null,null,null,null,null,null,null,null,null,null,null,null,null,null,null,null,null,null,null,null,null,null,null,null,null,null,0,0,0,0,0,0,0,0,0,0,0,0,0,0,null,null,null,null,null,null,null,null,null,null,null,null,null,null,null,null,null,null,null,null,null,null,null,null,null,null,null,null,null,null,null,null,null,null,null,null,0,0,0,0,0,0,0,0,0,0,0,0,0,0,null,"","","","","","","","","","","","","","",null,{"$f":"IF(Programs!$D$196=\"\",\"\",Programs!$D$196)","v":""},"","","","","","","","","","","","","","",""]
[null,{"$f":"Programs!B210","v":0},{"$f":"IF(Programs!$C$196=\"\",\"\",Programs!$C$196)","v":""},null,null,null,null,null,null,null,null,null,null,null,null,null,null,null,null,null,null,null,null,null,null,null,null,null,null,null,null,null,null,null,null,null,null,null,null,null,null,null,null,null,null,null,null,null,null,null,null,null,null,null,null,null,null,null,null,null,null,null,null,null,null,null,null,null,null,null,null,null,null,null,null,null,null,null,null,null,null,null,null,null,null,null,null,null,null,null,null,null,null,null,null,null,null,null,null,null,null,null,null,null,0,0,0,0,0,0,0,0,0,0,0,0,0,0,null,null,null,null,null,null,null,null,null,null,null,null,null,null,null,null,null,null,null,null,null,null,null,null,null,null,null,null,null,null,null,null,null,null,null,null,0,0,0,0,0,0,0,0,0,0,0,0,0,0,null,"","","","","","","","","","","","","","",null,{"$f":"IF(Programs!$D$196=\"\",\"\",Programs!$D$196)","v":""},"","","","","","","","","","","","","","",""]
["Program 12",{"$f":"Programs!B218","v":0},{"$f":"IF(Programs!$C$215=\"\",\"\",Programs!$C$215)","v":""},null,null,null,null,null,null,null,null,null,null,null,null,null,null,null,null,null,null,null,null,null,null,null,null,null,null,null,null,null,null,null,null,null,null,null,null,null,null,null,null,null,null,null,null,null,null,null,null,null,null,null,null,null,null,null,null,null,null,null,null,null,null,null,null,null,null,null,null,null,null,null,null,null,null,null,null,null,null,null,null,null,null,null,null,null,null,null,null,null,null,null,null,null,null,null,null,null,null,null,null,null,0,0,0,0,0,0,0,0,0,0,0,0,0,0,null,null,null,null,null,null,null,null,null,null,null,null,null,null,null,null,null,null,null,null,null,null,null,null,null,null,null,null,null,null,null,null,null,null,null,null,0,0,0,0,0,0,0,0,0,0,0,0,0,0,null,"","","","","","","","","","","","","","",null,{"$f":"IF(Programs!$D$215=\"\",\"\",Programs!$D$215)","v":""},"","","","","","","","","","","","","","",""]
[null,{"$f":"Programs!B219","v":0},{"$f":"IF(Programs!$C$215=\"\",\"\",Programs!$C$215)","v":""},null,null,null,null,null,null,null,null,null,null,null,null,null,null,null,null,null,null,null,null,null,null,null,null,null,null,null,null,null,null,null,null,null,null,null,null,null,null,null,null,null,null,null,null,null,null,null,null,null,null,null,null,null,null,null,null,null,null,null,null,null,null,null,null,null,null,null,null,null,null,null,null,null,null,null,null,null,null,null,null,null,null,null,null,null,null,null,null,null,null,null,null,null,null,null,null,null,null,null,null,null,0,0,0,0,0,0,0,0,0,0,0,0,0,0,null,null,null,null,null,null,null,null,null,null,null,null,null,null,null,null,null,null,null,null,null,null,null,null,null,null,null,null,null,null,null,null,null,null,null,null,0,0,0,0,0,0,0,0,0,0,0,0,0,0,null,"","","","","","","","","","","","","","",null,{"$f":"IF(Programs!$D$215=\"\",\"\",Programs!$D$215)","v":""},"","","","","","","","","","","","","","",""]
[null,{"$f":"Programs!B220","v":0},{"$f":"IF(Programs!$C$215=\"\",\"\",Programs!$C$215)","v":""},null,null,null,null,null,null,null,null,null,null,null,null,null,null,null,null,null,null,null,null,null,null,null,null,null,null,null,null,null,null,null,null,null,null,null,null,null,null,null,null,null,null,null,null,null,null,null,null,null,null,null,null,null,null,null,null,null,null,null,null,null,null,null,null,null,null,null,null,null,null,null,null,null,null,null,null,null,null,null,null,null,null,null,null,null,null,null,null,null,null,null,null,null,null,null,null,null,null,null,null,null,0,0,0,0,0,0,0,0,0,0,0,0,0,0,null,null,null,null,null,null,null,null,null,null,null,null,null,null,null,null,null,null,null,null,null,null,null,null,null,null,null,null,null,null,null,null,null,null,null,null,0,0,0,0,0,0,0,0,0,0,0,0,0,0,null,"","","","","","","","","","","","","","",null,{"$f":"IF(Programs!$D$215=\"\",\"\",Programs!$D$215)","v":""},"","","","","","","","","","","","","","",""]
[null,{"$f":"Programs!B221","v":0},{"$f":"IF(Programs!$C$215=\"\",\"\",Programs!$C$215)","v":""},null,null,null,null,null,null,null,null,null,null,null,null,null,null,null,null,null,null,null,null,null,null,null,null,null,null,null,null,null,null,null,null,null,null,null,null,null,null,null,null,null,null,null,null,null,null,null,null,null,null,null,null,null,null,null,null,null,null,null,null,null,null,null,null,null,null,null,null,null,null,null,null,null,null,null,null,null,null,null,null,null,null,null,null,null,null,null,null,null,null,null,null,null,null,null,null,null,null,null,null,null,0,0,0,0,0,0,0,0,0,0,0,0,0,0,null,null,null,null,null,null,null,null,null,null,null,null,null,null,null,null,null,null,null,null,null,null,null,null,null,null,null,null,null,null,null,null,null,null,null,null,0,0,0,0,0,0,0,0,0,0,0,0,0,0,null,"","","","","","","","","","","","","","",null,{"$f":"IF(Programs!$D$215=\"\",\"\",Programs!$D$215)","v":""},"","","","","","","","","","","","","","",""]
[null,{"$f":"Programs!B222","v":0},{"$f":"IF(Programs!$C$215=\"\",\"\",Programs!$C$215)","v":""},null,null,null,null,null,null,null,null,null,null,null,null,null,null,null,null,null,null,null,null,null,null,null,null,null,null,null,null,null,null,null,null,null,null,null,null,null,null,null,null,null,null,null,null,null,null,null,null,null,null,null,null,null,null,null,null,null,null,null,null,null,null,null,null,null,null,null,null,null,null,null,null,null,null,null,null,null,null,null,null,null,null,null,null,null,null,null,null,null,null,null,null,null,null,null,null,null,null,null,null,null,0,0,0,0,0,0,0,0,0,0,0,0,0,0,null,null,null,null,null,null,null,null,null,null,null,null,null,null,null,null,null,null,null,null,null,null,null,null,null,null,null,null,null,null,null,null,null,null,null,null,0,0,0,0,0,0,0,0,0,0,0,0,0,0,null,"","","","","","","","","","","","","","",null,{"$f":"IF(Programs!$D$215=\"\",\"\",Programs!$D$215)","v":""},"","","","","","","","","","","","","","",""]
[null,{"$f":"Programs!B223","v":0},{"$f":"IF(Programs!$C$215=\"\",\"\",Programs!$C$215)","v":""},null,null,null,null,null,null,null,null,null,null,null,null,null,null,null,null,null,null,null,null,null,null,null,null,null,null,null,null,null,null,null,null,null,null,null,null,null,null,null,null,null,null,null,null,null,null,null,null,null,null,null,null,null,null,null,null,null,null,null,null,null,null,null,null,null,null,null,null,null,null,null,null,null,null,null,null,null,null,null,null,null,null,null,null,null,null,null,null,null,null,null,null,null,null,null,null,null,null,null,null,null,0,0,0,0,0,0,0,0,0,0,0,0,0,0,null,null,null,null,null,null,null,null,null,null,null,null,null,null,null,null,null,null,null,null,null,null,null,null,null,null,null,null,null,null,null,null,null,null,null,null,0,0,0,0,0,0,0,0,0,0,0,0,0,0,null,"","","","","","","","","","","","","","",null,{"$f":"IF(Programs!$D$215=\"\",\"\",Programs!$D$215)","v":""},"","","","","","","","","","","","","","",""]
[null,{"$f":"Programs!B224","v":0},{"$f":"IF(Programs!$C$215=\"\",\"\",Programs!$C$215)","v":""},null,null,null,null,null,null,null,null,null,null,null,null,null,null,null,null,null,null,null,null,null,null,null,null,null,null,null,null,null,null,null,null,null,null,null,null,null,null,null,null,null,null,null,null,null,null,null,null,null,null,null,null,null,null,null,null,null,null,null,null,null,null,null,null,null,null,null,null,null,null,null,null,null,null,null,null,null,null,null,null,null,null,null,null,null,null,null,null,null,null,null,null,null,null,null,null,null,null,null,null,null,0,0,0,0,0,0,0,0,0,0,0,0,0,0,null,null,null,null,null,null,null,null,null,null,null,null,null,null,null,null,null,null,null,null,null,null,null,null,null,null,null,null,null,null,null,null,null,null,null,null,0,0,0,0,0,0,0,0,0,0,0,0,0,0,null,"","","","","","","","","","","","","","",null,{"$f":"IF(Programs!$D$215=\"\",\"\",Programs!$D$215)","v":""},"","","","","","","","","","","","","","",""]
[null,{"$f":"Programs!B225","v":0},{"$f":"IF(Programs!$C$215=\"\",\"\",Programs!$C$215)","v":""},null,null,null,null,null,null,null,null,null,null,null,null,null,null,null,null,null,null,null,null,null,null,null,null,null,null,null,null,null,null,null,null,null,null,null,null,null,null,null,null,null,null,null,null,null,null,null,null,null,null,null,null,null,null,null,null,null,null,null,null,null,null,null,null,null,null,null,null,null,null,null,null,null,null,null,null,null,null,null,null,null,null,null,null,null,null,null,null,null,null,null,null,null,null,null,null,null,null,null,null,null,0,0,0,0,0,0,0,0,0,0,0,0,0,0,null,null,null,null,null,null,null,null,null,null,null,null,null,null,null,null,null,null,null,null,null,null,null,null,null,null,null,null,null,null,null,null,null,null,null,null,0,0,0,0,0,0,0,0,0,0,0,0,0,0,null,"","","","","","","","","","","","","","",null,{"$f":"IF(Programs!$D$215=\"\",\"\",Programs!$D$215)","v":""},"","","","","","","","","","","","","","",""]
[null,{"$f":"Programs!B226","v":0},{"$f":"IF(Programs!$C$215=\"\",\"\",Programs!$C$215)","v":""},null,null,null,null,null,null,null,null,null,null,null,null,null,null,null,null,null,null,null,null,null,null,null,null,null,null,null,null,null,null,null,null,null,null,null,null,null,null,null,null,null,null,null,null,null,null,null,null,null,null,null,null,null,null,null,null,null,null,null,null,null,null,null,null,null,null,null,null,null,null,null,null,null,null,null,null,null,null,null,null,null,null,null,null,null,null,null,null,null,null,null,null,null,null,null,null,null,null,null,null,null,{"$f":"SUM(D144:K144)","v":0},{"$f":"DA144/8","v":0},{"$f":"SUM(L144:Q144)","v":0},{"$f":"DC144/6","v":0},{"$f":"SUM(R144:X144)","v":0},{"$f":"DE144/7","v":0},{"$f":"SUM(Y144:AG144)","v":0},{"$f":"DG144/9","v":0},{"$f":"SUM(AH144:AS144)","v":0},{"$f":"DI144/12","v":0},{"$f":"SUM(AT144:BA144)","v":0},{"$f":"DK144/8","v":0},{"$f":"SUM(DA144,DC144,DE144,DG144,DI144,DK144)","v":0},{"$f":"DM144/50","v":0},null,null,null,null,null,null,null,null,null,null,null,null,null,null,null,null,null,null,null,null,null,null,null,null,null,null,null,null,null,null,null,null,null,null,null,null,{"$f":"SUM(BB144:BI144)","v":0},{"$f":"EY144/8","v":0},{"$f":"SUM(BJ144:BO144)","v":0},{"$f":"FA144/6","v":0},{"$f":"SUM(BP144:BV144)","v":0},{"$f":"FC144/7","v":0},{"$f":"SUM(BW144:CE144)","v":0},{"$f":"FE144/9","v":0},{"$f":"SUM(CF144:CQ144)","v":0},{"$f":"FG144/12","v":0},{"$f":"SUM(CR144:CY144)","v":0},{"$f":"FI144/8","v":0},{"$f":"SUM(EY144,FA144,FC144,FE144,FG144,FI144)","v":0},{"$f":"FK144/50","v":0},null,{"$f":"IF($GD144<>\"\",EY144-DA144,\"\")","v":""},{"$f":"IF($GD144<>\"\",EZ144-DB144,\"\")","v":""},{"$f":"IF($GD144<>\"\",FA144-DC144,\"\")","v":""},{"$f":"IF($GD144<>\"\",FB144-DD144,\"\")","v":""},{"$f":"IF($GD144<>\"\",FC144-DE144,\"\")","v":""},{"$f":"IF($GD144<>\"\",FD144-DF144,\"\")","v":""},{"$f":"IF($GD144<>\"\",FE144-DG144,\"\")","v":""},{"$f":"IF($GD144<>\"\",FF144-DH144,\"\")","v":""},{"$f":"IF($GD144<>\"\",FG144-DI144,\"\")","v":""},{"$f":"IF($GD144<>\"\",FH144-DJ144,\"\")","v":""},{"$f":"IF($GD144<>\"\",FI144-DK144,\"\")","v":""},{"$f":"IF($GD144<>\"\",FJ144-DL144,\"\")","v":""},{"$f":"IF($GD144<>\"\",FK144-DM144,\"\")","v":""},{"$f":"IF($GD144<>\"\",FL144-DN144,\"\")","v":""},null,{"$f":"IF(Programs!$D$215=\"\",\"\",Programs!$D$215)","v":""},{"$f":"IF(AND(COUNT(D144:BA144)>45,COUNT(BB144:CY144)>45),GC144,\"\")","v":""},"","","","","","","","","","","","","",""]
[null,{"$f":"Programs!B227","v":0},{"$f":"IF(Programs!$C$215=\"\",\"\",Programs!$C$215)","v":""},null,null,null,null,null,null,null,null,null,null,null,null,null,null,null,null,null,null,null,null,null,null,null,null,null,null,null,null,null,null,null,null,null,null,null,null,null,null,null,null,null,null,null,null,null,null,null,null,null,null,null,null,null,null,null,null,null,null,null,null,null,null,null,null,null,null,null,null,null,null,null,null,null,null,null,null,null,null,null,null,null,null,null,null,null,null,null,null,null,null,null,null,null,null,null,null,null,null,null,null,null,0,0,0,0,0,0,0,0,0,0,0,0,0,0,null,null,null,null,null,null,null,null,null,null,null,null,null,null,null,null,null,null,null,null,null,null,null,null,null,null,null,null,null,null,null,null,null,null,null,null,0,0,0,0,0,0,0,0,0,0,0,0,0,0,null,"","","","","","","","","","","","","","",null,{"$f":"IF(Programs!$D$215=\"\",\"\",Programs!$D$215)","v":""},"","","","","","","","","","","","","","",""]
[null,{"$f":"Programs!B228","v":0},{"$f":"IF(Programs!$C$215=\"\",\"\",Programs!$C$215)","v":""},null,null,null,null,null,null,null,null,null,null,null,null,null,null,null,null,null,null,null,null,null,null,null,null,null,null,null,null,null,null,null,null,null,null,null,null,null,null,null,null,null,null,null,null,null,null,null,null,null,null,null,null,null,null,null,null,null,null,null,null,null,null,null,null,null,null,null,null,null,null,null,null,null,null,null,null,null,null,null,null,null,null,null,null,null,null,null,null,null,null,null,null,null,null,null,null,null,null,null,null,null,0,0,0,0,0,0,0,0,0,0,0,0,0,0,null,null,null,null,null,null,null,null,null,null,null,null,null,null,null,null,null,null,null,null,null,null,null,null,null,null,null,null,null,null,null,null,null,null,null,null,0,0,0,0,0,0,0,0,0,0,0,0,0,0,null,"","","","","","","","","","","","","","",null,{"$f":"IF(Programs!$D$215=\"\",\"\",Programs!$D$215)","v":""},"","","","","","","","","","","","","","",""]
[null,{"$f":"Programs!B229","v":0},{"$f":"IF(Programs!$C$215=\"\",\"\",Programs!$C$215)","v":""},null,null,null,null,null,null,null,null,null,null,null,null,null,null,null,null,null,null,null,null,null,null,null,null,null,null,null,null,null,null,null,null,null,null,null,null,null,null,null,null,null,null,null,null,null,null,null,null,null,null,null,null,null,null,null,null,null,null,null,null,null,null,null,null,null,null,null,null,null,null,null,null,null,null,null,null,null,null,null,null,null,null,null,null,null,null,null,null,null,null,null,null,null,null,null,null,null,null,null,null,null,0,0,0,0,0,0,0,0,0,0,0,0,0,0,null,null,null,null,null,null,null,null,null,null,null,null,null,null,null,null,null,null,null,null,null,null,null,null,null,null,null,null,null,null,null,null,null,null,null,null,0,0,0,0,0,0,0,0,0,0,0,0,0,0,null,"","","","","","","","","","","","","","",null,{"$f":"IF(Programs!$D$215=\"\",\"\",Programs!$D$215)","v":""},"","","","","","","","","","","","","","",""]
["Program 13",{"$f":"Programs!B237","v":0},{"$f":"IF(Programs!$C$234=\"\",\"\",Programs!$C$234)","v":""},null,null,null,null,null,null,null,null,null,null,null,null,null,null,null,null,null,null,null,null,null,null,null,null,null,null,null,null,null,null,null,null,null,null,null,null,null,null,null,null,null,null,null,null,null,null,null,null,null,null,null,null,null,null,null,null,null,null,null,null,null,null,null,null,null,null,null,null,null,null,null,null,null,null,null,null,null,null,null,null,null,null,null,null,null,null,null,null,null,null,null,null,null,null,null,null,null,null,null,null,null,0,0,0,0,0,0,0,0,0,0,0,0,0,0,null,null,null,null,null,null,null,null,null,null,null,null,null,null,null,null,null,null,null,null,null,null,null,null,null,null,null,null,null,null,null,null,null,null,null,null,0,0,0,0,0,0,0,0,0,0,0,0,0,0,null,"","","","","","","","","","","","","","",null,{"$f":"IF(Programs!$D$234=\"\",\"\",Programs!$D$234)","v":""},"","","","","","","","","","","","","","",""]
[null,{"$f":"Programs!B238","v":0},{"$f":"IF(Programs!$C$234=\"\",\"\",Programs!$C$234)","v":""},null,null,null,null,null,null,null,null,null,null,null,null,null,null,null,null,null,null,null,null,null,null,null,null,null,null,null,null,null,null,null,null,null,null,null,null,null,null,null,null,null,null,null,null,null,null,null,null,null,null,null,null,null,null,null,null,null,null,null,null,null,null,null,null,null,null,null,null,null,null,null,null,null,null,null,null,null,null,null,null,null,null,null,null,null,null,null,null,null,null,null,null,null,null,null,null,null,null,null,null,null,0,0,0,0,0,0,0,0,0,0,0,0,0,0,null,null,null,null,null,null,null,null,null,null,null,null,null,null,null,null,null,null,null,null,null,null,null,null,null,null,null,null,null,null,null,null,null,null,null,null,0,0,0,0,0,0,0,0,0,0,0,0,0,0,null,"","","","","","","","","","","","","","",null,{"$f":"IF(Programs!$D$234=\"\",\"\",Programs!$D$234)","v":""},"","","","","","","","","","","","","","",""]
[null,{"$f":"Programs!B239","v":0},{"$f":"IF(Programs!$C$234=\"\",\"\",Programs!$C$234)","v":""},null,null,null,null,null,null,null,null,null,null,null,null,null,null,null,null,null,null,null,null,null,null,null,null,null,null,null,null,null,null,null,null,null,null,null,null,null,null,null,null,null,null,null,null,null,null,null,null,null,null,null,null,null,null,null,null,null,null,null,null,null,null,null,null,null,null,null,null,null,null,null,null,null,null,null,null,null,null,null,null,null,null,null,null,null,null,null,null,null,null,null,null,null,null,null,null,null,null,null,null,null,0,0,0,0,0,0,0,0,0,0,0,0,0,0,null,null,null,null,null,null,null,null,null,null,null,null,null,null,null,null,null,null,null,null,null,null,null,null,null,null,null,null,null,null,null,null,null,null,null,null,0,0,0,0,0,0,0,0,0,0,0,0,0,0,null,"","","","","","","","","","","","","","",null,{"$f":"IF(Programs!$D$234=\"\",\"\",Programs!$D$234)","v":""},"","","","","","","","","","","","","","",""]
[null,{"$f":"Programs!B240","v":0},{"$f":"IF(Programs!$C$234=\"\",\"\",Programs!$C$234)","v":""},null,null,null,null,null,null,null,null,null,null,null,null,null,null,null,null,null,null,null,null,null,null,null,null,null,null,null,null,null,null,null,null,null,null,null,null,null,null,null,null,null,null,null,null,null,null,null,null,null,null,null,null,null,null,null,null,null,null,null,null,null,null,null,null,null,null,null,null,null,null,null,null,null,null,null,null,null,null,null,null,null,null,null,null,null,null,null,null,null,null,null,null,null,null,null,null,null,null,null,null,null,0,0,0,0,0,0,0,0,0,0,0,0,0,0,null,null,null,null,null,null,null,null,null,null,null,null,null,null,null,null,null,null,null,null,null,null,null,null,null,null,null,null,null,null,null,null,null,null,null,null,0,0,0,0,0,0,0,0,0,0,0,0,0,0,null,"","","","","","","","","","","","","","",null,{"$f":"IF(Programs!$D$234=\"\",\"\",Programs!$D$234)","v":""},"","","","","","","","","","","","","","",""]
[null,{"$f":"Programs!B241","v":0},{"$f":"IF(Programs!$C$234=\"\",\"\",Programs!$C$234)","v":""},null,null,null,null,null,null,null,null,null,null,null,null,null,null,null,null,null,null,null,null,null,null,null,null,null,null,null,null,null,null,null,null,null,null,null,null,null,null,null,null,null,null,null,null,null,null,null,null,null,null,null,null,null,null,null,null,null,null,null,null,null,null,null,null,null,null,null,null,null,null,null,null,null,null,null,null,null,null,null,null,null,null,null,null,null,null,null,null,null,null,null,null,null,null,null,null,null,null,null,null,null,0,0,0,0,0,0,0,0,0,0,0,0,0,0,null,null,null,null,null,null,null,null,null,null,null,null,null,null,null,null,null,null,null,null,null,null,null,null,null,null,null,null,null,null,null,null,null,null,null,null,0,0,0,0,0,0,0,0,0,0,0,0,0,0,null,"","","","","","","","","","","","","","",null,{"$f":"IF(Programs!$D$234=\"\",\"\",Programs!$D$234)","v":""},"","","","","","","","","","","","","","",""]
[null,{"$f":"Programs!B242","v":0},{"$f":"IF(Programs!$C$234=\"\",\"\",Programs!$C$234)","v":""},null,null,null,null,null,null,null,null,null,null,null,null,null,null,null,null,null,null,null,null,null,null,null,null,null,null,null,null,null,null,null,null,null,null,null,null,null,null,null,null,null,null,null,null,null,null,null,null,null,null,null,null,null,null,null,null,null,null,null,null,null,null,null,null,null,null,null,null,null,null,null,null,null,null,null,null,null,null,null,null,null,null,null,null,null,null,null,null,null,null,null,null,null,null,null,null,null,null,null,null,null,0,0,0,0,0,0,0,0,0,0,0,0,0,0,null,null,null,null,null,null,null,null,null,null,null,null,null,null,null,null,null,null,null,null,null,null,null,null,null,null,null,null,null,null,null,null,null,null,null,null,0,0,0,0,0,0,0,0,0,0,0,0,0,0,null,"","","","","","","","","","","","","","",null,{"$f":"IF(Programs!$D$234=\"\",\"\",Programs!$D$234)","v":""},"","","","","","","","","","","","","","",""]
[null,{"$f":"Programs!B243","v":0},{"$f":"IF(Programs!$C$234=\"\",\"\",Programs!$C$234)","v":""},null,null,null,null,null,null,null,null,null,null,null,null,null,null,null,null,null,null,null,null,null,null,null,null,null,null,null,null,null,null,null,null,null,null,null,null,null,null,null,null,null,null,null,null,null,null,null,null,null,null,null,null,null,null,null,null,null,null,null,null,null,null,null,null,null,null,null,null,null,null,null,null,null,null,null,null,null,null,null,null,null,null,null,null,null,null,null,null,null,null,null,null,null,null,null,null,null,null,null,null,null,0,0,0,0,0,0,0,0,0,0,0,0,0,0,null,null,null,null,null,null,null,null,null,null,null,null,null,null,null,null,null,null,null,null,null,null,null,null,null,null,null,null,null,null,null,null,null,null,null,null,0,0,0,0,0,0,0,0,0,0,0,0,0,0,null,"","","","","","","","","","","","","","",null,{"$f":"IF(Programs!$D$234=\"\",\"\",Programs!$D$234)","v":""},"","","","","","","","","","","","","","",""]
[null,{"$f":"Programs!B244","v":0},{"$f":"IF(Programs!$C$234=\"\",\"\",Programs!$C$234)","v":""},null,null,null,null,null,null,null,null,null,null,null,null,null,null,null,null,null,null,null,null,null,null,null,null,null,null,null,null,null,null,null,null,null,null,null,null,null,null,null,null,null,null,null,null,null,null,null,null,null,null,null,null,null,null,null,null,null,null,null,null,null,null,null,null,null,null,null,null,null,null,null,null,null,null,null,null,null,null,null,null,null,null,null,null,null,null,null,null,null,null,null,null,null,null,null,null,null,null,null,null,null,0,0,0,0,0,0,0,0,0,0,0,0,0,0,null,null,null,null,null,null,null,null,null,null,null,null,null,null,null,null,null,null,null,null,null,null,null,null,null,null,null,null,null,null,null,null,null,null,null,null,0,0,0,0,0,0,0,0,0,0,0,0,0,0,null,"","","","","","","","","","","","","","",null,{"$f":"IF(Programs!$D$234=\"\",\"\",Programs!$D$234)","v":""},"","","","","","","","","","","","","","",""]
[null,{"$f":"Programs!B245","v":0},{"$f":"IF(Programs!$C$234=\"\",\"\",Programs!$C$234)","v":""},null,null,null,null,null,null,null,null,null,null,null,null,null,null,null,null,null,null,null,null,null,null,null,null,null,null,null,null,null,null,null,null,null,null,null,null,null,null,null,null,null,null,null,null,null,null,null,null,null,null,null,null,null,null,null,null,null,null,null,null,null,null,null,null,null,null,null,null,null,null,null,null,null,null,null,null,null,null,null,null,null,null,null,null,null,null,null,null,null,null,null,null,null,null,null,null,null,null,null,null,null,{"$f":"SUM(D156:K156)","v":0},{"$f":"DA156/8","v":0},{"$f":"SUM(L156:Q156)","v":0},{"$f":"DC156/6","v":0},{"$f":"SUM(R156:X156)","v":0},{"$f":"DE156/7","v":0},{"$f":"SUM(Y156:AG156)","v":0},{"$f":"DG156/9","v":0},{"$f":"SUM(AH156:AS156)","v":0},{"$f":"DI156/12","v":0},{"$f":"SUM(AT156:BA156)","v":0},{"$f":"DK156/8","v":0},{"$f":"SUM(DA156,DC156,DE156,DG156,DI156,DK156)","v":0},{"$f":"DM156/50","v":0},null,null,null,null,null,null,null,null,null,null,null,null,null,null,null,null,null,null,null,null,null,null,null,null,null,null,null,null,null,null,null,null,null,null,null,null,{"$f":"SUM(BB156:BI156)","v":0},{"$f":"EY156/8","v":0},{"$f":"SUM(BJ156:BO156)","v":0},{"$f":"FA156/6","v":0},{"$f":"SUM(BP156:BV156)","v":0},{"$f":"FC156/7","v":0},{"$f":"SUM(BW156:CE156)","v":0},{"$f":"FE156/9","v":0},{"$f":"SUM(CF156:CQ156)","v":0},{"$f":"FG156/12","v":0},{"$f":"SUM(CR156:CY156)","v":0},{"$f":"FI156/8","v":0},{"$f":"SUM(EY156,FA156,FC156,FE156,FG156,FI156)","v":0},{"$f":"FK156/50","v":0},null,{"$f":"IF($GD156<>\"\",EY156-DA156,\"\")","v":""},{"$f":"IF($GD156<>\"\",EZ156-DB156,\"\")","v":""},{"$f":"IF($GD156<>\"\",FA156-DC156,\"\")","v":""},{"$f":"IF($GD156<>\"\",FB156-DD156,\"\")","v":""},{"$f":"IF($GD156<>\"\",FC156-DE156,\"\")","v":""},{"$f":"IF($GD156<>\"\",FD156-DF156,\"\")","v":""},{"$f":"IF($GD156<>\"\",FE156-DG156,\"\")","v":""},{"$f":"IF($GD156<>\"\",FF156-DH156,\"\")","v":""},{"$f":"IF($GD156<>\"\",FG156-DI156,\"\")","v":""},{"$f":"IF($GD156<>\"\",FH156-DJ156,\"\")","v":""},{"$f":"IF($GD156<>\"\",FI156-DK156,\"\")","v":""},{"$f":"IF($GD156<>\"\",FJ156-DL156,\"\")","v":""},{"$f":"IF($GD156<>\"\",FK156-DM156,\"\")","v":""},{"$f":"IF($GD156<>\"\",FL156-DN156,\"\")","v":""},null,{"$f":"IF(Programs!$D$234=\"\",\"\",Programs!$D$234)","v":""},{"$f":"IF(AND(COUNT(D156:BA156)>45,COUNT(BB156:CY156)>45),GC156,\"\")","v":""},"","","","","","","","","","","","","",""]
[null,{"$f":"Programs!B246","v":0},{"$f":"IF(Programs!$C$234=\"\",\"\",Programs!$C$234)","v":""},null,null,null,null,null,null,null,null,null,null,null,null,null,null,null,null,null,null,null,null,null,null,null,null,null,null,null,null,null,null,null,null,null,null,null,null,null,null,null,null,null,null,null,null,null,null,null,null,null,null,null,null,null,null,null,null,null,null,null,null,null,null,null,null,null,null,null,null,null,null,null,null,null,null,null,null,null,null,null,null,null,null,null,null,null,null,null,null,null,null,null,null,null,null,null,null,null,null,null,null,null,0,0,0,0,0,0,0,0,0,0,0,0,0,0,null,null,null,null,null,null,null,null,null,null,null,null,null,null,null,null,null,null,null,null,null,null,null,null,null,null,null,null,null,null,null,null,null,null,null,null,0,0,0,0,0,0,0,0,0,0,0,0,0,0,null,"","","","","","","","","","","","","","",null,{"$f":"IF(Programs!$D$234=\"\",\"\",Programs!$D$234)","v":""},"","","","","","","","","","","","","","",""]
[null,{"$f":"Programs!B247","v":0},{"$f":"IF(Programs!$C$234=\"\",\"\",Programs!$C$234)","v":""},null,null,null,null,null,null,null,null,null,null,null,null,null,null,null,null,null,null,null,null,null,null,null,null,null,null,null,null,null,null,null,null,null,null,null,null,null,null,null,null,null,null,null,null,null,null,null,null,null,null,null,null,null,null,null,null,null,null,null,null,null,null,null,null,null,null,null,null,null,null,null,null,null,null,null,null,null,null,null,null,null,null,null,null,null,null,null,null,null,null,null,null,null,null,null,null,null,null,null,null,null,0,0,0,0,0,0,0,0,0,0,0,0,0,0,null,null,null,null,null,null,null,null,null,null,null,null,null,null,null,null,null,null,null,null,null,null,null,null,null,null,null,null,null,null,null,null,null,null,null,null,0,0,0,0,0,0,0,0,0,0,0,0,0,0,null,"","","","","","","","","","","","","","",null,{"$f":"IF(Programs!$D$234=\"\",\"\",Programs!$D$234)","v":""},"","","","","","","","","","","","","","",""]
[null,{"$f":"Programs!B248","v":0},{"$f":"IF(Programs!$C$234=\"\",\"\",Programs!$C$234)","v":""},null,null,null,null,null,null,null,null,null,null,null,null,null,null,null,null,null,null,null,null,null,null,null,null,null,null,null,null,null,null,null,null,null,null,null,null,null,null,null,null,null,null,null,null,null,null,null,null,null,null,null,null,null,null,null,null,null,null,null,null,null,null,null,null,null,null,null,null,null,null,null,null,null,null,null,null,null,null,null,null,null,null,null,null,null,null,null,null,null,null,null,null,null,null,null,null,null,null,null,null,null,0,0,0,0,0,0,0,0,0,0,0,0,0,0,null,null,null,null,null,null,null,null,null,null,null,null,null,null,null,null,null,null,null,null,null,null,null,null,null,null,null,null,null,null,null,null,null,null,null,null,0,0,0,0,0,0,0,0,0,0,0,0,0,0,null,"","","","","","","","","","","","","","",null,{"$f":"IF(Programs!$D$234=\"\",\"\",Programs!$D$234)","v":""},"","","","","","","","","","","","","","",""]
["Program 14",{"$f":"Programs!B256","v":0},{"$f":"IF(Programs!$C$253=\"\",\"\",Programs!$C$253)","v":""},null,null,null,null,null,null,null,null,null,null,null,null,null,null,null,null,null,null,null,null,null,null,null,null,null,null,null,null,null,null,null,null,null,null,null,null,null,null,null,null,null,null,null,null,null,null,null,null,null,null,null,null,null,null,null,null,null,null,null,null,null,null,null,null,null,null,null,null,null,null,null,null,null,null,null,null,null,null,null,null,null,null,null,null,null,null,null,null,null,null,null,null,null,null,null,null,null,null,null,null,null,0,0,0,0,0,0,0,0,0,0,0,0,0,0,null,null,null,null,null,null,null,null,null,null,null,null,null,null,null,null,null,null,null,null,null,null,null,null,null,null,null,null,null,null,null,null,null,null,null,null,0,0,0,0,0,0,0,0,0,0,0,0,0,0,null,"","","","","","","","","","","","","","",null,{"$f":"IF(Programs!$D$253=\"\",\"\",Programs!$D$253)","v":""},{"$f":"IF(AND(COUNT(D160:BA160)>45,COUNT(BB160:CY160)>45),GC160,\"\")","v":""},"","","","","","","","","","","","","",""]
[null,{"$f":"Programs!B257","v":0},{"$f":"IF(Programs!$C$253=\"\",\"\",Programs!$C$253)","v":""},null,null,null,null,null,null,null,null,null,null,null,null,null,null,null,null,null,null,null,null,null,null,null,null,null,null,null,null,null,null,null,null,null,null,null,null,null,null,null,null,null,null,null,null,null,null,null,null,null,null,null,null,null,null,null,null,null,null,null,null,null,null,null,null,null,null,null,null,null,null,null,null,null,null,null,null,null,null,null,null,null,null,null,null,null,null,null,null,null,null,null,null,null,null,null,null,null,null,null,null,null,0,0,0,0,0,0,0,0,0,0,0,0,0,0,null,null,null,null,null,null,null,null,null,null,null,null,null,null,null,null,null,null,null,null,null,null,null,null,null,null,null,null,null,null,null,null,null,null,null,null,0,0,0,0,0,0,0,0,0,0,0,0,0,0,null,"","","","","","","","","","","","","","",null,{"$f":"IF(Programs!$D$253=\"\",\"\",Programs!$D$253)","v":""},"","","","","","","","","","","","","","",""]
[null,{"$f":"Programs!B258","v":0},{"$f":"IF(Programs!$C$253=\"\",\"\",Programs!$C$253)","v":""},null,null,null,null,null,null,null,null,null,null,null,null,null,null,null,null,null,null,null,null,null,null,null,null,null,null,null,null,null,null,null,null,null,null,null,null,null,null,null,null,null,null,null,null,null,null,null,null,null,null,null,null,null,null,null,null,null,null,null,null,null,null,null,null,null,null,null,null,null,null,null,null,null,null,null,null,null,null,null,null,null,null,null,null,null,null,null,null,null,null,null,null,null,null,null,null,null,null,null,null,null,0,0,0,0,0,0,0,0,0,0,0,0,0,0,null,null,null,null,null,null,null,null,null,null,null,null,null,null,null,null,null,null,null,null,null,null,null,null,null,null,null,null,null,null,null,null,null,null,null,null,0,0,0,0,0,0,0,0,0,0,0,0,0,0,null,"","","","","","","","","","","","","","",null,{"$f":"IF(Programs!$D$253=\"\",\"\",Programs!$D$253)","v":""},"","","","","","","","","","","","","","",""]
[null,{"$f":"Programs!B259","v":0},{"$f":"IF(Programs!$C$253=\"\",\"\",Programs!$C$253)","v":""},null,null,null,null,null,null,null,null,null,null,null,null,null,null,null,null,null,null,null,null,null,null,null,null,null,null,null,null,null,null,null,null,null,null,null,null,null,null,null,null,null,null,null,null,null,null,null,null,null,null,null,null,null,null,null,null,null,null,null,null,null,null,null,null,null,null,null,null,null,null,null,null,null,null,null,null,null,null,null,null,null,null,null,null,null,null,null,null,null,null,null,null,null,null,null,null,null,null,null,null,null,0,0,0,0,0,0,0,0,0,0,0,0,0,0,null,null,null,null,null,null,null,null,null,null,null,null,null,null,null,null,null,null,null,null,null,null,null,null,null,null,null,null,null,null,null,null,null,null,null,null,0,0,0,0,0,0,0,0,0,0,0,0,0,0,null,"","","","","","","","","","","","","","",null,{"$f":"IF(Programs!$D$253=\"\",\"\",Programs!$D$253)","v":""},"","","","","","","","","","","","","","",""]
[null,{"$f":"Programs!B260","v":0},{"$f":"IF(Programs!$C$253=\"\",\"\",Programs!$C$253)","v":""},null,null,null,null,null,null,null,null,null,null,null,null,null,null,null,null,null,null,null,null,null,null,null,null,null,null,null,null,null,null,null,null,null,null,null,null,null,null,null,null,null,null,null,null,null,null,null,null,null,null,null,null,null,null,null,null,null,null,null,null,null,null,null,null,null,null,null,null,null,null,null,null,null,null,null,null,null,null,null,null,null,null,null,null,null,null,null,null,null,null,null,null,null,null,null,null,null,null,null,null,null,0,0,0,0,0,0,0,0,0,0,0,0,0,0,null,null,null,null,null,null,null,null,null,null,null,null,null,null,null,null,null,null,null,null,null,null,null,null,null,null,null,null,null,null,null,null,null,null,null,null,0,0,0,0,0,0,0,0,0,0,0,0,0,0,null,"","","","","","","","","","","","","","",null,{"$f":"IF(Programs!$D$253=\"\",\"\",Programs!$D$253)","v":""},"","","","","","","","","","","","","","",""]
[null,{"$f":"Programs!B261","v":0},{"$f":"IF(Programs!$C$253=\"\",\"\",Programs!$C$253)","v":""},null,null,null,null,null,null,null,null,null,null,null,null,null,null,null,null,null,null,null,null,null,null,null,null,null,null,null,null,null,null,null,null,null,null,null,null,null,null,null,null,null,null,null,null,null,null,null,null,null,null,null,null,null,null,null,null,null,null,null,null,null,null,null,null,null,null,null,null,null,null,null,null,null,null,null,null,null,null,null,null,null,null,null,null,null,null,null,null,null,null,null,null,null,null,null,null,null,null,null,null,null,0,0,0,0,0,0,0,0,0,0,0,0,0,0,null,null,null,null,null,null,null,null,null,null,null,null,null,null,null,null,null,null,null,null,null,null,null,null,null,null,null,null,null,null,null,null,null,null,null,null,0,0,0,0,0,0,0,0,0,0,0,0,0,0,null,"","","","","","","","","","","","","","",null,{"$f":"IF(Programs!$D$253=\"\",\"\",Programs!$D$253)","v":""},"","","","","","","","","","","","","","",""]
[null,{"$f":"Programs!B262","v":0},{"$f":"IF(Programs!$C$253=\"\",\"\",Programs!$C$253)","v":""},null,null,null,null,null,null,null,null,null,null,null,null,null,null,null,null,null,null,null,null,null,null,null,null,null,null,null,null,null,null,null,null,null,null,null,null,null,null,null,null,null,null,null,null,null,null,null,null,null,null,null,null,null,null,null,null,null,null,null,null,null,null,null,null,null,null,null,null,null,null,null,null,null,null,null,null,null,null,null,null,null,null,null,null,null,null,null,null,null,null,null,null,null,null,null,null,null,null,null,null,null,0,0,0,0,0,0,0,0,0,0,0,0,0,0,null,null,null,null,null,null,null,null,null,null,null,null,null,null,null,null,null,null,null,null,null,null,null,null,null,null,null,null,null,null,null,null,null,null,null,null,0,0,0,0,0,0,0,0,0,0,0,0,0,0,null,"","","","","","","","","","","","","","",null,{"$f":"IF(Programs!$D$253=\"\",\"\",Programs!$D$253)","v":""},"","","","","","","","","","","","","","",""]
[null,{"$f":"Programs!B263","v":0},{"$f":"IF(Programs!$C$253=\"\",\"\",Programs!$C$253)","v":""},null,null,null,null,null,null,null,null,null,null,null,null,null,null,null,null,null,null,null,null,null,null,null,null,null,null,null,null,null,null,null,null,null,null,null,null,null,null,null,null,null,null,null,null,null,null,null,null,null,null,null,null,null,null,null,null,null,null,null,null,null,null,null,null,null,null,null,null,null,null,null,null,null,null,null,null,null,null,null,null,null,null,null,null,null,null,null,null,null,null,null,null,null,null,null,null,null,null,null,null,null,0,0,0,0,0,0,0,0,0,0,0,0,0,0,null,null,null,null,null,null,null,null,null,null,null,null,null,null,null,null,null,null,null,null,null,null,null,null,null,null,null,null,null,null,null,null,null,null,null,null,0,0,0,0,0,0,0,0,0,0,0,0,0,0,null,"","","","","","","","","","","","","","",null,{"$f":"IF(Programs!$D$253=\"\",\"\",Programs!$D$253)","v":""},"","","","","","","","","","","","","","",""]
[null,{"$f":"Programs!B264","v":0},{"$f":"IF(Programs!$C$253=\"\",\"\",Programs!$C$253)","v":""},null,null,null,null,null,null,null,null,null,null,null,null,null,null,null,null,null,null,null,null,null,null,null,null,null,null,null,null,null,null,null,null,null,null,null,null,null,null,null,null,null,null,null,null,null,null,null,null,null,null,null,null,null,null,null,null,null,null,null,null,null,null,null,null,null,null,null,null,null,null,null,null,null,null,null,null,null,null,null,null,null,null,null,null,null,null,null,null,null,null,null,null,null,null,null,null,null,null,null,null,null,{"$f":"SUM(D168:K168)","v":0},{"$f":"DA168/8","v":0},{"$f":"SUM(L168:Q168)","v":0},{"$f":"DC168/6","v":0},{"$f":"SUM(R168:X168)","v":0},{"$f":"DE168/7","v":0},{"$f":"SUM(Y168:AG168)","v":0},{"$f":"DG168/9","v":0},{"$f":"SUM(AH168:AS168)","v":0},{"$f":"DI168/12","v":0},{"$f":"SUM(AT168:BA168)","v":0},{"$f":"DK168/8","v":0},{"$f":"SUM(DA168,DC168,DE168,DG168,DI168,DK168)","v":0},{"$f":"DM168/50","v":0},null,null,null,null,null,null,null,null,null,null,null,null,null,null,null,null,null,null,null,null,null,null,null,null,null,null,null,null,null,null,null,null,null,null,null,null,{"$f":"SUM(BB168:BI168)","v":0},{"$f":"EY168/8","v":0},{"$f":"SUM(BJ168:BO168)","v":0},{"$f":"FA168/6","v":0},{"$f":"SUM(BP168:BV168)","v":0},{"$f":"FC168/7","v":0},{"$f":"SUM(BW168:CE168)","v":0},{"$f":"FE168/9","v":0},{"$f":"SUM(CF168:CQ168)","v":0},{"$f":"FG168/12","v":0},{"$f":"SUM(CR168:CY168)","v":0},{"$f":"FI168/8","v":0},{"$f":"SUM(EY168,FA168,FC168,FE168,FG168,FI168)","v":0},{"$f":"FK168/50","v":0},null,{"$f":"IF($GD168<>\"\",EY168-DA168,\"\")","v":""},{"$f":"IF($GD168<>\"\",EZ168-DB168,\"\")","v":""},{"$f":"IF($GD168<>\"\",FA168-DC168,\"\")","v":""},{"$f":"IF($GD168<>\"\",FB168-DD168,\"\")","v":""},{"$f":"IF($GD168<>\"\",FC168-DE168,\"\")","v":""},{"$f":"IF($GD168<>\"\",FD168-DF168,\"\")","v":""},{"$f":"IF($GD168<>\"\",FE168-DG168,\"\")","v":""},{"$f":"IF($GD168<>\"\",FF168-DH168,\"\")","v":""},{"$f":"IF($GD168<>\"\",FG168-DI168,\"\")","v":""},{"$f":"IF($GD168<>\"\",FH168-DJ168,\"\")","v":""},{"$f":"IF($GD168<>\"\",FI168-DK168,\"\")","v":""},{"$f":"IF($GD168<>\"\",FJ168-DL168,\"\")","v":""},{"$f":"IF($GD168<>\"\",FK168-DM168,\"\")","v":""},{"$f":"IF($GD168<>\"\",FL168-DN168,\"\")","v":""},null,{"$f":"IF(Programs!$D$253=\"\",\"\",Programs!$D$253)","v":""},{"$f":"IF(AND(COUNT(D168:BA168)>45,COUNT(BB168:CY168)>45),GC168,\"\")","v":""},"","","","","","","","","","","","","",""]
[null,{"$f":"Programs!B265","v":0},{"$f":"IF(Programs!$C$253=\"\",\"\",Programs!$C$253)","v":""},null,null,null,null,null,null,null,null,null,null,null,null,null,null,null,null,null,null,null,null,null,null,null,null,null,null,null,null,null,null,null,null,null,null,null,null,null,null,null,null,null,null,null,null,null,null,null,null,null,null,null,null,null,null,null,null,null,null,null,null,null,null,null,null,null,null,null,null,null,null,null,null,null,null,null,null,null,null,null,null,null,null,null,null,null,null,null,null,null,null,null,null,null,null,null,null,null,null,null,null,null,0,0,0,0,0,0,0,0,0,0,0,0,0,0,null,null,null,null,null,null,null,null,null,null,null,null,null,null,null,null,null,null,null,null,null,null,null,null,null,null,null,null,null,null,null,null,null,null,null,null,0,0,0,0,0,0,0,0,0,0,0,0,0,0,null,"","","","","","","","","","","","","","",null,{"$f":"IF(Programs!$D$253=\"\",\"\",Programs!$D$253)","v":""},"","","","","","","","","","","","","","",""]
[null,{"$f":"Programs!B266","v":0},{"$f":"IF(Programs!$C$253=\"\",\"\",Programs!$C$253)","v":""},null,null,null,null,null,null,null,null,null,null,null,null,null,null,null,null,null,null,null,null,null,null,null,null,null,null,null,null,null,null,null,null,null,null,null,null,null,null,null,null,null,null,null,null,null,null,null,null,null,null,null,null,null,null,null,null,null,null,null,null,null,null,null,null,null,null,null,null,null,null,null,null,null,null,null,null,null,null,null,null,null,null,null,null,null,null,null,null,null,null,null,null,null,null,null,null,null,null,null,null,null,0,0,0,0,0,0,0,0,0,0,0,0,0,0,null,null,null,null,null,null,null,null,null,null,null,null,null,null,null,null,null,null,null,null,null,null,null,null,null,null,null,null,null,null,null,null,null,null,null,null,0,0,0,0,0,0,0,0,0,0,0,0,0,0,null,"","","","","","","","","","","","","","",null,{"$f":"IF(Programs!$D$253=\"\",\"\",Programs!$D$253)","v":""},"","","","","","","","","","","","","","",""]
[null,{"$f":"Programs!B267","v":0},{"$f":"IF(Programs!$C$253=\"\",\"\",Programs!$C$253)","v":""},null,null,null,null,null,null,null,null,null,null,null,null,null,null,null,null,null,null,null,null,null,null,null,null,null,null,null,null,null,null,null,null,null,null,null,null,null,null,null,null,null,null,null,null,null,null,null,null,null,null,null,null,null,null,null,null,null,null,null,null,null,null,null,null,null,null,null,null,null,null,null,null,null,null,null,null,null,null,null,null,null,null,null,null,null,null,null,null,null,null,null,null,null,null,null,null,null,null,null,null,null,0,0,0,0,0,0,0,0,0,0,0,0,0,0,null,null,null,null,null,null,null,null,null,null,null,null,null,null,null,null,null,null,null,null,null,null,null,null,null,null,null,null,null,null,null,null,null,null,null,null,0,0,0,0,0,0,0,0,0,0,0,0,0,0,null,"","","","","","","","","","","","","","",null,{"$f":"IF(Programs!$D$253=\"\",\"\",Programs!$D$253)","v":""},"","","","","","","","","","","","","","",""]
["Program 15",{"$f":"Programs!B275","v":0},{"$f":"IF(Programs!$C$272=\"\",\"\",Programs!$C$272)","v":""},null,null,null,null,null,null,null,null,null,null,null,null,null,null,null,null,null,null,null,null,null,null,null,null,null,null,null,null,null,null,null,null,null,null,null,null,null,null,null,null,null,null,null,null,null,null,null,null,null,null,null,null,null,null,null,null,null,null,null,null,null,null,null,null,null,null,null,null,null,null,null,null,null,null,null,null,null,null,null,null,null,null,null,null,null,null,null,null,null,null,null,null,null,null,null,null,null,null,null,null,null,{"$f":"SUM(D172:K172)","v":0},{"$f":"DA172/8","v":0},{"$f":"SUM(L172:Q172)","v":0},{"$f":"DC172/6","v":0},{"$f":"SUM(R172:X172)","v":0},{"$f":"DE172/7","v":0},{"$f":"SUM(Y172:AG172)","v":0},{"$f":"DG172/9","v":0},{"$f":"SUM(AH172:AS172)","v":0},{"$f":"DI172/12","v":0},{"$f":"SUM(AT172:BA172)","v":0},{"$f":"DK172/8","v":0},{"$f":"SUM(DA172,DC172,DE172,DG172,DI172,DK172)","v":0},{"$f":"DM172/50","v":0},null,null,null,null,null,null,null,null,null,null,null,null,null,null,null,null,null,null,null,null,null,null,null,null,null,null,null,null,null,null,null,null,null,null,null,null,{"$f":"SUM(BB172:BI172)","v":0},{"$f":"EY172/8","v":0},{"$f":"SUM(BJ172:BO172)","v":0},{"$f":"FA172/6","v":0},{"$f":"SUM(BP172:BV172)","v":0},{"$f":"FC172/7","v":0},{"$f":"SUM(BW172:CE172)","v":0},{"$f":"FE172/9","v":0},{"$f":"SUM(CF172:CQ172)","v":0},{"$f":"FG172/12","v":0},{"$f":"SUM(CR172:CY172)","v":0},{"$f":"FI172/8","v":0},{"$f":"SUM(EY172,FA172,FC172,FE172,FG172,FI172)","v":0},{"$f":"FK172/50","v":0},null,"","","","","","","","","","","","","","",null,{"$f":"IF(Programs!$D$272=\"\",\"\",Programs!$D$272)","v":""},"","","","","","","","","","","","","","",""]
[null,{"$f":"Programs!B276","v":0},{"$f":"IF(Programs!$C$272=\"\",\"\",Programs!$C$272)","v":""},null,null,null,null,null,null,null,null,null,null,null,null,null,null,null,null,null,null,null,null,null,null,null,null,null,null,null,null,null,null,null,null,null,null,null,null,null,null,null,null,null,null,null,null,null,null,null,null,null,null,null,null,null,null,null,null,null,null,null,null,null,null,null,null,null,null,null,null,null,null,null,null,null,null,null,null,null,null,null,null,null,null,null,null,null,null,null,null,null,null,null,null,null,null,null,null,null,null,null,null,null,0,0,0,0,0,0,0,0,0,0,0,0,0,0,null,null,null,null,null,null,null,null,null,null,null,null,null,null,null,null,null,null,null,null,null,null,null,null,null,null,null,null,null,null,null,null,null,null,null,null,0,0,0,0,0,0,0,0,0,0,0,0,0,0,null,"","","","","","","","","","","","","","",null,{"$f":"IF(Programs!$D$272=\"\",\"\",Programs!$D$272)","v":""},"","","","","","","","","","","","","","",""]
[null,{"$f":"Programs!B277","v":0},{"$f":"IF(Programs!$C$272=\"\",\"\",Programs!$C$272)","v":""},null,null,null,null,null,null,null,null,null,null,null,null,null,null,null,null,null,null,null,null,null,null,null,null,null,null,null,null,null,null,null,null,null,null,null,null,null,null,null,null,null,null,null,null,null,null,null,null,null,null,null,null,null,null,null,null,null,null,null,null,null,null,null,null,null,null,null,null,null,null,null,null,null,null,null,null,null,null,null,null,null,null,null,null,null,null,null,null,null,null,null,null,null,null,null,null,null,null,null,null,null,0,0,0,0,0,0,0,0,0,0,0,0,0,0,null,null,null,null,null,null,null,null,null,null,null,null,null,null,null,null,null,null,null,null,null,null,null,null,null,null,null,null,null,null,null,null,null,null,null,null,0,0,0,0,0,0,0,0,0,0,0,0,0,0,null,"","","","","","","","","","","","","","",null,{"$f":"IF(Programs!$D$272=\"\",\"\",Programs!$D$272)","v":""},"","","","","","","","","","","","","","",""]
[null,{"$f":"Programs!B278","v":0},{"$f":"IF(Programs!$C$272=\"\",\"\",Programs!$C$272)","v":""},null,null,null,null,null,null,null,null,null,null,null,null,null,null,null,null,null,null,null,null,null,null,null,null,null,null,null,null,null,null,null,null,null,null,null,null,null,null,null,null,null,null,null,null,null,null,null,null,null,null,null,null,null,null,null,null,null,null,null,null,null,null,null,null,null,null,null,null,null,null,null,null,null,null,null,null,null,null,null,null,null,null,null,null,null,null,null,null,null,null,null,null,null,null,null,null,null,null,null,null,null,0,0,0,0,0,0,0,0,0,0,0,0,0,0,null,null,null,null,null,null,null,null,null,null,null,null,null,null,null,null,null,null,null,null,null,null,null,null,null,null,null,null,null,null,null,null,null,null,null,null,0,0,0,0,0,0,0,0,0,0,0,0,0,0,null,"","","","","","","","","","","","","","",null,{"$f":"IF(Programs!$D$272=\"\",\"\",Programs!$D$272)","v":""},"","","","","","","","","","","","","","",""]
[null,{"$f":"Programs!B279","v":0},{"$f":"IF(Programs!$C$272=\"\",\"\",Programs!$C$272)","v":""},null,null,null,null,null,null,null,null,null,null,null,null,null,null,null,null,null,null,null,null,null,null,null,null,null,null,null,null,null,null,null,null,null,null,null,null,null,null,null,null,null,null,null,null,null,null,null,null,null,null,null,null,null,null,null,null,null,null,null,null,null,null,null,null,null,null,null,null,null,null,null,null,null,null,null,null,null,null,null,null,null,null,null,null,null,null,null,null,null,null,null,null,null,null,null,null,null,null,null,null,null,0,0,0,0,0,0,0,0,0,0,0,0,0,0,null,null,null,null,null,null,null,null,null,null,null,null,null,null,null,null,null,null,null,null,null,null,null,null,null,null,null,null,null,null,null,null,null,null,null,null,0,0,0,0,0,0,0,0,0,0,0,0,0,0,null,"","","","","","","","","","","","","","",null,{"$f":"IF(Programs!$D$272=\"\",\"\",Programs!$D$272)","v":""},"","","","","","","","","","","","","","",""]
[null,{"$f":"Programs!B280","v":0},{"$f":"IF(Programs!$C$272=\"\",\"\",Programs!$C$272)","v":""},null,null,null,null,null,null,null,null,null,null,null,null,null,null,null,null,null,null,null,null,null,null,null,null,null,null,null,null,null,null,null,null,null,null,null,null,null,null,null,null,null,null,null,null,null,null,null,null,null,null,null,null,null,null,null,null,null,null,null,null,null,null,null,null,null,null,null,null,null,null,null,null,null,null,null,null,null,null,null,null,null,null,null,null,null,null,null,null,null,null,null,null,null,null,null,null,null,null,null,null,null,0,0,0,0,0,0,0,0,0,0,0,0,0,0,null,null,null,null,null,null,null,null,null,null,null,null,null,null,null,null,null,null,null,null,null,null,null,null,null,null,null,null,null,null,null,null,null,null,null,null,0,0,0,0,0,0,0,0,0,0,0,0,0,0,null,"","","","","","","","","","","","","","",null,{"$f":"IF(Programs!$D$272=\"\",\"\",Programs!$D$272)","v":""},"","","","","","","","","","","","","","",""]
[null,{"$f":"Programs!B281","v":0},{"$f":"IF(Programs!$C$272=\"\",\"\",Programs!$C$272)","v":""},null,null,null,null,null,null,null,null,null,null,null,null,null,null,null,null,null,null,null,null,null,null,null,null,null,null,null,null,null,null,null,null,null,null,null,null,null,null,null,null,null,null,null,null,null,null,null,null,null,null,null,null,null,null,null,null,null,null,null,null,null,null,null,null,null,null,null,null,null,null,null,null,null,null,null,null,null,null,null,null,null,null,null,null,null,null,null,null,null,null,null,null,null,null,null,null,null,null,null,null,null,0,0,0,0,0,0,0,0,0,0,0,0,0,0,null,null,null,null,null,null,null,null,null,null,null,null,null,null,null,null,null,null,null,null,null,null,null,null,null,null,null,null,null,null,null,null,null,null,null,null,0,0,0,0,0,0,0,0,0,0,0,0,0,0,null,"","","","","","","","","","","","","","",null,{"$f":"IF(Programs!$D$272=\"\",\"\",Programs!$D$272)","v":""},"","","","","","","","","","","","","","",""]
[null,{"$f":"Programs!B282","v":0},{"$f":"IF(Programs!$C$272=\"\",\"\",Programs!$C$272)","v":""},null,null,null,null,null,null,null,null,null,null,null,null,null,null,null,null,null,null,null,null,null,null,null,null,null,null,null,null,null,null,null,null,null,null,null,null,null,null,null,null,null,null,null,null,null,null,null,null,null,null,null,null,null,null,null,null,null,null,null,null,null,null,null,null,null,null,null,null,null,null,null,null,null,null,null,null,null,null,null,null,null,null,null,null,null,null,null,null,null,null,null,null,null,null,null,null,null,null,null,null,null,0,0,0,0,0,0,0,0,0,0,0,0,0,0,null,null,null,null,null,null,null,null,null,null,null,null,null,null,null,null,null,null,null,null,null,null,null,null,null,null,null,null,null,null,null,null,null,null,null,null,0,0,0,0,0,0,0,0,0,0,0,0,0,0,null,"","","","","","","","","","","","","","",null,{"$f":"IF(Programs!$D$272=\"\",\"\",Programs!$D$272)","v":""},"","","","","","","","","","","","","","",""]
[null,{"$f":"Programs!B283","v":0},{"$f":"IF(Programs!$C$272=\"\",\"\",Programs!$C$272)","v":""},null,null,null,null,null,null,null,null,null,null,null,null,null,null,null,null,null,null,null,null,null,null,null,null,null,null,null,null,null,null,null,null,null,null,null,null,null,null,null,null,null,null,null,null,null,null,null,null,null,null,null,null,null,null,null,null,null,null,null,null,null,null,null,null,null,null,null,null,null,null,null,null,null,null,null,null,null,null,null,null,null,null,null,null,null,null,null,null,null,null,null,null,null,null,null,null,null,null,null,null,null,{"$f":"SUM(D180:K180)","v":0},{"$f":"DA180/8","v":0},{"$f":"SUM(L180:Q180)","v":0},{"$f":"DC180/6","v":0},{"$f":"SUM(R180:X180)","v":0},{"$f":"DE180/7","v":0},{"$f":"SUM(Y180:AG180)","v":0},{"$f":"DG180/9","v":0},{"$f":"SUM(AH180:AS180)","v":0},{"$f":"DI180/12","v":0},{"$f":"SUM(AT180:BA180)","v":0},{"$f":"DK180/8","v":0},{"$f":"SUM(DA180,DC180,DE180,DG180,DI180,DK180)","v":0},{"$f":"DM180/50","v":0},null,null,null,null,null,null,null,null,null,null,null,null,null,null,null,null,null,null,null,null,null,null,null,null,null,null,null,null,null,null,null,null,null,null,null,null,{"$f":"SUM(BB180:BI180)","v":0},{"$f":"EY180/8","v":0},{"$f":"SUM(BJ180:BO180)","v":0},{"$f":"FA180/6","v":0},{"$f":"SUM(BP180:BV180)","v":0},{"$f":"FC180/7","v":0},{"$f":"SUM(BW180:CE180)","v":0},{"$f":"FE180/9","v":0},{"$f":"SUM(CF180:CQ180)","v":0},{"$f":"FG180/12","v":0},{"$f":"SUM(CR180:CY180)","v":0},{"$f":"FI180/8","v":0},{"$f":"SUM(EY180,FA180,FC180,FE180,FG180,FI180)","v":0},{"$f":"FK180/50","v":0},null,{"$f":"IF($GD180<>\"\",EY180-DA180,\"\")","v":""},{"$f":"IF($GD180<>\"\",EZ180-DB180,\"\")","v":""},{"$f":"IF($GD180<>\"\",FA180-DC180,\"\")","v":""},{"$f":"IF($GD180<>\"\",FB180-DD180,\"\")","v":""},{"$f":"IF($GD180<>\"\",FC180-DE180,\"\")","v":""},{"$f":"IF($GD180<>\"\",FD180-DF180,\"\")","v":""},{"$f":"IF($GD180<>\"\",FE180-DG180,\"\")","v":""},{"$f":"IF($GD180<>\"\",FF180-DH180,\"\")","v":""},{"$f":"IF($GD180<>\"\",FG180-DI180,\"\")","v":""},{"$f":"IF($GD180<>\"\",FH180-DJ180,\"\")","v":""},{"$f":"IF($GD180<>\"\",FI180-DK180,\"\")","v":""},{"$f":"IF($GD180<>\"\",FJ180-DL180,\"\")","v":""},{"$f":"IF($GD180<>\"\",FK180-DM180,\"\")","v":""},{"$f":"IF($GD180<>\"\",FL180-DN180,\"\")","v":""},null,{"$f":"IF(Programs!$D$272=\"\",\"\",Programs!$D$272)","v":""},{"$f":"IF(AND(COUNT(D180:BA180)>45,COUNT(BB180:CY180)>45),GC180,\"\")","v":""},"","","","","","","","","","","","","",""]
[null,{"$f":"Programs!B284","v":0},{"$f":"IF(Programs!$C$272=\"\",\"\",Programs!$C$272)","v":""},null,null,null,null,null,null,null,null,null,null,null,null,null,null,null,null,null,null,null,null,null,null,null,null,null,null,null,null,null,null,null,null,null,null,null,null,null,null,null,null,null,null,null,null,null,null,null,null,null,null,null,null,null,null,null,null,null,null,null,null,null,null,null,null,null,null,null,null,null,null,null,null,null,null,null,null,null,null,null,null,null,null,null,null,null,null,null,null,null,null,null,null,null,null,null,null,null,null,null,null,null,0,0,0,0,0,0,0,0,0,0,0,0,0,0,null,null,null,null,null,null,null,null,null,null,null,null,null,null,null,null,null,null,null,null,null,null,null,null,null,null,null,null,null,null,null,null,null,null,null,null,0,0,0,0,0,0,0,0,0,0,0,0,0,0,null,"","","","","","","","","","","","","","",null,{"$f":"IF(Programs!$D$272=\"\",\"\",Programs!$D$272)","v":""},"","","","","","","","","","","","","","",""]
[null,{"$f":"Programs!B285","v":0},{"$f":"IF(Programs!$C$272=\"\",\"\",Programs!$C$272)","v":""},null,null,null,null,null,null,null,null,null,null,null,null,null,null,null,null,null,null,null,null,null,null,null,null,null,null,null,null,null,null,null,null,null,null,null,null,null,null,null,null,null,null,null,null,null,null,null,null,null,null,null,null,null,null,null,null,null,null,null,null,null,null,null,null,null,null,null,null,null,null,null,null,null,null,null,null,null,null,null,null,null,null,null,null,null,null,null,null,null,null,null,null,null,null,null,null,null,null,null,null,null,0,0,0,0,0,0,0,0,0,0,0,0,0,0,null,null,null,null,null,null,null,null,null,null,null,null,null,null,null,null,null,null,null,null,null,null,null,null,null,null,null,null,null,null,null,null,null,null,null,null,0,0,0,0,0,0,0,0,0,0,0,0,0,0,null,"","","","","","","","","","","","","","",null,{"$f":"IF(Programs!$D$272=\"\",\"\",Programs!$D$272)","v":""},"","","","","","","","","","","","","","",""]
[null,{"$f":"Programs!B286","v":0},{"$f":"IF(Programs!$C$272=\"\",\"\",Programs!$C$272)","v":""},null,null,null,null,null,null,null,null,null,null,null,null,null,null,null,null,null,null,null,null,null,null,null,null,null,null,null,null,null,null,null,null,null,null,null,null,null,null,null,null,null,null,null,null,null,null,null,null,null,null,null,null,null,null,null,null,null,null,null,null,null,null,null,null,null,null,null,null,null,null,null,null,null,null,null,null,null,null,null,null,null,null,null,null,null,null,null,null,null,null,null,null,null,null,null,null,null,null,null,null,null,0,0,0,0,0,0,0,0,0,0,0,0,0,0,null,null,null,null,null,null,null,null,null,null,null,null,null,null,null,null,null,null,null,null,null,null,null,null,null,null,null,null,null,null,null,null,null,null,null,null,0,0,0,0,0,0,0,0,0,0,0,0,0,0,null,"","","","","","","","","","","","","","",null,{"$f":"IF(Programs!$D$272=\"\",\"\",Programs!$D$272)","v":""},"","","","","","","","","","","","","","",""]
["Program 16",{"$f":"Programs!B294","v":0},{"$f":"IF(Programs!$C$291=\"\",\"\",Programs!$C$291)","v":""},null,null,null,null,null,null,null,null,null,null,null,null,null,null,null,null,null,null,null,null,null,null,null,null,null,null,null,null,null,null,null,null,null,null,null,null,null,null,null,null,null,null,null,null,null,null,null,null,null,null,null,null,null,null,null,null,null,null,null,null,null,null,null,null,null,null,null,null,null,null,null,null,null,null,null,null,null,null,null,null,null,null,null,null,null,null,null,null,null,null,null,null,null,null,null,null,null,null,null,null,null,0,0,0,0,0,0,0,0,0,0,0,0,0,0,null,null,null,null,null,null,null,null,null,null,null,null,null,null,null,null,null,null,null,null,null,null,null,null,null,null,null,null,null,null,null,null,null,null,null,null,0,0,0,0,0,0,0,0,0,0,0,0,0,0,null,"","","","","","","","","","","","","","",null,{"$f":"IF(Programs!$D$291=\"\",\"\",Programs!$D$291)","v":""},"","","","","","","","","","","","","","",""]
[null,{"$f":"Programs!B295","v":0},{"$f":"IF(Programs!$C$291=\"\",\"\",Programs!$C$291)","v":""},null,null,null,null,null,null,null,null,null,null,null,null,null,null,null,null,null,null,null,null,null,null,null,null,null,null,null,null,null,null,null,null,null,null,null,null,null,null,null,null,null,null,null,null,null,null,null,null,null,null,null,null,null,null,null,null,null,null,null,null,null,null,null,null,null,null,null,null,null,null,null,null,null,null,null,null,null,null,null,null,null,null,null,null,null,null,null,null,null,null,null,null,null,null,null,null,null,null,null,null,null,0,0,0,0,0,0,0,0,0,0,0,0,0,0,null,null,null,null,null,null,null,null,null,null,null,null,null,null,null,null,null,null,null,null,null,null,null,null,null,null,null,null,null,null,null,null,null,null,null,null,0,0,0,0,0,0,0,0,0,0,0,0,0,0,null,"","","","","","","","","","","","","","",null,{"$f":"IF(Programs!$D$291=\"\",\"\",Programs!$D$291)","v":""},"","","","","","","","","","","","","","",""]
[null,{"$f":"Programs!B296","v":0},{"$f":"IF(Programs!$C$291=\"\",\"\",Programs!$C$291)","v":""},null,null,null,null,null,null,null,null,null,null,null,null,null,null,null,null,null,null,null,null,null,null,null,null,null,null,null,null,null,null,null,null,null,null,null,null,null,null,null,null,null,null,null,null,null,null,null,null,null,null,null,null,null,null,null,null,null,null,null,null,null,null,null,null,null,null,null,null,null,null,null,null,null,null,null,null,null,null,null,null,null,null,null,null,null,null,null,null,null,null,null,null,null,null,null,null,null,null,null,null,null,0,0,0,0,0,0,0,0,0,0,0,0,0,0,null,null,null,null,null,null,null,null,null,null,null,null,null,null,null,null,null,null,null,null,null,null,null,null,null,null,null,null,null,null,null,null,null,null,null,null,0,0,0,0,0,0,0,0,0,0,0,0,0,0,null,"","","","","","","","","","","","","","",null,{"$f":"IF(Programs!$D$291=\"\",\"\",Programs!$D$291)","v":""},"","","","","","","","","","","","","","",""]
[null,{"$f":"Programs!B297","v":0},{"$f":"IF(Programs!$C$291=\"\",\"\",Programs!$C$291)","v":""},null,null,null,null,null,null,null,null,null,null,null,null,null,null,null,null,null,null,null,null,null,null,null,null,null,null,null,null,null,null,null,null,null,null,null,null,null,null,null,null,null,null,null,null,null,null,null,null,null,null,null,null,null,null,null,null,null,null,null,null,null,null,null,null,null,null,null,null,null,null,null,null,null,null,null,null,null,null,null,null,null,null,null,null,null,null,null,null,null,null,null,null,null,null,null,null,null,null,null,null,null,0,0,0,0,0,0,0,0,0,0,0,0,0,0,null,null,null,null,null,null,null,null,null,null,null,null,null,null,null,null,null,null,null,null,null,null,null,null,null,null,null,null,null,null,null,null,null,null,null,null,0,0,0,0,0,0,0,0,0,0,0,0,0,0,null,"","","","","","","","","","","","","","",null,{"$f":"IF(Programs!$D$291=\"\",\"\",Programs!$D$291)","v":""},"","","","","","","","","","","","","","",""]
[null,{"$f":"Programs!B298","v":0},{"$f":"IF(Programs!$C$291=\"\",\"\",Programs!$C$291)","v":""},null,null,null,null,null,null,null,null,null,null,null,null,null,null,null,null,null,null,null,null,null,null,null,null,null,null,null,null,null,null,null,null,null,null,null,null,null,null,null,null,null,null,null,null,null,null,null,null,null,null,null,null,null,null,null,null,null,null,null,null,null,null,null,null,null,null,null,null,null,null,null,null,null,null,null,null,null,null,null,null,null,null,null,null,null,null,null,null,null,null,null,null,null,null,null,null,null,null,null,null,null,0,0,0,0,0,0,0,0,0,0,0,0,0,0,null,null,null,null,null,null,null,null,null,null,null,null,null,null,null,null,null,null,null,null,null,null,null,null,null,null,null,null,null,null,null,null,null,null,null,null,0,0,0,0,0,0,0,0,0,0,0,0,0,0,null,"","","","","","","","","","","","","","",null,{"$f":"IF(Programs!$D$291=\"\",\"\",Programs!$D$291)","v":""},"","","","","","","","","","","","","","",""]
[null,{"$f":"Programs!B299","v":0},{"$f":"IF(Programs!$C$291=\"\",\"\",Programs!$C$291)","v":""},null,null,null,null,null,null,null,null,null,null,null,null,null,null,null,null,null,null,null,null,null,null,null,null,null,null,null,null,null,null,null,null,null,null,null,null,null,null,null,null,null,null,null,null,null,null,null,null,null,null,null,null,null,null,null,null,null,null,null,null,null,null,null,null,null,null,null,null,null,null,null,null,null,null,null,null,null,null,null,null,null,null,null,null,null,null,null,null,null,null,null,null,null,null,null,null,null,null,null,null,null,0,0,0,0,0,0,0,0,0,0,0,0,0,0,null,null,null,null,null,null,null,null,null,null,null,null,null,null,null,null,null,null,null,null,null,null,null,null,null,null,null,null,null,null,null,null,null,null,null,null,0,0,0,0,0,0,0,0,0,0,0,0,0,0,null,"","","","","","","","","","","","","","",null,{"$f":"IF(Programs!$D$291=\"\",\"\",Programs!$D$291)","v":""},"","","","","","","","","","","","","","",""]
[null,{"$f":"Programs!B300","v":0},{"$f":"IF(Programs!$C$291=\"\",\"\",Programs!$C$291)","v":""},null,null,null,null,null,null,null,null,null,null,null,null,null,null,null,null,null,null,null,null,null,null,null,null,null,null,null,null,null,null,null,null,null,null,null,null,null,null,null,null,null,null,null,null,null,null,null,null,null,null,null,null,null,null,null,null,null,null,null,null,null,null,null,null,null,null,null,null,null,null,null,null,null,null,null,null,null,null,null,null,null,null,null,null,null,null,null,null,null,null,null,null,null,null,null,null,null,null,null,null,null,0,0,0,0,0,0,0,0,0,0,0,0,0,0,null,null,null,null,null,null,null,null,null,null,null,null,null,null,null,null,null,null,null,null,null,null,null,null,null,null,null,null,null,null,null,null,null,null,null,null,0,0,0,0,0,0,0,0,0,0,0,0,0,0,null,"","","","","","","","","","","","","","",null,{"$f":"IF(Programs!$D$291=\"\",\"\",Programs!$D$291)","v":""},"","","","","","","","","","","","","","",""]
[null,{"$f":"Programs!B301","v":0},{"$f":"IF(Programs!$C$291=\"\",\"\",Programs!$C$291)","v":""},null,null,null,null,null,null,null,null,null,null,null,null,null,null,null,null,null,null,null,null,null,null,null,null,null,null,null,null,null,null,null,null,null,null,null,null,null,null,null,null,null,null,null,null,null,null,null,null,null,null,null,null,null,null,null,null,null,null,null,null,null,null,null,null,null,null,null,null,null,null,null,null,null,null,null,null,null,null,null,null,null,null,null,null,null,null,null,null,null,null,null,null,null,null,null,null,null,null,null,null,null,0,0,0,0,0,0,0,0,0,0,0,0,0,0,null,null,null,null,null,null,null,null,null,null,null,null,null,null,null,null,null,null,null,null,null,null,null,null,null,null,null,null,null,null,null,null,null,null,null,null,0,0,0,0,0,0,0,0,0,0,0,0,0,0,null,"","","","","","","","","","","","","","",null,{"$f":"IF(Programs!$D$291=\"\",\"\",Programs!$D$291)","v":""},"","","","","","","","","","","","","","",""]
[null,{"$f":"Programs!B302","v":0},{"$f":"IF(Programs!$C$291=\"\",\"\",Programs!$C$291)","v":""},null,null,null,null,null,null,null,null,null,null,null,null,null,null,null,null,null,null,null,null,null,null,null,null,null,null,null,null,null,null,null,null,null,null,null,null,null,null,null,null,null,null,null,null,null,null,null,null,null,null,null,null,null,null,null,null,null,null,null,null,null,null,null,null,null,null,null,null,null,null,null,null,null,null,null,null,null,null,null,null,null,null,null,null,null,null,null,null,null,null,null,null,null,null,null,null,null,null,null,null,null,{"$f":"SUM(D192:K192)","v":0},{"$f":"DA192/8","v":0},{"$f":"SUM(L192:Q192)","v":0},{"$f":"DC192/6","v":0},{"$f":"SUM(R192:X192)","v":0},{"$f":"DE192/7","v":0},{"$f":"SUM(Y192:AG192)","v":0},{"$f":"DG192/9","v":0},{"$f":"SUM(AH192:AS192)","v":0},{"$f":"DI192/12","v":0},{"$f":"SUM(AT192:BA192)","v":0},{"$f":"DK192/8","v":0},{"$f":"SUM(DA192,DC192,DE192,DG192,DI192,DK192)","v":0},{"$f":"DM192/50","v":0},null,null,null,null,null,null,null,null,null,null,null,null,null,null,null,null,null,null,null,null,null,null,null,null,null,null,null,null,null,null,null,null,null,null,null,null,{"$f":"SUM(BB192:BI192)","v":0},{"$f":"EY192/8","v":0},{"$f":"SUM(BJ192:BO192)","v":0},{"$f":"FA192/6","v":0},{"$f":"SUM(BP192:BV192)","v":0},{"$f":"FC192/7","v":0},{"$f":"SUM(BW192:CE192)","v":0},{"$f":"FE192/9","v":0},{"$f":"SUM(CF192:CQ192)","v":0},{"$f":"FG192/12","v":0},{"$f":"SUM(CR192:CY192)","v":0},{"$f":"FI192/8","v":0},{"$f":"SUM(EY192,FA192,FC192,FE192,FG192,FI192)","v":0},{"$f":"FK192/50","v":0},null,{"$f":"IF($GD192<>\"\",EY192-DA192,\"\")","v":""},{"$f":"IF($GD192<>\"\",EZ192-DB192,\"\")","v":""},{"$f":"IF($GD192<>\"\",FA192-DC192,\"\")","v":""},{"$f":"IF($GD192<>\"\",FB192-DD192,\"\")","v":""},{"$f":"IF($GD192<>\"\",FC192-DE192,\"\")","v":""},{"$f":"IF($GD192<>\"\",FD192-DF192,\"\")","v":""},{"$f":"IF($GD192<>\"\",FE192-DG192,\"\")","v":""},{"$f":"IF($GD192<>\"\",FF192-DH192,\"\")","v":""},{"$f":"IF($GD192<>\"\",FG192-DI192,\"\")","v":""},{"$f":"IF($GD192<>\"\",FH192-DJ192,\"\")","v":""},{"$f":"IF($GD192<>\"\",FI192-DK192,\"\")","v":""},{"$f":"IF($GD192<>\"\",FJ192-DL192,\"\")","v":""},{"$f":"IF($GD192<>\"\",FK192-DM192,\"\")","v":""},{"$f":"IF($GD192<>\"\",FL192-DN192,\"\")","v":""},null,{"$f":"IF(Programs!$D$291=\"\",\"\",Programs!$D$291)","v":""},{"$f":"IF(AND(COUNT(D192:BA192)>45,COUNT(BB192:CY192)>45),GC192,\"\")","v":""},"","","","","","","","","","","","","",""]
[null,{"$f":"Programs!B303","v":0},{"$f":"IF(Programs!$C$291=\"\",\"\",Programs!$C$291)","v":""},null,null,null,null,null,null,null,null,null,null,null,null,null,null,null,null,null,null,null,null,null,null,null,null,null,null,null,null,null,null,null,null,null,null,null,null,null,null,null,null,null,null,null,null,null,null,null,null,null,null,null,null,null,null,null,null,null,null,null,null,null,null,null,null,null,null,null,null,null,null,null,null,null,null,null,null,null,null,null,null,null,null,null,null,null,null,null,null,null,null,null,null,null,null,null,null,null,null,null,null,null,0,0,0,0,0,0,0,0,0,0,0,0,0,0,null,null,null,null,null,null,null,null,null,null,null,null,null,null,null,null,null,null,null,null,null,null,null,null,null,null,null,null,null,null,null,null,null,null,null,null,0,0,0,0,0,0,0,0,0,0,0,0,0,0,null,"","","","","","","","","","","","","","",null,{"$f":"IF(Programs!$D$291=\"\",\"\",Programs!$D$291)","v":""},"","","","","","","","","","","","","","",""]
[null,{"$f":"Programs!B304","v":0},{"$f":"IF(Programs!$C$291=\"\",\"\",Programs!$C$291)","v":""},null,null,null,null,null,null,null,null,null,null,null,null,null,null,null,null,null,null,null,null,null,null,null,null,null,null,null,null,null,null,null,null,null,null,null,null,null,null,null,null,null,null,null,null,null,null,null,null,null,null,null,null,null,null,null,null,null,null,null,null,null,null,null,null,null,null,null,null,null,null,null,null,null,null,null,null,null,null,null,null,null,null,null,null,null,null,null,null,null,null,null,null,null,null,null,null,null,null,null,null,null,0,0,0,0,0,0,0,0,0,0,0,0,0,0,null,null,null,null,null,null,null,null,null,null,null,null,null,null,null,null,null,null,null,null,null,null,null,null,null,null,null,null,null,null,null,null,null,null,null,null,0,0,0,0,0,0,0,0,0,0,0,0,0,0,null,"","","","","","","","","","","","","","",null,{"$f":"IF(Programs!$D$291=\"\",\"\",Programs!$D$291)","v":""},"","","","","","","","","","","","","","",""]
[null,{"$f":"Programs!B305","v":0},{"$f":"IF(Programs!$C$291=\"\",\"\",Programs!$C$291)","v":""},null,null,null,null,null,null,null,null,null,null,null,null,null,null,null,null,null,null,null,null,null,null,null,null,null,null,null,null,null,null,null,null,null,null,null,null,null,null,null,null,null,null,null,null,null,null,null,null,null,null,null,null,null,null,null,null,null,null,null,null,null,null,null,null,null,null,null,null,null,null,null,null,null,null,null,null,null,null,null,null,null,null,null,null,null,null,null,null,null,null,null,null,null,null,null,null,null,null,null,null,null,0,0,0,0,0,0,0,0,0,0,0,0,0,0,null,null,null,null,null,null,null,null,null,null,null,null,null,null,null,null,null,null,null,null,null,null,null,null,null,null,null,null,null,null,null,null,null,null,null,null,0,0,0,0,0,0,0,0,0,0,0,0,0,0,null,"","","","","","","","","","","","","","",null,{"$f":"IF(Programs!$D$291=\"\",\"\",Programs!$D$291)","v":""},"","","","","","","","","","","","","","",""]
["Program 17",{"$f":"Programs!B313","v":0},{"$f":"IF(Programs!$C$310=\"\",\"\",Programs!$C$310)","v":""},null,null,null,null,null,null,null,null,null,null,null,null,null,null,null,null,null,null,null,null,null,null,null,null,null,null,null,null,null,null,null,null,null,null,null,null,null,null,null,null,null,null,null,null,null,null,null,null,null,null,null,null,null,null,null,null,null,null,null,null,null,null,null,null,null,null,null,null,null,null,null,null,null,null,null,null,null,null,null,null,null,null,null,null,null,null,null,null,null,null,null,null,null,null,null,null,null,null,null,null,null,0,0,0,0,0,0,0,0,0,0,0,0,0,0,null,null,null,null,null,null,null,null,null,null,null,null,null,null,null,null,null,null,null,null,null,null,null,null,null,null,null,null,null,null,null,null,null,null,null,null,0,0,0,0,0,0,0,0,0,0,0,0,0,0,null,"","","","","","","","","","","","","","",null,{"$f":"IF(Programs!$D$310=\"\",\"\",Programs!$D$310)","v":""},"","","","","","","","","","","","","","",""]
[null,{"$f":"Programs!B314","v":0},{"$f":"IF(Programs!$C$310=\"\",\"\",Programs!$C$310)","v":""},null,null,null,null,null,null,null,null,null,null,null,null,null,null,null,null,null,null,null,null,null,null,null,null,null,null,null,null,null,null,null,null,null,null,null,null,null,null,null,null,null,null,null,null,null,null,null,null,null,null,null,null,null,null,null,null,null,null,null,null,null,null,null,null,null,null,null,null,null,null,null,null,null,null,null,null,null,null,null,null,null,null,null,null,null,null,null,null,null,null,null,null,null,null,null,null,null,null,null,null,null,0,0,0,0,0,0,0,0,0,0,0,0,0,0,null,null,null,null,null,null,null,null,null,null,null,null,null,null,null,null,null,null,null,null,null,null,null,null,null,null,null,null,null,null,null,null,null,null,null,null,0,0,0,0,0,0,0,0,0,0,0,0,0,0,null,"","","","","","","","","","","","","","",null,{"$f":"IF(Programs!$D$310=\"\",\"\",Programs!$D$310)","v":""},"",{"$f":"IF(FN197>0,$GD197,\"\")","v":""},{"$f":"IF($GD197=\"\",\"\",IF(FO197>0,$GD197,\"\"))","v":""},{"$f":"IF(FP197>0,$GD197,\"\")","v":""},{"$f":"IF($GD197=\"\",\"\",IF(FQ197>0,$GD197,\"\"))","v":""},{"$f":"IF(FR197>0,$GD197,\"\")","v":""},{"$f":"IF($GD197=\"\",\"\",IF(FS197>0,$GD197,\"\"))","v":""},{"$f":"IF(FT197>0,$GD197,\"\")","v":""},{"$f":"IF($GD197=\"\",\"\",IF(FU197>0,$GD197,\"\"))","v":""},{"$f":"IF(FV197>0,$GD197,\"\")","v":""},{"$f":"IF($GD197=\"\",\"\",IF(FW197>0,$GD197,\"\"))","v":""},{"$f":"IF(FX197>0,$GD197,\"\")","v":""},{"$f":"IF($GD197=\"\",\"\",IF(FY197>0,$GD197,\"\"))","v":""},{"$f":"IF(FZ197>0,$GD197,\"\")","v":""},{"$f":"IF($GD197=\"\",\"\",IF(GA197>0,$GD197,\"\"))","v":""}]
[null,{"$f":"Programs!B315","v":0},{"$f":"IF(Programs!$C$310=\"\",\"\",Programs!$C$310)","v":""},null,null,null,null,null,null,null,null,null,null,null,null,null,null,null,null,null,null,null,null,null,null,null,null,null,null,null,null,null,null,null,null,null,null,null,null,null,null,null,null,null,null,null,null,null,null,null,null,null,null,null,null,null,null,null,null,null,null,null,null,null,null,null,null,null,null,null,null,null,null,null,null,null,null,null,null,null,null,null,null,null,null,null,null,null,null,null,null,null,null,null,null,null,null,null,null,null,null,null,null,null,0,0,0,0,0,0,0,0,0,0,0,0,0,0,null,null,null,null,null,null,null,null,null,null,null,null,null,null,null,null,null,null,null,null,null,null,null,null,null,null,null,null,null,null,null,null,null,null,null,null,0,0,0,0,0,0,0,0,0,0,0,0,0,0,null,{"$f":"IF($GD198<>\"\",EY198-DA198,\"\")","v":""},{"$f":"IF($GD198<>\"\",EZ198-DB198,\"\")","v":""},{"$f":"IF($GD198<>\"\",FA198-DC198,\"\")","v":""},{"$f":"IF($GD198<>\"\",FB198-DD198,\"\")","v":""},{"$f":"IF($GD198<>\"\",FC198-DE198,\"\")","v":""},{"$f":"IF($GD198<>\"\",FD198-DF198,\"\")","v":""},{"$f":"IF($GD198<>\"\",FE198-DG198,\"\")","v":""},{"$f":"IF($GD198<>\"\",FF198-DH198,\"\")","v":""},{"$f":"IF($GD198<>\"\",FG198-DI198,\"\")","v":""},{"$f":"IF($GD198<>\"\",FH198-DJ198,\"\")","v":""},{"$f":"IF($GD198<>\"\",FI198-DK198,\"\")","v":""},{"$f":"IF($GD198<>\"\",FJ198-DL198,\"\")","v":""},{"$f":"IF($GD198<>\"\",FK198-DM198,\"\")","v":""},{"$f":"IF($GD198<>\"\",FL198-DN198,\"\")","v":""},null,{"$f":"IF(Programs!$D$310=\"\",\"\",Programs!$D$310)","v":""},"","","","","","","","","","","","","","",""]
[null,{"$f":"Programs!B316","v":0},{"$f":"IF(Programs!$C$310=\"\",\"\",Programs!$C$310)","v":""},null,null,null,null,null,null,null,null,null,null,null,null,null,null,null,null,null,null,null,null,null,null,null,null,null,null,null,null,null,null,null,null,null,null,null,null,null,null,null,null,null,null,null,null,null,null,null,null,null,null,null,null,null,null,null,null,null,null,null,null,null,null,null,null,null,null,null,null,null,null,null,null,null,null,null,null,null,null,null,null,null,null,null,null,null,null,null,null,null,null,null,null,null,null,null,null,null,null,null,null,null,0,0,0,0,0,0,0,0,0,0,0,0,0,0,null,null,null,null,null,null,null,null,null,null,null,null,null,null,null,null,null,null,null,null,null,null,null,null,null,null,null,null,null,null,null,null,null,null,null,null,0,0,0,0,0,0,0,0,0,0,0,0,0,0,null,"","","","","","","","","","","","","","",null,{"$f":"IF(Programs!$D$310=\"\",\"\",Programs!$D$310)","v":""},"","","","","","","","","","","","","","",""]
[null,{"$f":"Programs!B317","v":0},{"$f":"IF(Programs!$C$310=\"\",\"\",Programs!$C$310)","v":""},null,null,null,null,null,null,null,null,null,null,null,null,null,null,null,null,null,null,null,null,null,null,null,null,null,null,null,null,null,null,null,null,null,null,null,null,null,null,null,null,null,null,null,null,null,null,null,null,null,null,null,null,null,null,null,null,null,null,null,null,null,null,null,null,null,null,null,null,null,null,null,null,null,null,null,null,null,null,null,null,null,null,null,null,null,null,null,null,null,null,null,null,null,null,null,null,null,null,null,null,null,0,0,0,0,0,0,0,0,0,0,0,0,0,0,null,null,null,null,null,null,null,null,null,null,null,null,null,null,null,null,null,null,null,null,null,null,null,null,null,null,null,null,null,null,null,null,null,null,null,null,0,0,0,0,0,0,0,0,0,0,0,0,0,0,null,"","","","","","","","","","","","","","",null,{"$f":"IF(Programs!$D$310=\"\",\"\",Programs!$D$310)","v":""},"","","","","","","","","","","","","","",""]
[null,{"$f":"Programs!B318","v":0},{"$f":"IF(Programs!$C$310=\"\",\"\",Programs!$C$310)","v":""},null,null,null,null,null,null,null,null,null,null,null,null,null,null,null,null,null,null,null,null,null,null,null,null,null,null,null,null,null,null,null,null,null,null,null,null,null,null,null,null,null,null,null,null,null,null,null,null,null,null,null,null,null,null,null,null,null,null,null,null,null,null,null,null,null,null,null,null,null,null,null,null,null,null,null,null,null,null,null,null,null,null,null,null,null,null,null,null,null,null,null,null,null,null,null,null,null,null,null,null,null,0,0,0,0,0,0,0,0,0,0,0,0,0,0,null,null,null,null,null,null,null,null,null,null,null,null,null,null,null,null,null,null,null,null,null,null,null,null,null,null,null,null,null,null,null,null,null,null,null,null,0,0,0,0,0,0,0,0,0,0,0,0,0,0,null,"","","","","","","","","","","","","","",null,{"$f":"IF(Programs!$D$310=\"\",\"\",Programs!$D$310)","v":""},"","","","","","","","","","","","","","",""]
[null,{"$f":"Programs!B319","v":0},{"$f":"IF(Programs!$C$310=\"\",\"\",Programs!$C$310)","v":""},null,null,null,null,null,null,null,null,null,null,null,null,null,null,null,null,null,null,null,null,null,null,null,null,null,null,null,null,null,null,null,null,null,null,null,null,null,null,null,null,null,null,null,null,null,null,null,null,null,null,null,null,null,null,null,null,null,null,null,null,null,null,null,null,null,null,null,null,null,null,null,null,null,null,null,null,null,null,null,null,null,null,null,null,null,null,null,null,null,null,null,null,null,null,null,null,null,null,null,null,null,0,0,0,0,0,0,0,0,0,0,0,0,0,0,null,null,null,null,null,null,null,null,null,null,null,null,null,null,null,null,null,null,null,null,null,null,null,null,null,null,null,null,null,null,null,null,null,null,null,null,0,0,0,0,0,0,0,0,0,0,0,0,0,0,null,"","","","","","","","","","","","","","",null,{"$f":"IF(Programs!$D$310=\"\",\"\",Programs!$D$310)","v":""},"","","","","","","","","","","","","","",""]
[null,{"$f":"Programs!B320","v":0},{"$f":"IF(Programs!$C$310=\"\",\"\",Programs!$C$310)","v":""},null,null,null,null,null,null,null,null,null,null,null,null,null,null,null,null,null,null,null,null,null,null,null,null,null,null,null,null,null,null,null,null,null,null,null,null,null,null,null,null,null,null,null,null,null,null,null,null,null,null,null,null,null,null,null,null,null,null,null,null,null,null,null,null,null,null,null,null,null,null,null,null,null,null,null,null,null,null,null,null,null,null,null,null,null,null,null,null,null,null,null,null,null,null,null,null,null,null,null,null,null,0,0,0,0,0,0,0,0,0,0,0,0,0,0,null,null,null,null,null,null,null,null,null,null,null,null,null,null,null,null,null,null,null,null,null,null,null,null,null,null,null,null,null,null,null,null,null,null,null,null,0,0,0,0,0,0,0,0,0,0,0,0,0,0,null,"","","","","","","","","","","","","","",null,{"$f":"IF(Programs!$D$310=\"\",\"\",Programs!$D$310)","v":""},"","","","","","","","","","","","","","",""]
[null,{"$f":"Programs!B321","v":0},{"$f":"IF(Programs!$C$310=\"\",\"\",Programs!$C$310)","v":""},null,null,null,null,null,null,null,null,null,null,null,null,null,null,null,null,null,null,null,null,null,null,null,null,null,null,null,null,null,null,null,null,null,null,null,null,null,null,null,null,null,null,null,null,null,null,null,null,null,null,null,null,null,null,null,null,null,null,null,null,null,null,null,null,null,null,null,null,null,null,null,null,null,null,null,null,null,null,null,null,null,null,null,null,null,null,null,null,null,null,null,null,null,null,null,null,null,null,null,null,null,{"$f":"SUM(D204:K204)","v":0},{"$f":"DA204/8","v":0},{"$f":"SUM(L204:Q204)","v":0},{"$f":"DC204/6","v":0},{"$f":"SUM(R204:X204)","v":0},{"$f":"DE204/7","v":0},{"$f":"SUM(Y204:AG204)","v":0},{"$f":"DG204/9","v":0},{"$f":"SUM(AH204:AS204)","v":0},{"$f":"DI204/12","v":0},{"$f":"SUM(AT204:BA204)","v":0},{"$f":"DK204/8","v":0},{"$f":"SUM(DA204,DC204,DE204,DG204,DI204,DK204)","v":0},{"$f":"DM204/50","v":0},null,null,null,null,null,null,null,null,null,null,null,null,null,null,null,null,null,null,null,null,null,null,null,null,null,null,null,null,null,null,null,null,null,null,null,null,{"$f":"SUM(BB204:BI204)","v":0},{"$f":"EY204/8","v":0},{"$f":"SUM(BJ204:BO204)","v":0},{"$f":"FA204/6","v":0},{"$f":"SUM(BP204:BV204)","v":0},{"$f":"FC204/7","v":0},{"$f":"SUM(BW204:CE204)","v":0},{"$f":"FE204/9","v":0},{"$f":"SUM(CF204:CQ204)","v":0},{"$f":"FG204/12","v":0},{"$f":"SUM(CR204:CY204)","v":0},{"$f":"FI204/8","v":0},{"$f":"SUM(EY204,FA204,FC204,FE204,FG204,FI204)","v":0},{"$f":"FK204/50","v":0},null,{"$f":"IF($GD204<>\"\",EY204-DA204,\"\")","v":""},{"$f":"IF($GD204<>\"\",EZ204-DB204,\"\")","v":""},{"$f":"IF($GD204<>\"\",FA204-DC204,\"\")","v":""},{"$f":"IF($GD204<>\"\",FB204-DD204,\"\")","v":""},{"$f":"IF($GD204<>\"\",FC204-DE204,\"\")","v":""},{"$f":"IF($GD204<>\"\",FD204-DF204,\"\")","v":""},{"$f":"IF($GD204<>\"\",FE204-DG204,\"\")","v":""},{"$f":"IF($GD204<>\"\",FF204-DH204,\"\")","v":""},{"$f":"IF($GD204<>\"\",FG204-DI204,\"\")","v":""},{"$f":"IF($GD204<>\"\",FH204-DJ204,\"\")","v":""},{"$f":"IF($GD204<>\"\",FI204-DK204,\"\")","v":""},{"$f":"IF($GD204<>\"\",FJ204-DL204,\"\")","v":""},{"$f":"IF($GD204<>\"\",FK204-DM204,\"\")","v":""},{"$f":"IF($GD204<>\"\",FL204-DN204,\"\")","v":""},null,{"$f":"IF(Programs!$D$310=\"\",\"\",Programs!$D$310)","v":""},{"$f":"IF(AND(COUNT(D204:BA204)>45,COUNT(BB204:CY204)>45),GC204,\"\")","v":""},"","","","","","","","","","","","","",""]
[null,{"$f":"Programs!B322","v":0},{"$f":"IF(Programs!$C$310=\"\",\"\",Programs!$C$310)","v":""},null,null,null,null,null,null,null,null,null,null,null,null,null,null,null,null,null,null,null,null,null,null,null,null,null,null,null,null,null,null,null,null,null,null,null,null,null,null,null,null,null,null,null,null,null,null,null,null,null,null,null,null,null,null,null,null,null,null,null,null,null,null,null,null,null,null,null,null,null,null,null,null,null,null,null,null,null,null,null,null,null,null,null,null,null,null,null,null,null,null,null,null,null,null,null,null,null,null,null,null,null,0,0,0,0,0,0,0,0,0,0,0,0,0,0,null,null,null,null,null,null,null,null,null,null,null,null,null,null,null,null,null,null,null,null,null,null,null,null,null,null,null,null,null,null,null,null,null,null,null,null,0,0,0,0,0,0,0,0,0,0,0,0,0,0,null,"","","","","","","","","","","","","","",null,{"$f":"IF(Programs!$D$310=\"\",\"\",Programs!$D$310)","v":""},"","","","","","","","","","","","","","",""]
[null,{"$f":"Programs!B323","v":0},{"$f":"IF(Programs!$C$310=\"\",\"\",Programs!$C$310)","v":""},null,null,null,null,null,null,null,null,null,null,null,null,null,null,null,null,null,null,null,null,null,null,null,null,null,null,null,null,null,null,null,null,null,null,null,null,null,null,null,null,null,null,null,null,null,null,null,null,null,null,null,null,null,null,null,null,null,null,null,null,null,null,null,null,null,null,null,null,null,null,null,null,null,null,null,null,null,null,null,null,null,null,null,null,null,null,null,null,null,null,null,null,null,null,null,null,null,null,null,null,null,0,0,0,0,0,0,0,0,0,0,0,0,0,0,null,null,null,null,null,null,null,null,null,null,null,null,null,null,null,null,null,null,null,null,null,null,null,null,null,null,null,null,null,null,null,null,null,null,null,null,0,0,0,0,0,0,0,0,0,0,0,0,0,0,null,"","","","","","","","","","","","","","",null,{"$f":"IF(Programs!$D$310=\"\",\"\",Programs!$D$310)","v":""},"","","","","","","","","","","","","","",""]
[null,{"$f":"Programs!B324","v":0},{"$f":"IF(Programs!$C$310=\"\",\"\",Programs!$C$310)","v":""},null,null,null,null,null,null,null,null,null,null,null,null,null,null,null,null,null,null,null,null,null,null,null,null,null,null,null,null,null,null,null,null,null,null,null,null,null,null,null,null,null,null,null,null,null,null,null,null,null,null,null,null,null,null,null,null,null,null,null,null,null,null,null,null,null,null,null,null,null,null,null,null,null,null,null,null,null,null,null,null,null,null,null,null,null,null,null,null,null,null,null,null,null,null,null,null,null,null,null,null,null,0,0,0,0,0,0,0,0,0,0,0,0,0,0,null,null,null,null,null,null,null,null,null,null,null,null,null,null,null,null,null,null,null,null,null,null,null,null,null,null,null,null,null,null,null,null,null,null,null,null,0,0,0,0,0,0,0,0,0,0,0,0,0,0,null,"","","","","","","","","","","","","","",null,{"$f":"IF(Programs!$D$310=\"\",\"\",Programs!$D$310)","v":""},"","","","","","","","","","","","","","",""]
["Program 18",{"$f":"Programs!B332","v":0},{"$f":"IF(Programs!$C$329=\"\",\"\",Programs!$C$329)","v":""},null,null,null,null,null,null,null,null,null,null,null,null,null,null,null,null,null,null,null,null,null,null,null,null,null,null,null,null,null,null,null,null,null,null,null,null,null,null,null,null,null,null,null,null,null,null,null,null,null,null,null,null,null,null,null,null,null,null,null,null,null,null,null,null,null,null,null,null,null,null,null,null,null,null,null,null,null,null,null,null,null,null,null,null,null,null,null,null,null,null,null,null,null,null,null,null,null,null,null,null,null,0,0,0,0,0,0,0,0,0,0,0,0,0,0,null,null,null,null,null,null,null,null,null,null,null,null,null,null,null,null,null,null,null,null,null,null,null,null,null,null,null,null,null,null,null,null,null,null,null,null,0,0,0,0,0,0,0,0,0,0,0,0,0,0,null,"","","","","","","","","","","","","","",null,{"$f":"IF(Programs!$D$329=\"\",\"\",Programs!$D$329)","v":""},"","","","","","","","","","","","","","",""]
[null,{"$f":"Programs!B333","v":0},{"$f":"IF(Programs!$C$329=\"\",\"\",Programs!$C$329)","v":""},null,null,null,null,null,null,null,null,null,null,null,null,null,null,null,null,null,null,null,null,null,null,null,null,null,null,null,null,null,null,null,null,null,null,null,null,null,null,null,null,null,null,null,null,null,null,null,null,null,null,null,null,null,null,null,null,null,null,null,null,null,null,null,null,null,null,null,null,null,null,null,null,null,null,null,null,null,null,null,null,null,null,null,null,null,null,null,null,null,null,null,null,null,null,null,null,null,null,null,null,null,0,0,0,0,0,0,0,0,0,0,0,0,0,0,null,null,null,null,null,null,null,null,null,null,null,null,null,null,null,null,null,null,null,null,null,null,null,null,null,null,null,null,null,null,null,null,null,null,null,null,0,0,0,0,0,0,0,0,0,0,0,0,0,0,null,"","","","","","","","","","","","","","",null,{"$f":"IF(Programs!$D$329=\"\",\"\",Programs!$D$329)","v":""},"","","","","","","","","","","","","","",""]
[null,{"$f":"Programs!B334","v":0},{"$f":"IF(Programs!$C$329=\"\",\"\",Programs!$C$329)","v":""},null,null,null,null,null,null,null,null,null,null,null,null,null,null,null,null,null,null,null,null,null,null,null,null,null,null,null,null,null,null,null,null,null,null,null,null,null,null,null,null,null,null,null,null,null,null,null,null,null,null,null,null,null,null,null,null,null,null,null,null,null,null,null,null,null,null,null,null,null,null,null,null,null,null,null,null,null,null,null,null,null,null,null,null,null,null,null,null,null,null,null,null,null,null,null,null,null,null,null,null,null,0,0,0,0,0,0,0,0,0,0,0,0,0,0,null,null,null,null,null,null,null,null,null,null,null,null,null,null,null,null,null,null,null,null,null,null,null,null,null,null,null,null,null,null,null,null,null,null,null,null,0,0,0,0,0,0,0,0,0,0,0,0,0,0,null,"","","","","","","","","","","","","","",null,{"$f":"IF(Programs!$D$329=\"\",\"\",Programs!$D$329)","v":""},"","","","","","","","","","","","","","",""]
[null,{"$f":"Programs!B335","v":0},{"$f":"IF(Programs!$C$329=\"\",\"\",Programs!$C$329)","v":""},null,null,null,null,null,null,null,null,null,null,null,null,null,null,null,null,null,null,null,null,null,null,null,null,null,null,null,null,null,null,null,null,null,null,null,null,null,null,null,null,null,null,null,null,null,null,null,null,null,null,null,null,null,null,null,null,null,null,null,null,null,null,null,null,null,null,null,null,null,null,null,null,null,null,null,null,null,null,null,null,null,null,null,null,null,null,null,null,null,null,null,null,null,null,null,null,null,null,null,null,null,0,0,0,0,0,0,0,0,0,0,0,0,0,0,null,null,null,null,null,null,null,null,null,null,null,null,null,null,null,null,null,null,null,null,null,null,null,null,null,null,null,null,null,null,null,null,null,null,null,null,0,0,0,0,0,0,0,0,0,0,0,0,0,0,null,"","","","","","","","","","","","","","",null,{"$f":"IF(Programs!$D$329=\"\",\"\",Programs!$D$329)","v":""},"","","","","","","","","","","","","","",""]
[null,{"$f":"Programs!B336","v":0},{"$f":"IF(Programs!$C$329=\"\",\"\",Programs!$C$329)","v":""},null,null,null,null,null,null,null,null,null,null,null,null,null,null,null,null,null,null,null,null,null,null,null,null,null,null,null,null,null,null,null,null,null,null,null,null,null,null,null,null,null,null,null,null,null,null,null,null,null,null,null,null,null,null,null,null,null,null,null,null,null,null,null,null,null,null,null,null,null,null,null,null,null,null,null,null,null,null,null,null,null,null,null,null,null,null,null,null,null,null,null,null,null,null,null,null,null,null,null,null,null,0,0,0,0,0,0,0,0,0,0,0,0,0,0,null,null,null,null,null,null,null,null,null,null,null,null,null,null,null,null,null,null,null,null,null,null,null,null,null,null,null,null,null,null,null,null,null,null,null,null,0,0,0,0,0,0,0,0,0,0,0,0,0,0,null,"","","","","","","","","","","","","","",null,{"$f":"IF(Programs!$D$329=\"\",\"\",Programs!$D$329)","v":""},"","","","","","","","","","","","","","",""]
[null,{"$f":"Programs!B337","v":0},{"$f":"IF(Programs!$C$329=\"\",\"\",Programs!$C$329)","v":""},null,null,null,null,null,null,null,null,null,null,null,null,null,null,null,null,null,null,null,null,null,null,null,null,null,null,null,null,null,null,null,null,null,null,null,null,null,null,null,null,null,null,null,null,null,null,null,null,null,null,null,null,null,null,null,null,null,null,null,null,null,null,null,null,null,null,null,null,null,null,null,null,null,null,null,null,null,null,null,null,null,null,null,null,null,null,null,null,null,null,null,null,null,null,null,null,null,null,null,null,null,0,0,0,0,0,0,0,0,0,0,0,0,0,0,null,null,null,null,null,null,null,null,null,null,null,null,null,null,null,null,null,null,null,null,null,null,null,null,null,null,null,null,null,null,null,null,null,null,null,null,0,0,0,0,0,0,0,0,0,0,0,0,0,0,null,"","","","","","","","","","","","","","",null,{"$f":"IF(Programs!$D$329=\"\",\"\",Programs!$D$329)","v":""},"","","","","","","","","","","","","","",""]
[null,{"$f":"Programs!B338","v":0},{"$f":"IF(Programs!$C$329=\"\",\"\",Programs!$C$329)","v":""},null,null,null,null,null,null,null,null,null,null,null,null,null,null,null,null,null,null,null,null,null,null,null,null,null,null,null,null,null,null,null,null,null,null,null,null,null,null,null,null,null,null,null,null,null,null,null,null,null,null,null,null,null,null,null,null,null,null,null,null,null,null,null,null,null,null,null,null,null,null,null,null,null,null,null,null,null,null,null,null,null,null,null,null,null,null,null,null,null,null,null,null,null,null,null,null,null,null,null,null,null,0,0,0,0,0,0,0,0,0,0,0,0,0,0,null,null,null,null,null,null,null,null,null,null,null,null,null,null,null,null,null,null,null,null,null,null,null,null,null,null,null,null,null,null,null,null,null,null,null,null,0,0,0,0,0,0,0,0,0,0,0,0,0,0,null,"","","","","","","","","","","","","","",null,{"$f":"IF(Programs!$D$329=\"\",\"\",Programs!$D$329)","v":""},"","","","","","","","","","","","","","",""]
[null,{"$f":"Programs!B339","v":0},{"$f":"IF(Programs!$C$329=\"\",\"\",Programs!$C$329)","v":""},null,null,null,null,null,null,null,null,null,null,null,null,null,null,null,null,null,null,null,null,null,null,null,null,null,null,null,null,null,null,null,null,null,null,null,null,null,null,null,null,null,null,null,null,null,null,null,null,null,null,null,null,null,null,null,null,null,null,null,null,null,null,null,null,null,null,null,null,null,null,null,null,null,null,null,null,null,null,null,null,null,null,null,null,null,null,null,null,null,null,null,null,null,null,null,null,null,null,null,null,null,0,0,0,0,0,0,0,0,0,0,0,0,0,0,null,null,null,null,null,null,null,null,null,null,null,null,null,null,null,null,null,null,null,null,null,null,null,null,null,null,null,null,null,null,null,null,null,null,null,null,0,0,0,0,0,0,0,0,0,0,0,0,0,0,null,"","","","","","","","","","","","","","",null,{"$f":"IF(Programs!$D$329=\"\",\"\",Programs!$D$329)","v":""},"","","","","","","","","","","","","","",""]
[null,{"$f":"Programs!B340","v":0},{"$f":"IF(Programs!$C$329=\"\",\"\",Programs!$C$329)","v":""},null,null,null,null,null,null,null,null,null,null,null,null,null,null,null,null,null,null,null,null,null,null,null,null,null,null,null,null,null,null,null,null,null,null,null,null,null,null,null,null,null,null,null,null,null,null,null,null,null,null,null,null,null,null,null,null,null,null,null,null,null,null,null,null,null,null,null,null,null,null,null,null,null,null,null,null,null,null,null,null,null,null,null,null,null,null,null,null,null,null,null,null,null,null,null,null,null,null,null,null,null,{"$f":"SUM(D216:K216)","v":0},{"$f":"DA216/8","v":0},{"$f":"SUM(L216:Q216)","v":0},{"$f":"DC216/6","v":0},{"$f":"SUM(R216:X216)","v":0},{"$f":"DE216/7","v":0},{"$f":"SUM(Y216:AG216)","v":0},{"$f":"DG216/9","v":0},{"$f":"SUM(AH216:AS216)","v":0},{"$f":"DI216/12","v":0},{"$f":"SUM(AT216:BA216)","v":0},{"$f":"DK216/8","v":0},{"$f":"SUM(DA216,DC216,DE216,DG216,DI216,DK216)","v":0},{"$f":"DM216/50","v":0},null,null,null,null,null,null,null,null,null,null,null,null,null,null,null,null,null,null,null,null,null,null,null,null,null,null,null,null,null,null,null,null,null,null,null,null,{"$f":"SUM(BB216:BI216)","v":0},{"$f":"EY216/8","v":0},{"$f":"SUM(BJ216:BO216)","v":0},{"$f":"FA216/6","v":0},{"$f":"SUM(BP216:BV216)","v":0},{"$f":"FC216/7","v":0},{"$f":"SUM(BW216:CE216)","v":0},{"$f":"FE216/9","v":0},{"$f":"SUM(CF216:CQ216)","v":0},{"$f":"FG216/12","v":0},{"$f":"SUM(CR216:CY216)","v":0},{"$f":"FI216/8","v":0},{"$f":"SUM(EY216,FA216,FC216,FE216,FG216,FI216)","v":0},{"$f":"FK216/50","v":0},null,{"$f":"IF($GD216<>\"\",EY216-DA216,\"\")","v":""},{"$f":"IF($GD216<>\"\",EZ216-DB216,\"\")","v":""},{"$f":"IF($GD216<>\"\",FA216-DC216,\"\")","v":""},{"$f":"IF($GD216<>\"\",FB216-DD216,\"\")","v":""},{"$f":"IF($GD216<>\"\",FC216-DE216,\"\")","v":""},{"$f":"IF($GD216<>\"\",FD216-DF216,\"\")","v":""},{"$f":"IF($GD216<>\"\",FE216-DG216,\"\")","v":""},{"$f":"IF($GD216<>\"\",FF216-DH216,\"\")","v":""},{"$f":"IF($GD216<>\"\",FG216-DI216,\"\")","v":""},{"$f":"IF($GD216<>\"\",FH216-DJ216,\"\")","v":""},{"$f":"IF($GD216<>\"\",FI216-DK216,\"\")","v":""},{"$f":"IF($GD216<>\"\",FJ216-DL216,\"\")","v":""},{"$f":"IF($GD216<>\"\",FK216-DM216,\"\")","v":""},{"$f":"IF($GD216<>\"\",FL216-DN216,\"\")","v":""},null,{"$f":"IF(Programs!$D$329=\"\",\"\",Programs!$D$329)","v":""},{"$f":"IF(AND(COUNT(D216:BA216)>45,COUNT(BB216:CY216)>45),GC216,\"\")","v":""},"","","","","","","","","","","","","",""]
[null,{"$f":"Programs!B341","v":0},{"$f":"IF(Programs!$C$329=\"\",\"\",Programs!$C$329)","v":""},null,null,null,null,null,null,null,null,null,null,null,null,null,null,null,null,null,null,null,null,null,null,null,null,null,null,null,null,null,null,null,null,null,null,null,null,null,null,null,null,null,null,null,null,null,null,null,null,null,null,null,null,null,null,null,null,null,null,null,null,null,null,null,null,null,null,null,null,null,null,null,null,null,null,null,null,null,null,null,null,null,null,null,null,null,null,null,null,null,null,null,null,null,null,null,null,null,null,null,null,null,0,0,0,0,0,0,0,0,0,0,0,0,0,0,null,null,null,null,null,null,null,null,null,null,null,null,null,null,null,null,null,null,null,null,null,null,null,null,null,null,null,null,null,null,null,null,null,null,null,null,0,0,0,0,0,0,0,0,0,0,0,0,0,0,null,"","","","","","","","","","","","","","",null,{"$f":"IF(Programs!$D$329=\"\",\"\",Programs!$D$329)","v":""},"","","","","","","","","","","","","","",""]
[null,{"$f":"Programs!B342","v":0},{"$f":"IF(Programs!$C$329=\"\",\"\",Programs!$C$329)","v":""},null,null,null,null,null,null,null,null,null,null,null,null,null,null,null,null,null,null,null,null,null,null,null,null,null,null,null,null,null,null,null,null,null,null,null,null,null,null,null,null,null,null,null,null,null,null,null,null,null,null,null,null,null,null,null,null,null,null,null,null,null,null,null,null,null,null,null,null,null,null,null,null,null,null,null,null,null,null,null,null,null,null,null,null,null,null,null,null,null,null,null,null,null,null,null,null,null,null,null,null,null,0,0,0,0,0,0,0,0,0,0,0,0,0,0,null,null,null,null,null,null,null,null,null,null,null,null,null,null,null,null,null,null,null,null,null,null,null,null,null,null,null,null,null,null,null,null,null,null,null,null,0,0,0,0,0,0,0,0,0,0,0,0,0,0,null,"","","","","","","","","","","","","","",null,{"$f":"IF(Programs!$D$329=\"\",\"\",Programs!$D$329)","v":""},"","","","","","","","","","","","","","",""]
[null,{"$f":"Programs!B343","v":0},{"$f":"IF(Programs!$C$329=\"\",\"\",Programs!$C$329)","v":""},null,null,null,null,null,null,null,null,null,null,null,null,null,null,null,null,null,null,null,null,null,null,null,null,null,null,null,null,null,null,null,null,null,null,null,null,null,null,null,null,null,null,null,null,null,null,null,null,null,null,null,null,null,null,null,null,null,null,null,null,null,null,null,null,null,null,null,null,null,null,null,null,null,null,null,null,null,null,null,null,null,null,null,null,null,null,null,null,null,null,null,null,null,null,null,null,null,null,null,null,null,0,0,0,0,0,0,0,0,0,0,0,0,0,0,null,null,null,null,null,null,null,null,null,null,null,null,null,null,null,null,null,null,null,null,null,null,null,null,null,null,null,null,null,null,null,null,null,null,null,null,0,0,0,0,0,0,0,0,0,0,0,0,0,0,null,"","","","","","","","","","","","","","",null,{"$f":"IF(Programs!$D$329=\"\",\"\",Programs!$D$329)","v":""},"","","","","","","","","","","","","","",""]
["Program 19",{"$f":"Programs!B351","v":0},{"$f":"IF(Programs!$C$348=\"\",\"\",Programs!$C$348)","v":""},null,null,null,null,null,null,null,null,null,null,null,null,null,null,null,null,null,null,null,null,null,null,null,null,null,null,null,null,null,null,null,null,null,null,null,null,null,null,null,null,null,null,null,null,null,null,null,null,null,null,null,null,null,null,null,null,null,null,null,null,null,null,null,null,null,null,null,null,null,null,null,null,null,null,null,null,null,null,null,null,null,null,null,null,null,null,null,null,null,null,null,null,null,null,null,null,null,null,null,null,null,0,0,0,0,0,0,0,0,0,0,0,0,0,0,null,null,null,null,null,null,null,null,null,null,null,null,null,null,null,null,null,null,null,null,null,null,null,null,null,null,null,null,null,null,null,null,null,null,null,null,0,0,0,0,0,0,0,0,0,0,0,0,0,0,null,"","","","","","","","","","","","","","",null,{"$f":"IF(Programs!$D$348=\"\",\"\",Programs!$D$348)","v":""},"","","","","","","","","","","","","","",""]
[null,{"$f":"Programs!B352","v":0},{"$f":"IF(Programs!$C$348=\"\",\"\",Programs!$C$348)","v":""},null,null,null,null,null,null,null,null,null,null,null,null,null,null,null,null,null,null,null,null,null,null,null,null,null,null,null,null,null,null,null,null,null,null,null,null,null,null,null,null,null,null,null,null,null,null,null,null,null,null,null,null,null,null,null,null,null,null,null,null,null,null,null,null,null,null,null,null,null,null,null,null,null,null,null,null,null,null,null,null,null,null,null,null,null,null,null,null,null,null,null,null,null,null,null,null,null,null,null,null,null,0,0,0,0,0,0,0,0,0,0,0,0,0,0,null,null,null,null,null,null,null,null,null,null,null,null,null,null,null,null,null,null,null,null,null,null,null,null,null,null,null,null,null,null,null,null,null,null,null,null,0,0,0,0,0,0,0,0,0,0,0,0,0,0,null,"","","","","","","","","","","","","","",null,{"$f":"IF(Programs!$D$348=\"\",\"\",Programs!$D$348)","v":""},"","","","","","","","","","","","","","",""]
[null,{"$f":"Programs!B353","v":0},{"$f":"IF(Programs!$C$348=\"\",\"\",Programs!$C$348)","v":""},null,null,null,null,null,null,null,null,null,null,null,null,null,null,null,null,null,null,null,null,null,null,null,null,null,null,null,null,null,null,null,null,null,null,null,null,null,null,null,null,null,null,null,null,null,null,null,null,null,null,null,null,null,null,null,null,null,null,null,null,null,null,null,null,null,null,null,null,null,null,null,null,null,null,null,null,null,null,null,null,null,null,null,null,null,null,null,null,null,null,null,null,null,null,null,null,null,null,null,null,null,0,0,0,0,0,0,0,0,0,0,0,0,0,0,null,null,null,null,null,null,null,null,null,null,null,null,null,null,null,null,null,null,null,null,null,null,null,null,null,null,null,null,null,null,null,null,null,null,null,null,0,0,0,0,0,0,0,0,0,0,0,0,0,0,null,"","","","","","","","","","","","","","",null,{"$f":"IF(Programs!$D$348=\"\",\"\",Programs!$D$348)","v":""},"","","","","","","","","","","","","","",""]
[null,{"$f":"Programs!B354","v":0},{"$f":"IF(Programs!$C$348=\"\",\"\",Programs!$C$348)","v":""},null,null,null,null,null,null,null,null,null,null,null,null,null,null,null,null,null,null,null,null,null,null,null,null,null,null,null,null,null,null,null,null,null,null,null,null,null,null,null,null,null,null,null,null,null,null,null,null,null,null,null,null,null,null,null,null,null,null,null,null,null,null,null,null,null,null,null,null,null,null,null,null,null,null,null,null,null,null,null,null,null,null,null,null,null,null,null,null,null,null,null,null,null,null,null,null,null,null,null,null,null,0,0,0,0,0,0,0,0,0,0,0,0,0,0,null,null,null,null,null,null,null,null,null,null,null,null,null,null,null,null,null,null,null,null,null,null,null,null,null,null,null,null,null,null,null,null,null,null,null,null,0,0,0,0,0,0,0,0,0,0,0,0,0,0,null,"","","","","","","","","","","","","","",null,{"$f":"IF(Programs!$D$348=\"\",\"\",Programs!$D$348)","v":""},"","","","","","","","","","","","","","",""]
[null,{"$f":"Programs!B355","v":0},{"$f":"IF(Programs!$C$348=\"\",\"\",Programs!$C$348)","v":""},null,null,null,null,null,null,null,null,null,null,null,null,null,null,null,null,null,null,null,null,null,null,null,null,null,null,null,null,null,null,null,null,null,null,null,null,null,null,null,null,null,null,null,null,null,null,null,null,null,null,null,null,null,null,null,null,null,null,null,null,null,null,null,null,null,null,null,null,null,null,null,null,null,null,null,null,null,null,null,null,null,null,null,null,null,null,null,null,null,null,null,null,null,null,null,null,null,null,null,null,null,0,0,0,0,0,0,0,0,0,0,0,0,0,0,null,null,null,null,null,null,null,null,null,null,null,null,null,null,null,null,null,null,null,null,null,null,null,null,null,null,null,null,null,null,null,null,null,null,null,null,0,0,0,0,0,0,0,0,0,0,0,0,0,0,null,"","","","","","","","","","","","","","",null,{"$f":"IF(Programs!$D$348=\"\",\"\",Programs!$D$348)","v":""},"","","","","","","","","","","","","","",""]
[null,{"$f":"Programs!B356","v":0},{"$f":"IF(Programs!$C$348=\"\",\"\",Programs!$C$348)","v":""},null,null,null,null,null,null,null,null,null,null,null,null,null,null,null,null,null,null,null,null,null,null,null,null,null,null,null,null,null,null,null,null,null,null,null,null,null,null,null,null,null,null,null,null,null,null,null,null,null,null,null,null,null,null,null,null,null,null,null,null,null,null,null,null,null,null,null,null,null,null,null,null,null,null,null,null,null,null,null,null,null,null,null,null,null,null,null,null,null,null,null,null,null,null,null,null,null,null,null,null,null,0,0,0,0,0,0,0,0,0,0,0,0,0,0,null,null,null,null,null,null,null,null,null,null,null,null,null,null,null,null,null,null,null,null,null,null,null,null,null,null,null,null,null,null,null,null,null,null,null,null,0,0,0,0,0,0,0,0,0,0,0,0,0,0,null,"","","","","","","","","","","","","","",null,{"$f":"IF(Programs!$D$348=\"\",\"\",Programs!$D$348)","v":""},"","","","","","","","","","","","","","",""]
[null,{"$f":"Programs!B357","v":0},{"$f":"IF(Programs!$C$348=\"\",\"\",Programs!$C$348)","v":""},null,null,null,null,null,null,null,null,null,null,null,null,null,null,null,null,null,null,null,null,null,null,null,null,null,null,null,null,null,null,null,null,null,null,null,null,null,null,null,null,null,null,null,null,null,null,null,null,null,null,null,null,null,null,null,null,null,null,null,null,null,null,null,null,null,null,null,null,null,null,null,null,null,null,null,null,null,null,null,null,null,null,null,null,null,null,null,null,null,null,null,null,null,null,null,null,null,null,null,null,null,0,0,0,0,0,0,0,0,0,0,0,0,0,0,null,null,null,null,null,null,null,null,null,null,null,null,null,null,null,null,null,null,null,null,null,null,null,null,null,null,null,null,null,null,null,null,null,null,null,null,0,0,0,0,0,0,0,0,0,0,0,0,0,0,null,"","","","","","","","","","","","","","",null,{"$f":"IF(Programs!$D$348=\"\",\"\",Programs!$D$348)","v":""},"","","","","","","","","","","","","","",""]
[null,{"$f":"Programs!B358","v":0},{"$f":"IF(Programs!$C$348=\"\",\"\",Programs!$C$348)","v":""},null,null,null,null,null,null,null,null,null,null,null,null,null,null,null,null,null,null,null,null,null,null,null,null,null,null,null,null,null,null,null,null,null,null,null,null,null,null,null,null,null,null,null,null,null,null,null,null,null,null,null,null,null,null,null,null,null,null,null,null,null,null,null,null,null,null,null,null,null,null,null,null,null,null,null,null,null,null,null,null,null,null,null,null,null,null,null,null,null,null,null,null,null,null,null,null,null,null,null,null,null,0,0,0,0,0,0,0,0,0,0,0,0,0,0,null,null,null,null,null,null,null,null,null,null,null,null,null,null,null,null,null,null,null,null,null,null,null,null,null,null,null,null,null,null,null,null,null,null,null,null,0,0,0,0,0,0,0,0,0,0,0,0,0,0,null,"","","","","","","","","","","","","","",null,{"$f":"IF(Programs!$D$348=\"\",\"\",Programs!$D$348)","v":""},"","","","","","","","","","","","","","",""]
[null,{"$f":"Programs!B359","v":0},{"$f":"IF(Programs!$C$348=\"\",\"\",Programs!$C$348)","v":""},null,null,null,null,null,null,null,null,null,null,null,null,null,null,null,null,null,null,null,null,null,null,null,null,null,null,null,null,null,null,null,null,null,null,null,null,null,null,null,null,null,null,null,null,null,null,null,null,null,null,null,null,null,null,null,null,null,null,null,null,null,null,null,null,null,null,null,null,null,null,null,null,null,null,null,null,null,null,null,null,null,null,null,null,null,null,null,null,null,null,null,null,null,null,null,null,null,null,null,null,null,{"$f":"SUM(D228:K228)","v":0},{"$f":"DA228/8","v":0},{"$f":"SUM(L228:Q228)","v":0},{"$f":"DC228/6","v":0},{"$f":"SUM(R228:X228)","v":0},{"$f":"DE228/7","v":0},{"$f":"SUM(Y228:AG228)","v":0},{"$f":"DG228/9","v":0},{"$f":"SUM(AH228:AS228)","v":0},{"$f":"DI228/12","v":0},{"$f":"SUM(AT228:BA228)","v":0},{"$f":"DK228/8","v":0},{"$f":"SUM(DA228,DC228,DE228,DG228,DI228,DK228)","v":0},{"$f":"DM228/50","v":0},null,null,null,null,null,null,null,null,null,null,null,null,null,null,null,null,null,null,null,null,null,null,null,null,null,null,null,null,null,null,null,null,null,null,null,null,{"$f":"SUM(BB228:BI228)","v":0},{"$f":"EY228/8","v":0},{"$f":"SUM(BJ228:BO228)","v":0},{"$f":"FA228/6","v":0},{"$f":"SUM(BP228:BV228)","v":0},{"$f":"FC228/7","v":0},{"$f":"SUM(BW228:CE228)","v":0},{"$f":"FE228/9","v":0},{"$f":"SUM(CF228:CQ228)","v":0},{"$f":"FG228/12","v":0},{"$f":"SUM(CR228:CY228)","v":0},{"$f":"FI228/8","v":0},{"$f":"SUM(EY228,FA228,FC228,FE228,FG228,FI228)","v":0},{"$f":"FK228/50","v":0},null,{"$f":"IF($GD228<>\"\",EY228-DA228,\"\")","v":""},{"$f":"IF($GD228<>\"\",EZ228-DB228,\"\")","v":""},{"$f":"IF($GD228<>\"\",FA228-DC228,\"\")","v":""},{"$f":"IF($GD228<>\"\",FB228-DD228,\"\")","v":""},{"$f":"IF($GD228<>\"\",FC228-DE228,\"\")","v":""},{"$f":"IF($GD228<>\"\",FD228-DF228,\"\")","v":""},{"$f":"IF($GD228<>\"\",FE228-DG228,\"\")","v":""},{"$f":"IF($GD228<>\"\",FF228-DH228,\"\")","v":""},{"$f":"IF($GD228<>\"\",FG228-DI228,\"\")","v":""},{"$f":"IF($GD228<>\"\",FH228-DJ228,\"\")","v":""},{"$f":"IF($GD228<>\"\",FI228-DK228,\"\")","v":""},{"$f":"IF($GD228<>\"\",FJ228-DL228,\"\")","v":""},{"$f":"IF($GD228<>\"\",FK228-DM228,\"\")","v":""},{"$f":"IF($GD228<>\"\",FL228-DN228,\"\")","v":""},null,{"$f":"IF(Programs!$D$348=\"\",\"\",Programs!$D$348)","v":""},{"$f":"IF(AND(COUNT(D228:BA228)>45,COUNT(BB228:CY228)>45),GC228,\"\")","v":""},"","","","","","","","","","","","","",""]
[null,{"$f":"Programs!B360","v":0},{"$f":"IF(Programs!$C$348=\"\",\"\",Programs!$C$348)","v":""},null,null,null,null,null,null,null,null,null,null,null,null,null,null,null,null,null,null,null,null,null,null,null,null,null,null,null,null,null,null,null,null,null,null,null,null,null,null,null,null,null,null,null,null,null,null,null,null,null,null,null,null,null,null,null,null,null,null,null,null,null,null,null,null,null,null,null,null,null,null,null,null,null,null,null,null,null,null,null,null,null,null,null,null,null,null,null,null,null,null,null,null,null,null,null,null,null,null,null,null,null,0,0,0,0,0,0,0,0,0,0,0,0,0,0,null,null,null,null,null,null,null,null,null,null,null,null,null,null,null,null,null,null,null,null,null,null,null,null,null,null,null,null,null,null,null,null,null,null,null,null,0,0,0,0,0,0,0,0,0,0,0,0,0,0,null,"","","","","","","","","","","","","","",null,{"$f":"IF(Programs!$D$348=\"\",\"\",Programs!$D$348)","v":""},"","","","","","","","","","","","","","",""]
[null,{"$f":"Programs!B361","v":0},{"$f":"IF(Programs!$C$348=\"\",\"\",Programs!$C$348)","v":""},null,null,null,null,null,null,null,null,null,null,null,null,null,null,null,null,null,null,null,null,null,null,null,null,null,null,null,null,null,null,null,null,null,null,null,null,null,null,null,null,null,null,null,null,null,null,null,null,null,null,null,null,null,null,null,null,null,null,null,null,null,null,null,null,null,null,null,null,null,null,null,null,null,null,null,null,null,null,null,null,null,null,null,null,null,null,null,null,null,null,null,null,null,null,null,null,null,null,null,null,null,0,0,0,0,0,0,0,0,0,0,0,0,0,0,null,null,null,null,null,null,null,null,null,null,null,null,null,null,null,null,null,null,null,null,null,null,null,null,null,null,null,null,null,null,null,null,null,null,null,null,0,0,0,0,0,0,0,0,0,0,0,0,0,0,null,"","","","","","","","","","","","","","",null,{"$f":"IF(Programs!$D$348=\"\",\"\",Programs!$D$348)","v":""},"","","","","","","","","","","","","","",""]
[null,{"$f":"Programs!B362","v":0},{"$f":"IF(Programs!$C$348=\"\",\"\",Programs!$C$348)","v":""},null,null,null,null,null,null,null,null,null,null,null,null,null,null,null,null,null,null,null,null,null,null,null,null,null,null,null,null,null,null,null,null,null,null,null,null,null,null,null,null,null,null,null,null,null,null,null,null,null,null,null,null,null,null,null,null,null,null,null,null,null,null,null,null,null,null,null,null,null,null,null,null,null,null,null,null,null,null,null,null,null,null,null,null,null,null,null,null,null,null,null,null,null,null,null,null,null,null,null,null,null,0,0,0,0,0,0,0,0,0,0,0,0,0,0,null,null,null,null,null,null,null,null,null,null,null,null,null,null,null,null,null,null,null,null,null,null,null,null,null,null,null,null,null,null,null,null,null,null,null,null,0,0,0,0,0,0,0,0,0,0,0,0,0,0,null,"","","","","","","","","","","","","","",null,{"$f":"IF(Programs!$D$348=\"\",\"\",Programs!$D$348)","v":""},"","","","","","","","","","","","","","",""]
["Program 20",{"$f":"Programs!B370","v":0},{"$f":"IF(Programs!$C$367=\"\",\"\",Programs!$C$367)","v":""},null,null,null,null,null,null,null,null,null,null,null,null,null,null,null,null,null,null,null,null,null,null,null,null,null,null,null,null,null,null,null,null,null,null,null,null,null,null,null,null,null,null,null,null,null,null,null,null,null,null,null,null,null,null,null,null,null,null,null,null,null,null,null,null,null,null,null,null,null,null,null,null,null,null,null,null,null,null,null,null,null,null,null,null,null,null,null,null,null,null,null,null,null,null,null,null,null,null,null,null,null,0,0,0,0,0,0,0,0,0,0,0,0,0,0,null,null,null,null,null,null,null,null,null,null,null,null,null,null,null,null,null,null,null,null,null,null,null,null,null,null,null,null,null,null,null,null,null,null,null,null,0,0,0,0,0,0,0,0,0,0,0,0,0,0,null,"","","","","","","","","","","","","","",null,{"$f":"IF(Programs!$D$367=\"\",\"\",Programs!$D$367)","v":""},"","","","","","","","","","","","","","",""]
[null,{"$f":"Programs!B371","v":0},{"$f":"IF(Programs!$C$367=\"\",\"\",Programs!$C$367)","v":""},null,null,null,null,null,null,null,null,null,null,null,null,null,null,null,null,null,null,null,null,null,null,null,null,null,null,null,null,null,null,null,null,null,null,null,null,null,null,null,null,null,null,null,null,null,null,null,null,null,null,null,null,null,null,null,null,null,null,null,null,null,null,null,null,null,null,null,null,null,null,null,null,null,null,null,null,null,null,null,null,null,null,null,null,null,null,null,null,null,null,null,null,null,null,null,null,null,null,null,null,null,0,0,0,0,0,0,0,0,0,0,0,0,0,0,null,null,null,null,null,null,null,null,null,null,null,null,null,null,null,null,null,null,null,null,null,null,null,null,null,null,null,null,null,null,null,null,null,null,null,null,0,0,0,0,0,0,0,0,0,0,0,0,0,0,null,"","","","","","","","","","","","","","",null,{"$f":"IF(Programs!$D$367=\"\",\"\",Programs!$D$367)","v":""},"","","","","","","","","","","","","","",""]
[null,{"$f":"Programs!B372","v":0},{"$f":"IF(Programs!$C$367=\"\",\"\",Programs!$C$367)","v":""},null,null,null,null,null,null,null,null,null,null,null,null,null,null,null,null,null,null,null,null,null,null,null,null,null,null,null,null,null,null,null,null,null,null,null,null,null,null,null,null,null,null,null,null,null,null,null,null,null,null,null,null,null,null,null,null,null,null,null,null,null,null,null,null,null,null,null,null,null,null,null,null,null,null,null,null,null,null,null,null,null,null,null,null,null,null,null,null,null,null,null,null,null,null,null,null,null,null,null,null,null,0,0,0,0,0,0,0,0,0,0,0,0,0,0,null,null,null,null,null,null,null,null,null,null,null,null,null,null,null,null,null,null,null,null,null,null,null,null,null,null,null,null,null,null,null,null,null,null,null,null,0,0,0,0,0,0,0,0,0,0,0,0,0,0,null,"","","","","","","","","","","","","","",null,{"$f":"IF(Programs!$D$367=\"\",\"\",Programs!$D$367)","v":""},"","","","","","","","","","","","","","",""]
[null,{"$f":"Programs!B373","v":0},{"$f":"IF(Programs!$C$367=\"\",\"\",Programs!$C$367)","v":""},null,null,null,null,null,null,null,null,null,null,null,null,null,null,null,null,null,null,null,null,null,null,null,null,null,null,null,null,null,null,null,null,null,null,null,null,null,null,null,null,null,null,null,null,null,null,null,null,null,null,null,null,null,null,null,null,null,null,null,null,null,null,null,null,null,null,null,null,null,null,null,null,null,null,null,null,null,null,null,null,null,null,null,null,null,null,null,null,null,null,null,null,null,null,null,null,null,null,null,null,null,0,0,0,0,0,0,0,0,0,0,0,0,0,0,null,null,null,null,null,null,null,null,null,null,null,null,null,null,null,null,null,null,null,null,null,null,null,null,null,null,null,null,null,null,null,null,null,null,null,null,0,0,0,0,0,0,0,0,0,0,0,0,0,0,null,"","","","","","","","","","","","","","",null,{"$f":"IF(Programs!$D$367=\"\",\"\",Programs!$D$367)","v":""},{"$f":"IF(AND(COUNT(D235:BA235)>45,COUNT(BB235:CY235)>45),GC235,\"\")","v":""},"","","","","","","","","","","","","",""]
[null,{"$f":"Programs!B374","v":0},{"$f":"IF(Programs!$C$367=\"\",\"\",Programs!$C$367)","v":""},null,null,null,null,null,null,null,null,null,null,null,null,null,null,null,null,null,null,null,null,null,null,null,null,null,null,null,null,null,null,null,null,null,null,null,null,null,null,null,null,null,null,null,null,null,null,null,null,null,null,null,null,null,null,null,null,null,null,null,null,null,null,null,null,null,null,null,null,null,null,null,null,null,null,null,null,null,null,null,null,null,null,null,null,null,null,null,null,null,null,null,null,null,null,null,null,null,null,null,null,null,0,0,0,0,0,0,0,0,0,0,0,0,0,0,null,null,null,null,null,null,null,null,null,null,null,null,null,null,null,null,null,null,null,null,null,null,null,null,null,null,null,null,null,null,null,null,null,null,null,null,0,0,0,0,0,0,0,0,0,0,0,0,0,0,null,"","","","","","","","","","","","","","",null,{"$f":"IF(Programs!$D$367=\"\",\"\",Programs!$D$367)","v":""},"","","","","","","","","","","","","","",""]
[null,{"$f":"Programs!B375","v":0},{"$f":"IF(Programs!$C$367=\"\",\"\",Programs!$C$367)","v":""},null,null,null,null,null,null,null,null,null,null,null,null,null,null,null,null,null,null,null,null,null,null,null,null,null,null,null,null,null,null,null,null,null,null,null,null,null,null,null,null,null,null,null,null,null,null,null,null,null,null,null,null,null,null,null,null,null,null,null,null,null,null,null,null,null,null,null,null,null,null,null,null,null,null,null,null,null,null,null,null,null,null,null,null,null,null,null,null,null,null,null,null,null,null,null,null,null,null,null,null,null,0,0,0,0,0,0,0,0,0,0,0,0,0,0,null,null,null,null,null,null,null,null,null,null,null,null,null,null,null,null,null,null,null,null,null,null,null,null,null,null,null,null,null,null,null,null,null,null,null,null,0,0,0,0,0,0,0,0,0,0,0,0,0,0,null,"","","","","","","","","","","","","","",null,{"$f":"IF(Programs!$D$367=\"\",\"\",Programs!$D$367)","v":""},"","","","","","","","","","","","","","",""]
[null,{"$f":"Programs!B376","v":0},{"$f":"IF(Programs!$C$367=\"\",\"\",Programs!$C$367)","v":""},null,null,null,null,null,null,null,null,null,null,null,null,null,null,null,null,null,null,null,null,null,null,null,null,null,null,null,null,null,null,null,null,null,null,null,null,null,null,null,null,null,null,null,null,null,null,null,null,null,null,null,null,null,null,null,null,null,null,null,null,null,null,null,null,null,null,null,null,null,null,null,null,null,null,null,null,null,null,null,null,null,null,null,null,null,null,null,null,null,null,null,null,null,null,null,null,null,null,null,null,null,0,0,0,0,0,0,0,0,0,0,0,0,0,0,null,null,null,null,null,null,null,null,null,null,null,null,null,null,null,null,null,null,null,null,null,null,null,null,null,null,null,null,null,null,null,null,null,null,null,null,0,0,0,0,0,0,0,0,0,0,0,0,0,0,null,"","","","","","","","","","","","","","",null,{"$f":"IF(Programs!$D$367=\"\",\"\",Programs!$D$367)","v":""},"","","","","","","","","","","","","","",""]
[null,{"$f":"Programs!B377","v":0},{"$f":"IF(Programs!$C$367=\"\",\"\",Programs!$C$367)","v":""},null,null,null,null,null,null,null,null,null,null,null,null,null,null,null,null,null,null,null,null,null,null,null,null,null,null,null,null,null,null,null,null,null,null,null,null,null,null,null,null,null,null,null,null,null,null,null,null,null,null,null,null,null,null,null,null,null,null,null,null,null,null,null,null,null,null,null,null,null,null,null,null,null,null,null,null,null,null,null,null,null,null,null,null,null,null,null,null,null,null,null,null,null,null,null,null,null,null,null,null,null,0,0,0,0,0,0,0,0,0,0,0,0,0,0,null,null,null,null,null,null,null,null,null,null,null,null,null,null,null,null,null,null,null,null,null,null,null,null,null,null,null,null,null,null,null,null,null,null,null,null,0,0,0,0,0,0,0,0,0,0,0,0,0,0,null,"","","","","","","","","","","","","","",null,{"$f":"IF(Programs!$D$367=\"\",\"\",Programs!$D$367)","v":""},"","","","","","","","","","","","","","",""]
[null,{"$f":"Programs!B378","v":0},{"$f":"IF(Programs!$C$367=\"\",\"\",Programs!$C$367)","v":""},null,null,null,null,null,null,null,null,null,null,null,null,null,null,null,null,null,null,null,null,null,null,null,null,null,null,null,null,null,null,null,null,null,null,null,null,null,null,null,null,null,null,null,null,null,null,null,null,null,null,null,null,null,null,null,null,null,null,null,null,null,null,null,null,null,null,null,null,null,null,null,null,null,null,null,null,null,null,null,null,null,null,null,null,null,null,null,null,null,null,null,null,null,null,null,null,null,null,null,null,null,{"$f":"SUM(D240:K240)","v":0},{"$f":"DA240/8","v":0},{"$f":"SUM(L240:Q240)","v":0},{"$f":"DC240/6","v":0},{"$f":"SUM(R240:X240)","v":0},{"$f":"DE240/7","v":0},{"$f":"SUM(Y240:AG240)","v":0},{"$f":"DG240/9","v":0},{"$f":"SUM(AH240:AS240)","v":0},{"$f":"DI240/12","v":0},{"$f":"SUM(AT240:BA240)","v":0},{"$f":"DK240/8","v":0},{"$f":"SUM(DA240,DC240,DE240,DG240,DI240,DK240)","v":0},{"$f":"DM240/50","v":0},null,null,null,null,null,null,null,null,null,null,null,null,null,null,null,null,null,null,null,null,null,null,null,null,null,null,null,null,null,null,null,null,null,null,null,null,{"$f":"SUM(BB240:BI240)","v":0},{"$f":"EY240/8","v":0},{"$f":"SUM(BJ240:BO240)","v":0},{"$f":"FA240/6","v":0},{"$f":"SUM(BP240:BV240)","v":0},{"$f":"FC240/7","v":0},{"$f":"SUM(BW240:CE240)","v":0},{"$f":"FE240/9","v":0},{"$f":"SUM(CF240:CQ240)","v":0},{"$f":"FG240/12","v":0},{"$f":"SUM(CR240:CY240)","v":0},{"$f":"FI240/8","v":0},{"$f":"SUM(EY240,FA240,FC240,FE240,FG240,FI240)","v":0},{"$f":"FK240/50","v":0},null,{"$f":"IF($GD240<>\"\",EY240-DA240,\"\")","v":""},{"$f":"IF($GD240<>\"\",EZ240-DB240,\"\")","v":""},{"$f":"IF($GD240<>\"\",FA240-DC240,\"\")","v":""},{"$f":"IF($GD240<>\"\",FB240-DD240,\"\")","v":""},{"$f":"IF($GD240<>\"\",FC240-DE240,\"\")","v":""},{"$f":"IF($GD240<>\"\",FD240-DF240,\"\")","v":""},{"$f":"IF($GD240<>\"\",FE240-DG240,\"\")","v":""},{"$f":"IF($GD240<>\"\",FF240-DH240,\"\")","v":""},{"$f":"IF($GD240<>\"\",FG240-DI240,\"\")","v":""},{"$f":"IF($GD240<>\"\",FH240-DJ240,\"\")","v":""},{"$f":"IF($GD240<>\"\",FI240-DK240,\"\")","v":""},{"$f":"IF($GD240<>\"\",FJ240-DL240,\"\")","v":""},{"$f":"IF($GD240<>\"\",FK240-DM240,\"\")","v":""},{"$f":"IF($GD240<>\"\",FL240-DN240,\"\")","v":""},null,{"$f":"IF(Programs!$D$367=\"\",\"\",Programs!$D$367)","v":""},{"$f":"IF(AND(COUNT(D240:BA240)>45,COUNT(BB240:CY240)>45),GC240,\"\")","v":""},"","","","","","","","","","","","","",""]
[null,{"$f":"Programs!B379","v":0},{"$f":"IF(Programs!$C$367=\"\",\"\",Programs!$C$367)","v":""},null,null,null,null,null,null,null,null,null,null,null,null,null,null,null,null,null,null,null,null,null,null,null,null,null,null,null,null,null,null,null,null,null,null,null,null,null,null,null,null,null,null,null,null,null,null,null,null,null,null,null,null,null,null,null,null,null,null,null,null,null,null,null,null,null,null,null,null,null,null,null,null,null,null,null,null,null,null,null,null,null,null,null,null,null,null,null,null,null,null,null,null,null,null,null,null,null,null,null,null,null,0,0,0,0,0,0,0,0,0,0,0,0,0,0,null,null,null,null,null,null,null,null,null,null,null,null,null,null,null,null,null,null,null,null,null,null,null,null,null,null,null,null,null,null,null,null,null,null,null,null,0,0,0,0,0,0,0,0,0,0,0,0,0,0,null,"","","","","","","","","","","","","","",null,{"$f":"IF(Programs!$D$367=\"\",\"\",Programs!$D$367)","v":""},"","","","","","","","","","","","","","",""]
[null,{"$f":"Programs!B380","v":0},{"$f":"IF(Programs!$C$367=\"\",\"\",Programs!$C$367)","v":""},null,null,null,null,null,null,null,null,null,null,null,null,null,null,null,null,null,null,null,null,null,null,null,null,null,null,null,null,null,null,null,null,null,null,null,null,null,null,null,null,null,null,null,null,null,null,null,null,null,null,null,null,null,null,null,null,null,null,null,null,null,null,null,null,null,null,null,null,null,null,null,null,null,null,null,null,null,null,null,null,null,null,null,null,null,null,null,null,null,null,null,null,null,null,null,null,null,null,null,null,null,0,0,0,0,0,0,0,0,0,0,0,0,0,0,null,null,null,null,null,null,null,null,null,null,null,null,null,null,null,null,null,null,null,null,null,null,null,null,null,null,null,null,null,null,null,null,null,null,null,null,0,0,0,0,0,0,0,0,0,0,0,0,0,0,null,"","","","","","","","","","","","","","",null,{"$f":"IF(Programs!$D$367=\"\",\"\",Programs!$D$367)","v":""},"","","","","","","","","","","","","","",""]
[null,{"$f":"Programs!B381","v":0},{"$f":"IF(Programs!$C$367=\"\",\"\",Programs!$C$367)","v":""},null,null,null,null,null,null,null,null,null,null,null,null,null,null,null,null,null,null,null,null,null,null,null,null,null,null,null,null,null,null,null,null,null,null,null,null,null,null,null,null,null,null,null,null,null,null,null,null,null,null,null,null,null,null,null,null,null,null,null,null,null,null,null,null,null,null,null,null,null,null,null,null,null,null,null,null,null,null,null,null,null,null,null,null,null,null,null,null,null,null,null,null,null,null,null,null,null,null,null,null,null,0,0,0,0,0,0,0,0,0,0,0,0,0,0,null,null,null,null,null,null,null,null,null,null,null,null,null,null,null,null,null,null,null,null,null,null,null,null,null,null,null,null,null,null,null,null,null,null,null,null,0,0,0,0,0,0,0,0,0,0,0,0,0,0,null,"","","","","","","","","","","","","","",null,{"$f":"IF(Programs!$D$367=\"\",\"\",Programs!$D$367)","v":""},"","","","","","","","","","","","","","",""]

{"sheet":"Observations","index":9,"n_rows":506,"n_cols":17,"rows_kept":506,"cut":false,"hidden":false,"merged":[[1,2,1,4],[2,1,2,4],[3,1,3,4],[0,10,4,17],[5,10,5,17]]}
[null,"Observer Fidelity Ratings",null,null,null,null,"Will be hidden",null,null,null,"Only fidelity observations completed by the 3rd party observer should be entered on this sheet. The total of these fidelity observations should be 20% or more of the number of ART sessions run by the grantee. (This would be equal to or greater than 6 for each 30 session ART curriculm.)"]
[{"$f":"Instructions!$A$1","v":"3 Version  - 11/15/2019"}," ","Total number of observations",null,null,{"$f":"COUNT(H7:H1000)","v":0}]
[null,"Number of observations that meet minimum fidelity",null,null,null,{"$f":"COUNT(I7:I1000)","v":0}]
[null,"Percentage of observations that meet minimum fidelity",null,null,null,{"$f":"IF(F2>0,F3/F2,\"0\")","v":"0"}]
[]
[null,"Date","Observer Name or Initials","Type of Session","SCORE","%","Mos.","QTR","Min Fid Count",null,"Scoring instructions below in rows 7-24, scroll up if needed."]
[1,null,null,null,null,{"$f":"IF(D7=\"SS\",E7/42,IF(D7=\"AC\",E7/42,IF(D7=\"MR\",E7/30,)))","v":0},{"$f":"IF(B7,((YEAR(B7)-YEAR(Instructions!$B$9))*12+MONTH(B7)-MONTH(Instructions!$B$9)+1),\"\")","v":""},{"$f":"IF(F7>0,INT((G7+2)/3),\"\")","v":""},{"$f":"IF(F7>=0.8,INT((G7+2)/3),\"\")","v":""},null,"Scoring for Skillstreaming (SS) fidelity form:"]
[2,null,null,null,null,{"$f":"IF(D8=\"SS\",E8/42,IF(D8=\"AC\",E8/42,IF(D8=\"MR\",E8/30,)))","v":0},{"$f":"IF(B8,((YEAR(B8)-YEAR(Instructions!$B$9))*12+MONTH(B8)-MONTH(Instructions!$B$9)+1),\"\")","v":""},{"$f":"IF(F8>0,INT((G8+2)/3),\"\")","v":""},{"$f":"IF(F8>=0.8,INT((G8+2)/3),\"\")","v":""},null,null,null,null,null,null,"Number","Percent"]
[3,null,null,null,null,0,{"$f":"IF(B9,((YEAR(B9)-YEAR(Instructions!$B$9))*12+MONTH(B9)-MONTH(Instructions!$B$9)+1),\"\")","v":""},"","",null,null,"39-42","Exceeds expected standard",null,null,{"$f":"COUNTIFS($F$7:$F$506,\">.9\",$D$7:$D$506,\"SS\")","v":0},{"$f":"IFERROR(P9/SUM(P$9:P$11),\"-\")","v":"-"}]
[4,null,null,null,null,0,{"$f":"IF(B10,((YEAR(B10)-YEAR(Instructions!$B$9))*12+MONTH(B10)-MONTH(Instructions!$B$9)+1),\"\")","v":""},"","",null,null,"34-38","Meets expected standard",null,null,{"$f":"COUNTIFS($F$7:$F$506,\">=.8\",$F$7:$F$506,\"<=.9\",$D$7:$D$506,\"SS\")","v":0},{"$f":"IFERROR(P10/SUM(P$9:P$11),\"-\")","v":"-"}]
[5,null,null,null,null,0,{"$f":"IF(B11,((YEAR(B11)-YEAR(Instructions!$B$9))*12+MONTH(B11)-MONTH(Instructions!$B$9)+1),\"\")","v":""},"","",null,null,"<=33","Improvement needed",null,null,{"$f":"COUNTIFS($F$7:$F$506,\">.01\",$F$7:$F$506,\"<.8\",$D$7:$D$506,\"SS\")","v":0},{"$f":"IFERROR(P11/SUM(P$9:P$11),\"-\")","v":"-"}]
[6,null,null,null,null,0,{"$f":"IF(B12,((YEAR(B12)-YEAR(Instructions!$B$9))*12+MONTH(B12)-MONTH(Instructions!$B$9)+1),\"\")","v":""},"","",null,null,null,null,null,null,{"$f":"SUM(P9:P11)","v":0}]
[7,null,null,null,null,0,{"$f":"IF(B13,((YEAR(B13)-YEAR(Instructions!$B$9))*12+MONTH(B13)-MONTH(Instructions!$B$9)+1),\"\")","v":""},"","",null,"Scoring for Anger Control (AC) fidelity form:"]
[8,null,null,null,null,0,{"$f":"IF(B14,((YEAR(B14)-YEAR(Instructions!$B$9))*12+MONTH(B14)-MONTH(Instructions!$B$9)+1),\"\")","v":""},{"$f":"IF(F14>0,INT((G14+2)/3),\"\")","v":""},"",null,null,null,null,null,null,"Number","Percent"]
[9,null,null,null,null,0,{"$f":"IF(B15,((YEAR(B15)-YEAR(Instructions!$B$9))*12+MONTH(B15)-MONTH(Instructions!$B$9)+1),\"\")","v":""},"","",null,null,"39-42","Exceeds expected standard",null,null,{"$f":"COUNTIFS($F$7:$F$506,\">.9\",$D$7:$D$506,\"AC\")","v":0},{"$f":"IFERROR(P15/SUM(P$15:P$17),\"-\")","v":"-"}]
[10,null,null,null,null,0,{"$f":"IF(B16,((YEAR(B16)-YEAR(Instructions!$B$9))*12+MONTH(B16)-MONTH(Instructions!$B$9)+1),\"\")","v":""},"","",null,null,"34-38","Meets expected standard",null,null,{"$f":"COUNTIFS($F$7:$F$506,\">=.8\",$F$7:$F$506,\"<=.9\",$D$7:$D$506,\"AC\")","v":0},{"$f":"IFERROR(P16/SUM(P$15:P$17),\"-\")","v":"-"}]
[11,null,null,null,null,0,{"$f":"IF(B17,((YEAR(B17)-YEAR(Instructions!$B$9))*12+MONTH(B17)-MONTH(Instructions!$B$9)+1),\"\")","v":""},"","",null,null,"<=33","Improvement needed",null,null,{"$f":"COUNTIFS($F$7:$F$506,\">.01\",$F$7:$F$506,\"<.8\",$D$7:$D$506,\"AC\")","v":0},"-"]
[12,null,null,null,null,0,{"$f":"IF(B18,((YEAR(B18)-YEAR(Instructions!$B$9))*12+MONTH(B18)-MONTH(Instructions!$B$9)+1),\"\")","v":""},"","",null,null,null,null,null,null,{"$f":"SUM(P15:P17)","v":0}]
[13,null,null,null,null,0,{"$f":"IF(B19,((YEAR(B19)-YEAR(Instructions!$B$9))*12+MONTH(B19)-MONTH(Instructions!$B$9)+1),\"\")","v":""},"","",null,"Scoring for Moral Reasoning (MR) fidelity form:"]
[14,null,null,null,null,0,{"$f":"IF(B20,((YEAR(B20)-YEAR(Instructions!$B$9))*12+MONTH(B20)-MONTH(Instructions!$B$9)+1),\"\")","v":""},"","",null,null,null,null,null,null,"Number","Percent"]
[15,null,null,null,null,0,{"$f":"IF(B21,((YEAR(B21)-YEAR(Instructions!$B$9))*12+MONTH(B21)-MONTH(Instructions!$B$9)+1),\"\")","v":""},"","",null,null,"28-30","Exceeds expected standard",null,null,{"$f":"COUNTIFS($F$7:$F$506,\">.9\",$D$7:$D$506,\"MR\")","v":0},{"$f":"IFERROR(P21/SUM(P$21:P$23),\"-\")","v":"-"}]
[16,null,null,null,null,0,{"$f":"IF(B22,((YEAR(B22)-YEAR(Instructions!$B$9))*12+MONTH(B22)-MONTH(Instructions!$B$9)+1),\"\")","v":""},"","",null,null,"24-27","Meets expected standard",null,null,{"$f":"COUNTIFS($F$7:$F$506,\">=.8\",$F$7:$F$506,\"<=.9\",$D$7:$D$506,\"MR\")","v":0},{"$f":"IFERROR(P22/SUM(P$21:P$23),\"-\")","v":"-"}]
[17,null,null,null,null,0,{"$f":"IF(B23,((YEAR(B23)-YEAR(Instructions!$B$9))*12+MONTH(B23)-MONTH(Instructions!$B$9)+1),\"\")","v":""},"","",null,null,"<=23","Improvement needed",null,null,{"$f":"COUNTIFS($F$7:$F$506,\">.01\",$F$7:$F$506,\"<.8\",$D$7:$D$506,\"MR\")","v":0},"-"]
[18,null,null,null,null,0,{"$f":"IF(B24,((YEAR(B24)-YEAR(Instructions!$B$9))*12+MONTH(B24)-MONTH(Instructions!$B$9)+1),\"\")","v":""},"","",null,null,null,null,null,null,{"$f":"SUM(P21:P23)","v":0}]
[19,null,null,null,null,0,{"$f":"IF(B25,((YEAR(B25)-YEAR(Instructions!$B$9))*12+MONTH(B25)-MONTH(Instructions!$B$9)+1),\"\")","v":""},"","",null,"TOTALS for all three session types:"]
[20,null,null,null,null,0,{"$f":"IF(B26,((YEAR(B26)-YEAR(Instructions!$B$9))*12+MONTH(B26)-MONTH(Instructions!$B$9)+1),\"\")","v":""},"","",null,null,null,null,null,null,"Number","Percent"]
[21,null,null,null,null,0,{"$f":"IF(B27,((YEAR(B27)-YEAR(Instructions!$B$9))*12+MONTH(B27)-MONTH(Instructions!$B$9)+1),\"\")","v":""},"","",null,null,null,"Exceeds expected standard",null,null,{"$f":"SUM(P9,P15,P21)","v":0},{"$f":"IFERROR(P27/SUM(P$27:P$29),\"-\")","v":"-"}]
[22,null,null,null,null,0,{"$f":"IF(B28,((YEAR(B28)-YEAR(Instructions!$B$9))*12+MONTH(B28)-MONTH(Instructions!$B$9)+1),\"\")","v":""},"","",null,null,null,"Meets expected standard",null,null,{"$f":"SUM(P10,P16,P22)","v":0},{"$f":"IFERROR(P28/SUM(P$27:P$29),\"-\")","v":"-"}]
[23,null,null,null,null,0,{"$f":"IF(B29,((YEAR(B29)-YEAR(Instructions!$B$9))*12+MONTH(B29)-MONTH(Instructions!$B$9)+1),\"\")","v":""},"","",null,null,null,"Improvement needed",null,null,0,"-"]
[24,null,null,null,null,0,{"$f":"IF(B30,((YEAR(B30)-YEAR(Instructions!$B$9))*12+MONTH(B30)-MONTH(Instructions!$B$9)+1),\"\")","v":""},"","",null,null,null,null,null,null,{"$f":"SUM(P27:P29)","v":0}]
[25,null,null,null,null,0,{"$f":"IF(B31,((YEAR(B31)-YEAR(Instructions!$B$9))*12+MONTH(B31)-MONTH(Instructions!$B$9)+1),\"\")","v":""},"",""]
[26,null,null,null,null,0,{"$f":"IF(B32,((YEAR(B32)-YEAR(Instructions!$B$9))*12+MONTH(B32)-MONTH(Instructions!$B$9)+1),\"\")","v":""},"",""]
[27,null,null,null,null,0,{"$f":"IF(B33,((YEAR(B33)-YEAR(Instructions!$B$9))*12+MONTH(B33)-MONTH(Instructions!$B$9)+1),\"\")","v":""},"",""]
[28,null,null,null,null,0,{"$f":"IF(B34,((YEAR(B34)-YEAR(Instructions!$B$9))*12+MONTH(B34)-MONTH(Instructions!$B$9)+1),\"\")","v":""},"",""]
[29,null,null,null,null,0,{"$f":"IF(B35,((YEAR(B35)-YEAR(Instructions!$B$9))*12+MONTH(B35)-MONTH(Instructions!$B$9)+1),\"\")","v":""},"",""]
[30,null,null,null,null,0,{"$f":"IF(B36,((YEAR(B36)-YEAR(Instructions!$B$9))*12+MONTH(B36)-MONTH(Instructions!$B$9)+1),\"\")","v":""},"",""]
[31,null,null,null,null,0,{"$f":"IF(B37,((YEAR(B37)-YEAR(Instructions!$B$9))*12+MONTH(B37)-MONTH(Instructions!$B$9)+1),\"\")","v":""},"",""]
[32,null,null,null,null,0,{"$f":"IF(B38,((YEAR(B38)-YEAR(Instructions!$B$9))*12+MONTH(B38)-MONTH(Instructions!$B$9)+1),\"\")","v":""},"",""]
[33,null,null,null,null,0,{"$f":"IF(B39,((YEAR(B39)-YEAR(Instructions!$B$9))*12+MONTH(B39)-MONTH(Instructions!$B$9)+1),\"\")","v":""},"",""]
[34,null,null,null,null,0,{"$f":"IF(B40,((YEAR(B40)-YEAR(Instructions!$B$9))*12+MONTH(B40)-MONTH(Instructions!$B$9)+1),\"\")","v":""},"",""]
[35,null,null,null,null,0,{"$f":"IF(B41,((YEAR(B41)-YEAR(Instructions!$B$9))*12+MONTH(B41)-MONTH(Instructions!$B$9)+1),\"\")","v":""},"",""]
[36,null,null,null,null,0,{"$f":"IF(B42,((YEAR(B42)-YEAR(Instructions!$B$9))*12+MONTH(B42)-MONTH(Instructions!$B$9)+1),\"\")","v":""},"",""]
[37,null,null,null,null,0,{"$f":"IF(B43,((YEAR(B43)-YEAR(Instructions!$B$9))*12+MONTH(B43)-MONTH(Instructions!$B$9)+1),\"\")","v":""},"",""]
[38,null,null,null,null,0,{"$f":"IF(B44,((YEAR(B44)-YEAR(Instructions!$B$9))*12+MONTH(B44)-MONTH(Instructions!$B$9)+1),\"\")","v":""},"",""]
[39,null,null,null,null,0,{"$f":"IF(B45,((YEAR(B45)-YEAR(Instructions!$B$9))*12+MONTH(B45)-MONTH(Instructions!$B$9)+1),\"\")","v":""},"",""]
[40,null,null,null,null,0,{"$f":"IF(B46,((YEAR(B46)-YEAR(Instructions!$B$9))*12+MONTH(B46)-MONTH(Instructions!$B$9)+1),\"\")","v":""},"",""]
[41,null,null,null,null,0,{"$f":"IF(B47,((YEAR(B47)-YEAR(Instructions!$B$9))*12+MONTH(B47)-MONTH(Instructions!$B$9)+1),\"\")","v":""},"",""]
[42,null,null,null,null,0,{"$f":"IF(B48,((YEAR(B48)-YEAR(Instructions!$B$9))*12+MONTH(B48)-MONTH(Instructions!$B$9)+1),\"\")","v":""},"",""]
[43,null,null,null,null,0,{"$f":"IF(B49,((YEAR(B49)-YEAR(Instructions!$B$9))*12+MONTH(B49)-MONTH(Instructions!$B$9)+1),\"\")","v":""},"",""]
[44,null,null,null,null,0,{"$f":"IF(B50,((YEAR(B50)-YEAR(Instructions!$B$9))*12+MONTH(B50)-MONTH(Instructions!$B$9)+1),\"\")","v":""},"",""]
[45,null,null,null,null,0,{"$f":"IF(B51,((YEAR(B51)-YEAR(Instructions!$B$9))*12+MONTH(B51)-MONTH(Instructions!$B$9)+1),\"\")","v":""},"",""]
[46,null,null,null,null,0,{"$f":"IF(B52,((YEAR(B52)-YEAR(Instructions!$B$9))*12+MONTH(B52)-MONTH(Instructions!$B$9)+1),\"\")","v":""},"",""]
[47,null,null,null,null,0,{"$f":"IF(B53,((YEAR(B53)-YEAR(Instructions!$B$9))*12+MONTH(B53)-MONTH(Instructions!$B$9)+1),\"\")","v":""},"",""]
[48,null,null,null,null,0,{"$f":"IF(B54,((YEAR(B54)-YEAR(Instructions!$B$9))*12+MONTH(B54)-MONTH(Instructions!$B$9)+1),\"\")","v":""},"",""]
[49,null,null,null,null,0,{"$f":"IF(B55,((YEAR(B55)-YEAR(Instructions!$B$9))*12+MONTH(B55)-MONTH(Instructions!$B$9)+1),\"\")","v":""},"",""]
[50,null,null,null,null,0,{"$f":"IF(B56,((YEAR(B56)-YEAR(Instructions!$B$9))*12+MONTH(B56)-MONTH(Instructions!$B$9)+1),\"\")","v":""},"",""]
[51,null,null,null,null,0,{"$f":"IF(B57,((YEAR(B57)-YEAR(Instructions!$B$9))*12+MONTH(B57)-MONTH(Instructions!$B$9)+1),\"\")","v":""},"",""]
[52,null,null,null,null,0,{"$f":"IF(B58,((YEAR(B58)-YEAR(Instructions!$B$9))*12+MONTH(B58)-MONTH(Instructions!$B$9)+1),\"\")","v":""},"",""]
[53,null,null,null,null,0,{"$f":"IF(B59,((YEAR(B59)-YEAR(Instructions!$B$9))*12+MONTH(B59)-MONTH(Instructions!$B$9)+1),\"\")","v":""},"",""]
[54,null,null,null,null,0,{"$f":"IF(B60,((YEAR(B60)-YEAR(Instructions!$B$9))*12+MONTH(B60)-MONTH(Instructions!$B$9)+1),\"\")","v":""},"",""]
[55,null,null,null,null,0,{"$f":"IF(B61,((YEAR(B61)-YEAR(Instructions!$B$9))*12+MONTH(B61)-MONTH(Instructions!$B$9)+1),\"\")","v":""},"",""]
[56,null,null,null,null,0,{"$f":"IF(B62,((YEAR(B62)-YEAR(Instructions!$B$9))*12+MONTH(B62)-MONTH(Instructions!$B$9)+1),\"\")","v":""},"",""]
[57,null,null,null,null,0,{"$f":"IF(B63,((YEAR(B63)-YEAR(Instructions!$B$9))*12+MONTH(B63)-MONTH(Instructions!$B$9)+1),\"\")","v":""},"",""]
[58,null,null,null,null,0,{"$f":"IF(B64,((YEAR(B64)-YEAR(Instructions!$B$9))*12+MONTH(B64)-MONTH(Instructions!$B$9)+1),\"\")","v":""},"",""]
[59,null,null,null,null,0,{"$f":"IF(B65,((YEAR(B65)-YEAR(Instructions!$B$9))*12+MONTH(B65)-MONTH(Instructions!$B$9)+1),\"\")","v":""},"",""]
[60,null,null,null,null,0,{"$f":"IF(B66,((YEAR(B66)-YEAR(Instructions!$B$9))*12+MONTH(B66)-MONTH(Instructions!$B$9)+1),\"\")","v":""},"",""]
[61,null,null,null,null,0,{"$f":"IF(B67,((YEAR(B67)-YEAR(Instructions!$B$9))*12+MONTH(B67)-MONTH(Instructions!$B$9)+1),\"\")","v":""},"",""]
[62,null,null,null,null,0,{"$f":"IF(B68,((YEAR(B68)-YEAR(Instructions!$B$9))*12+MONTH(B68)-MONTH(Instructions!$B$9)+1),\"\")","v":""},"",""]
[63,null,null,null,null,0,{"$f":"IF(B69,((YEAR(B69)-YEAR(Instructions!$B$9))*12+MONTH(B69)-MONTH(Instructions!$B$9)+1),\"\")","v":""},"",""]
[64,null,null,null,null,0,{"$f":"IF(B70,((YEAR(B70)-YEAR(Instructions!$B$9))*12+MONTH(B70)-MONTH(Instructions!$B$9)+1),\"\")","v":""},"",""]
[65,null,null,null,null,0,{"$f":"IF(B71,((YEAR(B71)-YEAR(Instructions!$B$9))*12+MONTH(B71)-MONTH(Instructions!$B$9)+1),\"\")","v":""},"",""]
[66,null,null,null,null,{"$f":"IF(D72=\"SS\",E72/42,IF(D72=\"AC\",E72/42,IF(D72=\"MR\",E72/30,)))","v":0},{"$f":"IF(B72,((YEAR(B72)-YEAR(Instructions!$B$9))*12+MONTH(B72)-MONTH(Instructions!$B$9)+1),\"\")","v":""},{"$f":"IF(F72>0,INT((G72+2)/3),\"\")","v":""},{"$f":"IF(F72>=0.8,INT((G72+2)/3),\"\")","v":""}]
[67,null,null,null,null,0,{"$f":"IF(B73,((YEAR(B73)-YEAR(Instructions!$B$9))*12+MONTH(B73)-MONTH(Instructions!$B$9)+1),\"\")","v":""},"",""]
[68,null,null,null,null,0,{"$f":"IF(B74,((YEAR(B74)-YEAR(Instructions!$B$9))*12+MONTH(B74)-MONTH(Instructions!$B$9)+1),\"\")","v":""},"",""]
[69,null,null,null,null,0,{"$f":"IF(B75,((YEAR(B75)-YEAR(Instructions!$B$9))*12+MONTH(B75)-MONTH(Instructions!$B$9)+1),\"\")","v":""},"",""]
[70,null,null,null,null,0,{"$f":"IF(B76,((YEAR(B76)-YEAR(Instructions!$B$9))*12+MONTH(B76)-MONTH(Instructions!$B$9)+1),\"\")","v":""},"",""]
[71,null,null,null,null,0,{"$f":"IF(B77,((YEAR(B77)-YEAR(Instructions!$B$9))*12+MONTH(B77)-MONTH(Instructions!$B$9)+1),\"\")","v":""},"",""]
[72,null,null,null,null,0,{"$f":"IF(B78,((YEAR(B78)-YEAR(Instructions!$B$9))*12+MONTH(B78)-MONTH(Instructions!$B$9)+1),\"\")","v":""},"",""]
[73,null,null,null,null,0,{"$f":"IF(B79,((YEAR(B79)-YEAR(Instructions!$B$9))*12+MONTH(B79)-MONTH(Instructions!$B$9)+1),\"\")","v":""},"",""]
[74,null,null,null,null,0,{"$f":"IF(B80,((YEAR(B80)-YEAR(Instructions!$B$9))*12+MONTH(B80)-MONTH(Instructions!$B$9)+1),\"\")","v":""},"",""]
[75,null,null,null,null,0,{"$f":"IF(B81,((YEAR(B81)-YEAR(Instructions!$B$9))*12+MONTH(B81)-MONTH(Instructions!$B$9)+1),\"\")","v":""},"",""]
[76,null,null,null,null,0,{"$f":"IF(B82,((YEAR(B82)-YEAR(Instructions!$B$9))*12+MONTH(B82)-MONTH(Instructions!$B$9)+1),\"\")","v":""},"",""]
[77,null,null,null,null,0,{"$f":"IF(B83,((YEAR(B83)-YEAR(Instructions!$B$9))*12+MONTH(B83)-MONTH(Instructions!$B$9)+1),\"\")","v":""},"",""]
[78,null,null,null,null,0,{"$f":"IF(B84,((YEAR(B84)-YEAR(Instructions!$B$9))*12+MONTH(B84)-MONTH(Instructions!$B$9)+1),\"\")","v":""},"",""]
[79,null,null,null,null,0,{"$f":"IF(B85,((YEAR(B85)-YEAR(Instructions!$B$9))*12+MONTH(B85)-MONTH(Instructions!$B$9)+1),\"\")","v":""},"",""]
[80,null,null,null,null,0,{"$f":"IF(B86,((YEAR(B86)-YEAR(Instructions!$B$9))*12+MONTH(B86)-MONTH(Instructions!$B$9)+1),\"\")","v":""},"",""]
[81,null,null,null,null,0,{"$f":"IF(B87,((YEAR(B87)-YEAR(Instructions!$B$9))*12+MONTH(B87)-MONTH(Instructions!$B$9)+1),\"\")","v":""},"",""]
[82,null,null,null,null,0,{"$f":"IF(B88,((YEAR(B88)-YEAR(Instructions!$B$9))*12+MONTH(B88)-MONTH(Instructions!$B$9)+1),\"\")","v":""},"",""]
[83,null,null,null,null,0,{"$f":"IF(B89,((YEAR(B89)-YEAR(Instructions!$B$9))*12+MONTH(B89)-MONTH(Instructions!$B$9)+1),\"\")","v":""},"",""]
[84,null,null,null,null,0,{"$f":"IF(B90,((YEAR(B90)-YEAR(Instructions!$B$9))*12+MONTH(B90)-MONTH(Instructions!$B$9)+1),\"\")","v":""},"",""]
[85,null,null,null,null,0,{"$f":"IF(B91,((YEAR(B91)-YEAR(Instructions!$B$9))*12+MONTH(B91)-MONTH(Instructions!$B$9)+1),\"\")","v":""},"",""]
[86,null,null,null,null,0,{"$f":"IF(B92,((YEAR(B92)-YEAR(Instructions!$B$9))*12+MONTH(B92)-MONTH(Instructions!$B$9)+1),\"\")","v":""},"",""]
[87,null,null,null,null,0,{"$f":"IF(B93,((YEAR(B93)-YEAR(Instructions!$B$9))*12+MONTH(B93)-MONTH(Instructions!$B$9)+1),\"\")","v":""},"",""]
[88,null,null,null,null,0,{"$f":"IF(B94,((YEAR(B94)-YEAR(Instructions!$B$9))*12+MONTH(B94)-MONTH(Instructions!$B$9)+1),\"\")","v":""},"",""]
[89,null,null,null,null,0,{"$f":"IF(B95,((YEAR(B95)-YEAR(Instructions!$B$9))*12+MONTH(B95)-MONTH(Instructions!$B$9)+1),\"\")","v":""},"",""]
[90,null,null,null,null,0,{"$f":"IF(B96,((YEAR(B96)-YEAR(Instructions!$B$9))*12+MONTH(B96)-MONTH(Instructions!$B$9)+1),\"\")","v":""},"",""]
[91,null,null,null,null,0,{"$f":"IF(B97,((YEAR(B97)-YEAR(Instructions!$B$9))*12+MONTH(B97)-MONTH(Instructions!$B$9)+1),\"\")","v":""},"",""]
[92,null,null,null,null,0,{"$f":"IF(B98,((YEAR(B98)-YEAR(Instructions!$B$9))*12+MONTH(B98)-MONTH(Instructions!$B$9)+1),\"\")","v":""},"",""]
[93,null,null,null,null,0,{"$f":"IF(B99,((YEAR(B99)-YEAR(Instructions!$B$9))*12+MONTH(B99)-MONTH(Instructions!$B$9)+1),\"\")","v":""},"",""]
[94,null,null,null,null,0,{"$f":"IF(B100,((YEAR(B100)-YEAR(Instructions!$B$9))*12+MONTH(B100)-MONTH(Instructions!$B$9)+1),\"\")","v":""},"",""]
[95,null,null,null,null,0,{"$f":"IF(B101,((YEAR(B101)-YEAR(Instructions!$B$9))*12+MONTH(B101)-MONTH(Instructions!$B$9)+1),\"\")","v":""},"",""]
[96,null,null,null,null,0,{"$f":"IF(B102,((YEAR(B102)-YEAR(Instructions!$B$9))*12+MONTH(B102)-MONTH(Instructions!$B$9)+1),\"\")","v":""},"",""]
[97,null,null,null,null,0,{"$f":"IF(B103,((YEAR(B103)-YEAR(Instructions!$B$9))*12+MONTH(B103)-MONTH(Instructions!$B$9)+1),\"\")","v":""},"",""]
[98,null,null,null,null,0,{"$f":"IF(B104,((YEAR(B104)-YEAR(Instructions!$B$9))*12+MONTH(B104)-MONTH(Instructions!$B$9)+1),\"\")","v":""},"",""]
[99,null,null,null,null,0,{"$f":"IF(B105,((YEAR(B105)-YEAR(Instructions!$B$9))*12+MONTH(B105)-MONTH(Instructions!$B$9)+1),\"\")","v":""},"",""]
[100,null,null,null,null,0,{"$f":"IF(B106,((YEAR(B106)-YEAR(Instructions!$B$9))*12+MONTH(B106)-MONTH(Instructions!$B$9)+1),\"\")","v":""},"",""]
[101,null,null,null,null,0,{"$f":"IF(B107,((YEAR(B107)-YEAR(Instructions!$B$9))*12+MONTH(B107)-MONTH(Instructions!$B$9)+1),\"\")","v":""},"",""]
[102,null,null,null,null,0,{"$f":"IF(B108,((YEAR(B108)-YEAR(Instructions!$B$9))*12+MONTH(B108)-MONTH(Instructions!$B$9)+1),\"\")","v":""},"",""]
[103,null,null,null,null,0,{"$f":"IF(B109,((YEAR(B109)-YEAR(Instructions!$B$9))*12+MONTH(B109)-MONTH(Instructions!$B$9)+1),\"\")","v":""},"",""]
[104,null,null,null,null,0,{"$f":"IF(B110,((YEAR(B110)-YEAR(Instructions!$B$9))*12+MONTH(B110)-MONTH(Instructions!$B$9)+1),\"\")","v":""},"",""]
[105,null,null,null,null,0,{"$f":"IF(B111,((YEAR(B111)-YEAR(Instructions!$B$9))*12+MONTH(B111)-MONTH(Instructions!$B$9)+1),\"\")","v":""},"",""]
[106,null,null,null,null,0,{"$f":"IF(B112,((YEAR(B112)-YEAR(Instructions!$B$9))*12+MONTH(B112)-MONTH(Instructions!$B$9)+1),\"\")","v":""},"",""]
[107,null,null,null,null,0,{"$f":"IF(B113,((YEAR(B113)-YEAR(Instructions!$B$9))*12+MONTH(B113)-MONTH(Instructions!$B$9)+1),\"\")","v":""},"",""]
[108,null,null,null,null,0,{"$f":"IF(B114,((YEAR(B114)-YEAR(Instructions!$B$9))*12+MONTH(B114)-MONTH(Instructions!$B$9)+1),\"\")","v":""},"",""]
[109,null,null,null,null,0,{"$f":"IF(B115,((YEAR(B115)-YEAR(Instructions!$B$9))*12+MONTH(B115)-MONTH(Instructions!$B$9)+1),\"\")","v":""},"",""]
[110,null,null,null,null,0,{"$f":"IF(B116,((YEAR(B116)-YEAR(Instructions!$B$9))*12+MONTH(B116)-MONTH(Instructions!$B$9)+1),\"\")","v":""},"",""]
[111,null,null,null,null,0,{"$f":"IF(B117,((YEAR(B117)-YEAR(Instructions!$B$9))*12+MONTH(B117)-MONTH(Instructions!$B$9)+1),\"\")","v":""},"",""]
[112,null,null,null,null,0,{"$f":"IF(B118,((YEAR(B118)-YEAR(Instructions!$B$9))*12+MONTH(B118)-MONTH(Instructions!$B$9)+1),\"\")","v":""},"",""]
[113,null,null,null,null,0,{"$f":"IF(B119,((YEAR(B119)-YEAR(Instructions!$B$9))*12+MONTH(B119)-MONTH(Instructions!$B$9)+1),\"\")","v":""},"",""]
[114,null,null,null,null,0,{"$f":"IF(B120,((YEAR(B120)-YEAR(Instructions!$B$9))*12+MONTH(B120)-MONTH(Instructions!$B$9)+1),\"\")","v":""},"",""]
[115,null,null,null,null,0,{"$f":"IF(B121,((YEAR(B121)-YEAR(Instructions!$B$9))*12+MONTH(B121)-MONTH(Instructions!$B$9)+1),\"\")","v":""},"",""]
[116,null,null,null,null,0,{"$f":"IF(B122,((YEAR(B122)-YEAR(Instructions!$B$9))*12+MONTH(B122)-MONTH(Instructions!$B$9)+1),\"\")","v":""},"",""]
[117,null,null,null,null,0,{"$f":"IF(B123,((YEAR(B123)-YEAR(Instructions!$B$9))*12+MONTH(B123)-MONTH(Instructions!$B$9)+1),\"\")","v":""},"",""]
[118,null,null,null,null,0,{"$f":"IF(B124,((YEAR(B124)-YEAR(Instructions!$B$9))*12+MONTH(B124)-MONTH(Instructions!$B$9)+1),\"\")","v":""},"",""]
[119,null,null,null,null,0,{"$f":"IF(B125,((YEAR(B125)-YEAR(Instructions!$B$9))*12+MONTH(B125)-MONTH(Instructions!$B$9)+1),\"\")","v":""},"",""]
[120,null,null,null,null,0,{"$f":"IF(B126,((YEAR(B126)-YEAR(Instructions!$B$9))*12+MONTH(B126)-MONTH(Instructions!$B$9)+1),\"\")","v":""},"",""]
[121,null,null,null,null,0,{"$f":"IF(B127,((YEAR(B127)-YEAR(Instructions!$B$9))*12+MONTH(B127)-MONTH(Instructions!$B$9)+1),\"\")","v":""},"",""]
[122,null,null,null,null,0,{"$f":"IF(B128,((YEAR(B128)-YEAR(Instructions!$B$9))*12+MONTH(B128)-MONTH(Instructions!$B$9)+1),\"\")","v":""},"",""]
[123,null,null,null,null,0,{"$f":"IF(B129,((YEAR(B129)-YEAR(Instructions!$B$9))*12+MONTH(B129)-MONTH(Instructions!$B$9)+1),\"\")","v":""},"",""]
[124,null,null,null,null,0,{"$f":"IF(B130,((YEAR(B130)-YEAR(Instructions!$B$9))*12+MONTH(B130)-MONTH(Instructions!$B$9)+1),\"\")","v":""},"",""]
[125,null,null,null,null,0,{"$f":"IF(B131,((YEAR(B131)-YEAR(Instructions!$B$9))*12+MONTH(B131)-MONTH(Instructions!$B$9)+1),\"\")","v":""},"",""]
[126,null,null,null,null,0,{"$f":"IF(B132,((YEAR(B132)-YEAR(Instructions!$B$9))*12+MONTH(B132)-MONTH(Instructions!$B$9)+1),\"\")","v":""},"",""]
[127,null,null,null,null,0,{"$f":"IF(B133,((YEAR(B133)-YEAR(Instructions!$B$9))*12+MONTH(B133)-MONTH(Instructions!$B$9)+1),\"\")","v":""},"",""]
[128,null,null,null,null,0,{"$f":"IF(B134,((YEAR(B134)-YEAR(Instructions!$B$9))*12+MONTH(B134)-MONTH(Instructions!$B$9)+1),\"\")","v":""},"",""]
[129,null,null,null,null,0,{"$f":"IF(B135,((YEAR(B135)-YEAR(Instructions!$B$9))*12+MONTH(B135)-MONTH(Instructions!$B$9)+1),\"\")","v":""},"",""]
[130,null,null,null,null,{"$f":"IF(D136=\"SS\",E136/42,IF(D136=\"AC\",E136/42,IF(D136=\"MR\",E136/30,)))","v":0},{"$f":"IF(B136,((YEAR(B136)-YEAR(Instructions!$B$9))*12+MONTH(B136)-MONTH(Instructions!$B$9)+1),\"\")","v":""},{"$f":"IF(F136>0,INT((G136+2)/3),\"\")","v":""},{"$f":"IF(F136>=0.8,INT((G136+2)/3),\"\")","v":""}]
[131,null,null,null,null,0,{"$f":"IF(B137,((YEAR(B137)-YEAR(Instructions!$B$9))*12+MONTH(B137)-MONTH(Instructions!$B$9)+1),\"\")","v":""},"",""]
[132,null,null,null,null,0,{"$f":"IF(B138,((YEAR(B138)-YEAR(Instructions!$B$9))*12+MONTH(B138)-MONTH(Instructions!$B$9)+1),\"\")","v":""},"",""]
[133,null,null,null,null,0,{"$f":"IF(B139,((YEAR(B139)-YEAR(Instructions!$B$9))*12+MONTH(B139)-MONTH(Instructions!$B$9)+1),\"\")","v":""},"",""]
[134,null,null,null,null,0,{"$f":"IF(B140,((YEAR(B140)-YEAR(Instructions!$B$9))*12+MONTH(B140)-MONTH(Instructions!$B$9)+1),\"\")","v":""},"",""]
[135,null,null,null,null,0,{"$f":"IF(B141,((YEAR(B141)-YEAR(Instructions!$B$9))*12+MONTH(B141)-MONTH(Instructions!$B$9)+1),\"\")","v":""},"",""]
[136,null,null,null,null,0,{"$f":"IF(B142,((YEAR(B142)-YEAR(Instructions!$B$9))*12+MONTH(B142)-MONTH(Instructions!$B$9)+1),\"\")","v":""},"",""]
[137,null,null,null,null,0,{"$f":"IF(B143,((YEAR(B143)-YEAR(Instructions!$B$9))*12+MONTH(B143)-MONTH(Instructions!$B$9)+1),\"\")","v":""},"",""]
[138,null,null,null,null,0,{"$f":"IF(B144,((YEAR(B144)-YEAR(Instructions!$B$9))*12+MONTH(B144)-MONTH(Instructions!$B$9)+1),\"\")","v":""},"",""]
[139,null,null,null,null,0,{"$f":"IF(B145,((YEAR(B145)-YEAR(Instructions!$B$9))*12+MONTH(B145)-MONTH(Instructions!$B$9)+1),\"\")","v":""},"",""]
[140,null,null,null,null,0,{"$f":"IF(B146,((YEAR(B146)-YEAR(Instructions!$B$9))*12+MONTH(B146)-MONTH(Instructions!$B$9)+1),\"\")","v":""},"",""]
[141,null,null,null,null,0,{"$f":"IF(B147,((YEAR(B147)-YEAR(Instructions!$B$9))*12+MONTH(B147)-MONTH(Instructions!$B$9)+1),\"\")","v":""},"",""]
[142,null,null,null,null,0,{"$f":"IF(B148,((YEAR(B148)-YEAR(Instructions!$B$9))*12+MONTH(B148)-MONTH(Instructions!$B$9)+1),\"\")","v":""},"",""]
[143,null,null,null,null,0,{"$f":"IF(B149,((YEAR(B149)-YEAR(Instructions!$B$9))*12+MONTH(B149)-MONTH(Instructions!$B$9)+1),\"\")","v":""},"",""]
[144,null,null,null,null,0,{"$f":"IF(B150,((YEAR(B150)-YEAR(Instructions!$B$9))*12+MONTH(B150)-MONTH(Instructions!$B$9)+1),\"\")","v":""},"",""]
[145,null,null,null,null,0,{"$f":"IF(B151,((YEAR(B151)-YEAR(Instructions!$B$9))*12+MONTH(B151)-MONTH(Instructions!$B$9)+1),\"\")","v":""},"",""]
[146,null,null,null,null,0,{"$f":"IF(B152,((YEAR(B152)-YEAR(Instructions!$B$9))*12+MONTH(B152)-MONTH(Instructions!$B$9)+1),\"\")","v":""},"",""]
[147,null,null,null,null,0,{"$f":"IF(B153,((YEAR(B153)-YEAR(Instructions!$B$9))*12+MONTH(B153)-MONTH(Instructions!$B$9)+1),\"\")","v":""},"",""]
[148,null,null,null,null,0,{"$f":"IF(B154,((YEAR(B154)-YEAR(Instructions!$B$9))*12+MONTH(B154)-MONTH(Instructions!$B$9)+1),\"\")","v":""},"",""]
[149,null,null,null,null,0,{"$f":"IF(B155,((YEAR(B155)-YEAR(Instructions!$B$9))*12+MONTH(B155)-MONTH(Instructions!$B$9)+1),\"\")","v":""},"",""]
[150,null,null,null,null,0,{"$f":"IF(B156,((YEAR(B156)-YEAR(Instructions!$B$9))*12+MONTH(B156)-MONTH(Instructions!$B$9)+1),\"\")","v":""},"",""]
[151,null,null,null,null,0,{"$f":"IF(B157,((YEAR(B157)-YEAR(Instructions!$B$9))*12+MONTH(B157)-MONTH(Instructions!$B$9)+1),\"\")","v":""},"",""]
[152,null,null,null,null,0,{"$f":"IF(B158,((YEAR(B158)-YEAR(Instructions!$B$9))*12+MONTH(B158)-MONTH(Instructions!$B$9)+1),\"\")","v":""},"",""]
[153,null,null,null,null,0,{"$f":"IF(B159,((YEAR(B159)-YEAR(Instructions!$B$9))*12+MONTH(B159)-MONTH(Instructions!$B$9)+1),\"\")","v":""},"",""]
[154,null,null,null,null,0,{"$f":"IF(B160,((YEAR(B160)-YEAR(Instructions!$B$9))*12+MONTH(B160)-MONTH(Instructions!$B$9)+1),\"\")","v":""},"",""]
[155,null,null,null,null,0,{"$f":"IF(B161,((YEAR(B161)-YEAR(Instructions!$B$9))*12+MONTH(B161)-MONTH(Instructions!$B$9)+1),\"\")","v":""},"",""]
[156,null,null,null,null,0,{"$f":"IF(B162,((YEAR(B162)-YEAR(Instructions!$B$9))*12+MONTH(B162)-MONTH(Instructions!$B$9)+1),\"\")","v":""},"",""]
[157,null,null,null,null,0,{"$f":"IF(B163,((YEAR(B163)-YEAR(Instructions!$B$9))*12+MONTH(B163)-MONTH(Instructions!$B$9)+1),\"\")","v":""},"",""]
[158,null,null,null,null,0,{"$f":"IF(B164,((YEAR(B164)-YEAR(Instructions!$B$9))*12+MONTH(B164)-MONTH(Instructions!$B$9)+1),\"\")","v":""},"",""]
[159,null,null,null,null,0,{"$f":"IF(B165,((YEAR(B165)-YEAR(Instructions!$B$9))*12+MONTH(B165)-MONTH(Instructions!$B$9)+1),\"\")","v":""},"",""]
[160,null,null,null,null,0,{"$f":"IF(B166,((YEAR(B166)-YEAR(Instructions!$B$9))*12+MONTH(B166)-MONTH(Instructions!$B$9)+1),\"\")","v":""},"",""]
[161,null,null,null,null,0,{"$f":"IF(B167,((YEAR(B167)-YEAR(Instructions!$B$9))*12+MONTH(B167)-MONTH(Instructions!$B$9)+1),\"\")","v":""},"",""]
[162,null,null,null,null,0,{"$f":"IF(B168,((YEAR(B168)-YEAR(Instructions!$B$9))*12+MONTH(B168)-MONTH(Instructions!$B$9)+1),\"\")","v":""},"",""]
[163,null,null,null,null,0,{"$f":"IF(B169,((YEAR(B169)-YEAR(Instructions!$B$9))*12+MONTH(B169)-MONTH(Instructions!$B$9)+1),\"\")","v":""},"",""]
[164,null,null,null,null,0,{"$f":"IF(B170,((YEAR(B170)-YEAR(Instructions!$B$9))*12+MONTH(B170)-MONTH(Instructions!$B$9)+1),\"\")","v":""},"",""]
[165,null,null,null,null,0,{"$f":"IF(B171,((YEAR(B171)-YEAR(Instructions!$B$9))*12+MONTH(B171)-MONTH(Instructions!$B$9)+1),\"\")","v":""},"",""]
[166,null,null,null,null,0,{"$f":"IF(B172,((YEAR(B172)-YEAR(Instructions!$B$9))*12+MONTH(B172)-MONTH(Instructions!$B$9)+1),\"\")","v":""},"",""]
[167,null,null,null,null,0,{"$f":"IF(B173,((YEAR(B173)-YEAR(Instructions!$B$9))*12+MONTH(B173)-MONTH(Instructions!$B$9)+1),\"\")","v":""},"",""]
[168,null,null,null,null,0,{"$f":"IF(B174,((YEAR(B174)-YEAR(Instructions!$B$9))*12+MONTH(B174)-MONTH(Instructions!$B$9)+1),\"\")","v":""},"",""]
[169,null,null,null,null,0,{"$f":"IF(B175,((YEAR(B175)-YEAR(Instructions!$B$9))*12+MONTH(B175)-MONTH(Instructions!$B$9)+1),\"\")","v":""},"",""]
[170,null,null,null,null,0,{"$f":"IF(B176,((YEAR(B176)-YEAR(Instructions!$B$9))*12+MONTH(B176)-MONTH(Instructions!$B$9)+1),\"\")","v":""},"",""]
[171,null,null,null,null,0,{"$f":"IF(B177,((YEAR(B177)-YEAR(Instructions!$B$9))*12+MONTH(B177)-MONTH(Instructions!$B$9)+1),\"\")","v":""},"",""]
[172,null,null,null,null,0,{"$f":"IF(B178,((YEAR(B178)-YEAR(Instructions!$B$9))*12+MONTH(B178)-MONTH(Instructions!$B$9)+1),\"\")","v":""},"",""]
[173,null,null,null,null,0,{"$f":"IF(B179,((YEAR(B179)-YEAR(Instructions!$B$9))*12+MONTH(B179)-MONTH(Instructions!$B$9)+1),\"\")","v":""},"",""]
[174,null,null,null,null,0,{"$f":"IF(B180,((YEAR(B180)-YEAR(Instructions!$B$9))*12+MONTH(B180)-MONTH(Instructions!$B$9)+1),\"\")","v":""},"",""]
[175,null,null,null,null,0,{"$f":"IF(B181,((YEAR(B181)-YEAR(Instructions!$B$9))*12+MONTH(B181)-MONTH(Instructions!$B$9)+1),\"\")","v":""},"",""]
[176,null,null,null,null,0,{"$f":"IF(B182,((YEAR(B182)-YEAR(Instructions!$B$9))*12+MONTH(B182)-MONTH(Instructions!$B$9)+1),\"\")","v":""},"",""]
[177,null,null,null,null,0,{"$f":"IF(B183,((YEAR(B183)-YEAR(Instructions!$B$9))*12+MONTH(B183)-MONTH(Instructions!$B$9)+1),\"\")","v":""},"",""]
[178,null,null,null,null,0,{"$f":"IF(B184,((YEAR(B184)-YEAR(Instructions!$B$9))*12+MONTH(B184)-MONTH(Instructions!$B$9)+1),\"\")","v":""},"",""]
[179,null,null,null,null,0,{"$f":"IF(B185,((YEAR(B185)-YEAR(Instructions!$B$9))*12+MONTH(B185)-MONTH(Instructions!$B$9)+1),\"\")","v":""},"",""]
[180,null,null,null,null,0,{"$f":"IF(B186,((YEAR(B186)-YEAR(Instructions!$B$9))*12+MONTH(B186)-MONTH(Instructions!$B$9)+1),\"\")","v":""},"",""]
[181,null,null,null,null,0,{"$f":"IF(B187,((YEAR(B187)-YEAR(Instructions!$B$9))*12+MONTH(B187)-MONTH(Instructions!$B$9)+1),\"\")","v":""},"",""]
[182,null,null,null,null,0,{"$f":"IF(B188,((YEAR(B188)-YEAR(Instructions!$B$9))*12+MONTH(B188)-MONTH(Instructions!$B$9)+1),\"\")","v":""},"",""]
[183,null,null,null,null,0,{"$f":"IF(B189,((YEAR(B189)-YEAR(Instructions!$B$9))*12+MONTH(B189)-MONTH(Instructions!$B$9)+1),\"\")","v":""},"",""]
[184,null,null,null,null,0,{"$f":"IF(B190,((YEAR(B190)-YEAR(Instructions!$B$9))*12+MONTH(B190)-MONTH(Instructions!$B$9)+1),\"\")","v":""},"",""]
[185,null,null,null,null,0,{"$f":"IF(B191,((YEAR(B191)-YEAR(Instructions!$B$9))*12+MONTH(B191)-MONTH(Instructions!$B$9)+1),\"\")","v":""},"",""]
[186,null,null,null,null,0,{"$f":"IF(B192,((YEAR(B192)-YEAR(Instructions!$B$9))*12+MONTH(B192)-MONTH(Instructions!$B$9)+1),\"\")","v":""},"",""]
[187,null,null,null,null,0,{"$f":"IF(B193,((YEAR(B193)-YEAR(Instructions!$B$9))*12+MONTH(B193)-MONTH(Instructions!$B$9)+1),\"\")","v":""},"",""]
[188,null,null,null,null,0,{"$f":"IF(B194,((YEAR(B194)-YEAR(Instructions!$B$9))*12+MONTH(B194)-MONTH(Instructions!$B$9)+1),\"\")","v":""},"",""]
[189,null,null,null,null,0,{"$f":"IF(B195,((YEAR(B195)-YEAR(Instructions!$B$9))*12+MONTH(B195)-MONTH(Instructions!$B$9)+1),\"\")","v":""},"",""]
[190,null,null,null,null,0,{"$f":"IF(B196,((YEAR(B196)-YEAR(Instructions!$B$9))*12+MONTH(B196)-MONTH(Instructions!$B$9)+1),\"\")","v":""},"",""]
[191,null,null,null,null,0,{"$f":"IF(B197,((YEAR(B197)-YEAR(Instructions!$B$9))*12+MONTH(B197)-MONTH(Instructions!$B$9)+1),\"\")","v":""},"",""]
[192,null,null,null,null,0,{"$f":"IF(B198,((YEAR(B198)-YEAR(Instructions!$B$9))*12+MONTH(B198)-MONTH(Instructions!$B$9)+1),\"\")","v":""},"",""]
[193,null,null,null,null,0,{"$f":"IF(B199,((YEAR(B199)-YEAR(Instructions!$B$9))*12+MONTH(B199)-MONTH(Instructions!$B$9)+1),\"\")","v":""},"",""]
[194,null,null,null,null,{"$f":"IF(D200=\"SS\",E200/42,IF(D200=\"AC\",E200/42,IF(D200=\"MR\",E200/30,)))","v":0},{"$f":"IF(B200,((YEAR(B200)-YEAR(Instructions!$B$9))*12+MONTH(B200)-MONTH(Instructions!$B$9)+1),\"\")","v":""},{"$f":"IF(F200>0,INT((G200+2)/3),\"\")","v":""},{"$f":"IF(F200>=0.8,INT((G200+2)/3),\"\")","v":""}]
[195,null,null,null,null,0,{"$f":"IF(B201,((YEAR(B201)-YEAR(Instructions!$B$9))*12+MONTH(B201)-MONTH(Instructions!$B$9)+1),\"\")","v":""},"",""]
[196,null,null,null,null,0,{"$f":"IF(B202,((YEAR(B202)-YEAR(Instructions!$B$9))*12+MONTH(B202)-MONTH(Instructions!$B$9)+1),\"\")","v":""},"",""]
[197,null,null,null,null,0,{"$f":"IF(B203,((YEAR(B203)-YEAR(Instructions!$B$9))*12+MONTH(B203)-MONTH(Instructions!$B$9)+1),\"\")","v":""},"",""]
[198,null,null,null,null,0,{"$f":"IF(B204,((YEAR(B204)-YEAR(Instructions!$B$9))*12+MONTH(B204)-MONTH(Instructions!$B$9)+1),\"\")","v":""},"",""]
[199,null,null,null,null,0,{"$f":"IF(B205,((YEAR(B205)-YEAR(Instructions!$B$9))*12+MONTH(B205)-MONTH(Instructions!$B$9)+1),\"\")","v":""},"",""]
[200,null,null,null,null,0,{"$f":"IF(B206,((YEAR(B206)-YEAR(Instructions!$B$9))*12+MONTH(B206)-MONTH(Instructions!$B$9)+1),\"\")","v":""},"",""]
[201,null,null,null,null,0,{"$f":"IF(B207,((YEAR(B207)-YEAR(Instructions!$B$9))*12+MONTH(B207)-MONTH(Instructions!$B$9)+1),\"\")","v":""},"",""]
[202,null,null,null,null,0,{"$f":"IF(B208,((YEAR(B208)-YEAR(Instructions!$B$9))*12+MONTH(B208)-MONTH(Instructions!$B$9)+1),\"\")","v":""},"",""]
[203,null,null,null,null,0,{"$f":"IF(B209,((YEAR(B209)-YEAR(Instructions!$B$9))*12+MONTH(B209)-MONTH(Instructions!$B$9)+1),\"\")","v":""},"",""]
[204,null,null,null,null,0,{"$f":"IF(B210,((YEAR(B210)-YEAR(Instructions!$B$9))*12+MONTH(B210)-MONTH(Instructions!$B$9)+1),\"\")","v":""},"",""]
[205,null,null,null,null,0,{"$f":"IF(B211,((YEAR(B211)-YEAR(Instructions!$B$9))*12+MONTH(B211)-MONTH(Instructions!$B$9)+1),\"\")","v":""},"",""]
[206,null,null,null,null,0,{"$f":"IF(B212,((YEAR(B212)-YEAR(Instructions!$B$9))*12+MONTH(B212)-MONTH(Instructions!$B$9)+1),\"\")","v":""},"",""]
[207,null,null,null,null,0,{"$f":"IF(B213,((YEAR(B213)-YEAR(Instructions!$B$9))*12+MONTH(B213)-MONTH(Instructions!$B$9)+1),\"\")","v":""},"",""]
[208,null,null,null,null,0,{"$f":"IF(B214,((YEAR(B214)-YEAR(Instructions!$B$9))*12+MONTH(B214)-MONTH(Instructions!$B$9)+1),\"\")","v":""},"",""]
[209,null,null,null,null,0,{"$f":"IF(B215,((YEAR(B215)-YEAR(Instructions!$B$9))*12+MONTH(B215)-MONTH(Instructions!$B$9)+1),\"\")","v":""},"",""]
[210,null,null,null,null,0,{"$f":"IF(B216,((YEAR(B216)-YEAR(Instructions!$B$9))*12+MONTH(B216)-MONTH(Instructions!$B$9)+1),\"\")","v":""},"",""]
[211,null,null,null,null,0,{"$f":"IF(B217,((YEAR(B217)-YEAR(Instructions!$B$9))*12+MONTH(B217)-MONTH(Instructions!$B$9)+1),\"\")","v":""},"",""]
[212,null,null,null,null,0,{"$f":"IF(B218,((YEAR(B218)-YEAR(Instructions!$B$9))*12+MONTH(B218)-MONTH(Instructions!$B$9)+1),\"\")","v":""},"",""]
[213,null,null,null,null,0,{"$f":"IF(B219,((YEAR(B219)-YEAR(Instructions!$B$9))*12+MONTH(B219)-MONTH(Instructions!$B$9)+1),\"\")","v":""},"",""]
[214,null,null,null,null,0,{"$f":"IF(B220,((YEAR(B220)-YEAR(Instructions!$B$9))*12+MONTH(B220)-MONTH(Instructions!$B$9)+1),\"\")","v":""},"",""]
[215,null,null,null,null,0,{"$f":"IF(B221,((YEAR(B221)-YEAR(Instructions!$B$9))*12+MONTH(B221)-MONTH(Instructions!$B$9)+1),\"\")","v":""},"",""]
[216,null,null,null,null,0,{"$f":"IF(B222,((YEAR(B222)-YEAR(Instructions!$B$9))*12+MONTH(B222)-MONTH(Instructions!$B$9)+1),\"\")","v":""},"",""]
[217,null,null,null,null,0,{"$f":"IF(B223,((YEAR(B223)-YEAR(Instructions!$B$9))*12+MONTH(B223)-MONTH(Instructions!$B$9)+1),\"\")","v":""},"",""]
[218,null,null,null,null,0,{"$f":"IF(B224,((YEAR(B224)-YEAR(Instructions!$B$9))*12+MONTH(B224)-MONTH(Instructions!$B$9)+1),\"\")","v":""},"",""]
[219,null,null,null,null,0,{"$f":"IF(B225,((YEAR(B225)-YEAR(Instructions!$B$9))*12+MONTH(B225)-MONTH(Instructions!$B$9)+1),\"\")","v":""},"",""]
[220,null,null,null,null,0,{"$f":"IF(B226,((YEAR(B226)-YEAR(Instructions!$B$9))*12+MONTH(B226)-MONTH(Instructions!$B$9)+1),\"\")","v":""},"",""]
[221,null,null,null,null,0,{"$f":"IF(B227,((YEAR(B227)-YEAR(Instructions!$B$9))*12+MONTH(B227)-MONTH(Instructions!$B$9)+1),\"\")","v":""},"",""]
[222,null,null,null,null,0,{"$f":"IF(B228,((YEAR(B228)-YEAR(Instructions!$B$9))*12+MONTH(B228)-MONTH(Instructions!$B$9)+1),\"\")","v":""},"",""]
[223,null,null,null,null,0,{"$f":"IF(B229,((YEAR(B229)-YEAR(Instructions!$B$9))*12+MONTH(B229)-MONTH(Instructions!$B$9)+1),\"\")","v":""},"",""]
[224,null,null,null,null,0,{"$f":"IF(B230,((YEAR(B230)-YEAR(Instructions!$B$9))*12+MONTH(B230)-MONTH(Instructions!$B$9)+1),\"\")","v":""},"",""]
[225,null,null,null,null,0,{"$f":"IF(B231,((YEAR(B231)-YEAR(Instructions!$B$9))*12+MONTH(B231)-MONTH(Instructions!$B$9)+1),\"\")","v":""},"",""]
[226,null,null,null,null,0,{"$f":"IF(B232,((YEAR(B232)-YEAR(Instructions!$B$9))*12+MONTH(B232)-MONTH(Instructions!$B$9)+1),\"\")","v":""},"",""]
[227,null,null,null,null,0,{"$f":"IF(B233,((YEAR(B233)-YEAR(Instructions!$B$9))*12+MONTH(B233)-MONTH(Instructions!$B$9)+1),\"\")","v":""},"",""]
[228,null,null,null,null,0,{"$f":"IF(B234,((YEAR(B234)-YEAR(Instructions!$B$9))*12+MONTH(B234)-MONTH(Instructions!$B$9)+1),\"\")","v":""},"",""]
[229,null,null,null,null,0,{"$f":"IF(B235,((YEAR(B235)-YEAR(Instructions!$B$9))*12+MONTH(B235)-MONTH(Instructions!$B$9)+1),\"\")","v":""},"",""]
[230,null,null,null,null,0,{"$f":"IF(B236,((YEAR(B236)-YEAR(Instructions!$B$9))*12+MONTH(B236)-MONTH(Instructions!$B$9)+1),\"\")","v":""},"",""]
[231,null,null,null,null,0,{"$f":"IF(B237,((YEAR(B237)-YEAR(Instructions!$B$9))*12+MONTH(B237)-MONTH(Instructions!$B$9)+1),\"\")","v":""},"",""]
[232,null,null,null,null,0,{"$f":"IF(B238,((YEAR(B238)-YEAR(Instructions!$B$9))*12+MONTH(B238)-MONTH(Instructions!$B$9)+1),\"\")","v":""},"",""]
[233,null,null,null,null,0,{"$f":"IF(B239,((YEAR(B239)-YEAR(Instructions!$B$9))*12+MONTH(B239)-MONTH(Instructions!$B$9)+1),\"\")","v":""},"",""]
[234,null,null,null,null,0,{"$f":"IF(B240,((YEAR(B240)-YEAR(Instructions!$B$9))*12+MONTH(B240)-MONTH(Instructions!$B$9)+1),\"\")","v":""},"",""]
[235,null,null,null,null,0,{"$f":"IF(B241,((YEAR(B241)-YEAR(Instructions!$B$9))*12+MONTH(B241)-MONTH(Instructions!$B$9)+1),\"\")","v":""},"",""]
[236,null,null,null,null,0,{"$f":"IF(B242,((YEAR(B242)-YEAR(Instructions!$B$9))*12+MONTH(B242)-MONTH(Instructions!$B$9)+1),\"\")","v":""},"",""]
[237,null,null,null,null,0,{"$f":"IF(B243,((YEAR(B243)-YEAR(Instructions!$B$9))*12+MONTH(B243)-MONTH(Instructions!$B$9)+1),\"\")","v":""},"",""]
[238,null,null,null,null,0,{"$f":"IF(B244,((YEAR(B244)-YEAR(Instructions!$B$9))*12+MONTH(B244)-MONTH(Instructions!$B$9)+1),\"\")","v":""},"",""]
[239,null,null,null,null,0,{"$f":"IF(B245,((YEAR(B245)-YEAR(Instructions!$B$9))*12+MONTH(B245)-MONTH(Instructions!$B$9)+1),\"\")","v":""},"",""]
[240,null,null,null,null,0,{"$f":"IF(B246,((YEAR(B246)-YEAR(Instructions!$B$9))*12+MONTH(B246)-MONTH(Instructions!$B$9)+1),\"\")","v":""},"",""]
[241,null,null,null,null,0,{"$f":"IF(B247,((YEAR(B247)-YEAR(Instructions!$B$9))*12+MONTH(B247)-MONTH(Instructions!$B$9)+1),\"\")","v":""},"",""]
[242,null,null,null,null,0,{"$f":"IF(B248,((YEAR(B248)-YEAR(Instructions!$B$9))*12+MONTH(B248)-MONTH(Instructions!$B$9)+1),\"\")","v":""},"",""]
[243,null,null,null,null,0,{"$f":"IF(B249,((YEAR(B249)-YEAR(Instructions!$B$9))*12+MONTH(B249)-MONTH(Instructions!$B$9)+1),\"\")","v":""},"",""]
[244,null,null,null,null,0,{"$f":"IF(B250,((YEAR(B250)-YEAR(Instructions!$B$9))*12+MONTH(B250)-MONTH(Instructions!$B$9)+1),\"\")","v":""},"",""]
[245,null,null,null,null,0,{"$f":"IF(B251,((YEAR(B251)-YEAR(Instructions!$B$9))*12+MONTH(B251)-MONTH(Instructions!$B$9)+1),\"\")","v":""},"",""]
[246,null,null,null,null,0,{"$f":"IF(B252,((YEAR(B252)-YEAR(Instructions!$B$9))*12+MONTH(B252)-MONTH(Instructions!$B$9)+1),\"\")","v":""},"",""]
[247,null,null,null,null,0,{"$f":"IF(B253,((YEAR(B253)-YEAR(Instructions!$B$9))*12+MONTH(B253)-MONTH(Instructions!$B$9)+1),\"\")","v":""},"",""]
[248,null,null,null,null,0,{"$f":"IF(B254,((YEAR(B254)-YEAR(Instructions!$B$9))*12+MONTH(B254)-MONTH(Instructions!$B$9)+1),\"\")","v":""},"",""]
[249,null,null,null,null,0,{"$f":"IF(B255,((YEAR(B255)-YEAR(Instructions!$B$9))*12+MONTH(B255)-MONTH(Instructions!$B$9)+1),\"\")","v":""},"",""]
[250,null,null,null,null,0,{"$f":"IF(B256,((YEAR(B256)-YEAR(Instructions!$B$9))*12+MONTH(B256)-MONTH(Instructions!$B$9)+1),\"\")","v":""},{"$f":"IF(F256>0,INT((G256+2)/3),\"\")","v":""},""]
[251,null,null,null,null,0,{"$f":"IF(B257,((YEAR(B257)-YEAR(Instructions!$B$9))*12+MONTH(B257)-MONTH(Instructions!$B$9)+1),\"\")","v":""},"",""]
[252,null,null,null,null,0,{"$f":"IF(B258,((YEAR(B258)-YEAR(Instructions!$B$9))*12+MONTH(B258)-MONTH(Instructions!$B$9)+1),\"\")","v":""},"",""]
[253,null,null,null,null,0,{"$f":"IF(B259,((YEAR(B259)-YEAR(Instructions!$B$9))*12+MONTH(B259)-MONTH(Instructions!$B$9)+1),\"\")","v":""},"",""]
[254,null,null,null,null,0,{"$f":"IF(B260,((YEAR(B260)-YEAR(Instructions!$B$9))*12+MONTH(B260)-MONTH(Instructions!$B$9)+1),\"\")","v":""},"",""]
[255,null,null,null,null,0,{"$f":"IF(B261,((YEAR(B261)-YEAR(Instructions!$B$9))*12+MONTH(B261)-MONTH(Instructions!$B$9)+1),\"\")","v":""},"",""]
[256,null,null,null,null,0,{"$f":"IF(B262,((YEAR(B262)-YEAR(Instructions!$B$9))*12+MONTH(B262)-MONTH(Instructions!$B$9)+1),\"\")","v":""},"",""]
[257,null,null,null,null,0,{"$f":"IF(B263,((YEAR(B263)-YEAR(Instructions!$B$9))*12+MONTH(B263)-MONTH(Instructions!$B$9)+1),\"\")","v":""},"",""]
[258,null,null,null,null,{"$f":"IF(D264=\"SS\",E264/42,IF(D264=\"AC\",E264/42,IF(D264=\"MR\",E264/30,)))","v":0},{"$f":"IF(B264,((YEAR(B264)-YEAR(Instructions!$B$9))*12+MONTH(B264)-MONTH(Instructions!$B$9)+1),\"\")","v":""},"",{"$f":"IF(F264>=0.8,INT((G264+2)/3),\"\")","v":""}]
[259,null,null,null,null,0,{"$f":"IF(B265,((YEAR(B265)-YEAR(Instructions!$B$9))*12+MONTH(B265)-MONTH(Instructions!$B$9)+1),\"\")","v":""},"",""]
[260,null,null,null,null,0,{"$f":"IF(B266,((YEAR(B266)-YEAR(Instructions!$B$9))*12+MONTH(B266)-MONTH(Instructions!$B$9)+1),\"\")","v":""},"",""]
[261,null,null,null,null,0,{"$f":"IF(B267,((YEAR(B267)-YEAR(Instructions!$B$9))*12+MONTH(B267)-MONTH(Instructions!$B$9)+1),\"\")","v":""},"",""]
[262,null,null,null,null,0,{"$f":"IF(B268,((YEAR(B268)-YEAR(Instructions!$B$9))*12+MONTH(B268)-MONTH(Instructions!$B$9)+1),\"\")","v":""},"",""]
[263,null,null,null,null,0,{"$f":"IF(B269,((YEAR(B269)-YEAR(Instructions!$B$9))*12+MONTH(B269)-MONTH(Instructions!$B$9)+1),\"\")","v":""},"",""]
[264,null,null,null,null,0,{"$f":"IF(B270,((YEAR(B270)-YEAR(Instructions!$B$9))*12+MONTH(B270)-MONTH(Instructions!$B$9)+1),\"\")","v":""},"",""]
[265,null,null,null,null,0,{"$f":"IF(B271,((YEAR(B271)-YEAR(Instructions!$B$9))*12+MONTH(B271)-MONTH(Instructions!$B$9)+1),\"\")","v":""},"",""]
[266,null,null,null,null,0,{"$f":"IF(B272,((YEAR(B272)-YEAR(Instructions!$B$9))*12+MONTH(B272)-MONTH(Instructions!$B$9)+1),\"\")","v":""},"",""]
[267,null,null,null,null,0,{"$f":"IF(B273,((YEAR(B273)-YEAR(Instructions!$B$9))*12+MONTH(B273)-MONTH(Instructions!$B$9)+1),\"\")","v":""},"",""]
[268,null,null,null,null,0,{"$f":"IF(B274,((YEAR(B274)-YEAR(Instructions!$B$9))*12+MONTH(B274)-MONTH(Instructions!$B$9)+1),\"\")","v":""},"",""]
[269,null,null,null,null,0,{"$f":"IF(B275,((YEAR(B275)-YEAR(Instructions!$B$9))*12+MONTH(B275)-MONTH(Instructions!$B$9)+1),\"\")","v":""},"",""]
[270,null,null,null,null,0,{"$f":"IF(B276,((YEAR(B276)-YEAR(Instructions!$B$9))*12+MONTH(B276)-MONTH(Instructions!$B$9)+1),\"\")","v":""},"",""]
[271,null,null,null,null,0,{"$f":"IF(B277,((YEAR(B277)-YEAR(Instructions!$B$9))*12+MONTH(B277)-MONTH(Instructions!$B$9)+1),\"\")","v":""},"",""]
[272,null,null,null,null,0,{"$f":"IF(B278,((YEAR(B278)-YEAR(Instructions!$B$9))*12+MONTH(B278)-MONTH(Instructions!$B$9)+1),\"\")","v":""},"",""]
[273,null,null,null,null,0,{"$f":"IF(B279,((YEAR(B279)-YEAR(Instructions!$B$9))*12+MONTH(B279)-MONTH(Instructions!$B$9)+1),\"\")","v":""},"",""]
[274,null,null,null,null,0,{"$f":"IF(B280,((YEAR(B280)-YEAR(Instructions!$B$9))*12+MONTH(B280)-MONTH(Instructions!$B$9)+1),\"\")","v":""},"",""]
[275,null,null,null,null,0,{"$f":"IF(B281,((YEAR(B281)-YEAR(Instructions!$B$9))*12+MONTH(B281)-MONTH(Instructions!$B$9)+1),\"\")","v":""},"",""]
[276,null,null,null,null,0,{"$f":"IF(B282,((YEAR(B282)-YEAR(Instructions!$B$9))*12+MONTH(B282)-MONTH(Instructions!$B$9)+1),\"\")","v":""},"",""]
[277,null,null,null,null,0,{"$f":"IF(B283,((YEAR(B283)-YEAR(Instructions!$B$9))*12+MONTH(B283)-MONTH(Instructions!$B$9)+1),\"\")","v":""},"",""]
[278,null,null,null,null,0,{"$f":"IF(B284,((YEAR(B284)-YEAR(Instructions!$B$9))*12+MONTH(B284)-MONTH(Instructions!$B$9)+1),\"\")","v":""},"",""]
[279,null,null,null,null,0,{"$f":"IF(B285,((YEAR(B285)-YEAR(Instructions!$B$9))*12+MONTH(B285)-MONTH(Instructions!$B$9)+1),\"\")","v":""},"",""]
[280,null,null,null,null,0,{"$f":"IF(B286,((YEAR(B286)-YEAR(Instructions!$B$9))*12+MONTH(B286)-MONTH(Instructions!$B$9)+1),\"\")","v":""},"",""]
[281,null,null,null,null,0,{"$f":"IF(B287,((YEAR(B287)-YEAR(Instructions!$B$9))*12+MONTH(B287)-MONTH(Instructions!$B$9)+1),\"\")","v":""},"",""]
[282,null,null,null,null,0,{"$f":"IF(B288,((YEAR(B288)-YEAR(Instructions!$B$9))*12+MONTH(B288)-MONTH(Instructions!$B$9)+1),\"\")","v":""},"",""]
[283,null,null,null,null,0,{"$f":"IF(B289,((YEAR(B289)-YEAR(Instructions!$B$9))*12+MONTH(B289)-MONTH(Instructions!$B$9)+1),\"\")","v":""},"",""]
[284,null,null,null,null,0,{"$f":"IF(B290,((YEAR(B290)-YEAR(Instructions!$B$9))*12+MONTH(B290)-MONTH(Instructions!$B$9)+1),\"\")","v":""},"",""]
[285,null,null,null,null,0,{"$f":"IF(B291,((YEAR(B291)-YEAR(Instructions!$B$9))*12+MONTH(B291)-MONTH(Instructions!$B$9)+1),\"\")","v":""},"",""]
[286,null,null,null,null,0,{"$f":"IF(B292,((YEAR(B292)-YEAR(Instructions!$B$9))*12+MONTH(B292)-MONTH(Instructions!$B$9)+1),\"\")","v":""},"",""]
[287,null,null,null,null,0,{"$f":"IF(B293,((YEAR(B293)-YEAR(Instructions!$B$9))*12+MONTH(B293)-MONTH(Instructions!$B$9)+1),\"\")","v":""},"",""]
[288,null,null,null,null,0,{"$f":"IF(B294,((YEAR(B294)-YEAR(Instructions!$B$9))*12+MONTH(B294)-MONTH(Instructions!$B$9)+1),\"\")","v":""},"",""]
[289,null,null,null,null,0,{"$f":"IF(B295,((YEAR(B295)-YEAR(Instructions!$B$9))*12+MONTH(B295)-MONTH(Instructions!$B$9)+1),\"\")","v":""},"",""]
[290,null,null,null,null,0,{"$f":"IF(B296,((YEAR(B296)-YEAR(Instructions!$B$9))*12+MONTH(B296)-MONTH(Instructions!$B$9)+1),\"\")","v":""},"",""]
[291,null,null,null,null,0,{"$f":"IF(B297,((YEAR(B297)-YEAR(Instructions!$B$9))*12+MONTH(B297)-MONTH(Instructions!$B$9)+1),\"\")","v":""},"",""]
[292,null,null,null,null,0,{"$f":"IF(B298,((YEAR(B298)-YEAR(Instructions!$B$9))*12+MONTH(B298)-MONTH(Instructions!$B$9)+1),\"\")","v":""},"",""]
[293,null,null,null,null,0,{"$f":"IF(B299,((YEAR(B299)-YEAR(Instructions!$B$9))*12+MONTH(B299)-MONTH(Instructions!$B$9)+1),\"\")","v":""},"",""]
[294,null,null,null,null,0,{"$f":"IF(B300,((YEAR(B300)-YEAR(Instructions!$B$9))*12+MONTH(B300)-MONTH(Instructions!$B$9)+1),\"\")","v":""},"",""]
[295,null,null,null,null,0,{"$f":"IF(B301,((YEAR(B301)-YEAR(Instructions!$B$9))*12+MONTH(B301)-MONTH(Instructions!$B$9)+1),\"\")","v":""},"",""]
[296,null,null,null,null,0,{"$f":"IF(B302,((YEAR(B302)-YEAR(Instructions!$B$9))*12+MONTH(B302)-MONTH(Instructions!$B$9)+1),\"\")","v":""},"",""]
[297,null,null,null,null,0,{"$f":"IF(B303,((YEAR(B303)-YEAR(Instructions!$B$9))*12+MONTH(B303)-MONTH(Instructions!$B$9)+1),\"\")","v":""},"",""]
[298,null,null,null,null,0,{"$f":"IF(B304,((YEAR(B304)-YEAR(Instructions!$B$9))*12+MONTH(B304)-MONTH(Instructions!$B$9)+1),\"\")","v":""},"",""]
[299,null,null,null,null,0,{"$f":"IF(B305,((YEAR(B305)-YEAR(Instructions!$B$9))*12+MONTH(B305)-MONTH(Instructions!$B$9)+1),\"\")","v":""},"",""]
[300,null,null,null,null,0,{"$f":"IF(B306,((YEAR(B306)-YEAR(Instructions!$B$9))*12+MONTH(B306)-MONTH(Instructions!$B$9)+1),\"\")","v":""},"",""]
[301,null,null,null,null,0,{"$f":"IF(B307,((YEAR(B307)-YEAR(Instructions!$B$9))*12+MONTH(B307)-MONTH(Instructions!$B$9)+1),\"\")","v":""},"",""]
[302,null,null,null,null,0,{"$f":"IF(B308,((YEAR(B308)-YEAR(Instructions!$B$9))*12+MONTH(B308)-MONTH(Instructions!$B$9)+1),\"\")","v":""},"",""]
[303,null,null,null,null,0,{"$f":"IF(B309,((YEAR(B309)-YEAR(Instructions!$B$9))*12+MONTH(B309)-MONTH(Instructions!$B$9)+1),\"\")","v":""},"",""]
[304,null,null,null,null,0,{"$f":"IF(B310,((YEAR(B310)-YEAR(Instructions!$B$9))*12+MONTH(B310)-MONTH(Instructions!$B$9)+1),\"\")","v":""},"",""]
[305,null,null,null,null,0,{"$f":"IF(B311,((YEAR(B311)-YEAR(Instructions!$B$9))*12+MONTH(B311)-MONTH(Instructions!$B$9)+1),\"\")","v":""},"",""]
[306,null,null,null,null,0,{"$f":"IF(B312,((YEAR(B312)-YEAR(Instructions!$B$9))*12+MONTH(B312)-MONTH(Instructions!$B$9)+1),\"\")","v":""},"",""]
[307,null,null,null,null,0,{"$f":"IF(B313,((YEAR(B313)-YEAR(Instructions!$B$9))*12+MONTH(B313)-MONTH(Instructions!$B$9)+1),\"\")","v":""},"",""]
[308,null,null,null,null,0,{"$f":"IF(B314,((YEAR(B314)-YEAR(Instructions!$B$9))*12+MONTH(B314)-MONTH(Instructions!$B$9)+1),\"\")","v":""},"",""]
[309,null,null,null,null,0,{"$f":"IF(B315,((YEAR(B315)-YEAR(Instructions!$B$9))*12+MONTH(B315)-MONTH(Instructions!$B$9)+1),\"\")","v":""},"",""]
[310,null,null,null,null,0,{"$f":"IF(B316,((YEAR(B316)-YEAR(Instructions!$B$9))*12+MONTH(B316)-MONTH(Instructions!$B$9)+1),\"\")","v":""},"",""]
[311,null,null,null,null,0,{"$f":"IF(B317,((YEAR(B317)-YEAR(Instructions!$B$9))*12+MONTH(B317)-MONTH(Instructions!$B$9)+1),\"\")","v":""},"",""]
[312,null,null,null,null,0,{"$f":"IF(B318,((YEAR(B318)-YEAR(Instructions!$B$9))*12+MONTH(B318)-MONTH(Instructions!$B$9)+1),\"\")","v":""},"",""]
[313,null,null,null,null,0,{"$f":"IF(B319,((YEAR(B319)-YEAR(Instructions!$B$9))*12+MONTH(B319)-MONTH(Instructions!$B$9)+1),\"\")","v":""},"",""]
[314,null,null,null,null,0,{"$f":"IF(B320,((YEAR(B320)-YEAR(Instructions!$B$9))*12+MONTH(B320)-MONTH(Instructions!$B$9)+1),\"\")","v":""},{"$f":"IF(F320>0,INT((G320+2)/3),\"\")","v":""},""]
[315,null,null,null,null,0,{"$f":"IF(B321,((YEAR(B321)-YEAR(Instructions!$B$9))*12+MONTH(B321)-MONTH(Instructions!$B$9)+1),\"\")","v":""},"",""]
[316,null,null,null,null,0,{"$f":"IF(B322,((YEAR(B322)-YEAR(Instructions!$B$9))*12+MONTH(B322)-MONTH(Instructions!$B$9)+1),\"\")","v":""},"",""]
[317,null,null,null,null,0,{"$f":"IF(B323,((YEAR(B323)-YEAR(Instructions!$B$9))*12+MONTH(B323)-MONTH(Instructions!$B$9)+1),\"\")","v":""},"",""]
[318,null,null,null,null,0,{"$f":"IF(B324,((YEAR(B324)-YEAR(Instructions!$B$9))*12+MONTH(B324)-MONTH(Instructions!$B$9)+1),\"\")","v":""},"",""]
[319,null,null,null,null,0,{"$f":"IF(B325,((YEAR(B325)-YEAR(Instructions!$B$9))*12+MONTH(B325)-MONTH(Instructions!$B$9)+1),\"\")","v":""},"",""]
[320,null,null,null,null,0,{"$f":"IF(B326,((YEAR(B326)-YEAR(Instructions!$B$9))*12+MONTH(B326)-MONTH(Instructions!$B$9)+1),\"\")","v":""},"",""]
[321,null,null,null,null,0,{"$f":"IF(B327,((YEAR(B327)-YEAR(Instructions!$B$9))*12+MONTH(B327)-MONTH(Instructions!$B$9)+1),\"\")","v":""},"",""]
[322,null,null,null,null,{"$f":"IF(D328=\"SS\",E328/42,IF(D328=\"AC\",E328/42,IF(D328=\"MR\",E328/30,)))","v":0},{"$f":"IF(B328,((YEAR(B328)-YEAR(Instructions!$B$9))*12+MONTH(B328)-MONTH(Instructions!$B$9)+1),\"\")","v":""},"",{"$f":"IF(F328>=0.8,INT((G328+2)/3),\"\")","v":""}]
[323,null,null,null,null,0,{"$f":"IF(B329,((YEAR(B329)-YEAR(Instructions!$B$9))*12+MONTH(B329)-MONTH(Instructions!$B$9)+1),\"\")","v":""},"",""]
[324,null,null,null,null,0,{"$f":"IF(B330,((YEAR(B330)-YEAR(Instructions!$B$9))*12+MONTH(B330)-MONTH(Instructions!$B$9)+1),\"\")","v":""},"",""]
[325,null,null,null,null,0,{"$f":"IF(B331,((YEAR(B331)-YEAR(Instructions!$B$9))*12+MONTH(B331)-MONTH(Instructions!$B$9)+1),\"\")","v":""},"",""]
[326,null,null,null,null,0,{"$f":"IF(B332,((YEAR(B332)-YEAR(Instructions!$B$9))*12+MONTH(B332)-MONTH(Instructions!$B$9)+1),\"\")","v":""},"",""]
[327,null,null,null,null,0,{"$f":"IF(B333,((YEAR(B333)-YEAR(Instructions!$B$9))*12+MONTH(B333)-MONTH(Instructions!$B$9)+1),\"\")","v":""},"",""]
[328,null,null,null,null,0,{"$f":"IF(B334,((YEAR(B334)-YEAR(Instructions!$B$9))*12+MONTH(B334)-MONTH(Instructions!$B$9)+1),\"\")","v":""},"",""]
[329,null,null,null,null,0,{"$f":"IF(B335,((YEAR(B335)-YEAR(Instructions!$B$9))*12+MONTH(B335)-MONTH(Instructions!$B$9)+1),\"\")","v":""},"",""]
[330,null,null,null,null,0,{"$f":"IF(B336,((YEAR(B336)-YEAR(Instructions!$B$9))*12+MONTH(B336)-MONTH(Instructions!$B$9)+1),\"\")","v":""},"",""]
[331,null,null,null,null,0,{"$f":"IF(B337,((YEAR(B337)-YEAR(Instructions!$B$9))*12+MONTH(B337)-MONTH(Instructions!$B$9)+1),\"\")","v":""},"",""]
[332,null,null,null,null,0,{"$f":"IF(B338,((YEAR(B338)-YEAR(Instructions!$B$9))*12+MONTH(B338)-MONTH(Instructions!$B$9)+1),\"\")","v":""},"",""]
[333,null,null,null,null,0,{"$f":"IF(B339,((YEAR(B339)-YEAR(Instructions!$B$9))*12+MONTH(B339)-MONTH(Instructions!$B$9)+1),\"\")","v":""},"",""]
[334,null,null,null,null,0,{"$f":"IF(B340,((YEAR(B340)-YEAR(Instructions!$B$9))*12+MONTH(B340)-MONTH(Instructions!$B$9)+1),\"\")","v":""},"",""]
[335,null,null,null,null,0,{"$f":"IF(B341,((YEAR(B341)-YEAR(Instructions!$B$9))*12+MONTH(B341)-MONTH(Instructions!$B$9)+1),\"\")","v":""},"",""]
[336,null,null,null,null,0,{"$f":"IF(B342,((YEAR(B342)-YEAR(Instructions!$B$9))*12+MONTH(B342)-MONTH(Instructions!$B$9)+1),\"\")","v":""},"",""]
[337,null,null,null,null,0,{"$f":"IF(B343,((YEAR(B343)-YEAR(Instructions!$B$9))*12+MONTH(B343)-MONTH(Instructions!$B$9)+1),\"\")","v":""},"",""]
[338,null,null,null,null,0,{"$f":"IF(B344,((YEAR(B344)-YEAR(Instructions!$B$9))*12+MONTH(B344)-MONTH(Instructions!$B$9)+1),\"\")","v":""},"",""]
[339,null,null,null,null,0,{"$f":"IF(B345,((YEAR(B345)-YEAR(Instructions!$B$9))*12+MONTH(B345)-MONTH(Instructions!$B$9)+1),\"\")","v":""},"",""]
[340,null,null,null,null,0,{"$f":"IF(B346,((YEAR(B346)-YEAR(Instructions!$B$9))*12+MONTH(B346)-MONTH(Instructions!$B$9)+1),\"\")","v":""},"",""]
[341,null,null,null,null,0,{"$f":"IF(B347,((YEAR(B347)-YEAR(Instructions!$B$9))*12+MONTH(B347)-MONTH(Instructions!$B$9)+1),\"\")","v":""},"",""]
[342,null,null,null,null,0,{"$f":"IF(B348,((YEAR(B348)-YEAR(Instructions!$B$9))*12+MONTH(B348)-MONTH(Instructions!$B$9)+1),\"\")","v":""},"",""]
[343,null,null,null,null,0,{"$f":"IF(B349,((YEAR(B349)-YEAR(Instructions!$B$9))*12+MONTH(B349)-MONTH(Instructions!$B$9)+1),\"\")","v":""},"",""]
[344,null,null,null,null,0,{"$f":"IF(B350,((YEAR(B350)-YEAR(Instructions!$B$9))*12+MONTH(B350)-MONTH(Instructions!$B$9)+1),\"\")","v":""},"",""]
[345,null,null,null,null,0,{"$f":"IF(B351,((YEAR(B351)-YEAR(Instructions!$B$9))*12+MONTH(B351)-MONTH(Instructions!$B$9)+1),\"\")","v":""},"",""]
[346,null,null,null,null,0,{"$f":"IF(B352,((YEAR(B352)-YEAR(Instructions!$B$9))*12+MONTH(B352)-MONTH(Instructions!$B$9)+1),\"\")","v":""},"",""]
[347,null,null,null,null,0,{"$f":"IF(B353,((YEAR(B353)-YEAR(Instructions!$B$9))*12+MONTH(B353)-MONTH(Instructions!$B$9)+1),\"\")","v":""},"",""]
[348,null,null,null,null,0,{"$f":"IF(B354,((YEAR(B354)-YEAR(Instructions!$B$9))*12+MONTH(B354)-MONTH(Instructions!$B$9)+1),\"\")","v":""},"",""]
[349,null,null,null,null,0,{"$f":"IF(B355,((YEAR(B355)-YEAR(Instructions!$B$9))*12+MONTH(B355)-MONTH(Instructions!$B$9)+1),\"\")","v":""},"",""]
[350,null,null,null,null,0,{"$f":"IF(B356,((YEAR(B356)-YEAR(Instructions!$B$9))*12+MONTH(B356)-MONTH(Instructions!$B$9)+1),\"\")","v":""},"",""]
[351,null,null,null,null,0,{"$f":"IF(B357,((YEAR(B357)-YEAR(Instructions!$B$9))*12+MONTH(B357)-MONTH(Instructions!$B$9)+1),\"\")","v":""},"",""]
[352,null,null,null,null,0,{"$f":"IF(B358,((YEAR(B358)-YEAR(Instructions!$B$9))*12+MONTH(B358)-MONTH(Instructions!$B$9)+1),\"\")","v":""},"",""]
[353,null,null,null,null,0,{"$f":"IF(B359,((YEAR(B359)-YEAR(Instructions!$B$9))*12+MONTH(B359)-MONTH(Instructions!$B$9)+1),\"\")","v":""},"",""]
[354,null,null,null,null,0,{"$f":"IF(B360,((YEAR(B360)-YEAR(Instructions!$B$9))*12+MONTH(B360)-MONTH(Instructions!$B$9)+1),\"\")","v":""},"",""]
[355,null,null,null,null,0,{"$f":"IF(B361,((YEAR(B361)-YEAR(Instructions!$B$9))*12+MONTH(B361)-MONTH(Instructions!$B$9)+1),\"\")","v":""},"",""]
[356,null,null,null,null,0,{"$f":"IF(B362,((YEAR(B362)-YEAR(Instructions!$B$9))*12+MONTH(B362)-MONTH(Instructions!$B$9)+1),\"\")","v":""},"",""]
[357,null,null,null,null,0,{"$f":"IF(B363,((YEAR(B363)-YEAR(Instructions!$B$9))*12+MONTH(B363)-MONTH(Instructions!$B$9)+1),\"\")","v":""},"",""]
[358,null,null,null,null,0,{"$f":"IF(B364,((YEAR(B364)-YEAR(Instructions!$B$9))*12+MONTH(B364)-MONTH(Instructions!$B$9)+1),\"\")","v":""},"",""]
[359,null,null,null,null,0,{"$f":"IF(B365,((YEAR(B365)-YEAR(Instructions!$B$9))*12+MONTH(B365)-MONTH(Instructions!$B$9)+1),\"\")","v":""},"",""]
[360,null,null,null,null,0,{"$f":"IF(B366,((YEAR(B366)-YEAR(Instructions!$B$9))*12+MONTH(B366)-MONTH(Instructions!$B$9)+1),\"\")","v":""},"",""]
[361,null,null,null,null,0,{"$f":"IF(B367,((YEAR(B367)-YEAR(Instructions!$B$9))*12+MONTH(B367)-MONTH(Instructions!$B$9)+1),\"\")","v":""},"",""]
[362,null,null,null,null,0,{"$f":"IF(B368,((YEAR(B368)-YEAR(Instructions!$B$9))*12+MONTH(B368)-MONTH(Instructions!$B$9)+1),\"\")","v":""},"",""]
[363,null,null,null,null,0,{"$f":"IF(B369,((YEAR(B369)-YEAR(Instructions!$B$9))*12+MONTH(B369)-MONTH(Instructions!$B$9)+1),\"\")","v":""},"",""]
[364,null,null,null,null,0,{"$f":"IF(B370,((YEAR(B370)-YEAR(Instructions!$B$9))*12+MONTH(B370)-MONTH(Instructions!$B$9)+1),\"\")","v":""},"",""]
[365,null,null,null,null,0,{"$f":"IF(B371,((YEAR(B371)-YEAR(Instructions!$B$9))*12+MONTH(B371)-MONTH(Instructions!$B$9)+1),\"\")","v":""},"",""]
[366,null,null,null,null,0,{"$f":"IF(B372,((YEAR(B372)-YEAR(Instructions!$B$9))*12+MONTH(B372)-MONTH(Instructions!$B$9)+1),\"\")","v":""},"",""]
[367,null,null,null,null,0,{"$f":"IF(B373,((YEAR(B373)-YEAR(Instructions!$B$9))*12+MONTH(B373)-MONTH(Instructions!$B$9)+1),\"\")","v":""},"",""]
[368,null,null,null,null,0,{"$f":"IF(B374,((YEAR(B374)-YEAR(Instructions!$B$9))*12+MONTH(B374)-MONTH(Instructions!$B$9)+1),\"\")","v":""},"",""]
[369,null,null,null,null,0,{"$f":"IF(B375,((YEAR(B375)-YEAR(Instructions!$B$9))*12+MONTH(B375)-MONTH(Instructions!$B$9)+1),\"\")","v":""},"",""]
[370,null,null,null,null,0,{"$f":"IF(B376,((YEAR(B376)-YEAR(Instructions!$B$9))*12+MONTH(B376)-MONTH(Instructions!$B$9)+1),\"\")","v":""},"",""]
[371,null,null,null,null,0,{"$f":"IF(B377,((YEAR(B377)-YEAR(Instructions!$B$9))*12+MONTH(B377)-MONTH(Instructions!$B$9)+1),\"\")","v":""},"",""]
[372,null,null,null,null,0,{"$f":"IF(B378,((YEAR(B378)-YEAR(Instructions!$B$9))*12+MONTH(B378)-MONTH(Instructions!$B$9)+1),\"\")","v":""},"",""]
[373,null,null,null,null,0,{"$f":"IF(B379,((YEAR(B379)-YEAR(Instructions!$B$9))*12+MONTH(B379)-MONTH(Instructions!$B$9)+1),\"\")","v":""},"",""]
[374,null,null,null,null,0,{"$f":"IF(B380,((YEAR(B380)-YEAR(Instructions!$B$9))*12+MONTH(B380)-MONTH(Instructions!$B$9)+1),\"\")","v":""},"",""]
[375,null,null,null,null,0,{"$f":"IF(B381,((YEAR(B381)-YEAR(Instructions!$B$9))*12+MONTH(B381)-MONTH(Instructions!$B$9)+1),\"\")","v":""},"",""]
[376,null,null,null,null,0,{"$f":"IF(B382,((YEAR(B382)-YEAR(Instructions!$B$9))*12+MONTH(B382)-MONTH(Instructions!$B$9)+1),\"\")","v":""},"",""]
[377,null,null,null,null,0,{"$f":"IF(B383,((YEAR(B383)-YEAR(Instructions!$B$9))*12+MONTH(B383)-MONTH(Instructions!$B$9)+1),\"\")","v":""},"",""]
[378,null,null,null,null,0,{"$f":"IF(B384,((YEAR(B384)-YEAR(Instructions!$B$9))*12+MONTH(B384)-MONTH(Instructions!$B$9)+1),\"\")","v":""},{"$f":"IF(F384>0,INT((G384+2)/3),\"\")","v":""},""]
[379,null,null,null,null,0,{"$f":"IF(B385,((YEAR(B385)-YEAR(Instructions!$B$9))*12+MONTH(B385)-MONTH(Instructions!$B$9)+1),\"\")","v":""},"",""]
[380,null,null,null,null,0,{"$f":"IF(B386,((YEAR(B386)-YEAR(Instructions!$B$9))*12+MONTH(B386)-MONTH(Instructions!$B$9)+1),\"\")","v":""},"",""]
[381,null,null,null,null,0,{"$f":"IF(B387,((YEAR(B387)-YEAR(Instructions!$B$9))*12+MONTH(B387)-MONTH(Instructions!$B$9)+1),\"\")","v":""},"",""]
[382,null,null,null,null,0,{"$f":"IF(B388,((YEAR(B388)-YEAR(Instructions!$B$9))*12+MONTH(B388)-MONTH(Instructions!$B$9)+1),\"\")","v":""},"",""]
[383,null,null,null,null,0,{"$f":"IF(B389,((YEAR(B389)-YEAR(Instructions!$B$9))*12+MONTH(B389)-MONTH(Instructions!$B$9)+1),\"\")","v":""},"",""]
[384,null,null,null,null,0,{"$f":"IF(B390,((YEAR(B390)-YEAR(Instructions!$B$9))*12+MONTH(B390)-MONTH(Instructions!$B$9)+1),\"\")","v":""},"",""]
[385,null,null,null,null,0,{"$f":"IF(B391,((YEAR(B391)-YEAR(Instructions!$B$9))*12+MONTH(B391)-MONTH(Instructions!$B$9)+1),\"\")","v":""},"",""]
[386,null,null,null,null,{"$f":"IF(D392=\"SS\",E392/42,IF(D392=\"AC\",E392/42,IF(D392=\"MR\",E392/30,)))","v":0},{"$f":"IF(B392,((YEAR(B392)-YEAR(Instructions!$B$9))*12+MONTH(B392)-MONTH(Instructions!$B$9)+1),\"\")","v":""},"",{"$f":"IF(F392>=0.8,INT((G392+2)/3),\"\")","v":""}]
[387,null,null,null,null,0,{"$f":"IF(B393,((YEAR(B393)-YEAR(Instructions!$B$9))*12+MONTH(B393)-MONTH(Instructions!$B$9)+1),\"\")","v":""},"",""]
[388,null,null,null,null,0,{"$f":"IF(B394,((YEAR(B394)-YEAR(Instructions!$B$9))*12+MONTH(B394)-MONTH(Instructions!$B$9)+1),\"\")","v":""},"",""]
[389,null,null,null,null,0,{"$f":"IF(B395,((YEAR(B395)-YEAR(Instructions!$B$9))*12+MONTH(B395)-MONTH(Instructions!$B$9)+1),\"\")","v":""},"",""]
[390,null,null,null,null,0,{"$f":"IF(B396,((YEAR(B396)-YEAR(Instructions!$B$9))*12+MONTH(B396)-MONTH(Instructions!$B$9)+1),\"\")","v":""},"",""]
[391,null,null,null,null,0,{"$f":"IF(B397,((YEAR(B397)-YEAR(Instructions!$B$9))*12+MONTH(B397)-MONTH(Instructions!$B$9)+1),\"\")","v":""},"",""]
[392,null,null,null,null,0,{"$f":"IF(B398,((YEAR(B398)-YEAR(Instructions!$B$9))*12+MONTH(B398)-MONTH(Instructions!$B$9)+1),\"\")","v":""},"",""]
[393,null,null,null,null,0,{"$f":"IF(B399,((YEAR(B399)-YEAR(Instructions!$B$9))*12+MONTH(B399)-MONTH(Instructions!$B$9)+1),\"\")","v":""},"",""]
[394,null,null,null,null,0,{"$f":"IF(B400,((YEAR(B400)-YEAR(Instructions!$B$9))*12+MONTH(B400)-MONTH(Instructions!$B$9)+1),\"\")","v":""},"",""]
[395,null,null,null,null,0,{"$f":"IF(B401,((YEAR(B401)-YEAR(Instructions!$B$9))*12+MONTH(B401)-MONTH(Instructions!$B$9)+1),\"\")","v":""},"",""]
[396,null,null,null,null,0,{"$f":"IF(B402,((YEAR(B402)-YEAR(Instructions!$B$9))*12+MONTH(B402)-MONTH(Instructions!$B$9)+1),\"\")","v":""},"",""]
[397,null,null,null,null,0,{"$f":"IF(B403,((YEAR(B403)-YEAR(Instructions!$B$9))*12+MONTH(B403)-MONTH(Instructions!$B$9)+1),\"\")","v":""},"",""]
[398,null,null,null,null,0,{"$f":"IF(B404,((YEAR(B404)-YEAR(Instructions!$B$9))*12+MONTH(B404)-MONTH(Instructions!$B$9)+1),\"\")","v":""},"",""]
[399,null,null,null,null,0,{"$f":"IF(B405,((YEAR(B405)-YEAR(Instructions!$B$9))*12+MONTH(B405)-MONTH(Instructions!$B$9)+1),\"\")","v":""},"",""]
[400,null,null,null,null,0,{"$f":"IF(B406,((YEAR(B406)-YEAR(Instructions!$B$9))*12+MONTH(B406)-MONTH(Instructions!$B$9)+1),\"\")","v":""},"",""]
[401,null,null,null,null,0,{"$f":"IF(B407,((YEAR(B407)-YEAR(Instructions!$B$9))*12+MONTH(B407)-MONTH(Instructions!$B$9)+1),\"\")","v":""},"",""]
[402,null,null,null,null,0,{"$f":"IF(B408,((YEAR(B408)-YEAR(Instructions!$B$9))*12+MONTH(B408)-MONTH(Instructions!$B$9)+1),\"\")","v":""},"",""]
[403,null,null,null,null,0,{"$f":"IF(B409,((YEAR(B409)-YEAR(Instructions!$B$9))*12+MONTH(B409)-MONTH(Instructions!$B$9)+1),\"\")","v":""},"",""]
[404,null,null,null,null,0,{"$f":"IF(B410,((YEAR(B410)-YEAR(Instructions!$B$9))*12+MONTH(B410)-MONTH(Instructions!$B$9)+1),\"\")","v":""},"",""]
[405,null,null,null,null,0,{"$f":"IF(B411,((YEAR(B411)-YEAR(Instructions!$B$9))*12+MONTH(B411)-MONTH(Instructions!$B$9)+1),\"\")","v":""},"",""]
[406,null,null,null,null,0,{"$f":"IF(B412,((YEAR(B412)-YEAR(Instructions!$B$9))*12+MONTH(B412)-MONTH(Instructions!$B$9)+1),\"\")","v":""},"",""]
[407,null,null,null,null,0,{"$f":"IF(B413,((YEAR(B413)-YEAR(Instructions!$B$9))*12+MONTH(B413)-MONTH(Instructions!$B$9)+1),\"\")","v":""},"",""]
[408,null,null,null,null,0,{"$f":"IF(B414,((YEAR(B414)-YEAR(Instructions!$B$9))*12+MONTH(B414)-MONTH(Instructions!$B$9)+1),\"\")","v":""},"",""]
[409,null,null,null,null,0,{"$f":"IF(B415,((YEAR(B415)-YEAR(Instructions!$B$9))*12+MONTH(B415)-MONTH(Instructions!$B$9)+1),\"\")","v":""},"",""]
[410,null,null,null,null,0,{"$f":"IF(B416,((YEAR(B416)-YEAR(Instructions!$B$9))*12+MONTH(B416)-MONTH(Instructions!$B$9)+1),\"\")","v":""},"",""]
[411,null,null,null,null,0,{"$f":"IF(B417,((YEAR(B417)-YEAR(Instructions!$B$9))*12+MONTH(B417)-MONTH(Instructions!$B$9)+1),\"\")","v":""},"",""]
[412,null,null,null,null,0,{"$f":"IF(B418,((YEAR(B418)-YEAR(Instructions!$B$9))*12+MONTH(B418)-MONTH(Instructions!$B$9)+1),\"\")","v":""},"",""]
[413,null,null,null,null,0,{"$f":"IF(B419,((YEAR(B419)-YEAR(Instructions!$B$9))*12+MONTH(B419)-MONTH(Instructions!$B$9)+1),\"\")","v":""},"",""]
[414,null,null,null,null,0,{"$f":"IF(B420,((YEAR(B420)-YEAR(Instructions!$B$9))*12+MONTH(B420)-MONTH(Instructions!$B$9)+1),\"\")","v":""},"",""]
[415,null,null,null,null,0,{"$f":"IF(B421,((YEAR(B421)-YEAR(Instructions!$B$9))*12+MONTH(B421)-MONTH(Instructions!$B$9)+1),\"\")","v":""},"",""]
[416,null,null,null,null,0,{"$f":"IF(B422,((YEAR(B422)-YEAR(Instructions!$B$9))*12+MONTH(B422)-MONTH(Instructions!$B$9)+1),\"\")","v":""},"",""]
[417,null,null,null,null,0,{"$f":"IF(B423,((YEAR(B423)-YEAR(Instructions!$B$9))*12+MONTH(B423)-MONTH(Instructions!$B$9)+1),\"\")","v":""},"",""]
[418,null,null,null,null,0,{"$f":"IF(B424,((YEAR(B424)-YEAR(Instructions!$B$9))*12+MONTH(B424)-MONTH(Instructions!$B$9)+1),\"\")","v":""},"",""]
[419,null,null,null,null,0,{"$f":"IF(B425,((YEAR(B425)-YEAR(Instructions!$B$9))*12+MONTH(B425)-MONTH(Instructions!$B$9)+1),\"\")","v":""},"",""]
[420,null,null,null,null,0,{"$f":"IF(B426,((YEAR(B426)-YEAR(Instructions!$B$9))*12+MONTH(B426)-MONTH(Instructions!$B$9)+1),\"\")","v":""},"",""]
[421,null,null,null,null,0,{"$f":"IF(B427,((YEAR(B427)-YEAR(Instructions!$B$9))*12+MONTH(B427)-MONTH(Instructions!$B$9)+1),\"\")","v":""},"",""]
[422,null,null,null,null,0,{"$f":"IF(B428,((YEAR(B428)-YEAR(Instructions!$B$9))*12+MONTH(B428)-MONTH(Instructions!$B$9)+1),\"\")","v":""},"",""]
[423,null,null,null,null,0,{"$f":"IF(B429,((YEAR(B429)-YEAR(Instructions!$B$9))*12+MONTH(B429)-MONTH(Instructions!$B$9)+1),\"\")","v":""},"",""]
[424,null,null,null,null,0,{"$f":"IF(B430,((YEAR(B430)-YEAR(Instructions!$B$9))*12+MONTH(B430)-MONTH(Instructions!$B$9)+1),\"\")","v":""},"",""]
[425,null,null,null,null,0,{"$f":"IF(B431,((YEAR(B431)-YEAR(Instructions!$B$9))*12+MONTH(B431)-MONTH(Instructions!$B$9)+1),\"\")","v":""},"",""]
[426,null,null,null,null,0,{"$f":"IF(B432,((YEAR(B432)-YEAR(Instructions!$B$9))*12+MONTH(B432)-MONTH(Instructions!$B$9)+1),\"\")","v":""},"",""]
[427,null,null,null,null,0,{"$f":"IF(B433,((YEAR(B433)-YEAR(Instructions!$B$9))*12+MONTH(B433)-MONTH(Instructions!$B$9)+1),\"\")","v":""},"",""]
[428,null,null,null,null,0,{"$f":"IF(B434,((YEAR(B434)-YEAR(Instructions!$B$9))*12+MONTH(B434)-MONTH(Instructions!$B$9)+1),\"\")","v":""},"",""]
[429,null,null,null,null,0,{"$f":"IF(B435,((YEAR(B435)-YEAR(Instructions!$B$9))*12+MONTH(B435)-MONTH(Instructions!$B$9)+1),\"\")","v":""},"",""]
[430,null,null,null,null,0,{"$f":"IF(B436,((YEAR(B436)-YEAR(Instructions!$B$9))*12+MONTH(B436)-MONTH(Instructions!$B$9)+1),\"\")","v":""},"",""]
[431,null,null,null,null,0,{"$f":"IF(B437,((YEAR(B437)-YEAR(Instructions!$B$9))*12+MONTH(B437)-MONTH(Instructions!$B$9)+1),\"\")","v":""},"",""]
[432,null,null,null,null,0,{"$f":"IF(B438,((YEAR(B438)-YEAR(Instructions!$B$9))*12+MONTH(B438)-MONTH(Instructions!$B$9)+1),\"\")","v":""},"",""]
[433,null,null,null,null,0,{"$f":"IF(B439,((YEAR(B439)-YEAR(Instructions!$B$9))*12+MONTH(B439)-MONTH(Instructions!$B$9)+1),\"\")","v":""},"",""]
[434,null,null,null,null,0,{"$f":"IF(B440,((YEAR(B440)-YEAR(Instructions!$B$9))*12+MONTH(B440)-MONTH(Instructions!$B$9)+1),\"\")","v":""},"",""]
[435,null,null,null,null,0,{"$f":"IF(B441,((YEAR(B441)-YEAR(Instructions!$B$9))*12+MONTH(B441)-MONTH(Instructions!$B$9)+1),\"\")","v":""},"",""]
[436,null,null,null,null,0,{"$f":"IF(B442,((YEAR(B442)-YEAR(Instructions!$B$9))*12+MONTH(B442)-MONTH(Instructions!$B$9)+1),\"\")","v":""},"",""]
[437,null,null,null,null,0,{"$f":"IF(B443,((YEAR(B443)-YEAR(Instructions!$B$9))*12+MONTH(B443)-MONTH(Instructions!$B$9)+1),\"\")","v":""},"",""]
[438,null,null,null,null,0,{"$f":"IF(B444,((YEAR(B444)-YEAR(Instructions!$B$9))*12+MONTH(B444)-MONTH(Instructions!$B$9)+1),\"\")","v":""},"",""]
[439,null,null,null,null,0,{"$f":"IF(B445,((YEAR(B445)-YEAR(Instructions!$B$9))*12+MONTH(B445)-MONTH(Instructions!$B$9)+1),\"\")","v":""},"",""]
[440,null,null,null,null,0,{"$f":"IF(B446,((YEAR(B446)-YEAR(Instructions!$B$9))*12+MONTH(B446)-MONTH(Instructions!$B$9)+1),\"\")","v":""},"",""]
[441,null,null,null,null,0,{"$f":"IF(B447,((YEAR(B447)-YEAR(Instructions!$B$9))*12+MONTH(B447)-MONTH(Instructions!$B$9)+1),\"\")","v":""},"",""]
[442,null,null,null,null,0,{"$f":"IF(B448,((YEAR(B448)-YEAR(Instructions!$B$9))*12+MONTH(B448)-MONTH(Instructions!$B$9)+1),\"\")","v":""},{"$f":"IF(F448>0,INT((G448+2)/3),\"\")","v":""},""]
[443,null,null,null,null,0,{"$f":"IF(B449,((YEAR(B449)-YEAR(Instructions!$B$9))*12+MONTH(B449)-MONTH(Instructions!$B$9)+1),\"\")","v":""},"",""]
[444,null,null,null,null,0,{"$f":"IF(B450,((YEAR(B450)-YEAR(Instructions!$B$9))*12+MONTH(B450)-MONTH(Instructions!$B$9)+1),\"\")","v":""},"",""]
[445,null,null,null,null,0,{"$f":"IF(B451,((YEAR(B451)-YEAR(Instructions!$B$9))*12+MONTH(B451)-MONTH(Instructions!$B$9)+1),\"\")","v":""},"",""]
[446,null,null,null,null,0,{"$f":"IF(B452,((YEAR(B452)-YEAR(Instructions!$B$9))*12+MONTH(B452)-MONTH(Instructions!$B$9)+1),\"\")","v":""},"",""]
[447,null,null,null,null,0,{"$f":"IF(B453,((YEAR(B453)-YEAR(Instructions!$B$9))*12+MONTH(B453)-MONTH(Instructions!$B$9)+1),\"\")","v":""},"",""]
[448,null,null,null,null,0,{"$f":"IF(B454,((YEAR(B454)-YEAR(Instructions!$B$9))*12+MONTH(B454)-MONTH(Instructions!$B$9)+1),\"\")","v":""},"",""]
[449,null,null,null,null,0,{"$f":"IF(B455,((YEAR(B455)-YEAR(Instructions!$B$9))*12+MONTH(B455)-MONTH(Instructions!$B$9)+1),\"\")","v":""},"",""]
[450,null,null,null,null,{"$f":"IF(D456=\"SS\",E456/42,IF(D456=\"AC\",E456/42,IF(D456=\"MR\",E456/30,)))","v":0},{"$f":"IF(B456,((YEAR(B456)-YEAR(Instructions!$B$9))*12+MONTH(B456)-MONTH(Instructions!$B$9)+1),\"\")","v":""},"",{"$f":"IF(F456>=0.8,INT((G456+2)/3),\"\")","v":""}]
[451,null,null,null,null,0,{"$f":"IF(B457,((YEAR(B457)-YEAR(Instructions!$B$9))*12+MONTH(B457)-MONTH(Instructions!$B$9)+1),\"\")","v":""},"",""]
[452,null,null,null,null,0,{"$f":"IF(B458,((YEAR(B458)-YEAR(Instructions!$B$9))*12+MONTH(B458)-MONTH(Instructions!$B$9)+1),\"\")","v":""},"",""]
[453,null,null,null,null,0,{"$f":"IF(B459,((YEAR(B459)-YEAR(Instructions!$B$9))*12+MONTH(B459)-MONTH(Instructions!$B$9)+1),\"\")","v":""},"",""]
[454,null,null,null,null,0,{"$f":"IF(B460,((YEAR(B460)-YEAR(Instructions!$B$9))*12+MONTH(B460)-MONTH(Instructions!$B$9)+1),\"\")","v":""},"",""]
[455,null,null,null,null,0,{"$f":"IF(B461,((YEAR(B461)-YEAR(Instructions!$B$9))*12+MONTH(B461)-MONTH(Instructions!$B$9)+1),\"\")","v":""},"",""]
[456,null,null,null,null,0,{"$f":"IF(B462,((YEAR(B462)-YEAR(Instructions!$B$9))*12+MONTH(B462)-MONTH(Instructions!$B$9)+1),\"\")","v":""},"",""]
[457,null,null,null,null,0,{"$f":"IF(B463,((YEAR(B463)-YEAR(Instructions!$B$9))*12+MONTH(B463)-MONTH(Instructions!$B$9)+1),\"\")","v":""},"",""]
[458,null,null,null,null,0,{"$f":"IF(B464,((YEAR(B464)-YEAR(Instructions!$B$9))*12+MONTH(B464)-MONTH(Instructions!$B$9)+1),\"\")","v":""},"",""]
[459,null,null,null,null,0,{"$f":"IF(B465,((YEAR(B465)-YEAR(Instructions!$B$9))*12+MONTH(B465)-MONTH(Instructions!$B$9)+1),\"\")","v":""},"",""]
[460,null,null,null,null,0,{"$f":"IF(B466,((YEAR(B466)-YEAR(Instructions!$B$9))*12+MONTH(B466)-MONTH(Instructions!$B$9)+1),\"\")","v":""},"",""]
[461,null,null,null,null,0,{"$f":"IF(B467,((YEAR(B467)-YEAR(Instructions!$B$9))*12+MONTH(B467)-MONTH(Instructions!$B$9)+1),\"\")","v":""},"",""]
[462,null,null,null,null,0,{"$f":"IF(B468,((YEAR(B468)-YEAR(Instructions!$B$9))*12+MONTH(B468)-MONTH(Instructions!$B$9)+1),\"\")","v":""},"",""]
[463,null,null,null,null,0,{"$f":"IF(B469,((YEAR(B469)-YEAR(Instructions!$B$9))*12+MONTH(B469)-MONTH(Instructions!$B$9)+1),\"\")","v":""},"",""]
[464,null,null,null,null,0,{"$f":"IF(B470,((YEAR(B470)-YEAR(Instructions!$B$9))*12+MONTH(B470)-MONTH(Instructions!$B$9)+1),\"\")","v":""},"",""]
[465,null,null,null,null,0,{"$f":"IF(B471,((YEAR(B471)-YEAR(Instructions!$B$9))*12+MONTH(B471)-MONTH(Instructions!$B$9)+1),\"\")","v":""},"",""]
[466,null,null,null,null,0,{"$f":"IF(B472,((YEAR(B472)-YEAR(Instructions!$B$9))*12+MONTH(B472)-MONTH(Instructions!$B$9)+1),\"\")","v":""},"",""]
[467,null,null,null,null,0,{"$f":"IF(B473,((YEAR(B473)-YEAR(Instructions!$B$9))*12+MONTH(B473)-MONTH(Instructions!$B$9)+1),\"\")","v":""},"",""]
[468,null,null,null,null,0,{"$f":"IF(B474,((YEAR(B474)-YEAR(Instructions!$B$9))*12+MONTH(B474)-MONTH(Instructions!$B$9)+1),\"\")","v":""},"",""]
[469,null,null,null,null,0,{"$f":"IF(B475,((YEAR(B475)-YEAR(Instructions!$B$9))*12+MONTH(B475)-MONTH(Instructions!$B$9)+1),\"\")","v":""},"",""]
[470,null,null,null,null,0,{"$f":"IF(B476,((YEAR(B476)-YEAR(Instructions!$B$9))*12+MONTH(B476)-MONTH(Instructions!$B$9)+1),\"\")","v":""},"",""]
[471,null,null,null,null,0,{"$f":"IF(B477,((YEAR(B477)-YEAR(Instructions!$B$9))*12+MONTH(B477)-MONTH(Instructions!$B$9)+1),\"\")","v":""},"",""]
[472,null,null,null,null,0,{"$f":"IF(B478,((YEAR(B478)-YEAR(Instructions!$B$9))*12+MONTH(B478)-MONTH(Instructions!$B$9)+1),\"\")","v":""},"",""]
[473,null,null,null,null,0,{"$f":"IF(B479,((YEAR(B479)-YEAR(Instructions!$B$9))*12+MONTH(B479)-MONTH(Instructions!$B$9)+1),\"\")","v":""},"",""]
[474,null,null,null,null,0,{"$f":"IF(B480,((YEAR(B480)-YEAR(Instructions!$B$9))*12+MONTH(B480)-MONTH(Instructions!$B$9)+1),\"\")","v":""},"",""]
[475,null,null,null,null,0,{"$f":"IF(B481,((YEAR(B481)-YEAR(Instructions!$B$9))*12+MONTH(B481)-MONTH(Instructions!$B$9)+1),\"\")","v":""},"",""]
[476,null,null,null,null,0,{"$f":"IF(B482,((YEAR(B482)-YEAR(Instructions!$B$9))*12+MONTH(B482)-MONTH(Instructions!$B$9)+1),\"\")","v":""},"",""]
[477,null,null,null,null,0,{"$f":"IF(B483,((YEAR(B483)-YEAR(Instructions!$B$9))*12+MONTH(B483)-MONTH(Instructions!$B$9)+1),\"\")","v":""},"",""]
[478,null,null,null,null,0,{"$f":"IF(B484,((YEAR(B484)-YEAR(Instructions!$B$9))*12+MONTH(B484)-MONTH(Instructions!$B$9)+1),\"\")","v":""},"",""]
[479,null,null,null,null,0,{"$f":"IF(B485,((YEAR(B485)-YEAR(Instructions!$B$9))*12+MONTH(B485)-MONTH(Instructions!$B$9)+1),\"\")","v":""},"",""]
[480,null,null,null,null,0,{"$f":"IF(B486,((YEAR(B486)-YEAR(Instructions!$B$9))*12+MONTH(B486)-MONTH(Instructions!$B$9)+1),\"\")","v":""},"",""]
[481,null,null,null,null,0,{"$f":"IF(B487,((YEAR(B487)-YEAR(Instructions!$B$9))*12+MONTH(B487)-MONTH(Instructions!$B$9)+1),\"\")","v":""},"",""]
[482,null,null,null,null,0,{"$f":"IF(B488,((YEAR(B488)-YEAR(Instructions!$B$9))*12+MONTH(B488)-MONTH(Instructions!$B$9)+1),\"\")","v":""},"",""]
[483,null,null,null,null,0,{"$f":"IF(B489,((YEAR(B489)-YEAR(Instructions!$B$9))*12+MONTH(B489)-MONTH(Instructions!$B$9)+1),\"\")","v":""},"",""]
[484,null,null,null,null,0,{"$f":"IF(B490,((YEAR(B490)-YEAR(Instructions!$B$9))*12+MONTH(B490)-MONTH(Instructions!$B$9)+1),\"\")","v":""},"",""]
[485,null,null,null,null,0,{"$f":"IF(B491,((YEAR(B491)-YEAR(Instructions!$B$9))*12+MONTH(B491)-MONTH(Instructions!$B$9)+1),\"\")","v":""},"",""]
[486,null,null,null,null,0,{"$f":"IF(B492,((YEAR(B492)-YEAR(Instructions!$B$9))*12+MONTH(B492)-MONTH(Instructions!$B$9)+1),\"\")","v":""},"",""]
[487,null,null,null,null,0,{"$f":"IF(B493,((YEAR(B493)-YEAR(Instructions!$B$9))*12+MONTH(B493)-MONTH(Instructions!$B$9)+1),\"\")","v":""},"",""]
[488,null,null,null,null,0,{"$f":"IF(B494,((YEAR(B494)-YEAR(Instructions!$B$9))*12+MONTH(B494)-MONTH(Instructions!$B$9)+1),\"\")","v":""},"",""]
[489,null,null,null,null,0,{"$f":"IF(B495,((YEAR(B495)-YEAR(Instructions!$B$9))*12+MONTH(B495)-MONTH(Instructions!$B$9)+1),\"\")","v":""},"",""]
[490,null,null,null,null,0,{"$f":"IF(B496,((YEAR(B496)-YEAR(Instructions!$B$9))*12+MONTH(B496)-MONTH(Instructions!$B$9)+1),\"\")","v":""},"",""]
[491,null,null,null,null,0,{"$f":"IF(B497,((YEAR(B497)-YEAR(Instructions!$B$9))*12+MONTH(B497)-MONTH(Instructions!$B$9)+1),\"\")","v":""},"",""]
[492,null,null,null,null,0,{"$f":"IF(B498,((YEAR(B498)-YEAR(Instructions!$B$9))*12+MONTH(B498)-MONTH(Instructions!$B$9)+1),\"\")","v":""},"",""]
[493,null,null,null,null,0,{"$f":"IF(B499,((YEAR(B499)-YEAR(Instructions!$B$9))*12+MONTH(B499)-MONTH(Instructions!$B$9)+1),\"\")","v":""},"",""]
[494,null,null,null,null,0,{"$f":"IF(B500,((YEAR(B500)-YEAR(Instructions!$B$9))*12+MONTH(B500)-MONTH(Instructions!$B$9)+1),\"\")","v":""},"",""]
[495,null,null,null,null,0,{"$f":"IF(B501,((YEAR(B501)-YEAR(Instructions!$B$9))*12+MONTH(B501)-MONTH(Instructions!$B$9)+1),\"\")","v":""},"",""]
[496,null,null,null,null,0,{"$f":"IF(B502,((YEAR(B502)-YEAR(Instructions!$B$9))*12+MONTH(B502)-MONTH(Instructions!$B$9)+1),\"\")","v":""},"",""]
[497,null,null,null,null,0,{"$f":"IF(B503,((YEAR(B503)-YEAR(Instructions!$B$9))*12+MONTH(B503)-MONTH(Instructions!$B$9)+1),\"\")","v":""},"",""]
[498,null,null,null,null,0,{"$f":"IF(B504,((YEAR(B504)-YEAR(Instructions!$B$9))*12+MONTH(B504)-MONTH(Instructions!$B$9)+1),\"\")","v":""},"",""]
[499,null,null,null,null,0,{"$f":"IF(B505,((YEAR(B505)-YEAR(Instructions!$B$9))*12+MONTH(B505)-MONTH(Instructions!$B$9)+1),\"\")","v":""},"",""]
[500,null,null,null,null,0,{"$f":"IF(B506,((YEAR(B506)-YEAR(Instructions!$B$9))*12+MONTH(B506)-MONTH(Instructions!$B$9)+1),\"\")","v":""},"",""]

{"sheet":"12 Mos FollowUp","index":10,"n_rows":243,"n_cols":24,"rows_kept":243,"cut":false,"hidden":false,"merged":[[207,0,217,0],[219,0,229,0],[231,0,241,0],[147,0,157,0],[159,0,169,0],[171,0,181,0],[183,0,193,0],[195,0,205,0],[111,0,121,0],[135,0,145,0],[51,0,61,0],[63,0,73,0],[75,0,85,0],[87,0,97,0],[123,0,133,0],[0,11,2,11],[15,0,25,0],[27,0,37,0],[39,0,49,0],[99,0,109,0],[3,0,13,0],[0,5,2,5],[0,6,2,6],[0,7,2,7],[0,9,2,9]]}
[{"$f":"Instructions!$A$1","v":"3 Version  - 11/15/2019"},"Outcome Data",null,null,null,"Has this youth participated in ART more than once?","Was the youth mandated to participate in ART?","Did this youth have prior justice involvement?",null,"Has youth offended within 12 months of completion of ART?",null,"Was youth involuntarily placed out of home within 12 months of completion of ART?",null,null,"Calculation columns K-V will be hidden from users"]
[]
[null,"Participant Code","Program Completion Date","Survey Target Completion Date","Survey Completion Date",null,null,null,"Description of offense (if prior involvement is Yes)",null,"Description of offense (if 12 mos. follow-up is Yes)",null,"Placement Type",null,"Qtr","Survey Completed by quarter","Re-offended within 12 mos.","Out of home Placement 12 mos.","Participated in ART more than once","Mandated to participate in ART","Prior Justice Involvement",null,"Summary of 12 Month Follow Up Data"]
["Program 1",{"$f":"Programs!B9","v":0},{"$f":"IF(Programs!$C$6=\"\",\"\",Programs!$C$6)","v":""},{"$f":"IF(C4<>\"\",C4+365,\"\")","v":""},null,null,null,null,null,null,null,null,null,null,{"$f":"IF(Programs!$D$6=\"\",\"\",Programs!$D$6)","v":""},{"$f":"IF(E4=\"\",\"\",O4)","v":""},{"$f":"IF(J4=\"Yes\",O4,\"\")","v":""},{"$f":"IF(L4=\"Yes\",O4,\"\")","v":""},{"$f":"IF(F4=\"Yes\",O4,\"\")","v":""},{"$f":"IF(G4=\"Yes\",O4,\"\")","v":""},{"$f":"IF(H4=\"Yes\",O4,\"\")","v":""},null,"Out of home placement 12 months post ART completion"]
[null,{"$f":"Programs!B10","v":0},{"$f":"IF(Programs!$C$6=\"\",\"\",Programs!$C$6)","v":""},{"$f":"IF(C5<>\"\",C5+365,\"\")","v":""},null,null,null,null,null,null,null,null,null,null,{"$f":"IF(Programs!$D$6=\"\",\"\",Programs!$D$6)","v":""},{"$f":"IF(E5=\"\",\"\",O5)","v":""},{"$f":"IF(J5=\"Yes\",O5,\"\")","v":""},{"$f":"IF(L5=\"Yes\",O5,\"\")","v":""},{"$f":"IF(F5=\"Yes\",O5,\"\")","v":""},{"$f":"IF(G5=\"Yes\",O5,\"\")","v":""},{"$f":"IF(H5=\"Yes\",O5,\"\")","v":""},null,{"$f":"COUNTIF($M$4:$M$1040,X5)","v":0},"Specialized or therapeutic Foster Care"]
[null,{"$f":"Programs!B11","v":0},{"$f":"IF(Programs!$C$6=\"\",\"\",Programs!$C$6)","v":""},"",null,null,null,null,null,null,null,null,null,null,{"$f":"IF(Programs!$D$6=\"\",\"\",Programs!$D$6)","v":""},"","","","","","",null,0,"CRR/Host Home"]
[null,{"$f":"Programs!B12","v":0},{"$f":"IF(Programs!$C$6=\"\",\"\",Programs!$C$6)","v":""},"",null,null,null,null,null,null,null,null,null,null,{"$f":"IF(Programs!$D$6=\"\",\"\",Programs!$D$6)","v":""},"","","","","","",null,0,"Emergency Shelter"]
[null,{"$f":"Programs!B13","v":0},{"$f":"IF(Programs!$C$6=\"\",\"\",Programs!$C$6)","v":""},"",null,null,null,null,null,null,null,null,null,null,{"$f":"IF(Programs!$D$6=\"\",\"\",Programs!$D$6)","v":""},"","","","","","",null,0,"Group Home"]
[null,{"$f":"Programs!B14","v":0},{"$f":"IF(Programs!$C$6=\"\",\"\",Programs!$C$6)","v":""},"",null,null,null,null,null,null,null,null,null,null,{"$f":"IF(Programs!$D$6=\"\",\"\",Programs!$D$6)","v":""},"","","","","","",null,0,"Juvenile Detention"]
[null,{"$f":"Programs!B15","v":0},{"$f":"IF(Programs!$C$6=\"\",\"\",Programs!$C$6)","v":""},"",null,null,null,null,null,null,null,null,null,null,{"$f":"IF(Programs!$D$6=\"\",\"\",Programs!$D$6)","v":""},"","","","","","",null,0,"Correctional Center/Jail"]
[null,{"$f":"Programs!B16","v":0},{"$f":"IF(Programs!$C$6=\"\",\"\",Programs!$C$6)","v":""},"",null,null,null,null,null,null,null,null,null,null,{"$f":"IF(Programs!$D$6=\"\",\"\",Programs!$D$6)","v":""},"","","","","","",null,0,"Residential Center (non-D&A)"]
[null,{"$f":"Programs!B17","v":0},{"$f":"IF(Programs!$C$6=\"\",\"\",Programs!$C$6)","v":""},{"$f":"IF(C12<>\"\",C12+365,\"\")","v":""},null,null,null,null,null,null,null,null,null,null,{"$f":"IF(Programs!$D$6=\"\",\"\",Programs!$D$6)","v":""},{"$f":"IF(E12=\"\",\"\",O12)","v":""},{"$f":"IF(J12=\"Yes\",O12,\"\")","v":""},{"$f":"IF(L12=\"Yes\",O12,\"\")","v":""},{"$f":"IF(F12=\"Yes\",O12,\"\")","v":""},{"$f":"IF(G12=\"Yes\",O12,\"\")","v":""},{"$f":"IF(H12=\"Yes\",O12,\"\")","v":""},null,0,"Residential or Inpatient D&A"]
[null,{"$f":"Programs!B18","v":0},{"$f":"IF(Programs!$C$6=\"\",\"\",Programs!$C$6)","v":""},"",null,null,null,null,null,null,null,null,null,null,{"$f":"IF(Programs!$D$6=\"\",\"\",Programs!$D$6)","v":""},"","","","","","",null,{"$f":"COUNTIF($M$4:$M$1040,X12)","v":0},"Youth Camp"]
[null,{"$f":"Programs!B19","v":0},{"$f":"IF(Programs!$C$6=\"\",\"\",Programs!$C$6)","v":""},"",null,null,null,null,null,null,null,null,null,null,{"$f":"IF(Programs!$D$6=\"\",\"\",Programs!$D$6)","v":""},"","","","","",""]
[null,{"$f":"Programs!B20","v":0},{"$f":"IF(Programs!$C$6=\"\",\"\",Programs!$C$6)","v":""},"",null,null,null,null,null,null,null,null,null,null,{"$f":"IF(Programs!$D$6=\"\",\"\",Programs!$D$6)","v":""},"","","","","","",null,"Prior justice involvement"]
["Program 2",{"$f":"Programs!B28","v":0},{"$f":"IF(Programs!$C$25=\"\",\"\",Programs!$C$25)","v":""},"",null,null,null,null,null,null,null,null,null,null,{"$f":"IF(Programs!$D$25=\"\",\"\",Programs!$D$25)","v":""},"","","","","","",null,{"$f":"COUNTIF($I$4:$I$1040,X16)","v":0},"Summary Offense"]
[null,{"$f":"Programs!B29","v":0},{"$f":"IF(Programs!$C$25=\"\",\"\",Programs!$C$25)","v":""},"",null,null,null,null,null,null,null,null,null,null,{"$f":"IF(Programs!$D$25=\"\",\"\",Programs!$D$25)","v":""},"","","","","","",null,{"$f":"COUNTIF($I$4:$I$1040,X17)","v":0},"Misdemeanor or Felony Charges"]
[null,{"$f":"Programs!B30","v":0},{"$f":"IF(Programs!$C$25=\"\",\"\",Programs!$C$25)","v":""},"",null,null,null,null,null,null,null,null,null,null,{"$f":"IF(Programs!$D$25=\"\",\"\",Programs!$D$25)","v":""},"","","","","","",null,0,"Adjudicated Delinquent or Criminally Convicted of New Offense"]
[null,{"$f":"Programs!B31","v":0},{"$f":"IF(Programs!$C$25=\"\",\"\",Programs!$C$25)","v":""},"",null,null,null,null,null,null,null,null,null,null,{"$f":"IF(Programs!$D$25=\"\",\"\",Programs!$D$25)","v":""},"","","","","","",null,0,"Other"]
[null,{"$f":"Programs!B32","v":0},{"$f":"IF(Programs!$C$25=\"\",\"\",Programs!$C$25)","v":""},"",null,null,null,null,null,null,null,null,null,null,{"$f":"IF(Programs!$D$25=\"\",\"\",Programs!$D$25)","v":""},"","","","","",""]
[null,{"$f":"Programs!B33","v":0},{"$f":"IF(Programs!$C$25=\"\",\"\",Programs!$C$25)","v":""},"",null,null,null,null,null,null,null,null,null,null,{"$f":"IF(Programs!$D$25=\"\",\"\",Programs!$D$25)","v":""},"","","","","","",null,"Justice involvement 12 months post ART completion"]
[null,{"$f":"Programs!B34","v":0},{"$f":"IF(Programs!$C$25=\"\",\"\",Programs!$C$25)","v":""},"",null,null,null,null,null,null,null,null,null,null,{"$f":"IF(Programs!$D$25=\"\",\"\",Programs!$D$25)","v":""},"","","","","","",null,{"$f":"COUNTIF($K$4:$K$1040,X22)","v":0},"Probation Violation"]
[null,{"$f":"Programs!B35","v":0},{"$f":"IF(Programs!$C$25=\"\",\"\",Programs!$C$25)","v":""},"",null,null,null,null,null,null,null,null,null,null,{"$f":"IF(Programs!$D$25=\"\",\"\",Programs!$D$25)","v":""},"","","","","","",null,{"$f":"COUNTIF($K$4:$K$1040,X23)","v":0},"Summary Offense"]
[null,{"$f":"Programs!B36","v":0},{"$f":"IF(Programs!$C$25=\"\",\"\",Programs!$C$25)","v":""},{"$f":"IF(C24<>\"\",C24+365,\"\")","v":""},null,null,null,null,null,null,null,null,null,null,{"$f":"IF(Programs!$D$25=\"\",\"\",Programs!$D$25)","v":""},{"$f":"IF(E24=\"\",\"\",O24)","v":""},{"$f":"IF(J24=\"Yes\",O24,\"\")","v":""},{"$f":"IF(L24=\"Yes\",O24,\"\")","v":""},{"$f":"IF(F24=\"Yes\",O24,\"\")","v":""},{"$f":"IF(G24=\"Yes\",O24,\"\")","v":""},{"$f":"IF(H24=\"Yes\",O24,\"\")","v":""},null,0,"Misdemeanor or Felony Charges"]
[null,{"$f":"Programs!B37","v":0},{"$f":"IF(Programs!$C$25=\"\",\"\",Programs!$C$25)","v":""},"",null,null,null,null,null,null,null,null,null,null,{"$f":"IF(Programs!$D$25=\"\",\"\",Programs!$D$25)","v":""},"","","","","","",null,0,"Adjudicated Delinquent or Criminally Convicted of New Offense"]
[null,{"$f":"Programs!B38","v":0},{"$f":"IF(Programs!$C$25=\"\",\"\",Programs!$C$25)","v":""},"",null,null,null,null,null,null,null,null,null,null,{"$f":"IF(Programs!$D$25=\"\",\"\",Programs!$D$25)","v":""},"","","","","","",null,0,"Other"]
[null,{"$f":"Programs!B39","v":0},{"$f":"IF(Programs!$C$25=\"\",\"\",Programs!$C$25)","v":""},"",null,null,null,null,null,null,null,null,null,null,{"$f":"IF(Programs!$D$25=\"\",\"\",Programs!$D$25)","v":""},"","","","","",""]
["Program 3",{"$f":"Programs!B47","v":0},{"$f":"IF(Programs!$C$44=\"\",\"\",Programs!$C$44)","v":""},"",null,null,null,null,null,null,null,null,null,null,{"$f":"IF(Programs!$D$44=\"\",\"\",Programs!$D$44)","v":""},"","","","","",""]
[null,{"$f":"Programs!B48","v":0},{"$f":"IF(Programs!$C$44=\"\",\"\",Programs!$C$44)","v":""},"",null,null,null,null,null,null,null,null,null,null,{"$f":"IF(Programs!$D$44=\"\",\"\",Programs!$D$44)","v":""},"","","","","",""]
[null,{"$f":"Programs!B49","v":0},{"$f":"IF(Programs!$C$44=\"\",\"\",Programs!$C$44)","v":""},"",null,null,null,null,null,null,null,null,null,null,{"$f":"IF(Programs!$D$44=\"\",\"\",Programs!$D$44)","v":""},"","","","","",""]
[null,{"$f":"Programs!B50","v":0},{"$f":"IF(Programs!$C$44=\"\",\"\",Programs!$C$44)","v":""},"",null,null,null,null,null,null,null,null,null,null,{"$f":"IF(Programs!$D$44=\"\",\"\",Programs!$D$44)","v":""},"","","","","",""]
[null,{"$f":"Programs!B51","v":0},{"$f":"IF(Programs!$C$44=\"\",\"\",Programs!$C$44)","v":""},"",null,null,null,null,null,null,null,null,null,null,{"$f":"IF(Programs!$D$44=\"\",\"\",Programs!$D$44)","v":""},"","","","","",""]
[null,{"$f":"Programs!B52","v":0},{"$f":"IF(Programs!$C$44=\"\",\"\",Programs!$C$44)","v":""},"",null,null,null,null,null,null,null,null,null,null,{"$f":"IF(Programs!$D$44=\"\",\"\",Programs!$D$44)","v":""},"","","","","",""]
[null,{"$f":"Programs!B53","v":0},{"$f":"IF(Programs!$C$44=\"\",\"\",Programs!$C$44)","v":""},"",null,null,null,null,null,null,null,null,null,null,{"$f":"IF(Programs!$D$44=\"\",\"\",Programs!$D$44)","v":""},"","","","","",""]
[null,{"$f":"Programs!B54","v":0},{"$f":"IF(Programs!$C$44=\"\",\"\",Programs!$C$44)","v":""},"",null,null,null,null,null,null,null,null,null,null,{"$f":"IF(Programs!$D$44=\"\",\"\",Programs!$D$44)","v":""},"","","","","",""]
[null,{"$f":"Programs!B55","v":0},{"$f":"IF(Programs!$C$44=\"\",\"\",Programs!$C$44)","v":""},{"$f":"IF(C36<>\"\",C36+365,\"\")","v":""},null,null,null,null,null,null,null,null,null,null,{"$f":"IF(Programs!$D$44=\"\",\"\",Programs!$D$44)","v":""},{"$f":"IF(E36=\"\",\"\",O36)","v":""},{"$f":"IF(J36=\"Yes\",O36,\"\")","v":""},{"$f":"IF(L36=\"Yes\",O36,\"\")","v":""},{"$f":"IF(F36=\"Yes\",O36,\"\")","v":""},{"$f":"IF(G36=\"Yes\",O36,\"\")","v":""},{"$f":"IF(H36=\"Yes\",O36,\"\")","v":""}]
[null,{"$f":"Programs!B56","v":0},{"$f":"IF(Programs!$C$44=\"\",\"\",Programs!$C$44)","v":""},"",null,null,null,null,null,null,null,null,null,null,{"$f":"IF(Programs!$D$44=\"\",\"\",Programs!$D$44)","v":""},"","","","","",""]
[null,{"$f":"Programs!B57","v":0},{"$f":"IF(Programs!$C$44=\"\",\"\",Programs!$C$44)","v":""},"",null,null,null,null,null,null,null,null,null,null,{"$f":"IF(Programs!$D$44=\"\",\"\",Programs!$D$44)","v":""},"","","","","",""]
[null,{"$f":"Programs!B58","v":0},{"$f":"IF(Programs!$C$44=\"\",\"\",Programs!$C$44)","v":""},"",null,null,null,null,null,null,null,null,null,null,{"$f":"IF(Programs!$D$44=\"\",\"\",Programs!$D$44)","v":""},"","","","","",""]
["Program 4",{"$f":"Programs!B66","v":0},{"$f":"IF(Programs!$C$63=\"\",\"\",Programs!$C$63)","v":""},"",null,null,null,null,null,null,null,null,null,null,{"$f":"IF(Programs!$D$63=\"\",\"\",Programs!$D$63)","v":""},"","","","","",""]
[null,{"$f":"Programs!B67","v":0},{"$f":"IF(Programs!$C$63=\"\",\"\",Programs!$C$63)","v":""},"",null,null,null,null,null,null,null,null,null,null,{"$f":"IF(Programs!$D$63=\"\",\"\",Programs!$D$63)","v":""},"","","","","",""]
[null,{"$f":"Programs!B68","v":0},{"$f":"IF(Programs!$C$63=\"\",\"\",Programs!$C$63)","v":""},"",null,null,null,null,null,null,null,null,null,null,{"$f":"IF(Programs!$D$63=\"\",\"\",Programs!$D$63)","v":""},"","","","","",""]
[null,{"$f":"Programs!B69","v":0},{"$f":"IF(Programs!$C$63=\"\",\"\",Programs!$C$63)","v":""},"",null,null,null,null,null,null,null,null,null,null,{"$f":"IF(Programs!$D$63=\"\",\"\",Programs!$D$63)","v":""},"","","","","",""]
[null,{"$f":"Programs!B70","v":0},{"$f":"IF(Programs!$C$63=\"\",\"\",Programs!$C$63)","v":""},"",null,null,null,null,null,null,null,null,null,null,{"$f":"IF(Programs!$D$63=\"\",\"\",Programs!$D$63)","v":""},"","","","","",""]
[null,{"$f":"Programs!B71","v":0},{"$f":"IF(Programs!$C$63=\"\",\"\",Programs!$C$63)","v":""},"",null,null,null,null,null,null,null,null,null,null,{"$f":"IF(Programs!$D$63=\"\",\"\",Programs!$D$63)","v":""},"","","","","",""]
[null,{"$f":"Programs!B72","v":0},{"$f":"IF(Programs!$C$63=\"\",\"\",Programs!$C$63)","v":""},"",null,null,null,null,null,null,null,null,null,null,{"$f":"IF(Programs!$D$63=\"\",\"\",Programs!$D$63)","v":""},"","","","","",""]
[null,{"$f":"Programs!B73","v":0},{"$f":"IF(Programs!$C$63=\"\",\"\",Programs!$C$63)","v":""},"",null,null,null,null,null,null,null,null,null,null,{"$f":"IF(Programs!$D$63=\"\",\"\",Programs!$D$63)","v":""},"","","","","",""]
[null,{"$f":"Programs!B74","v":0},{"$f":"IF(Programs!$C$63=\"\",\"\",Programs!$C$63)","v":""},{"$f":"IF(C48<>\"\",C48+365,\"\")","v":""},null,null,null,null,null,null,null,null,null,null,{"$f":"IF(Programs!$D$63=\"\",\"\",Programs!$D$63)","v":""},{"$f":"IF(E48=\"\",\"\",O48)","v":""},{"$f":"IF(J48=\"Yes\",O48,\"\")","v":""},{"$f":"IF(L48=\"Yes\",O48,\"\")","v":""},{"$f":"IF(F48=\"Yes\",O48,\"\")","v":""},{"$f":"IF(G48=\"Yes\",O48,\"\")","v":""},{"$f":"IF(H48=\"Yes\",O48,\"\")","v":""}]
[null,{"$f":"Programs!B75","v":0},{"$f":"IF(Programs!$C$63=\"\",\"\",Programs!$C$63)","v":""},"",null,null,null,null,null,null,null,null,null,null,{"$f":"IF(Programs!$D$63=\"\",\"\",Programs!$D$63)","v":""},"","","","","",""]
[null,{"$f":"Programs!B76","v":0},{"$f":"IF(Programs!$C$63=\"\",\"\",Programs!$C$63)","v":""},"",null,null,null,null,null,null,null,null,null,null,{"$f":"IF(Programs!$D$63=\"\",\"\",Programs!$D$63)","v":""},"","","","","",""]
[null,{"$f":"Programs!B77","v":0},{"$f":"IF(Programs!$C$63=\"\",\"\",Programs!$C$63)","v":""},"",null,null,null,null,null,null,null,null,null,null,{"$f":"IF(Programs!$D$63=\"\",\"\",Programs!$D$63)","v":""},"","","","","",""]
["Program 5",{"$f":"Programs!B85","v":0},{"$f":"IF(Programs!$C$82=\"\",\"\",Programs!$C$82)","v":""},"",null,null,null,null,null,null,null,null,null,null,{"$f":"IF(Programs!$D$85=\"\",\"\",Programs!$D$85)","v":""},"","","","","",""]
[null,{"$f":"Programs!B86","v":0},{"$f":"IF(Programs!$C$82=\"\",\"\",Programs!$C$82)","v":""},"",null,null,null,null,null,null,null,null,null,null,{"$f":"IF(Programs!$D$85=\"\",\"\",Programs!$D$85)","v":""},"","","","","",""]
[null,{"$f":"Programs!B87","v":0},{"$f":"IF(Programs!$C$82=\"\",\"\",Programs!$C$82)","v":""},"",null,null,null,null,null,null,null,null,null,null,{"$f":"IF(Programs!$D$85=\"\",\"\",Programs!$D$85)","v":""},"","","","","",""]
[null,{"$f":"Programs!B88","v":0},{"$f":"IF(Programs!$C$82=\"\",\"\",Programs!$C$82)","v":""},"",null,null,null,null,null,null,null,null,null,null,{"$f":"IF(Programs!$D$85=\"\",\"\",Programs!$D$85)","v":""},"","","","","",""]
[null,{"$f":"Programs!B89","v":0},{"$f":"IF(Programs!$C$82=\"\",\"\",Programs!$C$82)","v":""},"",null,null,null,null,null,null,null,null,null,null,{"$f":"IF(Programs!$D$85=\"\",\"\",Programs!$D$85)","v":""},"","","","","",""]
[null,{"$f":"Programs!B90","v":0},{"$f":"IF(Programs!$C$82=\"\",\"\",Programs!$C$82)","v":""},"",null,null,null,null,null,null,null,null,null,null,{"$f":"IF(Programs!$D$85=\"\",\"\",Programs!$D$85)","v":""},"","","","","",""]
[null,{"$f":"Programs!B91","v":0},{"$f":"IF(Programs!$C$82=\"\",\"\",Programs!$C$82)","v":""},"",null,null,null,null,null,null,null,null,null,null,{"$f":"IF(Programs!$D$85=\"\",\"\",Programs!$D$85)","v":""},"","","","","",""]
[null,{"$f":"Programs!B92","v":0},{"$f":"IF(Programs!$C$82=\"\",\"\",Programs!$C$82)","v":""},"",null,null,null,null,null,null,null,null,null,null,{"$f":"IF(Programs!$D$85=\"\",\"\",Programs!$D$85)","v":""},"","","","","",""]
[null,{"$f":"Programs!B93","v":0},{"$f":"IF(Programs!$C$82=\"\",\"\",Programs!$C$82)","v":""},{"$f":"IF(C60<>\"\",C60+365,\"\")","v":""},null,null,null,null,null,null,null,null,null,null,{"$f":"IF(Programs!$D$85=\"\",\"\",Programs!$D$85)","v":""},{"$f":"IF(E60=\"\",\"\",O60)","v":""},{"$f":"IF(J60=\"Yes\",O60,\"\")","v":""},{"$f":"IF(L60=\"Yes\",O60,\"\")","v":""},{"$f":"IF(F60=\"Yes\",O60,\"\")","v":""},{"$f":"IF(G60=\"Yes\",O60,\"\")","v":""},{"$f":"IF(H60=\"Yes\",O60,\"\")","v":""}]
[null,{"$f":"Programs!B94","v":0},{"$f":"IF(Programs!$C$82=\"\",\"\",Programs!$C$82)","v":""},"",null,null,null,null,null,null,null,null,null,null,{"$f":"IF(Programs!$D$85=\"\",\"\",Programs!$D$85)","v":""},"","","","","",""]
[null,{"$f":"Programs!B95","v":0},{"$f":"IF(Programs!$C$82=\"\",\"\",Programs!$C$82)","v":""},"",null,null,null,null,null,null,null,null,null,null,{"$f":"IF(Programs!$D$85=\"\",\"\",Programs!$D$85)","v":""},"","","","","",""]
[null,{"$f":"Programs!B96","v":0},{"$f":"IF(Programs!$C$82=\"\",\"\",Programs!$C$82)","v":""},"",null,null,null,null,null,null,null,null,null,null,{"$f":"IF(Programs!$D$85=\"\",\"\",Programs!$D$85)","v":""},"","","","","",""]
["Program 6",{"$f":"Programs!B104","v":0},{"$f":"IF(Programs!$C$101=\"\",\"\",Programs!$C$101)","v":""},"",null,null,null,null,null,null,null,null,null,null,{"$f":"IF(Programs!$D$104=\"\",\"\",Programs!$D$104)","v":""},"","","","","",""]
[null,{"$f":"Programs!B105","v":0},{"$f":"IF(Programs!$C$101=\"\",\"\",Programs!$C$101)","v":""},"",null,null,null,null,null,null,null,null,null,null,{"$f":"IF(Programs!$D$104=\"\",\"\",Programs!$D$104)","v":""},"","","","","",""]
[null,{"$f":"Programs!B106","v":0},{"$f":"IF(Programs!$C$101=\"\",\"\",Programs!$C$101)","v":""},"",null,null,null,null,null,null,null,null,null,null,{"$f":"IF(Programs!$D$104=\"\",\"\",Programs!$D$104)","v":""},"","","","","",""]
[null,{"$f":"Programs!B107","v":0},{"$f":"IF(Programs!$C$101=\"\",\"\",Programs!$C$101)","v":""},"",null,null,null,null,null,null,null,null,null,null,{"$f":"IF(Programs!$D$104=\"\",\"\",Programs!$D$104)","v":""},"","","","","",""]
[null,{"$f":"Programs!B108","v":0},{"$f":"IF(Programs!$C$101=\"\",\"\",Programs!$C$101)","v":""},"",null,null,null,null,null,null,null,null,null,null,{"$f":"IF(Programs!$D$104=\"\",\"\",Programs!$D$104)","v":""},"","","","","",""]
[null,{"$f":"Programs!B109","v":0},{"$f":"IF(Programs!$C$101=\"\",\"\",Programs!$C$101)","v":""},"",null,null,null,null,null,null,null,null,null,null,{"$f":"IF(Programs!$D$104=\"\",\"\",Programs!$D$104)","v":""},"","","","","",""]
[null,{"$f":"Programs!B110","v":0},{"$f":"IF(Programs!$C$101=\"\",\"\",Programs!$C$101)","v":""},"",null,null,null,null,null,null,null,null,null,null,{"$f":"IF(Programs!$D$104=\"\",\"\",Programs!$D$104)","v":""},"","","","","",""]
[null,{"$f":"Programs!B111","v":0},{"$f":"IF(Programs!$C$101=\"\",\"\",Programs!$C$101)","v":""},"",null,null,null,null,null,null,null,null,null,null,{"$f":"IF(Programs!$D$104=\"\",\"\",Programs!$D$104)","v":""},"","","","","",""]
[null,{"$f":"Programs!B112","v":0},{"$f":"IF(Programs!$C$101=\"\",\"\",Programs!$C$101)","v":""},{"$f":"IF(C72<>\"\",C72+365,\"\")","v":""},null,null,null,null,null,null,null,null,null,null,{"$f":"IF(Programs!$D$104=\"\",\"\",Programs!$D$104)","v":""},{"$f":"IF(E72=\"\",\"\",O72)","v":""},{"$f":"IF(J72=\"Yes\",O72,\"\")","v":""},{"$f":"IF(L72=\"Yes\",O72,\"\")","v":""},{"$f":"IF(F72=\"Yes\",O72,\"\")","v":""},{"$f":"IF(G72=\"Yes\",O72,\"\")","v":""},{"$f":"IF(H72=\"Yes\",O72,\"\")","v":""}]
[null,{"$f":"Programs!B113","v":0},{"$f":"IF(Programs!$C$101=\"\",\"\",Programs!$C$101)","v":""},"",null,null,null,null,null,null,null,null,null,null,{"$f":"IF(Programs!$D$104=\"\",\"\",Programs!$D$104)","v":""},"","","","","",""]
[null,{"$f":"Programs!B114","v":0},{"$f":"IF(Programs!$C$101=\"\",\"\",Programs!$C$101)","v":""},"",null,null,null,null,null,null,null,null,null,null,{"$f":"IF(Programs!$D$104=\"\",\"\",Programs!$D$104)","v":""},"","","","","",""]
[null,{"$f":"Programs!B115","v":0},{"$f":"IF(Programs!$C$101=\"\",\"\",Programs!$C$101)","v":""},"",null,null,null,null,null,null,null,null,null,null,{"$f":"IF(Programs!$D$104=\"\",\"\",Programs!$D$104)","v":""},"","","","","",""]
["Program 7",{"$f":"Programs!B123","v":0},{"$f":"IF(Programs!$C$120=\"\",\"\",Programs!$C$120)","v":""},"",null,null,null,null,null,null,null,null,null,null,{"$f":"IF(Programs!$D$120=\"\",\"\",Programs!$D$120)","v":""},"","","","","",""]
[null,{"$f":"Programs!B124","v":0},{"$f":"IF(Programs!$C$120=\"\",\"\",Programs!$C$120)","v":""},"",null,null,null,null,null,null,null,null,null,null,{"$f":"IF(Programs!$D$120=\"\",\"\",Programs!$D$120)","v":""},"","","","","",""]
[null,{"$f":"Programs!B125","v":0},{"$f":"IF(Programs!$C$120=\"\",\"\",Programs!$C$120)","v":""},"",null,null,null,null,null,null,null,null,null,null,{"$f":"IF(Programs!$D$120=\"\",\"\",Programs!$D$120)","v":""},"","","","","",""]
[null,{"$f":"Programs!B126","v":0},{"$f":"IF(Programs!$C$120=\"\",\"\",Programs!$C$120)","v":""},"",null,null,null,null,null,null,null,null,null,null,{"$f":"IF(Programs!$D$120=\"\",\"\",Programs!$D$120)","v":""},"","","","","",""]
[null,{"$f":"Programs!B127","v":0},{"$f":"IF(Programs!$C$120=\"\",\"\",Programs!$C$120)","v":""},"",null,null,null,null,null,null,null,null,null,null,{"$f":"IF(Programs!$D$120=\"\",\"\",Programs!$D$120)","v":""},"","","","","",""]
[null,{"$f":"Programs!B128","v":0},{"$f":"IF(Programs!$C$120=\"\",\"\",Programs!$C$120)","v":""},{"$f":"IF(C81<>\"\",C81+365,\"\")","v":""},null,null,null,null,null,null,null,null,null,null,{"$f":"IF(Programs!$D$120=\"\",\"\",Programs!$D$120)","v":""},{"$f":"IF(E81=\"\",\"\",O81)","v":""},{"$f":"IF(J81=\"Yes\",O81,\"\")","v":""},{"$f":"IF(L81=\"Yes\",O81,\"\")","v":""},{"$f":"IF(F81=\"Yes\",O81,\"\")","v":""},{"$f":"IF(G81=\"Yes\",O81,\"\")","v":""},{"$f":"IF(H81=\"Yes\",O81,\"\")","v":""}]
[null,{"$f":"Programs!B129","v":0},{"$f":"IF(Programs!$C$120=\"\",\"\",Programs!$C$120)","v":""},"",null,null,null,null,null,null,null,null,null,null,{"$f":"IF(Programs!$D$120=\"\",\"\",Programs!$D$120)","v":""},"","","","","",""]
[null,{"$f":"Programs!B130","v":0},{"$f":"IF(Programs!$C$120=\"\",\"\",Programs!$C$120)","v":""},"",null,null,null,null,null,null,null,null,null,null,{"$f":"IF(Programs!$D$120=\"\",\"\",Programs!$D$120)","v":""},"","","","","",""]
[null,{"$f":"Programs!B131","v":0},{"$f":"IF(Programs!$C$120=\"\",\"\",Programs!$C$120)","v":""},{"$f":"IF(C84<>\"\",C84+365,\"\")","v":""},null,null,null,null,null,null,null,null,null,null,{"$f":"IF(Programs!$D$120=\"\",\"\",Programs!$D$120)","v":""},{"$f":"IF(E84=\"\",\"\",O84)","v":""},{"$f":"IF(J84=\"Yes\",O84,\"\")","v":""},{"$f":"IF(L84=\"Yes\",O84,\"\")","v":""},{"$f":"IF(F84=\"Yes\",O84,\"\")","v":""},{"$f":"IF(G84=\"Yes\",O84,\"\")","v":""},{"$f":"IF(H84=\"Yes\",O84,\"\")","v":""}]
[null,{"$f":"Programs!B132","v":0},{"$f":"IF(Programs!$C$120=\"\",\"\",Programs!$C$120)","v":""},"",null,null,null,null,null,null,null,null,null,null,{"$f":"IF(Programs!$D$120=\"\",\"\",Programs!$D$120)","v":""},"","","","","",""]
[null,{"$f":"Programs!B133","v":0},{"$f":"IF(Programs!$C$120=\"\",\"\",Programs!$C$120)","v":""},"",null,null,null,null,null,null,null,null,null,null,{"$f":"IF(Programs!$D$120=\"\",\"\",Programs!$D$120)","v":""},"","","","","",""]
[null,{"$f":"Programs!B134","v":0},{"$f":"IF(Programs!$C$120=\"\",\"\",Programs!$C$120)","v":""},"",null,null,null,null,null,null,null,null,null,null,{"$f":"IF(Programs!$D$120=\"\",\"\",Programs!$D$120)","v":""},"","","","","",""]
["Program 8",{"$f":"Programs!B142","v":0},{"$f":"IF(Programs!$C$139=\"\",\"\",Programs!$C$139)","v":""},"",null,null,null,null,null,null,null,null,null,null,{"$f":"IF(Programs!$D$139=\"\",\"\",Programs!$D$139)","v":""},"","","","","",""]
[null,{"$f":"Programs!B143","v":0},{"$f":"IF(Programs!$C$139=\"\",\"\",Programs!$C$139)","v":""},"",null,null,null,null,null,null,null,null,null,null,{"$f":"IF(Programs!$D$139=\"\",\"\",Programs!$D$139)","v":""},"","","","","",""]
[null,{"$f":"Programs!B144","v":0},{"$f":"IF(Programs!$C$139=\"\",\"\",Programs!$C$139)","v":""},"",null,null,null,null,null,null,null,null,null,null,{"$f":"IF(Programs!$D$139=\"\",\"\",Programs!$D$139)","v":""},"","","","","",""]
[null,{"$f":"Programs!B145","v":0},{"$f":"IF(Programs!$C$139=\"\",\"\",Programs!$C$139)","v":""},"",null,null,null,null,null,null,null,null,null,null,{"$f":"IF(Programs!$D$139=\"\",\"\",Programs!$D$139)","v":""},"","","","","",""]
[null,{"$f":"Programs!B146","v":0},{"$f":"IF(Programs!$C$139=\"\",\"\",Programs!$C$139)","v":""},"",null,null,null,null,null,null,null,null,null,null,{"$f":"IF(Programs!$D$139=\"\",\"\",Programs!$D$139)","v":""},"","","","","",""]
[null,{"$f":"Programs!B147","v":0},{"$f":"IF(Programs!$C$139=\"\",\"\",Programs!$C$139)","v":""},"",null,null,null,null,null,null,null,null,null,null,{"$f":"IF(Programs!$D$139=\"\",\"\",Programs!$D$139)","v":""},"","","","","",""]
[null,{"$f":"Programs!B148","v":0},{"$f":"IF(Programs!$C$139=\"\",\"\",Programs!$C$139)","v":""},"",null,null,null,null,null,null,null,null,null,null,{"$f":"IF(Programs!$D$139=\"\",\"\",Programs!$D$139)","v":""},"","","","","",""]
[null,{"$f":"Programs!B149","v":0},{"$f":"IF(Programs!$C$139=\"\",\"\",Programs!$C$139)","v":""},"",null,null,null,null,null,null,null,null,null,null,{"$f":"IF(Programs!$D$139=\"\",\"\",Programs!$D$139)","v":""},"","","","","",""]
[null,{"$f":"Programs!B150","v":0},{"$f":"IF(Programs!$C$139=\"\",\"\",Programs!$C$139)","v":""},{"$f":"IF(C96<>\"\",C96+365,\"\")","v":""},null,null,null,null,null,null,null,null,null,null,{"$f":"IF(Programs!$D$139=\"\",\"\",Programs!$D$139)","v":""},{"$f":"IF(E96=\"\",\"\",O96)","v":""},{"$f":"IF(J96=\"Yes\",O96,\"\")","v":""},{"$f":"IF(L96=\"Yes\",O96,\"\")","v":""},{"$f":"IF(F96=\"Yes\",O96,\"\")","v":""},{"$f":"IF(G96=\"Yes\",O96,\"\")","v":""},{"$f":"IF(H96=\"Yes\",O96,\"\")","v":""}]
[null,{"$f":"Programs!B151","v":0},{"$f":"IF(Programs!$C$139=\"\",\"\",Programs!$C$139)","v":""},"",null,null,null,null,null,null,null,null,null,null,{"$f":"IF(Programs!$D$139=\"\",\"\",Programs!$D$139)","v":""},"","","","","",""]
[null,{"$f":"Programs!B152","v":0},{"$f":"IF(Programs!$C$139=\"\",\"\",Programs!$C$139)","v":""},"",null,null,null,null,null,null,null,null,null,null,{"$f":"IF(Programs!$D$139=\"\",\"\",Programs!$D$139)","v":""},"","","","","",""]
[null,{"$f":"Programs!B153","v":0},{"$f":"IF(Programs!$C$139=\"\",\"\",Programs!$C$139)","v":""},"",null,null,null,null,null,null,null,null,null,null,{"$f":"IF(Programs!$D$139=\"\",\"\",Programs!$D$139)","v":""},"","","","","",""]
["Program 9",{"$f":"Programs!B161","v":0},{"$f":"IF(Programs!$C$158=\"\",\"\",Programs!$C$158)","v":""},"",null,null,null,null,null,null,null,null,null,null,{"$f":"IF(Programs!$D$158=\"\",\"\",Programs!$D$158)","v":""},"","","","","",""]
[null,{"$f":"Programs!B162","v":0},{"$f":"IF(Programs!$C$158=\"\",\"\",Programs!$C$158)","v":""},"",null,null,null,null,null,null,null,null,null,null,{"$f":"IF(Programs!$D$158=\"\",\"\",Programs!$D$158)","v":""},"","","","","",""]
[null,{"$f":"Programs!B163","v":0},{"$f":"IF(Programs!$C$158=\"\",\"\",Programs!$C$158)","v":""},"",null,null,null,null,null,null,null,null,null,null,{"$f":"IF(Programs!$D$158=\"\",\"\",Programs!$D$158)","v":""},"","","","","",""]
[null,{"$f":"Programs!B164","v":0},{"$f":"IF(Programs!$C$158=\"\",\"\",Programs!$C$158)","v":""},"",null,null,null,null,null,null,null,null,null,null,{"$f":"IF(Programs!$D$158=\"\",\"\",Programs!$D$158)","v":""},"","","","","",""]
[null,{"$f":"Programs!B165","v":0},{"$f":"IF(Programs!$C$158=\"\",\"\",Programs!$C$158)","v":""},"",null,null,null,null,null,null,null,null,null,null,{"$f":"IF(Programs!$D$158=\"\",\"\",Programs!$D$158)","v":""},"","","","","",""]
[null,{"$f":"Programs!B166","v":0},{"$f":"IF(Programs!$C$158=\"\",\"\",Programs!$C$158)","v":""},"",null,null,null,null,null,null,null,null,null,null,{"$f":"IF(Programs!$D$158=\"\",\"\",Programs!$D$158)","v":""},"","","","","",""]
[null,{"$f":"Programs!B167","v":0},{"$f":"IF(Programs!$C$158=\"\",\"\",Programs!$C$158)","v":""},"",null,null,null,null,null,null,null,null,null,null,{"$f":"IF(Programs!$D$158=\"\",\"\",Programs!$D$158)","v":""},"","","","","",""]
[null,{"$f":"Programs!B168","v":0},{"$f":"IF(Programs!$C$158=\"\",\"\",Programs!$C$158)","v":""},"",null,null,null,null,null,null,null,null,null,null,{"$f":"IF(Programs!$D$158=\"\",\"\",Programs!$D$158)","v":""},"","","","","",""]
[null,{"$f":"Programs!B169","v":0},{"$f":"IF(Programs!$C$158=\"\",\"\",Programs!$C$158)","v":""},{"$f":"IF(C108<>\"\",C108+365,\"\")","v":""},null,null,null,null,null,null,null,null,null,null,{"$f":"IF(Programs!$D$158=\"\",\"\",Programs!$D$158)","v":""},{"$f":"IF(E108=\"\",\"\",O108)","v":""},{"$f":"IF(J108=\"Yes\",O108,\"\")","v":""},{"$f":"IF(L108=\"Yes\",O108,\"\")","v":""},{"$f":"IF(F108=\"Yes\",O108,\"\")","v":""},{"$f":"IF(G108=\"Yes\",O108,\"\")","v":""},{"$f":"IF(H108=\"Yes\",O108,\"\")","v":""}]
[null,{"$f":"Programs!B170","v":0},{"$f":"IF(Programs!$C$158=\"\",\"\",Programs!$C$158)","v":""},"",null,null,null,null,null,null,null,null,null,null,{"$f":"IF(Programs!$D$158=\"\",\"\",Programs!$D$158)","v":""},"","","","","",""]
[null,{"$f":"Programs!B171","v":0},{"$f":"IF(Programs!$C$158=\"\",\"\",Programs!$C$158)","v":""},"",null,null,null,null,null,null,null,null,null,null,{"$f":"IF(Programs!$D$158=\"\",\"\",Programs!$D$158)","v":""},"","","","","",""]
[null,{"$f":"Programs!B172","v":0},{"$f":"IF(Programs!$C$158=\"\",\"\",Programs!$C$158)","v":""},"",null,null,null,null,null,null,null,null,null,null,{"$f":"IF(Programs!$D$158=\"\",\"\",Programs!$D$158)","v":""},"","","","","",""]
["Program 10",{"$f":"Programs!B180","v":0},{"$f":"IF(Programs!$C$177=\"\",\"\",Programs!$C$177)","v":""},"",null,null,null,null,null,null,null,null,null,null,{"$f":"IF(Programs!$D$177=\"\",\"\",Programs!$D$177)","v":""},"","","","","",""]
[null,{"$f":"Programs!B181","v":0},{"$f":"IF(Programs!$C$177=\"\",\"\",Programs!$C$177)","v":""},"",null,null,null,null,null,null,null,null,null,null,{"$f":"IF(Programs!$D$177=\"\",\"\",Programs!$D$177)","v":""},"","","","","",""]
[null,{"$f":"Programs!B182","v":0},{"$f":"IF(Programs!$C$177=\"\",\"\",Programs!$C$177)","v":""},"",null,null,null,null,null,null,null,null,null,null,{"$f":"IF(Programs!$D$177=\"\",\"\",Programs!$D$177)","v":""},"","","","","",""]
[null,{"$f":"Programs!B183","v":0},{"$f":"IF(Programs!$C$177=\"\",\"\",Programs!$C$177)","v":""},"",null,null,null,null,null,null,null,null,null,null,{"$f":"IF(Programs!$D$177=\"\",\"\",Programs!$D$177)","v":""},"","","","","",""]
[null,{"$f":"Programs!B184","v":0},{"$f":"IF(Programs!$C$177=\"\",\"\",Programs!$C$177)","v":""},"",null,null,null,null,null,null,null,null,null,null,{"$f":"IF(Programs!$D$177=\"\",\"\",Programs!$D$177)","v":""},"","","","","",""]
[null,{"$f":"Programs!B185","v":0},{"$f":"IF(Programs!$C$177=\"\",\"\",Programs!$C$177)","v":""},"",null,null,null,null,null,null,null,null,null,null,{"$f":"IF(Programs!$D$177=\"\",\"\",Programs!$D$177)","v":""},"","","","","",""]
[null,{"$f":"Programs!B186","v":0},{"$f":"IF(Programs!$C$177=\"\",\"\",Programs!$C$177)","v":""},"",null,null,null,null,null,null,null,null,null,null,{"$f":"IF(Programs!$D$177=\"\",\"\",Programs!$D$177)","v":""},"","","","","",""]
[null,{"$f":"Programs!B187","v":0},{"$f":"IF(Programs!$C$177=\"\",\"\",Programs!$C$177)","v":""},"",null,null,null,null,null,null,null,null,null,null,{"$f":"IF(Programs!$D$177=\"\",\"\",Programs!$D$177)","v":""},"","","","","",""]
[null,{"$f":"Programs!B188","v":0},{"$f":"IF(Programs!$C$177=\"\",\"\",Programs!$C$177)","v":""},{"$f":"IF(C120<>\"\",C120+365,\"\")","v":""},null,null,null,null,null,null,null,null,null,null,{"$f":"IF(Programs!$D$177=\"\",\"\",Programs!$D$177)","v":""},{"$f":"IF(E120=\"\",\"\",O120)","v":""},{"$f":"IF(J120=\"Yes\",O120,\"\")","v":""},{"$f":"IF(L120=\"Yes\",O120,\"\")","v":""},{"$f":"IF(F120=\"Yes\",O120,\"\")","v":""},{"$f":"IF(G120=\"Yes\",O120,\"\")","v":""},{"$f":"IF(H120=\"Yes\",O120,\"\")","v":""}]
[null,{"$f":"Programs!B189","v":0},{"$f":"IF(Programs!$C$177=\"\",\"\",Programs!$C$177)","v":""},"",null,null,null,null,null,null,null,null,null,null,{"$f":"IF(Programs!$D$177=\"\",\"\",Programs!$D$177)","v":""},"","","","","",""]
[null,{"$f":"Programs!B190","v":0},{"$f":"IF(Programs!$C$177=\"\",\"\",Programs!$C$177)","v":""},"",null,null,null,null,null,null,null,null,null,null,{"$f":"IF(Programs!$D$177=\"\",\"\",Programs!$D$177)","v":""},"","","","","",""]
[null,{"$f":"Programs!B191","v":0},{"$f":"IF(Programs!$C$177=\"\",\"\",Programs!$C$177)","v":""},"",null,null,null,null,null,null,null,null,null,null,{"$f":"IF(Programs!$D$177=\"\",\"\",Programs!$D$177)","v":""},"","","","","",""]
["Program 11",{"$f":"Programs!B199","v":0},{"$f":"IF(Programs!$C$196=\"\",\"\",Programs!$C$196)","v":""},"",null,null,null,null,null,null,null,null,null,null,{"$f":"IF(Programs!$D$196=\"\",\"\",Programs!$D$196)","v":""},"","","","","",""]
[null,{"$f":"Programs!B200","v":0},{"$f":"IF(Programs!$C$196=\"\",\"\",Programs!$C$196)","v":""},"",null,null,null,null,null,null,null,null,null,null,{"$f":"IF(Programs!$D$196=\"\",\"\",Programs!$D$196)","v":""},"","","","","",""]
[null,{"$f":"Programs!B201","v":0},{"$f":"IF(Programs!$C$196=\"\",\"\",Programs!$C$196)","v":""},"",null,null,null,null,null,null,null,null,null,null,{"$f":"IF(Programs!$D$196=\"\",\"\",Programs!$D$196)","v":""},"","","","","",""]
[null,{"$f":"Programs!B202","v":0},{"$f":"IF(Programs!$C$196=\"\",\"\",Programs!$C$196)","v":""},"",null,null,null,null,null,null,null,null,null,null,{"$f":"IF(Programs!$D$196=\"\",\"\",Programs!$D$196)","v":""},"","","","","",""]
[null,{"$f":"Programs!B203","v":0},{"$f":"IF(Programs!$C$196=\"\",\"\",Programs!$C$196)","v":""},"",null,null,null,null,null,null,null,null,null,null,{"$f":"IF(Programs!$D$196=\"\",\"\",Programs!$D$196)","v":""},"","","","","",""]
[null,{"$f":"Programs!B204","v":0},{"$f":"IF(Programs!$C$196=\"\",\"\",Programs!$C$196)","v":""},"",null,null,null,null,null,null,null,null,null,null,{"$f":"IF(Programs!$D$196=\"\",\"\",Programs!$D$196)","v":""},"","","","","",""]
[null,{"$f":"Programs!B205","v":0},{"$f":"IF(Programs!$C$196=\"\",\"\",Programs!$C$196)","v":""},"",null,null,null,null,null,null,null,null,null,null,{"$f":"IF(Programs!$D$196=\"\",\"\",Programs!$D$196)","v":""},"","","","","",""]
[null,{"$f":"Programs!B206","v":0},{"$f":"IF(Programs!$C$196=\"\",\"\",Programs!$C$196)","v":""},"",null,null,null,null,null,null,null,null,null,null,{"$f":"IF(Programs!$D$196=\"\",\"\",Programs!$D$196)","v":""},"","","","","",""]
[null,{"$f":"Programs!B207","v":0},{"$f":"IF(Programs!$C$196=\"\",\"\",Programs!$C$196)","v":""},{"$f":"IF(C132<>\"\",C132+365,\"\")","v":""},null,null,null,null,null,null,null,null,null,null,{"$f":"IF(Programs!$D$196=\"\",\"\",Programs!$D$196)","v":""},{"$f":"IF(E132=\"\",\"\",O132)","v":""},{"$f":"IF(J132=\"Yes\",O132,\"\")","v":""},{"$f":"IF(L132=\"Yes\",O132,\"\")","v":""},{"$f":"IF(F132=\"Yes\",O132,\"\")","v":""},{"$f":"IF(G132=\"Yes\",O132,\"\")","v":""},{"$f":"IF(H132=\"Yes\",O132,\"\")","v":""}]
[null,{"$f":"Programs!B208","v":0},{"$f":"IF(Programs!$C$196=\"\",\"\",Programs!$C$196)","v":""},"",null,null,null,null,null,null,null,null,null,null,{"$f":"IF(Programs!$D$196=\"\",\"\",Programs!$D$196)","v":""},"","","","","",""]
[null,{"$f":"Programs!B209","v":0},{"$f":"IF(Programs!$C$196=\"\",\"\",Programs!$C$196)","v":""},"",null,null,null,null,null,null,null,null,null,null,{"$f":"IF(Programs!$D$196=\"\",\"\",Programs!$D$196)","v":""},"","","","","",""]
[null,{"$f":"Programs!B210","v":0},{"$f":"IF(Programs!$C$196=\"\",\"\",Programs!$C$196)","v":""},"",null,null,null,null,null,null,null,null,null,null,{"$f":"IF(Programs!$D$196=\"\",\"\",Programs!$D$196)","v":""},"","","","","",""]
["Program 12",{"$f":"Programs!B218","v":0},{"$f":"IF(Programs!$C$215=\"\",\"\",Programs!$C$215)","v":""},"",null,null,null,null,null,null,null,null,null,null,{"$f":"IF(Programs!$D$215=\"\",\"\",Programs!$D$215)","v":""},"","","","","",""]
[null,{"$f":"Programs!B219","v":0},{"$f":"IF(Programs!$C$215=\"\",\"\",Programs!$C$215)","v":""},"",null,null,null,null,null,null,null,null,null,null,{"$f":"IF(Programs!$D$215=\"\",\"\",Programs!$D$215)","v":""},"","","","","",""]
[null,{"$f":"Programs!B220","v":0},{"$f":"IF(Programs!$C$215=\"\",\"\",Programs!$C$215)","v":""},"",null,null,null,null,null,null,null,null,null,null,{"$f":"IF(Programs!$D$215=\"\",\"\",Programs!$D$215)","v":""},"","","","","",""]
[null,{"$f":"Programs!B221","v":0},{"$f":"IF(Programs!$C$215=\"\",\"\",Programs!$C$215)","v":""},"",null,null,null,null,null,null,null,null,null,null,{"$f":"IF(Programs!$D$215=\"\",\"\",Programs!$D$215)","v":""},"","","","","",""]
[null,{"$f":"Programs!B222","v":0},{"$f":"IF(Programs!$C$215=\"\",\"\",Programs!$C$215)","v":""},"",null,null,null,null,null,null,null,null,null,null,{"$f":"IF(Programs!$D$215=\"\",\"\",Programs!$D$215)","v":""},"","","","","",""]
[null,{"$f":"Programs!B223","v":0},{"$f":"IF(Programs!$C$215=\"\",\"\",Programs!$C$215)","v":""},"",null,null,null,null,null,null,null,null,null,null,{"$f":"IF(Programs!$D$215=\"\",\"\",Programs!$D$215)","v":""},"","","","","",""]
[null,{"$f":"Programs!B224","v":0},{"$f":"IF(Programs!$C$215=\"\",\"\",Programs!$C$215)","v":""},"",null,null,null,null,null,null,null,null,null,null,{"$f":"IF(Programs!$D$215=\"\",\"\",Programs!$D$215)","v":""},"","","","","",""]
[null,{"$f":"Programs!B225","v":0},{"$f":"IF(Programs!$C$215=\"\",\"\",Programs!$C$215)","v":""},"",null,null,null,null,null,null,null,null,null,null,{"$f":"IF(Programs!$D$215=\"\",\"\",Programs!$D$215)","v":""},"","","","","",""]
[null,{"$f":"Programs!B226","v":0},{"$f":"IF(Programs!$C$215=\"\",\"\",Programs!$C$215)","v":""},{"$f":"IF(C144<>\"\",C144+365,\"\")","v":""},null,null,null,null,null,null,null,null,null,null,{"$f":"IF(Programs!$D$215=\"\",\"\",Programs!$D$215)","v":""},{"$f":"IF(E144=\"\",\"\",O144)","v":""},{"$f":"IF(J144=\"Yes\",O144,\"\")","v":""},{"$f":"IF(L144=\"Yes\",O144,\"\")","v":""},{"$f":"IF(F144=\"Yes\",O144,\"\")","v":""},{"$f":"IF(G144=\"Yes\",O144,\"\")","v":""},{"$f":"IF(H144=\"Yes\",O144,\"\")","v":""}]
[null,{"$f":"Programs!B227","v":0},{"$f":"IF(Programs!$C$215=\"\",\"\",Programs!$C$215)","v":""},"",null,null,null,null,null,null,null,null,null,null,{"$f":"IF(Programs!$D$215=\"\",\"\",Programs!$D$215)","v":""},"","","","","",""]
[null,{"$f":"Programs!B228","v":0},{"$f":"IF(Programs!$C$215=\"\",\"\",Programs!$C$215)","v":""},"",null,null,null,null,null,null,null,null,null,null,{"$f":"IF(Programs!$D$215=\"\",\"\",Programs!$D$215)","v":""},"","","","","",""]
[null,{"$f":"Programs!B229","v":0},{"$f":"IF(Programs!$C$215=\"\",\"\",Programs!$C$215)","v":""},"",null,null,null,null,null,null,null,null,null,null,{"$f":"IF(Programs!$D$215=\"\",\"\",Programs!$D$215)","v":""},"","","","","",""]
["Program 13",{"$f":"Programs!B237","v":0},{"$f":"IF(Programs!$C$234=\"\",\"\",Programs!$C$234)","v":""},"",null,null,null,null,null,null,null,null,null,null,{"$f":"IF(Programs!$D$234=\"\",\"\",Programs!$D$234)","v":""},"","","","","",""]
[null,{"$f":"Programs!B238","v":0},{"$f":"IF(Programs!$C$234=\"\",\"\",Programs!$C$234)","v":""},"",null,null,null,null,null,null,null,null,null,null,{"$f":"IF(Programs!$D$234=\"\",\"\",Programs!$D$234)","v":""},"","","","","",""]
[null,{"$f":"Programs!B239","v":0},{"$f":"IF(Programs!$C$234=\"\",\"\",Programs!$C$234)","v":""},"",null,null,null,null,null,null,null,null,null,null,{"$f":"IF(Programs!$D$234=\"\",\"\",Programs!$D$234)","v":""},"","","","","",""]
[null,{"$f":"Programs!B240","v":0},{"$f":"IF(Programs!$C$234=\"\",\"\",Programs!$C$234)","v":""},"",null,null,null,null,null,null,null,null,null,null,{"$f":"IF(Programs!$D$234=\"\",\"\",Programs!$D$234)","v":""},"","","","","",""]
[null,{"$f":"Programs!B241","v":0},{"$f":"IF(Programs!$C$234=\"\",\"\",Programs!$C$234)","v":""},"",null,null,null,null,null,null,null,null,null,null,{"$f":"IF(Programs!$D$234=\"\",\"\",Programs!$D$234)","v":""},"","","","","",""]
[null,{"$f":"Programs!B242","v":0},{"$f":"IF(Programs!$C$234=\"\",\"\",Programs!$C$234)","v":""},"",null,null,null,null,null,null,null,null,null,null,{"$f":"IF(Programs!$D$234=\"\",\"\",Programs!$D$234)","v":""},"","","","","",""]
[null,{"$f":"Programs!B243","v":0},{"$f":"IF(Programs!$C$234=\"\",\"\",Programs!$C$234)","v":""},"",null,null,null,null,null,null,null,null,null,null,{"$f":"IF(Programs!$D$234=\"\",\"\",Programs!$D$234)","v":""},"","","","","",""]
[null,{"$f":"Programs!B244","v":0},{"$f":"IF(Programs!$C$234=\"\",\"\",Programs!$C$234)","v":""},"",null,null,null,null,null,null,null,null,null,null,{"$f":"IF(Programs!$D$234=\"\",\"\",Programs!$D$234)","v":""},"","","","","",""]
[null,{"$f":"Programs!B245","v":0},{"$f":"IF(Programs!$C$234=\"\",\"\",Programs!$C$234)","v":""},{"$f":"IF(C156<>\"\",C156+365,\"\")","v":""},null,null,null,null,null,null,null,null,null,null,{"$f":"IF(Programs!$D$234=\"\",\"\",Programs!$D$234)","v":""},{"$f":"IF(E156=\"\",\"\",O156)","v":""},{"$f":"IF(J156=\"Yes\",O156,\"\")","v":""},{"$f":"IF(L156=\"Yes\",O156,\"\")","v":""},{"$f":"IF(F156=\"Yes\",O156,\"\")","v":""},{"$f":"IF(G156=\"Yes\",O156,\"\")","v":""},{"$f":"IF(H156=\"Yes\",O156,\"\")","v":""}]
[null,{"$f":"Programs!B246","v":0},{"$f":"IF(Programs!$C$234=\"\",\"\",Programs!$C$234)","v":""},"",null,null,null,null,null,null,null,null,null,null,{"$f":"IF(Programs!$D$234=\"\",\"\",Programs!$D$234)","v":""},"","","","","",""]
[null,{"$f":"Programs!B247","v":0},{"$f":"IF(Programs!$C$234=\"\",\"\",Programs!$C$234)","v":""},"",null,null,null,null,null,null,null,null,null,null,{"$f":"IF(Programs!$D$234=\"\",\"\",Programs!$D$234)","v":""},"","","","","",""]
[null,{"$f":"Programs!B248","v":0},{"$f":"IF(Programs!$C$234=\"\",\"\",Programs!$C$234)","v":""},"",null,null,null,null,null,null,null,null,null,null,{"$f":"IF(Programs!$D$234=\"\",\"\",Programs!$D$234)","v":""},"","","","","",""]
["Program 14",{"$f":"Programs!B256","v":0},{"$f":"IF(Programs!$C$253=\"\",\"\",Programs!$C$253)","v":""},{"$f":"IF(C160<>\"\",C160+365,\"\")","v":""},null,null,null,null,null,null,null,null,null,null,{"$f":"IF(Programs!$D$253=\"\",\"\",Programs!$D$253)","v":""},{"$f":"IF(E160=\"\",\"\",O160)","v":""},{"$f":"IF(J160=\"Yes\",O160,\"\")","v":""},{"$f":"IF(L160=\"Yes\",O160,\"\")","v":""},{"$f":"IF(F160=\"Yes\",O160,\"\")","v":""},{"$f":"IF(G160=\"Yes\",O160,\"\")","v":""},{"$f":"IF(H160=\"Yes\",O160,\"\")","v":""}]
[null,{"$f":"Programs!B257","v":0},{"$f":"IF(Programs!$C$253=\"\",\"\",Programs!$C$253)","v":""},"",null,null,null,null,null,null,null,null,null,null,{"$f":"IF(Programs!$D$253=\"\",\"\",Programs!$D$253)","v":""},"","","","","",""]
[null,{"$f":"Programs!B258","v":0},{"$f":"IF(Programs!$C$253=\"\",\"\",Programs!$C$253)","v":""},"",null,null,null,null,null,null,null,null,null,null,{"$f":"IF(Programs!$D$253=\"\",\"\",Programs!$D$253)","v":""},"","","","","",""]
[null,{"$f":"Programs!B259","v":0},{"$f":"IF(Programs!$C$253=\"\",\"\",Programs!$C$253)","v":""},"",null,null,null,null,null,null,null,null,null,null,{"$f":"IF(Programs!$D$253=\"\",\"\",Programs!$D$253)","v":""},"","","","","",""]
[null,{"$f":"Programs!B260","v":0},{"$f":"IF(Programs!$C$253=\"\",\"\",Programs!$C$253)","v":""},"",null,null,null,null,null,null,null,null,null,null,{"$f":"IF(Programs!$D$253=\"\",\"\",Programs!$D$253)","v":""},"","","","","",""]
[null,{"$f":"Programs!B261","v":0},{"$f":"IF(Programs!$C$253=\"\",\"\",Programs!$C$253)","v":""},"",null,null,null,null,null,null,null,null,null,null,{"$f":"IF(Programs!$D$253=\"\",\"\",Programs!$D$253)","v":""},"","","","","",""]
[null,{"$f":"Programs!B262","v":0},{"$f":"IF(Programs!$C$253=\"\",\"\",Programs!$C$253)","v":""},"",null,null,null,null,null,null,null,null,null,null,{"$f":"IF(Programs!$D$253=\"\",\"\",Programs!$D$253)","v":""},"","","","","",""]
[null,{"$f":"Programs!B263","v":0},{"$f":"IF(Programs!$C$253=\"\",\"\",Programs!$C$253)","v":""},"",null,null,null,null,null,null,null,null,null,null,{"$f":"IF(Programs!$D$253=\"\",\"\",Programs!$D$253)","v":""},"","","","","",""]
[null,{"$f":"Programs!B264","v":0},{"$f":"IF(Programs!$C$253=\"\",\"\",Programs!$C$253)","v":""},{"$f":"IF(C168<>\"\",C168+365,\"\")","v":""},null,null,null,null,null,null,null,null,null,null,{"$f":"IF(Programs!$D$253=\"\",\"\",Programs!$D$253)","v":""},{"$f":"IF(E168=\"\",\"\",O168)","v":""},{"$f":"IF(J168=\"Yes\",O168,\"\")","v":""},{"$f":"IF(L168=\"Yes\",O168,\"\")","v":""},{"$f":"IF(F168=\"Yes\",O168,\"\")","v":""},{"$f":"IF(G168=\"Yes\",O168,\"\")","v":""},{"$f":"IF(H168=\"Yes\",O168,\"\")","v":""}]
[null,{"$f":"Programs!B265","v":0},{"$f":"IF(Programs!$C$253=\"\",\"\",Programs!$C$253)","v":""},"",null,null,null,null,null,null,null,null,null,null,{"$f":"IF(Programs!$D$253=\"\",\"\",Programs!$D$253)","v":""},"","","","","",""]
[null,{"$f":"Programs!B266","v":0},{"$f":"IF(Programs!$C$253=\"\",\"\",Programs!$C$253)","v":""},"",null,null,null,null,null,null,null,null,null,null,{"$f":"IF(Programs!$D$253=\"\",\"\",Programs!$D$253)","v":""},"","","","","",""]
[null,{"$f":"Programs!B267","v":0},{"$f":"IF(Programs!$C$253=\"\",\"\",Programs!$C$253)","v":""},"",null,null,null,null,null,null,null,null,null,null,{"$f":"IF(Programs!$D$253=\"\",\"\",Programs!$D$253)","v":""},"","","","","",""]
["Program 15",{"$f":"Programs!B275","v":0},{"$f":"IF(Programs!$C$272=\"\",\"\",Programs!$C$272)","v":""},"",null,null,null,null,null,null,null,null,null,null,{"$f":"IF(Programs!$D$272=\"\",\"\",Programs!$D$272)","v":""},"","","","","",""]
[null,{"$f":"Programs!B276","v":0},{"$f":"IF(Programs!$C$272=\"\",\"\",Programs!$C$272)","v":""},"",null,null,null,null,null,null,null,null,null,null,{"$f":"IF(Programs!$D$272=\"\",\"\",Programs!$D$272)","v":""},"","","","","",""]
[null,{"$f":"Programs!B277","v":0},{"$f":"IF(Programs!$C$272=\"\",\"\",Programs!$C$272)","v":""},"",null,null,null,null,null,null,null,null,null,null,{"$f":"IF(Programs!$D$272=\"\",\"\",Programs!$D$272)","v":""},"","","","","",""]
[null,{"$f":"Programs!B278","v":0},{"$f":"IF(Programs!$C$272=\"\",\"\",Programs!$C$272)","v":""},"",null,null,null,null,null,null,null,null,null,null,{"$f":"IF(Programs!$D$272=\"\",\"\",Programs!$D$272)","v":""},"","","","","",""]
[null,{"$f":"Programs!B279","v":0},{"$f":"IF(Programs!$C$272=\"\",\"\",Programs!$C$272)","v":""},"",null,null,null,null,null,null,null,null,null,null,{"$f":"IF(Programs!$D$272=\"\",\"\",Programs!$D$272)","v":""},"","","","","",""]
[null,{"$f":"Programs!B280","v":0},{"$f":"IF(Programs!$C$272=\"\",\"\",Programs!$C$272)","v":""},"",null,null,null,null,null,null,null,null,null,null,{"$f":"IF(Programs!$D$272=\"\",\"\",Programs!$D$272)","v":""},"","","","","",""]
[null,{"$f":"Programs!B281","v":0},{"$f":"IF(Programs!$C$272=\"\",\"\",Programs!$C$272)","v":""},"",null,null,null,null,null,null,null,null,null,null,{"$f":"IF(Programs!$D$272=\"\",\"\",Programs!$D$272)","v":""},"","","","","",""]
[null,{"$f":"Programs!B282","v":0},{"$f":"IF(Programs!$C$272=\"\",\"\",Programs!$C$272)","v":""},"",null,null,null,null,null,null,null,null,null,null,{"$f":"IF(Programs!$D$272=\"\",\"\",Programs!$D$272)","v":""},"","","","","",""]
[null,{"$f":"Programs!B283","v":0},{"$f":"IF(Programs!$C$272=\"\",\"\",Programs!$C$272)","v":""},{"$f":"IF(C180<>\"\",C180+365,\"\")","v":""},null,null,null,null,null,null,null,null,null,null,{"$f":"IF(Programs!$D$272=\"\",\"\",Programs!$D$272)","v":""},{"$f":"IF(E180=\"\",\"\",O180)","v":""},{"$f":"IF(J180=\"Yes\",O180,\"\")","v":""},{"$f":"IF(L180=\"Yes\",O180,\"\")","v":""},{"$f":"IF(F180=\"Yes\",O180,\"\")","v":""},{"$f":"IF(G180=\"Yes\",O180,\"\")","v":""},{"$f":"IF(H180=\"Yes\",O180,\"\")","v":""}]
[null,{"$f":"Programs!B284","v":0},{"$f":"IF(Programs!$C$272=\"\",\"\",Programs!$C$272)","v":""},"",null,null,null,null,null,null,null,null,null,null,{"$f":"IF(Programs!$D$272=\"\",\"\",Programs!$D$272)","v":""},"","","","","",""]
[null,{"$f":"Programs!B285","v":0},{"$f":"IF(Programs!$C$272=\"\",\"\",Programs!$C$272)","v":""},"",null,null,null,null,null,null,null,null,null,null,{"$f":"IF(Programs!$D$272=\"\",\"\",Programs!$D$272)","v":""},"","","","","",""]
[null,{"$f":"Programs!B286","v":0},{"$f":"IF(Programs!$C$272=\"\",\"\",Programs!$C$272)","v":""},"",null,null,null,null,null,null,null,null,null,null,{"$f":"IF(Programs!$D$272=\"\",\"\",Programs!$D$272)","v":""},"","","","","",""]
["Program 16",{"$f":"Programs!B294","v":0},{"$f":"IF(Programs!$C$291=\"\",\"\",Programs!$C$291)","v":""},"",null,null,null,null,null,null,null,null,null,null,{"$f":"IF(Programs!$D$291=\"\",\"\",Programs!$D$291)","v":""},"","","","","",""]
[null,{"$f":"Programs!B295","v":0},{"$f":"IF(Programs!$C$291=\"\",\"\",Programs!$C$291)","v":""},"",null,null,null,null,null,null,null,null,null,null,{"$f":"IF(Programs!$D$291=\"\",\"\",Programs!$D$291)","v":""},"","","","","",""]
[null,{"$f":"Programs!B296","v":0},{"$f":"IF(Programs!$C$291=\"\",\"\",Programs!$C$291)","v":""},"",null,null,null,null,null,null,null,null,null,null,{"$f":"IF(Programs!$D$291=\"\",\"\",Programs!$D$291)","v":""},"","","","","",""]
[null,{"$f":"Programs!B297","v":0},{"$f":"IF(Programs!$C$291=\"\",\"\",Programs!$C$291)","v":""},"",null,null,null,null,null,null,null,null,null,null,{"$f":"IF(Programs!$D$291=\"\",\"\",Programs!$D$291)","v":""},"","","","","",""]
[null,{"$f":"Programs!B298","v":0},{"$f":"IF(Programs!$C$291=\"\",\"\",Programs!$C$291)","v":""},"",null,null,null,null,null,null,null,null,null,null,{"$f":"IF(Programs!$D$291=\"\",\"\",Programs!$D$291)","v":""},"","","","","",""]
[null,{"$f":"Programs!B299","v":0},{"$f":"IF(Programs!$C$291=\"\",\"\",Programs!$C$291)","v":""},"",null,null,null,null,null,null,null,null,null,null,{"$f":"IF(Programs!$D$291=\"\",\"\",Programs!$D$291)","v":""},"","","","","",""]
[null,{"$f":"Programs!B300","v":0},{"$f":"IF(Programs!$C$291=\"\",\"\",Programs!$C$291)","v":""},"",null,null,null,null,null,null,null,null,null,null,{"$f":"IF(Programs!$D$291=\"\",\"\",Programs!$D$291)","v":""},"","","","","",""]
[null,{"$f":"Programs!B301","v":0},{"$f":"IF(Programs!$C$291=\"\",\"\",Programs!$C$291)","v":""},"",null,null,null,null,null,null,null,null,null,null,{"$f":"IF(Programs!$D$291=\"\",\"\",Programs!$D$291)","v":""},"","","","","",""]
[null,{"$f":"Programs!B302","v":0},{"$f":"IF(Programs!$C$291=\"\",\"\",Programs!$C$291)","v":""},{"$f":"IF(C192<>\"\",C192+365,\"\")","v":""},null,null,null,null,null,null,null,null,null,null,{"$f":"IF(Programs!$D$291=\"\",\"\",Programs!$D$291)","v":""},{"$f":"IF(E192=\"\",\"\",O192)","v":""},{"$f":"IF(J192=\"Yes\",O192,\"\")","v":""},{"$f":"IF(L192=\"Yes\",O192,\"\")","v":""},{"$f":"IF(F192=\"Yes\",O192,\"\")","v":""},{"$f":"IF(G192=\"Yes\",O192,\"\")","v":""},{"$f":"IF(H192=\"Yes\",O192,\"\")","v":""}]
[null,{"$f":"Programs!B303","v":0},{"$f":"IF(Programs!$C$291=\"\",\"\",Programs!$C$291)","v":""},"",null,null,null,null,null,null,null,null,null,null,{"$f":"IF(Programs!$D$291=\"\",\"\",Programs!$D$291)","v":""},"","","","","",""]
[null,{"$f":"Programs!B304","v":0},{"$f":"IF(Programs!$C$291=\"\",\"\",Programs!$C$291)","v":""},"",null,null,null,null,null,null,null,null,null,null,{"$f":"IF(Programs!$D$291=\"\",\"\",Programs!$D$291)","v":""},"","","","","",""]
[null,{"$f":"Programs!B305","v":0},{"$f":"IF(Programs!$C$291=\"\",\"\",Programs!$C$291)","v":""},"",null,null,null,null,null,null,null,null,null,null,{"$f":"IF(Programs!$D$291=\"\",\"\",Programs!$D$291)","v":""},"","","","","",""]
["Program 17",{"$f":"Programs!B313","v":0},{"$f":"IF(Programs!$C$310=\"\",\"\",Programs!$C$310)","v":""},"",null,null,null,null,null,null,null,null,null,null,{"$f":"IF(Programs!$D$310=\"\",\"\",Programs!$D$310)","v":""},"","","","","",""]
[null,{"$f":"Programs!B314","v":0},{"$f":"IF(Programs!$C$310=\"\",\"\",Programs!$C$310)","v":""},"",null,null,null,null,null,null,null,null,null,null,{"$f":"IF(Programs!$D$310=\"\",\"\",Programs!$D$310)","v":""},"","","","","",""]
[null,{"$f":"Programs!B315","v":0},{"$f":"IF(Programs!$C$310=\"\",\"\",Programs!$C$310)","v":""},"",null,null,null,null,null,null,null,null,null,null,{"$f":"IF(Programs!$D$310=\"\",\"\",Programs!$D$310)","v":""},"","","","","",""]
[null,{"$f":"Programs!B316","v":0},{"$f":"IF(Programs!$C$310=\"\",\"\",Programs!$C$310)","v":""},"",null,null,null,null,null,null,null,null,null,null,{"$f":"IF(Programs!$D$310=\"\",\"\",Programs!$D$310)","v":""},"","","","","",""]
[null,{"$f":"Programs!B317","v":0},{"$f":"IF(Programs!$C$310=\"\",\"\",Programs!$C$310)","v":""},"",null,null,null,null,null,null,null,null,null,null,{"$f":"IF(Programs!$D$310=\"\",\"\",Programs!$D$310)","v":""},"","","","","",""]
[null,{"$f":"Programs!B318","v":0},{"$f":"IF(Programs!$C$310=\"\",\"\",Programs!$C$310)","v":""},"",null,null,null,null,null,null,null,null,null,null,{"$f":"IF(Programs!$D$310=\"\",\"\",Programs!$D$310)","v":""},"","","","","",""]
[null,{"$f":"Programs!B319","v":0},{"$f":"IF(Programs!$C$310=\"\",\"\",Programs!$C$310)","v":""},"",null,null,null,null,null,null,null,null,null,null,{"$f":"IF(Programs!$D$310=\"\",\"\",Programs!$D$310)","v":""},"","","","","",""]
[null,{"$f":"Programs!B320","v":0},{"$f":"IF(Programs!$C$310=\"\",\"\",Programs!$C$310)","v":""},"",null,null,null,null,null,null,null,null,null,null,{"$f":"IF(Programs!$D$310=\"\",\"\",Programs!$D$310)","v":""},"","","","","",""]
[null,{"$f":"Programs!B321","v":0},{"$f":"IF(Programs!$C$310=\"\",\"\",Programs!$C$310)","v":""},{"$f":"IF(C204<>\"\",C204+365,\"\")","v":""},null,null,null,null,null,null,null,null,null,null,{"$f":"IF(Programs!$D$310=\"\",\"\",Programs!$D$310)","v":""},{"$f":"IF(E204=\"\",\"\",O204)","v":""},{"$f":"IF(J204=\"Yes\",O204,\"\")","v":""},{"$f":"IF(L204=\"Yes\",O204,\"\")","v":""},{"$f":"IF(F204=\"Yes\",O204,\"\")","v":""},{"$f":"IF(G204=\"Yes\",O204,\"\")","v":""},{"$f":"IF(H204=\"Yes\",O204,\"\")","v":""}]
[null,{"$f":"Programs!B322","v":0},{"$f":"IF(Programs!$C$310=\"\",\"\",Programs!$C$310)","v":""},"",null,null,null,null,null,null,null,null,null,null,{"$f":"IF(Programs!$D$310=\"\",\"\",Programs!$D$310)","v":""},"","","","","",""]
[null,{"$f":"Programs!B323","v":0},{"$f":"IF(Programs!$C$310=\"\",\"\",Programs!$C$310)","v":""},"",null,null,null,null,null,null,null,null,null,null,{"$f":"IF(Programs!$D$310=\"\",\"\",Programs!$D$310)","v":""},"","","","","",""]
[null,{"$f":"Programs!B324","v":0},{"$f":"IF(Programs!$C$310=\"\",\"\",Programs!$C$310)","v":""},"",null,null,null,null,null,null,null,null,null,null,{"$f":"IF(Programs!$D$310=\"\",\"\",Programs!$D$310)","v":""},"","","","","",""]
["Program 18",{"$f":"Programs!B332","v":0},{"$f":"IF(Programs!$C$329=\"\",\"\",Programs!$C$329)","v":""},"",null,null,null,null,null,null,null,null,null,null,{"$f":"IF(Programs!$D$329=\"\",\"\",Programs!$D$329)","v":""},"","","","","",""]
[null,{"$f":"Programs!B333","v":0},{"$f":"IF(Programs!$C$329=\"\",\"\",Programs!$C$329)","v":""},"",null,null,null,null,null,null,null,null,null,null,{"$f":"IF(Programs!$D$329=\"\",\"\",Programs!$D$329)","v":""},"","","","","",""]
[null,{"$f":"Programs!B334","v":0},{"$f":"IF(Programs!$C$329=\"\",\"\",Programs!$C$329)","v":""},"",null,null,null,null,null,null,null,null,null,null,{"$f":"IF(Programs!$D$329=\"\",\"\",Programs!$D$329)","v":""},"","","","","",""]
[null,{"$f":"Programs!B335","v":0},{"$f":"IF(Programs!$C$329=\"\",\"\",Programs!$C$329)","v":""},"",null,null,null,null,null,null,null,null,null,null,{"$f":"IF(Programs!$D$329=\"\",\"\",Programs!$D$329)","v":""},"","","","","",""]
[null,{"$f":"Programs!B336","v":0},{"$f":"IF(Programs!$C$329=\"\",\"\",Programs!$C$329)","v":""},"",null,null,null,null,null,null,null,null,null,null,{"$f":"IF(Programs!$D$329=\"\",\"\",Programs!$D$329)","v":""},"","","","","",""]
[null,{"$f":"Programs!B337","v":0},{"$f":"IF(Programs!$C$329=\"\",\"\",Programs!$C$329)","v":""},"",null,null,null,null,null,null,null,null,null,null,{"$f":"IF(Programs!$D$329=\"\",\"\",Programs!$D$329)","v":""},"","","","","",""]
[null,{"$f":"Programs!B338","v":0},{"$f":"IF(Programs!$C$329=\"\",\"\",Programs!$C$329)","v":""},"",null,null,null,null,null,null,null,null,null,null,{"$f":"IF(Programs!$D$329=\"\",\"\",Programs!$D$329)","v":""},"","","","","",""]
[null,{"$f":"Programs!B339","v":0},{"$f":"IF(Programs!$C$329=\"\",\"\",Programs!$C$329)","v":""},"",null,null,null,null,null,null,null,null,null,null,{"$f":"IF(Programs!$D$329=\"\",\"\",Programs!$D$329)","v":""},"","","","","",""]
[null,{"$f":"Programs!B340","v":0},{"$f":"IF(Programs!$C$329=\"\",\"\",Programs!$C$329)","v":""},{"$f":"IF(C216<>\"\",C216+365,\"\")","v":""},null,null,null,null,null,null,null,null,null,null,{"$f":"IF(Programs!$D$329=\"\",\"\",Programs!$D$329)","v":""},{"$f":"IF(E216=\"\",\"\",O216)","v":""},{"$f":"IF(J216=\"Yes\",O216,\"\")","v":""},{"$f":"IF(L216=\"Yes\",O216,\"\")","v":""},{"$f":"IF(F216=\"Yes\",O216,\"\")","v":""},{"$f":"IF(G216=\"Yes\",O216,\"\")","v":""},{"$f":"IF(H216=\"Yes\",O216,\"\")","v":""}]
[null,{"$f":"Programs!B341","v":0},{"$f":"IF(Programs!$C$329=\"\",\"\",Programs!$C$329)","v":""},"",null,null,null,null,null,null,null,null,null,null,{"$f":"IF(Programs!$D$329=\"\",\"\",Programs!$D$329)","v":""},"","","","","",""]
[null,{"$f":"Programs!B342","v":0},{"$f":"IF(Programs!$C$329=\"\",\"\",Programs!$C$329)","v":""},"",null,null,null,null,null,null,null,null,null,null,{"$f":"IF(Programs!$D$329=\"\",\"\",Programs!$D$329)","v":""},"","","","","",""]
[null,{"$f":"Programs!B343","v":0},{"$f":"IF(Programs!$C$329=\"\",\"\",Programs!$C$329)","v":""},"",null,null,null,null,null,null,null,null,null,null,{"$f":"IF(Programs!$D$329=\"\",\"\",Programs!$D$329)","v":""},"","","","","",""]
["Program 19",{"$f":"Programs!B351","v":0},{"$f":"IF(Programs!$C$348=\"\",\"\",Programs!$C$348)","v":""},"",null,null,null,null,null,null,null,null,null,null,{"$f":"IF(Programs!$D$348=\"\",\"\",Programs!$D$348)","v":""},"","","","","",""]
[null,{"$f":"Programs!B352","v":0},{"$f":"IF(Programs!$C$348=\"\",\"\",Programs!$C$348)","v":""},"",null,null,null,null,null,null,null,null,null,null,{"$f":"IF(Programs!$D$348=\"\",\"\",Programs!$D$348)","v":""},"","","","","",""]
[null,{"$f":"Programs!B353","v":0},{"$f":"IF(Programs!$C$348=\"\",\"\",Programs!$C$348)","v":""},"",null,null,null,null,null,null,null,null,null,null,{"$f":"IF(Programs!$D$348=\"\",\"\",Programs!$D$348)","v":""},"","","","","",""]
[null,{"$f":"Programs!B354","v":0},{"$f":"IF(Programs!$C$348=\"\",\"\",Programs!$C$348)","v":""},"",null,null,null,null,null,null,null,null,null,null,{"$f":"IF(Programs!$D$348=\"\",\"\",Programs!$D$348)","v":""},"","","","","",""]
[null,{"$f":"Programs!B355","v":0},{"$f":"IF(Programs!$C$348=\"\",\"\",Programs!$C$348)","v":""},"",null,null,null,null,null,null,null,null,null,null,{"$f":"IF(Programs!$D$348=\"\",\"\",Programs!$D$348)","v":""},"","","","","",""]
[null,{"$f":"Programs!B356","v":0},{"$f":"IF(Programs!$C$348=\"\",\"\",Programs!$C$348)","v":""},"",null,null,null,null,null,null,null,null,null,null,{"$f":"IF(Programs!$D$348=\"\",\"\",Programs!$D$348)","v":""},"","","","","",""]
[null,{"$f":"Programs!B357","v":0},{"$f":"IF(Programs!$C$348=\"\",\"\",Programs!$C$348)","v":""},"",null,null,null,null,null,null,null,null,null,null,{"$f":"IF(Programs!$D$348=\"\",\"\",Programs!$D$348)","v":""},"","","","","",""]
[null,{"$f":"Programs!B358","v":0},{"$f":"IF(Programs!$C$348=\"\",\"\",Programs!$C$348)","v":""},"",null,null,null,null,null,null,null,null,null,null,{"$f":"IF(Programs!$D$348=\"\",\"\",Programs!$D$348)","v":""},"","","","","",""]
[null,{"$f":"Programs!B359","v":0},{"$f":"IF(Programs!$C$348=\"\",\"\",Programs!$C$348)","v":""},{"$f":"IF(C228<>\"\",C228+365,\"\")","v":""},null,null,null,null,null,null,null,null,null,null,{"$f":"IF(Programs!$D$348=\"\",\"\",Programs!$D$348)","v":""},{"$f":"IF(E228=\"\",\"\",O228)","v":""},{"$f":"IF(J228=\"Yes\",O228,\"\")","v":""},{"$f":"IF(L228=\"Yes\",O228,\"\")","v":""},{"$f":"IF(F228=\"Yes\",O228,\"\")","v":""},{"$f":"IF(G228=\"Yes\",O228,\"\")","v":""},{"$f":"IF(H228=\"Yes\",O228,\"\")","v":""}]
[null,{"$f":"Programs!B360","v":0},{"$f":"IF(Programs!$C$348=\"\",\"\",Programs!$C$348)","v":""},"",null,null,null,null,null,null,null,null,null,null,{"$f":"IF(Programs!$D$348=\"\",\"\",Programs!$D$348)","v":""},"","","","","",""]
[null,{"$f":"Programs!B361","v":0},{"$f":"IF(Programs!$C$348=\"\",\"\",Programs!$C$348)","v":""},"",null,null,null,null,null,null,null,null,null,null,{"$f":"IF(Programs!$D$348=\"\",\"\",Programs!$D$348)","v":""},"","","","","",""]
[null,{"$f":"Programs!B362","v":0},{"$f":"IF(Programs!$C$348=\"\",\"\",Programs!$C$348)","v":""},"",null,null,null,null,null,null,null,null,null,null,{"$f":"IF(Programs!$D$348=\"\",\"\",Programs!$D$348)","v":""},"","","","","",""]
["Program 20",{"$f":"Programs!B370","v":0},{"$f":"IF(Programs!$C$367=\"\",\"\",Programs!$C$367)","v":""},"",null,null,null,null,null,null,null,null,null,null,{"$f":"IF(Programs!$D$367=\"\",\"\",Programs!$D$367)","v":""},"","","","","",""]
[null,{"$f":"Programs!B371","v":0},{"$f":"IF(Programs!$C$367=\"\",\"\",Programs!$C$367)","v":""},"",null,null,null,null,null,null,null,null,null,null,{"$f":"IF(Programs!$D$367=\"\",\"\",Programs!$D$367)","v":""},"","","","","",""]
[null,{"$f":"Programs!B372","v":0},{"$f":"IF(Programs!$C$367=\"\",\"\",Programs!$C$367)","v":""},"",null,null,null,null,null,null,null,null,null,null,{"$f":"IF(Programs!$D$367=\"\",\"\",Programs!$D$367)","v":""},"","","","","",""]
[null,{"$f":"Programs!B373","v":0},{"$f":"IF(Programs!$C$367=\"\",\"\",Programs!$C$367)","v":""},{"$f":"IF(C235<>\"\",C235+365,\"\")","v":""},null,null,null,null,null,null,null,null,null,null,{"$f":"IF(Programs!$D$367=\"\",\"\",Programs!$D$367)","v":""},{"$f":"IF(E235=\"\",\"\",O235)","v":""},{"$f":"IF(J235=\"Yes\",O235,\"\")","v":""},{"$f":"IF(L235=\"Yes\",O235,\"\")","v":""},{"$f":"IF(F235=\"Yes\",O235,\"\")","v":""},{"$f":"IF(G235=\"Yes\",O235,\"\")","v":""},{"$f":"IF(H235=\"Yes\",O235,\"\")","v":""}]
[null,{"$f":"Programs!B374","v":0},{"$f":"IF(Programs!$C$367=\"\",\"\",Programs!$C$367)","v":""},"",null,null,null,null,null,null,null,null,null,null,{"$f":"IF(Programs!$D$367=\"\",\"\",Programs!$D$367)","v":""},"","","","","",""]
[null,{"$f":"Programs!B375","v":0},{"$f":"IF(Programs!$C$367=\"\",\"\",Programs!$C$367)","v":""},"",null,null,null,null,null,null,null,null,null,null,{"$f":"IF(Programs!$D$367=\"\",\"\",Programs!$D$367)","v":""},"","","","","",""]
[null,{"$f":"Programs!B376","v":0},{"$f":"IF(Programs!$C$367=\"\",\"\",Programs!$C$367)","v":""},"",null,null,null,null,null,null,null,null,null,null,{"$f":"IF(Programs!$D$367=\"\",\"\",Programs!$D$367)","v":""},"","","","","",""]
[null,{"$f":"Programs!B377","v":0},{"$f":"IF(Programs!$C$367=\"\",\"\",Programs!$C$367)","v":""},"",null,null,null,null,null,null,null,null,null,null,{"$f":"IF(Programs!$D$367=\"\",\"\",Programs!$D$367)","v":""},"","","","","",""]
[null,{"$f":"Programs!B378","v":0},{"$f":"IF(Programs!$C$367=\"\",\"\",Programs!$C$367)","v":""},{"$f":"IF(C240<>\"\",C240+365,\"\")","v":""},null,null,null,null,null,null,null,null,null,null,{"$f":"IF(Programs!$D$367=\"\",\"\",Programs!$D$367)","v":""},{"$f":"IF(E240=\"\",\"\",O240)","v":""},{"$f":"IF(J240=\"Yes\",O240,\"\")","v":""},{"$f":"IF(L240=\"Yes\",O240,\"\")","v":""},{"$f":"IF(F240=\"Yes\",O240,\"\")","v":""},{"$f":"IF(G240=\"Yes\",O240,\"\")","v":""},{"$f":"IF(H240=\"Yes\",O240,\"\")","v":""}]
[null,{"$f":"Programs!B379","v":0},{"$f":"IF(Programs!$C$367=\"\",\"\",Programs!$C$367)","v":""},"",null,null,null,null,null,null,null,null,null,null,{"$f":"IF(Programs!$D$367=\"\",\"\",Programs!$D$367)","v":""},"","","","","",""]
[null,{"$f":"Programs!B380","v":0},{"$f":"IF(Programs!$C$367=\"\",\"\",Programs!$C$367)","v":""},"",null,null,null,null,null,null,null,null,null,null,{"$f":"IF(Programs!$D$367=\"\",\"\",Programs!$D$367)","v":""},"","","","","",""]
[null,{"$f":"Programs!B381","v":0},{"$f":"IF(Programs!$C$367=\"\",\"\",Programs!$C$367)","v":""},"",null,null,null,null,null,null,null,null,null,null,{"$f":"IF(Programs!$D$367=\"\",\"\",Programs!$D$367)","v":""},"","","","","",""]

{"sheet":"lists","index":11,"n_rows":70,"n_cols":12,"rows_kept":70,"cut":false,"hidden":true,"merged":[]}
[null,"This tab will be hiddend from users."]
[null,"Skillstreaming List","Answers","12 Month Offended Description",null,"Placement Types","Counties","HIT ALPHA","AQ ALPHA","Z","SS ALPHA"]
[]
[null,"01  Listening","Yes","Probation Violation",null,"Specialized or theraputic Foster Care","Adams ",0.95,0.93,1.96,0.95]
[null,"02  Starting a Conversation","No","Summary Offense",null,"CRR/Host Home","Allegheny "]
[null,"03  Having a Conversation","Unknown","Misdemeanor or Felony Charges",null,"Emergency Shelter","Armstrong "]
[null,"04  Asking a Question",null,"Adjudicated Delinquent or Criminally Convicted of New Offense",null,"Group Home","Beaver ",{"$f":"COUNT('HIT PrePost'!GG4:GG243,'HIT PrePost'!GI4:GI243,'HIT PrePost'!GK4:GK243,'HIT PrePost'!GM4:GM243,'HIT PrePost'!GO4:GO243,'HIT PrePost'!GQ4:GQ243,'HIT PrePost'!GS4:GS243,'HIT PrePost'!GU4:GU243)","v":0},"HIT Any Change"]
[null,"05  Saying Thank You",null,"Other",null,"Juvenile Detention","Bedford ",{"$f":"COUNT('HIT PrePost'!GH4:GH243,'HIT PrePost'!GJ4:GJ243,'HIT PrePost'!GL4:GL243,'HIT PrePost'!GN4:GN243,'HIT PrePost'!GP4:GP243,'HIT PrePost'!GR4:GR243,'HIT PrePost'!GT4:GT243,'HIT PrePost'!GV4:GV243)","v":0},"HIT Change > RCI",null,null,{"$f":"H8/H7","v":{"$error":"#DIV/0!"}}]
[null,"06  Introducing Yourself",null,null,null,"Correctional Center/Jail","Berks "]
[null,"07  Introducing Other People",null,"Previous Offense Description",null,"Residential Center (non-D&A)","Blair ",{"$f":"COUNT('AQ PrePost'!ES4:ES243,'AQ PrePost'!EU4:EU243,'AQ PrePost'!EW4:EW243,'AQ PrePost'!EY4:EY243,'AQ PrePost'!FA4:FA243,'AQ PrePost'!FC4:FC243)","v":0},"AQ Any Positive Change"]
[null,"08  Giving a Compliment",null,"Summary Offense",null,"Residential or Inpateint D&A","Bradford ",{"$f":"COUNT('AQ PrePost'!ER4:ER243,'AQ PrePost'!ET4:ET243,'AQ PrePost'!EV4:EV243,'AQ PrePost'!EX4:EX243,'AQ PrePost'!EZ4:EZ243,'AQ PrePost'!FB4:FB243)","v":0},"AQ Change > RCI",null,null,{"$f":"H11/H10","v":{"$error":"#DIV/0!"}}]
[null,"09  Asking for Help",null,"Misdemeanor or Felony Charges",null,"Inpatient Psychiatric Hospital","Bucks "]
[null,"10  Joining In",null,"Adjudicated Delinquent or Criminally Convicted of New Offense",null,"Youth Camp","Butler ",{"$f":"COUNT('SS PrePost'!GE4:GE243,'SS PrePost'!GG4:GG243,'SS PrePost'!GI4:GI243,'SS PrePost'!GK4:GK243,'SS PrePost'!GM4:GM243,'SS PrePost'!GO4:GO243,'SS PrePost'!GQ4:GQ243)","v":0},"SS Any Change"]
[null,"11  Giving Instructions",null,"Other",null,null,"Cambria ",{"$f":"COUNT('SS PrePost'!GF4:GF243,'SS PrePost'!GH4:GH243,'SS PrePost'!GJ4:GJ243,'SS PrePost'!GL4:GL243,'SS PrePost'!GN4:GN243,'SS PrePost'!GP4:GP243,'SS PrePost'!GR4:GR243)","v":0},"SS Change > RCI",null,null,{"$f":"H14/H13","v":{"$error":"#DIV/0!"}}]
[null,"12  Following Instructions",null,null,null,null,"Cameron "]
[null,"13  Apologizing",null,"Type of Session",null,null,"Carbon "]
[null,"14  Convincing Others",null,"SS",null,null,"Centre "]
[null,"15  Knowing your Feelings",null,"AC",null,null,"Chester ",{"$f":"COUNTIF('HIT PrePost'!FH4:FZ71,\"<0\")","v":0},"HIT Expected Change",null,null,{"$f":"H18/SUM(H18+H19)","v":{"$error":"#DIV/0!"}}]
[null,"16  Expressing Your Feelings",null,"MR",null,null,"Clarion ",{"$f":"COUNTIF('HIT PrePost'!FH4:FZ71,\">0\")","v":0},"HIT Unexpected Change",null,null,{"$f":"H19/SUM(H18+H19)","v":{"$error":"#DIV/0!"}}]
[2,"17  Understanding the Feelings of Others",null,null,null,null,"Clearfield "]
[4,"18  Dealing with Someone Else’s Anger",null,"Group Types",null,null,"Clinton ",{"$f":"COUNTIF('AQ PrePost'!EC4:EN243,\"<0\")","v":0},"AQ Expected Change",null,null,{"$f":"H21/SUM(H21+H22)","v":{"$error":"#DIV/0!"}}]
[9,"19  Expressing Affection",null,"Residential",null,null,"Columbia ",{"$f":"COUNTIF('AQ PrePost'!EC4:EN243,\">0\")","v":0},"AQ Unexpected Change",null,null,{"$f":"H22/SUM(H21+H22)","v":{"$error":"#DIV/0!"}}]
[null,"20  Dealing with Fear",null,"Alt. Ed",null,null,"Crawford "]
[null,"21  Rewarding Yourself",null,"Community",null,null,"Cumberland ",{"$f":"COUNTIF('SS PrePost'!FN4:GA243,\">0\")","v":0},"SS Expected Change",null,null,{"$f":"H24/SUM(H24+H25)","v":{"$error":"#DIV/0!"}}]
[null,"22  Asking for Permission",null,"Public Sch.",null,null,"Dauphin ",{"$f":"COUNTIF('SS PrePost'!FN4:GA243,\"<0\")","v":0},"SS Unexpected Change",null,null,{"$f":"H25/SUM(H24+H25)","v":{"$error":"#DIV/0!"}}]
[null,"23  Sharing Something",null,null,null,null,"Delaware "]
[5,"24  Helping Others",null,null,null,null,"Elk "]
[null,"25  Negotiation",null,null,null,null,"Erie "]
[null,"26  Using Self-Control",null,null,null,null,"Fayette "]
[null,"27  Standing Up for Your Rights",null,null,null,null,"Forest "]
[null,"28  Responding to Teasing",null,null,null,null,"Franklin "]
[null,"29  Avoiding Trouble with Others",null,null,null,null,"Fulton "]
[6,"30  Keeping Out of Fights",null,null,null,null,"Greene "]
[1,"31  Making a Complaint",null,null,null,null,"Huntingdon "]
[null,"32  Answering a Complaint",null,null,null,null,"Indiana "]
[null,"33  Being a Good Sport",null,null,null,null,"Jefferson "]
[null,"34  Dealing with Embarrassment",null,null,null,null,"Juniata "]
[null,"35  Dealing with Being Left Out",null,null,null,null,"Lackawanna "]
[null,"36  Standing up for a Friend",null,null,null,null,"Lancaster "]
[null,"37  Responding to Persuasion",null,null,null,null,"Lawrence "]
[10,"38  Responding to Failure",null,null,null,null,"Lebanon "]
[null,"39  Dealing with Contradictory Messages",null,null,null,null,"Lehigh "]
[7,"40  Dealing with an Accusation",null,null,null,null,"Luzerne "]
[3,"41  Getting Ready for a Difficult Conversation",null,null,null,null,"Lycoming "]
[8,"42  Dealing with Group Pressure",null,null,null,null,"McKean "]
[null,"43  Deciding on Something to Do",null,null,null,null,"Mercer "]
[null,"44  Deciding What Caused a Problem",null,null,null,null,"Mifflin "]
[null,"45  Setting a Goal",null,null,null,null,"Monroe "]
[null,"46  Deciding on Your Abilities",null,null,null,null,"Montgomery "]
[null,"47  Gathering Information",null,null,null,null,"Montour "]
[null,"48  Arranging Problems by Importance",null,null,null,null,"Northampton "]
[null,"49  Making a Decisions",null,null,null,null,"Northumberland "]
[null,"50  Concentrating on a Task",null,null,null,null,"Perry "]
[null,null,null,null,null,null,"Philadelphia "]
[null,null,null,null,null,null,"Pike "]
[null,null,null,null,null,null,"Potter "]
[null,null,null,null,null,null,"Schuylkill "]
[null,null,null,null,null,null,"Snyder "]
[null,null,null,null,null,null,"Somerset "]
[null,null,null,null,null,null,"Sullivan "]
[null,null,null,null,null,null,"Susquehanna "]
[null,null,null,null,null,null,"Tioga "]
[null,null,null,null,null,null,"Union "]
[null,null,null,null,null,null,"Venango "]
[null,null,null,null,null,null,"Warren "]
[null,null,null,null,null,null,"Washington "]
[null,null,null,null,null,null,"Wayne "]
[null,null,null,null,null,null,"Westmoreland "]
[null,null,null,null,null,null,"Wyoming "]
[null,null,null,null,null,null,"York "]

{"sheet":"AQV","index":12,"n_rows":120,"n_cols":11,"rows_kept":120,"cut":false,"hidden":true,"merged":[[1,0,16,0]]}
[null,"AQtot","T-Aqtot","PHYmale","PHYfem","T-PHY","VER","ANG","HOS","IND","T-VAHI"]
["This tab will be hidden from users.",157,80,null,40,80,null,null,null,null,80]
[null,156,78,null,null,79,null,35,null,null,79]
[null,155,77,null,null,78,null,null,38,null,78]
[null,154,77,null,null,77,null,null,null,null,77]
[null,153,76,40,39,76,null,34,null,30,76]
[null,152,76,null,null,75,25,null,37,null,75]
[null,151,75,39,38,74,null,33,null,29,74]
[null,150,74,null,null,73,null,32,36,28,73]
[null,149,74,38,37,72,24,null,35,null,72]
[null,148,74,null,null,71,null,31,34,27,71]
[null,147,74,37,36,70,23,30,null,null,70]
[null,146,74,36,35,69,null,29,33,26,69]
[null,145,73,null,null,68,null,null,null,25,68]
[null,144,72,35,34,67,22,28,32,null,67]
[null,143,71,null,33,66,null,null,31,24,66]
[null,142,71,34,32,65,21,27,30,null,65]
[null,141,70,33,31,64,20,null,null,23,64]
[null,140,70,32,30,63,null,26,29,22,63]
[null,139,70,null,29,63,19,25,28,null,62]
[null,138,69,31,28,62,null,null,27,21,61]
[null,137,69,null,27,61,18,24,null,null,60]
[null,136,69,30,26,60,17,23,26,20,59]
[null,135,69,29,null,59,null,null,25,19,58]
[null,134,68,28,25,58,16,22,null,null,57]
[null,133,68,27,24,57,null,21,24,18,56]
[null,132,68,null,23,57,15,20,23,null,55]
[null,131,67,26,22,56,null,19,null,17,54]
[null,130,67,25,21,55,14,null,22,null,53]
[null,129,67,24,20,54,null,18,21,16,52]
[null,128,67,23,19,53,13,null,20,null,51]
[null,127,66,22,18,52,null,17,null,15,50]
[null,126,66,21,null,51,null,16,19,null,49]
[null,125,66,null,17,50,12,15,18,14,48]
[null,124,65,null,16,50,null,null,null,13,47]
[null,123,65,20,null,49,11,14,17,null,46]
[null,122,64,19,15,48,null,null,16,12,45]
[null,121,64,18,14,47,10,13,null,null,44]
[null,120,64,17,13,46,null,12,15,11,43]
[null,119,63,16,null,45,null,null,14,null,42]
[null,118,63,null,12,44,9,11,null,null,41]
[null,117,63,15,11,43,null,null,13,10,40]
[null,116,62,14,null,42,null,null,null,null,39]
[null,115,62,13,10,41,8,10,12,null,38]
[null,114,61,12,null,40,null,null,null,9,37]
[null,113,61,null,null,39,null,9,11,null,36]
[null,112,61,11,9,38,null,null,null,null,35]
[null,111,60,null,null,37,7,null,10,8,34]
[null,110,60,10,null,36,null,null,null,null,33]
[null,109,59,null,null,35,null,8,null,null,32]
[null,108,59,9,null,34,null,null,9,null,31]
[null,107,58,null,null,33,6,null,null,7,30]
[null,106,58,null,8,32,null,null,null,null,29]
[null,105,57,null,null,31,null,null,null,null,28]
[null,104,57,null,null,30,null,7,null,null,27]
[null,103,57,8,null,29,null,null,8,null,26]
[null,102,57,null,null,28,null,null,null,6,25]
[null,101,56,null,null,27,5]
[null,100,56,null,null,26]
[null,99,55,null,null,25]
[null,98,55]
[null,97,55]
[null,96,54]
[null,95,54]
[null,94,54]
[null,93,53]
[null,92,53]
[null,91,53]
[null,90,52]
[null,89,52]
[null,88,51]
[null,87,51]
[null,86,51]
[null,85,51]
[null,84,50]
[null,83,50]
[null,82,50]
[null,81,49]
[null,80,49]
[null,79,48]
[null,78,48]
[null,77,48]
[null,76,47]
[null,75,47]
[null,74,47]
[null,73,46]
[null,72,46]
[null,71,46]
[null,70,45]
[null,69,45]
[null,68,45]
[null,67,44]
[null,66,44]
[null,65,43]
[null,64,43]
[null,63,42]
[null,62,42]
[null,61,41]
[null,60,41]
[null,59,40]
[null,58,40]
[null,57,39]
[null,56,39]
[null,55,38]
[null,54,37]
[null,53,37]
[null,52,36]
[null,51,35]
[null,50,35]
[null,49,34]
[null,48,33]
[null,47,32]
[null,46,31]
[null,45,30]
[null,44,30]
[null,43,30]
[null,42,28]
[null,41,27]
[null,40,26]
[null,39,25]

{"sheet":"datecalcs","index":13,"n_rows":16,"n_cols":3,"rows_kept":16,"cut":false,"hidden":true,"merged":[]}
[{"$f":"Instructions!$B$9","v":"2019-07-01"},"This tab will be hidden from users."]
[]
["Start Month","End Month"]
[{"$f":"DATE(YEAR($A$1),MONTH($A$1),DAY($A$1))","v":"2019-07-01"},{"$f":"DATE(YEAR($A$1),MONTH($A$1)+2,DAY($A$1))","v":"2019-09-01"},"Year 1 - Quarter 1"]
[{"$f":"DATE(YEAR($A$1),MONTH($A$1)+3,DAY($A$1))","v":"2019-10-01"},{"$f":"DATE(YEAR($A$1),MONTH($A$1)+5,DAY($A$1))","v":"2019-12-01"},"Year 1 - Quarter 2"]
[{"$f":"DATE(YEAR($A$1),MONTH($A$1)+6,DAY($A$1))","v":"2020-01-01"},{"$f":"DATE(YEAR($A$1),MONTH($A$1)+8,DAY($A$1))","v":"2020-03-01"},"Year 1 - Quarter 3"]
[{"$f":"DATE(YEAR($A$1),MONTH($A$1)+9,DAY($A$1))","v":"2020-04-01"},{"$f":"DATE(YEAR($A$1),MONTH($A$1)+11,DAY($A$1))","v":"2020-06-01"},"Year 1 - Quarter 4"]
[{"$f":"DATE(YEAR($A$1),MONTH($A$1)+12,DAY($A$1))","v":"2020-07-01"},{"$f":"DATE(YEAR($A$1),MONTH($A$1)+14,DAY($A$1))","v":"2020-09-01"},"Year 2 - Quarter 1"]
[{"$f":"DATE(YEAR($A$1),MONTH($A$1)+15,DAY($A$1))","v":"2020-10-01"},{"$f":"DATE(YEAR($A$1),MONTH($A$1)+17,DAY($A$1))","v":"2020-12-01"},"Year 2 - Quarter 2"]
[{"$f":"DATE(YEAR($A$1),MONTH($A$1)+18,DAY($A$1))","v":"2021-01-01"},{"$f":"DATE(YEAR($A$1),MONTH($A$1)+20,DAY($A$1))","v":"2021-03-01"},"Year 2 - Quarter 3"]
[{"$f":"DATE(YEAR($A$1),MONTH($A$1)+21,DAY($A$1))","v":"2021-04-01"},{"$f":"DATE(YEAR($A$1),MONTH($A$1)+23,DAY($A$1))","v":"2021-06-01"},"Year 2 - Quarter 4"]
[]
["This TAB is hidden from users!"]
[]
[{"$f":"A1","v":"2019-07-01"},"Grant Start Date"]
[{"$f":"DATE(YEAR($A$1)+2,MONTH($A$1),DAY($A$1)-1)","v":"2021-06-30"},"Grant End Date"]